{"text_format":"1","workbook":"xlsx","n_sheets":8,"sheets":["データ貼付","種目毎","抽出","Sheet2","Sheet3","Sheet4","Sheet5","Sheet6"],"not_rendered":{"charts":0,"images":0,"macros":1,"external_links":0,"defined_names":5,"comments":0,"pivot_tables":0},"unopened":[],"bounds":{"document_bytes":16777216,"sheet_cells":100000,"rows_first":2000,"rows_last":500,"rows_between":2000,"halvings":0,"cell_chars":16384,"cell_head_chars":4096},"cells_cut":0,"cells_raw":0,"read":"whole","date_system":"1900"}

{"sheet":"データ貼付","index":0,"n_rows":843,"n_cols":14,"rows_kept":843,"cut":false,"hidden":true,"merged":[]}
["競技会名","競技場","競技実施月日","クラス","種目","選手／チーム","記録","ラウンド","所属","学年","風速"]
["選手権","北見","2019-05-11","中学女子","ｼﾞｬﾍﾞﾘｯｸｽﾛｰ","伊藤椿",1619,"決","湧別中",2,null,null,{"$f":"E2&F2","v":"ｼﾞｬﾍﾞﾘｯｸｽﾛｰ伊藤椿"},1]
["記録会３戦","網走","2019-07-14","中学女子","ｼﾞｬﾍﾞﾘｯｸｽﾛｰ","伊藤優果",1235,"決","北見北光中",1,null,null,"ｼﾞｬﾍﾞﾘｯｸｽﾛｰ伊藤優果",{"$f":"IF(M3=#REF!,0,1)","v":{"$error":"#REF!"}}]
["秋季陸上","網走","2019-09-07","中学女子","ｼﾞｬﾍﾞﾘｯｸｽﾛｰ","伊藤凛音",2597,"決","北見南中",1,null,null,"ｼﾞｬﾍﾞﾘｯｸｽﾛｰ伊藤凛音",{"$f":"IF(M4=M3,0,1)","v":1}]
["記録会４戦","北見","2019-08-04","中学男子","ｼﾞｬﾍﾞﾘｯｸｽﾛｰ","稲垣璃久",3074,"決","北見北中",2,null,null,"ｼﾞｬﾍﾞﾘｯｸｽﾛｰ稲垣璃久",{"$f":"IF(M5=#REF!,0,1)","v":{"$error":"#REF!"}}]
["フィールド記録会","網走","2019-06-08","中学男子","ｼﾞｬﾍﾞﾘｯｸｽﾛｰ","遠藤寿",4050,"決","網走第二中",3,null,null,"ｼﾞｬﾍﾞﾘｯｸｽﾛｰ遠藤寿",{"$f":"IF(M6=#REF!,0,1)","v":{"$error":"#REF!"}}]
["中学新人","網走","2019-08-23","中学男子","ｼﾞｬﾍﾞﾘｯｸｽﾛｰ","遠藤潤人",3098,"決","北見北光中",2,null,null,"ｼﾞｬﾍﾞﾘｯｸｽﾛｰ遠藤潤人",1]
["記録会３戦","網走","2019-07-14","中学女子","ｼﾞｬﾍﾞﾘｯｸｽﾛｰ","横山藍梨",1813,"決","北見北光中",1,null,null,"ｼﾞｬﾍﾞﾘｯｸｽﾛｰ横山藍梨",{"$f":"IF(M8=#REF!,0,1)","v":{"$error":"#REF!"}}]
["通信陸上","網走","2019-06-28","中学男子","ｼﾞｬﾍﾞﾘｯｸｽﾛｰ","関澤陸",2361,"決","北見光西中",3,null,null,"ｼﾞｬﾍﾞﾘｯｸｽﾛｰ関澤陸",1]
["フィールド記録会","網走","2019-06-08","中学女子","ｼﾞｬﾍﾞﾘｯｸｽﾛｰ","岩越茜莉",2559,"決","雄武中",3,null,null,"ｼﾞｬﾍﾞﾘｯｸｽﾛｰ岩越茜莉",1]
["フィールド記録会","網走","2019-06-08","中学女子","ｼﾞｬﾍﾞﾘｯｸｽﾛｰ","菊池優璃",2404,"決","網走第四中",2,null,null,"ｼﾞｬﾍﾞﾘｯｸｽﾛｰ菊池優璃",1]
["秋季陸上","網走","2019-09-07","中学女子","ｼﾞｬﾍﾞﾘｯｸｽﾛｰ","吉鷹陽菜",2337,"決","北見光西中",2,null,null,"ｼﾞｬﾍﾞﾘｯｸｽﾛｰ吉鷹陽菜",1]
["通信陸上","網走","2019-06-28","中学男子","ｼﾞｬﾍﾞﾘｯｸｽﾛｰ","栗原明慎",2580,"決","北見北光中",1,null,null,"ｼﾞｬﾍﾞﾘｯｸｽﾛｰ栗原明慎",{"$f":"IF(M13=#REF!,0,1)","v":{"$error":"#REF!"}}]
["秋季陸上","網走","2019-09-07","中学女子","ｼﾞｬﾍﾞﾘｯｸｽﾛｰ","穴澤日菜",2769,"決","北見南中",1,null,null,"ｼﾞｬﾍﾞﾘｯｸｽﾛｰ穴澤日菜",1]
["通信陸上","網走","2019-06-28","中学男子","ｼﾞｬﾍﾞﾘｯｸｽﾛｰ","工藤之雅",2904,"決","北見北中",2,null,null,"ｼﾞｬﾍﾞﾘｯｸｽﾛｰ工藤之雅",1]
["記録会４戦","北見","2019-08-04","中学男子","ｼﾞｬﾍﾞﾘｯｸｽﾛｰ","黒田悠羽",2974,"決","北見常呂中",1,null,null,"ｼﾞｬﾍﾞﾘｯｸｽﾛｰ黒田悠羽",1]
["秋季陸上","網走","2019-09-07","中学男子","ｼﾞｬﾍﾞﾘｯｸｽﾛｰ","佐藤広大",2183,"決","遠軽中",2,null,null,"ｼﾞｬﾍﾞﾘｯｸｽﾛｰ佐藤広大",1]
["通信陸上","網走","2019-06-28","中学男子","ｼﾞｬﾍﾞﾘｯｸｽﾛｰ","佐藤大悟",2402,"決","北見光西中",1,null,null,"ｼﾞｬﾍﾞﾘｯｸｽﾛｰ佐藤大悟",{"$f":"IF(M18=#REF!,0,1)","v":{"$error":"#REF!"}}]
["通信陸上","網走","2019-06-28","中学男子","ｼﾞｬﾍﾞﾘｯｸｽﾛｰ","三原立暉",937,"決","網走第一中",1,null,null,"ｼﾞｬﾍﾞﾘｯｸｽﾛｰ三原立暉",1]
["秋季陸上","網走","2019-09-07","中学女子","ｼﾞｬﾍﾞﾘｯｸｽﾛｰ","三塚ありさ",2392,"決","網走第四中",1,null,null,"ｼﾞｬﾍﾞﾘｯｸｽﾛｰ三塚ありさ",1]
["選手権","北見","2019-05-11","中学男子","ｼﾞｬﾍﾞﾘｯｸｽﾛｰ","三塚知輝",3648,"決","網走第四中",3,null,null,"ｼﾞｬﾍﾞﾘｯｸｽﾛｰ三塚知輝",{"$f":"IF(M21=#REF!,0,1)","v":{"$error":"#REF!"}}]
["中学新人","網走","2019-08-23","中学女子","ｼﾞｬﾍﾞﾘｯｸｽﾛｰ","山村奈々",1058,"決","北見北光中",1,null,null,"ｼﾞｬﾍﾞﾘｯｸｽﾛｰ山村奈々",1]
["通信陸上","網走","2019-06-28","中学男子","ｼﾞｬﾍﾞﾘｯｸｽﾛｰ","山本遥",3675,"決","北見南中",2,null,null,"ｼﾞｬﾍﾞﾘｯｸｽﾛｰ山本遥",1]
["記録会４戦","北見","2019-08-04","中学男子","ｼﾞｬﾍﾞﾘｯｸｽﾛｰ","山﨑大翔",1740,"決","北見北光中",1,null,null,"ｼﾞｬﾍﾞﾘｯｸｽﾛｰ山﨑大翔",1]
["選手権","北見","2019-05-11","中学男子","ｼﾞｬﾍﾞﾘｯｸｽﾛｰ","山﨑歩来夢",1760,"決","雄武中",2,null,null,"ｼﾞｬﾍﾞﾘｯｸｽﾛｰ山﨑歩来夢",1]
["通信陸上","網走","2019-06-28","中学男子","ｼﾞｬﾍﾞﾘｯｸｽﾛｰ","四ツ倉快",4235,"決","網走第四中",3,null,null,"ｼﾞｬﾍﾞﾘｯｸｽﾛｰ四ツ倉快",{"$f":"IF(M26=#REF!,0,1)","v":{"$error":"#REF!"}}]
["フィールド記録会","網走","2019-06-08","中学男子","ｼﾞｬﾍﾞﾘｯｸｽﾛｰ","酒井柊優",3354,"決","北見東陵中",1,null,null,"ｼﾞｬﾍﾞﾘｯｸｽﾛｰ酒井柊優",1]
["秋季陸上","網走","2019-09-07","中学男子","ｼﾞｬﾍﾞﾘｯｸｽﾛｰ","出倉蓮音",3745,"決","湧別中",2,null,null,"ｼﾞｬﾍﾞﾘｯｸｽﾛｰ出倉蓮音",1]
["選手権","北見","2019-05-11","中学男子","ｼﾞｬﾍﾞﾘｯｸｽﾛｰ","楯身優",2043,"決","北見北中",2,null,null,"ｼﾞｬﾍﾞﾘｯｸｽﾛｰ楯身優",{"$f":"IF(M29=#REF!,0,1)","v":{"$error":"#REF!"}}]
["秋季陸上","網走","2019-09-07","中学男子","ｼﾞｬﾍﾞﾘｯｸｽﾛｰ","小原拓真",5018,"決","北見常呂中",2,null,null,"ｼﾞｬﾍﾞﾘｯｸｽﾛｰ小原拓真",1]
["通信陸上","網走","2019-06-29","中学女子","ｼﾞｬﾍﾞﾘｯｸｽﾛｰ","小川璃子",1686,"決","網走第三中",3,null,null,"ｼﾞｬﾍﾞﾘｯｸｽﾛｰ小川璃子",{"$f":"IF(M31=#REF!,0,1)","v":{"$error":"#REF!"}}]
["中学新人","網走","2019-08-23","中学男子","ｼﾞｬﾍﾞﾘｯｸｽﾛｰ","小林樹生",1694,"決","雄武中",1,null,null,"ｼﾞｬﾍﾞﾘｯｸｽﾛｰ小林樹生",1]
["通信陸上","網走","2019-06-28","中学男子","ｼﾞｬﾍﾞﾘｯｸｽﾛｰ","松田陽向太",1709,"決","北見東陵中",1,null,null,"ｼﾞｬﾍﾞﾘｯｸｽﾛｰ松田陽向太",1]
["中学新人","網走","2019-08-23","中学男子","ｼﾞｬﾍﾞﾘｯｸｽﾛｰ","須田琉生",1865,"決","網走第一中",1,null,null,"ｼﾞｬﾍﾞﾘｯｸｽﾛｰ須田琉生",1]
["選手権","北見","2019-05-11","中学男子","ｼﾞｬﾍﾞﾘｯｸｽﾛｰ","須藤晴人",2954,"決","北見北中",2,null,null,"ｼﾞｬﾍﾞﾘｯｸｽﾛｰ須藤晴人",1]
["記録会４戦","北見","2019-08-04","中学男子","ｼﾞｬﾍﾞﾘｯｸｽﾛｰ","正壽晃希",2034,"決","北見北光中",1,null,null,"ｼﾞｬﾍﾞﾘｯｸｽﾛｰ正壽晃希",1]
["中学新人","網走","2019-08-23","中学男子","ｼﾞｬﾍﾞﾘｯｸｽﾛｰ","石橋誠司",2669,"決","雄武中",1,null,null,"ｼﾞｬﾍﾞﾘｯｸｽﾛｰ石橋誠司",1]
["フィールド記録会","網走","2019-06-08","中学男子","ｼﾞｬﾍﾞﾘｯｸｽﾛｰ","石原遥翔",3731,"決","網走第四中",1,null,null,"ｼﾞｬﾍﾞﾘｯｸｽﾛｰ石原遥翔",1]
["記録会３戦","網走","2019-07-14","中学男子","ｼﾞｬﾍﾞﾘｯｸｽﾛｰ","石田琉二",2553,"決","北見北中",1,null,null,"ｼﾞｬﾍﾞﾘｯｸｽﾛｰ石田琉二",1]
["記録会４戦","北見","2019-08-04","中学男子","ｼﾞｬﾍﾞﾘｯｸｽﾛｰ","千葉涼",2901,"決","北見光西中",1,null,null,"ｼﾞｬﾍﾞﾘｯｸｽﾛｰ千葉涼",{"$f":"IF(M40=#REF!,0,1)","v":{"$error":"#REF!"}}]
["選手権","北見","2019-05-11","中学男子","ｼﾞｬﾍﾞﾘｯｸｽﾛｰ","倉本静鬼",3471,"決","北見東陵中",2,null,null,"ｼﾞｬﾍﾞﾘｯｸｽﾛｰ倉本静鬼",1]
["フィールド記録会","網走","2019-06-08","中学女子","ｼﾞｬﾍﾞﾘｯｸｽﾛｰ","草岡美紀",893,"決","網走第二中",1,null,null,"ｼﾞｬﾍﾞﾘｯｸｽﾛｰ草岡美紀",1]
["通信陸上","網走","2019-06-28","中学男子","ｼﾞｬﾍﾞﾘｯｸｽﾛｰ","草薙怜冶",1848,"決","湧別中",1,null,null,"ｼﾞｬﾍﾞﾘｯｸｽﾛｰ草薙怜冶",1]
["記録会４戦","北見","2019-08-04","中学女子","ｼﾞｬﾍﾞﾘｯｸｽﾛｰ","多田麻菜花",1658,"決","北見北光中",3,null,null,"ｼﾞｬﾍﾞﾘｯｸｽﾛｰ多田麻菜花",1]
["通信陸上","網走","2019-06-28","中学男子","ｼﾞｬﾍﾞﾘｯｸｽﾛｰ","中井啓晴",2783,"決","北見小泉中",3,null,null,"ｼﾞｬﾍﾞﾘｯｸｽﾛｰ中井啓晴",1]
["通信陸上","網走","2019-06-28","中学男子","ｼﾞｬﾍﾞﾘｯｸｽﾛｰ","中原太亜",3253,"決","北見常呂中",2,null,null,"ｼﾞｬﾍﾞﾘｯｸｽﾛｰ中原太亜",1]
["通信陸上","網走","2019-06-29","中学女子","ｼﾞｬﾍﾞﾘｯｸｽﾛｰ","中村悠南",1927,"決","網走第三中",3,null,null,"ｼﾞｬﾍﾞﾘｯｸｽﾛｰ中村悠南",1]
["通信陸上","網走","2019-06-28","中学男子","ｼﾞｬﾍﾞﾘｯｸｽﾛｰ","中野大地",2939,"決","北見北光中",1,null,null,"ｼﾞｬﾍﾞﾘｯｸｽﾛｰ中野大地",1]
["記録会３戦","網走","2019-07-14","中学男子","ｼﾞｬﾍﾞﾘｯｸｽﾛｰ","田中達也",2282,"決","網走第一中",3,null,null,"ｼﾞｬﾍﾞﾘｯｸｽﾛｰ田中達也",1]
["秋季陸上","網走","2019-09-07","中学男子","ｼﾞｬﾍﾞﾘｯｸｽﾛｰ","田中智也",2310,"決","網走第一中",1,null,null,"ｼﾞｬﾍﾞﾘｯｸｽﾛｰ田中智也",1]
["通信陸上","網走","2019-06-29","中学女子","ｼﾞｬﾍﾞﾘｯｸｽﾛｰ","田中陽菜",1783,"決","北見光西中",1,null,null,"ｼﾞｬﾍﾞﾘｯｸｽﾛｰ田中陽菜",{"$f":"IF(M51=#REF!,0,1)","v":{"$error":"#REF!"}}]
["選手権","北見","2019-05-11","中学男子","ｼﾞｬﾍﾞﾘｯｸｽﾛｰ","渡邉日向",3268,"決","網走第四中",1,null,null,"ｼﾞｬﾍﾞﾘｯｸｽﾛｰ渡邉日向",1]
["記録会３戦","網走","2019-07-14","中学男子","ｼﾞｬﾍﾞﾘｯｸｽﾛｰ","楠本悠斗",3168,"決","北見小泉中",3,null,null,"ｼﾞｬﾍﾞﾘｯｸｽﾛｰ楠本悠斗",1]
["通信陸上","網走","2019-06-28","中学男子","ｼﾞｬﾍﾞﾘｯｸｽﾛｰ","日野俐唯斗",2954,"決","北見北光中",1,null,null,"ｼﾞｬﾍﾞﾘｯｸｽﾛｰ日野俐唯斗",1]
["通信陸上","網走","2019-06-29","中学女子","ｼﾞｬﾍﾞﾘｯｸｽﾛｰ","畠野美優",1922,"決","北見光西中",2,null,null,"ｼﾞｬﾍﾞﾘｯｸｽﾛｰ畠野美優",1]
["通信陸上","網走","2019-06-28","中学男子","ｼﾞｬﾍﾞﾘｯｸｽﾛｰ","美濃詠隼",2682,"決","雄武中",1,null,null,"ｼﾞｬﾍﾞﾘｯｸｽﾛｰ美濃詠隼",{"$f":"IF(M56=M55,0,1)","v":1}]
["選手権","北見","2019-05-11","中学男子","ｼﾞｬﾍﾞﾘｯｸｽﾛｰ","福田悠介",2018,"決","網走第一中",2,null,null,"ｼﾞｬﾍﾞﾘｯｸｽﾛｰ福田悠介",1]
["通信陸上","網走","2019-06-28","中学男子","ｼﾞｬﾍﾞﾘｯｸｽﾛｰ","平形洸人",2173,"決","湧別中",1,null,null,"ｼﾞｬﾍﾞﾘｯｸｽﾛｰ平形洸人",1]
["選手権","北見","2019-05-11","中学男子","ｼﾞｬﾍﾞﾘｯｸｽﾛｰ","平佐太一",2053,"決","網走第三中",2,null,null,"ｼﾞｬﾍﾞﾘｯｸｽﾛｰ平佐太一",1]
["選手権","北見","2019-05-11","中学男子","ｼﾞｬﾍﾞﾘｯｸｽﾛｰ","保里和実",1285,"決","遠軽中",3,null,null,"ｼﾞｬﾍﾞﾘｯｸｽﾛｰ保里和実",1]
["通信陸上","網走","2019-06-28","中学男子","ｼﾞｬﾍﾞﾘｯｸｽﾛｰ","豊田琉偉",1891,"決","遠軽中",3,null,null,"ｼﾞｬﾍﾞﾘｯｸｽﾛｰ豊田琉偉",1]
["選手権","北見","2019-05-11","中学男子","ｼﾞｬﾍﾞﾘｯｸｽﾛｰ","堀口慎之助",2768,"決","北見小泉中",3,null,null,"ｼﾞｬﾍﾞﾘｯｸｽﾛｰ堀口慎之助",1]
["記録会４戦","北見","2019-08-04","中学女子","ｼﾞｬﾍﾞﾘｯｸｽﾛｰ","本間唯央奈",1546,"決","北見北光中",3,null,null,"ｼﾞｬﾍﾞﾘｯｸｽﾛｰ本間唯央奈",1]
["記録会４戦","北見","2019-08-04","中学女子","ｼﾞｬﾍﾞﾘｯｸｽﾛｰ","木村紗彩",2068,"決","網走第四中",2,null,null,"ｼﾞｬﾍﾞﾘｯｸｽﾛｰ木村紗彩",1]
["通信陸上","網走","2019-06-28","中学男子","ｼﾞｬﾍﾞﾘｯｸｽﾛｰ","木内健太郎",2045,"決","遠軽中",2,null,null,"ｼﾞｬﾍﾞﾘｯｸｽﾛｰ木内健太郎",{"$f":"IF(M65=#REF!,0,1)","v":{"$error":"#REF!"}}]
["秋季陸上","網走","2019-09-07","中学男子","ｼﾞｬﾍﾞﾘｯｸｽﾛｰ","野村駿",2558,"決","北見東陵中",1,null,null,{"$f":"E66&F66","v":"ｼﾞｬﾍﾞﾘｯｸｽﾛｰ野村駿"},1]
["フィールド記録会","網走","2019-06-08","中学男子","ｼﾞｬﾍﾞﾘｯｸｽﾛｰ","髙橋龍之介",1498,"決","網走第四中",1,null,null,"ｼﾞｬﾍﾞﾘｯｸｽﾛｰ髙橋龍之介",{"$f":"IF(M67=#REF!,0,1)","v":{"$error":"#REF!"}}]
["記録会４戦","北見","2019-08-04","中学女子","ｼﾞｬﾍﾞﾘｯｸｽﾛｰ","髙田沙七",1135,"決","北見北光中",3,null,null,"ｼﾞｬﾍﾞﾘｯｸｽﾛｰ髙田沙七",1]
["選手権","北見","2019-05-11","小学男子","ｼﾞｬﾍﾞﾘｯｸﾎﾞｰﾙ投","阿部空晴",3559,"決","美幌RC",6,null,null,"ｼﾞｬﾍﾞﾘｯｸﾎﾞｰﾙ投阿部空晴",1]
["小学生ｵﾎｰﾂｸ","北見","2019-06-16","小学男子","ｼﾞｬﾍﾞﾘｯｸﾎﾞｰﾙ投","安井一晴",3139,"決","ｵﾎｰﾂｸｷｯｽﾞ",4,null,null,"ｼﾞｬﾍﾞﾘｯｸﾎﾞｰﾙ投安井一晴",1]
["全道小学","札幌","2019-07-15","小学女子","ｼﾞｬﾍﾞﾘｯｸﾎﾞｰﾙ投","安藤和",3928,"決","清里陸上少年団",6,null,null,"ｼﾞｬﾍﾞﾘｯｸﾎﾞｰﾙ投安藤和",1]
["小学生ｵﾎｰﾂｸ","北見","2019-06-16","小学男子","ｼﾞｬﾍﾞﾘｯｸﾎﾞｰﾙ投","伊藤悦大",3337,"決","ｵﾎｰﾂｸｷｯｽﾞ",4,null,null,"ｼﾞｬﾍﾞﾘｯｸﾎﾞｰﾙ投伊藤悦大",1]
["全道小学","札幌","2019-07-15","小学男子","ｼﾞｬﾍﾞﾘｯｸﾎﾞｰﾙ投","伊藤榮音",2307,"決","ｵﾎｰﾂｸｷｯｽﾞ",6,null,null,"ｼﾞｬﾍﾞﾘｯｸﾎﾞｰﾙ投伊藤榮音",1]
["小学生ｵﾎｰﾂｸ","北見","2019-06-16","小学男子","ｼﾞｬﾍﾞﾘｯｸﾎﾞｰﾙ投","浦田侍暖",2019,"決","ｵﾎｰﾂｸｷｯｽﾞ",3,null,null,"ｼﾞｬﾍﾞﾘｯｸﾎﾞｰﾙ投浦田侍暖",1]
["フィールド記録会","網走","2019-06-08","小学男子","ｼﾞｬﾍﾞﾘｯｸﾎﾞｰﾙ投","浦田誉人",3604,"決","美幌RC",5,null,null,"ｼﾞｬﾍﾞﾘｯｸﾎﾞｰﾙ投浦田誉人",1]
["選手権","北見","2019-05-11","小学男子","ｼﾞｬﾍﾞﾘｯｸﾎﾞｰﾙ投","角田蓮",4504,"決","美幌RC",6,null,null,"ｼﾞｬﾍﾞﾘｯｸﾎﾞｰﾙ投角田蓮",1]
["選手権","北見","2019-05-11","小学男子","ｼﾞｬﾍﾞﾘｯｸﾎﾞｰﾙ投","刈屋柊晴",2815,"決","ｵﾎｰﾂｸｷｯｽﾞ",4,null,null,"ｼﾞｬﾍﾞﾘｯｸﾎﾞｰﾙ投刈屋柊晴",1]
["フィールド記録会","網走","2019-06-08","小学女子","ｼﾞｬﾍﾞﾘｯｸﾎﾞｰﾙ投","関谷楓花",3393,"決","常呂陸上少年団",6,null,null,"ｼﾞｬﾍﾞﾘｯｸﾎﾞｰﾙ投関谷楓花",1]
["フィールド記録会","網走","2019-06-08","小学男子","ｼﾞｬﾍﾞﾘｯｸﾎﾞｰﾙ投","吉田仙太",3608,"決","美幌RC",5,null,null,"ｼﾞｬﾍﾞﾘｯｸﾎﾞｰﾙ投吉田仙太",1]
["フィールド記録会","網走","2019-06-08","小学女子","ｼﾞｬﾍﾞﾘｯｸﾎﾞｰﾙ投","久保田颯歩",1813,"決","知床斜里RC",5,null,null,"ｼﾞｬﾍﾞﾘｯｸﾎﾞｰﾙ投久保田颯歩",1]
["小学生ｵﾎｰﾂｸ","北見","2019-06-16","小学男子","ｼﾞｬﾍﾞﾘｯｸﾎﾞｰﾙ投","桐山晴良",2085,"決","美幌XC少年団",3,null,null,"ｼﾞｬﾍﾞﾘｯｸﾎﾞｰﾙ投桐山晴良",1]
["フィールド記録会","網走","2019-06-08","小学男子","ｼﾞｬﾍﾞﾘｯｸﾎﾞｰﾙ投","後藤大輔",2917,"決","美幌RC",6,null,null,"ｼﾞｬﾍﾞﾘｯｸﾎﾞｰﾙ投後藤大輔",1]
["選手権","北見","2019-05-11","小学男子","ｼﾞｬﾍﾞﾘｯｸﾎﾞｰﾙ投","工藤龍祈",3916,"決","ｵﾎｰﾂｸｷｯｽﾞ",4,null,null,"ｼﾞｬﾍﾞﾘｯｸﾎﾞｰﾙ投工藤龍祈",1]
["全道小学","札幌","2019-07-15","小学男子","ｼﾞｬﾍﾞﾘｯｸﾎﾞｰﾙ投","荒木碧巴",4668,"決","知床斜里RC",6,null,null,"ｼﾞｬﾍﾞﾘｯｸﾎﾞｰﾙ投荒木碧巴",1]
["小学生ｵﾎｰﾂｸ","北見","2019-06-16","小学女子","ｼﾞｬﾍﾞﾘｯｸﾎﾞｰﾙ投","佐々木紀香",2445,"決","訓子府陸上少年団",6,null,null,"ｼﾞｬﾍﾞﾘｯｸﾎﾞｰﾙ投佐々木紀香",1]
["選手権","北見","2019-05-11","小学男子","ｼﾞｬﾍﾞﾘｯｸﾎﾞｰﾙ投","佐々木瞬汰",2052,"決","美幌RC",4,null,null,"ｼﾞｬﾍﾞﾘｯｸﾎﾞｰﾙ投佐々木瞬汰",1]
["選手権","北見","2019-05-11","小学男子","ｼﾞｬﾍﾞﾘｯｸﾎﾞｰﾙ投","佐々木進之介",2764,"決","知床斜里RC",5,null,null,"ｼﾞｬﾍﾞﾘｯｸﾎﾞｰﾙ投佐々木進之介",1]
["小学生ｵﾎｰﾂｸ","北見","2019-06-16","小学女子","ｼﾞｬﾍﾞﾘｯｸﾎﾞｰﾙ投","佐藤琉花",1206,"決","美幌RC",5,null,null,"ｼﾞｬﾍﾞﾘｯｸﾎﾞｰﾙ投佐藤琉花",1]
["小学生ｵﾎｰﾂｸ","北見","2019-06-16","小学男子","ｼﾞｬﾍﾞﾘｯｸﾎﾞｰﾙ投","坂口智洋",3493,"決","常呂陸上少年団",6,null,null,"ｼﾞｬﾍﾞﾘｯｸﾎﾞｰﾙ投坂口智洋",1]
["選手権","北見","2019-05-11","小学男子","ｼﾞｬﾍﾞﾘｯｸﾎﾞｰﾙ投","阪口智洋",3661,"決","常呂陸上少年団",6,null,null,"ｼﾞｬﾍﾞﾘｯｸﾎﾞｰﾙ投阪口智洋",1]
["小学生ｵﾎｰﾂｸ","北見","2019-06-16","小学男子","ｼﾞｬﾍﾞﾘｯｸﾎﾞｰﾙ投","三浦正史",2440,"決","美幌RC",3,null,null,"ｼﾞｬﾍﾞﾘｯｸﾎﾞｰﾙ投三浦正史",1]
["選手権","北見","2019-05-11","小学男子","ｼﾞｬﾍﾞﾘｯｸﾎﾞｰﾙ投","山田桔虎",3942,"決","常呂陸上少年団",6,null,null,"ｼﾞｬﾍﾞﾘｯｸﾎﾞｰﾙ投山田桔虎",1]
["小学生ｵﾎｰﾂｸ","北見","2019-06-16","小学男子","ｼﾞｬﾍﾞﾘｯｸﾎﾞｰﾙ投","山田悠翔",1711,"決","常呂陸上少年団",4,null,null,"ｼﾞｬﾍﾞﾘｯｸﾎﾞｰﾙ投山田悠翔",1]
["選手権","北見","2019-05-11","小学女子","ｼﾞｬﾍﾞﾘｯｸﾎﾞｰﾙ投","室田心愛",3913,"決","常呂陸上少年団",6,null,null,"ｼﾞｬﾍﾞﾘｯｸﾎﾞｰﾙ投室田心愛",1]
["選手権","北見","2019-05-11","小学男子","ｼﾞｬﾍﾞﾘｯｸﾎﾞｰﾙ投","柴田遥斗",2094,"決","ｵﾎｰﾂｸｷｯｽﾞ",3,null,null,"ｼﾞｬﾍﾞﾘｯｸﾎﾞｰﾙ投柴田遥斗",1]
["フィールド記録会","網走","2019-06-08","小学男子","ｼﾞｬﾍﾞﾘｯｸﾎﾞｰﾙ投","若月柚樹",4366,"決","美幌RC",4,null,null,"ｼﾞｬﾍﾞﾘｯｸﾎﾞｰﾙ投若月柚樹",1]
["小学生ｵﾎｰﾂｸ","北見","2019-06-16","小学男子","ｼﾞｬﾍﾞﾘｯｸﾎﾞｰﾙ投","小笠原昊",3498,"決","清里陸上少年団",6,null,null,"ｼﾞｬﾍﾞﾘｯｸﾎﾞｰﾙ投小笠原昊",1]
["選手権","北見","2019-05-11","小学男子","ｼﾞｬﾍﾞﾘｯｸﾎﾞｰﾙ投","小原尊琉",2065,"決","常呂陸上少年団",4,null,null,"ｼﾞｬﾍﾞﾘｯｸﾎﾞｰﾙ投小原尊琉",1]
["全道小学","札幌","2019-07-15","小学女子","ｼﾞｬﾍﾞﾘｯｸﾎﾞｰﾙ投","松本琉南",3296,"決","美幌RC",5,null,null,"ｼﾞｬﾍﾞﾘｯｸﾎﾞｰﾙ投松本琉南",1]
["選手権","北見","2019-05-11","小学男子","ｼﾞｬﾍﾞﾘｯｸﾎﾞｰﾙ投","上原佑葵",2523,"決","ｵﾎｰﾂｸSS",4,null,null,"ｼﾞｬﾍﾞﾘｯｸﾎﾞｰﾙ投上原佑葵",1]
["小学生ｵﾎｰﾂｸ","北見","2019-06-16","小学男子","ｼﾞｬﾍﾞﾘｯｸﾎﾞｰﾙ投","新谷一真",1744,"決","ｵﾎｰﾂｸｷｯｽﾞ",3,null,null,"ｼﾞｬﾍﾞﾘｯｸﾎﾞｰﾙ投新谷一真",1]
["小学生ｵﾎｰﾂｸ","北見","2019-06-16","小学男子","ｼﾞｬﾍﾞﾘｯｸﾎﾞｰﾙ投","森谷翔",2508,"決","訓子府陸上少年団",3,null,null,"ｼﾞｬﾍﾞﾘｯｸﾎﾞｰﾙ投森谷翔",1]
["小学生ｵﾎｰﾂｸ","北見","2019-06-16","小学男子","ｼﾞｬﾍﾞﾘｯｸﾎﾞｰﾙ投","須藤陸都",2685,"決","北見美山小",3,null,null,"ｼﾞｬﾍﾞﾘｯｸﾎﾞｰﾙ投須藤陸都",1]
["全道小学","札幌","2019-07-14","小学男子","ｼﾞｬﾍﾞﾘｯｸﾎﾞｰﾙ投","成ヶ澤隼人",2997,"決","ｵﾎｰﾂｸSS",3,null,null,"ｼﾞｬﾍﾞﾘｯｸﾎﾞｰﾙ投成ヶ澤隼人",1]
["選手権","北見","2019-05-11","小学女子","ｼﾞｬﾍﾞﾘｯｸﾎﾞｰﾙ投","石川知優",1022,"決","美幌RC",3,null,null,"ｼﾞｬﾍﾞﾘｯｸﾎﾞｰﾙ投石川知優",1]
["小学生ｵﾎｰﾂｸ","北見","2019-06-16","小学女子","ｼﾞｬﾍﾞﾘｯｸﾎﾞｰﾙ投","相馬羽夏",1397,"決","ｵﾎｰﾂｸｷｯｽﾞ",3,null,null,"ｼﾞｬﾍﾞﾘｯｸﾎﾞｰﾙ投相馬羽夏",1]
["選手権","北見","2019-05-11","小学男子","ｼﾞｬﾍﾞﾘｯｸﾎﾞｰﾙ投","大東啓",1883,"決","美幌RC",5,null,null,"ｼﾞｬﾍﾞﾘｯｸﾎﾞｰﾙ投大東啓",1]
["小学生ｵﾎｰﾂｸ","北見","2019-06-16","小学男子","ｼﾞｬﾍﾞﾘｯｸﾎﾞｰﾙ投","大木駿徹",1228,"決","ｵﾎｰﾂｸｷｯｽﾞ",3,null,null,"ｼﾞｬﾍﾞﾘｯｸﾎﾞｰﾙ投大木駿徹",1]
["フィールド記録会","網走","2019-06-08","小学男子","ｼﾞｬﾍﾞﾘｯｸﾎﾞｰﾙ投","大友優雅",1983,"決","知床斜里RC",6,null,null,"ｼﾞｬﾍﾞﾘｯｸﾎﾞｰﾙ投大友優雅",1]
["フィールド記録会","網走","2019-06-08","小学男子","ｼﾞｬﾍﾞﾘｯｸﾎﾞｰﾙ投","谷浦晴磨",3160,"決","美幌RC",4,null,null,"ｼﾞｬﾍﾞﾘｯｸﾎﾞｰﾙ投谷浦晴磨",1]
["全道小学","札幌","2019-07-14","小学女子","ｼﾞｬﾍﾞﾘｯｸﾎﾞｰﾙ投","谷脇那由多",1824,"決","ｵﾎｰﾂｸｷｯｽﾞ",3,null,null,"ｼﾞｬﾍﾞﾘｯｸﾎﾞｰﾙ投谷脇那由多",1]
["小学生ｵﾎｰﾂｸ","北見","2019-06-16","小学男子","ｼﾞｬﾍﾞﾘｯｸﾎﾞｰﾙ投","中村海杜",3315,"決","知床斜里RC",6,null,null,"ｼﾞｬﾍﾞﾘｯｸﾎﾞｰﾙ投中村海杜",1]
["フィールド記録会","網走","2019-06-08","小学男子","ｼﾞｬﾍﾞﾘｯｸﾎﾞｰﾙ投","中村星汰",3229,"決","知床斜里RC",6,null,null,"ｼﾞｬﾍﾞﾘｯｸﾎﾞｰﾙ投中村星汰",1]
["選手権","北見","2019-05-11","小学男子","ｼﾞｬﾍﾞﾘｯｸﾎﾞｰﾙ投","中村直",3844,"決","常呂陸上少年団",6,null,null,"ｼﾞｬﾍﾞﾘｯｸﾎﾞｰﾙ投中村直",1]
["選手権","北見","2019-05-11","小学男子","ｼﾞｬﾍﾞﾘｯｸﾎﾞｰﾙ投","長谷川大巧",2873,"決","美幌RC",3,null,null,"ｼﾞｬﾍﾞﾘｯｸﾎﾞｰﾙ投長谷川大巧",1]
["全道小学","札幌","2019-07-15","小学女子","ｼﾞｬﾍﾞﾘｯｸﾎﾞｰﾙ投","田辺采子",3611,"決","ｵﾎｰﾂｸｷｯｽﾞ",5,null,null,"ｼﾞｬﾍﾞﾘｯｸﾎﾞｰﾙ投田辺采子",1]
["小学生ｵﾎｰﾂｸ","北見","2019-06-16","小学男子","ｼﾞｬﾍﾞﾘｯｸﾎﾞｰﾙ投","梅田彪牙",3101,"決","美幌RC",5,null,null,"ｼﾞｬﾍﾞﾘｯｸﾎﾞｰﾙ投梅田彪牙",1]
["全道小学","札幌","2019-07-15","小学男子","ｼﾞｬﾍﾞﾘｯｸﾎﾞｰﾙ投","白石大和",4443,"決","ｵﾎｰﾂｸｷｯｽﾞ",5,null,null,"ｼﾞｬﾍﾞﾘｯｸﾎﾞｰﾙ投白石大和",{"$f":"IF(M118=M117,0,1)","v":1}]
["フィールド記録会","網走","2019-06-08","小学男子","ｼﾞｬﾍﾞﾘｯｸﾎﾞｰﾙ投","畑谷颯樹",2182,"決","知床アスリートクラブ",3,null,null,"ｼﾞｬﾍﾞﾘｯｸﾎﾞｰﾙ投畑谷颯樹",1]
["全道小学","札幌","2019-07-14","小学女子","ｼﾞｬﾍﾞﾘｯｸﾎﾞｰﾙ投","尾中ふたば",2263,"決","美幌RC",4,null,null,"ｼﾞｬﾍﾞﾘｯｸﾎﾞｰﾙ投尾中ふたば",1]
["小学生ｵﾎｰﾂｸ","北見","2019-06-16","小学男子","ｼﾞｬﾍﾞﾘｯｸﾎﾞｰﾙ投","武田航太朗",2409,"決","常呂陸上少年団",4,null,null,"ｼﾞｬﾍﾞﾘｯｸﾎﾞｰﾙ投武田航太朗",1]
["選手権","北見","2019-05-11","小学男子","ｼﾞｬﾍﾞﾘｯｸﾎﾞｰﾙ投","武田航太郎",2308,"決","常呂陸上少年団",4,null,null,"ｼﾞｬﾍﾞﾘｯｸﾎﾞｰﾙ投武田航太郎",1]
["選手権","北見","2019-05-11","小学男子","ｼﾞｬﾍﾞﾘｯｸﾎﾞｰﾙ投","福井慶太",3268,"決","ｵﾎｰﾂｸｷｯｽﾞ",3,null,null,"ｼﾞｬﾍﾞﾘｯｸﾎﾞｰﾙ投福井慶太",1]
["選手権","北見","2019-05-11","小学男子","ｼﾞｬﾍﾞﾘｯｸﾎﾞｰﾙ投","平沢敦斗",1586,"決","ｵﾎｰﾂｸｷｯｽﾞ",3,null,null,"ｼﾞｬﾍﾞﾘｯｸﾎﾞｰﾙ投平沢敦斗",1]
["小学生ｵﾎｰﾂｸ","北見","2019-06-16","小学男子","ｼﾞｬﾍﾞﾘｯｸﾎﾞｰﾙ投","堀田侑希",2087,"決","ｵﾎｰﾂｸｷｯｽﾞ",3,null,null,"ｼﾞｬﾍﾞﾘｯｸﾎﾞｰﾙ投堀田侑希",1]
["フィールド記録会","網走","2019-06-08","小学男子","ｼﾞｬﾍﾞﾘｯｸﾎﾞｰﾙ投","本田櫂晴",3971,"決","ｵﾎｰﾂｸｷｯｽﾞ",5,null,null,"ｼﾞｬﾍﾞﾘｯｸﾎﾞｰﾙ投本田櫂晴",1]
["小学生ｵﾎｰﾂｸ","北見","2019-06-16","小学女子","ｼﾞｬﾍﾞﾘｯｸﾎﾞｰﾙ投","木村美桜",2463,"決","常呂陸上少年団",3,null,null,"ｼﾞｬﾍﾞﾘｯｸﾎﾞｰﾙ投木村美桜",1]
["選手権","北見","2019-05-11","小学男子","ｼﾞｬﾍﾞﾘｯｸﾎﾞｰﾙ投","澤田涼",2617,"決","知床斜里RC",5,null,null,"ｼﾞｬﾍﾞﾘｯｸﾎﾞｰﾙ投澤田涼",1]
["小学生ｵﾎｰﾂｸ","北見","2019-06-16","小学男子","ｼﾞｬﾍﾞﾘｯｸﾎﾞｰﾙ投","齋藤匡樹",2779,"決","網走陸上少年団",5,null,null,"ｼﾞｬﾍﾞﾘｯｸﾎﾞｰﾙ投齋藤匡樹",1]
["選手権","北見","2019-05-11","小学男子","ｼﾞｬﾍﾞﾘｯｸﾎﾞｰﾙ投","髙橋信宗",2727,"決","知床斜里RC",5,null,null,{"$f":"E130&F130","v":"ｼﾞｬﾍﾞﾘｯｸﾎﾞｰﾙ投髙橋信宗"},1]
["道選手権","網走","2019-08-10","一般女子","ハンマー投","阿部冬彩",4443,"決","順天堂大",2,null,null,"ハンマー投阿部冬彩",1]
["高体連支部","北見","2019-05-23","高校男子","ハンマー投","夏野克規",1878,"決","遠軽高",1,null,null,"ハンマー投夏野克規",1]
["道選手権","網走","2019-08-10","一般男子","ハンマー投","岩越健太",4636,"決","オホーツクAC",0,null,null,"ハンマー投岩越健太",1]
["フィールド記録会","網走","2019-06-08","高校女子","ハンマー投","金澤茉梨亜",3941,"決","遠軽高",3,null,null,"ハンマー投金澤茉梨亜",{"$f":"IF(M134=#REF!,0,1)","v":{"$error":"#REF!"}}]
["高体連支部","北見","2019-05-23","高校男子","ハンマー投","工藤颯斗",3036,"決","網走南ヶ丘高",3,null,null,"ハンマー投工藤颯斗",{"$f":"IF(M135=#REF!,0,1)","v":{"$error":"#REF!"}}]
["記録会４戦","北見","2019-08-04","高校男子","ハンマー投","高宮魁",2658,"決","雄武高",1,null,null,"ハンマー投高宮魁",1]
["全道高校新人","函館"," 9/18","高校女子","ハンマー投","高橋愛唯",2259,"決","遠軽高",2,null,null,"ハンマー投高橋愛唯",1]
["記録会４戦","北見","2019-08-04","高校男子","ハンマー投","高嶋祐太",3780,"決","遠軽高",2,null,null,"ハンマー投高嶋祐太",1]
["秋季陸上","網走","2019-09-07","高校男子","ハンマー投","佐川翔流",3888,"決","遠軽高",2,null,null,"ハンマー投佐川翔流",{"$f":"IF(M139=#REF!,0,1)","v":{"$error":"#REF!"}}]
["高体連支部","北見","2019-05-23","高校男子","ハンマー投","佐川翔琉",4035,"決","遠軽高",2,null,null,"ハンマー投佐川翔琉",1]
["高校新人","網走","2019-08-24","高校男子","ハンマー投","佐藤汰希",3577,"決","興部高",2,null,null,"ハンマー投佐藤汰希",{"$f":"IF(M141=#REF!,0,1)","v":{"$error":"#REF!"}}]
["フィールド記録会","網走","2019-06-08","一般男子","ハンマー投","山下大輔",4302,"決","釧路地方陸協","般",null,null,"ハンマー投山下大輔",{"$f":"IF(M142=#REF!,0,1)","v":{"$error":"#REF!"}}]
["高体連支部","北見","2019-05-23","高校女子","ハンマー投","山田幸奈",2420,"決","網走桂陽高",3,null,null,"ハンマー投山田幸奈",1]
["秋季陸上","網走","2019-09-07","高校女子","ハンマー投","舟木愛公",2602,"決","遠軽高",1,null,null,"ハンマー投舟木愛公",1]
["高体連支部","北見","2019-05-23","高校女子","ハンマー投","植村菜々",4211,"決","遠軽高",3,null,null,"ハンマー投植村菜々",{"$f":"IF(M145=#REF!,0,1)","v":{"$error":"#REF!"}}]
["フィールド記録会","網走","2019-06-08","高校女子","ハンマー投","植村葉月",2514,"決","湧別高",3,null,null,"ハンマー投植村葉月",{"$f":"IF(M146=#REF!,0,1)","v":{"$error":"#REF!"}}]
["秋季陸上","網走","2019-09-07","一般男子","ハンマー投","川田恒",3898,"決","ｵﾎｰﾂｸ陸協(川田)","般",null,null,"ハンマー投川田恒",1]
["フィールド記録会","網走","2019-06-08","高校男子","ハンマー投","中村拓斗",1693,"決","美幌高",3,null,null,"ハンマー投中村拓斗",{"$f":"IF(M148=#REF!,0,1)","v":{"$error":"#REF!"}}]
["選手権","北見","2019-05-12","高校男子","ハンマー投","長谷部岳斗",2452,"決","北見工業高",3,null,null,"ハンマー投長谷部岳斗",1]
["道選手権","網走","2019-08-10","一般女子","ハンマー投","尾崎京子",4265,"決","東海大",2,null,null,"ハンマー投尾崎京子",1]
["国体予選","室蘭","2019-07-20","高校男子","ハンマー投","目黒智也",3894,"決","斜里高",2,null,null,"ハンマー投目黒智也",1]
["秋季陸上","網走","2019-09-07","高校女子","ハンマー投","髙橋愛唯",2111,"決","遠軽高",2,null,null,"ハンマー投髙橋愛唯",{"$f":"IF(M152=#REF!,0,1)","v":{"$error":"#REF!"}}]
["高校新人","網走","2019-08-24","高校男子","ハンマー投","髙嶋祐太",3816,"決","遠軽高",2,null,null,"ハンマー投髙嶋祐太",{"$f":"IF(M153=#REF!,0,1)","v":{"$error":"#REF!"}}]
["小学記録会","北見","2019-09-28","小学女子","ﾎﾞｰﾃｯｸｽｽﾛｰ投","安藤和",3691,"決","清里陸上少年団",6,null,null,"ﾎﾞｰﾃｯｸｽｽﾛｰ投安藤和",{"$f":"IF(M154=#REF!,0,1)","v":{"$error":"#REF!"}}]
["小学記録会","北見","2019-09-28","小学男子","ﾎﾞｰﾃｯｸｽｽﾛｰ投","井田悠仁",2151,"決","ｵﾎｰﾂｸｷｯｽﾞ",5,null,null,"ﾎﾞｰﾃｯｸｽｽﾛｰ投井田悠仁",1]
["小学記録会","北見","2019-09-28","小学男子","ﾎﾞｰﾃｯｸｽｽﾛｰ投","刈屋柊晴",2272,"決","ｵﾎｰﾂｸｷｯｽﾞ",4,null,null,"ﾎﾞｰﾃｯｸｽｽﾛｰ投刈屋柊晴",1]
["小学記録会","北見","2019-09-28","小学女子","ﾎﾞｰﾃｯｸｽｽﾛｰ投","関谷楓花",3075,"決","常呂陸上少年団",6,null,null,"ﾎﾞｰﾃｯｸｽｽﾛｰ投関谷楓花",1]
["小学記録会","北見","2019-09-28","小学男子","ﾎﾞｰﾃｯｸｽｽﾛｰ投","館日々輝",3013,"決","美幌RC",5,null,null,"ﾎﾞｰﾃｯｸｽｽﾛｰ投館日々輝",1]
["小学記録会","北見","2019-09-28","小学男子","ﾎﾞｰﾃｯｸｽｽﾛｰ投","吉田仙太",3060,"決","美幌RC",5,null,null,"ﾎﾞｰﾃｯｸｽｽﾛｰ投吉田仙太",1]
["小学記録会","北見","2019-09-28","小学女子","ﾎﾞｰﾃｯｸｽｽﾛｰ投","久保田颯歩",1740,"決","知床斜里RC",5,null,null,"ﾎﾞｰﾃｯｸｽｽﾛｰ投久保田颯歩",1]
["小学記録会","北見","2019-09-28","小学男子","ﾎﾞｰﾃｯｸｽｽﾛｰ投","宮下琉汰",3505,"決","ｵﾎｰﾂｸｷｯｽﾞ",6,null,null,"ﾎﾞｰﾃｯｸｽｽﾛｰ投宮下琉汰",1]
["小学記録会","北見","2019-09-28","小学男子","ﾎﾞｰﾃｯｸｽｽﾛｰ投","桐山晴良",2221,"決","美幌XC少年団",null,null,null,"ﾎﾞｰﾃｯｸｽｽﾛｰ投桐山晴良",1]
["小学記録会","北見","2019-09-28","小学女子","ﾎﾞｰﾃｯｸｽｽﾛｰ投","金子心乃",2927,"決","遠軽陸上ｸﾗﾌﾞ",5,null,null,"ﾎﾞｰﾃｯｸｽｽﾛｰ投金子心乃",1]
["小学記録会","北見","2019-09-28","小学男子","ﾎﾞｰﾃｯｸｽｽﾛｰ投","工藤龍祈",3403,"決","ｵﾎｰﾂｸｷｯｽﾞ",4,null,null,"ﾎﾞｰﾃｯｸｽｽﾛｰ投工藤龍祈",1]
["小学記録会","北見","2019-09-28","小学男子","ﾎﾞｰﾃｯｸｽｽﾛｰ投","荒木碧巴",4377,"決","知床斜里RC",6,null,null,"ﾎﾞｰﾃｯｸｽｽﾛｰ投荒木碧巴",1]
["小学記録会","北見","2019-09-28","小学男子","ﾎﾞｰﾃｯｸｽｽﾛｰ投","高橋信宗",2720,"決","知床斜里RC",5,null,null,"ﾎﾞｰﾃｯｸｽｽﾛｰ投高橋信宗",1]
["小学記録会","北見","2019-09-28","小学男子","ﾎﾞｰﾃｯｸｽｽﾛｰ投","高瀬生楓",3081,"決","ｵﾎｰﾂｸｷｯｽﾞ",3,null,null,"ﾎﾞｰﾃｯｸｽｽﾛｰ投高瀬生楓",1]
["小学記録会","北見","2019-09-28","小学男子","ﾎﾞｰﾃｯｸｽｽﾛｰ投","佐々木進之介",2487,"決","知床斜里RC",5,null,null,"ﾎﾞｰﾃｯｸｽｽﾛｰ投佐々木進之介",1]
["小学記録会","北見","2019-09-28","小学女子","ﾎﾞｰﾃｯｸｽｽﾛｰ投","妻鳥実和",1448,"決","ｵﾎｰﾂｸｷｯｽﾞ",3,null,null,"ﾎﾞｰﾃｯｸｽｽﾛｰ投妻鳥実和",{"$f":"IF(M169=M168,0,1)","v":1}]
["小学記録会","北見","2019-09-28","小学男子","ﾎﾞｰﾃｯｸｽｽﾛｰ投","斎藤青空",2384,"決","ｵﾎｰﾂｸｷｯｽﾞ",4,null,null,"ﾎﾞｰﾃｯｸｽｽﾛｰ投斎藤青空",1]
["小学記録会","北見","2019-09-28","小学男子","ﾎﾞｰﾃｯｸｽｽﾛｰ投","阪口智洋",3947,"決","常呂陸上少年団",6,null,null,"ﾎﾞｰﾃｯｸｽｽﾛｰ投阪口智洋",1]
["小学記録会","北見","2019-09-28","小学男子","ﾎﾞｰﾃｯｸｽｽﾛｰ投","三浦正史",2558,"決","美幌RC",3,null,null,"ﾎﾞｰﾃｯｸｽｽﾛｰ投三浦正史",1]
["小学記録会","北見","2019-09-28","小学女子","ﾎﾞｰﾃｯｸｽｽﾛｰ投","室田心愛",3729,"決","常呂陸上少年団",6,null,null,"ﾎﾞｰﾃｯｸｽｽﾛｰ投室田心愛",1]
["小学記録会","北見","2019-09-28","小学男子","ﾎﾞｰﾃｯｸｽｽﾛｰ投","柴田遥斗",2889,"決","ｵﾎｰﾂｸｷｯｽﾞ",3,null,null,"ﾎﾞｰﾃｯｸｽｽﾛｰ投柴田遥斗",1]
["小学記録会","北見","2019-09-28","小学男子","ﾎﾞｰﾃｯｸｽｽﾛｰ投","若月柚樹",3834,"決","美幌RC",4,null,null,"ﾎﾞｰﾃｯｸｽｽﾛｰ投若月柚樹",1]
["小学記録会","北見","2019-09-28","小学男子","ﾎﾞｰﾃｯｸｽｽﾛｰ投","小笠原昊",3530,"決","清里陸上少年団",6,null,null,"ﾎﾞｰﾃｯｸｽｽﾛｰ投小笠原昊",1]
["小学記録会","北見","2019-09-28","小学男子","ﾎﾞｰﾃｯｸｽｽﾛｰ投","小畠正宗",2300,"決","ｵﾎｰﾂｸｷｯｽﾞ",4,null,null,"ﾎﾞｰﾃｯｸｽｽﾛｰ投小畠正宗",1]
["小学記録会","北見","2019-09-28","小学男子","ﾎﾞｰﾃｯｸｽｽﾛｰ投","上原優人",2737,"決","訓子府陸上少年団",4,null,null,"ﾎﾞｰﾃｯｸｽｽﾛｰ投上原優人",1]
["小学記録会","北見","2019-09-28","小学男子","ﾎﾞｰﾃｯｸｽｽﾛｰ投","新谷一真",2191,"決","ｵﾎｰﾂｸｷｯｽﾞ",3,null,null,"ﾎﾞｰﾃｯｸｽｽﾛｰ投新谷一真",1]
["小学記録会","北見","2019-09-28","小学男子","ﾎﾞｰﾃｯｸｽｽﾛｰ投","森谷翔",2701,"決","訓子府陸上少年団",3,null,null,"ﾎﾞｰﾃｯｸｽｽﾛｰ投森谷翔",1]
["小学記録会","北見","2019-09-28","小学男子","ﾎﾞｰﾃｯｸｽｽﾛｰ投","須藤陸都",2539,"決","北見美山小",3,null,null,"ﾎﾞｰﾃｯｸｽｽﾛｰ投須藤陸都",1]
["小学記録会","北見","2019-09-28","小学男子","ﾎﾞｰﾃｯｸｽｽﾛｰ投","石橋伸悠",941,"決","美幌RC",5,null,null,"ﾎﾞｰﾃｯｸｽｽﾛｰ投石橋伸悠",1]
["小学記録会","北見","2019-09-28","小学女子","ﾎﾞｰﾃｯｸｽｽﾛｰ投","大野凜",1514,"決","ｵﾎｰﾂｸｷｯｽﾞ",3,null,null,"ﾎﾞｰﾃｯｸｽｽﾛｰ投大野凜",1]
["小学記録会","北見","2019-09-28","小学男子","ﾎﾞｰﾃｯｸｽｽﾛｰ投","中村直",3675,"決","常呂陸上少年団",6,null,null,"ﾎﾞｰﾃｯｸｽｽﾛｰ投中村直",1]
["小学記録会","北見","2019-09-28","小学男子","ﾎﾞｰﾃｯｸｽｽﾛｰ投","長谷川大巧",2894,"決","美幌RC",3,null,null,"ﾎﾞｰﾃｯｸｽｽﾛｰ投長谷川大巧",1]
["小学記録会","北見","2019-09-28","小学女子","ﾎﾞｰﾃｯｸｽｽﾛｰ投","田辺采子",3298,"決","ｵﾎｰﾂｸｷｯｽﾞ",5,null,null,"ﾎﾞｰﾃｯｸｽｽﾛｰ投田辺采子",1]
["小学記録会","北見","2019-09-28","小学男子","ﾎﾞｰﾃｯｸｽｽﾛｰ投","梅田彪牙",3246,"決","美幌RC",5,null,null,"ﾎﾞｰﾃｯｸｽｽﾛｰ投梅田彪牙",1]
["小学記録会","北見","2019-09-28","小学男子","ﾎﾞｰﾃｯｸｽｽﾛｰ投","白石大和",4774,"決","ｵﾎｰﾂｸｷｯｽﾞ",5,null,null,"ﾎﾞｰﾃｯｸｽｽﾛｰ投白石大和",1]
["小学記録会","北見","2019-09-28","小学男子","ﾎﾞｰﾃｯｸｽｽﾛｰ投","武田航太朗",2887,"決","常呂陸上少年団",4,null,null,"ﾎﾞｰﾃｯｸｽｽﾛｰ投武田航太朗",1]
["小学記録会","北見","2019-09-28","小学男子","ﾎﾞｰﾃｯｸｽｽﾛｰ投","平沢敦斗",1324,"決","ｵﾎｰﾂｸｷｯｽﾞ",3,null,null,"ﾎﾞｰﾃｯｸｽｽﾛｰ投平沢敦斗",1]
["小学記録会","北見","2019-09-28","小学男子","ﾎﾞｰﾃｯｸｽｽﾛｰ投","堀田侑希",1579,"決","ｵﾎｰﾂｸｷｯｽﾞ",3,null,null,"ﾎﾞｰﾃｯｸｽｽﾛｰ投堀田侑希",1]
["小学記録会","北見","2019-09-28","小学女子","ﾎﾞｰﾃｯｸｽｽﾛｰ投","木村美桜",2363,"決","常呂陸上少年団",3,null,null,"ﾎﾞｰﾃｯｸｽｽﾛｰ投木村美桜",1]
["小学記録会","北見","2019-09-28","小学男子","ﾎﾞｰﾃｯｸｽｽﾛｰ投","澤田涼",2577,"決","知床斜里RC",5,null,null,"ﾎﾞｰﾃｯｸｽｽﾛｰ投澤田涼",1]
["小学記録会","北見","2019-09-28","小学男子","ﾎﾞｰﾃｯｸｽｽﾛｰ投","齋藤匡樹",3119,"決","網走陸上少年団",5,null,null,{"$f":"E194&F194","v":"ﾎﾞｰﾃｯｸｽｽﾛｰ投齋藤匡樹"},1]
["高体連支部","北見","2019-05-23","高校男子","やり投","阿部優斗",3716,"決","遠軽高",2,null,null,"やり投阿部優斗",1]
["記録会４戦","北見","2019-08-04","高校男子","やり投","伊奈翔大",2952,"決","北見柏陽高",1,null,null,"やり投伊奈翔大",{"$f":"IF(M196=#REF!,0,1)","v":{"$error":"#REF!"}}]
["高校新人","網走","2019-08-23","高校男子","やり投","臼井貴将",3448,"決","網走南ヶ丘高",2,null,null,"やり投臼井貴将",1]
["秋季陸上","網走","2019-09-07","高校男子","やり投","横山陸翔",2611,"決","日体大附属高",1,null,null,"やり投横山陸翔",1]
["全道高校新人","函館"," 9/18","高校女子","やり投","横山倫花",2300,"予","北見緑陵高",1,null,null,"やり投横山倫花",{"$f":"IF(M199=#REF!,0,1)","v":{"$error":"#REF!"}}]
["フィールド記録会","網走","2019-06-08","一般男子","やり投","荻原慧",3549,"決","北見工大","般",null,null,"やり投荻原慧",{"$f":"IF(M200=#REF!,0,1)","v":{"$error":"#REF!"}}]
["高体連支部","北見","2019-05-23","高校男子","やり投","雅楽川碧翔",3951,"決","湧別高",3,null,null,"やり投雅楽川碧翔",1]
["高校新人","網走","2019-08-23","高校男子","やり投","葛尾蒼空",2863,"決","網走南ヶ丘高",1,null,null,"やり投葛尾蒼空",1]
["記録会４戦","北見","2019-08-04","高校男子","やり投","関野寛大",2144,"決","北見商業高",1,null,null,"やり投関野寛大",{"$f":"IF(M203=#REF!,0,1)","v":{"$error":"#REF!"}}]
["秋季陸上","網走","2019-09-07","高校男子","やり投","菊地孝太",3956,"決","雄武高",2,null,null,"やり投菊地孝太",1]
["高体連支部","北見","2019-05-24","高校女子","やり投","金澤茉梨亜",2942,"決","遠軽高",3,null,null,"やり投金澤茉梨亜",{"$f":"IF(M205=#REF!,0,1)","v":{"$error":"#REF!"}}]
["記録会４戦","北見","2019-08-04","高校男子","やり投","古賀稜吾",2259,"決","湧別高",1,null,null,"やり投古賀稜吾",1]
["記録会３戦","網走","2019-07-14","高校男子","やり投","佐々木一生",2538,"決","日体大附属高",2,null,null,"やり投佐々木一生",{"$f":"IF(M207=#REF!,0,1)","v":{"$error":"#REF!"}}]
["秋季陸上","網走","2019-09-07","高校男子","やり投","佐々木洸瑠",4060,"決","興部高",1,null,null,"やり投佐々木洸瑠",1]
["秋季陸上","網走","2019-09-07","高校男子","やり投","坂元拓斗",4457,"決","雄武高",1,null,null,"やり投坂元拓斗",{"$f":"IF(M209=#REF!,0,1)","v":{"$error":"#REF!"}}]
["高校新人","網走","2019-08-23","高校男子","やり投","坂口明悠夢",1942,"決","日体大附属高",1,null,null,"やり投坂口明悠夢",{"$f":"IF(M210=#REF!,0,1)","v":{"$error":"#REF!"}}]
["選手権","北見","2019-05-11","高校男子","やり投","坂本拓斗",4177,"決","雄武高",1,null,null,"やり投坂本拓斗",{"$f":"IF(M211=#REF!,0,1)","v":{"$error":"#REF!"}}]
["秋季陸上","網走","2019-09-07","一般男子","やり投","山下海都",4712,"決","北翔大","般",null,null,"やり投山下海都",1]
["記録会４戦","北見","2019-08-04","高校女子","やり投","山口夢月",1305,"決","湧別高",1,null,null,"やり投山口夢月",1]
["高体連支部","北見","2019-05-23","高校男子","やり投","似鳥斗也",2895,"決","興部高",1,null,null,"やり投似鳥斗也",1]
["フィールド記録会","網走","2019-06-08","一般男子","やり投","小川卓也",5448,"決","ｵﾎｰﾂｸ陸協(小川)","般",null,null,"やり投小川卓也",1]
["高体連支部","北見","2019-05-24","高校女子","やり投","小野寺琉奈",1566,"決","紋別高",3,null,null,"やり投小野寺琉奈",1]
["高体連支部","北見","2019-05-24","高校女子","やり投","新藤彩音",2277,"決","美幌高",1,null,null,"やり投新藤彩音",1]
["秋季陸上","網走","2019-09-07","高校女子","やり投","新歩カンセイ",2275,"決","北見緑陵高",2,null,null,"やり投新歩カンセイ",{"$f":"IF(M218=#REF!,0,1)","v":{"$error":"#REF!"}}]
["全道高校新人","函館"," 9/18","高校女子","やり投","新歩ｶﾝｾｲ",2159,"予","北見緑陵高",2,null,null,"やり投新歩ｶﾝｾｲ",{"$f":"IF(M219=#REF!,0,1)","v":{"$error":"#REF!"}}]
["全道高校新人","函館"," 9/18","高校女子","やり投","森愛梨",2684,"予","北見柏陽高",1,null,null,"やり投森愛梨",1]
["選手権","北見","2019-05-11","高校男子","やり投","杉本一樹",4122,"決","北見北斗高",3,null,null,"やり投杉本一樹",1]
["秋季陸上","網走","2019-09-07","高校女子","やり投","菅原玲奈",2845,"決","興部高",2,null,null,"やり投菅原玲奈",{"$f":"IF(M222=M221,0,1)","v":1}]
["道選手権","網走","2019-08-10","一般男子","やり投","清水弥",5848,"決","オホーツク陸協",0,null,null,"やり投清水弥",{"$f":"IF(M223=#REF!,0,1)","v":{"$error":"#REF!"}}]
["全道高校","帯広","2019-06-20","高校男子","やり投","斉藤双希",5066,"予","日体大附属高",3,null,null,"やり投斉藤双希",{"$f":"IF(M224=#REF!,0,1)","v":{"$error":"#REF!"}}]
["記録会３戦","網走","2019-07-14","高校男子","やり投","石井丈太郎",2632,"決","清里高",1,null,null,"やり投石井丈太郎",{"$f":"IF(M225=#REF!,0,1)","v":{"$error":"#REF!"}}]
["秋季陸上","網走","2019-09-07","高校女子","やり投","石原彩菜",2175,"決","網走南ヶ丘高",1,null,null,"やり投石原彩菜",1]
["高校新人","網走","2019-08-23","高校男子","やり投","石塚慎馬",3976,"決","北見北斗高",2,null,null,"やり投石塚慎馬",{"$f":"IF(M227=#REF!,0,1)","v":{"$error":"#REF!"}}]
["高体連支部","北見","2019-05-23","高校男子","やり投","石田大洋",3462,"決","遠軽高",3,null,null,"やり投石田大洋",1]
["フィールド記録会","網走","2019-06-08","高校女子","やり投","石澤美咲",1308,"決","美幌高",1,null,null,"やり投石澤美咲",1]
["高体連支部","北見","2019-05-23","高校男子","やり投","赤坂玲央",4602,"決","日体大附属高",3,null,null,"やり投赤坂玲央",1]
["記録会３戦","網走","2019-07-14","高校男子","やり投","泉仁",3323,"決","日体大附属高",1,null,null,"やり投泉仁",1]
["記録会３戦","網走","2019-07-14","高校女子","やり投","曽根美紅",2077,"決","網走南ヶ丘高",1,null,null,"やり投曽根美紅",{"$f":"IF(M232=#REF!,0,1)","v":{"$error":"#REF!"}}]
["高体連支部","北見","2019-05-23","高校男子","やり投","村澤幸樹",3940,"決","北見緑陵高",3,null,null,"やり投村澤幸樹",1]
["道選手権","網走","2019-08-10","一般男子","やり投","大石千馬",4718,"決","中央大学陸上競技同好会",2,null,null,"やり投大石千馬",1]
["選手権","北見","2019-05-11","高校男子","やり投","瀧澤昭太",3569,"決","雄武高",2,null,null,"やり投瀧澤昭太",1]
["全道高校新人","函館"," 9/18","高校女子","やり投","池谷菜摘子",3625,"決","北見北斗高",2,null,null,"やり投池谷菜摘子",1]
["高体連支部","北見","2019-05-23","高校男子","やり投","池田尚人",3988,"決","網走桂陽高",3,null,null,"やり投池田尚人",1]
["高校新人","網走","2019-08-23","高校女子","やり投","中西樹奈",2027,"決","北見藤高",1,null,null,"やり投中西樹奈",1]
["秋季陸上","網走","2019-09-07","高校女子","やり投","中村萌花",2452,"決","遠軽高",1,null,null,"やり投中村萌花",1]
["記録会４戦","北見","2019-08-04","高校男子","やり投","中田脩翔",4059,"決","遠軽高",1,null,null,"やり投中田脩翔",{"$f":"IF(M240=#REF!,0,1)","v":{"$error":"#REF!"}}]
["高体連支部","北見","2019-05-23","高校男子","やり投","中野柊",4298,"決","網走桂陽高",2,null,null,"やり投中野柊",{"$f":"IF(M241=#REF!,0,1)","v":{"$error":"#REF!"}}]
["道選手権","網走","2019-08-10","一般女子","やり投","直川あすか",3115,"決","北海道スポーツ専門学校",0,null,null,"やり投直川あすか",{"$f":"IF(M242=#REF!,0,1)","v":{"$error":"#REF!"}}]
["高体連支部","北見","2019-05-23","高校男子","やり投","田原亮佑",3928,"決","雄武高",2,null,null,"やり投田原亮佑",1]
["全道高校","帯広","2019-06-20","高校男子","やり投","田中慎之助",4764,"予","北見緑陵高",3,null,null,"やり投田中慎之助",{"$f":"IF(M244=#REF!,0,1)","v":{"$error":"#REF!"}}]
["秋季陸上","網走","2019-09-07","高校男子","やり投","土本蒼樹",3812,"決","常呂高",1,null,null,"やり投土本蒼樹",1]
["秋季陸上","網走","2019-09-07","高校男子","やり投","日下大夢",3284,"決","紋別高",2,null,null,"やり投日下大夢",{"$f":"IF(M246=#REF!,0,1)","v":{"$error":"#REF!"}}]
["記録会４戦","北見","2019-08-04","高校男子","やり投","白川楓",3592,"決","興部高",1,null,null,"やり投白川楓",{"$f":"IF(M247=#REF!,0,1)","v":{"$error":"#REF!"}}]
["秋季陸上","網走","2019-09-07","高校男子","やり投","畑内蒼汰",3137,"決","紋別高",2,null,null,"やり投畑内蒼汰",{"$f":"IF(M248=#REF!,0,1)","v":{"$error":"#REF!"}}]
["記録会４戦","北見","2019-08-04","高校男子","やり投","八重樫春人",2647,"決","北見商業高",1,null,null,"やり投八重樫春人",{"$f":"IF(M249=#REF!,0,1)","v":{"$error":"#REF!"}}]
["高体連支部","北見","2019-05-24","高校女子","やり投","尾崎梨杏",2686,"決","北見柏陽高",3,null,null,"やり投尾崎梨杏",1]
["高校新人","網走","2019-08-23","高校女子","やり投","平吹侑里",2094,"決","美幌高",1,null,null,"やり投平吹侑里",1]
["道選手権","網走","2019-08-10","一般男子","やり投","片川志遠",6349,"決","大阪体育大",2,null,null,"やり投片川志遠",{"$f":"IF(M252=#REF!,0,1)","v":{"$error":"#REF!"}}]
["全道高校","帯広","2019-06-18","高校女子","やり投","牧田あみ",3543,"予","網走南ヶ丘高",3,null,null,"やり投牧田あみ",1]
["全道高校新人","函館"," 9/18","高校女子","やり投","木幡遥香",3308,"予","網走南ｹ丘高",2,null,null,"やり投木幡遥香",{"$f":"IF(M254=#REF!,0,1)","v":{"$error":"#REF!"}}]
["記録会４戦","北見","2019-08-04","高校男子","やり投","野崎竜矢",3122,"決","網走南ヶ丘高",1,null,null,"やり投野崎竜矢",{"$f":"IF(M255=#REF!,0,1)","v":{"$error":"#REF!"}}]
["選手権","北見","2019-05-11","高校男子","やり投","野中涼汰",3245,"決","北見柏陽高",3,null,null,"やり投野中涼汰",1]
["高体連支部","北見","2019-05-24","高校女子","やり投","矢萩雪奈",4377,"決","遠軽高",3,null,null,"やり投矢萩雪奈",1]
["高校新人","網走","2019-08-23","高校男子","やり投","六渡和馬",3109,"決","北見北斗高",1,null,null,{"$f":"E258&F258","v":"やり投六渡和馬"},{"$f":"IF(M258=#REF!,0,1)","v":{"$error":"#REF!"}}]
["中学新人","網走","2019-08-24","中学男子","円盤投","安田遥",2252,"決","雄武中",2,null,null,"円盤投安田遥",1]
["高体連支部","北見","2019-05-24","高校男子","円盤投","奥山颯太",2448,"決","湧別高",3,null,null,"円盤投奥山颯太",1]
["高校新人","網走","2019-08-24","高校男子","円盤投","横山陸翔",2665,"決","日体大附属高",1,null,null,"円盤投横山陸翔",1]
["全道高校新人","函館"," 9/19","高校女子","円盤投","岡沢奈菜",1584,"予","清里高",1,null,null,"円盤投岡沢奈菜",1]
["道選手権","網走","2019-08-11","一般女子","円盤投","沖崎桜",3266,"決","オホーツクAC",0,null,null,"円盤投沖崎桜",1]
["高体連支部","北見","2019-05-24","高校男子","円盤投","夏野克規",1494,"決","遠軽高",1,null,null,"円盤投夏野克規",{"$f":"IF(M264=#REF!,0,1)","v":{"$error":"#REF!"}}]
["記録会３戦","網走","2019-07-14","高校男子","円盤投","葛尾蒼空",1194,"決","網走南ヶ丘高",1,null,null,"円盤投葛尾蒼空",1]
["中体連地区","北見","2019-06-14","中学女子","円盤投","岩越茜莉",1566,"決","雄武中",3,null,null,"円盤投岩越茜莉",1]
["秋季陸上","網走","2019-09-08","高校男子","円盤投","亀谷拓矢",2249,"決","日体大附属高",2,null,null,"円盤投亀谷拓矢",{"$f":"IF(M267=M266,0,1)","v":1}]
["高体連支部","北見","2019-05-24","高校男子","円盤投","菊地孝太",2690,"決","雄武高",2,null,null,"円盤投菊地孝太",{"$f":"IF(M268=#REF!,0,1)","v":{"$error":"#REF!"}}]
["記録会第２戦","網走","2019-05-05","高校男子","円盤投","橋田翔",2255,"決","紋別高",3,null,null,"円盤投橋田翔",{"$f":"IF(M269=#REF!,0,1)","v":{"$error":"#REF!"}}]
["秋季陸上","網走","2019-09-08","高校男子","円盤投","橋立悠",1995,"決","日体大附属高",2,null,null,"円盤投橋立悠",1]
["高体連支部","北見","2019-05-24","高校女子","円盤投","金澤茉梨亜",2668,"決","遠軽高",3,null,null,"円盤投金澤茉梨亜",{"$f":"IF(M271=#REF!,0,1)","v":{"$error":"#REF!"}}]
["記録会４戦","北見","2019-08-04","中学女子","円盤投","兼田桃香",2162,"決","北見常呂中",3,null,null,"円盤投兼田桃香",{"$f":"IF(M272=#REF!,0,1)","v":{"$error":"#REF!"}}]
["高体連支部","北見","2019-05-24","高校男子","円盤投","工藤颯斗",4124,"決","網走南ヶ丘高",3,null,null,"円盤投工藤颯斗",1]
["秋季陸上","網走","2019-09-08","高校男子","円盤投","荒木龍之介",2222,"決","紋別高",2,null,null,"円盤投荒木龍之介",{"$f":"IF(M274=#REF!,0,1)","v":{"$error":"#REF!"}}]
["全道高校新人","函館"," 9/20","高校男子","円盤投","高宮成生",3441,"決","雄武高",1,null,null,"円盤投高宮成生",1]
["全道高校新人","函館"," 9/19","高校女子","円盤投","高橋愛唯",1900,"予","遠軽高",2,null,null,"円盤投高橋愛唯",{"$f":"IF(M276=#REF!,0,1)","v":{"$error":"#REF!"}}]
["秋季陸上","網走","2019-09-08","高校男子","円盤投","高嶋祐太",1663,"決","遠軽高",2,null,null,"円盤投高嶋祐太",1]
["記録会３戦","網走","2019-07-14","高校男子","円盤投","鴻巣勇人",1751,"決","日体大附属高",1,null,null,"円盤投鴻巣勇人",{"$f":"IF(M278=#REF!,0,1)","v":{"$error":"#REF!"}}]
["秋季陸上","網走","2019-09-08","高校男子","円盤投","佐川翔流",1976,"決","遠軽高",2,null,null,"円盤投佐川翔流",1]
["高体連支部","北見","2019-05-24","高校男子","円盤投","佐川翔琉",2136,"決","遠軽高",2,null,null,"円盤投佐川翔琉",1]
["高体連支部","北見","2019-05-24","高校男子","円盤投","佐藤一希",2904,"決","清里高",2,null,null,"円盤投佐藤一希",1]
["秋季陸上","網走","2019-09-08","中学男子","円盤投","佐藤広大",1935,"決","遠軽中",2,null,null,"円盤投佐藤広大",1]
["記録会第２戦","網走","2019-05-05","高校男子","円盤投","佐藤汰希",2260,"決","興部高",2,null,null,"円盤投佐藤汰希",{"$f":"IF(M283=#REF!,0,1)","v":{"$error":"#REF!"}}]
["秋季陸上","網走","2019-09-08","中学男子","円盤投","笹原煌一朗",1790,"決","遠軽中",2,null,null,"円盤投笹原煌一朗",{"$f":"IF(M284=#REF!,0,1)","v":{"$error":"#REF!"}}]
["道選手権","網走","2019-08-11","一般男子","円盤投","山下海都",3287,"決","北翔大",3,null,null,"円盤投山下海都",{"$f":"IF(M285=#REF!,0,1)","v":{"$error":"#REF!"}}]
["秋季陸上","網走","2019-09-08","中学男子","円盤投","山下渓斗",1832,"決","湧別中",1,null,null,"円盤投山下渓斗",1]
["記録会３戦","網走","2019-07-14","高校男子","円盤投","山谷黄太洋",3203,"決","日体大附属高",3,null,null,"円盤投山谷黄太洋",1]
["選手権","北見","2019-05-12","高校男子","円盤投","山内大慎",2298,"決","北見柏陽高",2,null,null,"円盤投山内大慎",1]
["秋季陸上","網走","2019-09-08","中学男子","円盤投","柴田賢",1742,"決","湧別中",1,null,null,"円盤投柴田賢",1]
["高体連支部","北見","2019-05-24","高校女子","円盤投","舟木愛公",2090,"決","遠軽高",1,null,null,"円盤投舟木愛公",1]
["中体連地区","北見","2019-06-14","中学男子","円盤投","小舘櫂飛",1282,"決","北見北光中",2,null,null,"円盤投小舘櫂飛",{"$f":"IF(M291=#REF!,0,1)","v":{"$error":"#REF!"}}]
["選手権","北見","2019-05-12","高校女子","円盤投","植村菜々",3109,"決","遠軽高",3,null,null,"円盤投植村菜々",1]
["選手権","北見","2019-05-12","高校女子","円盤投","植村葉月",3274,"決","湧別高",3,null,null,"円盤投植村葉月",{"$f":"IF(M293=#REF!,0,1)","v":{"$error":"#REF!"}}]
["高校新人","網走","2019-08-24","高校女子","円盤投","新藤彩音",919,"決","美幌高",1,null,null,"円盤投新藤彩音",{"$f":"IF(M294=#REF!,0,1)","v":{"$error":"#REF!"}}]
["中体連地区","北見","2019-06-14","中学男子","円盤投","森駿輝",1472,"決","北見北光中",2,null,null,"円盤投森駿輝",{"$f":"IF(M295=#REF!,0,1)","v":{"$error":"#REF!"}}]
["記録会４戦","北見","2019-08-04","中学男子","円盤投","水野舜也",1771,"決","北見温根湯中",2,null,null,"円盤投水野舜也",1]
["高校新人","網走","2019-08-24","高校男子","円盤投","清野陽喜",1655,"決","北見柏陽高",1,null,null,"円盤投清野陽喜",{"$f":"IF(M297=#REF!,0,1)","v":{"$error":"#REF!"}}]
["中体連地区","北見","2019-06-14","中学女子","円盤投","西塚凛華",1154,"決","遠軽中",2,null,null,"円盤投西塚凛華",1]
["高体連支部","北見","2019-05-24","高校男子","円盤投","石井丈太郎",1420,"決","清里高",1,null,null,"円盤投石井丈太郎",1]
["記録会第２戦","網走","2019-05-05","高校男子","円盤投","石田大洋",2804,"決","遠軽高",3,null,null,"円盤投石田大洋",1]
["秋季陸上","網走","2019-09-08","中学男子","円盤投","草薙怜冶",1120,"決","湧別中",1,null,null,"円盤投草薙怜冶",1]
["秋季陸上","網走","2019-09-08","高校男子","円盤投","大和大輝",2245,"決","日体大附属高",1,null,null,"円盤投大和大輝",1]
["全道高校新人","函館"," 9/20","高校男子","円盤投","瀧澤昭太",3153,"予","雄武高",2,null,null,"円盤投瀧澤昭太",1]
["中体連地区","北見","2019-06-14","中学男子","円盤投","瀧澤亮太",1777,"決","雄武中",2,null,null,"円盤投瀧澤亮太",1]
["全道高校","帯広","2019-06-19","高校男子","円盤投","池田尚人",3313,"予","網走桂陽高",3,null,null,"円盤投池田尚人",1]
["フィールド記録会","網走","2019-06-08","高校男子","円盤投","中村拓斗",2153,"決","美幌高",3,null,null,"円盤投中村拓斗",{"$f":"IF(M306=#REF!,0,1)","v":{"$error":"#REF!"}}]
["記録会４戦","北見","2019-08-04","中学女子","円盤投","中島彩希",1824,"決","北見常呂中",3,null,null,"円盤投中島彩希",1]
["秋季陸上","網走","2019-09-08","高校男子","円盤投","中野柊",2490,"決","網走桂陽高",2,null,null,"円盤投中野柊",1]
["全道高校新人","函館"," 9/20","高校男子","円盤投","長廻湧丞",2503,"予","清里高",1,null,null,"円盤投長廻湧丞",{"$f":"IF(M309=#REF!,0,1)","v":{"$error":"#REF!"}}]
["全道高校","帯広","2019-06-19","高校男子","円盤投","長谷部岳斗",3329,"予","北見工業高",3,null,null,"円盤投長谷部岳斗",1]
["選手権","北見","2019-05-12","高校男子","円盤投","田原亮佑",2849,"決","雄武高",2,null,null,"円盤投田原亮佑",1]
["高体連支部","北見","2019-05-24","高校女子","円盤投","奈良雅",2946,"決","北見柏陽高",3,null,null,"円盤投奈良雅",{"$f":"IF(M312=M311,0,1)","v":1}]
["記録会４戦","北見","2019-08-04","中学女子","円盤投","白石光",2476,"決","北見光西中",3,null,null,"円盤投白石光",1]
["記録会４戦","北見","2019-08-04","中学男子","円盤投","服部拓美",2517,"決","北見北光中",3,null,null,"円盤投服部拓美",1]
["中体連地区","北見","2019-06-14","中学男子","円盤投","豊田琉偉",1304,"決","遠軽中",3,null,null,"円盤投豊田琉偉",1]
["中体連地区","北見","2019-06-14","中学男子","円盤投","北村隼人",1160,"決","北見北光中",2,null,null,"円盤投北村隼人",1]
["選手権","北見","2019-05-12","高校女子","円盤投","牧田あみ",2331,"決","網走南ヶ丘高",3,null,null,"円盤投牧田あみ",1]
["記録会第２戦","網走","2019-05-05","中学男子","円盤投","堀田尚希",1993,"決","北見高栄中",3,null,null,"円盤投堀田尚希",1]
["秋季陸上","網走","2019-09-08","一般男子","円盤投","本間勝人",3675,"決","ｵﾎｰﾂｸAC","般",null,null,"円盤投本間勝人",1]
["中学新人","網走","2019-08-24","中学男子","円盤投","木内健太郎",1257,"決","遠軽中",2,null,null,"円盤投木内健太郎",1]
["高体連支部","北見","2019-05-24","高校女子","円盤投","木幡遥香",2502,"決","網走南ヶ丘高",2,null,null,"円盤投木幡遥香",1]
["中体連地区","北見","2019-06-14","中学男子","円盤投","野口万里",2032,"決","雄武中",3,null,null,{"$f":"E322&F322","v":"円盤投野口万里"},1]
["高体連支部","北見","2019-05-24","高校男子","円盤投","野中涼汰",2789,"決","北見柏陽高",3,null,null,"円盤投野中涼汰",1]
["フィールド記録会","網走","2019-06-08","中学男子","円盤投","鈴木康世",2523,"決","北見高栄中",3,null,null,"円盤投鈴木康世",1]
["秋季陸上","網走","2019-09-08","高校女子","円盤投","髙橋愛唯",2066,"決","遠軽高",2,null,null,"円盤投髙橋愛唯",1]
["高校新人","網走","2019-08-24","高校男子","円盤投","髙嶋祐太",1852,"決","遠軽高",2,null,null,"円盤投髙嶋祐太",{"$f":"IF(M326=#REF!,0,1)","v":{"$error":"#REF!"}}]
["高体連支部","北見","2019-05-25","高校男子","三段跳","阿部優斗",1069,"決","遠軽高",2,1.7,null,"三段跳阿部優斗",1]
["高体連支部","北見","2019-05-25","高校女子","三段跳","伊藤果蓮",1018,"決","網走南ヶ丘高",2,1.3,null,"三段跳伊藤果蓮",{"$f":"IF(M328=#REF!,0,1)","v":{"$error":"#REF!"}}]
["道選手権","網走","2019-08-11","一般男子","三段跳","伊藤千颯",1272,"決","北教大岩見沢",1,1.6,null,"三段跳伊藤千颯",{"$f":"IF(M329=#REF!,0,1)","v":{"$error":"#REF!"}}]
["道選手権","網走","2019-08-11","高校男子","三段跳","伊藤拓摩",1251,"決","網走南ヶ丘高",2,2.4,null,"三段跳伊藤拓摩",1]
["全道高校新人","函館"," 9/20","高校男子","三段跳","伊藤拓磨",1359,"決","網走南ｹ丘高",2,1.9,null,"三段跳伊藤拓磨",{"$f":"IF(M331=#REF!,0,1)","v":{"$error":"#REF!"}}]
["全道高校","帯広","2019-06-21","高校男子","三段跳","臼井貴将",1360,"決","網走南ヶ丘高",2,1.5,null,"三段跳臼井貴将",1]
["道選手権","網走","2019-08-11","高校女子","三段跳","塩田悦子",1089,"決","網走南ヶ丘高",2,1.8,null,"三段跳塩田悦子",{"$f":"IF(M333=#REF!,0,1)","v":{"$error":"#REF!"}}]
["フィールド記録会","網走","2019-06-08","一般男子","三段跳","荻原慧",1150,"決","北見工大","般",1.7,null,"三段跳荻原慧",{"$f":"IF(M334=#REF!,0,1)","v":{"$error":"#REF!"}}]
["高体連支部","北見","2019-05-25","高校男子","三段跳","葛西光雄",1171,"決","日体大附属高",3,1.6,null,"三段跳葛西光雄",1]
["高校新人","網走","2019-08-24","高校男子","三段跳","株田貴敏",1139,"決","網走桂陽高",1,0.1,null,"三段跳株田貴敏",1]
["秋季陸上","網走","2019-09-08","一般男子","三段跳","金子航太",1334,"決","ｵﾎｰﾂｸAC","般",-1.3,null,"三段跳金子航太",1]
["全道高校新人","函館"," 9/20","高校男子","三段跳","原田雲向",1199,"予","女満別高",2,4,null,"三段跳原田雲向",{"$f":"IF(M338=#REF!,0,1)","v":{"$error":"#REF!"}}]
["全道高校新人","函館"," 9/20","高校男子","三段跳","工藤夢叶",1176,"予","北見工高",2,2.5,null,"三段跳工藤夢叶",{"$f":"IF(M339=#REF!,0,1)","v":{"$error":"#REF!"}}]
["国体予選","室蘭","2019-07-21","高校女子","三段跳","合田未夢",948,"決","北見北斗高",2,3.3,null,"三段跳合田未夢",{"$f":"IF(M340=#REF!,0,1)","v":{"$error":"#REF!"}}]
["選手権","北見","2019-05-11","高校女子","三段跳","根田りりん",1136,"決","網走南ヶ丘高",3,2.4,null,"三段跳根田りりん",1]
["高校新人","網走","2019-08-24","高校男子","三段跳","佐々木快音",1114,"決","北見北斗高",1,-1.7,null,"三段跳佐々木快音",1]
["全道高校","帯広","2019-06-21","高校男子","三段跳","佐藤涼太",1304,"予","網走桂陽高",3,-0.2,null,"三段跳佐藤涼太",1]
["全道高校","帯広","2019-06-21","高校男子","三段跳","山本凛太郎",1399,"決","網走南ヶ丘高",3,0.8,null,"三段跳山本凛太郎",1]
["高体連支部","北見","2019-05-25","高校男子","三段跳","山本凜太郎",1300,"決","網走南ヶ丘高",3,2.8,null,"三段跳山本凜太郎",{"$f":"IF(M345=#REF!,0,1)","v":{"$error":"#REF!"}}]
["記録会４戦","北見","2019-08-04","高校男子","三段跳","小川慶士",1184,"決","紋別高",2,1.4,null,"三段跳小川慶士",1]
["フィールド記録会","網走","2019-06-08","一般男子","三段跳","松田侑也",1195,"決","北見工大","般",2.2999999999999998,null,"三段跳松田侑也",{"$f":"IF(M347=#REF!,0,1)","v":{"$error":"#REF!"}}]
["記録会４戦","北見","2019-08-04","高校男子","三段跳","菖蒲功起",1095,"決","北見北斗高",1,1.3,null,"三段跳菖蒲功起",1]
["秋季陸上","網走","2019-09-08","高校女子","三段跳","曽根美紅",989,"決","網走南ヶ丘高",1,-0.4,null,"三段跳曽根美紅",1]
["記録会４戦","北見","2019-08-04","高校男子","三段跳","中村優斗",1091,"決","北見商業高",2,1.1000000000000001,null,"三段跳中村優斗",{"$f":"IF(M350=#REF!,0,1)","v":{"$error":"#REF!"}}]
["道選手権","網走","2019-08-11","一般男子","三段跳","長野蒼人",1324,"決","北翔大",1,1.6,null,"三段跳長野蒼人",1]
["高体連支部","北見","2019-05-25","高校男子","三段跳","板垣航平",1109,"決","北見柏陽高",2,1.9,null,"三段跳板垣航平",1]
["選手権","北見","2019-05-11","一般男子","三段跳","板垣颯平",1277,"決","東農大ｵﾎｰﾂｸ","般",0.2,null,"三段跳板垣颯平",1]
["記録会第２戦","網走","2019-05-05","高校女子","三段跳","本田桃子",974,"決","遠軽高",3,1.5,null,"三段跳本田桃子",1]
["高体連支部","北見","2019-05-25","高校女子","三段跳","矢萩雪奈",1002,"決","遠軽高",3,0.7,null,"三段跳矢萩雪奈",1]
["記録会第２戦","網走","2019-05-05","高校女子","三段跳","林ちひろ",1026,"決","北見緑陵高",1,2.4,null,"三段跳林ちひろ",1]
["全道高校新人","函館"," 9/20","高校男子","三段跳","六渡和馬",1293,"予","北見北斗高",1,1.5,null,"三段跳六渡和馬",1]
["全道高校","帯広","2019-06-21","高校男子","三段跳","髙橋悠希",1205,"予","北見北斗高",2,0.7,null,"三段跳髙橋悠希",1]
["全道小学","札幌","2019-07-15","小学男子","走幅跳","阿部空晴",451,"決","美幌RC",6,2.2999999999999998,null,"走幅跳阿部空晴",1]
["小学記録会","北見","2019-09-28","小学男子","走幅跳","阿部奏佑",null,"決","ｵﾎｰﾂｸｷｯｽﾞ",3,null,null,"走幅跳阿部奏佑",{"$f":"IF(M360=#REF!,0,1)","v":{"$error":"#REF!"}}]
["秋季陸上","網走","2019-09-08","中学男子","走幅跳","阿部唯人",303,"決","大空東藻琴中",1,-0.5,null,"走幅跳阿部唯人",1]
["選手権","北見","2019-05-12","高校男子","走幅跳","阿部優斗",470,"決","遠軽高",2,2.2000000000000002,null,"走幅跳阿部優斗",{"$f":"IF(M362=M361,0,1)","v":1}]
["高体連支部","北見","2019-05-23","高校男子","走幅跳","阿部麗",627,"決","遠軽高",2,0.1,null,"走幅跳阿部麗",1]
["記録会第１戦","北見","2019-04-28","小学男子","走幅跳","安井一晴",252,"決","ｵﾎｰﾂｸｷｯｽﾞ",4,0,null,"走幅跳安井一晴",{"$f":"IF(M364=#REF!,0,1)","v":{"$error":"#REF!"}}]
["フィールド記録会","網走","2019-06-08","中学女子","走幅跳","安部沙彩",435,"決","網走第四中",3,2.8,null,"走幅跳安部沙彩",1]
["小学記録会","北見","2019-09-28","小学男子","走幅跳","伊藤悦大",335,"決","ｵﾎｰﾂｸｷｯｽﾞ",4,null,null,"走幅跳伊藤悦大",1]
["記録会第１戦","北見","2019-04-28","高校女子","走幅跳","伊藤果蓮",488,"決","網走南ヶ丘高",2,1.1000000000000001,null,"走幅跳伊藤果蓮",{"$f":"IF(M367=#REF!,0,1)","v":{"$error":"#REF!"}}]
["記録会４戦","北見","2019-08-04","高校男子","走幅跳","伊藤拓摩",584,"決","網走南ヶ丘高",2,-0.9,null,"走幅跳伊藤拓摩",{"$f":"IF(M368=#REF!,0,1)","v":{"$error":"#REF!"}}]
["高体連支部","北見","2019-05-23","高校男子","走幅跳","伊藤拓磨",622,"決","網走南ヶ丘高",2,-0.3,null,"走幅跳伊藤拓磨",{"$f":"IF(M369=#REF!,0,1)","v":{"$error":"#REF!"}}]
["記録会第２戦","網走","2019-05-05","中学女子","走幅跳","伊藤椿",365,"決","湧別中",2,1.6,null,"走幅跳伊藤椿",1]
["小学記録会","北見","2019-09-28","小学男子","走幅跳","伊藤榮音",391,"決","ｵﾎｰﾂｸｷｯｽﾞ",6,null,null,"走幅跳伊藤榮音",1]
["高体連支部","北見","2019-05-23","高校男子","走幅跳","伊奈翔大",516,"決","北見柏陽高",1,1,null,"走幅跳伊奈翔大",{"$f":"IF(M372=#REF!,0,1)","v":{"$error":"#REF!"}}]
["秋季陸上","網走","2019-09-07","高校男子","走幅跳","伊能颯汰",476,"決","湧別高",1,-0.9,null,"走幅跳伊能颯汰",1]
["通信陸上","網走","2019-06-29","中学女子","走幅跳","井戸仁生",432,"決","北見北中",3,3.7,null,"走幅跳井戸仁生",{"$f":"IF(M374=#REF!,0,1)","v":{"$error":"#REF!"}}]
["全道小学","札幌","2019-07-15","小学女子","走幅跳","井上茜深",371,"決","常呂陸上少年団",6,0.7,null,"走幅跳井上茜深",1]
["高校新人","網走","2019-08-23","高校男子","走幅跳","井上蒼汰",437,"決","日体大附属高",1,2.7,null,"走幅跳井上蒼汰",1]
["小学生ｵﾎｰﾂｸ","北見","2019-06-16","小学男子","走幅跳","井田悠仁",311,"決","ｵﾎｰﾂｸｷｯｽﾞ",5,0,null,"走幅跳井田悠仁",{"$f":"IF(M377=#REF!,0,1)","v":{"$error":"#REF!"}}]
["中体連地区","北見","2019-06-14","中学男子","走幅跳","稲垣璃久",349,"予","北見北中",2,5,null,"走幅跳稲垣璃久",1]
["小学記録会","北見","2019-09-28","小学男子","走幅跳","浦田侍暖",301,"決","ｵﾎｰﾂｸｷｯｽﾞ",3,null,null,"走幅跳浦田侍暖",1]
["小学記録会","北見","2019-09-28","小学男子","走幅跳","浦田誉人",415,"決","美幌RC",5,null,null,"走幅跳浦田誉人",1]
["中体連地区","北見","2019-06-15","中学女子","走幅跳","遠藤りあら",471,"決","網走第二中",3,1.3,null,"走幅跳遠藤りあら",{"$f":"IF(M381=#REF!,0,1)","v":{"$error":"#REF!"}}]
["記録会第２戦","網走","2019-05-05","高校女子","走幅跳","塩田悦子",477,"決","網走南ヶ丘高",2,2.2999999999999998,null,"走幅跳塩田悦子",1]
["秋季陸上","網走","2019-09-07","中学女子","走幅跳","奥静香",370,"決","大空東藻琴中",2,1.3,null,"走幅跳奥静香",1]
["高体連支部","北見","2019-05-23","高校男子","走幅跳","岡崎凌大",523,"決","清里高",3,2.2999999999999998,null,"走幅跳岡崎凌大",{"$f":"IF(M384=#REF!,0,1)","v":{"$error":"#REF!"}}]
["小学記録会","北見","2019-09-28","小学男子","走幅跳","加藤遼太",471,"決","ｵﾎｰﾂｸｷｯｽﾞ",6,null,null,"走幅跳加藤遼太",1]
["小学生ｵﾎｰﾂｸ","北見","2019-06-16","小学女子","走幅跳","河端美桜",344,"決","訓子府陸上少年団",4,0,null,{"$f":"E386&F386","v":"走幅跳河端美桜"},{"$f":"IF(M386=#REF!,0,1)","v":{"$error":"#REF!"}}]
["中体連地区","北見","2019-06-14","中学男子","走幅跳","河部純平",423,"予","斜里中",3,3.1,null,"走幅跳河部純平",{"$f":"IF(M387=#REF!,0,1)","v":{"$error":"#REF!"}}]
["中学新人","網走","2019-08-24","中学女子","走幅跳","改元希",458,"決","網走第一中",2,2.6,null,"走幅跳改元希",1]
["中学新人","網走","2019-08-24","中学女子","走幅跳","角みちる",382,"決","北見東陵中",1,2.7,null,"走幅跳角みちる",{"$f":"IF(M389=#REF!,0,1)","v":{"$error":"#REF!"}}]
["記録会第１戦","北見","2019-04-28","小学男子","走幅跳","角田蓮",350,"決","美幌RC",6,0,null,"走幅跳角田蓮",{"$f":"IF(M390=#REF!,0,1)","v":{"$error":"#REF!"}}]
["秋季陸上","網走","2019-09-07","高校女子","走幅跳","掛川原凜",414,"決","雄武高",1,1.6,null,"走幅跳掛川原凜",1]
["秋季陸上","網走","2019-09-07","中学女子","走幅跳","笠原優来",435,"決","北見北中",2,1.2,null,"走幅跳笠原優来",{"$f":"IF(M392=#REF!,0,1)","v":{"$error":"#REF!"}}]
["高体連支部","北見","2019-05-23","高校男子","走幅跳","葛西光雄",551,"決","日体大附属高",3,0,null,"走幅跳葛西光雄",{"$f":"IF(M393=#REF!,0,1)","v":{"$error":"#REF!"}}]
["高校新人","網走","2019-08-23","高校男子","走幅跳","葛尾蒼空",465,"決","網走南ヶ丘高",1,2.5,null,"走幅跳葛尾蒼空",1]
["高体連支部","北見","2019-05-23","高校男子","走幅跳","株田貴敏",559,"決","網走桂陽高",1,1.1000000000000001,null,"走幅跳株田貴敏",1]
["小学記録会","北見","2019-09-28","小学男子","走幅跳","鎌田亜津煌",410,"決","知床斜里RC",4,null,null,"走幅跳鎌田亜津煌",{"$f":"IF(M396=#REF!,0,1)","v":{"$error":"#REF!"}}]
["フィールド記録会","網走","2019-06-08","中学女子","走幅跳","鎌田絢萌",356,"決","斜里中",1,3.2,null,"走幅跳鎌田絢萌",{"$f":"IF(M397=#REF!,0,1)","v":{"$error":"#REF!"}}]
["選手権","北見","2019-05-12","小学男子","走幅跳","刈屋柊晴",227,"決","ｵﾎｰﾂｸｷｯｽﾞ",4,0,null,"走幅跳刈屋柊晴",1]
["中体連地区","北見","2019-06-15","中学男子","走幅跳","関根至恩",580,"決","北見北光中",3,2,null,"走幅跳関根至恩",1]
["小学記録会","北見","2019-09-28","小学男子","走幅跳","丸山翔生",310,"決","ｵﾎｰﾂｸｷｯｽﾞ",4,null,null,"走幅跳丸山翔生",1]
["中体連地区","北見","2019-06-14","中学男子","走幅跳","岩原右京",346,"予","大空女満別中",1,1.7,null,"走幅跳岩原右京",1]
["記録会第１戦","北見","2019-04-28","小学男子","走幅跳","岩崎鼓太郎",339,"決","ｵﾎｰﾂｸｷｯｽﾞ",6,0,null,"走幅跳岩崎鼓太郎",{"$f":"IF(M402=#REF!,0,1)","v":{"$error":"#REF!"}}]
["小学記録会","北見","2019-09-28","小学女子","走幅跳","岩村蒼依",279,"決","知床斜里RC",6,null,null,"走幅跳岩村蒼依",1]
["高体連支部","北見","2019-05-23","高校男子","走幅跳","喜多駿介",594,"決","紋別高",3,0.6,null,"走幅跳喜多駿介",1]
["記録会第２戦","網走","2019-05-05","高校男子","走幅跳","亀山結渡",424,"決","日体大附属高",2,1.8,null,"走幅跳亀山結渡",1]
["中体連地区","北見","2019-06-14","中学男子","走幅跳","亀田怜苑",392,"予","北見小泉中",1,0.7,null,"走幅跳亀田怜苑",1]
["フィールド記録会","網走","2019-06-08","高校男子","走幅跳","菊地一輝",416,"決","遠軽高",1,-1,null,"走幅跳菊地一輝",{"$f":"IF(M407=M406,0,1)","v":1}]
["高校新人","網走","2019-08-23","高校男子","走幅跳","菊地孝太",471,"決","雄武高",2,1.2,null,"走幅跳菊地孝太",1]
["中体連地区","北見","2019-06-15","中学男子","走幅跳","菊地遥粋",492,"決","北見南中",3,-0.1,null,"走幅跳菊地遥粋",1]
["記録会３戦","網走","2019-07-14","中学女子","走幅跳","菊池優璃",322,"決","網走第四中",2,0.6,null,"走幅跳菊池優璃",1]
["高体連支部","北見","2019-05-23","高校男子","走幅跳","菊池勇翔",256,"決","北見商業高",1,0.4,null,"走幅跳菊池勇翔",1]
["高体連支部","北見","2019-05-23","高校男子","走幅跳","吉澤蓮",496,"決","湧別高",1,2.4,null,"走幅跳吉澤蓮",1]
["秋季陸上","網走","2019-09-08","中学男子","走幅跳","久保秋結仁",440,"決","紋別中",2,-0.3,null,"走幅跳久保秋結仁",{"$f":"IF(M413=#REF!,0,1)","v":{"$error":"#REF!"}}]
["中学新人","網走","2019-08-24","中学女子","走幅跳","宮下美侑",440,"決","紋別中",2,1.5,null,"走幅跳宮下美侑",{"$f":"IF(M414=#REF!,0,1)","v":{"$error":"#REF!"}}]
["通信陸上","網走","2019-06-29","中学女子","走幅跳","宮末侑奈",433,"決","美幌北中",1,1.9,null,"走幅跳宮末侑奈",{"$f":"IF(M415=#REF!,0,1)","v":{"$error":"#REF!"}}]
["記録会４戦","北見","2019-08-04","一般男子","走幅跳","橋本尚弥",739,"決","アーク","般",0.3,null,"走幅跳橋本尚弥",{"$f":"IF(M416=#REF!,0,1)","v":{"$error":"#REF!"}}]
["高体連支部","北見","2019-05-23","高校男子","走幅跳","橋本悠利",678,"決","雄武高",3,0.5,null,"走幅跳橋本悠利",{"$f":"IF(M417=#REF!,0,1)","v":{"$error":"#REF!"}}]
["中体連地区","北見","2019-06-14","中学男子","走幅跳","橋本颯汰",377,"予","美幌北中",1,2.9,null,"走幅跳橋本颯汰",{"$f":"IF(M418=#REF!,0,1)","v":{"$error":"#REF!"}}]
["フィールド記録会","網走","2019-06-08","小学男子","走幅跳","近藤輝空",400,"決","ｵﾎｰﾂｸｷｯｽﾞ",6,0,null,"走幅跳近藤輝空",1]
["中学新人","網走","2019-08-23","中学男子","走幅跳","近藤陸翼",340,"決","北見留辺蘂中",1,1.3,null,"走幅跳近藤陸翼",1]
["小学記録会","北見","2019-09-28","小学男子","走幅跳","近藤伶",379,"決","興部小(近藤)",6,null,null,"走幅跳近藤伶",1]
["選手権","北見","2019-05-12","一般男子","走幅跳","金子航太",730,"決","ｵﾎｰﾂｸAC",0,2.5,null,"走幅跳金子航太",{"$f":"IF(M422=#REF!,0,1)","v":{"$error":"#REF!"}}]
["全道中学新人","千歳","2019-09-21","中学男子","走幅跳","金澤世凪",607,"決","斜里",2,3.5,null,"走幅跳金澤世凪",{"$f":"IF(M423=#REF!,0,1)","v":{"$error":"#REF!"}}]
["小学記録会","北見","2019-09-28","小学男子","走幅跳","金澤裕真",384,"決","美幌RC",5,null,null,"走幅跳金澤裕真",{"$f":"IF(M424=#REF!,0,1)","v":{"$error":"#REF!"}}]
["記録会第１戦","北見","2019-04-28","小学女子","走幅跳","金澤琉花",240,"決","知床斜里RC",3,0,null,"走幅跳金澤琉花",{"$f":"IF(M425=#REF!,0,1)","v":{"$error":"#REF!"}}]
["記録会第１戦","北見","2019-04-28","高校女子","走幅跳","金澤茉梨亜",387,"決","遠軽高",2,3,null,"走幅跳金澤茉梨亜",1]
["記録会４戦","北見","2019-08-04","中学男子","走幅跳","栗原明慎",416,"決","北見北光中",1,-0.3,null,"走幅跳栗原明慎",1]
["中学新人","網走","2019-08-24","中学女子","走幅跳","穴山美夢",343,"決","網走第二中",1,1.3,null,"走幅跳穴山美夢",1]
["記録会４戦","北見","2019-08-04","中学女子","走幅跳","穴澤日菜",424,"決","北見南中",1,1.6,null,"走幅跳穴澤日菜",{"$f":"IF(M429=#REF!,0,1)","v":{"$error":"#REF!"}}]
["秋季陸上","網走","2019-09-07","高校男子","走幅跳","原田雲向",578,"決","女満別高",2,0.9,null,"走幅跳原田雲向",{"$f":"IF(M430=#REF!,0,1)","v":{"$error":"#REF!"}}]
["全道小学","札幌","2019-07-15","小学男子","走幅跳","後藤大輔",466,"決","美幌RC",6,0.3,null,"走幅跳後藤大輔",{"$f":"IF(M431=#REF!,0,1)","v":{"$error":"#REF!"}}]
["中体連地区","北見","2019-06-14","中学男子","走幅跳","工藤之雅",421,"予","北見北中",2,-0.7,null,"走幅跳工藤之雅",{"$f":"IF(M432=#REF!,0,1)","v":{"$error":"#REF!"}}]
["小学記録会","北見","2019-09-28","小学男子","走幅跳","工藤龍祈",366,"決","ｵﾎｰﾂｸｷｯｽﾞ",4,null,null,"走幅跳工藤龍祈",1]
["道ジュニア","釧路","2019-09-01","中学男子","走幅跳","荒木颯葵",547,"決","北見小泉中",3,1.4,null,"走幅跳荒木颯葵",{"$f":"IF(M434=#REF!,0,1)","v":{"$error":"#REF!"}}]
["フィールド記録会","網走","2019-06-08","高校男子","走幅跳","高宮魁",552,"決","雄武高",1,1.6,null,"走幅跳高宮魁",{"$f":"IF(M435=#REF!,0,1)","v":{"$error":"#REF!"}}]
["小学記録会","北見","2019-09-28","小学女子","走幅跳","高橋月紀華",277,"決","訓子府陸上少年団",3,null,null,"走幅跳高橋月紀華",1]
["小学記録会","北見","2019-09-28","小学男子","走幅跳","高瀬生楓",311,"決","ｵﾎｰﾂｸｷｯｽﾞ",3,null,null,"走幅跳高瀬生楓",1]
["小学記録会","北見","2019-09-28","小学女子","走幅跳","高嶋美來",347,"決","網走陸上少年団",6,null,null,"走幅跳高嶋美來",1]
["記録会４戦","北見","2019-08-04","高校男子","走幅跳","高野羽流",372,"決","北見商業高",1,0.5,null,"走幅跳高野羽流",{"$f":"IF(M439=#REF!,0,1)","v":{"$error":"#REF!"}}]
["中体連地区","北見","2019-06-14","中学女子","走幅跳","高野夕奈",391,"予","網走第四中",3,0.9,null,"走幅跳高野夕奈",1]
["高体連支部","北見","2019-05-23","高校女子","走幅跳","合田未夢",452,"決","北見北斗高",2,0.3,null,"走幅跳合田未夢",1]
["秋季陸上","網走","2019-09-08","中学男子","走幅跳","黒坂光輝",445,"決","網走第一中",1,-1.2,null,"走幅跳黒坂光輝",1]
["記録会第２戦","網走","2019-05-05","中学男子","走幅跳","黒田悠羽",334,"決","北見常呂中",1,1.9,null,"走幅跳黒田悠羽",{"$f":"IF(M443=#REF!,0,1)","v":{"$error":"#REF!"}}]
["高体連支部","北見","2019-05-23","高校女子","走幅跳","根田りりん",536,"決","網走南ヶ丘高",3,1.8,null,"走幅跳根田りりん",1]
["高校新人","網走","2019-08-23","高校男子","走幅跳","根田一光",528,"決","網走南ヶ丘高",1,2.5,null,"走幅跳根田一光",1]
["秋季陸上","網走","2019-09-07","高校男子","走幅跳","佐久間楓大",288,"決","日体大附属高",2,0.6,null,"走幅跳佐久間楓大",1]
["通信陸上","網走","2019-06-28","中学女子","走幅跳","佐々木華恋",396,"予","紋別中",3,1,null,"走幅跳佐々木華恋",{"$f":"IF(M447=#REF!,0,1)","v":{"$error":"#REF!"}}]
["小学記録会","北見","2019-09-28","小学女子","走幅跳","佐々木紀香",338,"決","訓子府陸上少年団",6,null,null,"走幅跳佐々木紀香",1]
["記録会第１戦","北見","2019-04-28","小学男子","走幅跳","佐々木瞬汰",249,"決","美幌RC",4,0,null,"走幅跳佐々木瞬汰",{"$f":"IF(M449=#REF!,0,1)","v":{"$error":"#REF!"}}]
["選手権","北見","2019-05-12","高校男子","走幅跳","佐々木洸瑠",316,"決","興部高",1,1.6,null,{"$f":"E450&F450","v":"走幅跳佐々木洸瑠"},{"$f":"IF(M450=M449,0,1)","v":1}]
["フィールド記録会","網走","2019-06-08","小学男子","走幅跳","佐藤世志明",386,"決","知床斜里RC",6,0,null,"走幅跳佐藤世志明",1]
["通信陸上","網走","2019-06-29","中学女子","走幅跳","佐伯涼子",434,"決","北見南中",2,2.2999999999999998,null,"走幅跳佐伯涼子",1]
["記録会３戦","網走","2019-07-14","中学女子","走幅跳","佐伯凉子",422,"決","北見南中",2,1.2,null,"走幅跳佐伯凉子",{"$f":"IF(M453=#REF!,0,1)","v":{"$error":"#REF!"}}]
["高体連支部","北見","2019-05-23","高校男子","走幅跳","佐野光",516,"決","北見北斗高",1,1.7,null,"走幅跳佐野光",1]
["秋季陸上","網走","2019-09-08","中学男子","走幅跳","佐野巧",510,"決","斜里中",3,-0.6,null,"走幅跳佐野巧",1]
["選手権","北見","2019-05-12","小学男子","走幅跳","佐野氷佳流",285,"決","知床斜里RC",5,0,null,"走幅跳佐野氷佳流",1]
["小学記録会","北見","2019-09-28","小学男子","走幅跳","斎藤快晴",366,"決","常呂陸上少年団",6,null,null,"走幅跳斎藤快晴",1]
["記録会第１戦","北見","2019-04-28","小学男子","走幅跳","斎藤青空",295,"決","ｵﾎｰﾂｸｷｯｽﾞ",4,0,null,"走幅跳斎藤青空",{"$f":"IF(M458=#REF!,0,1)","v":{"$error":"#REF!"}}]
["記録会第１戦","北見","2019-04-28","小学男子","走幅跳","斎藤大至",286,"決","ｵﾎｰﾂｸｷｯｽﾞ",4,0,null,"走幅跳斎藤大至",1]
["高校新人","網走","2019-08-23","高校男子","走幅跳","坂元恭介",527,"決","網走南ヶ丘高",1,1.3,null,"走幅跳坂元恭介",1]
["選手権","北見","2019-05-12","高校男子","走幅跳","坂口直樹",464,"決","遠軽高",1,0.7,null,"走幅跳坂口直樹",1]
["小学生ｵﾎｰﾂｸ","北見","2019-06-16","小学男子","走幅跳","坂本好希",340,"決","訓子府陸上少年団",4,0,null,"走幅跳坂本好希",1]
["記録会第１戦","北見","2019-04-28","中学男子","走幅跳","坂野綾圭泉",419,"決","斜里中",3,1.6,null,"走幅跳坂野綾圭泉",{"$f":"IF(M463=#REF!,0,1)","v":{"$error":"#REF!"}}]
["中体連地区","北見","2019-06-14","中学男子","走幅跳","笹原煌一朗",454,"予","遠軽中",2,4.5,null,"走幅跳笹原煌一朗",1]
["記録会３戦","網走","2019-07-14","中学男子","走幅跳","三原立暉",372,"決","網走第一中",1,-0.2,null,"走幅跳三原立暉",1]
["記録会４戦","北見","2019-08-04","中学女子","走幅跳","三塚ありさ",344,"決","網走第四中",1,0.2,null,"走幅跳三塚ありさ",1]
["高校新人","網走","2019-08-23","高校男子","走幅跳","山下拓馬",503,"決","北見工業高",1,2.1,null,"走幅跳山下拓馬",{"$f":"IF(M467=#REF!,0,1)","v":{"$error":"#REF!"}}]
["小学記録会","北見","2019-09-28","小学男子","走幅跳","山形晃輝",353,"決","ｵﾎｰﾂｸｷｯｽﾞ",5,null,null,"走幅跳山形晃輝",1]
["秋季陸上","網走","2019-09-07","中学女子","走幅跳","山口佳瑛",364,"決","北見小泉中",2,3.3,null,"走幅跳山口佳瑛",1]
["中体連地区","北見","2019-06-15","中学男子","走幅跳","山崎幸希",512,"決","斜里中",2,1.3,null,"走幅跳山崎幸希",{"$f":"IF(M470=#REF!,0,1)","v":{"$error":"#REF!"}}]
["記録会３戦","網走","2019-07-14","中学女子","走幅跳","山崎真由",301,"決","斜里中",1,-1.1000000000000001,null,"走幅跳山崎真由",1]
["中学新人","網走","2019-08-24","中学女子","走幅跳","山村奈々",null,"決","北見北光中",1,null,null,"走幅跳山村奈々",1]
["小学記録会","北見","2019-09-28","小学男子","走幅跳","山田悠翔",254,"決","常呂陸上少年団",4,null,null,"走幅跳山田悠翔",1]
["記録会第１戦","北見","2019-04-28","高校男子","走幅跳","山田翔也",519,"決","紋別高",2,1.1000000000000001,null,"走幅跳山田翔也",1]
["小学記録会","北見","2019-09-28","小学女子","走幅跳","山内一紗",343,"決","訓子府陸上少年団",6,null,null,"走幅跳山内一紗",1]
["小学記録会","北見","2019-09-28","小学女子","走幅跳","山本はな",280,"決","ｵﾎｰﾂｸACｼﾞｭﾆｱ",3,null,null,"走幅跳山本はな",{"$f":"IF(M476=#REF!,0,1)","v":{"$error":"#REF!"}}]
["通信陸上","網走","2019-06-28","中学男子","走幅跳","山本銀士郎",346,"予","網走第一中",2,1,null,"走幅跳山本銀士郎",{"$f":"IF(M477=#REF!,0,1)","v":{"$error":"#REF!"}}]
["記録会第１戦","北見","2019-04-28","小学男子","走幅跳","山本耕四郎",315,"決","ｵﾎｰﾂｸACｼﾞｭﾆｱ",5,0,null,"走幅跳山本耕四郎",1]
["小学生ｵﾎｰﾂｸ","北見","2019-06-16","小学男子","走幅跳","山本大三郎",348,"決","ｵﾎｰﾂｸACｼﾞｭﾆｱ",6,0,null,"走幅跳山本大三郎",1]
["記録会第１戦","北見","2019-04-28","高校男子","走幅跳","山本凛太郎",653,"決","網走南ヶ丘高",3,-0.5,null,"走幅跳山本凛太郎",1]
["高体連支部","北見","2019-05-23","高校男子","走幅跳","山本凜太郎",652,"決","網走南ヶ丘高",3,0.8,null,"走幅跳山本凜太郎",1]
["記録会３戦","網走","2019-07-14","中学男子","走幅跳","市村宥樹",507,"決","斜里中",3,1,null,"走幅跳市村宥樹",1]
["小学記録会","北見","2019-09-28","小学女子","走幅跳","寺澤碧凜",405,"決","ｵﾎｰﾂｸｷｯｽﾞ",6,null,null,"走幅跳寺澤碧凜",1]
["記録会４戦","北見","2019-08-04","中学女子","走幅跳","篠原もも香",341,"決","北見南中",1,0,null,"走幅跳篠原もも香",{"$f":"IF(M484=#REF!,0,1)","v":{"$error":"#REF!"}}]
["小学記録会","北見","2019-09-28","小学男子","走幅跳","柴田遥斗",278,"決","ｵﾎｰﾂｸｷｯｽﾞ",3,null,null,"走幅跳柴田遥斗",1]
["フィールド記録会","網走","2019-06-08","小学男子","走幅跳","若月柚樹",236,"決","美幌RC",4,0,null,"走幅跳若月柚樹",1]
["記録会第１戦","北見","2019-04-28","中学女子","走幅跳","若沢美勇",389,"決","北見小泉中",2,1.2,null,"走幅跳若沢美勇",1]
["記録会４戦","北見","2019-08-04","中学男子","走幅跳","酒井柊優",405,"決","北見東陵中",1,2.1,null,"走幅跳酒井柊優",1]
["フィールド記録会","網走","2019-06-08","中学女子","走幅跳","酒部暖",376,"決","斜里中",1,3.2,null,"走幅跳酒部暖",{"$f":"IF(M489=#REF!,0,1)","v":{"$error":"#REF!"}}]
["記録会３戦","網走","2019-07-14","中学男子","走幅跳","小原詩恩",416,"決","美幌北中",1,-0.2,null,"走幅跳小原詩恩",1]
["高校新人","網走","2019-08-23","高校男子","走幅跳","小山唯斗",542,"決","網走南ヶ丘高",2,2.4,null,"走幅跳小山唯斗",1]
["記録会４戦","北見","2019-08-04","中学男子","走幅跳","小助川智博",546,"決","紋別中",2,0.8,null,"走幅跳小助川智博",1]
["選手権","北見","2019-05-12","高校男子","走幅跳","小澄晴斗",527,"決","北見工業高",3,2.2999999999999998,null,"走幅跳小澄晴斗",1]
["秋季陸上","網走","2019-09-07","高校男子","走幅跳","小川慶士",523,"決","紋別高",2,-0.1,null,"走幅跳小川慶士",1]
["小学記録会","北見","2019-09-28","小学女子","走幅跳","小泉杏実",331,"決","訓子府陸上少年団",4,null,null,"走幅跳小泉杏実",{"$f":"IF(M495=#REF!,0,1)","v":{"$error":"#REF!"}}]
["秋季陸上","網走","2019-09-08","中学男子","走幅跳","小島悠翔",436,"決","美幌北中",2,-1.5,null,"走幅跳小島悠翔",{"$f":"IF(M496=#REF!,0,1)","v":{"$error":"#REF!"}}]
["秋季陸上","網走","2019-09-07","中学女子","走幅跳","小木若菜",331,"決","置戸中",1,2.1,null,"走幅跳小木若菜",1]
["高体連支部","北見","2019-05-23","高校女子","走幅跳","小野寺萌華",506,"決","網走南ヶ丘高",1,2.6,null,"走幅跳小野寺萌華",1]
["記録会第２戦","網走","2019-05-05","高校男子","走幅跳","小野拓也",518,"決","網走桂陽高",3,1.4,null,"走幅跳小野拓也",1]
["記録会３戦","網走","2019-07-14","中学男子","走幅跳","小林蓮弥",323,"決","北見小泉中",1,0.5,null,"走幅跳小林蓮弥",1]
["通信陸上","網走","2019-06-28","中学女子","走幅跳","小林澪",418,"予","斜里中",1,0.7,null,"走幅跳小林澪",{"$f":"IF(M501=#REF!,0,1)","v":{"$error":"#REF!"}}]
["記録会第１戦","北見","2019-04-28","小学女子","走幅跳","松井杏美李",257,"決","美幌RC",3,0,null,"走幅跳松井杏美李",{"$f":"IF(M502=M501,0,1)","v":1}]
["秋季陸上","網走","2019-09-08","中学男子","走幅跳","松永悠輝",484,"決","雄武中",2,-0.2,null,"走幅跳松永悠輝",1]
["高体連支部","北見","2019-05-23","高校女子","走幅跳","松原麗",481,"決","遠軽高",2,2.4,null,"走幅跳松原麗",{"$f":"IF(M504=#REF!,0,1)","v":{"$error":"#REF!"}}]
["秋季陸上","網走","2019-09-07","一般男子","走幅跳","松田侑也",603,"決","北見工大","般",-1.2,null,"走幅跳松田侑也",{"$f":"IF(M505=#REF!,0,1)","v":{"$error":"#REF!"}}]
["道ジュニア","釧路","2019-09-01","中学女子","走幅跳","松本優那",440,"決","美幌北中",1,1.3,null,"走幅跳松本優那",{"$f":"IF(M506=#REF!,0,1)","v":{"$error":"#REF!"}}]
["小学記録会","北見","2019-09-28","小学女子","走幅跳","沼岡実來",391,"決","美幌RC",5,null,null,"走幅跳沼岡実來",1]
["高校新人","網走","2019-08-23","高校男子","走幅跳","菖蒲功起",515,"決","北見北斗高",1,1.3,null,"走幅跳菖蒲功起",{"$f":"IF(M508=#REF!,0,1)","v":{"$error":"#REF!"}}]
["中学新人","網走","2019-08-23","中学男子","走幅跳","上伊澤渉",428,"決","北見東陵中",2,0.7,null,"走幅跳上伊澤渉",1]
["記録会３戦","網走","2019-07-14","中学男子","走幅跳","上西翔",349,"決","美幌中",1,1.1000000000000001,null,"走幅跳上西翔",1]
["記録会３戦","網走","2019-07-14","中学男子","走幅跳","城石陸斗",361,"決","北見小泉中",1,0.9,null,"走幅跳城石陸斗",{"$f":"IF(M511=#REF!,0,1)","v":{"$error":"#REF!"}}]
["記録会４戦","北見","2019-08-04","中学男子","走幅跳","植本一希",518,"決","北見北光中",3,1.2,null,"走幅跳植本一希",1]
["小学記録会","北見","2019-09-28","小学男子","走幅跳","新谷一真",244,"決","ｵﾎｰﾂｸｷｯｽﾞ",3,null,null,"走幅跳新谷一真",1]
["小学生ｵﾎｰﾂｸ","北見","2019-06-16","小学女子","走幅跳","森下愛羽",333,"決","訓子府陸上少年団",6,0,null,{"$f":"E514&F514","v":"走幅跳森下愛羽"},1]
["記録会３戦","網走","2019-07-14","中学男子","走幅跳","森駿輝",448,"決","北見北光中",2,0.8,null,"走幅跳森駿輝",{"$f":"IF(M515=#REF!,0,1)","v":{"$error":"#REF!"}}]
["小学記録会","北見","2019-09-28","小学女子","走幅跳","森南帆",302,"決","常呂陸上少年団",4,null,null,"走幅跳森南帆",1]
["高校新人","網走","2019-08-23","高校男子","走幅跳","水上遥翔",607,"決","北見北斗高",1,1.6,null,"走幅跳水上遥翔",1]
["小学記録会","北見","2019-09-28","小学女子","走幅跳","水谷有里",252,"決","常呂陸上少年団",4,null,null,"走幅跳水谷有里",1]
["通信陸上","網走","2019-06-29","中学女子","走幅跳","杉本玲奈",434,"決","網走第四中",2,1.4,null,"走幅跳杉本玲奈",{"$f":"IF(M519=#REF!,0,1)","v":{"$error":"#REF!"}}]
["通信陸上","網走","2019-06-28","中学男子","走幅跳","杉澤快流",407,"予","北見東陵中",2,1.2,null,"走幅跳杉澤快流",{"$f":"IF(M520=#REF!,0,1)","v":{"$error":"#REF!"}}]
["小学記録会","北見","2019-09-28","小学女子","走幅跳","菅田愛莉",364,"決","美幌RC",4,null,null,"走幅跳菅田愛莉",1]
["小学記録会","北見","2019-09-28","小学男子","走幅跳","菅田皓生",378,"決","美幌RC",4,null,null,"走幅跳菅田皓生",{"$f":"IF(M522=#REF!,0,1)","v":{"$error":"#REF!"}}]
["記録会第１戦","北見","2019-04-28","高校男子","走幅跳","菅野威織",490,"決","北見工業高",3,-0.1,null,"走幅跳菅野威織",{"$f":"IF(M523=#REF!,0,1)","v":{"$error":"#REF!"}}]
["記録会第１戦","北見","2019-04-28","中学女子","走幅跳","瀬川杏優",374,"決","網走第一中",2,1.3,null,"走幅跳瀬川杏優",1]
["小学記録会","北見","2019-09-28","小学男子","走幅跳","清野文斗",272,"決","訓子府陸上少年団",3,null,null,"走幅跳清野文斗",{"$f":"IF(M525=#REF!,0,1)","v":{"$error":"#REF!"}}]
["中体連地区","北見","2019-06-15","中学女子","走幅跳","西田陽菜多",457,"決","北見高栄中",3,0.1,null,"走幅跳西田陽菜多",1]
["記録会４戦","北見","2019-08-04","高校男子","走幅跳","西島直希",520,"決","北見緑陵高",1,-0.6,null,"走幅跳西島直希",1]
["中体連地区","北見","2019-06-14","中学男子","走幅跳","西藤志竜",379,"予","北見南中",1,3.7,null,"走幅跳西藤志竜",1]
["記録会第１戦","北見","2019-04-28","小学男子","走幅跳","西迫知希",307,"決","ｵﾎｰﾂｸｷｯｽﾞ",5,0,null,"走幅跳西迫知希",1]
["中体連地区","北見","2019-06-15","中学男子","走幅跳","西迫篤志",659,"決","北見北中",3,1.9,null,"走幅跳西迫篤志",1]
["選手権","北見","2019-05-11","中学男子","走幅跳","西陽矢",375,"決","大空東藻琴中",2,0.6,null,"走幅跳西陽矢",{"$f":"IF(M531=#REF!,0,1)","v":{"$error":"#REF!"}}]
["高校新人","網走","2019-08-23","高校男子","走幅跳","斉藤一歩",406,"決","北見緑陵高",1,0.2,null,"走幅跳斉藤一歩",1]
["高体連支部","北見","2019-05-23","高校男子","走幅跳","斉藤双希",529,"決","日体大附属高",3,0.9,null,"走幅跳斉藤双希",1]
["小学生ｵﾎｰﾂｸ","北見","2019-06-16","小学男子","走幅跳","斉藤大至",305,"決","ｵﾎｰﾂｸｷｯｽﾞ",4,0,null,"走幅跳斉藤大至",1]
["通信陸上","網走","2019-06-28","中学男子","走幅跳","斉藤楓",325,"予","紋別中",1,1.1000000000000001,null,"走幅跳斉藤楓",1]
["高体連支部","北見","2019-05-23","高校男子","走幅跳","石井建太郎",601,"決","網走南ヶ丘高",2,2.2999999999999998,null,"走幅跳石井建太郎",1]
["記録会第２戦","網走","2019-05-05","高校男子","走幅跳","石井建太朗",619,"決","網走南ヶ丘高",2,2.2000000000000002,null,"走幅跳石井建太朗",1]
["高校新人","網走","2019-08-23","高校男子","走幅跳","石井丈太郎",420,"決","清里高",1,2.6,null,"走幅跳石井丈太郎",1]
["中体連地区","北見","2019-06-15","中学男子","走幅跳","石崎虎太郎",492,"決","北見南中",2,-1.7,null,"走幅跳石崎虎太郎",1]
["記録会４戦","北見","2019-08-04","高校女子","走幅跳","石山真衣",449,"決","湧別高",3,0.9,null,"走幅跳石山真衣",1]
["小学記録会","北見","2019-09-28","小学男子","走幅跳","石川大道",406,"決","美幌RC",5,null,null,"走幅跳石川大道",{"$f":"IF(M541=#REF!,0,1)","v":{"$error":"#REF!"}}]
["記録会第１戦","北見","2019-04-28","小学女子","走幅跳","石川知優",270,"決","美幌RC",3,0,null,"走幅跳石川知優",{"$f":"IF(M542=#REF!,0,1)","v":{"$error":"#REF!"}}]
["フィールド記録会","網走","2019-06-08","小学男子","走幅跳","石田晴大",392,"決","ｵﾎｰﾂｸｷｯｽﾞ",5,0,null,"走幅跳石田晴大",1]
["秋季陸上","網走","2019-09-07","一般男子","走幅跳","雪田大輝",540,"決","ｵﾎｰﾂｸ陸協(沼田)","般",0.6,null,"走幅跳雪田大輝",{"$f":"IF(M544=#REF!,0,1)","v":{"$error":"#REF!"}}]
["記録会第１戦","北見","2019-04-28","小学男子","走幅跳","川瀬智仁",363,"決","ｵﾎｰﾂｸACｼﾞｭﾆｱ",5,0,null,"走幅跳川瀬智仁",1]
["高体連支部","北見","2019-05-23","高校男子","走幅跳","泉仁",531,"決","日体大附属高",1,0.6,null,"走幅跳泉仁",{"$f":"IF(M546=#REF!,0,1)","v":{"$error":"#REF!"}}]
["通信陸上","網走","2019-06-28","中学男子","走幅跳","浅倉悠大",392,"予","美幌北中",1,1,null,"走幅跳浅倉悠大",1]
["秋季陸上","網走","2019-09-08","中学男子","走幅跳","曽根哲優",396,"決","美幌北中",1,-0.5,null,"走幅跳曽根哲優",{"$f":"IF(M548=#REF!,0,1)","v":{"$error":"#REF!"}}]
["小学記録会","北見","2019-09-28","小学男子","走幅跳","曽根天太",406,"決","美幌RC",5,null,null,"走幅跳曽根天太",{"$f":"IF(M549=#REF!,0,1)","v":{"$error":"#REF!"}}]
["記録会４戦","北見","2019-08-04","高校女子","走幅跳","曽根美紅",500,"決","網走南ヶ丘高",1,2.1,null,"走幅跳曽根美紅",{"$f":"IF(M550=#REF!,0,1)","v":{"$error":"#REF!"}}]
["通信陸上","網走","2019-06-28","中学男子","走幅跳","倉本静鬼",450,"予","北見東陵中",2,1,null,"走幅跳倉本静鬼",{"$f":"IF(M551=#REF!,0,1)","v":{"$error":"#REF!"}}]
["小学記録会","北見","2019-09-28","小学女子","走幅跳","相馬羽夏",254,"決","ｵﾎｰﾂｸｷｯｽﾞ",3,null,null,"走幅跳相馬羽夏",{"$f":"IF(M552=M551,0,1)","v":1}]
["全道小学","札幌","2019-07-15","小学女子","走幅跳","相馬可夏子",388,"決","ｵﾎｰﾂｸｷｯｽﾞ",5,2.1,null,"走幅跳相馬可夏子",{"$f":"IF(M553=#REF!,0,1)","v":{"$error":"#REF!"}}]
["記録会４戦","北見","2019-08-04","中学男子","走幅跳","増山奈孝",454,"決","北見光西中",1,0.7,null,"走幅跳増山奈孝",1]
["秋季陸上","網走","2019-09-07","中学女子","走幅跳","村田爽",413,"決","網走第二中",1,2.4,null,"走幅跳村田爽",{"$f":"IF(M555=#REF!,0,1)","v":{"$error":"#REF!"}}]
["高校新人","網走","2019-08-23","高校男子","走幅跳","村田優月",549,"決","雄武高",1,4.0999999999999996,null,"走幅跳村田優月",{"$f":"IF(M556=#REF!,0,1)","v":{"$error":"#REF!"}}]
["選手権","北見","2019-05-12","高校男子","走幅跳","村田陽平",608,"決","雄武高",3,1.8,null,"走幅跳村田陽平",1]
["記録会４戦","北見","2019-08-04","中学男子","走幅跳","太田龍空",484,"決","北見小泉中",1,1.6,null,"走幅跳太田龍空",1]
["全道小学","札幌","2019-07-14","小学男子","走幅跳","大森光真",341,"決","ｵﾎｰﾂｸｷｯｽﾞ",4,3.4,null,"走幅跳大森光真",1]
["選手権","北見","2019-05-11","中学男子","走幅跳","大水皓輝",506,"決","雄武中",1,1.9,null,"走幅跳大水皓輝",{"$f":"IF(M560=#REF!,0,1)","v":{"$error":"#REF!"}}]
["秋季陸上","網走","2019-09-08","中学男子","走幅跳","大水皓生",533,"決","雄武中",1,-1.2,null,"走幅跳大水皓生",1]
["フィールド記録会","網走","2019-06-08","中学男子","走幅跳","大水颯太",639,"決","雄武中",3,3.3,null,"走幅跳大水颯太",{"$f":"IF(M562=#REF!,0,1)","v":{"$error":"#REF!"}}]
["秋季陸上","網走","2019-09-08","中学男子","走幅跳","大津陽弥",405,"決","北見高栄中",1,0.5,null,"走幅跳大津陽弥",{"$f":"IF(M563=#REF!,0,1)","v":{"$error":"#REF!"}}]
["小学記録会","北見","2019-09-28","小学男子","走幅跳","大東啓",284,"決","美幌RC",5,null,null,"走幅跳大東啓",{"$f":"IF(M564=#REF!,0,1)","v":{"$error":"#REF!"}}]
["通信陸上","網走","2019-06-28","中学男子","走幅跳","大道光竜",396,"予","北見高栄中",1,1.8,null,"走幅跳大道光竜",{"$f":"IF(M565=#REF!,0,1)","v":{"$error":"#REF!"}}]
["全道小学","札幌","2019-07-14","小学女子","走幅跳","大内埜瑚",380,"決","美幌RC",4,3.2,null,"走幅跳大内埜瑚",{"$f":"IF(M566=#REF!,0,1)","v":{"$error":"#REF!"}}]
["小学記録会","北見","2019-09-28","小学男子","走幅跳","大木駿徹",238,"決","ｵﾎｰﾂｸｷｯｽﾞ",3,null,null,"走幅跳大木駿徹",1]
["中体連地区","北見","2019-06-14","中学男子","走幅跳","大友永遠",378,"予","美幌北中",1,2,null,"走幅跳大友永遠",1]
["小学記録会","北見","2019-09-28","小学男子","走幅跳","滝口葉",397,"決","ｵﾎｰﾂｸｷｯｽﾞ",6,null,null,"走幅跳滝口葉",1]
["小学記録会","北見","2019-09-28","小学男子","走幅跳","谷浦晴磨",385,"決","美幌RC",4,null,null,"走幅跳谷浦晴磨",{"$f":"IF(M570=#REF!,0,1)","v":{"$error":"#REF!"}}]
["小学記録会","北見","2019-09-28","小学男子","走幅跳","谷柊亜",343,"決","常呂陸上少年団",6,null,null,"走幅跳谷柊亜",{"$f":"IF(M571=#REF!,0,1)","v":{"$error":"#REF!"}}]
["小学記録会","北見","2019-09-28","小学女子","走幅跳","谷脇那由多",337,"決","ｵﾎｰﾂｸｷｯｽﾞ",3,null,null,"走幅跳谷脇那由多",{"$f":"IF(M572=#REF!,0,1)","v":{"$error":"#REF!"}}]
["通信陸上","網走","2019-06-28","中学男子","走幅跳","谷脇良明",344,"予","北見南中",1,1.8,null,"走幅跳谷脇良明",1]
["記録会４戦","北見","2019-08-04","高校女子","走幅跳","池谷菜摘子",378,"決","北見北斗高",2,0.5,null,"走幅跳池谷菜摘子",1]
["記録会４戦","北見","2019-08-04","高校女子","走幅跳","池田美梨",421,"決","紋別高",2,2.1,null,"走幅跳池田美梨",1]
["フィールド記録会","網走","2019-06-08","中学男子","走幅跳","竹村璃玖",468,"決","北見常呂中",2,-1.6,null,"走幅跳竹村璃玖",1]
["記録会第１戦","北見","2019-04-28","中学男子","走幅跳","中井啓晴",461,"決","北見小泉中",3,0.3,null,"走幅跳中井啓晴",1]
["小学記録会","北見","2019-09-28","小学男子","走幅跳","中崎楽久",412,"決","ｵﾎｰﾂｸｷｯｽﾞ",5,null,null,{"$f":"E578&F578","v":"走幅跳中崎楽久"},1]
["中学新人","網走","2019-08-24","中学女子","走幅跳","中村のあ",327,"決","雄武中",1,2.5,null,"走幅跳中村のあ",{"$f":"IF(M579=#REF!,0,1)","v":{"$error":"#REF!"}}]
["秋季陸上","網走","2019-09-08","中学男子","走幅跳","中村志瞳",465,"決","北見高栄中",1,-0.5,null,"走幅跳中村志瞳",1]
["高体連支部","北見","2019-05-23","高校男子","走幅跳","中村優斗",529,"決","北見商業高",2,-0.5,null,"走幅跳中村優斗",{"$f":"IF(M581=#REF!,0,1)","v":{"$error":"#REF!"}}]
["フィールド記録会","網走","2019-06-08","中学女子","走幅跳","中村栞奈",361,"決","斜里中",1,2,null,"走幅跳中村栞奈",1]
["小学記録会","北見","2019-09-28","小学男子","走幅跳","中田隼翔",425,"決","ｵﾎｰﾂｸACｼﾞｭﾆｱ",6,null,null,"走幅跳中田隼翔",1]
["記録会第２戦","網走","2019-05-05","中学男子","走幅跳","中田竜翔",505,"決","網走第一中",3,1.2,null,"走幅跳中田竜翔",{"$f":"IF(M584=#REF!,0,1)","v":{"$error":"#REF!"}}]
["通信陸上","網走","2019-06-29","中学男子","走幅跳","中嶋優斗",595,"決","北見光西中",3,2.8,null,"走幅跳中嶋優斗",1]
["秋季陸上","網走","2019-09-08","中学男子","走幅跳","中浜蓮",413,"決","大空東藻琴中",1,0.1,null,"走幅跳中浜蓮",1]
["秋季陸上","網走","2019-09-07","高校男子","走幅跳","仲条京悟",553,"決","紋別高",2,-0.4,null,"走幅跳仲条京悟",1]
["記録会４戦","北見","2019-08-04","中学女子","走幅跳","長見静留",374,"決","大空東藻琴中",1,0.5,null,"走幅跳長見静留",1]
["高体連支部","北見","2019-05-23","高校男子","走幅跳","長原瑞紀",428,"決","湧別高",2,1.4,null,"走幅跳長原瑞紀",{"$f":"IF(M589=#REF!,0,1)","v":{"$error":"#REF!"}}]
["記録会第１戦","北見","2019-04-28","中学男子","走幅跳","長谷川佳祐",575,"決","網走第二中",2,0.7,null,"走幅跳長谷川佳祐",1]
["選手権","北見","2019-05-12","小学男子","走幅跳","長島羽佑",312,"決","知床斜里RC",5,0,null,"走幅跳長島羽佑",{"$f":"IF(M591=M590,0,1)","v":1}]
["高校新人","網走","2019-08-23","高校男子","走幅跳","長野光希",498,"決","北見工業高",2,0.3,null,"走幅跳長野光希",1]
["記録会４戦","北見","2019-08-04","一般男子","走幅跳","長野蒼人",607,"決","北翔大","般",-1.1000000000000001,null,"走幅跳長野蒼人",1]
["道ジュニア","釧路","2019-09-01","中学女子","走幅跳","長野萌果",525,"決","北見高栄中",2,1.4,null,"走幅跳長野萌果",1]
["通信陸上","網走","2019-06-29","中学男子","走幅跳","天野琉稀",484,"決","大空女満別中",3,0.9,null,"走幅跳天野琉稀",{"$f":"IF(M595=#REF!,0,1)","v":{"$error":"#REF!"}}]
["中学新人","網走","2019-08-23","中学男子","走幅跳","田村響",331,"決","北見南中",1,0.6,null,"走幅跳田村響",1]
["小学記録会","北見","2019-09-28","小学男子","走幅跳","田村樹",343,"決","ｵﾎｰﾂｸｷｯｽﾞ",4,null,null,"走幅跳田村樹",1]
["通信陸上","網走","2019-06-28","中学女子","走幅跳","田中こころ",390,"予","北見南中",3,1.5,null,"走幅跳田中こころ",1]
["中学新人","網走","2019-08-24","中学女子","走幅跳","田中志麻",361,"決","北見高栄中",1,2.7,null,"走幅跳田中志麻",1]
["記録会４戦","北見","2019-08-04","中学男子","走幅跳","田中智也",348,"決","網走第一中",1,-1.2,null,"走幅跳田中智也",1]
["小学生ｵﾎｰﾂｸ","北見","2019-06-16","小学女子","走幅跳","渡辺朔音",239,"決","ｵﾎｰﾂｸACｼﾞｭﾆｱ",4,0,null,"走幅跳渡辺朔音",1]
["中体連地区","北見","2019-06-14","中学女子","走幅跳","渡辺理世",325,"予","北見北光中",2,6,null,"走幅跳渡辺理世",1]
["高校新人","網走","2019-08-23","高校男子","走幅跳","渡辺颯",620,"決","北見藤高",1,1.5,null,"走幅跳渡辺颯",1]
["中体連地区","北見","2019-06-14","中学男子","走幅跳","渡邊里恭",543,"予","北見北光中",3,-0.2,null,"走幅跳渡邊里恭",1]
["中体連地区","北見","2019-06-14","中学女子","走幅跳","土田結子",408,"予","大空女満別中",3,2.2999999999999998,null,"走幅跳土田結子",1]
["選手権","北見","2019-05-12","高校男子","走幅跳","土門樹央",622,"決","美幌高",3,1.7,null,"走幅跳土門樹央",1]
["フィールド記録会","網走","2019-06-08","高校男子","走幅跳","土門樹生",608,"決","美幌高",3,2.4,null,"走幅跳土門樹生",1]
["高校新人","網走","2019-08-23","高校男子","走幅跳","島田哲",483,"決","日体大附属高",1,2,null,"走幅跳島田哲",1]
["中体連地区","北見","2019-06-14","中学男子","走幅跳","藤江諒丞",433,"予","遠軽中",2,3.6,null,"走幅跳藤江諒丞",1]
["選手権","北見","2019-05-12","高校男子","走幅跳","南出竜之介",592,"決","網走桂陽高",3,1.9,null,"走幅跳南出竜之介",1]
["選手権","北見","2019-05-11","中学女子","走幅跳","二上優美",406,"決","美幌中",3,2.9,null,"走幅跳二上優美",1]
["小学記録会","北見","2019-09-28","小学女子","走幅跳","日根若葉",246,"決","ｵﾎｰﾂｸACｼﾞｭﾆｱ",3,null,null,"走幅跳日根若葉",1]
["記録会３戦","網走","2019-07-14","中学女子","走幅跳","日根優菜",315,"決","網走第四中",2,0.2,null,"走幅跳日根優菜",1]
["秋季陸上","網走","2019-09-08","中学男子","走幅跳","白井爽太郎",372,"決","大空東藻琴中",1,0.1,null,"走幅跳白井爽太郎",1]
["フィールド記録会","網走","2019-06-08","中学女子","走幅跳","白石光",440,"決","ｵﾎｰﾂｸAC(中学)",3,3,null,"走幅跳白石光",1]
["記録会第１戦","北見","2019-04-28","小学男子","走幅跳","白石大和",348,"決","ｵﾎｰﾂｸｷｯｽﾞ",5,0,null,"走幅跳白石大和",1]
["フィールド記録会","網走","2019-06-08","小学男子","走幅跳","畑谷颯樹",282,"決","知床アスリートクラブ",3,0,null,"走幅跳畑谷颯樹",1]
["記録会４戦","北見","2019-08-04","中学女子","走幅跳","八木沼歩花",346,"決","北見北中",2,0.9,null,"走幅跳八木沼歩花",1]
["小学生ｵﾎｰﾂｸ","北見","2019-06-16","小学女子","走幅跳","板岡沙英",313,"決","ｵﾎｰﾂｸｷｯｽﾞ",4,0,null,"走幅跳板岡沙英",{"$f":"IF(M619=#REF!,0,1)","v":{"$error":"#REF!"}}]
["高校新人","網走","2019-08-23","高校男子","走幅跳","板垣航平",565,"決","北見柏陽高",2,0.4,null,"走幅跳板垣航平",1]
["記録会第１戦","北見","2019-04-28","一般男子","走幅跳","板垣颯平",599,"決","東農大ｵﾎｰﾂｸ","般",0.8,null,"走幅跳板垣颯平",1]
["中学新人","網走","2019-08-23","中学男子","走幅跳","飯島空輝",358,"決","北見北中",1,1,null,"走幅跳飯島空輝",1]
["小学記録会","北見","2019-09-28","小学女子","走幅跳","尾島美空",331,"決","ｵﾎｰﾂｸｷｯｽﾞ",5,null,null,"走幅跳尾島美空",1]
["中体連地区","北見","2019-06-14","中学女子","走幅跳","富永咲愛",406,"予","北見小泉中",1,5,null,"走幅跳富永咲愛",1]
["記録会第１戦","北見","2019-04-28","小学女子","走幅跳","布目友理",377,"決","留辺蘂JSC",5,0,null,"走幅跳布目友理",{"$f":"IF(M625=#REF!,0,1)","v":{"$error":"#REF!"}}]
["小学記録会","北見","2019-09-28","小学男子","走幅跳","武田航太朗",273,"決","常呂陸上少年団",4,null,null,"走幅跳武田航太朗",1]
["小学記録会","北見","2019-09-28","小学女子","走幅跳","武田美桜",296,"決","訓子府陸上少年団",6,null,null,"走幅跳武田美桜",{"$f":"IF(M627=#REF!,0,1)","v":{"$error":"#REF!"}}]
["小学記録会","北見","2019-09-28","小学女子","走幅跳","福井花歩",350,"決","ｵﾎｰﾂｸｷｯｽﾞ",5,null,null,"走幅跳福井花歩",{"$f":"IF(M628=#REF!,0,1)","v":{"$error":"#REF!"}}]
["小学記録会","北見","2019-09-28","小学男子","走幅跳","福井慶太",379,"決","ｵﾎｰﾂｸｷｯｽﾞ",3,null,null,"走幅跳福井慶太",{"$f":"IF(M629=#REF!,0,1)","v":{"$error":"#REF!"}}]
["中学新人","網走","2019-08-23","中学男子","走幅跳","福田悠介",464,"決","網走第一中",2,-2,null,"走幅跳福田悠介",{"$f":"IF(M630=#REF!,0,1)","v":{"$error":"#REF!"}}]
["小学記録会","北見","2019-09-28","小学男子","走幅跳","福田涼介",411,"決","ｵﾎｰﾂｸACｼﾞｭﾆｱ",6,null,null,"走幅跳福田涼介",1]
["中学新人","網走","2019-08-24","中学女子","走幅跳","平沢虹華",308,"決","北見小泉中",1,2.2000000000000002,null,"走幅跳平沢虹華",{"$f":"IF(M632=#REF!,0,1)","v":{"$error":"#REF!"}}]
["小学記録会","北見","2019-09-28","小学女子","走幅跳","平谷心優",329,"決","美幌RC",4,null,null,"走幅跳平谷心優",1]
["通信陸上","網走","2019-06-28","中学女子","走幅跳","平野亜笈",322,"予","斜里中",1,2,null,"走幅跳平野亜笈",{"$f":"IF(M634=#REF!,0,1)","v":{"$error":"#REF!"}}]
["中学新人","網走","2019-08-23","中学男子","走幅跳","米倉啓太",369,"決","大空女満別中",1,-0.3,null,"走幅跳米倉啓太",1]
["高体連支部","北見","2019-05-23","高校男子","走幅跳","米地賢豊",475,"決","北見柏陽高",1,4.2,null,"走幅跳米地賢豊",1]
["中学新人","網走","2019-08-24","中学女子","走幅跳","片川天姫",314,"決","雄武中",1,3.3,null,"走幅跳片川天姫",1]
["小学記録会","北見","2019-09-28","小学男子","走幅跳","豊原隆介",393,"決","ｵﾎｰﾂｸｷｯｽﾞ",6,null,null,"走幅跳豊原隆介",1]
["秋季陸上","網走","2019-09-08","中学男子","走幅跳","北村隼人",421,"決","北見北光中",2,0.3,null,"走幅跳北村隼人",{"$f":"IF(M639=#REF!,0,1)","v":{"$error":"#REF!"}}]
["記録会４戦","北見","2019-08-04","中学女子","走幅跳","北野眞帆",421,"決","北見北中",3,1.8,null,"走幅跳北野眞帆",{"$f":"IF(M640=#REF!,0,1)","v":{"$error":"#REF!"}}]
["小学記録会","北見","2019-09-28","小学男子","走幅跳","堀澤仁景",369,"決","ｵﾎｰﾂｸｷｯｽﾞ",6,null,null,"走幅跳堀澤仁景",{"$f":"IF(M641=M640,0,1)","v":1}]
["中学新人","網走","2019-08-23","中学男子","走幅跳","本川雅久",358,"決","大空女満別中",1,0,null,{"$f":"E642&F642","v":"走幅跳本川雅久"},{"$f":"IF(M642=#REF!,0,1)","v":{"$error":"#REF!"}}]
["秋季陸上","網走","2019-09-08","中学男子","走幅跳","本田孝仁",467,"決","北見常呂中",1,0,null,"走幅跳本田孝仁",{"$f":"IF(M643=#REF!,0,1)","v":{"$error":"#REF!"}}]
["小学記録会","北見","2019-09-28","小学男子","走幅跳","本田櫂晴",436,"決","ｵﾎｰﾂｸｷｯｽﾞ",5,null,null,"走幅跳本田櫂晴",{"$f":"IF(M644=#REF!,0,1)","v":{"$error":"#REF!"}}]
["通信陸上","網走","2019-06-29","中学男子","走幅跳","名古屋玲二",529,"決","美幌北中",3,2.5,null,"走幅跳名古屋玲二",{"$f":"IF(M645=#REF!,0,1)","v":{"$error":"#REF!"}}]
["中体連地区","北見","2019-06-14","中学男子","走幅跳","茂木亮磨",496,"予","清里中",2,3.6,null,"走幅跳茂木亮磨",1]
["通信陸上","網走","2019-06-28","中学男子","走幅跳","野口蒼太",342,"予","北見小泉中",1,2.2000000000000002,null,"走幅跳野口蒼太",1]
["高校新人","網走","2019-08-23","高校男子","走幅跳","野崎竜矢",476,"決","網走南ヶ丘高",1,2.9,null,"走幅跳野崎竜矢",1]
["記録会３戦","網走","2019-07-14","中学男子","走幅跳","野村駿",368,"決","北見東陵中",1,1.4,null,"走幅跳野村駿",1]
["記録会４戦","北見","2019-08-04","中学女子","走幅跳","野村柚果",404,"決","北見北中",1,0.8,null,"走幅跳野村柚果",1]
["小学記録会","北見","2019-09-28","小学男子","走幅跳","野田将誠",259,"決","ｵﾎｰﾂｸｷｯｽﾞ",4,null,null,"走幅跳野田将誠",{"$f":"IF(M651=#REF!,0,1)","v":{"$error":"#REF!"}}]
["記録会３戦","網走","2019-07-14","中学男子","走幅跳","矢口新大",434,"決","清里中",2,0.5,null,"走幅跳矢口新大",1]
["中学新人","網走","2019-08-24","中学女子","走幅跳","矢田蒼那",282,"決","北見南中",2,3.4,null,"走幅跳矢田蒼那",1]
["記録会４戦","北見","2019-08-04","中学女子","走幅跳","矢田蒼梛",272,"決","北見南中",2,1.3,null,"走幅跳矢田蒼梛",1]
["高体連支部","北見","2019-05-23","高校女子","走幅跳","矢萩雪奈",538,"決","遠軽高",3,1.7,null,"走幅跳矢萩雪奈",1]
["記録会第１戦","北見","2019-04-28","高校女子","走幅跳","林ちひろ",524,"決","北見緑陵高",1,1.6,null,"走幅跳林ちひろ",{"$f":"IF(M656=#REF!,0,1)","v":{"$error":"#REF!"}}]
["高体連支部","北見","2019-05-23","高校男子","走幅跳","林愛斗",520,"決","北見緑陵高",3,0.7,null,"走幅跳林愛斗",{"$f":"IF(M657=#REF!,0,1)","v":{"$error":"#REF!"}}]
["中学新人","網走","2019-08-23","中学男子","走幅跳","林柚輔",390,"決","北見北中",1,-0.1,null,"走幅跳林柚輔",1]
["中学新人","網走","2019-08-24","中学女子","走幅跳","鈴木沙也加",344,"決","北見東陵中",1,1.6,null,"走幅跳鈴木沙也加",{"$f":"IF(M659=#REF!,0,1)","v":{"$error":"#REF!"}}]
["選手権","北見","2019-05-11","中学男子","走幅跳","鈴木侑輝",482,"決","遠軽中",3,1.5,null,"走幅跳鈴木侑輝",1]
["高校新人","網走","2019-08-23","高校男子","走幅跳","六渡和馬",557,"決","北見北斗高",1,2.1,null,"走幅跳六渡和馬",1]
["記録会４戦","北見","2019-08-04","中学男子","走幅跳","鷲尾征",476,"決","北見北光中",2,1.2,null,"走幅跳鷲尾征",1]
["選手権","北見","2019-05-12","小学男子","走幅跳","廣瀬太一",325,"決","ｵﾎｰﾂｸｷｯｽﾞ",5,0,null,"走幅跳廣瀬太一",{"$f":"IF(M663=#REF!,0,1)","v":{"$error":"#REF!"}}]
["全道小学","札幌","2019-07-15","小学女子","走幅跳","廣田彩華",392,"決","美幌RC",5,1.6,null,"走幅跳廣田彩華",1]
["選手権","北見","2019-05-11","中学女子","走幅跳","廣澤優々花",346,"決","北見東陵中",2,3.4,null,"走幅跳廣澤優々花",{"$f":"IF(M665=#REF!,0,1)","v":{"$error":"#REF!"}}]
["小学記録会","北見","2019-09-28","小学男子","走幅跳","櫻井晴",278,"決","ｵﾎｰﾂｸｷｯｽﾞ",4,null,null,"走幅跳櫻井晴",1]
["全道中学新人","千歳","2019-09-22","中学女子","走幅跳","澤向美樹",476,"決","北見常呂",1,0.6,null,"走幅跳澤向美樹",{"$f":"IF(M667=#REF!,0,1)","v":{"$error":"#REF!"}}]
["中体連地区","北見","2019-06-14","中学男子","走幅跳","萬龍来",447,"予","網走第一中",2,3.6,null,"走幅跳萬龍来",{"$f":"IF(M668=#REF!,0,1)","v":{"$error":"#REF!"}}]
["小学生ｵﾎｰﾂｸ","北見","2019-06-16","小学男子","走幅跳","齊藤快晴",325,"決","常呂陸上少年団",6,0,null,"走幅跳齊藤快晴",1]
["中学新人","網走","2019-08-24","中学女子","走幅跳","髙橋愛花",407,"決","美幌中",2,3.1,null,"走幅跳髙橋愛花",1]
["高体連支部","北見","2019-05-23","高校女子","走幅跳","髙橋菜摘",494,"決","北見柏陽高",2,2.7,null,"走幅跳髙橋菜摘",{"$f":"IF(M671=#REF!,0,1)","v":{"$error":"#REF!"}}]
["小学記録会","北見","2019-09-28","小学女子","走幅跳","髙橋碧衣",334,"決","常呂陸上少年団",5,null,null,"走幅跳髙橋碧衣",{"$f":"IF(M672=#REF!,0,1)","v":{"$error":"#REF!"}}]
["記録会４戦","北見","2019-08-04","高校男子","走幅跳","髙橋悠希",564,"決","北見北斗高",2,0,null,"走幅跳髙橋悠希",1]
["秋季陸上","網走","2019-09-08","中学男子","走幅跳","髙橋龍之介",378,"決","網走第四中",1,-1.2,null,"走幅跳髙橋龍之介",1]
["選手権","北見","2019-05-11","中学女子","走幅跳","髙田沙七",343,"決","北見北光中",3,1.8,null,"走幅跳髙田沙七",{"$f":"IF(M675=#REF!,0,1)","v":{"$error":"#REF!"}}]
["通信陸上","網走","2019-06-29","中学女子","走幅跳","髙木杏華",452,"決","北見北光中",3,3.7,null,"走幅跳髙木杏華",1]
["中学新人","網走","2019-08-24","中学女子","走幅跳","髙木千陽",408,"決","北見東陵中",2,3.8,null,"走幅跳髙木千陽",1]
["小学記録会","北見","2019-09-28","小学男子","砲丸投(2.721kg)","井田悠仁",570,"決","ｵﾎｰﾂｸｷｯｽﾞ",5,null,null,"砲丸投(2.721kg)井田悠仁",{"$f":"IF(M678=#REF!,0,1)","v":{"$error":"#REF!"}}]
["小学記録会","北見","2019-09-28","小学女子","砲丸投(2.721kg)","関谷楓花",702,"決","常呂陸上少年団",6,null,null,"砲丸投(2.721kg)関谷楓花",1]
["小学記録会","北見","2019-09-28","小学男子","砲丸投(2.721kg)","岩崎鼓太郎",805,"決","ｵﾎｰﾂｸｷｯｽﾞ",6,null,null,"砲丸投(2.721kg)岩崎鼓太郎",1]
["小学記録会","北見","2019-09-28","小学女子","砲丸投(2.721kg)","久保田颯歩",440,"決","知床斜里RC",5,null,null,"砲丸投(2.721kg)久保田颯歩",1]
["小学記録会","北見","2019-09-28","小学女子","砲丸投(2.721kg)","原田莉子",748,"決","ｵﾎｰﾂｸｷｯｽﾞ",6,null,null,"砲丸投(2.721kg)原田莉子",1]
["小学記録会","北見","2019-09-28","小学男子","砲丸投(2.721kg)","西迫知希",540,"決","ｵﾎｰﾂｸｷｯｽﾞ",5,null,null,"砲丸投(2.721kg)西迫知希",1]
["小学記録会","北見","2019-09-28","小学女子","砲丸投(2.721kg)","中村光",722,"決","常呂陸上少年団",6,null,null,"砲丸投(2.721kg)中村光",1]
["小学記録会","北見","2019-09-28","小学男子","砲丸投(2.721kg)","田中蒼司",632,"決","遠軽陸上ｸﾗﾌﾞ",6,null,null,"砲丸投(2.721kg)田中蒼司",1]
["小学記録会","北見","2019-09-28","小学女子","砲丸投(2.721kg)","田辺采子",582,"決","ｵﾎｰﾂｸｷｯｽﾞ",5,null,null,"砲丸投(2.721kg)田辺采子",1]
["小学記録会","北見","2019-09-28","小学男子","砲丸投(2.721kg)","本田愛斗",707,"決","網走陸上少年団",6,null,null,"砲丸投(2.721kg)本田愛斗",1]
["通信陸上","網走","2019-06-29","中学男子","砲丸投","スノーノア",1026,"予","網走第四中",3,null,null,"砲丸投スノーノア",{"$f":"IF(M688=M687,0,1)","v":1}]
["中学新人","網走","2019-08-23","中学男子","砲丸投","安達真優",625,"決","北見東陵中",1,null,null,"砲丸投安達真優",1]
["選手権","北見","2019-05-12","中学男子","砲丸投","安田遥",755,"決","雄武中",2,null,null,"砲丸投安田遥",{"$f":"IF(M690=#REF!,0,1)","v":{"$error":"#REF!"}}]
["秋季陸上","網走","2019-09-08","中学女子","砲丸投","安部遥香",592,"決","湧別中",1,null,null,"砲丸投安部遥香",1]
["秋季陸上","網走","2019-09-08","中学女子","砲丸投","伊藤椿",535,"決","湧別中",2,null,null,"砲丸投伊藤椿",{"$f":"IF(M692=#REF!,0,1)","v":{"$error":"#REF!"}}]
["通信陸上","網走","2019-06-28","中学女子","砲丸投","伊藤優果",522,"決","北見北光中",1,null,null,"砲丸投伊藤優果",1]
["秋季陸上","網走","2019-09-08","中学女子","砲丸投","伊藤里桜",573,"決","大空女満別中",1,null,null,"砲丸投伊藤里桜",1]
["記録会第１戦","北見","2019-04-28","中学男子","砲丸投","稲垣璃久",496,"決","北見北中",2,null,null,"砲丸投稲垣璃久",{"$f":"IF(M695=#REF!,0,1)","v":{"$error":"#REF!"}}]
["高体連支部","北見","2019-05-25","高校男子","砲丸投","臼井貴将",1239,"決","網走南ヶ丘高",2,null,null,"砲丸投臼井貴将",1]
["記録会４戦","北見","2019-08-04","中学女子","砲丸投","永本文香",816,"決","網走第三中",2,null,null,"砲丸投永本文香",1]
["中体連地区","北見","2019-06-14","中学男子","砲丸投","遠藤寿",585,"決","網走第二中",3,null,null,"砲丸投遠藤寿",1]
["通信陸上","網走","2019-06-28","中学女子","砲丸投","横山このか",655,"決","北見常呂中",1,null,null,"砲丸投横山このか",1]
["中体連地区","北見","2019-06-14","中学男子","砲丸投","横松大輝",521,"決","美幌中",2,null,null,"砲丸投横松大輝",1]
["高校新人","網走","2019-08-23","高校女子","砲丸投","岡沢奈菜",520,"決","清里高",1,null,null,"砲丸投岡沢奈菜",1]
["高体連支部","北見","2019-05-25","高校男子","砲丸投","夏野克規",764,"決","遠軽高",1,null,null,"砲丸投夏野克規",1]
["フィールド記録会","網走","2019-06-08","中学女子","砲丸投","鎌田絢萌",577,"決","斜里中",1,null,null,"砲丸投鎌田絢萌",1]
["全道小学","札幌","2019-07-15","小学女子","砲丸投","関谷楓花",673,"決","常呂陸上少年団",6,null,null,"砲丸投関谷楓花",1]
["高体連支部","北見","2019-05-25","高校男子","砲丸投","関野寛大",740,"決","北見商業高",1,null,null,"砲丸投関野寛大",1]
["記録会第１戦","北見","2019-04-28","中学男子","砲丸投","関澤陸",725,"決","北見光西中",3,null,null,{"$f":"E706&F706","v":"砲丸投関澤陸"},1]
["全道小学","札幌","2019-07-15","小学男子","砲丸投","岩崎鼓太郎",876,"決","ｵﾎｰﾂｸｷｯｽﾞ",6,null,null,"砲丸投岩崎鼓太郎",1]
["秋季陸上","網走","2019-09-07","中学男子","砲丸投","岩山航生",773,"決","斜里知床ｳﾄﾛ学校",2,null,null,"砲丸投岩山航生",1]
["通信陸上","網走","2019-06-29","中学男子","砲丸投","岩本楓摩",826,"決","美幌北中",2,null,null,"砲丸投岩本楓摩",{"$f":"IF(M709=#REF!,0,1)","v":{"$error":"#REF!"}}]
["記録会３戦","網走","2019-07-14","高校男子","砲丸投","亀谷拓矢",868,"決","日体大附属高",2,null,null,"砲丸投亀谷拓矢",{"$f":"IF(M710=#REF!,0,1)","v":{"$error":"#REF!"}}]
["中体連地区","北見","2019-06-14","中学男子","砲丸投","菊地琉生",1073,"決","網走第四中",3,null,null,"砲丸投菊地琉生",{"$f":"IF(M711=#REF!,0,1)","v":{"$error":"#REF!"}}]
["中学新人","網走","2019-08-24","中学男子","砲丸投","橘悠冬",865,"決","清里中",2,null,null,"砲丸投橘悠冬",1]
["フィールド記録会","網走","2019-06-08","小学女子","砲丸投","久保田颯歩",424,"決","知床斜里RC",5,null,null,"砲丸投久保田颯歩",{"$f":"IF(M713=#REF!,0,1)","v":{"$error":"#REF!"}}]
["記録会３戦","網走","2019-07-14","高校男子","砲丸投","橋立悠",755,"決","日体大附属高",2,null,null,"砲丸投橋立悠",1]
["中学新人","網走","2019-08-23","中学男子","砲丸投","近藤天空",630,"決","斜里中",1,null,null,"砲丸投近藤天空",{"$f":"IF(M715=#REF!,0,1)","v":{"$error":"#REF!"}}]
["中学新人","網走","2019-08-24","中学女子","砲丸投","金子幸恵",622,"決","大空東藻琴中",2,null,null,"砲丸投金子幸恵",{"$f":"IF(M716=#REF!,0,1)","v":{"$error":"#REF!"}}]
["中体連地区","北見","2019-06-15","中学男子","砲丸投","栗原明慎",672,"決","北見北光中",1,null,null,"砲丸投栗原明慎",{"$f":"IF(M717=#REF!,0,1)","v":{"$error":"#REF!"}}]
["通信陸上","網走","2019-06-28","中学女子","砲丸投","穴田音花",494,"決","北見北光中",1,null,null,"砲丸投穴田音花",1]
["選手権","北見","2019-05-12","中学女子","砲丸投","兼田桃香",1005,"決","北見常呂中",3,null,null,"砲丸投兼田桃香",1]
["全道小学","札幌","2019-07-15","小学女子","砲丸投","原田莉子",701,"決","ｵﾎｰﾂｸｷｯｽﾞ",6,null,null,"砲丸投原田莉子",1]
["高校新人","網走","2019-08-23","高校女子","砲丸投","後藤花夏",481,"決","遠軽高",1,null,null,"砲丸投後藤花夏",1]
["選手権","北見","2019-05-12","中学男子","砲丸投","工藤蒼己",608,"決","湧別中",2,null,null,"砲丸投工藤蒼己",1]
["記録会第２戦","網走","2019-05-05","高校男子","砲丸投","工藤颯斗",1493,"決","網走南ヶ丘高",3,null,null,"砲丸投工藤颯斗",{"$f":"IF(M723=#REF!,0,1)","v":{"$error":"#REF!"}}]
["国体予選","室蘭","2019-07-20","高校男子","砲丸投","高宮魁",1254,"決","雄武高",1,null,null,"砲丸投高宮魁",{"$f":"IF(M724=#REF!,0,1)","v":{"$error":"#REF!"}}]
["国体予選","室蘭","2019-07-20","高校男子","砲丸投","高宮成生",1429,"決","雄武高",1,null,null,"砲丸投高宮成生",1]
["高体連支部","北見","2019-05-25","高校男子","砲丸投","鴻巣勇人",980,"決","日体大附属高",1,null,null,"砲丸投鴻巣勇人",{"$f":"IF(M726=#REF!,0,1)","v":{"$error":"#REF!"}}]
["記録会第１戦","北見","2019-04-28","高校男子","砲丸投","佐川翔流",731,"決","遠軽高",1,null,null,"砲丸投佐川翔流",{"$f":"IF(M727=#REF!,0,1)","v":{"$error":"#REF!"}}]
["高体連支部","北見","2019-05-25","高校男子","砲丸投","佐川翔琉",709,"決","遠軽高",2,null,null,"砲丸投佐川翔琉",1]
["中学新人","網走","2019-08-24","中学女子","砲丸投","佐藤愛心",489,"決","雄武中",1,null,null,"砲丸投佐藤愛心",1]
["記録会第１戦","北見","2019-04-28","高校男子","砲丸投","佐藤一希",1087,"決","清里高",2,null,null,"砲丸投佐藤一希",1]
["中体連地区","北見","2019-06-14","中学男子","砲丸投","佐藤広大",506,"決","遠軽中",2,null,null,"砲丸投佐藤広大",1]
["秋季陸上","網走","2019-09-07","中学男子","砲丸投","佐藤太一",878,"決","紋別中",2,null,null,"砲丸投佐藤太一",1]
["高体連支部","北見","2019-05-25","高校男子","砲丸投","佐藤汰希",690,"決","興部高",2,null,null,"砲丸投佐藤汰希",{"$f":"IF(M733=#REF!,0,1)","v":{"$error":"#REF!"}}]
["中体連地区","北見","2019-06-15","中学男子","砲丸投","佐藤大斗",642,"決","斜里中",1,null,null,"砲丸投佐藤大斗",1]
["記録会第１戦","北見","2019-04-28","中学男子","砲丸投","佐藤瑠唯",749,"決","北見光西中",2,null,null,"砲丸投佐藤瑠唯",{"$f":"IF(M735=M734,0,1)","v":1}]
["通信陸上","網走","2019-06-29","中学男子","砲丸投","三条憲彦",731,"予","網走第四中",3,null,null,"砲丸投三条憲彦",1]
["通信陸上","網走","2019-06-29","中学男子","砲丸投","三塚知輝",984,"決","網走第四中",3,null,null,"砲丸投三塚知輝",1]
["中学新人","網走","2019-08-23","中学男子","砲丸投","山下渓斗",724,"決","湧別中",1,null,null,"砲丸投山下渓斗",1]
["選手権","北見","2019-05-11","高校男子","砲丸投","山谷黄太洋",1246,"決","日体大附属高",3,null,null,"砲丸投山谷黄太洋",{"$f":"IF(M739=#REF!,0,1)","v":{"$error":"#REF!"}}]
["選手権","北見","2019-05-11","高校女子","砲丸投","山田幸奈",1060,"決","網走桂陽高",3,null,null,"砲丸投山田幸奈",{"$f":"IF(M740=#REF!,0,1)","v":{"$error":"#REF!"}}]
["中学新人","網走","2019-08-24","中学男子","砲丸投","山田真生",827,"決","美幌中",2,null,null,"砲丸投山田真生",1]
["中学新人","網走","2019-08-23","中学男子","砲丸投","山田大成",679,"決","北見北中",1,null,null,"砲丸投山田大成",{"$f":"IF(M742=#REF!,0,1)","v":{"$error":"#REF!"}}]
["道選手権","網走","2019-08-10","一般女子","砲丸投","山内沙邪佳",1075,"決","札幌大",1,null,null,"砲丸投山内沙邪佳",1]
["記録会３戦","網走","2019-07-14","中学男子","砲丸投","志賀一斗",545,"決","北見東陵中",2,null,null,"砲丸投志賀一斗",1]
["記録会４戦","北見","2019-08-04","高校男子","砲丸投","似鳥斗也",650,"決","興部高",1,null,null,"砲丸投似鳥斗也",1]
["秋季陸上","網走","2019-09-08","中学女子","砲丸投","児玉夢月",863,"決","大空東藻琴中",2,null,null,"砲丸投児玉夢月",1]
["中体連地区","北見","2019-06-15","中学男子","砲丸投","児玉陽春",479,"決","北見高栄中",1,null,null,"砲丸投児玉陽春",{"$f":"IF(M747=#REF!,0,1)","v":{"$error":"#REF!"}}]
["中学新人","網走","2019-08-23","中学男子","砲丸投","柴田賢",820,"決","湧別中",1,null,null,"砲丸投柴田賢",{"$f":"IF(M748=#REF!,0,1)","v":{"$error":"#REF!"}}]
["通信陸上","網走","2019-06-29","中学男子","砲丸投","酒井柊優",571,"予","北見東陵中",1,null,null,"砲丸投酒井柊優",{"$f":"IF(M749=#REF!,0,1)","v":{"$error":"#REF!"}}]
["高体連支部","北見","2019-05-25","高校女子","砲丸投","舟木愛公",639,"決","遠軽高",1,null,null,"砲丸投舟木愛公",1]
["秋季陸上","網走","2019-09-07","一般男子","砲丸投","春名将志",1101,"決","ｵﾎｰﾂｸ陸協(春名)","般",null,null,"砲丸投春名将志",1]
["秋季陸上","網走","2019-09-07","中学男子","砲丸投","楯身優",681,"決","北見北中",2,null,null,"砲丸投楯身優",{"$f":"IF(M752=#REF!,0,1)","v":{"$error":"#REF!"}}]
["記録会第２戦","網走","2019-05-05","中学男子","砲丸投","所琉世",546,"決","北見光西中",2,null,null,"砲丸投所琉世",{"$f":"IF(M753=#REF!,0,1)","v":{"$error":"#REF!"}}]
["中学新人","網走","2019-08-24","中学女子","砲丸投","小河美月",810,"決","大空東藻琴中",1,null,null,"砲丸投小河美月",1]
["通信陸上","網走","2019-06-29","中学男子","砲丸投","小舘櫂飛",531,"予","北見北光中",2,null,null,"砲丸投小舘櫂飛",{"$f":"IF(M755=#REF!,0,1)","v":{"$error":"#REF!"}}]
["秋季陸上","網走","2019-09-08","中学女子","砲丸投","小沼奈月",583,"決","網走第二中",1,null,null,"砲丸投小沼奈月",1]
["通信陸上","網走","2019-06-28","中学女子","砲丸投","小川璃子",822,"決","網走第三中",3,null,null,"砲丸投小川璃子",{"$f":"IF(M757=#REF!,0,1)","v":{"$error":"#REF!"}}]
["記録会第１戦","北見","2019-04-28","中学女子","砲丸投","小川遼佳",742,"決","大空東藻琴中",3,null,null,"砲丸投小川遼佳",1]
["中体連地区","北見","2019-06-15","中学男子","砲丸投","小林樹生",819,"決","雄武中",1,null,null,"砲丸投小林樹生",1]
["中学新人","網走","2019-08-23","中学男子","砲丸投","松井凌雅",485,"決","北見東陵中",1,null,null,"砲丸投松井凌雅",{"$f":"IF(M760=#REF!,0,1)","v":{"$error":"#REF!"}}]
["中学新人","網走","2019-08-23","中学男子","砲丸投","松田陽向太",571,"決","北見東陵中",1,null,null,"砲丸投松田陽向太",1]
["高校新人","網走","2019-08-23","高校女子","砲丸投","松田瑠乃",541,"決","遠軽高",1,null,null,"砲丸投松田瑠乃",{"$f":"IF(M762=#REF!,0,1)","v":{"$error":"#REF!"}}]
["中体連地区","北見","2019-06-15","中学男子","砲丸投","上西翔",327,"決","美幌中",1,null,null,"砲丸投上西翔",1]
["全道高校","帯広","2019-06-19","高校女子","砲丸投","植村菜々",929,"予","遠軽高",3,null,null,"砲丸投植村菜々",1]
["秋季陸上","網走","2019-09-07","高校女子","砲丸投","植村葉月",786,"決","湧別高",3,null,null,"砲丸投植村葉月",1]
["高体連支部","北見","2019-05-25","高校女子","砲丸投","新藤彩音",545,"決","美幌高",1,null,null,"砲丸投新藤彩音",{"$f":"IF(M766=#REF!,0,1)","v":{"$error":"#REF!"}}]
["中学新人","網走","2019-08-24","中学男子","砲丸投","須藤晴人",941,"決","北見北中",2,null,null,"砲丸投須藤晴人",1]
["秋季陸上","網走","2019-09-07","中学男子","砲丸投","水野舜也",833,"決","北見温根湯中",2,null,null,"砲丸投水野舜也",{"$f":"IF(M768=#REF!,0,1)","v":{"$error":"#REF!"}}]
["フィールド記録会","網走","2019-06-08","中学女子","砲丸投","杉山吏湖",542,"決","斜里中",1,null,null,"砲丸投杉山吏湖",{"$f":"IF(M769=#REF!,0,1)","v":{"$error":"#REF!"}}]
["中学新人","網走","2019-08-24","中学女子","砲丸投","杉澤夏希",748,"決","大空東藻琴中",2,null,null,{"$f":"E770&F770","v":"砲丸投杉澤夏希"},1]
["記録会４戦","北見","2019-08-04","高校男子","砲丸投","清野陽喜",818,"決","北見柏陽高",1,null,null,"砲丸投清野陽喜",{"$f":"IF(M771=#REF!,0,1)","v":{"$error":"#REF!"}}]
["中体連地区","北見","2019-06-14","中学男子","砲丸投","西村海斗",483,"決","北見北光中",2,null,null,"砲丸投西村海斗",1]
["中学新人","網走","2019-08-24","中学女子","砲丸投","西塚凛華",798,"決","遠軽中",2,null,null,"砲丸投西塚凛華",1]
["秋季陸上","網走","2019-09-07","中学男子","砲丸投","青山直樹",758,"決","北見北光中",1,null,null,"砲丸投青山直樹",1]
["秋季陸上","網走","2019-09-07","高校女子","砲丸投","青木愛優凪",672,"決","常呂高",1,null,null,"砲丸投青木愛優凪",{"$f":"IF(M775=#REF!,0,1)","v":{"$error":"#REF!"}}]
["秋季陸上","網走","2019-09-07","高校女子","砲丸投","石原彩菜",837,"決","網走南ヶ丘高",1,null,null,"砲丸投石原彩菜",{"$f":"IF(M776=#REF!,0,1)","v":{"$error":"#REF!"}}]
["記録会３戦","網走","2019-07-14","中学男子","砲丸投","石原遥翔",503,"決","網走第四中",1,null,null,"砲丸投石原遥翔",{"$f":"IF(M777=#REF!,0,1)","v":{"$error":"#REF!"}}]
["全道高校","帯広","2019-06-21","高校男子","砲丸投","石田大洋",1361,"決","遠軽高",3,null,null,"砲丸投石田大洋",{"$f":"IF(M778=M777,0,1)","v":1}]
["中体連地区","北見","2019-06-15","中学女子","砲丸投","前川りん",915,"決","大空東藻琴中",3,null,null,"砲丸投前川りん",1]
["高校新人","網走","2019-08-23","高校女子","砲丸投","曽根美紅",670,"決","網走南ヶ丘高",1,null,null,"砲丸投曽根美紅",1]
["中学新人","網走","2019-08-24","中学女子","砲丸投","相馬夏好",882,"決","北見光西中",1,null,null,"砲丸投相馬夏好",1]
["高体連支部","北見","2019-05-25","高校男子","砲丸投","相澤陽紀",788,"決","雄武高",2,null,null,"砲丸投相澤陽紀",{"$f":"IF(M782=#REF!,0,1)","v":{"$error":"#REF!"}}]
["中学新人","網走","2019-08-24","中学女子","砲丸投","草岡美紀",558,"決","網走第二中",1,null,null,"砲丸投草岡美紀",{"$f":"IF(M783=#REF!,0,1)","v":{"$error":"#REF!"}}]
["中学新人","網走","2019-08-23","中学男子","砲丸投","草薙怜冶",502,"決","湧別中",1,null,null,"砲丸投草薙怜冶",{"$f":"IF(M784=#REF!,0,1)","v":{"$error":"#REF!"}}]
["中体連地区","北見","2019-06-15","中学男子","砲丸投","増山奈孝",702,"決","北見光西中",1,null,null,"砲丸投増山奈孝",{"$f":"IF(M785=#REF!,0,1)","v":{"$error":"#REF!"}}]
["高体連支部","北見","2019-05-25","高校男子","砲丸投","太田結陽",816,"決","清里高",2,null,null,"砲丸投太田結陽",1]
["フィールド記録会","網走","2019-06-08","小学男子","砲丸投","大友優雅",671,"決","知床斜里RC",6,null,null,"砲丸投大友優雅",1]
["記録会３戦","網走","2019-07-14","高校男子","砲丸投","大和大輝",778,"決","日体大附属高",1,null,null,"砲丸投大和大輝",1]
["選手権","北見","2019-05-12","中学女子","砲丸投","大澤未希",540,"決","清里中",1,null,null,"砲丸投大澤未希",{"$f":"IF(M789=#REF!,0,1)","v":{"$error":"#REF!"}}]
["通信陸上","網走","2019-06-29","中学男子","砲丸投","瀧澤亮太",707,"予","雄武中",2,null,null,"砲丸投瀧澤亮太",1]
["全道高校","帯広","2019-06-21","高校男子","砲丸投","池田尚人",1278,"予","網走桂陽高",3,null,null,"砲丸投池田尚人",1]
["全道高校新人","函館"," 9/20","高校女子","砲丸投","竹村花乃",988,"予","常呂高",1,null,null,"砲丸投竹村花乃",{"$f":"IF(M792=#REF!,0,1)","v":{"$error":"#REF!"}}]
["記録会４戦","北見","2019-08-04","中学男子","砲丸投","中原紘希",750,"決","北見高栄中",1,null,null,"砲丸投中原紘希",{"$f":"IF(M793=#REF!,0,1)","v":{"$error":"#REF!"}}]
["通信陸上","網走","2019-06-29","中学男子","砲丸投","中原太亜",713,"予","北見常呂中",2,null,null,"砲丸投中原太亜",{"$f":"IF(M794=#REF!,0,1)","v":{"$error":"#REF!"}}]
["記録会４戦","北見","2019-08-04","高校女子","砲丸投","中西樹奈",737,"決","北見藤高",1,null,null,"砲丸投中西樹奈",1]
["通信陸上","網走","2019-06-28","中学女子","砲丸投","中村のあ",546,"決","雄武中",1,null,null,"砲丸投中村のあ",1]
["小学生ｵﾎｰﾂｸ","北見","2019-06-16","小学男子","砲丸投","中村海杜",614,"決","知床斜里RC",6,null,null,"砲丸投中村海杜",1]
["全道小学","札幌","2019-07-15","小学女子","砲丸投","中村光",730,"決","常呂陸上少年団",6,null,null,"砲丸投中村光",1]
["フィールド記録会","網走","2019-06-08","小学男子","砲丸投","中村星汰",549,"決","知床斜里RC",6,null,null,"砲丸投中村星汰",1]
["高体連支部","北見","2019-05-25","高校男子","砲丸投","中村拓斗",777,"決","美幌高",3,null,null,"砲丸投中村拓斗",1]
["記録会４戦","北見","2019-08-04","中学女子","砲丸投","中島彩希",826,"決","北見常呂中",3,null,null,"砲丸投中島彩希",1]
["国体予選","室蘭","2019-07-20","高校男子","砲丸投","長廻湧丞",1085,"決","清里高",1,null,null,"砲丸投長廻湧丞",1]
["高体連支部","北見","2019-05-25","高校男子","砲丸投","長谷部岳斗",950,"決","北見工業高",3,null,null,"砲丸投長谷部岳斗",1]
["記録会３戦","網走","2019-07-14","中学女子","砲丸投","長尾優里愛",621,"決","大空東藻琴中",2,null,null,"砲丸投長尾優里愛",1]
["中学新人","網走","2019-08-23","中学男子","砲丸投","田刈子雄大",604,"決","北見北中",1,null,null,"砲丸投田刈子雄大",1]
["フィールド記録会","網走","2019-06-08","中学男子","砲丸投","田中達也",651,"決","網走第一中",3,null,null,"砲丸投田中達也",1]
["選手権","北見","2019-05-12","中学男子","砲丸投","渡邉日向",756,"決","網走第四中",1,null,null,"砲丸投渡邉日向",1]
["全道中学","旭川","2019-07-28","中学女子","砲丸投","唐川捺稀",978,"予","湧別中",3,null,null,"砲丸投唐川捺稀",1]
["記録会第２戦","網走","2019-05-05","高校女子","砲丸投","奈良雅",772,"決","北見柏陽高",3,null,null,"砲丸投奈良雅",{"$f":"IF(M809=#REF!,0,1)","v":{"$error":"#REF!"}}]
["中学新人","網走","2019-08-23","中学男子","砲丸投","二川響",710,"決","美幌中",1,null,null,"砲丸投二川響",1]
["高体連支部","北見","2019-05-25","高校男子","砲丸投","日下大夢",900,"決","紋別高",2,null,null,"砲丸投日下大夢",{"$f":"IF(M811=#REF!,0,1)","v":{"$error":"#REF!"}}]
["通信陸上","網走","2019-06-28","中学女子","砲丸投","白石光",1171,"決","北見光西中",3,null,null,"砲丸投白石光",{"$f":"IF(M812=#REF!,0,1)","v":{"$error":"#REF!"}}]
["秋季陸上","網走","2019-09-07","高校男子","砲丸投","白川楓",623,"決","興部高",1,null,null,"砲丸投白川楓",1]
["中体連地区","北見","2019-06-15","中学男子","砲丸投","白幡塁斗",822,"決","遠軽中",1,null,null,"砲丸投白幡塁斗",{"$f":"IF(M814=#REF!,0,1)","v":{"$error":"#REF!"}}]
["秋季陸上","網走","2019-09-07","高校男子","砲丸投","畑内蒼汰",836,"決","紋別高",2,null,null,"砲丸投畑内蒼汰",1]
["中学新人","網走","2019-08-24","中学女子","砲丸投","畠野美優",720,"決","北見光西中",2,null,null,"砲丸投畠野美優",{"$f":"IF(M816=#REF!,0,1)","v":{"$error":"#REF!"}}]
["高体連支部","北見","2019-05-25","高校男子","砲丸投","八重樫春人",686,"決","北見商業高",1,null,null,"砲丸投八重樫春人",{"$f":"IF(M817=#REF!,0,1)","v":{"$error":"#REF!"}}]
["秋季陸上","網走","2019-09-08","中学女子","砲丸投","服部茜",740,"決","大空女満別中",1,null,null,"砲丸投服部茜",1]
["通信陸上","網走","2019-06-29","中学男子","砲丸投","服部一吹",601,"予","清里中",3,null,null,"砲丸投服部一吹",{"$f":"IF(M819=#REF!,0,1)","v":{"$error":"#REF!"}}]
["全道中学","旭川","2019-07-27","中学男子","砲丸投","服部拓美",1138,"予","北見北光中",3,null,null,"砲丸投服部拓美",1]
["高体連支部","北見","2019-05-25","高校女子","砲丸投","福井優月",607,"決","北見商業高",2,null,null,"砲丸投福井優月",1]
["通信陸上","網走","2019-06-29","中学男子","砲丸投","平佐太一",561,"予","網走第三中",2,null,null,"砲丸投平佐太一",1]
["記録会第２戦","網走","2019-05-05","高校男子","砲丸投","平吹鷹也",735,"決","北見柏陽高",3,null,null,"砲丸投平吹鷹也",{"$f":"IF(M823=#REF!,0,1)","v":{"$error":"#REF!"}}]
["小学生ｵﾎｰﾂｸ","北見","2019-06-16","小学男子","砲丸投","平澤宗也",643,"決","ｵﾎｰﾂｸｷｯｽﾞ",6,null,null,"砲丸投平澤宗也",1]
["中学新人","網走","2019-08-24","中学女子","砲丸投","片川天姫",588,"決","雄武中",1,null,null,"砲丸投片川天姫",{"$f":"IF(M825=M824,0,1)","v":1}]
["通信陸上","網走","2019-06-29","中学男子","砲丸投","豊田琉偉",851,"決","遠軽中",3,null,null,"砲丸投豊田琉偉",1]
["中体連地区","北見","2019-06-14","中学男子","砲丸投","北村隼人",493,"決","北見北光中",2,null,null,"砲丸投北村隼人",1]
["高体連支部","北見","2019-05-25","高校女子","砲丸投","牧田あみ",762,"決","網走南ヶ丘高",3,null,null,"砲丸投牧田あみ",1]
["道選手権","網走","2019-08-10","一般男子","砲丸投","本間勝人",1479,"決","オホーツクAC",0,null,null,"砲丸投本間勝人",1]
["全道小学","札幌","2019-07-15","小学男子","砲丸投","本田愛斗",709,"決","網走陸上少年団",6,null,null,"砲丸投本田愛斗",{"$f":"IF(M830=#REF!,0,1)","v":{"$error":"#REF!"}}]
["フィールド記録会","網走","2019-06-08","小学男子","砲丸投","本田櫂晴",566,"決","ｵﾎｰﾂｸｷｯｽﾞ",5,null,null,"砲丸投本田櫂晴",1]
["記録会第１戦","北見","2019-04-28","中学男子","砲丸投","木内健太郎",535,"決","遠軽中",2,null,null,"砲丸投木内健太郎",1]
["国体予選","室蘭","2019-07-20","高校女子","砲丸投","木幡遥香",1143,"決","網走南ヶ丘高",2,null,null,"砲丸投木幡遥香",1]
["高校新人","網走","2019-08-23","高校男子","砲丸投","野崎竜矢",698,"決","網走南ヶ丘高",1,null,null,{"$f":"E834&F834","v":"砲丸投野崎竜矢"},{"$f":"IF(M834=#REF!,0,1)","v":{"$error":"#REF!"}}]
["高体連支部","北見","2019-05-25","高校男子","砲丸投","野中涼汰",919,"決","北見柏陽高",3,null,null,"砲丸投野中涼汰",1]
["道ジュニア","釧路","2019-09-01","中学男子","砲丸投","野長瀬鉄騎",993,"決","北見高栄中",2,null,null,"砲丸投野長瀬鉄騎",1]
["中体連地区","北見","2019-06-15","中学男子","砲丸投","林和弘",782,"決","清里中",1,null,null,"砲丸投林和弘",{"$f":"IF(M837=#REF!,0,1)","v":{"$error":"#REF!"}}]
["秋季陸上","網走","2019-09-07","中学男子","砲丸投","鈴木康世",1002,"決","北見高栄中",3,null,null,"砲丸投鈴木康世",1]
["中学新人","網走","2019-08-24","中学男子","砲丸投","鈴木昂英",553,"決","北見高栄中",1,null,null,"砲丸投鈴木昂英",{"$f":"IF(M839=#REF!,0,1)","v":{"$error":"#REF!"}}]
["全道高校新人","函館"," 9/19","高校男子","砲丸投","鈴木悠斗",992,"予","北見柏陽高",2,null,null,"砲丸投鈴木悠斗",1]
["秋季陸上","網走","2019-09-08","中学女子","砲丸投","麓妃那",603,"決","北見高栄中",1,null,null,"砲丸投麓妃那",1]
["中学新人","網走","2019-08-24","中学男子","砲丸投","和田湊",629,"決","紋別中",2,null,null,"砲丸投和田湊",{"$f":"IF(M842=#REF!,0,1)","v":{"$error":"#REF!"}}]
["記録会第１戦","北見","2019-04-28","中学男子","砲丸投","橫松大輝",640,"決","美幌中",2,null,null,"砲丸投橫松大輝",1]

{"sheet":"種目毎","index":1,"n_rows":103,"n_cols":36,"rows_kept":103,"cut":false,"hidden":false,"merged":[[49,8,49,9],[50,8,50,9],[51,8,51,9],[52,8,52,9],[0,0,0,10],[0,11,0,12],[0,18,0,22],[40,8,40,9],[41,8,41,9],[42,8,42,9],[43,8,43,9],[44,8,44,9],[45,8,45,9],[46,8,46,9],[47,8,47,9],[48,8,48,9],[31,8,31,9],[32,8,32,9],[33,8,33,9],[34,8,34,9],[35,8,35,9],[36,8,36,9],[37,8,37,9],[38,8,38,9],[39,8,39,9],[22,8,22,9],[23,8,23,9],[24,8,24,9],[25,8,25,9],[26,8,26,9],[27,8,27,9],[28,8,28,9],[29,8,29,9],[30,8,30,9],[13,8,13,9],[14,8,14,9],[15,8,15,9],[16,8,16,9],[17,8,17,9],[18,8,18,9],[19,8,19,9],[20,8,20,9],[21,8,21,9],[4,8,4,9],[5,8,5,9],[6,8,6,9],[7,8,7,9],[8,8,8,9],[9,8,9,9],[10,8,10,9],[11,8,11,9],[12,8,12,9],[52,3,52,5],[52,6,52,7],[47,3,47,5],[47,6,47,7],[48,3,48,5],[48,6,48,7],[49,3,49,5],[49,6,49,7],[44,3,44,5],[44,6,44,7],[45,3,45,5],[45,6,45,7],[46,3,46,5],[46,6,46,7],[35,3,35,5],[35,6,35,7],[36,3,36,5],[36,6,36,7],[37,3,37,5],[37,6,37,7],[50,3,50,5],[50,6,50,7],[51,3,51,5],[51,6,51,7],[41,3,41,5],[41,6,41,7],[42,3,42,5],[42,6,42,7],[43,3,43,5],[43,6,43,7],[38,3,38,5],[38,6,38,7],[39,3,39,5],[39,6,39,7],[40,3,40,5],[40,6,40,7],[34,3,34,5],[34,6,34,7],[29,3,29,5],[29,6,29,7],[30,3,30,5],[30,6,30,7],[31,3,31,5],[31,6,31,7],[26,3,26,5],[26,6,26,7],[27,3,27,5],[27,6,27,7],[28,3,28,5],[28,6,28,7],[17,3,17,5],[17,6,17,7],[18,3,18,5],[18,6,18,7],[19,3,19,5],[19,6,19,7],[32,3,32,5],[32,6,32,7],[33,3,33,5],[33,6,33,7],[23,3,23,5],[23,6,23,7],[24,3,24,5],[24,6,24,7],[25,3,25,5],[25,6,25,7],[20,3,20,5],[20,6,20,7],[21,3,21,5],[21,6,21,7],[22,3,22,5],[22,6,22,7],[7,3,7,5],[7,6,7,7],[8,3,8,5],[8,6,8,7],[9,3,9,5],[9,6,9,7],[10,3,10,5],[10,6,10,7],[11,3,11,5],[46,14,46,16],[47,14,47,16],[17,18,17,20],[18,18,18,20],[19,18,19,20],[20,18,20,20],[21,18,21,20],[52,18,52,20],[47,18,47,20],[48,18,48,20],[49,18,49,20],[50,18,50,20],[51,18,51,20],[42,18,42,20],[43,18,43,20],[44,18,44,20],[45,18,45,20],[46,18,46,20],[37,18,37,20],[38,18,38,20],[39,18,39,20],[40,18,40,20],[41,18,41,20],[28,18,28,20],[18,14,18,16],[19,14,19,16],[31,18,31,20],[22,18,22,20],[23,18,23,20],[24,18,24,20],[25,18,25,20],[26,18,26,20],[45,14,45,16],[29,18,29,20],[30,18,30,20],[13,18,13,20],[14,18,14,20],[15,18,15,20],[16,18,16,20],[32,18,32,20],[33,18,33,20],[34,18,34,20],[35,18,35,20],[36,18,36,20],[27,18,27,20],[4,18,4,20],[5,18,5,20],[6,18,6,20],[7,18,7,20],[8,18,8,20],[9,18,9,20],[10,18,10,20],[11,18,11,20],[12,18,12,20],[50,14,50,16],[51,14,51,16],[52,14,52,16],[14,14,14,16],[5,14,5,16],[6,14,6,16],[7,14,7,16],[8,14,8,16],[9,14,9,16],[40,14,40,16],[41,14,41,16],[42,14,42,16],[43,14,43,16],[44,14,44,16],[35,14,35,16],[36,14,36,16],[37,14,37,16],[38,14,38,16],[39,14,39,16],[30,14,30,16],[31,14,31,16],[48,14,48,16],[49,14,49,16],[17,14,17,16],[38,10,38,13],[39,10,39,13],[40,10,40,13],[41,10,41,13],[42,10,42,13],[20,14,20,16],[21,14,21,16],[22,14,22,16],[23,14,23,16],[24,14,24,16],[32,14,32,16],[33,14,33,16],[34,14,34,16],[25,14,25,16],[26,14,26,16],[27,14,27,16],[28,14,28,16],[29,14,29,16],[48,10,48,13],[49,10,49,13],[50,10,50,13],[51,10,51,13],[52,10,52,13],[43,10,43,13],[44,10,44,13],[45,10,45,13],[46,10,46,13],[47,10,47,13],[2,18,2,20],[33,10,33,13],[34,10,34,13],[35,10,35,13],[36,10,36,13],[37,10,37,13],[28,10,28,13],[29,10,29,13],[30,10,30,13],[31,10,31,13],[32,10,32,13],[23,10,23,13],[24,10,24,13],[25,10,25,13],[26,10,26,13],[27,10,27,13],[18,10,18,13],[19,10,19,13],[20,10,20,13],[21,10,21,13],[22,10,22,13],[3,14,3,16],[3,18,3,20],[4,14,4,16],[16,6,16,7],[11,6,11,7],[12,3,12,5],[12,6,12,7],[13,3,13,5],[13,6,13,7],[2,8,2,9],[3,8,3,9],[0,16,0,17],[0,13,0,15],[2,10,2,13],[2,14,2,16],[10,14,10,16],[11,14,11,16],[12,14,12,16],[13,14,13,16],[15,14,15,16],[16,14,16,16],[4,3,4,5],[4,6,4,7],[5,3,5,5],[5,6,5,7],[6,3,6,5],[6,6,6,7],[2,6,2,7],[2,3,2,5],[13,10,13,13],[14,10,14,13],[15,10,15,13],[16,10,16,13],[17,10,17,13],[8,10,8,13],[9,10,9,13],[10,10,10,13],[11,10,11,13],[12,10,12,13],[3,10,3,13],[4,10,4,13],[5,10,5,13],[6,10,6,13],[7,10,7,13],[3,3,3,5],[3,6,3,7],[14,3,14,5],[14,6,14,7],[15,3,15,5],[15,6,15,7],[16,3,16,5],[53,3,53,5],[53,6,53,7],[53,8,53,9],[53,10,53,13],[53,14,53,16],[53,18,53,20],[54,3,54,5],[54,6,54,7],[54,8,54,9],[54,10,54,13],[54,14,54,16],[54,18,54,20],[55,3,55,5],[55,6,55,7],[55,8,55,9],[55,10,55,13],[55,14,55,16],[55,18,55,20],[56,3,56,5],[56,6,56,7],[56,8,56,9],[56,10,56,13],[56,14,56,16],[56,18,56,20],[57,3,57,5],[57,6,57,7],[57,8,57,9],[57,10,57,13],[57,14,57,16],[57,18,57,20],[58,3,58,5],[58,6,58,7],[58,8,58,9],[58,10,58,13],[58,14,58,16],[58,18,58,20],[59,3,59,5],[59,6,59,7],[59,8,59,9],[59,10,59,13],[59,14,59,16],[59,18,59,20],[60,3,60,5],[60,6,60,7],[60,8,60,9],[60,10,60,13],[60,14,60,16],[60,18,60,20],[61,3,61,5],[61,6,61,7],[61,8,61,9],[61,10,61,13],[61,14,61,16],[61,18,61,20],[62,3,62,5],[62,6,62,7],[62,8,62,9],[62,10,62,13],[62,14,62,16],[62,18,62,20],[63,3,63,5],[63,6,63,7],[63,8,63,9],[63,10,63,13],[63,14,63,16],[63,18,63,20],[64,3,64,5],[64,6,64,7],[64,8,64,9],[64,10,64,13],[64,14,64,16],[64,18,64,20],[65,3,65,5],[65,6,65,7],[65,8,65,9],[65,10,65,13],[65,14,65,16],[65,18,65,20],[66,3,66,5],[66,6,66,7],[66,8,66,9],[66,10,66,13],[66,14,66,16],[66,18,66,20],[67,3,67,5],[67,6,67,7],[67,8,67,9],[67,10,67,13],[67,14,67,16],[67,18,67,20],[68,3,68,5],[68,6,68,7],[68,8,68,9],[68,10,68,13],[68,14,68,16],[68,18,68,20],[69,3,69,5],[69,6,69,7],[69,8,69,9],[69,10,69,13],[69,14,69,16],[69,18,69,20],[70,3,70,5],[70,6,70,7],[70,8,70,9],[70,10,70,13],[70,14,70,16],[70,18,70,20],[71,3,71,5],[71,6,71,7],[71,8,71,9],[71,10,71,13],[71,14,71,16],[71,18,71,20],[72,3,72,5],[72,6,72,7],[72,8,72,9],[72,10,72,13],[72,14,72,16],[72,18,72,20],[73,3,73,5],[73,6,73,7],[73,8,73,9],[73,10,73,13],[73,14,73,16],[73,18,73,20],[74,3,74,5],[74,6,74,7],[74,8,74,9],[74,10,74,13],[74,14,74,16],[74,18,74,20],[75,3,75,5],[75,6,75,7],[75,8,75,9],[75,10,75,13],[75,14,75,16],[75,18,75,20],[76,3,76,5],[76,6,76,7],[76,8,76,9],[76,10,76,13],[76,14,76,16],[76,18,76,20],[77,3,77,5],[77,6,77,7],[77,8,77,9],[77,10,77,13],[77,14,77,16],[77,18,77,20],[78,3,78,5],[78,6,78,7],[78,8,78,9],[78,10,78,13],[78,14,78,16],[78,18,78,20],[79,3,79,5],[79,6,79,7],[79,8,79,9],[79,10,79,13],[79,14,79,16],[79,18,79,20],[80,3,80,5],[80,6,80,7],[80,8,80,9],[80,10,80,13],[80,14,80,16],[80,18,80,20],[81,3,81,5],[81,6,81,7],[81,8,81,9],[81,10,81,13],[81,14,81,16],[81,18,81,20],[82,3,82,5],[82,6,82,7],[82,8,82,9],[82,10,82,13],[82,14,82,16],[82,18,82,20],[83,3,83,5],[83,6,83,7],[83,8,83,9],[83,10,83,13],[83,14,83,16],[83,18,83,20],[84,3,84,5],[84,6,84,7],[84,8,84,9],[84,10,84,13],[84,14,84,16],[84,18,84,20],[85,3,85,5],[85,6,85,7],[85,8,85,9],[85,10,85,13],[85,14,85,16],[85,18,85,20],[86,3,86,5],[86,6,86,7],[86,8,86,9],[86,10,86,13],[86,14,86,16],[86,18,86,20],[87,3,87,5],[87,6,87,7],[87,8,87,9],[87,10,87,13],[87,14,87,16],[87,18,87,20],[88,3,88,5],[88,6,88,7],[88,8,88,9],[88,10,88,13],[88,14,88,16],[88,18,88,20],[89,3,89,5],[89,6,89,7],[89,8,89,9],[89,10,89,13],[89,14,89,16],[89,18,89,20],[90,3,90,5],[90,6,90,7],[90,8,90,9],[90,10,90,13],[90,14,90,16],[90,18,90,20],[91,3,91,5],[91,6,91,7],[91,8,91,9],[91,10,91,13],[91,14,91,16],[91,18,91,20],[92,3,92,5],[92,6,92,7],[92,8,92,9],[92,10,92,13],[92,14,92,16],[92,18,92,20],[93,3,93,5],[93,6,93,7],[93,8,93,9],[93,10,93,13],[93,14,93,16],[93,18,93,20],[94,3,94,5],[94,6,94,7],[94,8,94,9],[94,10,94,13],[94,14,94,16],[94,18,94,20],[95,3,95,5],[95,6,95,7],[95,8,95,9],[95,10,95,13],[95,14,95,16],[95,18,95,20],[96,3,96,5],[96,6,96,7],[96,8,96,9],[96,10,96,13],[96,14,96,16],[96,18,96,20],[97,3,97,5],[97,6,97,7],[97,8,97,9],[97,10,97,13],[97,14,97,16],[97,18,97,20],[98,3,98,5],[98,6,98,7],[98,8,98,9],[98,10,98,13],[98,14,98,16],[98,18,98,20],[99,3,99,5],[99,6,99,7],[99,8,99,9],[99,10,99,13],[99,14,99,16],[99,18,99,20],[100,3,100,5],[100,6,100,7],[100,8,100,9],[100,10,100,13],[100,14,100,16],[100,18,100,20],[101,3,101,5],[101,6,101,7],[101,8,101,9],[101,10,101,13],[101,14,101,16],[101,18,101,20],[102,3,102,5],[102,6,102,7],[102,8,102,9],[102,10,102,13],[102,14,102,16],[102,18,102,20]]}
["R01　ｵﾎｰﾂｸ陸協記録集計",null,null,null,null,null,null,null,null,null,null,"種別",null,"中学男子",null,null,"種目",null,"走幅跳",null,null,null,null,null,null,"競技会名","競技場","競技実施月日","クラス","種目","選手／チーム","記録","ラウンド","所属","学年","風速"]
[]
["全順",null,"Rank","競技会名",null,null,"競技場",null,"実施日",null,"選手",null,null,null,"記録",null,null,"R","所属",null,null,"年","風"]
[1,{"$f":"IF(COUNTIF($K$4:N4,K4)=1,1,0)","v":1},1,{"$f":"VLOOKUP($N$1&$S$1&A4,抽出!$B$4:$O$903,6,FALSE)","v":"中体連地区"},null,null,{"$f":"VLOOKUP($N$1&$S$1&A4,抽出!$B$4:$O$903,7,FALSE)","v":"北見"},null,{"$f":"VLOOKUP($N$1&$S$1&A4,抽出!$B$4:$O$903,8,FALSE)","v":"2019-06-15"},null,{"$f":"VLOOKUP($N$1&$S$1&A4,抽出!$B$4:$O$903,9,FALSE)","v":"西迫篤志"},null,null,null,{"$f":"VLOOKUP($N$1&$S$1&A4,抽出!$B$4:$O$903,10,FALSE)","v":659},null,null,{"$f":"VLOOKUP($N$1&$S$1&A4,抽出!$B$4:$O$903,11,FALSE)","v":"決"},{"$f":"VLOOKUP($N$1&$S$1&A4,抽出!$B$4:$O$903,12,FALSE)","v":"北見北中"},null,null,{"$f":"VLOOKUP($N$1&$S$1&A4,抽出!$B$4:$O$903,13,FALSE)","v":3},{"$f":"VLOOKUP($N$1&$S$1&A4,抽出!$B$4:$O$903,14,FALSE)","v":1.9},null,null,"小学男子","小男"]
[2,{"$f":"IF(COUNTIF($K$4:N5,K5)=1,1,0)","v":1},{"$f":"IF(B5=0,\"\",SUM($B$4:B5))","v":2},{"$f":"VLOOKUP($N$1&$S$1&A5,抽出!$B$4:$O$903,6,FALSE)","v":"フィールド記録会"},null,null,{"$f":"VLOOKUP($N$1&$S$1&A5,抽出!$B$4:$O$903,7,FALSE)","v":"網走"},null,{"$f":"VLOOKUP($N$1&$S$1&A5,抽出!$B$4:$O$903,8,FALSE)","v":"2019-06-08"},null,{"$f":"VLOOKUP($N$1&$S$1&A5,抽出!$B$4:$O$903,9,FALSE)","v":"大水颯太"},null,null,null,{"$f":"VLOOKUP($N$1&$S$1&A5,抽出!$B$4:$O$903,10,FALSE)","v":639},null,null,{"$f":"VLOOKUP($N$1&$S$1&A5,抽出!$B$4:$O$903,11,FALSE)","v":"決"},{"$f":"VLOOKUP($N$1&$S$1&A5,抽出!$B$4:$O$903,12,FALSE)","v":"雄武中"},null,null,{"$f":"VLOOKUP($N$1&$S$1&A5,抽出!$B$4:$O$903,13,FALSE)","v":3},{"$f":"VLOOKUP($N$1&$S$1&A5,抽出!$B$4:$O$903,14,FALSE)","v":3.3},null,null,"小学女子","小女",null,"走幅跳"]
[3,{"$f":"IF(COUNTIF($K$4:N6,K6)=1,1,0)","v":1},{"$f":"IF(B6=0,\"\",SUM($B$4:B6))","v":3},{"$f":"VLOOKUP($N$1&$S$1&A6,抽出!$B$4:$O$903,6,FALSE)","v":"全道中学新人"},null,null,{"$f":"VLOOKUP($N$1&$S$1&A6,抽出!$B$4:$O$903,7,FALSE)","v":"千歳"},null,{"$f":"VLOOKUP($N$1&$S$1&A6,抽出!$B$4:$O$903,8,FALSE)","v":"2019-09-21"},null,{"$f":"VLOOKUP($N$1&$S$1&A6,抽出!$B$4:$O$903,9,FALSE)","v":"金澤世凪"},null,null,null,{"$f":"VLOOKUP($N$1&$S$1&A6,抽出!$B$4:$O$903,10,FALSE)","v":607},null,null,{"$f":"VLOOKUP($N$1&$S$1&A6,抽出!$B$4:$O$903,11,FALSE)","v":"決"},{"$f":"VLOOKUP($N$1&$S$1&A6,抽出!$B$4:$O$903,12,FALSE)","v":"斜里"},null,null,{"$f":"VLOOKUP($N$1&$S$1&A6,抽出!$B$4:$O$903,13,FALSE)","v":2},{"$f":"VLOOKUP($N$1&$S$1&A6,抽出!$B$4:$O$903,14,FALSE)","v":3.5},null,null,"中学男子","中男",null,"三段跳"]
[4,{"$f":"IF(COUNTIF($K$4:N7,K7)=1,1,0)","v":1},{"$f":"IF(B7=0,\"\",SUM($B$4:B7))","v":4},{"$f":"VLOOKUP($N$1&$S$1&A7,抽出!$B$4:$O$903,6,FALSE)","v":"通信陸上"},null,null,{"$f":"VLOOKUP($N$1&$S$1&A7,抽出!$B$4:$O$903,7,FALSE)","v":"網走"},null,{"$f":"VLOOKUP($N$1&$S$1&A7,抽出!$B$4:$O$903,8,FALSE)","v":"2019-06-29"},null,{"$f":"VLOOKUP($N$1&$S$1&A7,抽出!$B$4:$O$903,9,FALSE)","v":"中嶋優斗"},null,null,null,{"$f":"VLOOKUP($N$1&$S$1&A7,抽出!$B$4:$O$903,10,FALSE)","v":595},null,null,{"$f":"VLOOKUP($N$1&$S$1&A7,抽出!$B$4:$O$903,11,FALSE)","v":"決"},{"$f":"VLOOKUP($N$1&$S$1&A7,抽出!$B$4:$O$903,12,FALSE)","v":"北見光西中"},null,null,{"$f":"VLOOKUP($N$1&$S$1&A7,抽出!$B$4:$O$903,13,FALSE)","v":3},{"$f":"VLOOKUP($N$1&$S$1&A7,抽出!$B$4:$O$903,14,FALSE)","v":2.8},null,null,"中学女子","中女",null,"砲丸投"]
[5,{"$f":"IF(COUNTIF($K$4:N8,K8)=1,1,0)","v":1},{"$f":"IF(B8=0,\"\",SUM($B$4:B8))","v":5},{"$f":"VLOOKUP($N$1&$S$1&A8,抽出!$B$4:$O$903,6,FALSE)","v":"中体連地区"},null,null,{"$f":"VLOOKUP($N$1&$S$1&A8,抽出!$B$4:$O$903,7,FALSE)","v":"北見"},null,{"$f":"VLOOKUP($N$1&$S$1&A8,抽出!$B$4:$O$903,8,FALSE)","v":"2019-06-15"},null,{"$f":"VLOOKUP($N$1&$S$1&A8,抽出!$B$4:$O$903,9,FALSE)","v":"関根至恩"},null,null,null,{"$f":"VLOOKUP($N$1&$S$1&A8,抽出!$B$4:$O$903,10,FALSE)","v":580},null,null,{"$f":"VLOOKUP($N$1&$S$1&A8,抽出!$B$4:$O$903,11,FALSE)","v":"決"},{"$f":"VLOOKUP($N$1&$S$1&A8,抽出!$B$4:$O$903,12,FALSE)","v":"北見北光中"},null,null,{"$f":"VLOOKUP($N$1&$S$1&A8,抽出!$B$4:$O$903,13,FALSE)","v":3},{"$f":"VLOOKUP($N$1&$S$1&A8,抽出!$B$4:$O$903,14,FALSE)","v":2},null,null,"高校男子","高男",null,"円盤投"]
[6,{"$f":"IF(COUNTIF($K$4:N9,K9)=1,1,0)","v":1},{"$f":"IF(B9=0,\"\",SUM($B$4:B9))","v":6},{"$f":"VLOOKUP($N$1&$S$1&A9,抽出!$B$4:$O$903,6,FALSE)","v":"記録会第１戦"},null,null,{"$f":"VLOOKUP($N$1&$S$1&A9,抽出!$B$4:$O$903,7,FALSE)","v":"北見"},null,{"$f":"VLOOKUP($N$1&$S$1&A9,抽出!$B$4:$O$903,8,FALSE)","v":"2019-04-28"},null,{"$f":"VLOOKUP($N$1&$S$1&A9,抽出!$B$4:$O$903,9,FALSE)","v":"長谷川佳祐"},null,null,null,{"$f":"VLOOKUP($N$1&$S$1&A9,抽出!$B$4:$O$903,10,FALSE)","v":575},null,null,{"$f":"VLOOKUP($N$1&$S$1&A9,抽出!$B$4:$O$903,11,FALSE)","v":"決"},{"$f":"VLOOKUP($N$1&$S$1&A9,抽出!$B$4:$O$903,12,FALSE)","v":"網走第二中"},null,null,{"$f":"VLOOKUP($N$1&$S$1&A9,抽出!$B$4:$O$903,13,FALSE)","v":2},{"$f":"VLOOKUP($N$1&$S$1&A9,抽出!$B$4:$O$903,14,FALSE)","v":0.7},null,null,"高校女子","高女",null,"ハンマー投"]
[7,{"$f":"IF(COUNTIF($K$4:N10,K10)=1,1,0)","v":1},{"$f":"IF(B10=0,\"\",SUM($B$4:B10))","v":7},{"$f":"VLOOKUP($N$1&$S$1&A10,抽出!$B$4:$O$903,6,FALSE)","v":"道ジュニア"},null,null,{"$f":"VLOOKUP($N$1&$S$1&A10,抽出!$B$4:$O$903,7,FALSE)","v":"釧路"},null,{"$f":"VLOOKUP($N$1&$S$1&A10,抽出!$B$4:$O$903,8,FALSE)","v":"2019-09-01"},null,{"$f":"VLOOKUP($N$1&$S$1&A10,抽出!$B$4:$O$903,9,FALSE)","v":"荒木颯葵"},null,null,null,{"$f":"VLOOKUP($N$1&$S$1&A10,抽出!$B$4:$O$903,10,FALSE)","v":547},null,null,{"$f":"VLOOKUP($N$1&$S$1&A10,抽出!$B$4:$O$903,11,FALSE)","v":"決"},{"$f":"VLOOKUP($N$1&$S$1&A10,抽出!$B$4:$O$903,12,FALSE)","v":"北見小泉中"},null,null,{"$f":"VLOOKUP($N$1&$S$1&A10,抽出!$B$4:$O$903,13,FALSE)","v":3},{"$f":"VLOOKUP($N$1&$S$1&A10,抽出!$B$4:$O$903,14,FALSE)","v":1.4},null,null,"一般男子","一男",null,"やり投"]
[8,{"$f":"IF(COUNTIF($K$4:N11,K11)=1,1,0)","v":1},{"$f":"IF(B11=0,\"\",SUM($B$4:B11))","v":8},{"$f":"VLOOKUP($N$1&$S$1&A11,抽出!$B$4:$O$903,6,FALSE)","v":"記録会４戦"},null,null,{"$f":"VLOOKUP($N$1&$S$1&A11,抽出!$B$4:$O$903,7,FALSE)","v":"北見"},null,{"$f":"VLOOKUP($N$1&$S$1&A11,抽出!$B$4:$O$903,8,FALSE)","v":"2019-08-04"},null,{"$f":"VLOOKUP($N$1&$S$1&A11,抽出!$B$4:$O$903,9,FALSE)","v":"小助川智博"},null,null,null,{"$f":"VLOOKUP($N$1&$S$1&A11,抽出!$B$4:$O$903,10,FALSE)","v":546},null,null,{"$f":"VLOOKUP($N$1&$S$1&A11,抽出!$B$4:$O$903,11,FALSE)","v":"決"},{"$f":"VLOOKUP($N$1&$S$1&A11,抽出!$B$4:$O$903,12,FALSE)","v":"紋別中"},null,null,{"$f":"VLOOKUP($N$1&$S$1&A11,抽出!$B$4:$O$903,13,FALSE)","v":2},{"$f":"VLOOKUP($N$1&$S$1&A11,抽出!$B$4:$O$903,14,FALSE)","v":0.8},null,null,"一般女子","一女",null,"ｼﾞｬﾍﾞﾘｯｸｽﾛｰ"]
[9,{"$f":"IF(COUNTIF($K$4:N12,K12)=1,1,0)","v":1},{"$f":"IF(B12=0,\"\",SUM($B$4:B12))","v":9},{"$f":"VLOOKUP($N$1&$S$1&A12,抽出!$B$4:$O$903,6,FALSE)","v":"中体連地区"},null,null,{"$f":"VLOOKUP($N$1&$S$1&A12,抽出!$B$4:$O$903,7,FALSE)","v":"北見"},null,{"$f":"VLOOKUP($N$1&$S$1&A12,抽出!$B$4:$O$903,8,FALSE)","v":"2019-06-14"},null,{"$f":"VLOOKUP($N$1&$S$1&A12,抽出!$B$4:$O$903,9,FALSE)","v":"渡邊里恭"},null,null,null,{"$f":"VLOOKUP($N$1&$S$1&A12,抽出!$B$4:$O$903,10,FALSE)","v":543},null,null,{"$f":"VLOOKUP($N$1&$S$1&A12,抽出!$B$4:$O$903,11,FALSE)","v":"予"},{"$f":"VLOOKUP($N$1&$S$1&A12,抽出!$B$4:$O$903,12,FALSE)","v":"北見北光中"},null,null,{"$f":"VLOOKUP($N$1&$S$1&A12,抽出!$B$4:$O$903,13,FALSE)","v":3},{"$f":"VLOOKUP($N$1&$S$1&A12,抽出!$B$4:$O$903,14,FALSE)","v":-0.2},null,null,null,null,null,"ﾎﾞｰﾃｯｸｽｽﾛｰ投"]
[10,{"$f":"IF(COUNTIF($K$4:N13,K13)=1,1,0)","v":1},{"$f":"IF(B13=0,\"\",SUM($B$4:B13))","v":10},{"$f":"VLOOKUP($N$1&$S$1&A13,抽出!$B$4:$O$903,6,FALSE)","v":"秋季陸上"},null,null,{"$f":"VLOOKUP($N$1&$S$1&A13,抽出!$B$4:$O$903,7,FALSE)","v":"網走"},null,{"$f":"VLOOKUP($N$1&$S$1&A13,抽出!$B$4:$O$903,8,FALSE)","v":"2019-09-08"},null,{"$f":"VLOOKUP($N$1&$S$1&A13,抽出!$B$4:$O$903,9,FALSE)","v":"大水皓生"},null,null,null,{"$f":"VLOOKUP($N$1&$S$1&A13,抽出!$B$4:$O$903,10,FALSE)","v":533},null,null,{"$f":"VLOOKUP($N$1&$S$1&A13,抽出!$B$4:$O$903,11,FALSE)","v":"決"},{"$f":"VLOOKUP($N$1&$S$1&A13,抽出!$B$4:$O$903,12,FALSE)","v":"雄武中"},null,null,{"$f":"VLOOKUP($N$1&$S$1&A13,抽出!$B$4:$O$903,13,FALSE)","v":1},{"$f":"VLOOKUP($N$1&$S$1&A13,抽出!$B$4:$O$903,14,FALSE)","v":-1.2},null,null,null,null,null,"1年砲丸投"]
[11,{"$f":"IF(COUNTIF($K$4:N14,K14)=1,1,0)","v":1},{"$f":"IF(B14=0,\"\",SUM($B$4:B14))","v":11},{"$f":"VLOOKUP($N$1&$S$1&A14,抽出!$B$4:$O$903,6,FALSE)","v":"通信陸上"},null,null,{"$f":"VLOOKUP($N$1&$S$1&A14,抽出!$B$4:$O$903,7,FALSE)","v":"網走"},null,{"$f":"VLOOKUP($N$1&$S$1&A14,抽出!$B$4:$O$903,8,FALSE)","v":"2019-06-29"},null,{"$f":"VLOOKUP($N$1&$S$1&A14,抽出!$B$4:$O$903,9,FALSE)","v":"名古屋玲二"},null,null,null,{"$f":"VLOOKUP($N$1&$S$1&A14,抽出!$B$4:$O$903,10,FALSE)","v":529},null,null,{"$f":"VLOOKUP($N$1&$S$1&A14,抽出!$B$4:$O$903,11,FALSE)","v":"決"},{"$f":"VLOOKUP($N$1&$S$1&A14,抽出!$B$4:$O$903,12,FALSE)","v":"美幌北中"},null,null,{"$f":"VLOOKUP($N$1&$S$1&A14,抽出!$B$4:$O$903,13,FALSE)","v":3},{"$f":"VLOOKUP($N$1&$S$1&A14,抽出!$B$4:$O$903,14,FALSE)","v":2.5}]
[12,{"$f":"IF(COUNTIF($K$4:N15,K15)=1,1,0)","v":1},{"$f":"IF(B15=0,\"\",SUM($B$4:B15))","v":12},{"$f":"VLOOKUP($N$1&$S$1&A15,抽出!$B$4:$O$903,6,FALSE)","v":"記録会４戦"},null,null,{"$f":"VLOOKUP($N$1&$S$1&A15,抽出!$B$4:$O$903,7,FALSE)","v":"北見"},null,{"$f":"VLOOKUP($N$1&$S$1&A15,抽出!$B$4:$O$903,8,FALSE)","v":"2019-08-04"},null,{"$f":"VLOOKUP($N$1&$S$1&A15,抽出!$B$4:$O$903,9,FALSE)","v":"植本一希"},null,null,null,{"$f":"VLOOKUP($N$1&$S$1&A15,抽出!$B$4:$O$903,10,FALSE)","v":518},null,null,{"$f":"VLOOKUP($N$1&$S$1&A15,抽出!$B$4:$O$903,11,FALSE)","v":"決"},{"$f":"VLOOKUP($N$1&$S$1&A15,抽出!$B$4:$O$903,12,FALSE)","v":"北見北光中"},null,null,{"$f":"VLOOKUP($N$1&$S$1&A15,抽出!$B$4:$O$903,13,FALSE)","v":3},{"$f":"VLOOKUP($N$1&$S$1&A15,抽出!$B$4:$O$903,14,FALSE)","v":1.2}]
[13,{"$f":"IF(COUNTIF($K$4:N16,K16)=1,1,0)","v":1},{"$f":"IF(B16=0,\"\",SUM($B$4:B16))","v":13},{"$f":"VLOOKUP($N$1&$S$1&A16,抽出!$B$4:$O$903,6,FALSE)","v":"中体連地区"},null,null,{"$f":"VLOOKUP($N$1&$S$1&A16,抽出!$B$4:$O$903,7,FALSE)","v":"北見"},null,{"$f":"VLOOKUP($N$1&$S$1&A16,抽出!$B$4:$O$903,8,FALSE)","v":"2019-06-15"},null,{"$f":"VLOOKUP($N$1&$S$1&A16,抽出!$B$4:$O$903,9,FALSE)","v":"山崎幸希"},null,null,null,{"$f":"VLOOKUP($N$1&$S$1&A16,抽出!$B$4:$O$903,10,FALSE)","v":512},null,null,{"$f":"VLOOKUP($N$1&$S$1&A16,抽出!$B$4:$O$903,11,FALSE)","v":"決"},{"$f":"VLOOKUP($N$1&$S$1&A16,抽出!$B$4:$O$903,12,FALSE)","v":"斜里中"},null,null,{"$f":"VLOOKUP($N$1&$S$1&A16,抽出!$B$4:$O$903,13,FALSE)","v":2},{"$f":"VLOOKUP($N$1&$S$1&A16,抽出!$B$4:$O$903,14,FALSE)","v":1.3}]
[14,{"$f":"IF(COUNTIF($K$4:N17,K17)=1,1,0)","v":1},{"$f":"IF(B17=0,\"\",SUM($B$4:B17))","v":14},{"$f":"VLOOKUP($N$1&$S$1&A17,抽出!$B$4:$O$903,6,FALSE)","v":"秋季陸上"},null,null,{"$f":"VLOOKUP($N$1&$S$1&A17,抽出!$B$4:$O$903,7,FALSE)","v":"網走"},null,{"$f":"VLOOKUP($N$1&$S$1&A17,抽出!$B$4:$O$903,8,FALSE)","v":"2019-09-08"},null,{"$f":"VLOOKUP($N$1&$S$1&A17,抽出!$B$4:$O$903,9,FALSE)","v":"佐野巧"},null,null,null,{"$f":"VLOOKUP($N$1&$S$1&A17,抽出!$B$4:$O$903,10,FALSE)","v":510},null,null,{"$f":"VLOOKUP($N$1&$S$1&A17,抽出!$B$4:$O$903,11,FALSE)","v":"決"},{"$f":"VLOOKUP($N$1&$S$1&A17,抽出!$B$4:$O$903,12,FALSE)","v":"斜里中"},null,null,{"$f":"VLOOKUP($N$1&$S$1&A17,抽出!$B$4:$O$903,13,FALSE)","v":3},{"$f":"VLOOKUP($N$1&$S$1&A17,抽出!$B$4:$O$903,14,FALSE)","v":-0.6}]
[15,{"$f":"IF(COUNTIF($K$4:N18,K18)=1,1,0)","v":1},{"$f":"IF(B18=0,\"\",SUM($B$4:B18))","v":15},{"$f":"VLOOKUP($N$1&$S$1&A18,抽出!$B$4:$O$903,6,FALSE)","v":"記録会３戦"},null,null,{"$f":"VLOOKUP($N$1&$S$1&A18,抽出!$B$4:$O$903,7,FALSE)","v":"網走"},null,{"$f":"VLOOKUP($N$1&$S$1&A18,抽出!$B$4:$O$903,8,FALSE)","v":"2019-07-14"},null,{"$f":"VLOOKUP($N$1&$S$1&A18,抽出!$B$4:$O$903,9,FALSE)","v":"市村宥樹"},null,null,null,{"$f":"VLOOKUP($N$1&$S$1&A18,抽出!$B$4:$O$903,10,FALSE)","v":507},null,null,{"$f":"VLOOKUP($N$1&$S$1&A18,抽出!$B$4:$O$903,11,FALSE)","v":"決"},{"$f":"VLOOKUP($N$1&$S$1&A18,抽出!$B$4:$O$903,12,FALSE)","v":"斜里中"},null,null,{"$f":"VLOOKUP($N$1&$S$1&A18,抽出!$B$4:$O$903,13,FALSE)","v":3},{"$f":"VLOOKUP($N$1&$S$1&A18,抽出!$B$4:$O$903,14,FALSE)","v":1}]
[16,{"$f":"IF(COUNTIF($K$4:N19,K19)=1,1,0)","v":1},{"$f":"IF(B19=0,\"\",SUM($B$4:B19))","v":16},{"$f":"VLOOKUP($N$1&$S$1&A19,抽出!$B$4:$O$903,6,FALSE)","v":"選手権"},null,null,{"$f":"VLOOKUP($N$1&$S$1&A19,抽出!$B$4:$O$903,7,FALSE)","v":"北見"},null,{"$f":"VLOOKUP($N$1&$S$1&A19,抽出!$B$4:$O$903,8,FALSE)","v":"2019-05-11"},null,{"$f":"VLOOKUP($N$1&$S$1&A19,抽出!$B$4:$O$903,9,FALSE)","v":"大水皓輝"},null,null,null,{"$f":"VLOOKUP($N$1&$S$1&A19,抽出!$B$4:$O$903,10,FALSE)","v":506},null,null,{"$f":"VLOOKUP($N$1&$S$1&A19,抽出!$B$4:$O$903,11,FALSE)","v":"決"},{"$f":"VLOOKUP($N$1&$S$1&A19,抽出!$B$4:$O$903,12,FALSE)","v":"雄武中"},null,null,{"$f":"VLOOKUP($N$1&$S$1&A19,抽出!$B$4:$O$903,13,FALSE)","v":1},{"$f":"VLOOKUP($N$1&$S$1&A19,抽出!$B$4:$O$903,14,FALSE)","v":1.9}]
[17,{"$f":"IF(COUNTIF($K$4:N20,K20)=1,1,0)","v":1},{"$f":"IF(B20=0,\"\",SUM($B$4:B20))","v":17},{"$f":"VLOOKUP($N$1&$S$1&A20,抽出!$B$4:$O$903,6,FALSE)","v":"記録会第２戦"},null,null,{"$f":"VLOOKUP($N$1&$S$1&A20,抽出!$B$4:$O$903,7,FALSE)","v":"網走"},null,{"$f":"VLOOKUP($N$1&$S$1&A20,抽出!$B$4:$O$903,8,FALSE)","v":"2019-05-05"},null,{"$f":"VLOOKUP($N$1&$S$1&A20,抽出!$B$4:$O$903,9,FALSE)","v":"中田竜翔"},null,null,null,{"$f":"VLOOKUP($N$1&$S$1&A20,抽出!$B$4:$O$903,10,FALSE)","v":505},null,null,{"$f":"VLOOKUP($N$1&$S$1&A20,抽出!$B$4:$O$903,11,FALSE)","v":"決"},{"$f":"VLOOKUP($N$1&$S$1&A20,抽出!$B$4:$O$903,12,FALSE)","v":"網走第一中"},null,null,{"$f":"VLOOKUP($N$1&$S$1&A20,抽出!$B$4:$O$903,13,FALSE)","v":3},{"$f":"VLOOKUP($N$1&$S$1&A20,抽出!$B$4:$O$903,14,FALSE)","v":1.2}]
[18,{"$f":"IF(COUNTIF($K$4:N21,K21)=1,1,0)","v":1},{"$f":"IF(B21=0,\"\",SUM($B$4:B21))","v":18},{"$f":"VLOOKUP($N$1&$S$1&A21,抽出!$B$4:$O$903,6,FALSE)","v":"中体連地区"},null,null,{"$f":"VLOOKUP($N$1&$S$1&A21,抽出!$B$4:$O$903,7,FALSE)","v":"北見"},null,{"$f":"VLOOKUP($N$1&$S$1&A21,抽出!$B$4:$O$903,8,FALSE)","v":"2019-06-14"},null,{"$f":"VLOOKUP($N$1&$S$1&A21,抽出!$B$4:$O$903,9,FALSE)","v":"茂木亮磨"},null,null,null,{"$f":"VLOOKUP($N$1&$S$1&A21,抽出!$B$4:$O$903,10,FALSE)","v":496},null,null,{"$f":"VLOOKUP($N$1&$S$1&A21,抽出!$B$4:$O$903,11,FALSE)","v":"予"},{"$f":"VLOOKUP($N$1&$S$1&A21,抽出!$B$4:$O$903,12,FALSE)","v":"清里中"},null,null,{"$f":"VLOOKUP($N$1&$S$1&A21,抽出!$B$4:$O$903,13,FALSE)","v":2},{"$f":"VLOOKUP($N$1&$S$1&A21,抽出!$B$4:$O$903,14,FALSE)","v":3.6}]
[19,{"$f":"IF(COUNTIF($K$4:N22,K22)=1,1,0)","v":1},{"$f":"IF(B22=0,\"\",SUM($B$4:B22))","v":19},{"$f":"VLOOKUP($N$1&$S$1&A22,抽出!$B$4:$O$903,6,FALSE)","v":"中体連地区"},null,null,{"$f":"VLOOKUP($N$1&$S$1&A22,抽出!$B$4:$O$903,7,FALSE)","v":"北見"},null,{"$f":"VLOOKUP($N$1&$S$1&A22,抽出!$B$4:$O$903,8,FALSE)","v":"2019-06-15"},null,{"$f":"VLOOKUP($N$1&$S$1&A22,抽出!$B$4:$O$903,9,FALSE)","v":"石崎虎太郎"},null,null,null,{"$f":"VLOOKUP($N$1&$S$1&A22,抽出!$B$4:$O$903,10,FALSE)","v":492},null,null,{"$f":"VLOOKUP($N$1&$S$1&A22,抽出!$B$4:$O$903,11,FALSE)","v":"決"},{"$f":"VLOOKUP($N$1&$S$1&A22,抽出!$B$4:$O$903,12,FALSE)","v":"北見南中"},null,null,{"$f":"VLOOKUP($N$1&$S$1&A22,抽出!$B$4:$O$903,13,FALSE)","v":2},{"$f":"VLOOKUP($N$1&$S$1&A22,抽出!$B$4:$O$903,14,FALSE)","v":-1.7}]
[20,{"$f":"IF(COUNTIF($K$4:N23,K23)=1,1,0)","v":1},{"$f":"IF(B23=0,\"\",SUM($B$4:B23))","v":20},{"$f":"VLOOKUP($N$1&$S$1&A23,抽出!$B$4:$O$903,6,FALSE)","v":"中体連地区"},null,null,{"$f":"VLOOKUP($N$1&$S$1&A23,抽出!$B$4:$O$903,7,FALSE)","v":"北見"},null,{"$f":"VLOOKUP($N$1&$S$1&A23,抽出!$B$4:$O$903,8,FALSE)","v":"2019-06-15"},null,{"$f":"VLOOKUP($N$1&$S$1&A23,抽出!$B$4:$O$903,9,FALSE)","v":"菊地遥粋"},null,null,null,{"$f":"VLOOKUP($N$1&$S$1&A23,抽出!$B$4:$O$903,10,FALSE)","v":492},null,null,{"$f":"VLOOKUP($N$1&$S$1&A23,抽出!$B$4:$O$903,11,FALSE)","v":"決"},{"$f":"VLOOKUP($N$1&$S$1&A23,抽出!$B$4:$O$903,12,FALSE)","v":"北見南中"},null,null,{"$f":"VLOOKUP($N$1&$S$1&A23,抽出!$B$4:$O$903,13,FALSE)","v":3},{"$f":"VLOOKUP($N$1&$S$1&A23,抽出!$B$4:$O$903,14,FALSE)","v":-0.1}]
[21,{"$f":"IF(COUNTIF($K$4:N24,K24)=1,1,0)","v":1},{"$f":"IF(B24=0,\"\",SUM($B$4:B24))","v":21},{"$f":"VLOOKUP($N$1&$S$1&A24,抽出!$B$4:$O$903,6,FALSE)","v":"通信陸上"},null,null,{"$f":"VLOOKUP($N$1&$S$1&A24,抽出!$B$4:$O$903,7,FALSE)","v":"網走"},null,{"$f":"VLOOKUP($N$1&$S$1&A24,抽出!$B$4:$O$903,8,FALSE)","v":"2019-06-29"},null,{"$f":"VLOOKUP($N$1&$S$1&A24,抽出!$B$4:$O$903,9,FALSE)","v":"天野琉稀"},null,null,null,{"$f":"VLOOKUP($N$1&$S$1&A24,抽出!$B$4:$O$903,10,FALSE)","v":484},null,null,{"$f":"VLOOKUP($N$1&$S$1&A24,抽出!$B$4:$O$903,11,FALSE)","v":"決"},{"$f":"VLOOKUP($N$1&$S$1&A24,抽出!$B$4:$O$903,12,FALSE)","v":"大空女満別中"},null,null,{"$f":"VLOOKUP($N$1&$S$1&A24,抽出!$B$4:$O$903,13,FALSE)","v":3},{"$f":"VLOOKUP($N$1&$S$1&A24,抽出!$B$4:$O$903,14,FALSE)","v":0.9}]
[22,{"$f":"IF(COUNTIF($K$4:N25,K25)=1,1,0)","v":1},{"$f":"IF(B25=0,\"\",SUM($B$4:B25))","v":22},{"$f":"VLOOKUP($N$1&$S$1&A25,抽出!$B$4:$O$903,6,FALSE)","v":"記録会４戦"},null,null,{"$f":"VLOOKUP($N$1&$S$1&A25,抽出!$B$4:$O$903,7,FALSE)","v":"北見"},null,{"$f":"VLOOKUP($N$1&$S$1&A25,抽出!$B$4:$O$903,8,FALSE)","v":"2019-08-04"},null,{"$f":"VLOOKUP($N$1&$S$1&A25,抽出!$B$4:$O$903,9,FALSE)","v":"太田龍空"},null,null,null,{"$f":"VLOOKUP($N$1&$S$1&A25,抽出!$B$4:$O$903,10,FALSE)","v":484},null,null,{"$f":"VLOOKUP($N$1&$S$1&A25,抽出!$B$4:$O$903,11,FALSE)","v":"決"},{"$f":"VLOOKUP($N$1&$S$1&A25,抽出!$B$4:$O$903,12,FALSE)","v":"北見小泉中"},null,null,{"$f":"VLOOKUP($N$1&$S$1&A25,抽出!$B$4:$O$903,13,FALSE)","v":1},{"$f":"VLOOKUP($N$1&$S$1&A25,抽出!$B$4:$O$903,14,FALSE)","v":1.6}]
[23,{"$f":"IF(COUNTIF($K$4:N26,K26)=1,1,0)","v":1},{"$f":"IF(B26=0,\"\",SUM($B$4:B26))","v":23},{"$f":"VLOOKUP($N$1&$S$1&A26,抽出!$B$4:$O$903,6,FALSE)","v":"秋季陸上"},null,null,{"$f":"VLOOKUP($N$1&$S$1&A26,抽出!$B$4:$O$903,7,FALSE)","v":"網走"},null,{"$f":"VLOOKUP($N$1&$S$1&A26,抽出!$B$4:$O$903,8,FALSE)","v":"2019-09-08"},null,{"$f":"VLOOKUP($N$1&$S$1&A26,抽出!$B$4:$O$903,9,FALSE)","v":"松永悠輝"},null,null,null,{"$f":"VLOOKUP($N$1&$S$1&A26,抽出!$B$4:$O$903,10,FALSE)","v":484},null,null,{"$f":"VLOOKUP($N$1&$S$1&A26,抽出!$B$4:$O$903,11,FALSE)","v":"決"},{"$f":"VLOOKUP($N$1&$S$1&A26,抽出!$B$4:$O$903,12,FALSE)","v":"雄武中"},null,null,{"$f":"VLOOKUP($N$1&$S$1&A26,抽出!$B$4:$O$903,13,FALSE)","v":2},{"$f":"VLOOKUP($N$1&$S$1&A26,抽出!$B$4:$O$903,14,FALSE)","v":-0.2}]
[24,{"$f":"IF(COUNTIF($K$4:N27,K27)=1,1,0)","v":1},{"$f":"IF(B27=0,\"\",SUM($B$4:B27))","v":24},{"$f":"VLOOKUP($N$1&$S$1&A27,抽出!$B$4:$O$903,6,FALSE)","v":"選手権"},null,null,{"$f":"VLOOKUP($N$1&$S$1&A27,抽出!$B$4:$O$903,7,FALSE)","v":"北見"},null,{"$f":"VLOOKUP($N$1&$S$1&A27,抽出!$B$4:$O$903,8,FALSE)","v":"2019-05-11"},null,{"$f":"VLOOKUP($N$1&$S$1&A27,抽出!$B$4:$O$903,9,FALSE)","v":"鈴木侑輝"},null,null,null,{"$f":"VLOOKUP($N$1&$S$1&A27,抽出!$B$4:$O$903,10,FALSE)","v":482},null,null,{"$f":"VLOOKUP($N$1&$S$1&A27,抽出!$B$4:$O$903,11,FALSE)","v":"決"},{"$f":"VLOOKUP($N$1&$S$1&A27,抽出!$B$4:$O$903,12,FALSE)","v":"遠軽中"},null,null,{"$f":"VLOOKUP($N$1&$S$1&A27,抽出!$B$4:$O$903,13,FALSE)","v":3},{"$f":"VLOOKUP($N$1&$S$1&A27,抽出!$B$4:$O$903,14,FALSE)","v":1.5}]
[25,{"$f":"IF(COUNTIF($K$4:N28,K28)=1,1,0)","v":1},{"$f":"IF(B28=0,\"\",SUM($B$4:B28))","v":25},{"$f":"VLOOKUP($N$1&$S$1&A28,抽出!$B$4:$O$903,6,FALSE)","v":"記録会４戦"},null,null,{"$f":"VLOOKUP($N$1&$S$1&A28,抽出!$B$4:$O$903,7,FALSE)","v":"北見"},null,{"$f":"VLOOKUP($N$1&$S$1&A28,抽出!$B$4:$O$903,8,FALSE)","v":"2019-08-04"},null,{"$f":"VLOOKUP($N$1&$S$1&A28,抽出!$B$4:$O$903,9,FALSE)","v":"鷲尾征"},null,null,null,{"$f":"VLOOKUP($N$1&$S$1&A28,抽出!$B$4:$O$903,10,FALSE)","v":476},null,null,{"$f":"VLOOKUP($N$1&$S$1&A28,抽出!$B$4:$O$903,11,FALSE)","v":"決"},{"$f":"VLOOKUP($N$1&$S$1&A28,抽出!$B$4:$O$903,12,FALSE)","v":"北見北光中"},null,null,{"$f":"VLOOKUP($N$1&$S$1&A28,抽出!$B$4:$O$903,13,FALSE)","v":2},{"$f":"VLOOKUP($N$1&$S$1&A28,抽出!$B$4:$O$903,14,FALSE)","v":1.2}]
[26,{"$f":"IF(COUNTIF($K$4:N29,K29)=1,1,0)","v":1},{"$f":"IF(B29=0,\"\",SUM($B$4:B29))","v":26},{"$f":"VLOOKUP($N$1&$S$1&A29,抽出!$B$4:$O$903,6,FALSE)","v":"フィールド記録会"},null,null,{"$f":"VLOOKUP($N$1&$S$1&A29,抽出!$B$4:$O$903,7,FALSE)","v":"網走"},null,{"$f":"VLOOKUP($N$1&$S$1&A29,抽出!$B$4:$O$903,8,FALSE)","v":"2019-06-08"},null,{"$f":"VLOOKUP($N$1&$S$1&A29,抽出!$B$4:$O$903,9,FALSE)","v":"竹村璃玖"},null,null,null,{"$f":"VLOOKUP($N$1&$S$1&A29,抽出!$B$4:$O$903,10,FALSE)","v":468},null,null,{"$f":"VLOOKUP($N$1&$S$1&A29,抽出!$B$4:$O$903,11,FALSE)","v":"決"},{"$f":"VLOOKUP($N$1&$S$1&A29,抽出!$B$4:$O$903,12,FALSE)","v":"北見常呂中"},null,null,{"$f":"VLOOKUP($N$1&$S$1&A29,抽出!$B$4:$O$903,13,FALSE)","v":2},{"$f":"VLOOKUP($N$1&$S$1&A29,抽出!$B$4:$O$903,14,FALSE)","v":-1.6}]
[27,{"$f":"IF(COUNTIF($K$4:N30,K30)=1,1,0)","v":1},{"$f":"IF(B30=0,\"\",SUM($B$4:B30))","v":27},{"$f":"VLOOKUP($N$1&$S$1&A30,抽出!$B$4:$O$903,6,FALSE)","v":"秋季陸上"},null,null,{"$f":"VLOOKUP($N$1&$S$1&A30,抽出!$B$4:$O$903,7,FALSE)","v":"網走"},null,{"$f":"VLOOKUP($N$1&$S$1&A30,抽出!$B$4:$O$903,8,FALSE)","v":"2019-09-08"},null,{"$f":"VLOOKUP($N$1&$S$1&A30,抽出!$B$4:$O$903,9,FALSE)","v":"本田孝仁"},null,null,null,{"$f":"VLOOKUP($N$1&$S$1&A30,抽出!$B$4:$O$903,10,FALSE)","v":467},null,null,{"$f":"VLOOKUP($N$1&$S$1&A30,抽出!$B$4:$O$903,11,FALSE)","v":"決"},{"$f":"VLOOKUP($N$1&$S$1&A30,抽出!$B$4:$O$903,12,FALSE)","v":"北見常呂中"},null,null,{"$f":"VLOOKUP($N$1&$S$1&A30,抽出!$B$4:$O$903,13,FALSE)","v":1},{"$f":"VLOOKUP($N$1&$S$1&A30,抽出!$B$4:$O$903,14,FALSE)","v":0}]
[28,{"$f":"IF(COUNTIF($K$4:N31,K31)=1,1,0)","v":1},{"$f":"IF(B31=0,\"\",SUM($B$4:B31))","v":28},{"$f":"VLOOKUP($N$1&$S$1&A31,抽出!$B$4:$O$903,6,FALSE)","v":"秋季陸上"},null,null,{"$f":"VLOOKUP($N$1&$S$1&A31,抽出!$B$4:$O$903,7,FALSE)","v":"網走"},null,{"$f":"VLOOKUP($N$1&$S$1&A31,抽出!$B$4:$O$903,8,FALSE)","v":"2019-09-08"},null,{"$f":"VLOOKUP($N$1&$S$1&A31,抽出!$B$4:$O$903,9,FALSE)","v":"中村志瞳"},null,null,null,{"$f":"VLOOKUP($N$1&$S$1&A31,抽出!$B$4:$O$903,10,FALSE)","v":465},null,null,{"$f":"VLOOKUP($N$1&$S$1&A31,抽出!$B$4:$O$903,11,FALSE)","v":"決"},{"$f":"VLOOKUP($N$1&$S$1&A31,抽出!$B$4:$O$903,12,FALSE)","v":"北見高栄中"},null,null,{"$f":"VLOOKUP($N$1&$S$1&A31,抽出!$B$4:$O$903,13,FALSE)","v":1},{"$f":"VLOOKUP($N$1&$S$1&A31,抽出!$B$4:$O$903,14,FALSE)","v":-0.5}]
[29,{"$f":"IF(COUNTIF($K$4:N32,K32)=1,1,0)","v":1},{"$f":"IF(B32=0,\"\",SUM($B$4:B32))","v":29},{"$f":"VLOOKUP($N$1&$S$1&A32,抽出!$B$4:$O$903,6,FALSE)","v":"中学新人"},null,null,{"$f":"VLOOKUP($N$1&$S$1&A32,抽出!$B$4:$O$903,7,FALSE)","v":"網走"},null,{"$f":"VLOOKUP($N$1&$S$1&A32,抽出!$B$4:$O$903,8,FALSE)","v":"2019-08-23"},null,{"$f":"VLOOKUP($N$1&$S$1&A32,抽出!$B$4:$O$903,9,FALSE)","v":"福田悠介"},null,null,null,{"$f":"VLOOKUP($N$1&$S$1&A32,抽出!$B$4:$O$903,10,FALSE)","v":464},null,null,{"$f":"VLOOKUP($N$1&$S$1&A32,抽出!$B$4:$O$903,11,FALSE)","v":"決"},{"$f":"VLOOKUP($N$1&$S$1&A32,抽出!$B$4:$O$903,12,FALSE)","v":"網走第一中"},null,null,{"$f":"VLOOKUP($N$1&$S$1&A32,抽出!$B$4:$O$903,13,FALSE)","v":2},{"$f":"VLOOKUP($N$1&$S$1&A32,抽出!$B$4:$O$903,14,FALSE)","v":-2}]
[30,{"$f":"IF(COUNTIF($K$4:N33,K33)=1,1,0)","v":1},{"$f":"IF(B33=0,\"\",SUM($B$4:B33))","v":30},{"$f":"VLOOKUP($N$1&$S$1&A33,抽出!$B$4:$O$903,6,FALSE)","v":"記録会第１戦"},null,null,{"$f":"VLOOKUP($N$1&$S$1&A33,抽出!$B$4:$O$903,7,FALSE)","v":"北見"},null,{"$f":"VLOOKUP($N$1&$S$1&A33,抽出!$B$4:$O$903,8,FALSE)","v":"2019-04-28"},null,{"$f":"VLOOKUP($N$1&$S$1&A33,抽出!$B$4:$O$903,9,FALSE)","v":"中井啓晴"},null,null,null,{"$f":"VLOOKUP($N$1&$S$1&A33,抽出!$B$4:$O$903,10,FALSE)","v":461},null,null,{"$f":"VLOOKUP($N$1&$S$1&A33,抽出!$B$4:$O$903,11,FALSE)","v":"決"},{"$f":"VLOOKUP($N$1&$S$1&A33,抽出!$B$4:$O$903,12,FALSE)","v":"北見小泉中"},null,null,{"$f":"VLOOKUP($N$1&$S$1&A33,抽出!$B$4:$O$903,13,FALSE)","v":3},{"$f":"VLOOKUP($N$1&$S$1&A33,抽出!$B$4:$O$903,14,FALSE)","v":0.3}]
[31,{"$f":"IF(COUNTIF($K$4:N34,K34)=1,1,0)","v":1},{"$f":"IF(B34=0,\"\",SUM($B$4:B34))","v":31},{"$f":"VLOOKUP($N$1&$S$1&A34,抽出!$B$4:$O$903,6,FALSE)","v":"記録会４戦"},null,null,{"$f":"VLOOKUP($N$1&$S$1&A34,抽出!$B$4:$O$903,7,FALSE)","v":"北見"},null,{"$f":"VLOOKUP($N$1&$S$1&A34,抽出!$B$4:$O$903,8,FALSE)","v":"2019-08-04"},null,{"$f":"VLOOKUP($N$1&$S$1&A34,抽出!$B$4:$O$903,9,FALSE)","v":"増山奈孝"},null,null,null,{"$f":"VLOOKUP($N$1&$S$1&A34,抽出!$B$4:$O$903,10,FALSE)","v":454},null,null,{"$f":"VLOOKUP($N$1&$S$1&A34,抽出!$B$4:$O$903,11,FALSE)","v":"決"},{"$f":"VLOOKUP($N$1&$S$1&A34,抽出!$B$4:$O$903,12,FALSE)","v":"北見光西中"},null,null,{"$f":"VLOOKUP($N$1&$S$1&A34,抽出!$B$4:$O$903,13,FALSE)","v":1},{"$f":"VLOOKUP($N$1&$S$1&A34,抽出!$B$4:$O$903,14,FALSE)","v":0.7}]
[32,{"$f":"IF(COUNTIF($K$4:N35,K35)=1,1,0)","v":1},{"$f":"IF(B35=0,\"\",SUM($B$4:B35))","v":32},{"$f":"VLOOKUP($N$1&$S$1&A35,抽出!$B$4:$O$903,6,FALSE)","v":"中体連地区"},null,null,{"$f":"VLOOKUP($N$1&$S$1&A35,抽出!$B$4:$O$903,7,FALSE)","v":"北見"},null,{"$f":"VLOOKUP($N$1&$S$1&A35,抽出!$B$4:$O$903,8,FALSE)","v":"2019-06-14"},null,{"$f":"VLOOKUP($N$1&$S$1&A35,抽出!$B$4:$O$903,9,FALSE)","v":"笹原煌一朗"},null,null,null,{"$f":"VLOOKUP($N$1&$S$1&A35,抽出!$B$4:$O$903,10,FALSE)","v":454},null,null,{"$f":"VLOOKUP($N$1&$S$1&A35,抽出!$B$4:$O$903,11,FALSE)","v":"予"},{"$f":"VLOOKUP($N$1&$S$1&A35,抽出!$B$4:$O$903,12,FALSE)","v":"遠軽中"},null,null,{"$f":"VLOOKUP($N$1&$S$1&A35,抽出!$B$4:$O$903,13,FALSE)","v":2},{"$f":"VLOOKUP($N$1&$S$1&A35,抽出!$B$4:$O$903,14,FALSE)","v":4.5}]
[33,{"$f":"IF(COUNTIF($K$4:N36,K36)=1,1,0)","v":1},{"$f":"IF(B36=0,\"\",SUM($B$4:B36))","v":33},{"$f":"VLOOKUP($N$1&$S$1&A36,抽出!$B$4:$O$903,6,FALSE)","v":"通信陸上"},null,null,{"$f":"VLOOKUP($N$1&$S$1&A36,抽出!$B$4:$O$903,7,FALSE)","v":"網走"},null,{"$f":"VLOOKUP($N$1&$S$1&A36,抽出!$B$4:$O$903,8,FALSE)","v":"2019-06-28"},null,{"$f":"VLOOKUP($N$1&$S$1&A36,抽出!$B$4:$O$903,9,FALSE)","v":"倉本静鬼"},null,null,null,{"$f":"VLOOKUP($N$1&$S$1&A36,抽出!$B$4:$O$903,10,FALSE)","v":450},null,null,{"$f":"VLOOKUP($N$1&$S$1&A36,抽出!$B$4:$O$903,11,FALSE)","v":"予"},{"$f":"VLOOKUP($N$1&$S$1&A36,抽出!$B$4:$O$903,12,FALSE)","v":"北見東陵中"},null,null,{"$f":"VLOOKUP($N$1&$S$1&A36,抽出!$B$4:$O$903,13,FALSE)","v":2},{"$f":"VLOOKUP($N$1&$S$1&A36,抽出!$B$4:$O$903,14,FALSE)","v":1}]
[34,{"$f":"IF(COUNTIF($K$4:N37,K37)=1,1,0)","v":1},{"$f":"IF(B37=0,\"\",SUM($B$4:B37))","v":34},{"$f":"VLOOKUP($N$1&$S$1&A37,抽出!$B$4:$O$903,6,FALSE)","v":"記録会３戦"},null,null,{"$f":"VLOOKUP($N$1&$S$1&A37,抽出!$B$4:$O$903,7,FALSE)","v":"網走"},null,{"$f":"VLOOKUP($N$1&$S$1&A37,抽出!$B$4:$O$903,8,FALSE)","v":"2019-07-14"},null,{"$f":"VLOOKUP($N$1&$S$1&A37,抽出!$B$4:$O$903,9,FALSE)","v":"森駿輝"},null,null,null,{"$f":"VLOOKUP($N$1&$S$1&A37,抽出!$B$4:$O$903,10,FALSE)","v":448},null,null,{"$f":"VLOOKUP($N$1&$S$1&A37,抽出!$B$4:$O$903,11,FALSE)","v":"決"},{"$f":"VLOOKUP($N$1&$S$1&A37,抽出!$B$4:$O$903,12,FALSE)","v":"北見北光中"},null,null,{"$f":"VLOOKUP($N$1&$S$1&A37,抽出!$B$4:$O$903,13,FALSE)","v":2},{"$f":"VLOOKUP($N$1&$S$1&A37,抽出!$B$4:$O$903,14,FALSE)","v":0.8}]
[35,{"$f":"IF(COUNTIF($K$4:N38,K38)=1,1,0)","v":1},{"$f":"IF(B38=0,\"\",SUM($B$4:B38))","v":35},{"$f":"VLOOKUP($N$1&$S$1&A38,抽出!$B$4:$O$903,6,FALSE)","v":"中体連地区"},null,null,{"$f":"VLOOKUP($N$1&$S$1&A38,抽出!$B$4:$O$903,7,FALSE)","v":"北見"},null,{"$f":"VLOOKUP($N$1&$S$1&A38,抽出!$B$4:$O$903,8,FALSE)","v":"2019-06-14"},null,{"$f":"VLOOKUP($N$1&$S$1&A38,抽出!$B$4:$O$903,9,FALSE)","v":"萬龍来"},null,null,null,{"$f":"VLOOKUP($N$1&$S$1&A38,抽出!$B$4:$O$903,10,FALSE)","v":447},null,null,{"$f":"VLOOKUP($N$1&$S$1&A38,抽出!$B$4:$O$903,11,FALSE)","v":"予"},{"$f":"VLOOKUP($N$1&$S$1&A38,抽出!$B$4:$O$903,12,FALSE)","v":"網走第一中"},null,null,{"$f":"VLOOKUP($N$1&$S$1&A38,抽出!$B$4:$O$903,13,FALSE)","v":2},{"$f":"VLOOKUP($N$1&$S$1&A38,抽出!$B$4:$O$903,14,FALSE)","v":3.6}]
[36,{"$f":"IF(COUNTIF($K$4:N39,K39)=1,1,0)","v":1},{"$f":"IF(B39=0,\"\",SUM($B$4:B39))","v":36},{"$f":"VLOOKUP($N$1&$S$1&A39,抽出!$B$4:$O$903,6,FALSE)","v":"秋季陸上"},null,null,{"$f":"VLOOKUP($N$1&$S$1&A39,抽出!$B$4:$O$903,7,FALSE)","v":"網走"},null,{"$f":"VLOOKUP($N$1&$S$1&A39,抽出!$B$4:$O$903,8,FALSE)","v":"2019-09-08"},null,{"$f":"VLOOKUP($N$1&$S$1&A39,抽出!$B$4:$O$903,9,FALSE)","v":"黒坂光輝"},null,null,null,{"$f":"VLOOKUP($N$1&$S$1&A39,抽出!$B$4:$O$903,10,FALSE)","v":445},null,null,{"$f":"VLOOKUP($N$1&$S$1&A39,抽出!$B$4:$O$903,11,FALSE)","v":"決"},{"$f":"VLOOKUP($N$1&$S$1&A39,抽出!$B$4:$O$903,12,FALSE)","v":"網走第一中"},null,null,{"$f":"VLOOKUP($N$1&$S$1&A39,抽出!$B$4:$O$903,13,FALSE)","v":1},{"$f":"VLOOKUP($N$1&$S$1&A39,抽出!$B$4:$O$903,14,FALSE)","v":-1.2}]
[37,{"$f":"IF(COUNTIF($K$4:N40,K40)=1,1,0)","v":1},{"$f":"IF(B40=0,\"\",SUM($B$4:B40))","v":37},{"$f":"VLOOKUP($N$1&$S$1&A40,抽出!$B$4:$O$903,6,FALSE)","v":"秋季陸上"},null,null,{"$f":"VLOOKUP($N$1&$S$1&A40,抽出!$B$4:$O$903,7,FALSE)","v":"網走"},null,{"$f":"VLOOKUP($N$1&$S$1&A40,抽出!$B$4:$O$903,8,FALSE)","v":"2019-09-08"},null,{"$f":"VLOOKUP($N$1&$S$1&A40,抽出!$B$4:$O$903,9,FALSE)","v":"久保秋結仁"},null,null,null,{"$f":"VLOOKUP($N$1&$S$1&A40,抽出!$B$4:$O$903,10,FALSE)","v":440},null,null,{"$f":"VLOOKUP($N$1&$S$1&A40,抽出!$B$4:$O$903,11,FALSE)","v":"決"},{"$f":"VLOOKUP($N$1&$S$1&A40,抽出!$B$4:$O$903,12,FALSE)","v":"紋別中"},null,null,{"$f":"VLOOKUP($N$1&$S$1&A40,抽出!$B$4:$O$903,13,FALSE)","v":2},{"$f":"VLOOKUP($N$1&$S$1&A40,抽出!$B$4:$O$903,14,FALSE)","v":-0.3}]
[38,{"$f":"IF(COUNTIF($K$4:N41,K41)=1,1,0)","v":1},{"$f":"IF(B41=0,\"\",SUM($B$4:B41))","v":38},{"$f":"VLOOKUP($N$1&$S$1&A41,抽出!$B$4:$O$903,6,FALSE)","v":"秋季陸上"},null,null,{"$f":"VLOOKUP($N$1&$S$1&A41,抽出!$B$4:$O$903,7,FALSE)","v":"網走"},null,{"$f":"VLOOKUP($N$1&$S$1&A41,抽出!$B$4:$O$903,8,FALSE)","v":"2019-09-08"},null,{"$f":"VLOOKUP($N$1&$S$1&A41,抽出!$B$4:$O$903,9,FALSE)","v":"小島悠翔"},null,null,null,{"$f":"VLOOKUP($N$1&$S$1&A41,抽出!$B$4:$O$903,10,FALSE)","v":436},null,null,{"$f":"VLOOKUP($N$1&$S$1&A41,抽出!$B$4:$O$903,11,FALSE)","v":"決"},{"$f":"VLOOKUP($N$1&$S$1&A41,抽出!$B$4:$O$903,12,FALSE)","v":"美幌北中"},null,null,{"$f":"VLOOKUP($N$1&$S$1&A41,抽出!$B$4:$O$903,13,FALSE)","v":2},{"$f":"VLOOKUP($N$1&$S$1&A41,抽出!$B$4:$O$903,14,FALSE)","v":-1.5}]
[39,{"$f":"IF(COUNTIF($K$4:N42,K42)=1,1,0)","v":1},{"$f":"IF(B42=0,\"\",SUM($B$4:B42))","v":39},{"$f":"VLOOKUP($N$1&$S$1&A42,抽出!$B$4:$O$903,6,FALSE)","v":"記録会３戦"},null,null,{"$f":"VLOOKUP($N$1&$S$1&A42,抽出!$B$4:$O$903,7,FALSE)","v":"網走"},null,{"$f":"VLOOKUP($N$1&$S$1&A42,抽出!$B$4:$O$903,8,FALSE)","v":"2019-07-14"},null,{"$f":"VLOOKUP($N$1&$S$1&A42,抽出!$B$4:$O$903,9,FALSE)","v":"矢口新大"},null,null,null,{"$f":"VLOOKUP($N$1&$S$1&A42,抽出!$B$4:$O$903,10,FALSE)","v":434},null,null,{"$f":"VLOOKUP($N$1&$S$1&A42,抽出!$B$4:$O$903,11,FALSE)","v":"決"},{"$f":"VLOOKUP($N$1&$S$1&A42,抽出!$B$4:$O$903,12,FALSE)","v":"清里中"},null,null,{"$f":"VLOOKUP($N$1&$S$1&A42,抽出!$B$4:$O$903,13,FALSE)","v":2},{"$f":"VLOOKUP($N$1&$S$1&A42,抽出!$B$4:$O$903,14,FALSE)","v":0.5}]
[40,{"$f":"IF(COUNTIF($K$4:N43,K43)=1,1,0)","v":1},{"$f":"IF(B43=0,\"\",SUM($B$4:B43))","v":40},{"$f":"VLOOKUP($N$1&$S$1&A43,抽出!$B$4:$O$903,6,FALSE)","v":"中体連地区"},null,null,{"$f":"VLOOKUP($N$1&$S$1&A43,抽出!$B$4:$O$903,7,FALSE)","v":"北見"},null,{"$f":"VLOOKUP($N$1&$S$1&A43,抽出!$B$4:$O$903,8,FALSE)","v":"2019-06-14"},null,{"$f":"VLOOKUP($N$1&$S$1&A43,抽出!$B$4:$O$903,9,FALSE)","v":"藤江諒丞"},null,null,null,{"$f":"VLOOKUP($N$1&$S$1&A43,抽出!$B$4:$O$903,10,FALSE)","v":433},null,null,{"$f":"VLOOKUP($N$1&$S$1&A43,抽出!$B$4:$O$903,11,FALSE)","v":"予"},{"$f":"VLOOKUP($N$1&$S$1&A43,抽出!$B$4:$O$903,12,FALSE)","v":"遠軽中"},null,null,{"$f":"VLOOKUP($N$1&$S$1&A43,抽出!$B$4:$O$903,13,FALSE)","v":2},{"$f":"VLOOKUP($N$1&$S$1&A43,抽出!$B$4:$O$903,14,FALSE)","v":3.6}]
[41,{"$f":"IF(COUNTIF($K$4:N44,K44)=1,1,0)","v":1},{"$f":"IF(B44=0,\"\",SUM($B$4:B44))","v":41},{"$f":"VLOOKUP($N$1&$S$1&A44,抽出!$B$4:$O$903,6,FALSE)","v":"中学新人"},null,null,{"$f":"VLOOKUP($N$1&$S$1&A44,抽出!$B$4:$O$903,7,FALSE)","v":"網走"},null,{"$f":"VLOOKUP($N$1&$S$1&A44,抽出!$B$4:$O$903,8,FALSE)","v":"2019-08-23"},null,{"$f":"VLOOKUP($N$1&$S$1&A44,抽出!$B$4:$O$903,9,FALSE)","v":"上伊澤渉"},null,null,null,{"$f":"VLOOKUP($N$1&$S$1&A44,抽出!$B$4:$O$903,10,FALSE)","v":428},null,null,{"$f":"VLOOKUP($N$1&$S$1&A44,抽出!$B$4:$O$903,11,FALSE)","v":"決"},{"$f":"VLOOKUP($N$1&$S$1&A44,抽出!$B$4:$O$903,12,FALSE)","v":"北見東陵中"},null,null,{"$f":"VLOOKUP($N$1&$S$1&A44,抽出!$B$4:$O$903,13,FALSE)","v":2},{"$f":"VLOOKUP($N$1&$S$1&A44,抽出!$B$4:$O$903,14,FALSE)","v":0.7}]
[42,{"$f":"IF(COUNTIF($K$4:N45,K45)=1,1,0)","v":1},{"$f":"IF(B45=0,\"\",SUM($B$4:B45))","v":42},{"$f":"VLOOKUP($N$1&$S$1&A45,抽出!$B$4:$O$903,6,FALSE)","v":"中体連地区"},null,null,{"$f":"VLOOKUP($N$1&$S$1&A45,抽出!$B$4:$O$903,7,FALSE)","v":"北見"},null,{"$f":"VLOOKUP($N$1&$S$1&A45,抽出!$B$4:$O$903,8,FALSE)","v":"2019-06-14"},null,{"$f":"VLOOKUP($N$1&$S$1&A45,抽出!$B$4:$O$903,9,FALSE)","v":"河部純平"},null,null,null,{"$f":"VLOOKUP($N$1&$S$1&A45,抽出!$B$4:$O$903,10,FALSE)","v":423},null,null,{"$f":"VLOOKUP($N$1&$S$1&A45,抽出!$B$4:$O$903,11,FALSE)","v":"予"},{"$f":"VLOOKUP($N$1&$S$1&A45,抽出!$B$4:$O$903,12,FALSE)","v":"斜里中"},null,null,{"$f":"VLOOKUP($N$1&$S$1&A45,抽出!$B$4:$O$903,13,FALSE)","v":3},{"$f":"VLOOKUP($N$1&$S$1&A45,抽出!$B$4:$O$903,14,FALSE)","v":3.1}]
[43,{"$f":"IF(COUNTIF($K$4:N46,K46)=1,1,0)","v":1},{"$f":"IF(B46=0,\"\",SUM($B$4:B46))","v":43},{"$f":"VLOOKUP($N$1&$S$1&A46,抽出!$B$4:$O$903,6,FALSE)","v":"秋季陸上"},null,null,{"$f":"VLOOKUP($N$1&$S$1&A46,抽出!$B$4:$O$903,7,FALSE)","v":"網走"},null,{"$f":"VLOOKUP($N$1&$S$1&A46,抽出!$B$4:$O$903,8,FALSE)","v":"2019-09-08"},null,{"$f":"VLOOKUP($N$1&$S$1&A46,抽出!$B$4:$O$903,9,FALSE)","v":"北村隼人"},null,null,null,{"$f":"VLOOKUP($N$1&$S$1&A46,抽出!$B$4:$O$903,10,FALSE)","v":421},null,null,{"$f":"VLOOKUP($N$1&$S$1&A46,抽出!$B$4:$O$903,11,FALSE)","v":"決"},{"$f":"VLOOKUP($N$1&$S$1&A46,抽出!$B$4:$O$903,12,FALSE)","v":"北見北光中"},null,null,{"$f":"VLOOKUP($N$1&$S$1&A46,抽出!$B$4:$O$903,13,FALSE)","v":2},{"$f":"VLOOKUP($N$1&$S$1&A46,抽出!$B$4:$O$903,14,FALSE)","v":0.3}]
[44,{"$f":"IF(COUNTIF($K$4:N47,K47)=1,1,0)","v":1},{"$f":"IF(B47=0,\"\",SUM($B$4:B47))","v":44},{"$f":"VLOOKUP($N$1&$S$1&A47,抽出!$B$4:$O$903,6,FALSE)","v":"中体連地区"},null,null,{"$f":"VLOOKUP($N$1&$S$1&A47,抽出!$B$4:$O$903,7,FALSE)","v":"北見"},null,{"$f":"VLOOKUP($N$1&$S$1&A47,抽出!$B$4:$O$903,8,FALSE)","v":"2019-06-14"},null,{"$f":"VLOOKUP($N$1&$S$1&A47,抽出!$B$4:$O$903,9,FALSE)","v":"工藤之雅"},null,null,null,{"$f":"VLOOKUP($N$1&$S$1&A47,抽出!$B$4:$O$903,10,FALSE)","v":421},null,null,{"$f":"VLOOKUP($N$1&$S$1&A47,抽出!$B$4:$O$903,11,FALSE)","v":"予"},{"$f":"VLOOKUP($N$1&$S$1&A47,抽出!$B$4:$O$903,12,FALSE)","v":"北見北中"},null,null,{"$f":"VLOOKUP($N$1&$S$1&A47,抽出!$B$4:$O$903,13,FALSE)","v":2},{"$f":"VLOOKUP($N$1&$S$1&A47,抽出!$B$4:$O$903,14,FALSE)","v":-0.7}]
[45,{"$f":"IF(COUNTIF($K$4:N48,K48)=1,1,0)","v":1},{"$f":"IF(B48=0,\"\",SUM($B$4:B48))","v":45},{"$f":"VLOOKUP($N$1&$S$1&A48,抽出!$B$4:$O$903,6,FALSE)","v":"記録会第１戦"},null,null,{"$f":"VLOOKUP($N$1&$S$1&A48,抽出!$B$4:$O$903,7,FALSE)","v":"北見"},null,{"$f":"VLOOKUP($N$1&$S$1&A48,抽出!$B$4:$O$903,8,FALSE)","v":"2019-04-28"},null,{"$f":"VLOOKUP($N$1&$S$1&A48,抽出!$B$4:$O$903,9,FALSE)","v":"坂野綾圭泉"},null,null,null,{"$f":"VLOOKUP($N$1&$S$1&A48,抽出!$B$4:$O$903,10,FALSE)","v":419},null,null,{"$f":"VLOOKUP($N$1&$S$1&A48,抽出!$B$4:$O$903,11,FALSE)","v":"決"},{"$f":"VLOOKUP($N$1&$S$1&A48,抽出!$B$4:$O$903,12,FALSE)","v":"斜里中"},null,null,{"$f":"VLOOKUP($N$1&$S$1&A48,抽出!$B$4:$O$903,13,FALSE)","v":3},{"$f":"VLOOKUP($N$1&$S$1&A48,抽出!$B$4:$O$903,14,FALSE)","v":1.6}]
[46,{"$f":"IF(COUNTIF($K$4:N49,K49)=1,1,0)","v":1},{"$f":"IF(B49=0,\"\",SUM($B$4:B49))","v":46},{"$f":"VLOOKUP($N$1&$S$1&A49,抽出!$B$4:$O$903,6,FALSE)","v":"記録会３戦"},null,null,{"$f":"VLOOKUP($N$1&$S$1&A49,抽出!$B$4:$O$903,7,FALSE)","v":"網走"},null,{"$f":"VLOOKUP($N$1&$S$1&A49,抽出!$B$4:$O$903,8,FALSE)","v":"2019-07-14"},null,{"$f":"VLOOKUP($N$1&$S$1&A49,抽出!$B$4:$O$903,9,FALSE)","v":"小原詩恩"},null,null,null,{"$f":"VLOOKUP($N$1&$S$1&A49,抽出!$B$4:$O$903,10,FALSE)","v":416},null,null,{"$f":"VLOOKUP($N$1&$S$1&A49,抽出!$B$4:$O$903,11,FALSE)","v":"決"},{"$f":"VLOOKUP($N$1&$S$1&A49,抽出!$B$4:$O$903,12,FALSE)","v":"美幌北中"},null,null,{"$f":"VLOOKUP($N$1&$S$1&A49,抽出!$B$4:$O$903,13,FALSE)","v":1},{"$f":"VLOOKUP($N$1&$S$1&A49,抽出!$B$4:$O$903,14,FALSE)","v":-0.2}]
[47,{"$f":"IF(COUNTIF($K$4:N50,K50)=1,1,0)","v":1},{"$f":"IF(B50=0,\"\",SUM($B$4:B50))","v":47},{"$f":"VLOOKUP($N$1&$S$1&A50,抽出!$B$4:$O$903,6,FALSE)","v":"記録会４戦"},null,null,{"$f":"VLOOKUP($N$1&$S$1&A50,抽出!$B$4:$O$903,7,FALSE)","v":"北見"},null,{"$f":"VLOOKUP($N$1&$S$1&A50,抽出!$B$4:$O$903,8,FALSE)","v":"2019-08-04"},null,{"$f":"VLOOKUP($N$1&$S$1&A50,抽出!$B$4:$O$903,9,FALSE)","v":"栗原明慎"},null,null,null,{"$f":"VLOOKUP($N$1&$S$1&A50,抽出!$B$4:$O$903,10,FALSE)","v":416},null,null,{"$f":"VLOOKUP($N$1&$S$1&A50,抽出!$B$4:$O$903,11,FALSE)","v":"決"},{"$f":"VLOOKUP($N$1&$S$1&A50,抽出!$B$4:$O$903,12,FALSE)","v":"北見北光中"},null,null,{"$f":"VLOOKUP($N$1&$S$1&A50,抽出!$B$4:$O$903,13,FALSE)","v":1},{"$f":"VLOOKUP($N$1&$S$1&A50,抽出!$B$4:$O$903,14,FALSE)","v":-0.3}]
[48,{"$f":"IF(COUNTIF($K$4:N51,K51)=1,1,0)","v":1},{"$f":"IF(B51=0,\"\",SUM($B$4:B51))","v":48},{"$f":"VLOOKUP($N$1&$S$1&A51,抽出!$B$4:$O$903,6,FALSE)","v":"秋季陸上"},null,null,{"$f":"VLOOKUP($N$1&$S$1&A51,抽出!$B$4:$O$903,7,FALSE)","v":"網走"},null,{"$f":"VLOOKUP($N$1&$S$1&A51,抽出!$B$4:$O$903,8,FALSE)","v":"2019-09-08"},null,{"$f":"VLOOKUP($N$1&$S$1&A51,抽出!$B$4:$O$903,9,FALSE)","v":"中浜蓮"},null,null,null,{"$f":"VLOOKUP($N$1&$S$1&A51,抽出!$B$4:$O$903,10,FALSE)","v":413},null,null,{"$f":"VLOOKUP($N$1&$S$1&A51,抽出!$B$4:$O$903,11,FALSE)","v":"決"},{"$f":"VLOOKUP($N$1&$S$1&A51,抽出!$B$4:$O$903,12,FALSE)","v":"大空東藻琴中"},null,null,{"$f":"VLOOKUP($N$1&$S$1&A51,抽出!$B$4:$O$903,13,FALSE)","v":1},{"$f":"VLOOKUP($N$1&$S$1&A51,抽出!$B$4:$O$903,14,FALSE)","v":0.1}]
[49,{"$f":"IF(COUNTIF($K$4:N52,K52)=1,1,0)","v":1},{"$f":"IF(B52=0,\"\",SUM($B$4:B52))","v":49},{"$f":"VLOOKUP($N$1&$S$1&A52,抽出!$B$4:$O$903,6,FALSE)","v":"通信陸上"},null,null,{"$f":"VLOOKUP($N$1&$S$1&A52,抽出!$B$4:$O$903,7,FALSE)","v":"網走"},null,{"$f":"VLOOKUP($N$1&$S$1&A52,抽出!$B$4:$O$903,8,FALSE)","v":"2019-06-28"},null,{"$f":"VLOOKUP($N$1&$S$1&A52,抽出!$B$4:$O$903,9,FALSE)","v":"杉澤快流"},null,null,null,{"$f":"VLOOKUP($N$1&$S$1&A52,抽出!$B$4:$O$903,10,FALSE)","v":407},null,null,{"$f":"VLOOKUP($N$1&$S$1&A52,抽出!$B$4:$O$903,11,FALSE)","v":"予"},{"$f":"VLOOKUP($N$1&$S$1&A52,抽出!$B$4:$O$903,12,FALSE)","v":"北見東陵中"},null,null,{"$f":"VLOOKUP($N$1&$S$1&A52,抽出!$B$4:$O$903,13,FALSE)","v":2},{"$f":"VLOOKUP($N$1&$S$1&A52,抽出!$B$4:$O$903,14,FALSE)","v":1.2}]
[50,{"$f":"IF(COUNTIF($K$4:N53,K53)=1,1,0)","v":1},{"$f":"IF(B53=0,\"\",SUM($B$4:B53))","v":50},{"$f":"VLOOKUP($N$1&$S$1&A53,抽出!$B$4:$O$903,6,FALSE)","v":"秋季陸上"},null,null,{"$f":"VLOOKUP($N$1&$S$1&A53,抽出!$B$4:$O$903,7,FALSE)","v":"網走"},null,{"$f":"VLOOKUP($N$1&$S$1&A53,抽出!$B$4:$O$903,8,FALSE)","v":"2019-09-08"},null,{"$f":"VLOOKUP($N$1&$S$1&A53,抽出!$B$4:$O$903,9,FALSE)","v":"大津陽弥"},null,null,null,{"$f":"VLOOKUP($N$1&$S$1&A53,抽出!$B$4:$O$903,10,FALSE)","v":405},null,null,{"$f":"VLOOKUP($N$1&$S$1&A53,抽出!$B$4:$O$903,11,FALSE)","v":"決"},{"$f":"VLOOKUP($N$1&$S$1&A53,抽出!$B$4:$O$903,12,FALSE)","v":"北見高栄中"},null,null,{"$f":"VLOOKUP($N$1&$S$1&A53,抽出!$B$4:$O$903,13,FALSE)","v":1},{"$f":"VLOOKUP($N$1&$S$1&A53,抽出!$B$4:$O$903,14,FALSE)","v":0.5}]
[51,{"$f":"IF(COUNTIF($K$4:N54,K54)=1,1,0)","v":1},{"$f":"IF(B54=0,\"\",SUM($B$4:B54))","v":51},{"$f":"VLOOKUP($N$1&$S$1&A54,抽出!$B$4:$O$903,6,FALSE)","v":"記録会４戦"},null,null,{"$f":"VLOOKUP($N$1&$S$1&A54,抽出!$B$4:$O$903,7,FALSE)","v":"北見"},null,{"$f":"VLOOKUP($N$1&$S$1&A54,抽出!$B$4:$O$903,8,FALSE)","v":"2019-08-04"},null,{"$f":"VLOOKUP($N$1&$S$1&A54,抽出!$B$4:$O$903,9,FALSE)","v":"酒井柊優"},null,null,null,{"$f":"VLOOKUP($N$1&$S$1&A54,抽出!$B$4:$O$903,10,FALSE)","v":405},null,null,{"$f":"VLOOKUP($N$1&$S$1&A54,抽出!$B$4:$O$903,11,FALSE)","v":"決"},{"$f":"VLOOKUP($N$1&$S$1&A54,抽出!$B$4:$O$903,12,FALSE)","v":"北見東陵中"},null,null,{"$f":"VLOOKUP($N$1&$S$1&A54,抽出!$B$4:$O$903,13,FALSE)","v":1},{"$f":"VLOOKUP($N$1&$S$1&A54,抽出!$B$4:$O$903,14,FALSE)","v":2.1}]
[52,{"$f":"IF(COUNTIF($K$4:N55,K55)=1,1,0)","v":1},{"$f":"IF(B55=0,\"\",SUM($B$4:B55))","v":52},{"$f":"VLOOKUP($N$1&$S$1&A55,抽出!$B$4:$O$903,6,FALSE)","v":"通信陸上"},null,null,{"$f":"VLOOKUP($N$1&$S$1&A55,抽出!$B$4:$O$903,7,FALSE)","v":"網走"},null,{"$f":"VLOOKUP($N$1&$S$1&A55,抽出!$B$4:$O$903,8,FALSE)","v":"2019-06-28"},null,{"$f":"VLOOKUP($N$1&$S$1&A55,抽出!$B$4:$O$903,9,FALSE)","v":"大道光竜"},null,null,null,{"$f":"VLOOKUP($N$1&$S$1&A55,抽出!$B$4:$O$903,10,FALSE)","v":396},null,null,{"$f":"VLOOKUP($N$1&$S$1&A55,抽出!$B$4:$O$903,11,FALSE)","v":"予"},{"$f":"VLOOKUP($N$1&$S$1&A55,抽出!$B$4:$O$903,12,FALSE)","v":"北見高栄中"},null,null,{"$f":"VLOOKUP($N$1&$S$1&A55,抽出!$B$4:$O$903,13,FALSE)","v":1},{"$f":"VLOOKUP($N$1&$S$1&A55,抽出!$B$4:$O$903,14,FALSE)","v":1.8}]
[53,{"$f":"IF(COUNTIF($K$4:N56,K56)=1,1,0)","v":1},{"$f":"IF(B56=0,\"\",SUM($B$4:B56))","v":53},{"$f":"VLOOKUP($N$1&$S$1&A56,抽出!$B$4:$O$903,6,FALSE)","v":"秋季陸上"},null,null,{"$f":"VLOOKUP($N$1&$S$1&A56,抽出!$B$4:$O$903,7,FALSE)","v":"網走"},null,{"$f":"VLOOKUP($N$1&$S$1&A56,抽出!$B$4:$O$903,8,FALSE)","v":"2019-09-08"},null,{"$f":"VLOOKUP($N$1&$S$1&A56,抽出!$B$4:$O$903,9,FALSE)","v":"曽根哲優"},null,null,null,{"$f":"VLOOKUP($N$1&$S$1&A56,抽出!$B$4:$O$903,10,FALSE)","v":396},null,null,{"$f":"VLOOKUP($N$1&$S$1&A56,抽出!$B$4:$O$903,11,FALSE)","v":"決"},{"$f":"VLOOKUP($N$1&$S$1&A56,抽出!$B$4:$O$903,12,FALSE)","v":"美幌北中"},null,null,{"$f":"VLOOKUP($N$1&$S$1&A56,抽出!$B$4:$O$903,13,FALSE)","v":1},{"$f":"VLOOKUP($N$1&$S$1&A56,抽出!$B$4:$O$903,14,FALSE)","v":-0.5}]
[54,{"$f":"IF(COUNTIF($K$4:N57,K57)=1,1,0)","v":1},{"$f":"IF(B57=0,\"\",SUM($B$4:B57))","v":54},{"$f":"VLOOKUP($N$1&$S$1&A57,抽出!$B$4:$O$903,6,FALSE)","v":"通信陸上"},null,null,{"$f":"VLOOKUP($N$1&$S$1&A57,抽出!$B$4:$O$903,7,FALSE)","v":"網走"},null,{"$f":"VLOOKUP($N$1&$S$1&A57,抽出!$B$4:$O$903,8,FALSE)","v":"2019-06-28"},null,{"$f":"VLOOKUP($N$1&$S$1&A57,抽出!$B$4:$O$903,9,FALSE)","v":"浅倉悠大"},null,null,null,{"$f":"VLOOKUP($N$1&$S$1&A57,抽出!$B$4:$O$903,10,FALSE)","v":392},null,null,{"$f":"VLOOKUP($N$1&$S$1&A57,抽出!$B$4:$O$903,11,FALSE)","v":"予"},{"$f":"VLOOKUP($N$1&$S$1&A57,抽出!$B$4:$O$903,12,FALSE)","v":"美幌北中"},null,null,{"$f":"VLOOKUP($N$1&$S$1&A57,抽出!$B$4:$O$903,13,FALSE)","v":1},{"$f":"VLOOKUP($N$1&$S$1&A57,抽出!$B$4:$O$903,14,FALSE)","v":1}]
[55,{"$f":"IF(COUNTIF($K$4:N58,K58)=1,1,0)","v":1},{"$f":"IF(B58=0,\"\",SUM($B$4:B58))","v":55},{"$f":"VLOOKUP($N$1&$S$1&A58,抽出!$B$4:$O$903,6,FALSE)","v":"中体連地区"},null,null,{"$f":"VLOOKUP($N$1&$S$1&A58,抽出!$B$4:$O$903,7,FALSE)","v":"北見"},null,{"$f":"VLOOKUP($N$1&$S$1&A58,抽出!$B$4:$O$903,8,FALSE)","v":"2019-06-14"},null,{"$f":"VLOOKUP($N$1&$S$1&A58,抽出!$B$4:$O$903,9,FALSE)","v":"亀田怜苑"},null,null,null,{"$f":"VLOOKUP($N$1&$S$1&A58,抽出!$B$4:$O$903,10,FALSE)","v":392},null,null,{"$f":"VLOOKUP($N$1&$S$1&A58,抽出!$B$4:$O$903,11,FALSE)","v":"予"},{"$f":"VLOOKUP($N$1&$S$1&A58,抽出!$B$4:$O$903,12,FALSE)","v":"北見小泉中"},null,null,{"$f":"VLOOKUP($N$1&$S$1&A58,抽出!$B$4:$O$903,13,FALSE)","v":1},{"$f":"VLOOKUP($N$1&$S$1&A58,抽出!$B$4:$O$903,14,FALSE)","v":0.7}]
[56,{"$f":"IF(COUNTIF($K$4:N59,K59)=1,1,0)","v":1},{"$f":"IF(B59=0,\"\",SUM($B$4:B59))","v":56},{"$f":"VLOOKUP($N$1&$S$1&A59,抽出!$B$4:$O$903,6,FALSE)","v":"中学新人"},null,null,{"$f":"VLOOKUP($N$1&$S$1&A59,抽出!$B$4:$O$903,7,FALSE)","v":"網走"},null,{"$f":"VLOOKUP($N$1&$S$1&A59,抽出!$B$4:$O$903,8,FALSE)","v":"2019-08-23"},null,{"$f":"VLOOKUP($N$1&$S$1&A59,抽出!$B$4:$O$903,9,FALSE)","v":"林柚輔"},null,null,null,{"$f":"VLOOKUP($N$1&$S$1&A59,抽出!$B$4:$O$903,10,FALSE)","v":390},null,null,{"$f":"VLOOKUP($N$1&$S$1&A59,抽出!$B$4:$O$903,11,FALSE)","v":"決"},{"$f":"VLOOKUP($N$1&$S$1&A59,抽出!$B$4:$O$903,12,FALSE)","v":"北見北中"},null,null,{"$f":"VLOOKUP($N$1&$S$1&A59,抽出!$B$4:$O$903,13,FALSE)","v":1},{"$f":"VLOOKUP($N$1&$S$1&A59,抽出!$B$4:$O$903,14,FALSE)","v":-0.1}]
[57,{"$f":"IF(COUNTIF($K$4:N60,K60)=1,1,0)","v":1},{"$f":"IF(B60=0,\"\",SUM($B$4:B60))","v":57},{"$f":"VLOOKUP($N$1&$S$1&A60,抽出!$B$4:$O$903,6,FALSE)","v":"中体連地区"},null,null,{"$f":"VLOOKUP($N$1&$S$1&A60,抽出!$B$4:$O$903,7,FALSE)","v":"北見"},null,{"$f":"VLOOKUP($N$1&$S$1&A60,抽出!$B$4:$O$903,8,FALSE)","v":"2019-06-14"},null,{"$f":"VLOOKUP($N$1&$S$1&A60,抽出!$B$4:$O$903,9,FALSE)","v":"西藤志竜"},null,null,null,{"$f":"VLOOKUP($N$1&$S$1&A60,抽出!$B$4:$O$903,10,FALSE)","v":379},null,null,{"$f":"VLOOKUP($N$1&$S$1&A60,抽出!$B$4:$O$903,11,FALSE)","v":"予"},{"$f":"VLOOKUP($N$1&$S$1&A60,抽出!$B$4:$O$903,12,FALSE)","v":"北見南中"},null,null,{"$f":"VLOOKUP($N$1&$S$1&A60,抽出!$B$4:$O$903,13,FALSE)","v":1},{"$f":"VLOOKUP($N$1&$S$1&A60,抽出!$B$4:$O$903,14,FALSE)","v":3.7}]
[58,{"$f":"IF(COUNTIF($K$4:N61,K61)=1,1,0)","v":1},{"$f":"IF(B61=0,\"\",SUM($B$4:B61))","v":58},{"$f":"VLOOKUP($N$1&$S$1&A61,抽出!$B$4:$O$903,6,FALSE)","v":"秋季陸上"},null,null,{"$f":"VLOOKUP($N$1&$S$1&A61,抽出!$B$4:$O$903,7,FALSE)","v":"網走"},null,{"$f":"VLOOKUP($N$1&$S$1&A61,抽出!$B$4:$O$903,8,FALSE)","v":"2019-09-08"},null,{"$f":"VLOOKUP($N$1&$S$1&A61,抽出!$B$4:$O$903,9,FALSE)","v":"髙橋龍之介"},null,null,null,{"$f":"VLOOKUP($N$1&$S$1&A61,抽出!$B$4:$O$903,10,FALSE)","v":378},null,null,{"$f":"VLOOKUP($N$1&$S$1&A61,抽出!$B$4:$O$903,11,FALSE)","v":"決"},{"$f":"VLOOKUP($N$1&$S$1&A61,抽出!$B$4:$O$903,12,FALSE)","v":"網走第四中"},null,null,{"$f":"VLOOKUP($N$1&$S$1&A61,抽出!$B$4:$O$903,13,FALSE)","v":1},{"$f":"VLOOKUP($N$1&$S$1&A61,抽出!$B$4:$O$903,14,FALSE)","v":-1.2}]
[59,{"$f":"IF(COUNTIF($K$4:N62,K62)=1,1,0)","v":1},{"$f":"IF(B62=0,\"\",SUM($B$4:B62))","v":59},{"$f":"VLOOKUP($N$1&$S$1&A62,抽出!$B$4:$O$903,6,FALSE)","v":"中体連地区"},null,null,{"$f":"VLOOKUP($N$1&$S$1&A62,抽出!$B$4:$O$903,7,FALSE)","v":"北見"},null,{"$f":"VLOOKUP($N$1&$S$1&A62,抽出!$B$4:$O$903,8,FALSE)","v":"2019-06-14"},null,{"$f":"VLOOKUP($N$1&$S$1&A62,抽出!$B$4:$O$903,9,FALSE)","v":"大友永遠"},null,null,null,{"$f":"VLOOKUP($N$1&$S$1&A62,抽出!$B$4:$O$903,10,FALSE)","v":378},null,null,{"$f":"VLOOKUP($N$1&$S$1&A62,抽出!$B$4:$O$903,11,FALSE)","v":"予"},{"$f":"VLOOKUP($N$1&$S$1&A62,抽出!$B$4:$O$903,12,FALSE)","v":"美幌北中"},null,null,{"$f":"VLOOKUP($N$1&$S$1&A62,抽出!$B$4:$O$903,13,FALSE)","v":1},{"$f":"VLOOKUP($N$1&$S$1&A62,抽出!$B$4:$O$903,14,FALSE)","v":2}]
[60,{"$f":"IF(COUNTIF($K$4:N63,K63)=1,1,0)","v":1},{"$f":"IF(B63=0,\"\",SUM($B$4:B63))","v":60},{"$f":"VLOOKUP($N$1&$S$1&A63,抽出!$B$4:$O$903,6,FALSE)","v":"中体連地区"},null,null,{"$f":"VLOOKUP($N$1&$S$1&A63,抽出!$B$4:$O$903,7,FALSE)","v":"北見"},null,{"$f":"VLOOKUP($N$1&$S$1&A63,抽出!$B$4:$O$903,8,FALSE)","v":"2019-06-14"},null,{"$f":"VLOOKUP($N$1&$S$1&A63,抽出!$B$4:$O$903,9,FALSE)","v":"橋本颯汰"},null,null,null,{"$f":"VLOOKUP($N$1&$S$1&A63,抽出!$B$4:$O$903,10,FALSE)","v":377},null,null,{"$f":"VLOOKUP($N$1&$S$1&A63,抽出!$B$4:$O$903,11,FALSE)","v":"予"},{"$f":"VLOOKUP($N$1&$S$1&A63,抽出!$B$4:$O$903,12,FALSE)","v":"美幌北中"},null,null,{"$f":"VLOOKUP($N$1&$S$1&A63,抽出!$B$4:$O$903,13,FALSE)","v":1},{"$f":"VLOOKUP($N$1&$S$1&A63,抽出!$B$4:$O$903,14,FALSE)","v":2.9}]
[61,{"$f":"IF(COUNTIF($K$4:N64,K64)=1,1,0)","v":1},{"$f":"IF(B64=0,\"\",SUM($B$4:B64))","v":61},{"$f":"VLOOKUP($N$1&$S$1&A64,抽出!$B$4:$O$903,6,FALSE)","v":"選手権"},null,null,{"$f":"VLOOKUP($N$1&$S$1&A64,抽出!$B$4:$O$903,7,FALSE)","v":"北見"},null,{"$f":"VLOOKUP($N$1&$S$1&A64,抽出!$B$4:$O$903,8,FALSE)","v":"2019-05-11"},null,{"$f":"VLOOKUP($N$1&$S$1&A64,抽出!$B$4:$O$903,9,FALSE)","v":"西陽矢"},null,null,null,{"$f":"VLOOKUP($N$1&$S$1&A64,抽出!$B$4:$O$903,10,FALSE)","v":375},null,null,{"$f":"VLOOKUP($N$1&$S$1&A64,抽出!$B$4:$O$903,11,FALSE)","v":"決"},{"$f":"VLOOKUP($N$1&$S$1&A64,抽出!$B$4:$O$903,12,FALSE)","v":"大空東藻琴中"},null,null,{"$f":"VLOOKUP($N$1&$S$1&A64,抽出!$B$4:$O$903,13,FALSE)","v":2},{"$f":"VLOOKUP($N$1&$S$1&A64,抽出!$B$4:$O$903,14,FALSE)","v":0.6}]
[62,{"$f":"IF(COUNTIF($K$4:N65,K65)=1,1,0)","v":1},{"$f":"IF(B65=0,\"\",SUM($B$4:B65))","v":62},{"$f":"VLOOKUP($N$1&$S$1&A65,抽出!$B$4:$O$903,6,FALSE)","v":"秋季陸上"},null,null,{"$f":"VLOOKUP($N$1&$S$1&A65,抽出!$B$4:$O$903,7,FALSE)","v":"網走"},null,{"$f":"VLOOKUP($N$1&$S$1&A65,抽出!$B$4:$O$903,8,FALSE)","v":"2019-09-08"},null,{"$f":"VLOOKUP($N$1&$S$1&A65,抽出!$B$4:$O$903,9,FALSE)","v":"白井爽太郎"},null,null,null,{"$f":"VLOOKUP($N$1&$S$1&A65,抽出!$B$4:$O$903,10,FALSE)","v":372},null,null,{"$f":"VLOOKUP($N$1&$S$1&A65,抽出!$B$4:$O$903,11,FALSE)","v":"決"},{"$f":"VLOOKUP($N$1&$S$1&A65,抽出!$B$4:$O$903,12,FALSE)","v":"大空東藻琴中"},null,null,{"$f":"VLOOKUP($N$1&$S$1&A65,抽出!$B$4:$O$903,13,FALSE)","v":1},{"$f":"VLOOKUP($N$1&$S$1&A65,抽出!$B$4:$O$903,14,FALSE)","v":0.1}]
[63,{"$f":"IF(COUNTIF($K$4:N66,K66)=1,1,0)","v":1},{"$f":"IF(B66=0,\"\",SUM($B$4:B66))","v":63},{"$f":"VLOOKUP($N$1&$S$1&A66,抽出!$B$4:$O$903,6,FALSE)","v":"記録会３戦"},null,null,{"$f":"VLOOKUP($N$1&$S$1&A66,抽出!$B$4:$O$903,7,FALSE)","v":"網走"},null,{"$f":"VLOOKUP($N$1&$S$1&A66,抽出!$B$4:$O$903,8,FALSE)","v":"2019-07-14"},null,{"$f":"VLOOKUP($N$1&$S$1&A66,抽出!$B$4:$O$903,9,FALSE)","v":"三原立暉"},null,null,null,{"$f":"VLOOKUP($N$1&$S$1&A66,抽出!$B$4:$O$903,10,FALSE)","v":372},null,null,{"$f":"VLOOKUP($N$1&$S$1&A66,抽出!$B$4:$O$903,11,FALSE)","v":"決"},{"$f":"VLOOKUP($N$1&$S$1&A66,抽出!$B$4:$O$903,12,FALSE)","v":"網走第一中"},null,null,{"$f":"VLOOKUP($N$1&$S$1&A66,抽出!$B$4:$O$903,13,FALSE)","v":1},{"$f":"VLOOKUP($N$1&$S$1&A66,抽出!$B$4:$O$903,14,FALSE)","v":-0.2}]
[64,{"$f":"IF(COUNTIF($K$4:N67,K67)=1,1,0)","v":1},{"$f":"IF(B67=0,\"\",SUM($B$4:B67))","v":64},{"$f":"VLOOKUP($N$1&$S$1&A67,抽出!$B$4:$O$903,6,FALSE)","v":"中学新人"},null,null,{"$f":"VLOOKUP($N$1&$S$1&A67,抽出!$B$4:$O$903,7,FALSE)","v":"網走"},null,{"$f":"VLOOKUP($N$1&$S$1&A67,抽出!$B$4:$O$903,8,FALSE)","v":"2019-08-23"},null,{"$f":"VLOOKUP($N$1&$S$1&A67,抽出!$B$4:$O$903,9,FALSE)","v":"米倉啓太"},null,null,null,{"$f":"VLOOKUP($N$1&$S$1&A67,抽出!$B$4:$O$903,10,FALSE)","v":369},null,null,{"$f":"VLOOKUP($N$1&$S$1&A67,抽出!$B$4:$O$903,11,FALSE)","v":"決"},{"$f":"VLOOKUP($N$1&$S$1&A67,抽出!$B$4:$O$903,12,FALSE)","v":"大空女満別中"},null,null,{"$f":"VLOOKUP($N$1&$S$1&A67,抽出!$B$4:$O$903,13,FALSE)","v":1},{"$f":"VLOOKUP($N$1&$S$1&A67,抽出!$B$4:$O$903,14,FALSE)","v":-0.3}]
[65,{"$f":"IF(COUNTIF($K$4:N68,K68)=1,1,0)","v":1},{"$f":"IF(B68=0,\"\",SUM($B$4:B68))","v":65},{"$f":"VLOOKUP($N$1&$S$1&A68,抽出!$B$4:$O$903,6,FALSE)","v":"記録会３戦"},null,null,{"$f":"VLOOKUP($N$1&$S$1&A68,抽出!$B$4:$O$903,7,FALSE)","v":"網走"},null,{"$f":"VLOOKUP($N$1&$S$1&A68,抽出!$B$4:$O$903,8,FALSE)","v":"2019-07-14"},null,{"$f":"VLOOKUP($N$1&$S$1&A68,抽出!$B$4:$O$903,9,FALSE)","v":"野村駿"},null,null,null,{"$f":"VLOOKUP($N$1&$S$1&A68,抽出!$B$4:$O$903,10,FALSE)","v":368},null,null,{"$f":"VLOOKUP($N$1&$S$1&A68,抽出!$B$4:$O$903,11,FALSE)","v":"決"},{"$f":"VLOOKUP($N$1&$S$1&A68,抽出!$B$4:$O$903,12,FALSE)","v":"北見東陵中"},null,null,{"$f":"VLOOKUP($N$1&$S$1&A68,抽出!$B$4:$O$903,13,FALSE)","v":1},{"$f":"VLOOKUP($N$1&$S$1&A68,抽出!$B$4:$O$903,14,FALSE)","v":1.4}]
[66,{"$f":"IF(COUNTIF($K$4:N69,K69)=1,1,0)","v":1},{"$f":"IF(B69=0,\"\",SUM($B$4:B69))","v":66},{"$f":"VLOOKUP($N$1&$S$1&A69,抽出!$B$4:$O$903,6,FALSE)","v":"記録会３戦"},null,null,{"$f":"VLOOKUP($N$1&$S$1&A69,抽出!$B$4:$O$903,7,FALSE)","v":"網走"},null,{"$f":"VLOOKUP($N$1&$S$1&A69,抽出!$B$4:$O$903,8,FALSE)","v":"2019-07-14"},null,{"$f":"VLOOKUP($N$1&$S$1&A69,抽出!$B$4:$O$903,9,FALSE)","v":"城石陸斗"},null,null,null,{"$f":"VLOOKUP($N$1&$S$1&A69,抽出!$B$4:$O$903,10,FALSE)","v":361},null,null,{"$f":"VLOOKUP($N$1&$S$1&A69,抽出!$B$4:$O$903,11,FALSE)","v":"決"},{"$f":"VLOOKUP($N$1&$S$1&A69,抽出!$B$4:$O$903,12,FALSE)","v":"北見小泉中"},null,null,{"$f":"VLOOKUP($N$1&$S$1&A69,抽出!$B$4:$O$903,13,FALSE)","v":1},{"$f":"VLOOKUP($N$1&$S$1&A69,抽出!$B$4:$O$903,14,FALSE)","v":0.9}]
[67,{"$f":"IF(COUNTIF($K$4:N70,K70)=1,1,0)","v":1},{"$f":"IF(B70=0,\"\",SUM($B$4:B70))","v":67},{"$f":"VLOOKUP($N$1&$S$1&A70,抽出!$B$4:$O$903,6,FALSE)","v":"中学新人"},null,null,{"$f":"VLOOKUP($N$1&$S$1&A70,抽出!$B$4:$O$903,7,FALSE)","v":"網走"},null,{"$f":"VLOOKUP($N$1&$S$1&A70,抽出!$B$4:$O$903,8,FALSE)","v":"2019-08-23"},null,{"$f":"VLOOKUP($N$1&$S$1&A70,抽出!$B$4:$O$903,9,FALSE)","v":"本川雅久"},null,null,null,{"$f":"VLOOKUP($N$1&$S$1&A70,抽出!$B$4:$O$903,10,FALSE)","v":358},null,null,{"$f":"VLOOKUP($N$1&$S$1&A70,抽出!$B$4:$O$903,11,FALSE)","v":"決"},{"$f":"VLOOKUP($N$1&$S$1&A70,抽出!$B$4:$O$903,12,FALSE)","v":"大空女満別中"},null,null,{"$f":"VLOOKUP($N$1&$S$1&A70,抽出!$B$4:$O$903,13,FALSE)","v":1},{"$f":"VLOOKUP($N$1&$S$1&A70,抽出!$B$4:$O$903,14,FALSE)","v":0}]
[68,{"$f":"IF(COUNTIF($K$4:N71,K71)=1,1,0)","v":1},{"$f":"IF(B71=0,\"\",SUM($B$4:B71))","v":68},{"$f":"VLOOKUP($N$1&$S$1&A71,抽出!$B$4:$O$903,6,FALSE)","v":"中学新人"},null,null,{"$f":"VLOOKUP($N$1&$S$1&A71,抽出!$B$4:$O$903,7,FALSE)","v":"網走"},null,{"$f":"VLOOKUP($N$1&$S$1&A71,抽出!$B$4:$O$903,8,FALSE)","v":"2019-08-23"},null,{"$f":"VLOOKUP($N$1&$S$1&A71,抽出!$B$4:$O$903,9,FALSE)","v":"飯島空輝"},null,null,null,{"$f":"VLOOKUP($N$1&$S$1&A71,抽出!$B$4:$O$903,10,FALSE)","v":358},null,null,{"$f":"VLOOKUP($N$1&$S$1&A71,抽出!$B$4:$O$903,11,FALSE)","v":"決"},{"$f":"VLOOKUP($N$1&$S$1&A71,抽出!$B$4:$O$903,12,FALSE)","v":"北見北中"},null,null,{"$f":"VLOOKUP($N$1&$S$1&A71,抽出!$B$4:$O$903,13,FALSE)","v":1},{"$f":"VLOOKUP($N$1&$S$1&A71,抽出!$B$4:$O$903,14,FALSE)","v":1}]
[69,{"$f":"IF(COUNTIF($K$4:N72,K72)=1,1,0)","v":1},{"$f":"IF(B72=0,\"\",SUM($B$4:B72))","v":69},{"$f":"VLOOKUP($N$1&$S$1&A72,抽出!$B$4:$O$903,6,FALSE)","v":"記録会３戦"},null,null,{"$f":"VLOOKUP($N$1&$S$1&A72,抽出!$B$4:$O$903,7,FALSE)","v":"網走"},null,{"$f":"VLOOKUP($N$1&$S$1&A72,抽出!$B$4:$O$903,8,FALSE)","v":"2019-07-14"},null,{"$f":"VLOOKUP($N$1&$S$1&A72,抽出!$B$4:$O$903,9,FALSE)","v":"上西翔"},null,null,null,{"$f":"VLOOKUP($N$1&$S$1&A72,抽出!$B$4:$O$903,10,FALSE)","v":349},null,null,{"$f":"VLOOKUP($N$1&$S$1&A72,抽出!$B$4:$O$903,11,FALSE)","v":"決"},{"$f":"VLOOKUP($N$1&$S$1&A72,抽出!$B$4:$O$903,12,FALSE)","v":"美幌中"},null,null,{"$f":"VLOOKUP($N$1&$S$1&A72,抽出!$B$4:$O$903,13,FALSE)","v":1},{"$f":"VLOOKUP($N$1&$S$1&A72,抽出!$B$4:$O$903,14,FALSE)","v":1.1000000000000001}]
[70,{"$f":"IF(COUNTIF($K$4:N73,K73)=1,1,0)","v":1},{"$f":"IF(B73=0,\"\",SUM($B$4:B73))","v":70},{"$f":"VLOOKUP($N$1&$S$1&A73,抽出!$B$4:$O$903,6,FALSE)","v":"中体連地区"},null,null,{"$f":"VLOOKUP($N$1&$S$1&A73,抽出!$B$4:$O$903,7,FALSE)","v":"北見"},null,{"$f":"VLOOKUP($N$1&$S$1&A73,抽出!$B$4:$O$903,8,FALSE)","v":"2019-06-14"},null,{"$f":"VLOOKUP($N$1&$S$1&A73,抽出!$B$4:$O$903,9,FALSE)","v":"稲垣璃久"},null,null,null,{"$f":"VLOOKUP($N$1&$S$1&A73,抽出!$B$4:$O$903,10,FALSE)","v":349},null,null,{"$f":"VLOOKUP($N$1&$S$1&A73,抽出!$B$4:$O$903,11,FALSE)","v":"予"},{"$f":"VLOOKUP($N$1&$S$1&A73,抽出!$B$4:$O$903,12,FALSE)","v":"北見北中"},null,null,{"$f":"VLOOKUP($N$1&$S$1&A73,抽出!$B$4:$O$903,13,FALSE)","v":2},{"$f":"VLOOKUP($N$1&$S$1&A73,抽出!$B$4:$O$903,14,FALSE)","v":5}]
[71,{"$f":"IF(COUNTIF($K$4:N74,K74)=1,1,0)","v":1},{"$f":"IF(B74=0,\"\",SUM($B$4:B74))","v":71},{"$f":"VLOOKUP($N$1&$S$1&A74,抽出!$B$4:$O$903,6,FALSE)","v":"記録会４戦"},null,null,{"$f":"VLOOKUP($N$1&$S$1&A74,抽出!$B$4:$O$903,7,FALSE)","v":"北見"},null,{"$f":"VLOOKUP($N$1&$S$1&A74,抽出!$B$4:$O$903,8,FALSE)","v":"2019-08-04"},null,{"$f":"VLOOKUP($N$1&$S$1&A74,抽出!$B$4:$O$903,9,FALSE)","v":"田中智也"},null,null,null,{"$f":"VLOOKUP($N$1&$S$1&A74,抽出!$B$4:$O$903,10,FALSE)","v":348},null,null,{"$f":"VLOOKUP($N$1&$S$1&A74,抽出!$B$4:$O$903,11,FALSE)","v":"決"},{"$f":"VLOOKUP($N$1&$S$1&A74,抽出!$B$4:$O$903,12,FALSE)","v":"網走第一中"},null,null,{"$f":"VLOOKUP($N$1&$S$1&A74,抽出!$B$4:$O$903,13,FALSE)","v":1},{"$f":"VLOOKUP($N$1&$S$1&A74,抽出!$B$4:$O$903,14,FALSE)","v":-1.2}]
[72,{"$f":"IF(COUNTIF($K$4:N75,K75)=1,1,0)","v":1},{"$f":"IF(B75=0,\"\",SUM($B$4:B75))","v":72},{"$f":"VLOOKUP($N$1&$S$1&A75,抽出!$B$4:$O$903,6,FALSE)","v":"通信陸上"},null,null,{"$f":"VLOOKUP($N$1&$S$1&A75,抽出!$B$4:$O$903,7,FALSE)","v":"網走"},null,{"$f":"VLOOKUP($N$1&$S$1&A75,抽出!$B$4:$O$903,8,FALSE)","v":"2019-06-28"},null,{"$f":"VLOOKUP($N$1&$S$1&A75,抽出!$B$4:$O$903,9,FALSE)","v":"山本銀士郎"},null,null,null,{"$f":"VLOOKUP($N$1&$S$1&A75,抽出!$B$4:$O$903,10,FALSE)","v":346},null,null,{"$f":"VLOOKUP($N$1&$S$1&A75,抽出!$B$4:$O$903,11,FALSE)","v":"予"},{"$f":"VLOOKUP($N$1&$S$1&A75,抽出!$B$4:$O$903,12,FALSE)","v":"網走第一中"},null,null,{"$f":"VLOOKUP($N$1&$S$1&A75,抽出!$B$4:$O$903,13,FALSE)","v":2},{"$f":"VLOOKUP($N$1&$S$1&A75,抽出!$B$4:$O$903,14,FALSE)","v":1}]
[73,{"$f":"IF(COUNTIF($K$4:N76,K76)=1,1,0)","v":1},{"$f":"IF(B76=0,\"\",SUM($B$4:B76))","v":73},{"$f":"VLOOKUP($N$1&$S$1&A76,抽出!$B$4:$O$903,6,FALSE)","v":"中体連地区"},null,null,{"$f":"VLOOKUP($N$1&$S$1&A76,抽出!$B$4:$O$903,7,FALSE)","v":"北見"},null,{"$f":"VLOOKUP($N$1&$S$1&A76,抽出!$B$4:$O$903,8,FALSE)","v":"2019-06-14"},null,{"$f":"VLOOKUP($N$1&$S$1&A76,抽出!$B$4:$O$903,9,FALSE)","v":"岩原右京"},null,null,null,{"$f":"VLOOKUP($N$1&$S$1&A76,抽出!$B$4:$O$903,10,FALSE)","v":346},null,null,{"$f":"VLOOKUP($N$1&$S$1&A76,抽出!$B$4:$O$903,11,FALSE)","v":"予"},{"$f":"VLOOKUP($N$1&$S$1&A76,抽出!$B$4:$O$903,12,FALSE)","v":"大空女満別中"},null,null,{"$f":"VLOOKUP($N$1&$S$1&A76,抽出!$B$4:$O$903,13,FALSE)","v":1},{"$f":"VLOOKUP($N$1&$S$1&A76,抽出!$B$4:$O$903,14,FALSE)","v":1.7}]
[74,{"$f":"IF(COUNTIF($K$4:N77,K77)=1,1,0)","v":1},{"$f":"IF(B77=0,\"\",SUM($B$4:B77))","v":74},{"$f":"VLOOKUP($N$1&$S$1&A77,抽出!$B$4:$O$903,6,FALSE)","v":"通信陸上"},null,null,{"$f":"VLOOKUP($N$1&$S$1&A77,抽出!$B$4:$O$903,7,FALSE)","v":"網走"},null,{"$f":"VLOOKUP($N$1&$S$1&A77,抽出!$B$4:$O$903,8,FALSE)","v":"2019-06-28"},null,{"$f":"VLOOKUP($N$1&$S$1&A77,抽出!$B$4:$O$903,9,FALSE)","v":"谷脇良明"},null,null,null,{"$f":"VLOOKUP($N$1&$S$1&A77,抽出!$B$4:$O$903,10,FALSE)","v":344},null,null,{"$f":"VLOOKUP($N$1&$S$1&A77,抽出!$B$4:$O$903,11,FALSE)","v":"予"},{"$f":"VLOOKUP($N$1&$S$1&A77,抽出!$B$4:$O$903,12,FALSE)","v":"北見南中"},null,null,{"$f":"VLOOKUP($N$1&$S$1&A77,抽出!$B$4:$O$903,13,FALSE)","v":1},{"$f":"VLOOKUP($N$1&$S$1&A77,抽出!$B$4:$O$903,14,FALSE)","v":1.8}]
[75,{"$f":"IF(COUNTIF($K$4:N78,K78)=1,1,0)","v":1},{"$f":"IF(B78=0,\"\",SUM($B$4:B78))","v":75},{"$f":"VLOOKUP($N$1&$S$1&A78,抽出!$B$4:$O$903,6,FALSE)","v":"通信陸上"},null,null,{"$f":"VLOOKUP($N$1&$S$1&A78,抽出!$B$4:$O$903,7,FALSE)","v":"網走"},null,{"$f":"VLOOKUP($N$1&$S$1&A78,抽出!$B$4:$O$903,8,FALSE)","v":"2019-06-28"},null,{"$f":"VLOOKUP($N$1&$S$1&A78,抽出!$B$4:$O$903,9,FALSE)","v":"野口蒼太"},null,null,null,{"$f":"VLOOKUP($N$1&$S$1&A78,抽出!$B$4:$O$903,10,FALSE)","v":342},null,null,{"$f":"VLOOKUP($N$1&$S$1&A78,抽出!$B$4:$O$903,11,FALSE)","v":"予"},{"$f":"VLOOKUP($N$1&$S$1&A78,抽出!$B$4:$O$903,12,FALSE)","v":"北見小泉中"},null,null,{"$f":"VLOOKUP($N$1&$S$1&A78,抽出!$B$4:$O$903,13,FALSE)","v":1},{"$f":"VLOOKUP($N$1&$S$1&A78,抽出!$B$4:$O$903,14,FALSE)","v":2.2000000000000002}]
[76,{"$f":"IF(COUNTIF($K$4:N79,K79)=1,1,0)","v":1},{"$f":"IF(B79=0,\"\",SUM($B$4:B79))","v":76},{"$f":"VLOOKUP($N$1&$S$1&A79,抽出!$B$4:$O$903,6,FALSE)","v":"中学新人"},null,null,{"$f":"VLOOKUP($N$1&$S$1&A79,抽出!$B$4:$O$903,7,FALSE)","v":"網走"},null,{"$f":"VLOOKUP($N$1&$S$1&A79,抽出!$B$4:$O$903,8,FALSE)","v":"2019-08-23"},null,{"$f":"VLOOKUP($N$1&$S$1&A79,抽出!$B$4:$O$903,9,FALSE)","v":"近藤陸翼"},null,null,null,{"$f":"VLOOKUP($N$1&$S$1&A79,抽出!$B$4:$O$903,10,FALSE)","v":340},null,null,{"$f":"VLOOKUP($N$1&$S$1&A79,抽出!$B$4:$O$903,11,FALSE)","v":"決"},{"$f":"VLOOKUP($N$1&$S$1&A79,抽出!$B$4:$O$903,12,FALSE)","v":"北見留辺蘂中"},null,null,{"$f":"VLOOKUP($N$1&$S$1&A79,抽出!$B$4:$O$903,13,FALSE)","v":1},{"$f":"VLOOKUP($N$1&$S$1&A79,抽出!$B$4:$O$903,14,FALSE)","v":1.3}]
[77,{"$f":"IF(COUNTIF($K$4:N80,K80)=1,1,0)","v":1},{"$f":"IF(B80=0,\"\",SUM($B$4:B80))","v":77},{"$f":"VLOOKUP($N$1&$S$1&A80,抽出!$B$4:$O$903,6,FALSE)","v":"記録会第２戦"},null,null,{"$f":"VLOOKUP($N$1&$S$1&A80,抽出!$B$4:$O$903,7,FALSE)","v":"網走"},null,{"$f":"VLOOKUP($N$1&$S$1&A80,抽出!$B$4:$O$903,8,FALSE)","v":"2019-05-05"},null,{"$f":"VLOOKUP($N$1&$S$1&A80,抽出!$B$4:$O$903,9,FALSE)","v":"黒田悠羽"},null,null,null,{"$f":"VLOOKUP($N$1&$S$1&A80,抽出!$B$4:$O$903,10,FALSE)","v":334},null,null,{"$f":"VLOOKUP($N$1&$S$1&A80,抽出!$B$4:$O$903,11,FALSE)","v":"決"},{"$f":"VLOOKUP($N$1&$S$1&A80,抽出!$B$4:$O$903,12,FALSE)","v":"北見常呂中"},null,null,{"$f":"VLOOKUP($N$1&$S$1&A80,抽出!$B$4:$O$903,13,FALSE)","v":1},{"$f":"VLOOKUP($N$1&$S$1&A80,抽出!$B$4:$O$903,14,FALSE)","v":1.9}]
[78,{"$f":"IF(COUNTIF($K$4:N81,K81)=1,1,0)","v":1},{"$f":"IF(B81=0,\"\",SUM($B$4:B81))","v":78},{"$f":"VLOOKUP($N$1&$S$1&A81,抽出!$B$4:$O$903,6,FALSE)","v":"中学新人"},null,null,{"$f":"VLOOKUP($N$1&$S$1&A81,抽出!$B$4:$O$903,7,FALSE)","v":"網走"},null,{"$f":"VLOOKUP($N$1&$S$1&A81,抽出!$B$4:$O$903,8,FALSE)","v":"2019-08-23"},null,{"$f":"VLOOKUP($N$1&$S$1&A81,抽出!$B$4:$O$903,9,FALSE)","v":"田村響"},null,null,null,{"$f":"VLOOKUP($N$1&$S$1&A81,抽出!$B$4:$O$903,10,FALSE)","v":331},null,null,{"$f":"VLOOKUP($N$1&$S$1&A81,抽出!$B$4:$O$903,11,FALSE)","v":"決"},{"$f":"VLOOKUP($N$1&$S$1&A81,抽出!$B$4:$O$903,12,FALSE)","v":"北見南中"},null,null,{"$f":"VLOOKUP($N$1&$S$1&A81,抽出!$B$4:$O$903,13,FALSE)","v":1},{"$f":"VLOOKUP($N$1&$S$1&A81,抽出!$B$4:$O$903,14,FALSE)","v":0.6}]
[79,{"$f":"IF(COUNTIF($K$4:N82,K82)=1,1,0)","v":1},{"$f":"IF(B82=0,\"\",SUM($B$4:B82))","v":79},{"$f":"VLOOKUP($N$1&$S$1&A82,抽出!$B$4:$O$903,6,FALSE)","v":"通信陸上"},null,null,{"$f":"VLOOKUP($N$1&$S$1&A82,抽出!$B$4:$O$903,7,FALSE)","v":"網走"},null,{"$f":"VLOOKUP($N$1&$S$1&A82,抽出!$B$4:$O$903,8,FALSE)","v":"2019-06-28"},null,{"$f":"VLOOKUP($N$1&$S$1&A82,抽出!$B$4:$O$903,9,FALSE)","v":"斉藤楓"},null,null,null,{"$f":"VLOOKUP($N$1&$S$1&A82,抽出!$B$4:$O$903,10,FALSE)","v":325},null,null,{"$f":"VLOOKUP($N$1&$S$1&A82,抽出!$B$4:$O$903,11,FALSE)","v":"予"},{"$f":"VLOOKUP($N$1&$S$1&A82,抽出!$B$4:$O$903,12,FALSE)","v":"紋別中"},null,null,{"$f":"VLOOKUP($N$1&$S$1&A82,抽出!$B$4:$O$903,13,FALSE)","v":1},{"$f":"VLOOKUP($N$1&$S$1&A82,抽出!$B$4:$O$903,14,FALSE)","v":1.1000000000000001}]
[80,{"$f":"IF(COUNTIF($K$4:N83,K83)=1,1,0)","v":1},{"$f":"IF(B83=0,\"\",SUM($B$4:B83))","v":80},{"$f":"VLOOKUP($N$1&$S$1&A83,抽出!$B$4:$O$903,6,FALSE)","v":"記録会３戦"},null,null,{"$f":"VLOOKUP($N$1&$S$1&A83,抽出!$B$4:$O$903,7,FALSE)","v":"網走"},null,{"$f":"VLOOKUP($N$1&$S$1&A83,抽出!$B$4:$O$903,8,FALSE)","v":"2019-07-14"},null,{"$f":"VLOOKUP($N$1&$S$1&A83,抽出!$B$4:$O$903,9,FALSE)","v":"小林蓮弥"},null,null,null,{"$f":"VLOOKUP($N$1&$S$1&A83,抽出!$B$4:$O$903,10,FALSE)","v":323},null,null,{"$f":"VLOOKUP($N$1&$S$1&A83,抽出!$B$4:$O$903,11,FALSE)","v":"決"},{"$f":"VLOOKUP($N$1&$S$1&A83,抽出!$B$4:$O$903,12,FALSE)","v":"北見小泉中"},null,null,{"$f":"VLOOKUP($N$1&$S$1&A83,抽出!$B$4:$O$903,13,FALSE)","v":1},{"$f":"VLOOKUP($N$1&$S$1&A83,抽出!$B$4:$O$903,14,FALSE)","v":0.5}]
[81,{"$f":"IF(COUNTIF($K$4:N84,K84)=1,1,0)","v":1},{"$f":"IF(B84=0,\"\",SUM($B$4:B84))","v":81},{"$f":"VLOOKUP($N$1&$S$1&A84,抽出!$B$4:$O$903,6,FALSE)","v":"秋季陸上"},null,null,{"$f":"VLOOKUP($N$1&$S$1&A84,抽出!$B$4:$O$903,7,FALSE)","v":"網走"},null,{"$f":"VLOOKUP($N$1&$S$1&A84,抽出!$B$4:$O$903,8,FALSE)","v":"2019-09-08"},null,{"$f":"VLOOKUP($N$1&$S$1&A84,抽出!$B$4:$O$903,9,FALSE)","v":"阿部唯人"},null,null,null,{"$f":"VLOOKUP($N$1&$S$1&A84,抽出!$B$4:$O$903,10,FALSE)","v":303},null,null,{"$f":"VLOOKUP($N$1&$S$1&A84,抽出!$B$4:$O$903,11,FALSE)","v":"決"},{"$f":"VLOOKUP($N$1&$S$1&A84,抽出!$B$4:$O$903,12,FALSE)","v":"大空東藻琴中"},null,null,{"$f":"VLOOKUP($N$1&$S$1&A84,抽出!$B$4:$O$903,13,FALSE)","v":1},{"$f":"VLOOKUP($N$1&$S$1&A84,抽出!$B$4:$O$903,14,FALSE)","v":-0.5}]
[82,{"$f":"IF(COUNTIF($K$4:N85,K85)=1,1,0)","v":1},{"$f":"IF(B85=0,\"\",SUM($B$4:B85))","v":82},{"$f":"VLOOKUP($N$1&$S$1&A85,抽出!$B$4:$O$903,6,FALSE)","v":{"$error":"#N/A"}},null,null,{"$f":"VLOOKUP($N$1&$S$1&A85,抽出!$B$4:$O$903,7,FALSE)","v":{"$error":"#N/A"}},null,{"$f":"VLOOKUP($N$1&$S$1&A85,抽出!$B$4:$O$903,8,FALSE)","v":{"$error":"#N/A"}},null,{"$f":"VLOOKUP($N$1&$S$1&A85,抽出!$B$4:$O$903,9,FALSE)","v":{"$error":"#N/A"}},null,null,null,{"$f":"VLOOKUP($N$1&$S$1&A85,抽出!$B$4:$O$903,10,FALSE)","v":{"$error":"#N/A"}},null,null,{"$f":"VLOOKUP($N$1&$S$1&A85,抽出!$B$4:$O$903,11,FALSE)","v":{"$error":"#N/A"}},{"$f":"VLOOKUP($N$1&$S$1&A85,抽出!$B$4:$O$903,12,FALSE)","v":{"$error":"#N/A"}},null,null,{"$f":"VLOOKUP($N$1&$S$1&A85,抽出!$B$4:$O$903,13,FALSE)","v":{"$error":"#N/A"}},{"$f":"VLOOKUP($N$1&$S$1&A85,抽出!$B$4:$O$903,14,FALSE)","v":{"$error":"#N/A"}}]
[83,{"$f":"IF(COUNTIF($K$4:N86,K86)=1,1,0)","v":0},{"$f":"IF(B86=0,\"\",SUM($B$4:B86))","v":""},{"$f":"VLOOKUP($N$1&$S$1&A86,抽出!$B$4:$O$903,6,FALSE)","v":{"$error":"#N/A"}},null,null,{"$f":"VLOOKUP($N$1&$S$1&A86,抽出!$B$4:$O$903,7,FALSE)","v":{"$error":"#N/A"}},null,{"$f":"VLOOKUP($N$1&$S$1&A86,抽出!$B$4:$O$903,8,FALSE)","v":{"$error":"#N/A"}},null,{"$f":"VLOOKUP($N$1&$S$1&A86,抽出!$B$4:$O$903,9,FALSE)","v":{"$error":"#N/A"}},null,null,null,{"$f":"VLOOKUP($N$1&$S$1&A86,抽出!$B$4:$O$903,10,FALSE)","v":{"$error":"#N/A"}},null,null,{"$f":"VLOOKUP($N$1&$S$1&A86,抽出!$B$4:$O$903,11,FALSE)","v":{"$error":"#N/A"}},{"$f":"VLOOKUP($N$1&$S$1&A86,抽出!$B$4:$O$903,12,FALSE)","v":{"$error":"#N/A"}},null,null,{"$f":"VLOOKUP($N$1&$S$1&A86,抽出!$B$4:$O$903,13,FALSE)","v":{"$error":"#N/A"}},{"$f":"VLOOKUP($N$1&$S$1&A86,抽出!$B$4:$O$903,14,FALSE)","v":{"$error":"#N/A"}}]
[84,{"$f":"IF(COUNTIF($K$4:N87,K87)=1,1,0)","v":0},{"$f":"IF(B87=0,\"\",SUM($B$4:B87))","v":""},{"$f":"VLOOKUP($N$1&$S$1&A87,抽出!$B$4:$O$903,6,FALSE)","v":{"$error":"#N/A"}},null,null,{"$f":"VLOOKUP($N$1&$S$1&A87,抽出!$B$4:$O$903,7,FALSE)","v":{"$error":"#N/A"}},null,{"$f":"VLOOKUP($N$1&$S$1&A87,抽出!$B$4:$O$903,8,FALSE)","v":{"$error":"#N/A"}},null,{"$f":"VLOOKUP($N$1&$S$1&A87,抽出!$B$4:$O$903,9,FALSE)","v":{"$error":"#N/A"}},null,null,null,{"$f":"VLOOKUP($N$1&$S$1&A87,抽出!$B$4:$O$903,10,FALSE)","v":{"$error":"#N/A"}},null,null,{"$f":"VLOOKUP($N$1&$S$1&A87,抽出!$B$4:$O$903,11,FALSE)","v":{"$error":"#N/A"}},{"$f":"VLOOKUP($N$1&$S$1&A87,抽出!$B$4:$O$903,12,FALSE)","v":{"$error":"#N/A"}},null,null,{"$f":"VLOOKUP($N$1&$S$1&A87,抽出!$B$4:$O$903,13,FALSE)","v":{"$error":"#N/A"}},{"$f":"VLOOKUP($N$1&$S$1&A87,抽出!$B$4:$O$903,14,FALSE)","v":{"$error":"#N/A"}}]
[85,{"$f":"IF(COUNTIF($K$4:N88,K88)=1,1,0)","v":0},{"$f":"IF(B88=0,\"\",SUM($B$4:B88))","v":""},{"$f":"VLOOKUP($N$1&$S$1&A88,抽出!$B$4:$O$903,6,FALSE)","v":{"$error":"#N/A"}},null,null,{"$f":"VLOOKUP($N$1&$S$1&A88,抽出!$B$4:$O$903,7,FALSE)","v":{"$error":"#N/A"}},null,{"$f":"VLOOKUP($N$1&$S$1&A88,抽出!$B$4:$O$903,8,FALSE)","v":{"$error":"#N/A"}},null,{"$f":"VLOOKUP($N$1&$S$1&A88,抽出!$B$4:$O$903,9,FALSE)","v":{"$error":"#N/A"}},null,null,null,{"$f":"VLOOKUP($N$1&$S$1&A88,抽出!$B$4:$O$903,10,FALSE)","v":{"$error":"#N/A"}},null,null,{"$f":"VLOOKUP($N$1&$S$1&A88,抽出!$B$4:$O$903,11,FALSE)","v":{"$error":"#N/A"}},{"$f":"VLOOKUP($N$1&$S$1&A88,抽出!$B$4:$O$903,12,FALSE)","v":{"$error":"#N/A"}},null,null,{"$f":"VLOOKUP($N$1&$S$1&A88,抽出!$B$4:$O$903,13,FALSE)","v":{"$error":"#N/A"}},{"$f":"VLOOKUP($N$1&$S$1&A88,抽出!$B$4:$O$903,14,FALSE)","v":{"$error":"#N/A"}}]
[86,{"$f":"IF(COUNTIF($K$4:N89,K89)=1,1,0)","v":0},{"$f":"IF(B89=0,\"\",SUM($B$4:B89))","v":""},{"$f":"VLOOKUP($N$1&$S$1&A89,抽出!$B$4:$O$903,6,FALSE)","v":{"$error":"#N/A"}},null,null,{"$f":"VLOOKUP($N$1&$S$1&A89,抽出!$B$4:$O$903,7,FALSE)","v":{"$error":"#N/A"}},null,{"$f":"VLOOKUP($N$1&$S$1&A89,抽出!$B$4:$O$903,8,FALSE)","v":{"$error":"#N/A"}},null,{"$f":"VLOOKUP($N$1&$S$1&A89,抽出!$B$4:$O$903,9,FALSE)","v":{"$error":"#N/A"}},null,null,null,{"$f":"VLOOKUP($N$1&$S$1&A89,抽出!$B$4:$O$903,10,FALSE)","v":{"$error":"#N/A"}},null,null,{"$f":"VLOOKUP($N$1&$S$1&A89,抽出!$B$4:$O$903,11,FALSE)","v":{"$error":"#N/A"}},{"$f":"VLOOKUP($N$1&$S$1&A89,抽出!$B$4:$O$903,12,FALSE)","v":{"$error":"#N/A"}},null,null,{"$f":"VLOOKUP($N$1&$S$1&A89,抽出!$B$4:$O$903,13,FALSE)","v":{"$error":"#N/A"}},{"$f":"VLOOKUP($N$1&$S$1&A89,抽出!$B$4:$O$903,14,FALSE)","v":{"$error":"#N/A"}}]
[87,{"$f":"IF(COUNTIF($K$4:N90,K90)=1,1,0)","v":0},{"$f":"IF(B90=0,\"\",SUM($B$4:B90))","v":""},{"$f":"VLOOKUP($N$1&$S$1&A90,抽出!$B$4:$O$903,6,FALSE)","v":{"$error":"#N/A"}},null,null,{"$f":"VLOOKUP($N$1&$S$1&A90,抽出!$B$4:$O$903,7,FALSE)","v":{"$error":"#N/A"}},null,{"$f":"VLOOKUP($N$1&$S$1&A90,抽出!$B$4:$O$903,8,FALSE)","v":{"$error":"#N/A"}},null,{"$f":"VLOOKUP($N$1&$S$1&A90,抽出!$B$4:$O$903,9,FALSE)","v":{"$error":"#N/A"}},null,null,null,{"$f":"VLOOKUP($N$1&$S$1&A90,抽出!$B$4:$O$903,10,FALSE)","v":{"$error":"#N/A"}},null,null,{"$f":"VLOOKUP($N$1&$S$1&A90,抽出!$B$4:$O$903,11,FALSE)","v":{"$error":"#N/A"}},{"$f":"VLOOKUP($N$1&$S$1&A90,抽出!$B$4:$O$903,12,FALSE)","v":{"$error":"#N/A"}},null,null,{"$f":"VLOOKUP($N$1&$S$1&A90,抽出!$B$4:$O$903,13,FALSE)","v":{"$error":"#N/A"}},{"$f":"VLOOKUP($N$1&$S$1&A90,抽出!$B$4:$O$903,14,FALSE)","v":{"$error":"#N/A"}}]
[88,{"$f":"IF(COUNTIF($K$4:N91,K91)=1,1,0)","v":0},{"$f":"IF(B91=0,\"\",SUM($B$4:B91))","v":""},{"$f":"VLOOKUP($N$1&$S$1&A91,抽出!$B$4:$O$903,6,FALSE)","v":{"$error":"#N/A"}},null,null,{"$f":"VLOOKUP($N$1&$S$1&A91,抽出!$B$4:$O$903,7,FALSE)","v":{"$error":"#N/A"}},null,{"$f":"VLOOKUP($N$1&$S$1&A91,抽出!$B$4:$O$903,8,FALSE)","v":{"$error":"#N/A"}},null,{"$f":"VLOOKUP($N$1&$S$1&A91,抽出!$B$4:$O$903,9,FALSE)","v":{"$error":"#N/A"}},null,null,null,{"$f":"VLOOKUP($N$1&$S$1&A91,抽出!$B$4:$O$903,10,FALSE)","v":{"$error":"#N/A"}},null,null,{"$f":"VLOOKUP($N$1&$S$1&A91,抽出!$B$4:$O$903,11,FALSE)","v":{"$error":"#N/A"}},{"$f":"VLOOKUP($N$1&$S$1&A91,抽出!$B$4:$O$903,12,FALSE)","v":{"$error":"#N/A"}},null,null,{"$f":"VLOOKUP($N$1&$S$1&A91,抽出!$B$4:$O$903,13,FALSE)","v":{"$error":"#N/A"}},{"$f":"VLOOKUP($N$1&$S$1&A91,抽出!$B$4:$O$903,14,FALSE)","v":{"$error":"#N/A"}}]
[89,{"$f":"IF(COUNTIF($K$4:N92,K92)=1,1,0)","v":0},{"$f":"IF(B92=0,\"\",SUM($B$4:B92))","v":""},{"$f":"VLOOKUP($N$1&$S$1&A92,抽出!$B$4:$O$903,6,FALSE)","v":{"$error":"#N/A"}},null,null,{"$f":"VLOOKUP($N$1&$S$1&A92,抽出!$B$4:$O$903,7,FALSE)","v":{"$error":"#N/A"}},null,{"$f":"VLOOKUP($N$1&$S$1&A92,抽出!$B$4:$O$903,8,FALSE)","v":{"$error":"#N/A"}},null,{"$f":"VLOOKUP($N$1&$S$1&A92,抽出!$B$4:$O$903,9,FALSE)","v":{"$error":"#N/A"}},null,null,null,{"$f":"VLOOKUP($N$1&$S$1&A92,抽出!$B$4:$O$903,10,FALSE)","v":{"$error":"#N/A"}},null,null,{"$f":"VLOOKUP($N$1&$S$1&A92,抽出!$B$4:$O$903,11,FALSE)","v":{"$error":"#N/A"}},{"$f":"VLOOKUP($N$1&$S$1&A92,抽出!$B$4:$O$903,12,FALSE)","v":{"$error":"#N/A"}},null,null,{"$f":"VLOOKUP($N$1&$S$1&A92,抽出!$B$4:$O$903,13,FALSE)","v":{"$error":"#N/A"}},{"$f":"VLOOKUP($N$1&$S$1&A92,抽出!$B$4:$O$903,14,FALSE)","v":{"$error":"#N/A"}}]
[90,{"$f":"IF(COUNTIF($K$4:N93,K93)=1,1,0)","v":0},{"$f":"IF(B93=0,\"\",SUM($B$4:B93))","v":""},{"$f":"VLOOKUP($N$1&$S$1&A93,抽出!$B$4:$O$903,6,FALSE)","v":{"$error":"#N/A"}},null,null,{"$f":"VLOOKUP($N$1&$S$1&A93,抽出!$B$4:$O$903,7,FALSE)","v":{"$error":"#N/A"}},null,{"$f":"VLOOKUP($N$1&$S$1&A93,抽出!$B$4:$O$903,8,FALSE)","v":{"$error":"#N/A"}},null,{"$f":"VLOOKUP($N$1&$S$1&A93,抽出!$B$4:$O$903,9,FALSE)","v":{"$error":"#N/A"}},null,null,null,{"$f":"VLOOKUP($N$1&$S$1&A93,抽出!$B$4:$O$903,10,FALSE)","v":{"$error":"#N/A"}},null,null,{"$f":"VLOOKUP($N$1&$S$1&A93,抽出!$B$4:$O$903,11,FALSE)","v":{"$error":"#N/A"}},{"$f":"VLOOKUP($N$1&$S$1&A93,抽出!$B$4:$O$903,12,FALSE)","v":{"$error":"#N/A"}},null,null,{"$f":"VLOOKUP($N$1&$S$1&A93,抽出!$B$4:$O$903,13,FALSE)","v":{"$error":"#N/A"}},{"$f":"VLOOKUP($N$1&$S$1&A93,抽出!$B$4:$O$903,14,FALSE)","v":{"$error":"#N/A"}}]
[91,{"$f":"IF(COUNTIF($K$4:N94,K94)=1,1,0)","v":0},{"$f":"IF(B94=0,\"\",SUM($B$4:B94))","v":""},{"$f":"VLOOKUP($N$1&$S$1&A94,抽出!$B$4:$O$903,6,FALSE)","v":{"$error":"#N/A"}},null,null,{"$f":"VLOOKUP($N$1&$S$1&A94,抽出!$B$4:$O$903,7,FALSE)","v":{"$error":"#N/A"}},null,{"$f":"VLOOKUP($N$1&$S$1&A94,抽出!$B$4:$O$903,8,FALSE)","v":{"$error":"#N/A"}},null,{"$f":"VLOOKUP($N$1&$S$1&A94,抽出!$B$4:$O$903,9,FALSE)","v":{"$error":"#N/A"}},null,null,null,{"$f":"VLOOKUP($N$1&$S$1&A94,抽出!$B$4:$O$903,10,FALSE)","v":{"$error":"#N/A"}},null,null,{"$f":"VLOOKUP($N$1&$S$1&A94,抽出!$B$4:$O$903,11,FALSE)","v":{"$error":"#N/A"}},{"$f":"VLOOKUP($N$1&$S$1&A94,抽出!$B$4:$O$903,12,FALSE)","v":{"$error":"#N/A"}},null,null,{"$f":"VLOOKUP($N$1&$S$1&A94,抽出!$B$4:$O$903,13,FALSE)","v":{"$error":"#N/A"}},{"$f":"VLOOKUP($N$1&$S$1&A94,抽出!$B$4:$O$903,14,FALSE)","v":{"$error":"#N/A"}}]
[92,{"$f":"IF(COUNTIF($K$4:N95,K95)=1,1,0)","v":0},{"$f":"IF(B95=0,\"\",SUM($B$4:B95))","v":""},{"$f":"VLOOKUP($N$1&$S$1&A95,抽出!$B$4:$O$903,6,FALSE)","v":{"$error":"#N/A"}},null,null,{"$f":"VLOOKUP($N$1&$S$1&A95,抽出!$B$4:$O$903,7,FALSE)","v":{"$error":"#N/A"}},null,{"$f":"VLOOKUP($N$1&$S$1&A95,抽出!$B$4:$O$903,8,FALSE)","v":{"$error":"#N/A"}},null,{"$f":"VLOOKUP($N$1&$S$1&A95,抽出!$B$4:$O$903,9,FALSE)","v":{"$error":"#N/A"}},null,null,null,{"$f":"VLOOKUP($N$1&$S$1&A95,抽出!$B$4:$O$903,10,FALSE)","v":{"$error":"#N/A"}},null,null,{"$f":"VLOOKUP($N$1&$S$1&A95,抽出!$B$4:$O$903,11,FALSE)","v":{"$error":"#N/A"}},{"$f":"VLOOKUP($N$1&$S$1&A95,抽出!$B$4:$O$903,12,FALSE)","v":{"$error":"#N/A"}},null,null,{"$f":"VLOOKUP($N$1&$S$1&A95,抽出!$B$4:$O$903,13,FALSE)","v":{"$error":"#N/A"}},{"$f":"VLOOKUP($N$1&$S$1&A95,抽出!$B$4:$O$903,14,FALSE)","v":{"$error":"#N/A"}}]
[93,{"$f":"IF(COUNTIF($K$4:N96,K96)=1,1,0)","v":0},{"$f":"IF(B96=0,\"\",SUM($B$4:B96))","v":""},{"$f":"VLOOKUP($N$1&$S$1&A96,抽出!$B$4:$O$903,6,FALSE)","v":{"$error":"#N/A"}},null,null,{"$f":"VLOOKUP($N$1&$S$1&A96,抽出!$B$4:$O$903,7,FALSE)","v":{"$error":"#N/A"}},null,{"$f":"VLOOKUP($N$1&$S$1&A96,抽出!$B$4:$O$903,8,FALSE)","v":{"$error":"#N/A"}},null,{"$f":"VLOOKUP($N$1&$S$1&A96,抽出!$B$4:$O$903,9,FALSE)","v":{"$error":"#N/A"}},null,null,null,{"$f":"VLOOKUP($N$1&$S$1&A96,抽出!$B$4:$O$903,10,FALSE)","v":{"$error":"#N/A"}},null,null,{"$f":"VLOOKUP($N$1&$S$1&A96,抽出!$B$4:$O$903,11,FALSE)","v":{"$error":"#N/A"}},{"$f":"VLOOKUP($N$1&$S$1&A96,抽出!$B$4:$O$903,12,FALSE)","v":{"$error":"#N/A"}},null,null,{"$f":"VLOOKUP($N$1&$S$1&A96,抽出!$B$4:$O$903,13,FALSE)","v":{"$error":"#N/A"}},{"$f":"VLOOKUP($N$1&$S$1&A96,抽出!$B$4:$O$903,14,FALSE)","v":{"$error":"#N/A"}}]
[94,{"$f":"IF(COUNTIF($K$4:N97,K97)=1,1,0)","v":0},{"$f":"IF(B97=0,\"\",SUM($B$4:B97))","v":""},{"$f":"VLOOKUP($N$1&$S$1&A97,抽出!$B$4:$O$903,6,FALSE)","v":{"$error":"#N/A"}},null,null,{"$f":"VLOOKUP($N$1&$S$1&A97,抽出!$B$4:$O$903,7,FALSE)","v":{"$error":"#N/A"}},null,{"$f":"VLOOKUP($N$1&$S$1&A97,抽出!$B$4:$O$903,8,FALSE)","v":{"$error":"#N/A"}},null,{"$f":"VLOOKUP($N$1&$S$1&A97,抽出!$B$4:$O$903,9,FALSE)","v":{"$error":"#N/A"}},null,null,null,{"$f":"VLOOKUP($N$1&$S$1&A97,抽出!$B$4:$O$903,10,FALSE)","v":{"$error":"#N/A"}},null,null,{"$f":"VLOOKUP($N$1&$S$1&A97,抽出!$B$4:$O$903,11,FALSE)","v":{"$error":"#N/A"}},{"$f":"VLOOKUP($N$1&$S$1&A97,抽出!$B$4:$O$903,12,FALSE)","v":{"$error":"#N/A"}},null,null,{"$f":"VLOOKUP($N$1&$S$1&A97,抽出!$B$4:$O$903,13,FALSE)","v":{"$error":"#N/A"}},{"$f":"VLOOKUP($N$1&$S$1&A97,抽出!$B$4:$O$903,14,FALSE)","v":{"$error":"#N/A"}}]
[95,{"$f":"IF(COUNTIF($K$4:N98,K98)=1,1,0)","v":0},{"$f":"IF(B98=0,\"\",SUM($B$4:B98))","v":""},{"$f":"VLOOKUP($N$1&$S$1&A98,抽出!$B$4:$O$903,6,FALSE)","v":{"$error":"#N/A"}},null,null,{"$f":"VLOOKUP($N$1&$S$1&A98,抽出!$B$4:$O$903,7,FALSE)","v":{"$error":"#N/A"}},null,{"$f":"VLOOKUP($N$1&$S$1&A98,抽出!$B$4:$O$903,8,FALSE)","v":{"$error":"#N/A"}},null,{"$f":"VLOOKUP($N$1&$S$1&A98,抽出!$B$4:$O$903,9,FALSE)","v":{"$error":"#N/A"}},null,null,null,{"$f":"VLOOKUP($N$1&$S$1&A98,抽出!$B$4:$O$903,10,FALSE)","v":{"$error":"#N/A"}},null,null,{"$f":"VLOOKUP($N$1&$S$1&A98,抽出!$B$4:$O$903,11,FALSE)","v":{"$error":"#N/A"}},{"$f":"VLOOKUP($N$1&$S$1&A98,抽出!$B$4:$O$903,12,FALSE)","v":{"$error":"#N/A"}},null,null,{"$f":"VLOOKUP($N$1&$S$1&A98,抽出!$B$4:$O$903,13,FALSE)","v":{"$error":"#N/A"}},{"$f":"VLOOKUP($N$1&$S$1&A98,抽出!$B$4:$O$903,14,FALSE)","v":{"$error":"#N/A"}}]
[96,{"$f":"IF(COUNTIF($K$4:N99,K99)=1,1,0)","v":0},{"$f":"IF(B99=0,\"\",SUM($B$4:B99))","v":""},{"$f":"VLOOKUP($N$1&$S$1&A99,抽出!$B$4:$O$903,6,FALSE)","v":{"$error":"#N/A"}},null,null,{"$f":"VLOOKUP($N$1&$S$1&A99,抽出!$B$4:$O$903,7,FALSE)","v":{"$error":"#N/A"}},null,{"$f":"VLOOKUP($N$1&$S$1&A99,抽出!$B$4:$O$903,8,FALSE)","v":{"$error":"#N/A"}},null,{"$f":"VLOOKUP($N$1&$S$1&A99,抽出!$B$4:$O$903,9,FALSE)","v":{"$error":"#N/A"}},null,null,null,{"$f":"VLOOKUP($N$1&$S$1&A99,抽出!$B$4:$O$903,10,FALSE)","v":{"$error":"#N/A"}},null,null,{"$f":"VLOOKUP($N$1&$S$1&A99,抽出!$B$4:$O$903,11,FALSE)","v":{"$error":"#N/A"}},{"$f":"VLOOKUP($N$1&$S$1&A99,抽出!$B$4:$O$903,12,FALSE)","v":{"$error":"#N/A"}},null,null,{"$f":"VLOOKUP($N$1&$S$1&A99,抽出!$B$4:$O$903,13,FALSE)","v":{"$error":"#N/A"}},{"$f":"VLOOKUP($N$1&$S$1&A99,抽出!$B$4:$O$903,14,FALSE)","v":{"$error":"#N/A"}}]
[97,{"$f":"IF(COUNTIF($K$4:N100,K100)=1,1,0)","v":0},{"$f":"IF(B100=0,\"\",SUM($B$4:B100))","v":""},{"$f":"VLOOKUP($N$1&$S$1&A100,抽出!$B$4:$O$903,6,FALSE)","v":{"$error":"#N/A"}},null,null,{"$f":"VLOOKUP($N$1&$S$1&A100,抽出!$B$4:$O$903,7,FALSE)","v":{"$error":"#N/A"}},null,{"$f":"VLOOKUP($N$1&$S$1&A100,抽出!$B$4:$O$903,8,FALSE)","v":{"$error":"#N/A"}},null,{"$f":"VLOOKUP($N$1&$S$1&A100,抽出!$B$4:$O$903,9,FALSE)","v":{"$error":"#N/A"}},null,null,null,{"$f":"VLOOKUP($N$1&$S$1&A100,抽出!$B$4:$O$903,10,FALSE)","v":{"$error":"#N/A"}},null,null,{"$f":"VLOOKUP($N$1&$S$1&A100,抽出!$B$4:$O$903,11,FALSE)","v":{"$error":"#N/A"}},{"$f":"VLOOKUP($N$1&$S$1&A100,抽出!$B$4:$O$903,12,FALSE)","v":{"$error":"#N/A"}},null,null,{"$f":"VLOOKUP($N$1&$S$1&A100,抽出!$B$4:$O$903,13,FALSE)","v":{"$error":"#N/A"}},{"$f":"VLOOKUP($N$1&$S$1&A100,抽出!$B$4:$O$903,14,FALSE)","v":{"$error":"#N/A"}}]
[98,{"$f":"IF(COUNTIF($K$4:N101,K101)=1,1,0)","v":0},{"$f":"IF(B101=0,\"\",SUM($B$4:B101))","v":""},{"$f":"VLOOKUP($N$1&$S$1&A101,抽出!$B$4:$O$903,6,FALSE)","v":{"$error":"#N/A"}},null,null,{"$f":"VLOOKUP($N$1&$S$1&A101,抽出!$B$4:$O$903,7,FALSE)","v":{"$error":"#N/A"}},null,{"$f":"VLOOKUP($N$1&$S$1&A101,抽出!$B$4:$O$903,8,FALSE)","v":{"$error":"#N/A"}},null,{"$f":"VLOOKUP($N$1&$S$1&A101,抽出!$B$4:$O$903,9,FALSE)","v":{"$error":"#N/A"}},null,null,null,{"$f":"VLOOKUP($N$1&$S$1&A101,抽出!$B$4:$O$903,10,FALSE)","v":{"$error":"#N/A"}},null,null,{"$f":"VLOOKUP($N$1&$S$1&A101,抽出!$B$4:$O$903,11,FALSE)","v":{"$error":"#N/A"}},{"$f":"VLOOKUP($N$1&$S$1&A101,抽出!$B$4:$O$903,12,FALSE)","v":{"$error":"#N/A"}},null,null,{"$f":"VLOOKUP($N$1&$S$1&A101,抽出!$B$4:$O$903,13,FALSE)","v":{"$error":"#N/A"}},{"$f":"VLOOKUP($N$1&$S$1&A101,抽出!$B$4:$O$903,14,FALSE)","v":{"$error":"#N/A"}}]
[99,{"$f":"IF(COUNTIF($K$4:N102,K102)=1,1,0)","v":0},{"$f":"IF(B102=0,\"\",SUM($B$4:B102))","v":""},{"$f":"VLOOKUP($N$1&$S$1&A102,抽出!$B$4:$O$903,6,FALSE)","v":{"$error":"#N/A"}},null,null,{"$f":"VLOOKUP($N$1&$S$1&A102,抽出!$B$4:$O$903,7,FALSE)","v":{"$error":"#N/A"}},null,{"$f":"VLOOKUP($N$1&$S$1&A102,抽出!$B$4:$O$903,8,FALSE)","v":{"$error":"#N/A"}},null,{"$f":"VLOOKUP($N$1&$S$1&A102,抽出!$B$4:$O$903,9,FALSE)","v":{"$error":"#N/A"}},null,null,null,{"$f":"VLOOKUP($N$1&$S$1&A102,抽出!$B$4:$O$903,10,FALSE)","v":{"$error":"#N/A"}},null,null,{"$f":"VLOOKUP($N$1&$S$1&A102,抽出!$B$4:$O$903,11,FALSE)","v":{"$error":"#N/A"}},{"$f":"VLOOKUP($N$1&$S$1&A102,抽出!$B$4:$O$903,12,FALSE)","v":{"$error":"#N/A"}},null,null,{"$f":"VLOOKUP($N$1&$S$1&A102,抽出!$B$4:$O$903,13,FALSE)","v":{"$error":"#N/A"}},{"$f":"VLOOKUP($N$1&$S$1&A102,抽出!$B$4:$O$903,14,FALSE)","v":{"$error":"#N/A"}}]
[100,{"$f":"IF(COUNTIF($K$4:N103,K103)=1,1,0)","v":0},{"$f":"IF(B103=0,\"\",SUM($B$4:B103))","v":""},{"$f":"VLOOKUP($N$1&$S$1&A103,抽出!$B$4:$O$903,6,FALSE)","v":{"$error":"#N/A"}},null,null,{"$f":"VLOOKUP($N$1&$S$1&A103,抽出!$B$4:$O$903,7,FALSE)","v":{"$error":"#N/A"}},null,{"$f":"VLOOKUP($N$1&$S$1&A103,抽出!$B$4:$O$903,8,FALSE)","v":{"$error":"#N/A"}},null,{"$f":"VLOOKUP($N$1&$S$1&A103,抽出!$B$4:$O$903,9,FALSE)","v":{"$error":"#N/A"}},null,null,null,{"$f":"VLOOKUP($N$1&$S$1&A103,抽出!$B$4:$O$903,10,FALSE)","v":{"$error":"#N/A"}},null,null,{"$f":"VLOOKUP($N$1&$S$1&A103,抽出!$B$4:$O$903,11,FALSE)","v":{"$error":"#N/A"}},{"$f":"VLOOKUP($N$1&$S$1&A103,抽出!$B$4:$O$903,12,FALSE)","v":{"$error":"#N/A"}},null,null,{"$f":"VLOOKUP($N$1&$S$1&A103,抽出!$B$4:$O$903,13,FALSE)","v":{"$error":"#N/A"}},{"$f":"VLOOKUP($N$1&$S$1&A103,抽出!$B$4:$O$903,14,FALSE)","v":{"$error":"#N/A"}}]

{"sheet":"抽出","index":2,"n_rows":904,"n_cols":17,"rows_kept":904,"cut":false,"hidden":true,"merged":[]}
[]
[null,1,2,3,4,5,6,7,8,9,10,11,12,13,14]
[null,"クラス＋種目名＋種目内順位",null,"クラス＋種目名","記録＋行番号","種目内順位","競技会名","競技場","実施日","選手名","記録","R","所属","学年","風"]
[1,{"$f":"D4&F4","v":"中学女子ｼﾞｬﾍﾞﾘｯｸｽﾛｰ14"},{"$f":"J4&COUNTIF($J$4:J4,J4)","v":"伊藤椿1"},{"$f":"データ貼付!D2&データ貼付!E2","v":"中学女子ｼﾞｬﾍﾞﾘｯｸｽﾛｰ"},{"$f":"データ貼付!G2+ROW()/1000000","v":1619.000004},{"$f":"SUMPRODUCT(($D$4:$D$903=D4)*($E$4:$E$903>E4))+1","v":14},{"$f":"データ貼付!A2","v":"選手権"},{"$f":"データ貼付!B2","v":"北見"},{"$f":"データ貼付!C2","v":43596},{"$f":"データ貼付!F2","v":"伊藤椿"},{"$f":"データ貼付!G2","v":1619},{"$f":"データ貼付!H2","v":"決"},{"$f":"データ貼付!I2","v":"湧別中"},{"$f":"データ貼付!J2","v":2},{"$f":"データ貼付!K2","v":0}]
[2,{"$f":"D5&F5","v":"中学女子ｼﾞｬﾍﾞﾘｯｸｽﾛｰ16"},{"$f":"J5&COUNTIF($J$4:J5,J5)","v":"伊藤優果1"},{"$f":"データ貼付!D3&データ貼付!E3","v":"中学女子ｼﾞｬﾍﾞﾘｯｸｽﾛｰ"},{"$f":"データ貼付!G3+ROW()/1000000","v":1235.0000050000001},{"$f":"SUMPRODUCT(($D$4:$D$903=D5)*($E$4:$E$903>E5))+1","v":16},{"$f":"データ貼付!A3","v":"記録会３戦"},{"$f":"データ貼付!B3","v":"網走"},{"$f":"データ貼付!C3","v":43660},{"$f":"データ貼付!F3","v":"伊藤優果"},{"$f":"データ貼付!G3","v":1235},{"$f":"データ貼付!H3","v":"決"},{"$f":"データ貼付!I3","v":"北見北光中"},{"$f":"データ貼付!J3","v":1},{"$f":"データ貼付!K3","v":0}]
[3,"中学女子ｼﾞｬﾍﾞﾘｯｸｽﾛｰ2",{"$f":"J6&COUNTIF($J$4:J6,J6)","v":"伊藤凛音1"},{"$f":"データ貼付!D4&データ貼付!E4","v":"中学女子ｼﾞｬﾍﾞﾘｯｸｽﾛｰ"},{"$f":"データ貼付!G4+ROW()/1000000","v":2597.0000060000002},2,{"$f":"データ貼付!A4","v":"秋季陸上"},{"$f":"データ貼付!B4","v":"網走"},{"$f":"データ貼付!C4","v":43715},{"$f":"データ貼付!F4","v":"伊藤凛音"},{"$f":"データ貼付!G4","v":2597},{"$f":"データ貼付!H4","v":"決"},{"$f":"データ貼付!I4","v":"北見南中"},{"$f":"データ貼付!J4","v":1},{"$f":"データ貼付!K4","v":0}]
[4,"中学男子ｼﾞｬﾍﾞﾘｯｸｽﾛｰ14",{"$f":"J7&COUNTIF($J$4:J7,J7)","v":"稲垣璃久1"},{"$f":"データ貼付!D5&データ貼付!E5","v":"中学男子ｼﾞｬﾍﾞﾘｯｸｽﾛｰ"},{"$f":"データ貼付!G5+ROW()/1000000","v":3074.0000070000001},14,{"$f":"データ貼付!A5","v":"記録会４戦"},{"$f":"データ貼付!B5","v":"北見"},{"$f":"データ貼付!C5","v":43681},{"$f":"データ貼付!F5","v":"稲垣璃久"},{"$f":"データ貼付!G5","v":3074},{"$f":"データ貼付!H5","v":"決"},{"$f":"データ貼付!I5","v":"北見北中"},{"$f":"データ貼付!J5","v":2},{"$f":"データ貼付!K5","v":0}]
[5,"中学男子ｼﾞｬﾍﾞﾘｯｸｽﾛｰ3",{"$f":"J8&COUNTIF($J$4:J8,J8)","v":"遠藤寿1"},{"$f":"データ貼付!D6&データ貼付!E6","v":"中学男子ｼﾞｬﾍﾞﾘｯｸｽﾛｰ"},{"$f":"データ貼付!G6+ROW()/1000000","v":4050.000008},3,{"$f":"データ貼付!A6","v":"フィールド記録会"},{"$f":"データ貼付!B6","v":"網走"},{"$f":"データ貼付!C6","v":43624},{"$f":"データ貼付!F6","v":"遠藤寿"},{"$f":"データ貼付!G6","v":4050},{"$f":"データ貼付!H6","v":"決"},{"$f":"データ貼付!I6","v":"網走第二中"},{"$f":"データ貼付!J6","v":3},{"$f":"データ貼付!K6","v":0}]
[6,"中学男子ｼﾞｬﾍﾞﾘｯｸｽﾛｰ13",{"$f":"J9&COUNTIF($J$4:J9,J9)","v":"遠藤潤人1"},{"$f":"データ貼付!D7&データ貼付!E7","v":"中学男子ｼﾞｬﾍﾞﾘｯｸｽﾛｰ"},{"$f":"データ貼付!G7+ROW()/1000000","v":3098.0000089999999},13,{"$f":"データ貼付!A7","v":"中学新人"},{"$f":"データ貼付!B7","v":"網走"},{"$f":"データ貼付!C7","v":43700},{"$f":"データ貼付!F7","v":"遠藤潤人"},{"$f":"データ貼付!G7","v":3098},{"$f":"データ貼付!H7","v":"決"},{"$f":"データ貼付!I7","v":"北見北光中"},{"$f":"データ貼付!J7","v":2},{"$f":"データ貼付!K7","v":0}]
[7,"中学女子ｼﾞｬﾍﾞﾘｯｸｽﾛｰ10",{"$f":"J10&COUNTIF($J$4:J10,J10)","v":"横山藍梨1"},{"$f":"データ貼付!D8&データ貼付!E8","v":"中学女子ｼﾞｬﾍﾞﾘｯｸｽﾛｰ"},{"$f":"データ貼付!G8+ROW()/1000000","v":1813.00001},10,{"$f":"データ貼付!A8","v":"記録会３戦"},{"$f":"データ貼付!B8","v":"網走"},{"$f":"データ貼付!C8","v":43660},{"$f":"データ貼付!F8","v":"横山藍梨"},{"$f":"データ貼付!G8","v":1813},{"$f":"データ貼付!H8","v":"決"},{"$f":"データ貼付!I8","v":"北見北光中"},{"$f":"データ貼付!J8","v":1},{"$f":"データ貼付!K8","v":0}]
[8,"中学男子ｼﾞｬﾍﾞﾘｯｸｽﾛｰ29",{"$f":"J11&COUNTIF($J$4:J11,J11)","v":"関澤陸1"},{"$f":"データ貼付!D9&データ貼付!E9","v":"中学男子ｼﾞｬﾍﾞﾘｯｸｽﾛｰ"},{"$f":"データ貼付!G9+ROW()/1000000","v":2361.0000110000001},29,{"$f":"データ貼付!A9","v":"通信陸上"},{"$f":"データ貼付!B9","v":"網走"},{"$f":"データ貼付!C9","v":43644},{"$f":"データ貼付!F9","v":"関澤陸"},{"$f":"データ貼付!G9","v":2361},{"$f":"データ貼付!H9","v":"決"},{"$f":"データ貼付!I9","v":"北見光西中"},{"$f":"データ貼付!J9","v":3},{"$f":"データ貼付!K9","v":0}]
[9,"中学女子ｼﾞｬﾍﾞﾘｯｸｽﾛｰ3",{"$f":"J12&COUNTIF($J$4:J12,J12)","v":"岩越茜莉1"},{"$f":"データ貼付!D10&データ貼付!E10","v":"中学女子ｼﾞｬﾍﾞﾘｯｸｽﾛｰ"},{"$f":"データ貼付!G10+ROW()/1000000","v":2559.000012},3,{"$f":"データ貼付!A10","v":"フィールド記録会"},{"$f":"データ貼付!B10","v":"網走"},{"$f":"データ貼付!C10","v":43624},{"$f":"データ貼付!F10","v":"岩越茜莉"},{"$f":"データ貼付!G10","v":2559},{"$f":"データ貼付!H10","v":"決"},{"$f":"データ貼付!I10","v":"雄武中"},{"$f":"データ貼付!J10","v":3},{"$f":"データ貼付!K10","v":0}]
[10,"中学女子ｼﾞｬﾍﾞﾘｯｸｽﾛｰ4",{"$f":"J13&COUNTIF($J$4:J13,J13)","v":"菊池優璃1"},{"$f":"データ貼付!D11&データ貼付!E11","v":"中学女子ｼﾞｬﾍﾞﾘｯｸｽﾛｰ"},{"$f":"データ貼付!G11+ROW()/1000000","v":2404.0000129999999},4,{"$f":"データ貼付!A11","v":"フィールド記録会"},{"$f":"データ貼付!B11","v":"網走"},{"$f":"データ貼付!C11","v":43624},{"$f":"データ貼付!F11","v":"菊池優璃"},{"$f":"データ貼付!G11","v":2404},{"$f":"データ貼付!H11","v":"決"},{"$f":"データ貼付!I11","v":"網走第四中"},{"$f":"データ貼付!J11","v":2},{"$f":"データ貼付!K11","v":0}]
[11,"中学女子ｼﾞｬﾍﾞﾘｯｸｽﾛｰ6",{"$f":"J14&COUNTIF($J$4:J14,J14)","v":"吉鷹陽菜1"},{"$f":"データ貼付!D12&データ貼付!E12","v":"中学女子ｼﾞｬﾍﾞﾘｯｸｽﾛｰ"},{"$f":"データ貼付!G12+ROW()/1000000","v":2337.0000140000002},6,{"$f":"データ貼付!A12","v":"秋季陸上"},{"$f":"データ貼付!B12","v":"網走"},{"$f":"データ貼付!C12","v":43715},{"$f":"データ貼付!F12","v":"吉鷹陽菜"},{"$f":"データ貼付!G12","v":2337},{"$f":"データ貼付!H12","v":"決"},{"$f":"データ貼付!I12","v":"北見光西中"},{"$f":"データ貼付!J12","v":2},{"$f":"データ貼付!K12","v":0}]
[12,"中学男子ｼﾞｬﾍﾞﾘｯｸｽﾛｰ25",{"$f":"J15&COUNTIF($J$4:J15,J15)","v":"栗原明慎1"},{"$f":"データ貼付!D13&データ貼付!E13","v":"中学男子ｼﾞｬﾍﾞﾘｯｸｽﾛｰ"},{"$f":"データ貼付!G13+ROW()/1000000","v":2580.0000150000001},25,{"$f":"データ貼付!A13","v":"通信陸上"},{"$f":"データ貼付!B13","v":"網走"},{"$f":"データ貼付!C13","v":43644},{"$f":"データ貼付!F13","v":"栗原明慎"},{"$f":"データ貼付!G13","v":2580},{"$f":"データ貼付!H13","v":"決"},{"$f":"データ貼付!I13","v":"北見北光中"},{"$f":"データ貼付!J13","v":1},{"$f":"データ貼付!K13","v":0}]
[13,"中学女子ｼﾞｬﾍﾞﾘｯｸｽﾛｰ1",{"$f":"J16&COUNTIF($J$4:J16,J16)","v":"穴澤日菜1"},{"$f":"データ貼付!D14&データ貼付!E14","v":"中学女子ｼﾞｬﾍﾞﾘｯｸｽﾛｰ"},{"$f":"データ貼付!G14+ROW()/1000000","v":2769.000016},1,{"$f":"データ貼付!A14","v":"秋季陸上"},{"$f":"データ貼付!B14","v":"網走"},{"$f":"データ貼付!C14","v":43715},{"$f":"データ貼付!F14","v":"穴澤日菜"},{"$f":"データ貼付!G14","v":2769},{"$f":"データ貼付!H14","v":"決"},{"$f":"データ貼付!I14","v":"北見南中"},{"$f":"データ貼付!J14","v":1},{"$f":"データ貼付!K14","v":0}]
[14,"中学男子ｼﾞｬﾍﾞﾘｯｸｽﾛｰ19",{"$f":"J17&COUNTIF($J$4:J17,J17)","v":"工藤之雅1"},{"$f":"データ貼付!D15&データ貼付!E15","v":"中学男子ｼﾞｬﾍﾞﾘｯｸｽﾛｰ"},{"$f":"データ貼付!G15+ROW()/1000000","v":2904.0000169999998},19,{"$f":"データ貼付!A15","v":"通信陸上"},{"$f":"データ貼付!B15","v":"網走"},{"$f":"データ貼付!C15","v":43644},{"$f":"データ貼付!F15","v":"工藤之雅"},{"$f":"データ貼付!G15","v":2904},{"$f":"データ貼付!H15","v":"決"},{"$f":"データ貼付!I15","v":"北見北中"},{"$f":"データ貼付!J15","v":2},{"$f":"データ貼付!K15","v":0}]
[15,"中学男子ｼﾞｬﾍﾞﾘｯｸｽﾛｰ15",{"$f":"J18&COUNTIF($J$4:J18,J18)","v":"黒田悠羽1"},{"$f":"データ貼付!D16&データ貼付!E16","v":"中学男子ｼﾞｬﾍﾞﾘｯｸｽﾛｰ"},{"$f":"データ貼付!G16+ROW()/1000000","v":2974.0000180000002},15,{"$f":"データ貼付!A16","v":"記録会４戦"},{"$f":"データ貼付!B16","v":"北見"},{"$f":"データ貼付!C16","v":43681},{"$f":"データ貼付!F16","v":"黒田悠羽"},{"$f":"データ貼付!G16","v":2974},{"$f":"データ貼付!H16","v":"決"},{"$f":"データ貼付!I16","v":"北見常呂中"},{"$f":"データ貼付!J16","v":1},{"$f":"データ貼付!K16","v":0}]
[16,"中学男子ｼﾞｬﾍﾞﾘｯｸｽﾛｰ32",{"$f":"J19&COUNTIF($J$4:J19,J19)","v":"佐藤広大1"},{"$f":"データ貼付!D17&データ貼付!E17","v":"中学男子ｼﾞｬﾍﾞﾘｯｸｽﾛｰ"},{"$f":"データ貼付!G17+ROW()/1000000","v":2183.0000190000001},32,{"$f":"データ貼付!A17","v":"秋季陸上"},{"$f":"データ貼付!B17","v":"網走"},{"$f":"データ貼付!C17","v":43715},{"$f":"データ貼付!F17","v":"佐藤広大"},{"$f":"データ貼付!G17","v":2183},{"$f":"データ貼付!H17","v":"決"},{"$f":"データ貼付!I17","v":"遠軽中"},{"$f":"データ貼付!J17","v":2},{"$f":"データ貼付!K17","v":0}]
[17,"中学男子ｼﾞｬﾍﾞﾘｯｸｽﾛｰ28",{"$f":"J20&COUNTIF($J$4:J20,J20)","v":"佐藤大悟1"},{"$f":"データ貼付!D18&データ貼付!E18","v":"中学男子ｼﾞｬﾍﾞﾘｯｸｽﾛｰ"},{"$f":"データ貼付!G18+ROW()/1000000","v":2402.0000199999999},28,{"$f":"データ貼付!A18","v":"通信陸上"},{"$f":"データ貼付!B18","v":"網走"},{"$f":"データ貼付!C18","v":43644},{"$f":"データ貼付!F18","v":"佐藤大悟"},{"$f":"データ貼付!G18","v":2402},{"$f":"データ貼付!H18","v":"決"},{"$f":"データ貼付!I18","v":"北見光西中"},{"$f":"データ貼付!J18","v":1},{"$f":"データ貼付!K18","v":0}]
[18,"中学男子ｼﾞｬﾍﾞﾘｯｸｽﾛｰ48",{"$f":"J21&COUNTIF($J$4:J21,J21)","v":"三原立暉1"},{"$f":"データ貼付!D19&データ貼付!E19","v":"中学男子ｼﾞｬﾍﾞﾘｯｸｽﾛｰ"},{"$f":"データ貼付!G19+ROW()/1000000","v":937.00002099999995},48,{"$f":"データ貼付!A19","v":"通信陸上"},{"$f":"データ貼付!B19","v":"網走"},{"$f":"データ貼付!C19","v":43644},{"$f":"データ貼付!F19","v":"三原立暉"},{"$f":"データ貼付!G19","v":937},{"$f":"データ貼付!H19","v":"決"},{"$f":"データ貼付!I19","v":"網走第一中"},{"$f":"データ貼付!J19","v":1},{"$f":"データ貼付!K19","v":0}]
[19,"中学女子ｼﾞｬﾍﾞﾘｯｸｽﾛｰ5",{"$f":"J22&COUNTIF($J$4:J22,J22)","v":"三塚ありさ1"},{"$f":"データ貼付!D20&データ貼付!E20","v":"中学女子ｼﾞｬﾍﾞﾘｯｸｽﾛｰ"},{"$f":"データ貼付!G20+ROW()/1000000","v":2392.0000220000002},5,{"$f":"データ貼付!A20","v":"秋季陸上"},{"$f":"データ貼付!B20","v":"網走"},{"$f":"データ貼付!C20","v":43715},{"$f":"データ貼付!F20","v":"三塚ありさ"},{"$f":"データ貼付!G20","v":2392},{"$f":"データ貼付!H20","v":"決"},{"$f":"データ貼付!I20","v":"網走第四中"},{"$f":"データ貼付!J20","v":1},{"$f":"データ貼付!K20","v":0}]
[20,"中学男子ｼﾞｬﾍﾞﾘｯｸｽﾛｰ7",{"$f":"J23&COUNTIF($J$4:J23,J23)","v":"三塚知輝1"},{"$f":"データ貼付!D21&データ貼付!E21","v":"中学男子ｼﾞｬﾍﾞﾘｯｸｽﾛｰ"},{"$f":"データ貼付!G21+ROW()/1000000","v":3648.0000230000001},7,{"$f":"データ貼付!A21","v":"選手権"},{"$f":"データ貼付!B21","v":"北見"},{"$f":"データ貼付!C21","v":43596},{"$f":"データ貼付!F21","v":"三塚知輝"},{"$f":"データ貼付!G21","v":3648},{"$f":"データ貼付!H21","v":"決"},{"$f":"データ貼付!I21","v":"網走第四中"},{"$f":"データ貼付!J21","v":3},{"$f":"データ貼付!K21","v":0}]
[21,"中学女子ｼﾞｬﾍﾞﾘｯｸｽﾛｰ18",{"$f":"J24&COUNTIF($J$4:J24,J24)","v":"山村奈々1"},{"$f":"データ貼付!D22&データ貼付!E22","v":"中学女子ｼﾞｬﾍﾞﾘｯｸｽﾛｰ"},{"$f":"データ貼付!G22+ROW()/1000000","v":1058.0000239999999},18,{"$f":"データ貼付!A22","v":"中学新人"},{"$f":"データ貼付!B22","v":"網走"},{"$f":"データ貼付!C22","v":43700},{"$f":"データ貼付!F22","v":"山村奈々"},{"$f":"データ貼付!G22","v":1058},{"$f":"データ貼付!H22","v":"決"},{"$f":"データ貼付!I22","v":"北見北光中"},{"$f":"データ貼付!J22","v":1},{"$f":"データ貼付!K22","v":0}]
[22,"中学男子ｼﾞｬﾍﾞﾘｯｸｽﾛｰ6",{"$f":"J25&COUNTIF($J$4:J25,J25)","v":"山本遥1"},{"$f":"データ貼付!D23&データ貼付!E23","v":"中学男子ｼﾞｬﾍﾞﾘｯｸｽﾛｰ"},{"$f":"データ貼付!G23+ROW()/1000000","v":3675.0000249999998},6,{"$f":"データ貼付!A23","v":"通信陸上"},{"$f":"データ貼付!B23","v":"網走"},{"$f":"データ貼付!C23","v":43644},{"$f":"データ貼付!F23","v":"山本遥"},{"$f":"データ貼付!G23","v":3675},{"$f":"データ貼付!H23","v":"決"},{"$f":"データ貼付!I23","v":"北見南中"},{"$f":"データ貼付!J23","v":2},{"$f":"データ貼付!K23","v":0}]
[23,"中学男子ｼﾞｬﾍﾞﾘｯｸｽﾛｰ43",{"$f":"J26&COUNTIF($J$4:J26,J26)","v":"山﨑大翔1"},{"$f":"データ貼付!D24&データ貼付!E24","v":"中学男子ｼﾞｬﾍﾞﾘｯｸｽﾛｰ"},{"$f":"データ貼付!G24+ROW()/1000000","v":1740.0000259999999},43,{"$f":"データ貼付!A24","v":"記録会４戦"},{"$f":"データ貼付!B24","v":"北見"},{"$f":"データ貼付!C24","v":43681},{"$f":"データ貼付!F24","v":"山﨑大翔"},{"$f":"データ貼付!G24","v":1740},{"$f":"データ貼付!H24","v":"決"},{"$f":"データ貼付!I24","v":"北見北光中"},{"$f":"データ貼付!J24","v":1},{"$f":"データ貼付!K24","v":0}]
[24,"中学男子ｼﾞｬﾍﾞﾘｯｸｽﾛｰ42",{"$f":"J27&COUNTIF($J$4:J27,J27)","v":"山﨑歩来夢1"},{"$f":"データ貼付!D25&データ貼付!E25","v":"中学男子ｼﾞｬﾍﾞﾘｯｸｽﾛｰ"},{"$f":"データ貼付!G25+ROW()/1000000","v":1760.000027},42,{"$f":"データ貼付!A25","v":"選手権"},{"$f":"データ貼付!B25","v":"北見"},{"$f":"データ貼付!C25","v":43596},{"$f":"データ貼付!F25","v":"山﨑歩来夢"},{"$f":"データ貼付!G25","v":1760},{"$f":"データ貼付!H25","v":"決"},{"$f":"データ貼付!I25","v":"雄武中"},{"$f":"データ貼付!J25","v":2},{"$f":"データ貼付!K25","v":0}]
[25,"中学男子ｼﾞｬﾍﾞﾘｯｸｽﾛｰ2",{"$f":"J28&COUNTIF($J$4:J28,J28)","v":"四ツ倉快1"},{"$f":"データ貼付!D26&データ貼付!E26","v":"中学男子ｼﾞｬﾍﾞﾘｯｸｽﾛｰ"},{"$f":"データ貼付!G26+ROW()/1000000","v":4235.0000280000004},2,{"$f":"データ貼付!A26","v":"通信陸上"},{"$f":"データ貼付!B26","v":"網走"},{"$f":"データ貼付!C26","v":43644},{"$f":"データ貼付!F26","v":"四ツ倉快"},{"$f":"データ貼付!G26","v":4235},{"$f":"データ貼付!H26","v":"決"},{"$f":"データ貼付!I26","v":"網走第四中"},{"$f":"データ貼付!J26","v":3},{"$f":"データ貼付!K26","v":0}]
[26,"中学男子ｼﾞｬﾍﾞﾘｯｸｽﾛｰ9",{"$f":"J29&COUNTIF($J$4:J29,J29)","v":"酒井柊優1"},{"$f":"データ貼付!D27&データ貼付!E27","v":"中学男子ｼﾞｬﾍﾞﾘｯｸｽﾛｰ"},{"$f":"データ貼付!G27+ROW()/1000000","v":3354.0000289999998},9,{"$f":"データ貼付!A27","v":"フィールド記録会"},{"$f":"データ貼付!B27","v":"網走"},{"$f":"データ貼付!C27","v":43624},{"$f":"データ貼付!F27","v":"酒井柊優"},{"$f":"データ貼付!G27","v":3354},{"$f":"データ貼付!H27","v":"決"},{"$f":"データ貼付!I27","v":"北見東陵中"},{"$f":"データ貼付!J27","v":1},{"$f":"データ貼付!K27","v":0}]
[27,"中学男子ｼﾞｬﾍﾞﾘｯｸｽﾛｰ4",{"$f":"J30&COUNTIF($J$4:J30,J30)","v":"出倉蓮音1"},{"$f":"データ貼付!D28&データ貼付!E28","v":"中学男子ｼﾞｬﾍﾞﾘｯｸｽﾛｰ"},{"$f":"データ貼付!G28+ROW()/1000000","v":3745.0000300000002},4,{"$f":"データ貼付!A28","v":"秋季陸上"},{"$f":"データ貼付!B28","v":"網走"},{"$f":"データ貼付!C28","v":43715},{"$f":"データ貼付!F28","v":"出倉蓮音"},{"$f":"データ貼付!G28","v":3745},{"$f":"データ貼付!H28","v":"決"},{"$f":"データ貼付!I28","v":"湧別中"},{"$f":"データ貼付!J28","v":2},{"$f":"データ貼付!K28","v":0}]
[28,"中学男子ｼﾞｬﾍﾞﾘｯｸｽﾛｰ36",{"$f":"J31&COUNTIF($J$4:J31,J31)","v":"楯身優1"},{"$f":"データ貼付!D29&データ貼付!E29","v":"中学男子ｼﾞｬﾍﾞﾘｯｸｽﾛｰ"},{"$f":"データ貼付!G29+ROW()/1000000","v":2043.000031},36,{"$f":"データ貼付!A29","v":"選手権"},{"$f":"データ貼付!B29","v":"北見"},{"$f":"データ貼付!C29","v":43596},{"$f":"データ貼付!F29","v":"楯身優"},{"$f":"データ貼付!G29","v":2043},{"$f":"データ貼付!H29","v":"決"},{"$f":"データ貼付!I29","v":"北見北中"},{"$f":"データ貼付!J29","v":2},{"$f":"データ貼付!K29","v":0}]
[29,"中学男子ｼﾞｬﾍﾞﾘｯｸｽﾛｰ1",{"$f":"J32&COUNTIF($J$4:J32,J32)","v":"小原拓真1"},{"$f":"データ貼付!D30&データ貼付!E30","v":"中学男子ｼﾞｬﾍﾞﾘｯｸｽﾛｰ"},{"$f":"データ貼付!G30+ROW()/1000000","v":5018.0000319999999},1,{"$f":"データ貼付!A30","v":"秋季陸上"},{"$f":"データ貼付!B30","v":"網走"},{"$f":"データ貼付!C30","v":43715},{"$f":"データ貼付!F30","v":"小原拓真"},{"$f":"データ貼付!G30","v":5018},{"$f":"データ貼付!H30","v":"決"},{"$f":"データ貼付!I30","v":"北見常呂中"},{"$f":"データ貼付!J30","v":2},{"$f":"データ貼付!K30","v":0}]
[30,"中学女子ｼﾞｬﾍﾞﾘｯｸｽﾛｰ12",{"$f":"J33&COUNTIF($J$4:J33,J33)","v":"小川璃子1"},{"$f":"データ貼付!D31&データ貼付!E31","v":"中学女子ｼﾞｬﾍﾞﾘｯｸｽﾛｰ"},{"$f":"データ貼付!G31+ROW()/1000000","v":1686.000033},12,{"$f":"データ貼付!A31","v":"通信陸上"},{"$f":"データ貼付!B31","v":"網走"},{"$f":"データ貼付!C31","v":43645},{"$f":"データ貼付!F31","v":"小川璃子"},{"$f":"データ貼付!G31","v":1686},{"$f":"データ貼付!H31","v":"決"},{"$f":"データ貼付!I31","v":"網走第三中"},{"$f":"データ貼付!J31","v":3},{"$f":"データ貼付!K31","v":0}]
[31,"中学男子ｼﾞｬﾍﾞﾘｯｸｽﾛｰ45",{"$f":"J34&COUNTIF($J$4:J34,J34)","v":"小林樹生1"},{"$f":"データ貼付!D32&データ貼付!E32","v":"中学男子ｼﾞｬﾍﾞﾘｯｸｽﾛｰ"},{"$f":"データ貼付!G32+ROW()/1000000","v":1694.0000339999999},45,{"$f":"データ貼付!A32","v":"中学新人"},{"$f":"データ貼付!B32","v":"網走"},{"$f":"データ貼付!C32","v":43700},{"$f":"データ貼付!F32","v":"小林樹生"},{"$f":"データ貼付!G32","v":1694},{"$f":"データ貼付!H32","v":"決"},{"$f":"データ貼付!I32","v":"雄武中"},{"$f":"データ貼付!J32","v":1},{"$f":"データ貼付!K32","v":0}]
[32,"中学男子ｼﾞｬﾍﾞﾘｯｸｽﾛｰ44",{"$f":"J35&COUNTIF($J$4:J35,J35)","v":"松田陽向太1"},{"$f":"データ貼付!D33&データ貼付!E33","v":"中学男子ｼﾞｬﾍﾞﾘｯｸｽﾛｰ"},{"$f":"データ貼付!G33+ROW()/1000000","v":1709.000035},44,{"$f":"データ貼付!A33","v":"通信陸上"},{"$f":"データ貼付!B33","v":"網走"},{"$f":"データ貼付!C33","v":43644},{"$f":"データ貼付!F33","v":"松田陽向太"},{"$f":"データ貼付!G33","v":1709},{"$f":"データ貼付!H33","v":"決"},{"$f":"データ貼付!I33","v":"北見東陵中"},{"$f":"データ貼付!J33","v":1},{"$f":"データ貼付!K33","v":0}]
[33,"中学男子ｼﾞｬﾍﾞﾘｯｸｽﾛｰ40",{"$f":"J36&COUNTIF($J$4:J36,J36)","v":"須田琉生1"},{"$f":"データ貼付!D34&データ貼付!E34","v":"中学男子ｼﾞｬﾍﾞﾘｯｸｽﾛｰ"},{"$f":"データ貼付!G34+ROW()/1000000","v":1865.0000359999999},40,{"$f":"データ貼付!A34","v":"中学新人"},{"$f":"データ貼付!B34","v":"網走"},{"$f":"データ貼付!C34","v":43700},{"$f":"データ貼付!F34","v":"須田琉生"},{"$f":"データ貼付!G34","v":1865},{"$f":"データ貼付!H34","v":"決"},{"$f":"データ貼付!I34","v":"網走第一中"},{"$f":"データ貼付!J34","v":1},{"$f":"データ貼付!K34","v":0}]
[34,"中学男子ｼﾞｬﾍﾞﾘｯｸｽﾛｰ17",{"$f":"J37&COUNTIF($J$4:J37,J37)","v":"須藤晴人1"},{"$f":"データ貼付!D35&データ貼付!E35","v":"中学男子ｼﾞｬﾍﾞﾘｯｸｽﾛｰ"},{"$f":"データ貼付!G35+ROW()/1000000","v":2954.0000369999998},17,{"$f":"データ貼付!A35","v":"選手権"},{"$f":"データ貼付!B35","v":"北見"},{"$f":"データ貼付!C35","v":43596},{"$f":"データ貼付!F35","v":"須藤晴人"},{"$f":"データ貼付!G35","v":2954},{"$f":"データ貼付!H35","v":"決"},{"$f":"データ貼付!I35","v":"北見北中"},{"$f":"データ貼付!J35","v":2},{"$f":"データ貼付!K35","v":0}]
[35,"中学男子ｼﾞｬﾍﾞﾘｯｸｽﾛｰ37",{"$f":"J38&COUNTIF($J$4:J38,J38)","v":"正壽晃希1"},{"$f":"データ貼付!D36&データ貼付!E36","v":"中学男子ｼﾞｬﾍﾞﾘｯｸｽﾛｰ"},{"$f":"データ貼付!G36+ROW()/1000000","v":2034.0000379999999},37,{"$f":"データ貼付!A36","v":"記録会４戦"},{"$f":"データ貼付!B36","v":"北見"},{"$f":"データ貼付!C36","v":43681},{"$f":"データ貼付!F36","v":"正壽晃希"},{"$f":"データ貼付!G36","v":2034},{"$f":"データ貼付!H36","v":"決"},{"$f":"データ貼付!I36","v":"北見北光中"},{"$f":"データ貼付!J36","v":1},{"$f":"データ貼付!K36","v":0}]
[36,"中学男子ｼﾞｬﾍﾞﾘｯｸｽﾛｰ24",{"$f":"J39&COUNTIF($J$4:J39,J39)","v":"石橋誠司1"},{"$f":"データ貼付!D37&データ貼付!E37","v":"中学男子ｼﾞｬﾍﾞﾘｯｸｽﾛｰ"},{"$f":"データ貼付!G37+ROW()/1000000","v":2669.000039},24,{"$f":"データ貼付!A37","v":"中学新人"},{"$f":"データ貼付!B37","v":"網走"},{"$f":"データ貼付!C37","v":43700},{"$f":"データ貼付!F37","v":"石橋誠司"},{"$f":"データ貼付!G37","v":2669},{"$f":"データ貼付!H37","v":"決"},{"$f":"データ貼付!I37","v":"雄武中"},{"$f":"データ貼付!J37","v":1},{"$f":"データ貼付!K37","v":0}]
[37,"中学男子ｼﾞｬﾍﾞﾘｯｸｽﾛｰ5",{"$f":"J40&COUNTIF($J$4:J40,J40)","v":"石原遥翔1"},{"$f":"データ貼付!D38&データ貼付!E38","v":"中学男子ｼﾞｬﾍﾞﾘｯｸｽﾛｰ"},{"$f":"データ貼付!G38+ROW()/1000000","v":3731.0000399999999},5,{"$f":"データ貼付!A38","v":"フィールド記録会"},{"$f":"データ貼付!B38","v":"網走"},{"$f":"データ貼付!C38","v":43624},{"$f":"データ貼付!F38","v":"石原遥翔"},{"$f":"データ貼付!G38","v":3731},{"$f":"データ貼付!H38","v":"決"},{"$f":"データ貼付!I38","v":"網走第四中"},{"$f":"データ貼付!J38","v":1},{"$f":"データ貼付!K38","v":0}]
[38,"中学男子ｼﾞｬﾍﾞﾘｯｸｽﾛｰ27",{"$f":"J41&COUNTIF($J$4:J41,J41)","v":"石田琉二1"},{"$f":"データ貼付!D39&データ貼付!E39","v":"中学男子ｼﾞｬﾍﾞﾘｯｸｽﾛｰ"},{"$f":"データ貼付!G39+ROW()/1000000","v":2553.0000409999998},27,{"$f":"データ貼付!A39","v":"記録会３戦"},{"$f":"データ貼付!B39","v":"網走"},{"$f":"データ貼付!C39","v":43660},{"$f":"データ貼付!F39","v":"石田琉二"},{"$f":"データ貼付!G39","v":2553},{"$f":"データ貼付!H39","v":"決"},{"$f":"データ貼付!I39","v":"北見北中"},{"$f":"データ貼付!J39","v":1},{"$f":"データ貼付!K39","v":0}]
[39,"中学男子ｼﾞｬﾍﾞﾘｯｸｽﾛｰ20",{"$f":"J42&COUNTIF($J$4:J42,J42)","v":"千葉涼1"},{"$f":"データ貼付!D40&データ貼付!E40","v":"中学男子ｼﾞｬﾍﾞﾘｯｸｽﾛｰ"},{"$f":"データ貼付!G40+ROW()/1000000","v":2901.0000420000001},20,{"$f":"データ貼付!A40","v":"記録会４戦"},{"$f":"データ貼付!B40","v":"北見"},{"$f":"データ貼付!C40","v":43681},{"$f":"データ貼付!F40","v":"千葉涼"},{"$f":"データ貼付!G40","v":2901},{"$f":"データ貼付!H40","v":"決"},{"$f":"データ貼付!I40","v":"北見光西中"},{"$f":"データ貼付!J40","v":1},{"$f":"データ貼付!K40","v":0}]
[40,"中学男子ｼﾞｬﾍﾞﾘｯｸｽﾛｰ8",{"$f":"J43&COUNTIF($J$4:J43,J43)","v":"倉本静鬼1"},{"$f":"データ貼付!D41&データ貼付!E41","v":"中学男子ｼﾞｬﾍﾞﾘｯｸｽﾛｰ"},{"$f":"データ貼付!G41+ROW()/1000000","v":3471.000043},8,{"$f":"データ貼付!A41","v":"選手権"},{"$f":"データ貼付!B41","v":"北見"},{"$f":"データ貼付!C41","v":43596},{"$f":"データ貼付!F41","v":"倉本静鬼"},{"$f":"データ貼付!G41","v":3471},{"$f":"データ貼付!H41","v":"決"},{"$f":"データ貼付!I41","v":"北見東陵中"},{"$f":"データ貼付!J41","v":2},{"$f":"データ貼付!K41","v":0}]
[41,"中学女子ｼﾞｬﾍﾞﾘｯｸｽﾛｰ19",{"$f":"J44&COUNTIF($J$4:J44,J44)","v":"草岡美紀1"},{"$f":"データ貼付!D42&データ貼付!E42","v":"中学女子ｼﾞｬﾍﾞﾘｯｸｽﾛｰ"},{"$f":"データ貼付!G42+ROW()/1000000","v":893.000044},19,{"$f":"データ貼付!A42","v":"フィールド記録会"},{"$f":"データ貼付!B42","v":"網走"},{"$f":"データ貼付!C42","v":43624},{"$f":"データ貼付!F42","v":"草岡美紀"},{"$f":"データ貼付!G42","v":893},{"$f":"データ貼付!H42","v":"決"},{"$f":"データ貼付!I42","v":"網走第二中"},{"$f":"データ貼付!J42","v":1},{"$f":"データ貼付!K42","v":0}]
[42,"中学男子ｼﾞｬﾍﾞﾘｯｸｽﾛｰ41",{"$f":"J45&COUNTIF($J$4:J45,J45)","v":"草薙怜冶1"},{"$f":"データ貼付!D43&データ貼付!E43","v":"中学男子ｼﾞｬﾍﾞﾘｯｸｽﾛｰ"},{"$f":"データ貼付!G43+ROW()/1000000","v":1848.000045},41,{"$f":"データ貼付!A43","v":"通信陸上"},{"$f":"データ貼付!B43","v":"網走"},{"$f":"データ貼付!C43","v":43644},{"$f":"データ貼付!F43","v":"草薙怜冶"},{"$f":"データ貼付!G43","v":1848},{"$f":"データ貼付!H43","v":"決"},{"$f":"データ貼付!I43","v":"湧別中"},{"$f":"データ貼付!J43","v":1},{"$f":"データ貼付!K43","v":0}]
[43,"中学女子ｼﾞｬﾍﾞﾘｯｸｽﾛｰ13",{"$f":"J46&COUNTIF($J$4:J46,J46)","v":"多田麻菜花1"},{"$f":"データ貼付!D44&データ貼付!E44","v":"中学女子ｼﾞｬﾍﾞﾘｯｸｽﾛｰ"},{"$f":"データ貼付!G44+ROW()/1000000","v":1658.0000460000001},13,{"$f":"データ貼付!A44","v":"記録会４戦"},{"$f":"データ貼付!B44","v":"北見"},{"$f":"データ貼付!C44","v":43681},{"$f":"データ貼付!F44","v":"多田麻菜花"},{"$f":"データ貼付!G44","v":1658},{"$f":"データ貼付!H44","v":"決"},{"$f":"データ貼付!I44","v":"北見北光中"},{"$f":"データ貼付!J44","v":3},{"$f":"データ貼付!K44","v":0}]
[44,"中学男子ｼﾞｬﾍﾞﾘｯｸｽﾛｰ21",{"$f":"J47&COUNTIF($J$4:J47,J47)","v":"中井啓晴1"},{"$f":"データ貼付!D45&データ貼付!E45","v":"中学男子ｼﾞｬﾍﾞﾘｯｸｽﾛｰ"},{"$f":"データ貼付!G45+ROW()/1000000","v":2783.000047},21,{"$f":"データ貼付!A45","v":"通信陸上"},{"$f":"データ貼付!B45","v":"網走"},{"$f":"データ貼付!C45","v":43644},{"$f":"データ貼付!F45","v":"中井啓晴"},{"$f":"データ貼付!G45","v":2783},{"$f":"データ貼付!H45","v":"決"},{"$f":"データ貼付!I45","v":"北見小泉中"},{"$f":"データ貼付!J45","v":3},{"$f":"データ貼付!K45","v":0}]
[45,"中学男子ｼﾞｬﾍﾞﾘｯｸｽﾛｰ11",{"$f":"J48&COUNTIF($J$4:J48,J48)","v":"中原太亜1"},{"$f":"データ貼付!D46&データ貼付!E46","v":"中学男子ｼﾞｬﾍﾞﾘｯｸｽﾛｰ"},{"$f":"データ貼付!G46+ROW()/1000000","v":3253.0000479999999},11,{"$f":"データ貼付!A46","v":"通信陸上"},{"$f":"データ貼付!B46","v":"網走"},{"$f":"データ貼付!C46","v":43644},{"$f":"データ貼付!F46","v":"中原太亜"},{"$f":"データ貼付!G46","v":3253},{"$f":"データ貼付!H46","v":"決"},{"$f":"データ貼付!I46","v":"北見常呂中"},{"$f":"データ貼付!J46","v":2},{"$f":"データ貼付!K46","v":0}]
[46,"中学女子ｼﾞｬﾍﾞﾘｯｸｽﾛｰ8",{"$f":"J49&COUNTIF($J$4:J49,J49)","v":"中村悠南1"},{"$f":"データ貼付!D47&データ貼付!E47","v":"中学女子ｼﾞｬﾍﾞﾘｯｸｽﾛｰ"},{"$f":"データ貼付!G47+ROW()/1000000","v":1927.000049},8,{"$f":"データ貼付!A47","v":"通信陸上"},{"$f":"データ貼付!B47","v":"網走"},{"$f":"データ貼付!C47","v":43645},{"$f":"データ貼付!F47","v":"中村悠南"},{"$f":"データ貼付!G47","v":1927},{"$f":"データ貼付!H47","v":"決"},{"$f":"データ貼付!I47","v":"網走第三中"},{"$f":"データ貼付!J47","v":3},{"$f":"データ貼付!K47","v":0}]
[47,"中学男子ｼﾞｬﾍﾞﾘｯｸｽﾛｰ18",{"$f":"J50&COUNTIF($J$4:J50,J50)","v":"中野大地1"},{"$f":"データ貼付!D48&データ貼付!E48","v":"中学男子ｼﾞｬﾍﾞﾘｯｸｽﾛｰ"},{"$f":"データ貼付!G48+ROW()/1000000","v":2939.0000500000001},18,{"$f":"データ貼付!A48","v":"通信陸上"},{"$f":"データ貼付!B48","v":"網走"},{"$f":"データ貼付!C48","v":43644},{"$f":"データ貼付!F48","v":"中野大地"},{"$f":"データ貼付!G48","v":2939},{"$f":"データ貼付!H48","v":"決"},{"$f":"データ貼付!I48","v":"北見北光中"},{"$f":"データ貼付!J48","v":1},{"$f":"データ貼付!K48","v":0}]
[48,"中学男子ｼﾞｬﾍﾞﾘｯｸｽﾛｰ31",{"$f":"J51&COUNTIF($J$4:J51,J51)","v":"田中達也1"},{"$f":"データ貼付!D49&データ貼付!E49","v":"中学男子ｼﾞｬﾍﾞﾘｯｸｽﾛｰ"},{"$f":"データ貼付!G49+ROW()/1000000","v":2282.000051},31,{"$f":"データ貼付!A49","v":"記録会３戦"},{"$f":"データ貼付!B49","v":"網走"},{"$f":"データ貼付!C49","v":43660},{"$f":"データ貼付!F49","v":"田中達也"},{"$f":"データ貼付!G49","v":2282},{"$f":"データ貼付!H49","v":"決"},{"$f":"データ貼付!I49","v":"網走第一中"},{"$f":"データ貼付!J49","v":3},{"$f":"データ貼付!K49","v":0}]
[49,"中学男子ｼﾞｬﾍﾞﾘｯｸｽﾛｰ30",{"$f":"J52&COUNTIF($J$4:J52,J52)","v":"田中智也1"},{"$f":"データ貼付!D50&データ貼付!E50","v":"中学男子ｼﾞｬﾍﾞﾘｯｸｽﾛｰ"},{"$f":"データ貼付!G50+ROW()/1000000","v":2310.0000519999999},30,{"$f":"データ貼付!A50","v":"秋季陸上"},{"$f":"データ貼付!B50","v":"網走"},{"$f":"データ貼付!C50","v":43715},{"$f":"データ貼付!F50","v":"田中智也"},{"$f":"データ貼付!G50","v":2310},{"$f":"データ貼付!H50","v":"決"},{"$f":"データ貼付!I50","v":"網走第一中"},{"$f":"データ貼付!J50","v":1},{"$f":"データ貼付!K50","v":0}]
[50,"中学女子ｼﾞｬﾍﾞﾘｯｸｽﾛｰ11",{"$f":"J53&COUNTIF($J$4:J53,J53)","v":"田中陽菜1"},{"$f":"データ貼付!D51&データ貼付!E51","v":"中学女子ｼﾞｬﾍﾞﾘｯｸｽﾛｰ"},{"$f":"データ貼付!G51+ROW()/1000000","v":1783.000053},11,{"$f":"データ貼付!A51","v":"通信陸上"},{"$f":"データ貼付!B51","v":"網走"},{"$f":"データ貼付!C51","v":43645},{"$f":"データ貼付!F51","v":"田中陽菜"},{"$f":"データ貼付!G51","v":1783},{"$f":"データ貼付!H51","v":"決"},{"$f":"データ貼付!I51","v":"北見光西中"},{"$f":"データ貼付!J51","v":1},{"$f":"データ貼付!K51","v":0}]
[51,"中学男子ｼﾞｬﾍﾞﾘｯｸｽﾛｰ10",{"$f":"J54&COUNTIF($J$4:J54,J54)","v":"渡邉日向1"},{"$f":"データ貼付!D52&データ貼付!E52","v":"中学男子ｼﾞｬﾍﾞﾘｯｸｽﾛｰ"},{"$f":"データ貼付!G52+ROW()/1000000","v":3268.0000540000001},10,{"$f":"データ貼付!A52","v":"選手権"},{"$f":"データ貼付!B52","v":"北見"},{"$f":"データ貼付!C52","v":43596},{"$f":"データ貼付!F52","v":"渡邉日向"},{"$f":"データ貼付!G52","v":3268},{"$f":"データ貼付!H52","v":"決"},{"$f":"データ貼付!I52","v":"網走第四中"},{"$f":"データ貼付!J52","v":1},{"$f":"データ貼付!K52","v":0}]
[52,"中学男子ｼﾞｬﾍﾞﾘｯｸｽﾛｰ12",{"$f":"J55&COUNTIF($J$4:J55,J55)","v":"楠本悠斗1"},{"$f":"データ貼付!D53&データ貼付!E53","v":"中学男子ｼﾞｬﾍﾞﾘｯｸｽﾛｰ"},{"$f":"データ貼付!G53+ROW()/1000000","v":3168.000055},12,{"$f":"データ貼付!A53","v":"記録会３戦"},{"$f":"データ貼付!B53","v":"網走"},{"$f":"データ貼付!C53","v":43660},{"$f":"データ貼付!F53","v":"楠本悠斗"},{"$f":"データ貼付!G53","v":3168},{"$f":"データ貼付!H53","v":"決"},{"$f":"データ貼付!I53","v":"北見小泉中"},{"$f":"データ貼付!J53","v":3},{"$f":"データ貼付!K53","v":0}]
[53,"中学男子ｼﾞｬﾍﾞﾘｯｸｽﾛｰ16",{"$f":"J56&COUNTIF($J$4:J56,J56)","v":"日野俐唯斗1"},{"$f":"データ貼付!D54&データ貼付!E54","v":"中学男子ｼﾞｬﾍﾞﾘｯｸｽﾛｰ"},{"$f":"データ貼付!G54+ROW()/1000000","v":2954.0000559999999},16,{"$f":"データ貼付!A54","v":"通信陸上"},{"$f":"データ貼付!B54","v":"網走"},{"$f":"データ貼付!C54","v":43644},{"$f":"データ貼付!F54","v":"日野俐唯斗"},{"$f":"データ貼付!G54","v":2954},{"$f":"データ貼付!H54","v":"決"},{"$f":"データ貼付!I54","v":"北見北光中"},{"$f":"データ貼付!J54","v":1},{"$f":"データ貼付!K54","v":0}]
[54,"中学女子ｼﾞｬﾍﾞﾘｯｸｽﾛｰ9",{"$f":"J57&COUNTIF($J$4:J57,J57)","v":"畠野美優1"},{"$f":"データ貼付!D55&データ貼付!E55","v":"中学女子ｼﾞｬﾍﾞﾘｯｸｽﾛｰ"},{"$f":"データ貼付!G55+ROW()/1000000","v":1922.000057},9,{"$f":"データ貼付!A55","v":"通信陸上"},{"$f":"データ貼付!B55","v":"網走"},{"$f":"データ貼付!C55","v":43645},{"$f":"データ貼付!F55","v":"畠野美優"},{"$f":"データ貼付!G55","v":1922},{"$f":"データ貼付!H55","v":"決"},{"$f":"データ貼付!I55","v":"北見光西中"},{"$f":"データ貼付!J55","v":2},{"$f":"データ貼付!K55","v":0}]
[55,"中学男子ｼﾞｬﾍﾞﾘｯｸｽﾛｰ23",{"$f":"J58&COUNTIF($J$4:J58,J58)","v":"美濃詠隼1"},{"$f":"データ貼付!D56&データ貼付!E56","v":"中学男子ｼﾞｬﾍﾞﾘｯｸｽﾛｰ"},{"$f":"データ貼付!G56+ROW()/1000000","v":2682.0000580000001},23,{"$f":"データ貼付!A56","v":"通信陸上"},{"$f":"データ貼付!B56","v":"網走"},{"$f":"データ貼付!C56","v":43644},{"$f":"データ貼付!F56","v":"美濃詠隼"},{"$f":"データ貼付!G56","v":2682},{"$f":"データ貼付!H56","v":"決"},{"$f":"データ貼付!I56","v":"雄武中"},{"$f":"データ貼付!J56","v":1},{"$f":"データ貼付!K56","v":0}]
[56,"中学男子ｼﾞｬﾍﾞﾘｯｸｽﾛｰ38",{"$f":"J59&COUNTIF($J$4:J59,J59)","v":"福田悠介1"},{"$f":"データ貼付!D57&データ貼付!E57","v":"中学男子ｼﾞｬﾍﾞﾘｯｸｽﾛｰ"},{"$f":"データ貼付!G57+ROW()/1000000","v":2018.000059},38,{"$f":"データ貼付!A57","v":"選手権"},{"$f":"データ貼付!B57","v":"北見"},{"$f":"データ貼付!C57","v":43596},{"$f":"データ貼付!F57","v":"福田悠介"},{"$f":"データ貼付!G57","v":2018},{"$f":"データ貼付!H57","v":"決"},{"$f":"データ貼付!I57","v":"網走第一中"},{"$f":"データ貼付!J57","v":2},{"$f":"データ貼付!K57","v":0}]
[57,"中学男子ｼﾞｬﾍﾞﾘｯｸｽﾛｰ33",{"$f":"J60&COUNTIF($J$4:J60,J60)","v":"平形洸人1"},{"$f":"データ貼付!D58&データ貼付!E58","v":"中学男子ｼﾞｬﾍﾞﾘｯｸｽﾛｰ"},{"$f":"データ貼付!G58+ROW()/1000000","v":2173.0000599999998},33,{"$f":"データ貼付!A58","v":"通信陸上"},{"$f":"データ貼付!B58","v":"網走"},{"$f":"データ貼付!C58","v":43644},{"$f":"データ貼付!F58","v":"平形洸人"},{"$f":"データ貼付!G58","v":2173},{"$f":"データ貼付!H58","v":"決"},{"$f":"データ貼付!I58","v":"湧別中"},{"$f":"データ貼付!J58","v":1},{"$f":"データ貼付!K58","v":0}]
[58,"中学男子ｼﾞｬﾍﾞﾘｯｸｽﾛｰ34",{"$f":"J61&COUNTIF($J$4:J61,J61)","v":"平佐太一1"},{"$f":"データ貼付!D59&データ貼付!E59","v":"中学男子ｼﾞｬﾍﾞﾘｯｸｽﾛｰ"},{"$f":"データ貼付!G59+ROW()/1000000","v":2053.0000610000002},34,{"$f":"データ貼付!A59","v":"選手権"},{"$f":"データ貼付!B59","v":"北見"},{"$f":"データ貼付!C59","v":43596},{"$f":"データ貼付!F59","v":"平佐太一"},{"$f":"データ貼付!G59","v":2053},{"$f":"データ貼付!H59","v":"決"},{"$f":"データ貼付!I59","v":"網走第三中"},{"$f":"データ貼付!J59","v":2},{"$f":"データ貼付!K59","v":0}]
[59,"中学男子ｼﾞｬﾍﾞﾘｯｸｽﾛｰ47",{"$f":"J62&COUNTIF($J$4:J62,J62)","v":"保里和実1"},{"$f":"データ貼付!D60&データ貼付!E60","v":"中学男子ｼﾞｬﾍﾞﾘｯｸｽﾛｰ"},{"$f":"データ貼付!G60+ROW()/1000000","v":1285.0000620000001},47,{"$f":"データ貼付!A60","v":"選手権"},{"$f":"データ貼付!B60","v":"北見"},{"$f":"データ貼付!C60","v":43596},{"$f":"データ貼付!F60","v":"保里和実"},{"$f":"データ貼付!G60","v":1285},{"$f":"データ貼付!H60","v":"決"},{"$f":"データ貼付!I60","v":"遠軽中"},{"$f":"データ貼付!J60","v":3},{"$f":"データ貼付!K60","v":0}]
[60,"中学男子ｼﾞｬﾍﾞﾘｯｸｽﾛｰ39",{"$f":"J63&COUNTIF($J$4:J63,J63)","v":"豊田琉偉1"},{"$f":"データ貼付!D61&データ貼付!E61","v":"中学男子ｼﾞｬﾍﾞﾘｯｸｽﾛｰ"},{"$f":"データ貼付!G61+ROW()/1000000","v":1891.000063},39,{"$f":"データ貼付!A61","v":"通信陸上"},{"$f":"データ貼付!B61","v":"網走"},{"$f":"データ貼付!C61","v":43644},{"$f":"データ貼付!F61","v":"豊田琉偉"},{"$f":"データ貼付!G61","v":1891},{"$f":"データ貼付!H61","v":"決"},{"$f":"データ貼付!I61","v":"遠軽中"},{"$f":"データ貼付!J61","v":3},{"$f":"データ貼付!K61","v":0}]
[61,"中学男子ｼﾞｬﾍﾞﾘｯｸｽﾛｰ22",{"$f":"J64&COUNTIF($J$4:J64,J64)","v":"堀口慎之助1"},{"$f":"データ貼付!D62&データ貼付!E62","v":"中学男子ｼﾞｬﾍﾞﾘｯｸｽﾛｰ"},{"$f":"データ貼付!G62+ROW()/1000000","v":2768.0000639999998},22,{"$f":"データ貼付!A62","v":"選手権"},{"$f":"データ貼付!B62","v":"北見"},{"$f":"データ貼付!C62","v":43596},{"$f":"データ貼付!F62","v":"堀口慎之助"},{"$f":"データ貼付!G62","v":2768},{"$f":"データ貼付!H62","v":"決"},{"$f":"データ貼付!I62","v":"北見小泉中"},{"$f":"データ貼付!J62","v":3},{"$f":"データ貼付!K62","v":0}]
[62,"中学女子ｼﾞｬﾍﾞﾘｯｸｽﾛｰ15",{"$f":"J65&COUNTIF($J$4:J65,J65)","v":"本間唯央奈1"},{"$f":"データ貼付!D63&データ貼付!E63","v":"中学女子ｼﾞｬﾍﾞﾘｯｸｽﾛｰ"},{"$f":"データ貼付!G63+ROW()/1000000","v":1546.0000649999999},15,{"$f":"データ貼付!A63","v":"記録会４戦"},{"$f":"データ貼付!B63","v":"北見"},{"$f":"データ貼付!C63","v":43681},{"$f":"データ貼付!F63","v":"本間唯央奈"},{"$f":"データ貼付!G63","v":1546},{"$f":"データ貼付!H63","v":"決"},{"$f":"データ貼付!I63","v":"北見北光中"},{"$f":"データ貼付!J63","v":3},{"$f":"データ貼付!K63","v":0}]
[63,"中学女子ｼﾞｬﾍﾞﾘｯｸｽﾛｰ7",{"$f":"J66&COUNTIF($J$4:J66,J66)","v":"木村紗彩1"},{"$f":"データ貼付!D64&データ貼付!E64","v":"中学女子ｼﾞｬﾍﾞﾘｯｸｽﾛｰ"},{"$f":"データ貼付!G64+ROW()/1000000","v":2068.0000660000001},7,{"$f":"データ貼付!A64","v":"記録会４戦"},{"$f":"データ貼付!B64","v":"北見"},{"$f":"データ貼付!C64","v":43681},{"$f":"データ貼付!F64","v":"木村紗彩"},{"$f":"データ貼付!G64","v":2068},{"$f":"データ貼付!H64","v":"決"},{"$f":"データ貼付!I64","v":"網走第四中"},{"$f":"データ貼付!J64","v":2},{"$f":"データ貼付!K64","v":0}]
[64,"中学男子ｼﾞｬﾍﾞﾘｯｸｽﾛｰ35",{"$f":"J67&COUNTIF($J$4:J67,J67)","v":"木内健太郎1"},{"$f":"データ貼付!D65&データ貼付!E65","v":"中学男子ｼﾞｬﾍﾞﾘｯｸｽﾛｰ"},{"$f":"データ貼付!G65+ROW()/1000000","v":2045.0000669999999},35,{"$f":"データ貼付!A65","v":"通信陸上"},{"$f":"データ貼付!B65","v":"網走"},{"$f":"データ貼付!C65","v":43644},{"$f":"データ貼付!F65","v":"木内健太郎"},{"$f":"データ貼付!G65","v":2045},{"$f":"データ貼付!H65","v":"決"},{"$f":"データ貼付!I65","v":"遠軽中"},{"$f":"データ貼付!J65","v":2},{"$f":"データ貼付!K65","v":0}]
[65,"中学男子ｼﾞｬﾍﾞﾘｯｸｽﾛｰ26",{"$f":"J68&COUNTIF($J$4:J68,J68)","v":"野村駿1"},{"$f":"データ貼付!D66&データ貼付!E66","v":"中学男子ｼﾞｬﾍﾞﾘｯｸｽﾛｰ"},{"$f":"データ貼付!G66+ROW()/1000000","v":2558.0000679999998},26,{"$f":"データ貼付!A66","v":"秋季陸上"},{"$f":"データ貼付!B66","v":"網走"},{"$f":"データ貼付!C66","v":43715},{"$f":"データ貼付!F66","v":"野村駿"},{"$f":"データ貼付!G66","v":2558},{"$f":"データ貼付!H66","v":"決"},{"$f":"データ貼付!I66","v":"北見東陵中"},{"$f":"データ貼付!J66","v":1},{"$f":"データ貼付!K66","v":0}]
[66,{"$f":"D69&F69","v":"中学男子ｼﾞｬﾍﾞﾘｯｸｽﾛｰ46"},{"$f":"J69&COUNTIF($J$4:J69,J69)","v":"髙橋龍之介1"},{"$f":"データ貼付!D67&データ貼付!E67","v":"中学男子ｼﾞｬﾍﾞﾘｯｸｽﾛｰ"},{"$f":"データ貼付!G67+ROW()/1000000","v":1498.0000689999999},{"$f":"SUMPRODUCT(($D$4:$D$903=D69)*($E$4:$E$903>E69))+1","v":46},{"$f":"データ貼付!A67","v":"フィールド記録会"},{"$f":"データ貼付!B67","v":"網走"},{"$f":"データ貼付!C67","v":43624},{"$f":"データ貼付!F67","v":"髙橋龍之介"},{"$f":"データ貼付!G67","v":1498},{"$f":"データ貼付!H67","v":"決"},{"$f":"データ貼付!I67","v":"網走第四中"},{"$f":"データ貼付!J67","v":1},{"$f":"データ貼付!K67","v":0}]
[67,"中学女子ｼﾞｬﾍﾞﾘｯｸｽﾛｰ17",{"$f":"J70&COUNTIF($J$4:J70,J70)","v":"髙田沙七1"},{"$f":"データ貼付!D68&データ貼付!E68","v":"中学女子ｼﾞｬﾍﾞﾘｯｸｽﾛｰ"},{"$f":"データ貼付!G68+ROW()/1000000","v":1135.0000700000001},17,{"$f":"データ貼付!A68","v":"記録会４戦"},{"$f":"データ貼付!B68","v":"北見"},{"$f":"データ貼付!C68","v":43681},{"$f":"データ貼付!F68","v":"髙田沙七"},{"$f":"データ貼付!G68","v":1135},{"$f":"データ貼付!H68","v":"決"},{"$f":"データ貼付!I68","v":"北見北光中"},{"$f":"データ貼付!J68","v":3},{"$f":"データ貼付!K68","v":0}]
[68,"小学男子ｼﾞｬﾍﾞﾘｯｸﾎﾞｰﾙ投12",{"$f":"J71&COUNTIF($J$4:J71,J71)","v":"阿部空晴1"},{"$f":"データ貼付!D69&データ貼付!E69","v":"小学男子ｼﾞｬﾍﾞﾘｯｸﾎﾞｰﾙ投"},{"$f":"データ貼付!G69+ROW()/1000000","v":3559.0000709999999},12,{"$f":"データ貼付!A69","v":"選手権"},{"$f":"データ貼付!B69","v":"北見"},{"$f":"データ貼付!C69","v":43596},{"$f":"データ貼付!F69","v":"阿部空晴"},{"$f":"データ貼付!G69","v":3559},{"$f":"データ貼付!H69","v":"決"},{"$f":"データ貼付!I69","v":"美幌RC"},{"$f":"データ貼付!J69","v":6},{"$f":"データ貼付!K69","v":0}]
[69,"小学男子ｼﾞｬﾍﾞﾘｯｸﾎﾞｰﾙ投20",{"$f":"J72&COUNTIF($J$4:J72,J72)","v":"安井一晴1"},{"$f":"データ貼付!D70&データ貼付!E70","v":"小学男子ｼﾞｬﾍﾞﾘｯｸﾎﾞｰﾙ投"},{"$f":"データ貼付!G70+ROW()/1000000","v":3139.0000719999998},20,{"$f":"データ貼付!A70","v":"小学生ｵﾎｰﾂｸ"},{"$f":"データ貼付!B70","v":"北見"},{"$f":"データ貼付!C70","v":43632},{"$f":"データ貼付!F70","v":"安井一晴"},{"$f":"データ貼付!G70","v":3139},{"$f":"データ貼付!H70","v":"決"},{"$f":"データ貼付!I70","v":"ｵﾎｰﾂｸｷｯｽﾞ"},{"$f":"データ貼付!J70","v":4},{"$f":"データ貼付!K70","v":0}]
[70,"小学女子ｼﾞｬﾍﾞﾘｯｸﾎﾞｰﾙ投1",{"$f":"J73&COUNTIF($J$4:J73,J73)","v":"安藤和1"},{"$f":"データ貼付!D71&データ貼付!E71","v":"小学女子ｼﾞｬﾍﾞﾘｯｸﾎﾞｰﾙ投"},{"$f":"データ貼付!G71+ROW()/1000000","v":3928.0000730000002},1,{"$f":"データ貼付!A71","v":"全道小学"},{"$f":"データ貼付!B71","v":"札幌"},{"$f":"データ貼付!C71","v":43661},{"$f":"データ貼付!F71","v":"安藤和"},{"$f":"データ貼付!G71","v":3928},{"$f":"データ貼付!H71","v":"決"},{"$f":"データ貼付!I71","v":"清里陸上少年団"},{"$f":"データ貼付!J71","v":6},{"$f":"データ貼付!K71","v":0}]
[71,"小学男子ｼﾞｬﾍﾞﾘｯｸﾎﾞｰﾙ投15",{"$f":"J74&COUNTIF($J$4:J74,J74)","v":"伊藤悦大1"},{"$f":"データ貼付!D72&データ貼付!E72","v":"小学男子ｼﾞｬﾍﾞﾘｯｸﾎﾞｰﾙ投"},{"$f":"データ貼付!G72+ROW()/1000000","v":3337.000074},15,{"$f":"データ貼付!A72","v":"小学生ｵﾎｰﾂｸ"},{"$f":"データ貼付!B72","v":"北見"},{"$f":"データ貼付!C72","v":43632},{"$f":"データ貼付!F72","v":"伊藤悦大"},{"$f":"データ貼付!G72","v":3337},{"$f":"データ貼付!H72","v":"決"},{"$f":"データ貼付!I72","v":"ｵﾎｰﾂｸｷｯｽﾞ"},{"$f":"データ貼付!J72","v":4},{"$f":"データ貼付!K72","v":0}]
[72,"小学男子ｼﾞｬﾍﾞﾘｯｸﾎﾞｰﾙ投36",{"$f":"J75&COUNTIF($J$4:J75,J75)","v":"伊藤榮音1"},{"$f":"データ貼付!D73&データ貼付!E73","v":"小学男子ｼﾞｬﾍﾞﾘｯｸﾎﾞｰﾙ投"},{"$f":"データ貼付!G73+ROW()/1000000","v":2307.0000749999999},36,{"$f":"データ貼付!A73","v":"全道小学"},{"$f":"データ貼付!B73","v":"札幌"},{"$f":"データ貼付!C73","v":43661},{"$f":"データ貼付!F73","v":"伊藤榮音"},{"$f":"データ貼付!G73","v":2307},{"$f":"データ貼付!H73","v":"決"},{"$f":"データ貼付!I73","v":"ｵﾎｰﾂｸｷｯｽﾞ"},{"$f":"データ貼付!J73","v":6},{"$f":"データ貼付!K73","v":0}]
[73,"小学男子ｼﾞｬﾍﾞﾘｯｸﾎﾞｰﾙ投43",{"$f":"J76&COUNTIF($J$4:J76,J76)","v":"浦田侍暖1"},{"$f":"データ貼付!D74&データ貼付!E74","v":"小学男子ｼﾞｬﾍﾞﾘｯｸﾎﾞｰﾙ投"},{"$f":"データ貼付!G74+ROW()/1000000","v":2019.000076},43,{"$f":"データ貼付!A74","v":"小学生ｵﾎｰﾂｸ"},{"$f":"データ貼付!B74","v":"北見"},{"$f":"データ貼付!C74","v":43632},{"$f":"データ貼付!F74","v":"浦田侍暖"},{"$f":"データ貼付!G74","v":2019},{"$f":"データ貼付!H74","v":"決"},{"$f":"データ貼付!I74","v":"ｵﾎｰﾂｸｷｯｽﾞ"},{"$f":"データ貼付!J74","v":3},{"$f":"データ貼付!K74","v":0}]
[74,"小学男子ｼﾞｬﾍﾞﾘｯｸﾎﾞｰﾙ投11",{"$f":"J77&COUNTIF($J$4:J77,J77)","v":"浦田誉人1"},{"$f":"データ貼付!D75&データ貼付!E75","v":"小学男子ｼﾞｬﾍﾞﾘｯｸﾎﾞｰﾙ投"},{"$f":"データ貼付!G75+ROW()/1000000","v":3604.0000770000001},11,{"$f":"データ貼付!A75","v":"フィールド記録会"},{"$f":"データ貼付!B75","v":"網走"},{"$f":"データ貼付!C75","v":43624},{"$f":"データ貼付!F75","v":"浦田誉人"},{"$f":"データ貼付!G75","v":3604},{"$f":"データ貼付!H75","v":"決"},{"$f":"データ貼付!I75","v":"美幌RC"},{"$f":"データ貼付!J75","v":5},{"$f":"データ貼付!K75","v":0}]
[75,"小学男子ｼﾞｬﾍﾞﾘｯｸﾎﾞｰﾙ投2",{"$f":"J78&COUNTIF($J$4:J78,J78)","v":"角田蓮1"},{"$f":"データ貼付!D76&データ貼付!E76","v":"小学男子ｼﾞｬﾍﾞﾘｯｸﾎﾞｰﾙ投"},{"$f":"データ貼付!G76+ROW()/1000000","v":4504.000078},2,{"$f":"データ貼付!A76","v":"選手権"},{"$f":"データ貼付!B76","v":"北見"},{"$f":"データ貼付!C76","v":43596},{"$f":"データ貼付!F76","v":"角田蓮"},{"$f":"データ貼付!G76","v":4504},{"$f":"データ貼付!H76","v":"決"},{"$f":"データ貼付!I76","v":"美幌RC"},{"$f":"データ貼付!J76","v":6},{"$f":"データ貼付!K76","v":0}]
[76,"小学男子ｼﾞｬﾍﾞﾘｯｸﾎﾞｰﾙ投25",{"$f":"J79&COUNTIF($J$4:J79,J79)","v":"刈屋柊晴1"},{"$f":"データ貼付!D77&データ貼付!E77","v":"小学男子ｼﾞｬﾍﾞﾘｯｸﾎﾞｰﾙ投"},{"$f":"データ貼付!G77+ROW()/1000000","v":2815.0000789999999},25,{"$f":"データ貼付!A77","v":"選手権"},{"$f":"データ貼付!B77","v":"北見"},{"$f":"データ貼付!C77","v":43596},{"$f":"データ貼付!F77","v":"刈屋柊晴"},{"$f":"データ貼付!G77","v":2815},{"$f":"データ貼付!H77","v":"決"},{"$f":"データ貼付!I77","v":"ｵﾎｰﾂｸｷｯｽﾞ"},{"$f":"データ貼付!J77","v":4},{"$f":"データ貼付!K77","v":0}]
[77,"小学女子ｼﾞｬﾍﾞﾘｯｸﾎﾞｰﾙ投4",{"$f":"J80&COUNTIF($J$4:J80,J80)","v":"関谷楓花1"},{"$f":"データ貼付!D78&データ貼付!E78","v":"小学女子ｼﾞｬﾍﾞﾘｯｸﾎﾞｰﾙ投"},{"$f":"データ貼付!G78+ROW()/1000000","v":3393.0000799999998},4,{"$f":"データ貼付!A78","v":"フィールド記録会"},{"$f":"データ貼付!B78","v":"網走"},{"$f":"データ貼付!C78","v":43624},{"$f":"データ貼付!F78","v":"関谷楓花"},{"$f":"データ貼付!G78","v":3393},{"$f":"データ貼付!H78","v":"決"},{"$f":"データ貼付!I78","v":"常呂陸上少年団"},{"$f":"データ貼付!J78","v":6},{"$f":"データ貼付!K78","v":0}]
[78,"小学男子ｼﾞｬﾍﾞﾘｯｸﾎﾞｰﾙ投10",{"$f":"J81&COUNTIF($J$4:J81,J81)","v":"吉田仙太1"},{"$f":"データ貼付!D79&データ貼付!E79","v":"小学男子ｼﾞｬﾍﾞﾘｯｸﾎﾞｰﾙ投"},{"$f":"データ貼付!G79+ROW()/1000000","v":3608.0000810000001},10,{"$f":"データ貼付!A79","v":"フィールド記録会"},{"$f":"データ貼付!B79","v":"網走"},{"$f":"データ貼付!C79","v":43624},{"$f":"データ貼付!F79","v":"吉田仙太"},{"$f":"データ貼付!G79","v":3608},{"$f":"データ貼付!H79","v":"決"},{"$f":"データ貼付!I79","v":"美幌RC"},{"$f":"データ貼付!J79","v":5},{"$f":"データ貼付!K79","v":0}]
[79,"小学女子ｼﾞｬﾍﾞﾘｯｸﾎﾞｰﾙ投10",{"$f":"J82&COUNTIF($J$4:J82,J82)","v":"久保田颯歩1"},{"$f":"データ貼付!D80&データ貼付!E80","v":"小学女子ｼﾞｬﾍﾞﾘｯｸﾎﾞｰﾙ投"},{"$f":"データ貼付!G80+ROW()/1000000","v":1813.000082},10,{"$f":"データ貼付!A80","v":"フィールド記録会"},{"$f":"データ貼付!B80","v":"網走"},{"$f":"データ貼付!C80","v":43624},{"$f":"データ貼付!F80","v":"久保田颯歩"},{"$f":"データ貼付!G80","v":1813},{"$f":"データ貼付!H80","v":"決"},{"$f":"データ貼付!I80","v":"知床斜里RC"},{"$f":"データ貼付!J80","v":5},{"$f":"データ貼付!K80","v":0}]
[80,"小学男子ｼﾞｬﾍﾞﾘｯｸﾎﾞｰﾙ投40",{"$f":"J83&COUNTIF($J$4:J83,J83)","v":"桐山晴良1"},{"$f":"データ貼付!D81&データ貼付!E81","v":"小学男子ｼﾞｬﾍﾞﾘｯｸﾎﾞｰﾙ投"},{"$f":"データ貼付!G81+ROW()/1000000","v":2085.0000829999999},40,{"$f":"データ貼付!A81","v":"小学生ｵﾎｰﾂｸ"},{"$f":"データ貼付!B81","v":"北見"},{"$f":"データ貼付!C81","v":43632},{"$f":"データ貼付!F81","v":"桐山晴良"},{"$f":"データ貼付!G81","v":2085},{"$f":"データ貼付!H81","v":"決"},{"$f":"データ貼付!I81","v":"美幌XC少年団"},{"$f":"データ貼付!J81","v":3},{"$f":"データ貼付!K81","v":0}]
[81,"小学男子ｼﾞｬﾍﾞﾘｯｸﾎﾞｰﾙ投23",{"$f":"J84&COUNTIF($J$4:J84,J84)","v":"後藤大輔1"},{"$f":"データ貼付!D82&データ貼付!E82","v":"小学男子ｼﾞｬﾍﾞﾘｯｸﾎﾞｰﾙ投"},{"$f":"データ貼付!G82+ROW()/1000000","v":2917.0000839999998},23,{"$f":"データ貼付!A82","v":"フィールド記録会"},{"$f":"データ貼付!B82","v":"網走"},{"$f":"データ貼付!C82","v":43624},{"$f":"データ貼付!F82","v":"後藤大輔"},{"$f":"データ貼付!G82","v":2917},{"$f":"データ貼付!H82","v":"決"},{"$f":"データ貼付!I82","v":"美幌RC"},{"$f":"データ貼付!J82","v":6},{"$f":"データ貼付!K82","v":0}]
[82,"小学男子ｼﾞｬﾍﾞﾘｯｸﾎﾞｰﾙ投7",{"$f":"J85&COUNTIF($J$4:J85,J85)","v":"工藤龍祈1"},{"$f":"データ貼付!D83&データ貼付!E83","v":"小学男子ｼﾞｬﾍﾞﾘｯｸﾎﾞｰﾙ投"},{"$f":"データ貼付!G83+ROW()/1000000","v":3916.0000850000001},7,{"$f":"データ貼付!A83","v":"選手権"},{"$f":"データ貼付!B83","v":"北見"},{"$f":"データ貼付!C83","v":43596},{"$f":"データ貼付!F83","v":"工藤龍祈"},{"$f":"データ貼付!G83","v":3916},{"$f":"データ貼付!H83","v":"決"},{"$f":"データ貼付!I83","v":"ｵﾎｰﾂｸｷｯｽﾞ"},{"$f":"データ貼付!J83","v":4},{"$f":"データ貼付!K83","v":0}]
[83,"小学男子ｼﾞｬﾍﾞﾘｯｸﾎﾞｰﾙ投1",{"$f":"J86&COUNTIF($J$4:J86,J86)","v":"荒木碧巴1"},{"$f":"データ貼付!D84&データ貼付!E84","v":"小学男子ｼﾞｬﾍﾞﾘｯｸﾎﾞｰﾙ投"},{"$f":"データ貼付!G84+ROW()/1000000","v":4668.000086},1,{"$f":"データ貼付!A84","v":"全道小学"},{"$f":"データ貼付!B84","v":"札幌"},{"$f":"データ貼付!C84","v":43661},{"$f":"データ貼付!F84","v":"荒木碧巴"},{"$f":"データ貼付!G84","v":4668},{"$f":"データ貼付!H84","v":"決"},{"$f":"データ貼付!I84","v":"知床斜里RC"},{"$f":"データ貼付!J84","v":6},{"$f":"データ貼付!K84","v":0}]
[84,"小学女子ｼﾞｬﾍﾞﾘｯｸﾎﾞｰﾙ投7",{"$f":"J87&COUNTIF($J$4:J87,J87)","v":"佐々木紀香1"},{"$f":"データ貼付!D85&データ貼付!E85","v":"小学女子ｼﾞｬﾍﾞﾘｯｸﾎﾞｰﾙ投"},{"$f":"データ貼付!G85+ROW()/1000000","v":2445.0000869999999},7,{"$f":"データ貼付!A85","v":"小学生ｵﾎｰﾂｸ"},{"$f":"データ貼付!B85","v":"北見"},{"$f":"データ貼付!C85","v":43632},{"$f":"データ貼付!F85","v":"佐々木紀香"},{"$f":"データ貼付!G85","v":2445},{"$f":"データ貼付!H85","v":"決"},{"$f":"データ貼付!I85","v":"訓子府陸上少年団"},{"$f":"データ貼付!J85","v":6},{"$f":"データ貼付!K85","v":0}]
[85,"小学男子ｼﾞｬﾍﾞﾘｯｸﾎﾞｰﾙ投42",{"$f":"J88&COUNTIF($J$4:J88,J88)","v":"佐々木瞬汰1"},{"$f":"データ貼付!D86&データ貼付!E86","v":"小学男子ｼﾞｬﾍﾞﾘｯｸﾎﾞｰﾙ投"},{"$f":"データ貼付!G86+ROW()/1000000","v":2052.0000879999998},42,{"$f":"データ貼付!A86","v":"選手権"},{"$f":"データ貼付!B86","v":"北見"},{"$f":"データ貼付!C86","v":43596},{"$f":"データ貼付!F86","v":"佐々木瞬汰"},{"$f":"データ貼付!G86","v":2052},{"$f":"データ貼付!H86","v":"決"},{"$f":"データ貼付!I86","v":"美幌RC"},{"$f":"データ貼付!J86","v":4},{"$f":"データ貼付!K86","v":0}]
[86,"小学男子ｼﾞｬﾍﾞﾘｯｸﾎﾞｰﾙ投27",{"$f":"J89&COUNTIF($J$4:J89,J89)","v":"佐々木進之介1"},{"$f":"データ貼付!D87&データ貼付!E87","v":"小学男子ｼﾞｬﾍﾞﾘｯｸﾎﾞｰﾙ投"},{"$f":"データ貼付!G87+ROW()/1000000","v":2764.0000890000001},27,{"$f":"データ貼付!A87","v":"選手権"},{"$f":"データ貼付!B87","v":"北見"},{"$f":"データ貼付!C87","v":43596},{"$f":"データ貼付!F87","v":"佐々木進之介"},{"$f":"データ貼付!G87","v":2764},{"$f":"データ貼付!H87","v":"決"},{"$f":"データ貼付!I87","v":"知床斜里RC"},{"$f":"データ貼付!J87","v":5},{"$f":"データ貼付!K87","v":0}]
[87,"小学女子ｼﾞｬﾍﾞﾘｯｸﾎﾞｰﾙ投12",{"$f":"J90&COUNTIF($J$4:J90,J90)","v":"佐藤琉花1"},{"$f":"データ貼付!D88&データ貼付!E88","v":"小学女子ｼﾞｬﾍﾞﾘｯｸﾎﾞｰﾙ投"},{"$f":"データ貼付!G88+ROW()/1000000","v":1206.00009},12,{"$f":"データ貼付!A88","v":"小学生ｵﾎｰﾂｸ"},{"$f":"データ貼付!B88","v":"北見"},{"$f":"データ貼付!C88","v":43632},{"$f":"データ貼付!F88","v":"佐藤琉花"},{"$f":"データ貼付!G88","v":1206},{"$f":"データ貼付!H88","v":"決"},{"$f":"データ貼付!I88","v":"美幌RC"},{"$f":"データ貼付!J88","v":5},{"$f":"データ貼付!K88","v":0}]
[88,"小学男子ｼﾞｬﾍﾞﾘｯｸﾎﾞｰﾙ投14",{"$f":"J91&COUNTIF($J$4:J91,J91)","v":"坂口智洋1"},{"$f":"データ貼付!D89&データ貼付!E89","v":"小学男子ｼﾞｬﾍﾞﾘｯｸﾎﾞｰﾙ投"},{"$f":"データ貼付!G89+ROW()/1000000","v":3493.0000909999999},14,{"$f":"データ貼付!A89","v":"小学生ｵﾎｰﾂｸ"},{"$f":"データ貼付!B89","v":"北見"},{"$f":"データ貼付!C89","v":43632},{"$f":"データ貼付!F89","v":"坂口智洋"},{"$f":"データ貼付!G89","v":3493},{"$f":"データ貼付!H89","v":"決"},{"$f":"データ貼付!I89","v":"常呂陸上少年団"},{"$f":"データ貼付!J89","v":6},{"$f":"データ貼付!K89","v":0}]
[89,"小学男子ｼﾞｬﾍﾞﾘｯｸﾎﾞｰﾙ投9",{"$f":"J92&COUNTIF($J$4:J92,J92)","v":"阪口智洋1"},{"$f":"データ貼付!D90&データ貼付!E90","v":"小学男子ｼﾞｬﾍﾞﾘｯｸﾎﾞｰﾙ投"},{"$f":"データ貼付!G90+ROW()/1000000","v":3661.0000920000002},9,{"$f":"データ貼付!A90","v":"選手権"},{"$f":"データ貼付!B90","v":"北見"},{"$f":"データ貼付!C90","v":43596},{"$f":"データ貼付!F90","v":"阪口智洋"},{"$f":"データ貼付!G90","v":3661},{"$f":"データ貼付!H90","v":"決"},{"$f":"データ貼付!I90","v":"常呂陸上少年団"},{"$f":"データ貼付!J90","v":6},{"$f":"データ貼付!K90","v":0}]
[90,"小学男子ｼﾞｬﾍﾞﾘｯｸﾎﾞｰﾙ投33",{"$f":"J93&COUNTIF($J$4:J93,J93)","v":"三浦正史1"},{"$f":"データ貼付!D91&データ貼付!E91","v":"小学男子ｼﾞｬﾍﾞﾘｯｸﾎﾞｰﾙ投"},{"$f":"データ貼付!G91+ROW()/1000000","v":2440.0000930000001},33,{"$f":"データ貼付!A91","v":"小学生ｵﾎｰﾂｸ"},{"$f":"データ貼付!B91","v":"北見"},{"$f":"データ貼付!C91","v":43632},{"$f":"データ貼付!F91","v":"三浦正史"},{"$f":"データ貼付!G91","v":2440},{"$f":"データ貼付!H91","v":"決"},{"$f":"データ貼付!I91","v":"美幌RC"},{"$f":"データ貼付!J91","v":3},{"$f":"データ貼付!K91","v":0}]
[91,"小学男子ｼﾞｬﾍﾞﾘｯｸﾎﾞｰﾙ投6",{"$f":"J94&COUNTIF($J$4:J94,J94)","v":"山田桔虎1"},{"$f":"データ貼付!D92&データ貼付!E92","v":"小学男子ｼﾞｬﾍﾞﾘｯｸﾎﾞｰﾙ投"},{"$f":"データ貼付!G92+ROW()/1000000","v":3942.000094},6,{"$f":"データ貼付!A92","v":"選手権"},{"$f":"データ貼付!B92","v":"北見"},{"$f":"データ貼付!C92","v":43596},{"$f":"データ貼付!F92","v":"山田桔虎"},{"$f":"データ貼付!G92","v":3942},{"$f":"データ貼付!H92","v":"決"},{"$f":"データ貼付!I92","v":"常呂陸上少年団"},{"$f":"データ貼付!J92","v":6},{"$f":"データ貼付!K92","v":0}]
[92,"小学男子ｼﾞｬﾍﾞﾘｯｸﾎﾞｰﾙ投47",{"$f":"J95&COUNTIF($J$4:J95,J95)","v":"山田悠翔1"},{"$f":"データ貼付!D93&データ貼付!E93","v":"小学男子ｼﾞｬﾍﾞﾘｯｸﾎﾞｰﾙ投"},{"$f":"データ貼付!G93+ROW()/1000000","v":1711.0000950000001},47,{"$f":"データ貼付!A93","v":"小学生ｵﾎｰﾂｸ"},{"$f":"データ貼付!B93","v":"北見"},{"$f":"データ貼付!C93","v":43632},{"$f":"データ貼付!F93","v":"山田悠翔"},{"$f":"データ貼付!G93","v":1711},{"$f":"データ貼付!H93","v":"決"},{"$f":"データ貼付!I93","v":"常呂陸上少年団"},{"$f":"データ貼付!J93","v":4},{"$f":"データ貼付!K93","v":0}]
[93,"小学女子ｼﾞｬﾍﾞﾘｯｸﾎﾞｰﾙ投2",{"$f":"J96&COUNTIF($J$4:J96,J96)","v":"室田心愛1"},{"$f":"データ貼付!D94&データ貼付!E94","v":"小学女子ｼﾞｬﾍﾞﾘｯｸﾎﾞｰﾙ投"},{"$f":"データ貼付!G94+ROW()/1000000","v":3913.0000960000002},2,{"$f":"データ貼付!A94","v":"選手権"},{"$f":"データ貼付!B94","v":"北見"},{"$f":"データ貼付!C94","v":43596},{"$f":"データ貼付!F94","v":"室田心愛"},{"$f":"データ貼付!G94","v":3913},{"$f":"データ貼付!H94","v":"決"},{"$f":"データ貼付!I94","v":"常呂陸上少年団"},{"$f":"データ貼付!J94","v":6},{"$f":"データ貼付!K94","v":0}]
[94,"小学男子ｼﾞｬﾍﾞﾘｯｸﾎﾞｰﾙ投38",{"$f":"J97&COUNTIF($J$4:J97,J97)","v":"柴田遥斗1"},{"$f":"データ貼付!D95&データ貼付!E95","v":"小学男子ｼﾞｬﾍﾞﾘｯｸﾎﾞｰﾙ投"},{"$f":"データ貼付!G95+ROW()/1000000","v":2094.0000970000001},38,{"$f":"データ貼付!A95","v":"選手権"},{"$f":"データ貼付!B95","v":"北見"},{"$f":"データ貼付!C95","v":43596},{"$f":"データ貼付!F95","v":"柴田遥斗"},{"$f":"データ貼付!G95","v":2094},{"$f":"データ貼付!H95","v":"決"},{"$f":"データ貼付!I95","v":"ｵﾎｰﾂｸｷｯｽﾞ"},{"$f":"データ貼付!J95","v":3},{"$f":"データ貼付!K95","v":0}]
[95,"小学男子ｼﾞｬﾍﾞﾘｯｸﾎﾞｰﾙ投4",{"$f":"J98&COUNTIF($J$4:J98,J98)","v":"若月柚樹1"},{"$f":"データ貼付!D96&データ貼付!E96","v":"小学男子ｼﾞｬﾍﾞﾘｯｸﾎﾞｰﾙ投"},{"$f":"データ貼付!G96+ROW()/1000000","v":4366.0000980000004},4,{"$f":"データ貼付!A96","v":"フィールド記録会"},{"$f":"データ貼付!B96","v":"網走"},{"$f":"データ貼付!C96","v":43624},{"$f":"データ貼付!F96","v":"若月柚樹"},{"$f":"データ貼付!G96","v":4366},{"$f":"データ貼付!H96","v":"決"},{"$f":"データ貼付!I96","v":"美幌RC"},{"$f":"データ貼付!J96","v":4},{"$f":"データ貼付!K96","v":0}]
[96,"小学男子ｼﾞｬﾍﾞﾘｯｸﾎﾞｰﾙ投13",{"$f":"J99&COUNTIF($J$4:J99,J99)","v":"小笠原昊1"},{"$f":"データ貼付!D97&データ貼付!E97","v":"小学男子ｼﾞｬﾍﾞﾘｯｸﾎﾞｰﾙ投"},{"$f":"データ貼付!G97+ROW()/1000000","v":3498.0000989999999},13,{"$f":"データ貼付!A97","v":"小学生ｵﾎｰﾂｸ"},{"$f":"データ貼付!B97","v":"北見"},{"$f":"データ貼付!C97","v":43632},{"$f":"データ貼付!F97","v":"小笠原昊"},{"$f":"データ貼付!G97","v":3498},{"$f":"データ貼付!H97","v":"決"},{"$f":"データ貼付!I97","v":"清里陸上少年団"},{"$f":"データ貼付!J97","v":6},{"$f":"データ貼付!K97","v":0}]
[97,"小学男子ｼﾞｬﾍﾞﾘｯｸﾎﾞｰﾙ投41",{"$f":"J100&COUNTIF($J$4:J100,J100)","v":"小原尊琉1"},{"$f":"データ貼付!D98&データ貼付!E98","v":"小学男子ｼﾞｬﾍﾞﾘｯｸﾎﾞｰﾙ投"},{"$f":"データ貼付!G98+ROW()/1000000","v":2065.0001000000002},41,{"$f":"データ貼付!A98","v":"選手権"},{"$f":"データ貼付!B98","v":"北見"},{"$f":"データ貼付!C98","v":43596},{"$f":"データ貼付!F98","v":"小原尊琉"},{"$f":"データ貼付!G98","v":2065},{"$f":"データ貼付!H98","v":"決"},{"$f":"データ貼付!I98","v":"常呂陸上少年団"},{"$f":"データ貼付!J98","v":4},{"$f":"データ貼付!K98","v":0}]
[98,"小学女子ｼﾞｬﾍﾞﾘｯｸﾎﾞｰﾙ投5",{"$f":"J101&COUNTIF($J$4:J101,J101)","v":"松本琉南1"},{"$f":"データ貼付!D99&データ貼付!E99","v":"小学女子ｼﾞｬﾍﾞﾘｯｸﾎﾞｰﾙ投"},{"$f":"データ貼付!G99+ROW()/1000000","v":3296.0001010000001},5,{"$f":"データ貼付!A99","v":"全道小学"},{"$f":"データ貼付!B99","v":"札幌"},{"$f":"データ貼付!C99","v":43661},{"$f":"データ貼付!F99","v":"松本琉南"},{"$f":"データ貼付!G99","v":3296},{"$f":"データ貼付!H99","v":"決"},{"$f":"データ貼付!I99","v":"美幌RC"},{"$f":"データ貼付!J99","v":5},{"$f":"データ貼付!K99","v":0}]
[99,"小学男子ｼﾞｬﾍﾞﾘｯｸﾎﾞｰﾙ投31",{"$f":"J102&COUNTIF($J$4:J102,J102)","v":"上原佑葵1"},{"$f":"データ貼付!D100&データ貼付!E100","v":"小学男子ｼﾞｬﾍﾞﾘｯｸﾎﾞｰﾙ投"},{"$f":"データ貼付!G100+ROW()/1000000","v":2523.000102},31,{"$f":"データ貼付!A100","v":"選手権"},{"$f":"データ貼付!B100","v":"北見"},{"$f":"データ貼付!C100","v":43596},{"$f":"データ貼付!F100","v":"上原佑葵"},{"$f":"データ貼付!G100","v":2523},{"$f":"データ貼付!H100","v":"決"},{"$f":"データ貼付!I100","v":"ｵﾎｰﾂｸSS"},{"$f":"データ貼付!J100","v":4},{"$f":"データ貼付!K100","v":0}]
[100,"小学男子ｼﾞｬﾍﾞﾘｯｸﾎﾞｰﾙ投46",{"$f":"J103&COUNTIF($J$4:J103,J103)","v":"新谷一真1"},{"$f":"データ貼付!D101&データ貼付!E101","v":"小学男子ｼﾞｬﾍﾞﾘｯｸﾎﾞｰﾙ投"},{"$f":"データ貼付!G101+ROW()/1000000","v":1744.0001030000001},46,{"$f":"データ貼付!A101","v":"小学生ｵﾎｰﾂｸ"},{"$f":"データ貼付!B101","v":"北見"},{"$f":"データ貼付!C101","v":43632},{"$f":"データ貼付!F101","v":"新谷一真"},{"$f":"データ貼付!G101","v":1744},{"$f":"データ貼付!H101","v":"決"},{"$f":"データ貼付!I101","v":"ｵﾎｰﾂｸｷｯｽﾞ"},{"$f":"データ貼付!J101","v":3},{"$f":"データ貼付!K101","v":0}]
[101,"小学男子ｼﾞｬﾍﾞﾘｯｸﾎﾞｰﾙ投32",{"$f":"J104&COUNTIF($J$4:J104,J104)","v":"森谷翔1"},{"$f":"データ貼付!D102&データ貼付!E102","v":"小学男子ｼﾞｬﾍﾞﾘｯｸﾎﾞｰﾙ投"},{"$f":"データ貼付!G102+ROW()/1000000","v":2508.0001040000002},32,{"$f":"データ貼付!A102","v":"小学生ｵﾎｰﾂｸ"},{"$f":"データ貼付!B102","v":"北見"},{"$f":"データ貼付!C102","v":43632},{"$f":"データ貼付!F102","v":"森谷翔"},{"$f":"データ貼付!G102","v":2508},{"$f":"データ貼付!H102","v":"決"},{"$f":"データ貼付!I102","v":"訓子府陸上少年団"},{"$f":"データ貼付!J102","v":3},{"$f":"データ貼付!K102","v":0}]
[102,"小学男子ｼﾞｬﾍﾞﾘｯｸﾎﾞｰﾙ投29",{"$f":"J105&COUNTIF($J$4:J105,J105)","v":"須藤陸都1"},{"$f":"データ貼付!D103&データ貼付!E103","v":"小学男子ｼﾞｬﾍﾞﾘｯｸﾎﾞｰﾙ投"},{"$f":"データ貼付!G103+ROW()/1000000","v":2685.0001050000001},29,{"$f":"データ貼付!A103","v":"小学生ｵﾎｰﾂｸ"},{"$f":"データ貼付!B103","v":"北見"},{"$f":"データ貼付!C103","v":43632},{"$f":"データ貼付!F103","v":"須藤陸都"},{"$f":"データ貼付!G103","v":2685},{"$f":"データ貼付!H103","v":"決"},{"$f":"データ貼付!I103","v":"北見美山小"},{"$f":"データ貼付!J103","v":3},{"$f":"データ貼付!K103","v":0}]
[103,"小学男子ｼﾞｬﾍﾞﾘｯｸﾎﾞｰﾙ投22",{"$f":"J106&COUNTIF($J$4:J106,J106)","v":"成ヶ澤隼人1"},{"$f":"データ貼付!D104&データ貼付!E104","v":"小学男子ｼﾞｬﾍﾞﾘｯｸﾎﾞｰﾙ投"},{"$f":"データ貼付!G104+ROW()/1000000","v":2997.000106},22,{"$f":"データ貼付!A104","v":"全道小学"},{"$f":"データ貼付!B104","v":"札幌"},{"$f":"データ貼付!C104","v":43660},{"$f":"データ貼付!F104","v":"成ヶ澤隼人"},{"$f":"データ貼付!G104","v":2997},{"$f":"データ貼付!H104","v":"決"},{"$f":"データ貼付!I104","v":"ｵﾎｰﾂｸSS"},{"$f":"データ貼付!J104","v":3},{"$f":"データ貼付!K104","v":0}]
[104,"小学女子ｼﾞｬﾍﾞﾘｯｸﾎﾞｰﾙ投13",{"$f":"J107&COUNTIF($J$4:J107,J107)","v":"石川知優1"},{"$f":"データ貼付!D105&データ貼付!E105","v":"小学女子ｼﾞｬﾍﾞﾘｯｸﾎﾞｰﾙ投"},{"$f":"データ貼付!G105+ROW()/1000000","v":1022.000107},13,{"$f":"データ貼付!A105","v":"選手権"},{"$f":"データ貼付!B105","v":"北見"},{"$f":"データ貼付!C105","v":43596},{"$f":"データ貼付!F105","v":"石川知優"},{"$f":"データ貼付!G105","v":1022},{"$f":"データ貼付!H105","v":"決"},{"$f":"データ貼付!I105","v":"美幌RC"},{"$f":"データ貼付!J105","v":3},{"$f":"データ貼付!K105","v":0}]
[105,"小学女子ｼﾞｬﾍﾞﾘｯｸﾎﾞｰﾙ投11",{"$f":"J108&COUNTIF($J$4:J108,J108)","v":"相馬羽夏1"},{"$f":"データ貼付!D106&データ貼付!E106","v":"小学女子ｼﾞｬﾍﾞﾘｯｸﾎﾞｰﾙ投"},{"$f":"データ貼付!G106+ROW()/1000000","v":1397.000108},11,{"$f":"データ貼付!A106","v":"小学生ｵﾎｰﾂｸ"},{"$f":"データ貼付!B106","v":"北見"},{"$f":"データ貼付!C106","v":43632},{"$f":"データ貼付!F106","v":"相馬羽夏"},{"$f":"データ貼付!G106","v":1397},{"$f":"データ貼付!H106","v":"決"},{"$f":"データ貼付!I106","v":"ｵﾎｰﾂｸｷｯｽﾞ"},{"$f":"データ貼付!J106","v":3},{"$f":"データ貼付!K106","v":0}]
[106,"小学男子ｼﾞｬﾍﾞﾘｯｸﾎﾞｰﾙ投45",{"$f":"J109&COUNTIF($J$4:J109,J109)","v":"大東啓1"},{"$f":"データ貼付!D107&データ貼付!E107","v":"小学男子ｼﾞｬﾍﾞﾘｯｸﾎﾞｰﾙ投"},{"$f":"データ貼付!G107+ROW()/1000000","v":1883.0001090000001},45,{"$f":"データ貼付!A107","v":"選手権"},{"$f":"データ貼付!B107","v":"北見"},{"$f":"データ貼付!C107","v":43596},{"$f":"データ貼付!F107","v":"大東啓"},{"$f":"データ貼付!G107","v":1883},{"$f":"データ貼付!H107","v":"決"},{"$f":"データ貼付!I107","v":"美幌RC"},{"$f":"データ貼付!J107","v":5},{"$f":"データ貼付!K107","v":0}]
[107,"小学男子ｼﾞｬﾍﾞﾘｯｸﾎﾞｰﾙ投49",{"$f":"J110&COUNTIF($J$4:J110,J110)","v":"大木駿徹1"},{"$f":"データ貼付!D108&データ貼付!E108","v":"小学男子ｼﾞｬﾍﾞﾘｯｸﾎﾞｰﾙ投"},{"$f":"データ貼付!G108+ROW()/1000000","v":1228.0001099999999},49,{"$f":"データ貼付!A108","v":"小学生ｵﾎｰﾂｸ"},{"$f":"データ貼付!B108","v":"北見"},{"$f":"データ貼付!C108","v":43632},{"$f":"データ貼付!F108","v":"大木駿徹"},{"$f":"データ貼付!G108","v":1228},{"$f":"データ貼付!H108","v":"決"},{"$f":"データ貼付!I108","v":"ｵﾎｰﾂｸｷｯｽﾞ"},{"$f":"データ貼付!J108","v":3},{"$f":"データ貼付!K108","v":0}]
[108,"小学男子ｼﾞｬﾍﾞﾘｯｸﾎﾞｰﾙ投44",{"$f":"J111&COUNTIF($J$4:J111,J111)","v":"大友優雅1"},{"$f":"データ貼付!D109&データ貼付!E109","v":"小学男子ｼﾞｬﾍﾞﾘｯｸﾎﾞｰﾙ投"},{"$f":"データ貼付!G109+ROW()/1000000","v":1983.0001110000001},44,{"$f":"データ貼付!A109","v":"フィールド記録会"},{"$f":"データ貼付!B109","v":"網走"},{"$f":"データ貼付!C109","v":43624},{"$f":"データ貼付!F109","v":"大友優雅"},{"$f":"データ貼付!G109","v":1983},{"$f":"データ貼付!H109","v":"決"},{"$f":"データ貼付!I109","v":"知床斜里RC"},{"$f":"データ貼付!J109","v":6},{"$f":"データ貼付!K109","v":0}]
[109,"小学男子ｼﾞｬﾍﾞﾘｯｸﾎﾞｰﾙ投19",{"$f":"J112&COUNTIF($J$4:J112,J112)","v":"谷浦晴磨1"},{"$f":"データ貼付!D110&データ貼付!E110","v":"小学男子ｼﾞｬﾍﾞﾘｯｸﾎﾞｰﾙ投"},{"$f":"データ貼付!G110+ROW()/1000000","v":3160.0001120000002},19,{"$f":"データ貼付!A110","v":"フィールド記録会"},{"$f":"データ貼付!B110","v":"網走"},{"$f":"データ貼付!C110","v":43624},{"$f":"データ貼付!F110","v":"谷浦晴磨"},{"$f":"データ貼付!G110","v":3160},{"$f":"データ貼付!H110","v":"決"},{"$f":"データ貼付!I110","v":"美幌RC"},{"$f":"データ貼付!J110","v":4},{"$f":"データ貼付!K110","v":0}]
[110,"小学女子ｼﾞｬﾍﾞﾘｯｸﾎﾞｰﾙ投9",{"$f":"J113&COUNTIF($J$4:J113,J113)","v":"谷脇那由多1"},{"$f":"データ貼付!D111&データ貼付!E111","v":"小学女子ｼﾞｬﾍﾞﾘｯｸﾎﾞｰﾙ投"},{"$f":"データ貼付!G111+ROW()/1000000","v":1824.0001130000001},9,{"$f":"データ貼付!A111","v":"全道小学"},{"$f":"データ貼付!B111","v":"札幌"},{"$f":"データ貼付!C111","v":43660},{"$f":"データ貼付!F111","v":"谷脇那由多"},{"$f":"データ貼付!G111","v":1824},{"$f":"データ貼付!H111","v":"決"},{"$f":"データ貼付!I111","v":"ｵﾎｰﾂｸｷｯｽﾞ"},{"$f":"データ貼付!J111","v":3},{"$f":"データ貼付!K111","v":0}]
[111,"小学男子ｼﾞｬﾍﾞﾘｯｸﾎﾞｰﾙ投16",{"$f":"J114&COUNTIF($J$4:J114,J114)","v":"中村海杜1"},{"$f":"データ貼付!D112&データ貼付!E112","v":"小学男子ｼﾞｬﾍﾞﾘｯｸﾎﾞｰﾙ投"},{"$f":"データ貼付!G112+ROW()/1000000","v":3315.0001139999999},16,{"$f":"データ貼付!A112","v":"小学生ｵﾎｰﾂｸ"},{"$f":"データ貼付!B112","v":"北見"},{"$f":"データ貼付!C112","v":43632},{"$f":"データ貼付!F112","v":"中村海杜"},{"$f":"データ貼付!G112","v":3315},{"$f":"データ貼付!H112","v":"決"},{"$f":"データ貼付!I112","v":"知床斜里RC"},{"$f":"データ貼付!J112","v":6},{"$f":"データ貼付!K112","v":0}]
[112,"小学男子ｼﾞｬﾍﾞﾘｯｸﾎﾞｰﾙ投18",{"$f":"J115&COUNTIF($J$4:J115,J115)","v":"中村星汰1"},{"$f":"データ貼付!D113&データ貼付!E113","v":"小学男子ｼﾞｬﾍﾞﾘｯｸﾎﾞｰﾙ投"},{"$f":"データ貼付!G113+ROW()/1000000","v":3229.0001149999998},18,{"$f":"データ貼付!A113","v":"フィールド記録会"},{"$f":"データ貼付!B113","v":"網走"},{"$f":"データ貼付!C113","v":43624},{"$f":"データ貼付!F113","v":"中村星汰"},{"$f":"データ貼付!G113","v":3229},{"$f":"データ貼付!H113","v":"決"},{"$f":"データ貼付!I113","v":"知床斜里RC"},{"$f":"データ貼付!J113","v":6},{"$f":"データ貼付!K113","v":0}]
[113,"小学男子ｼﾞｬﾍﾞﾘｯｸﾎﾞｰﾙ投8",{"$f":"J116&COUNTIF($J$4:J116,J116)","v":"中村直1"},{"$f":"データ貼付!D114&データ貼付!E114","v":"小学男子ｼﾞｬﾍﾞﾘｯｸﾎﾞｰﾙ投"},{"$f":"データ貼付!G114+ROW()/1000000","v":3844.0001160000002},8,{"$f":"データ貼付!A114","v":"選手権"},{"$f":"データ貼付!B114","v":"北見"},{"$f":"データ貼付!C114","v":43596},{"$f":"データ貼付!F114","v":"中村直"},{"$f":"データ貼付!G114","v":3844},{"$f":"データ貼付!H114","v":"決"},{"$f":"データ貼付!I114","v":"常呂陸上少年団"},{"$f":"データ貼付!J114","v":6},{"$f":"データ貼付!K114","v":0}]
[114,"小学男子ｼﾞｬﾍﾞﾘｯｸﾎﾞｰﾙ投24",{"$f":"J117&COUNTIF($J$4:J117,J117)","v":"長谷川大巧1"},{"$f":"データ貼付!D115&データ貼付!E115","v":"小学男子ｼﾞｬﾍﾞﾘｯｸﾎﾞｰﾙ投"},{"$f":"データ貼付!G115+ROW()/1000000","v":2873.000117},24,{"$f":"データ貼付!A115","v":"選手権"},{"$f":"データ貼付!B115","v":"北見"},{"$f":"データ貼付!C115","v":43596},{"$f":"データ貼付!F115","v":"長谷川大巧"},{"$f":"データ貼付!G115","v":2873},{"$f":"データ貼付!H115","v":"決"},{"$f":"データ貼付!I115","v":"美幌RC"},{"$f":"データ貼付!J115","v":3},{"$f":"データ貼付!K115","v":0}]
[115,"小学女子ｼﾞｬﾍﾞﾘｯｸﾎﾞｰﾙ投3",{"$f":"J118&COUNTIF($J$4:J118,J118)","v":"田辺采子1"},{"$f":"データ貼付!D116&データ貼付!E116","v":"小学女子ｼﾞｬﾍﾞﾘｯｸﾎﾞｰﾙ投"},{"$f":"データ貼付!G116+ROW()/1000000","v":3611.0001179999999},3,{"$f":"データ貼付!A116","v":"全道小学"},{"$f":"データ貼付!B116","v":"札幌"},{"$f":"データ貼付!C116","v":43661},{"$f":"データ貼付!F116","v":"田辺采子"},{"$f":"データ貼付!G116","v":3611},{"$f":"データ貼付!H116","v":"決"},{"$f":"データ貼付!I116","v":"ｵﾎｰﾂｸｷｯｽﾞ"},{"$f":"データ貼付!J116","v":5},{"$f":"データ貼付!K116","v":0}]
[116,"小学男子ｼﾞｬﾍﾞﾘｯｸﾎﾞｰﾙ投21",{"$f":"J119&COUNTIF($J$4:J119,J119)","v":"梅田彪牙1"},{"$f":"データ貼付!D117&データ貼付!E117","v":"小学男子ｼﾞｬﾍﾞﾘｯｸﾎﾞｰﾙ投"},{"$f":"データ貼付!G117+ROW()/1000000","v":3101.0001189999998},21,{"$f":"データ貼付!A117","v":"小学生ｵﾎｰﾂｸ"},{"$f":"データ貼付!B117","v":"北見"},{"$f":"データ貼付!C117","v":43632},{"$f":"データ貼付!F117","v":"梅田彪牙"},{"$f":"データ貼付!G117","v":3101},{"$f":"データ貼付!H117","v":"決"},{"$f":"データ貼付!I117","v":"美幌RC"},{"$f":"データ貼付!J117","v":5},{"$f":"データ貼付!K117","v":0}]
[117,"小学男子ｼﾞｬﾍﾞﾘｯｸﾎﾞｰﾙ投3",{"$f":"J120&COUNTIF($J$4:J120,J120)","v":"白石大和1"},{"$f":"データ貼付!D118&データ貼付!E118","v":"小学男子ｼﾞｬﾍﾞﾘｯｸﾎﾞｰﾙ投"},{"$f":"データ貼付!G118+ROW()/1000000","v":4443.0001199999997},3,{"$f":"データ貼付!A118","v":"全道小学"},{"$f":"データ貼付!B118","v":"札幌"},{"$f":"データ貼付!C118","v":43661},{"$f":"データ貼付!F118","v":"白石大和"},{"$f":"データ貼付!G118","v":4443},{"$f":"データ貼付!H118","v":"決"},{"$f":"データ貼付!I118","v":"ｵﾎｰﾂｸｷｯｽﾞ"},{"$f":"データ貼付!J118","v":5},{"$f":"データ貼付!K118","v":0}]
[118,"小学男子ｼﾞｬﾍﾞﾘｯｸﾎﾞｰﾙ投37",{"$f":"J121&COUNTIF($J$4:J121,J121)","v":"畑谷颯樹1"},{"$f":"データ貼付!D119&データ貼付!E119","v":"小学男子ｼﾞｬﾍﾞﾘｯｸﾎﾞｰﾙ投"},{"$f":"データ貼付!G119+ROW()/1000000","v":2182.000121},37,{"$f":"データ貼付!A119","v":"フィールド記録会"},{"$f":"データ貼付!B119","v":"網走"},{"$f":"データ貼付!C119","v":43624},{"$f":"データ貼付!F119","v":"畑谷颯樹"},{"$f":"データ貼付!G119","v":2182},{"$f":"データ貼付!H119","v":"決"},{"$f":"データ貼付!I119","v":"知床アスリートクラブ"},{"$f":"データ貼付!J119","v":3},{"$f":"データ貼付!K119","v":0}]
[119,"小学女子ｼﾞｬﾍﾞﾘｯｸﾎﾞｰﾙ投8",{"$f":"J122&COUNTIF($J$4:J122,J122)","v":"尾中ふたば1"},{"$f":"データ貼付!D120&データ貼付!E120","v":"小学女子ｼﾞｬﾍﾞﾘｯｸﾎﾞｰﾙ投"},{"$f":"データ貼付!G120+ROW()/1000000","v":2263.0001219999999},8,{"$f":"データ貼付!A120","v":"全道小学"},{"$f":"データ貼付!B120","v":"札幌"},{"$f":"データ貼付!C120","v":43660},{"$f":"データ貼付!F120","v":"尾中ふたば"},{"$f":"データ貼付!G120","v":2263},{"$f":"データ貼付!H120","v":"決"},{"$f":"データ貼付!I120","v":"美幌RC"},{"$f":"データ貼付!J120","v":4},{"$f":"データ貼付!K120","v":0}]
[120,"小学男子ｼﾞｬﾍﾞﾘｯｸﾎﾞｰﾙ投34",{"$f":"J123&COUNTIF($J$4:J123,J123)","v":"武田航太朗1"},{"$f":"データ貼付!D121&データ貼付!E121","v":"小学男子ｼﾞｬﾍﾞﾘｯｸﾎﾞｰﾙ投"},{"$f":"データ貼付!G121+ROW()/1000000","v":2409.0001229999998},34,{"$f":"データ貼付!A121","v":"小学生ｵﾎｰﾂｸ"},{"$f":"データ貼付!B121","v":"北見"},{"$f":"データ貼付!C121","v":43632},{"$f":"データ貼付!F121","v":"武田航太朗"},{"$f":"データ貼付!G121","v":2409},{"$f":"データ貼付!H121","v":"決"},{"$f":"データ貼付!I121","v":"常呂陸上少年団"},{"$f":"データ貼付!J121","v":4},{"$f":"データ貼付!K121","v":0}]
[121,"小学男子ｼﾞｬﾍﾞﾘｯｸﾎﾞｰﾙ投35",{"$f":"J124&COUNTIF($J$4:J124,J124)","v":"武田航太郎1"},{"$f":"データ貼付!D122&データ貼付!E122","v":"小学男子ｼﾞｬﾍﾞﾘｯｸﾎﾞｰﾙ投"},{"$f":"データ貼付!G122+ROW()/1000000","v":2308.0001240000001},35,{"$f":"データ貼付!A122","v":"選手権"},{"$f":"データ貼付!B122","v":"北見"},{"$f":"データ貼付!C122","v":43596},{"$f":"データ貼付!F122","v":"武田航太郎"},{"$f":"データ貼付!G122","v":2308},{"$f":"データ貼付!H122","v":"決"},{"$f":"データ貼付!I122","v":"常呂陸上少年団"},{"$f":"データ貼付!J122","v":4},{"$f":"データ貼付!K122","v":0}]
[122,"小学男子ｼﾞｬﾍﾞﾘｯｸﾎﾞｰﾙ投17",{"$f":"J125&COUNTIF($J$4:J125,J125)","v":"福井慶太1"},{"$f":"データ貼付!D123&データ貼付!E123","v":"小学男子ｼﾞｬﾍﾞﾘｯｸﾎﾞｰﾙ投"},{"$f":"データ貼付!G123+ROW()/1000000","v":3268.000125},17,{"$f":"データ貼付!A123","v":"選手権"},{"$f":"データ貼付!B123","v":"北見"},{"$f":"データ貼付!C123","v":43596},{"$f":"データ貼付!F123","v":"福井慶太"},{"$f":"データ貼付!G123","v":3268},{"$f":"データ貼付!H123","v":"決"},{"$f":"データ貼付!I123","v":"ｵﾎｰﾂｸｷｯｽﾞ"},{"$f":"データ貼付!J123","v":3},{"$f":"データ貼付!K123","v":0}]
[123,"小学男子ｼﾞｬﾍﾞﾘｯｸﾎﾞｰﾙ投48",{"$f":"J126&COUNTIF($J$4:J126,J126)","v":"平沢敦斗1"},{"$f":"データ貼付!D124&データ貼付!E124","v":"小学男子ｼﾞｬﾍﾞﾘｯｸﾎﾞｰﾙ投"},{"$f":"データ貼付!G124+ROW()/1000000","v":1586.0001259999999},48,{"$f":"データ貼付!A124","v":"選手権"},{"$f":"データ貼付!B124","v":"北見"},{"$f":"データ貼付!C124","v":43596},{"$f":"データ貼付!F124","v":"平沢敦斗"},{"$f":"データ貼付!G124","v":1586},{"$f":"データ貼付!H124","v":"決"},{"$f":"データ貼付!I124","v":"ｵﾎｰﾂｸｷｯｽﾞ"},{"$f":"データ貼付!J124","v":3},{"$f":"データ貼付!K124","v":0}]
[124,"小学男子ｼﾞｬﾍﾞﾘｯｸﾎﾞｰﾙ投39",{"$f":"J127&COUNTIF($J$4:J127,J127)","v":"堀田侑希1"},{"$f":"データ貼付!D125&データ貼付!E125","v":"小学男子ｼﾞｬﾍﾞﾘｯｸﾎﾞｰﾙ投"},{"$f":"データ貼付!G125+ROW()/1000000","v":2087.0001269999998},39,{"$f":"データ貼付!A125","v":"小学生ｵﾎｰﾂｸ"},{"$f":"データ貼付!B125","v":"北見"},{"$f":"データ貼付!C125","v":43632},{"$f":"データ貼付!F125","v":"堀田侑希"},{"$f":"データ貼付!G125","v":2087},{"$f":"データ貼付!H125","v":"決"},{"$f":"データ貼付!I125","v":"ｵﾎｰﾂｸｷｯｽﾞ"},{"$f":"データ貼付!J125","v":3},{"$f":"データ貼付!K125","v":0}]
[125,"小学男子ｼﾞｬﾍﾞﾘｯｸﾎﾞｰﾙ投5",{"$f":"J128&COUNTIF($J$4:J128,J128)","v":"本田櫂晴1"},{"$f":"データ貼付!D126&データ貼付!E126","v":"小学男子ｼﾞｬﾍﾞﾘｯｸﾎﾞｰﾙ投"},{"$f":"データ貼付!G126+ROW()/1000000","v":3971.0001280000001},5,{"$f":"データ貼付!A126","v":"フィールド記録会"},{"$f":"データ貼付!B126","v":"網走"},{"$f":"データ貼付!C126","v":43624},{"$f":"データ貼付!F126","v":"本田櫂晴"},{"$f":"データ貼付!G126","v":3971},{"$f":"データ貼付!H126","v":"決"},{"$f":"データ貼付!I126","v":"ｵﾎｰﾂｸｷｯｽﾞ"},{"$f":"データ貼付!J126","v":5},{"$f":"データ貼付!K126","v":0}]
[126,"小学女子ｼﾞｬﾍﾞﾘｯｸﾎﾞｰﾙ投6",{"$f":"J129&COUNTIF($J$4:J129,J129)","v":"木村美桜1"},{"$f":"データ貼付!D127&データ貼付!E127","v":"小学女子ｼﾞｬﾍﾞﾘｯｸﾎﾞｰﾙ投"},{"$f":"データ貼付!G127+ROW()/1000000","v":2463.000129},6,{"$f":"データ貼付!A127","v":"小学生ｵﾎｰﾂｸ"},{"$f":"データ貼付!B127","v":"北見"},{"$f":"データ貼付!C127","v":43632},{"$f":"データ貼付!F127","v":"木村美桜"},{"$f":"データ貼付!G127","v":2463},{"$f":"データ貼付!H127","v":"決"},{"$f":"データ貼付!I127","v":"常呂陸上少年団"},{"$f":"データ貼付!J127","v":3},{"$f":"データ貼付!K127","v":0}]
[127,"小学男子ｼﾞｬﾍﾞﾘｯｸﾎﾞｰﾙ投30",{"$f":"J130&COUNTIF($J$4:J130,J130)","v":"澤田涼1"},{"$f":"データ貼付!D128&データ貼付!E128","v":"小学男子ｼﾞｬﾍﾞﾘｯｸﾎﾞｰﾙ投"},{"$f":"データ貼付!G128+ROW()/1000000","v":2617.0001299999999},30,{"$f":"データ貼付!A128","v":"選手権"},{"$f":"データ貼付!B128","v":"北見"},{"$f":"データ貼付!C128","v":43596},{"$f":"データ貼付!F128","v":"澤田涼"},{"$f":"データ貼付!G128","v":2617},{"$f":"データ貼付!H128","v":"決"},{"$f":"データ貼付!I128","v":"知床斜里RC"},{"$f":"データ貼付!J128","v":5},{"$f":"データ貼付!K128","v":0}]
[128,"小学男子ｼﾞｬﾍﾞﾘｯｸﾎﾞｰﾙ投26",{"$f":"J131&COUNTIF($J$4:J131,J131)","v":"齋藤匡樹1"},{"$f":"データ貼付!D129&データ貼付!E129","v":"小学男子ｼﾞｬﾍﾞﾘｯｸﾎﾞｰﾙ投"},{"$f":"データ貼付!G129+ROW()/1000000","v":2779.0001309999998},26,{"$f":"データ貼付!A129","v":"小学生ｵﾎｰﾂｸ"},{"$f":"データ貼付!B129","v":"北見"},{"$f":"データ貼付!C129","v":43632},{"$f":"データ貼付!F129","v":"齋藤匡樹"},{"$f":"データ貼付!G129","v":2779},{"$f":"データ貼付!H129","v":"決"},{"$f":"データ貼付!I129","v":"網走陸上少年団"},{"$f":"データ貼付!J129","v":5},{"$f":"データ貼付!K129","v":0}]
[129,"小学男子ｼﾞｬﾍﾞﾘｯｸﾎﾞｰﾙ投28",{"$f":"J132&COUNTIF($J$4:J132,J132)","v":"髙橋信宗1"},{"$f":"データ貼付!D130&データ貼付!E130","v":"小学男子ｼﾞｬﾍﾞﾘｯｸﾎﾞｰﾙ投"},{"$f":"データ貼付!G130+ROW()/1000000","v":2727.0001320000001},28,{"$f":"データ貼付!A130","v":"選手権"},{"$f":"データ貼付!B130","v":"北見"},{"$f":"データ貼付!C130","v":43596},{"$f":"データ貼付!F130","v":"髙橋信宗"},{"$f":"データ貼付!G130","v":2727},{"$f":"データ貼付!H130","v":"決"},{"$f":"データ貼付!I130","v":"知床斜里RC"},{"$f":"データ貼付!J130","v":5},{"$f":"データ貼付!K130","v":0}]
[130,{"$f":"D133&F133","v":"一般女子ハンマー投1"},{"$f":"J133&COUNTIF($J$4:J133,J133)","v":"阿部冬彩1"},{"$f":"データ貼付!D131&データ貼付!E131","v":"一般女子ハンマー投"},{"$f":"データ貼付!G131+ROW()/1000000","v":4443.0001329999996},{"$f":"SUMPRODUCT(($D$4:$D$903=D133)*($E$4:$E$903>E133))+1","v":1},{"$f":"データ貼付!A131","v":"道選手権"},{"$f":"データ貼付!B131","v":"網走"},{"$f":"データ貼付!C131","v":43687},{"$f":"データ貼付!F131","v":"阿部冬彩"},{"$f":"データ貼付!G131","v":4443},{"$f":"データ貼付!H131","v":"決"},{"$f":"データ貼付!I131","v":"順天堂大"},{"$f":"データ貼付!J131","v":2},{"$f":"データ貼付!K131","v":0}]
[131,"高校男子ハンマー投10",{"$f":"J134&COUNTIF($J$4:J134,J134)","v":"夏野克規1"},{"$f":"データ貼付!D132&データ貼付!E132","v":"高校男子ハンマー投"},{"$f":"データ貼付!G132+ROW()/1000000","v":1878.0001339999999},10,{"$f":"データ貼付!A132","v":"高体連支部"},{"$f":"データ貼付!B132","v":"北見"},{"$f":"データ貼付!C132","v":43608},{"$f":"データ貼付!F132","v":"夏野克規"},{"$f":"データ貼付!G132","v":1878},{"$f":"データ貼付!H132","v":"決"},{"$f":"データ貼付!I132","v":"遠軽高"},{"$f":"データ貼付!J132","v":1},{"$f":"データ貼付!K132","v":0}]
[132,"一般男子ハンマー投1",{"$f":"J135&COUNTIF($J$4:J135,J135)","v":"岩越健太1"},{"$f":"データ貼付!D133&データ貼付!E133","v":"一般男子ハンマー投"},{"$f":"データ貼付!G133+ROW()/1000000","v":4636.0001350000002},1,{"$f":"データ貼付!A133","v":"道選手権"},{"$f":"データ貼付!B133","v":"網走"},{"$f":"データ貼付!C133","v":43687},{"$f":"データ貼付!F133","v":"岩越健太"},{"$f":"データ貼付!G133","v":4636},{"$f":"データ貼付!H133","v":"決"},{"$f":"データ貼付!I133","v":"オホーツクAC"},{"$f":"データ貼付!J133","v":0},{"$f":"データ貼付!K133","v":0}]
[133,"高校女子ハンマー投2",{"$f":"J136&COUNTIF($J$4:J136,J136)","v":"金澤茉梨亜1"},{"$f":"データ貼付!D134&データ貼付!E134","v":"高校女子ハンマー投"},{"$f":"データ貼付!G134+ROW()/1000000","v":3941.0001360000001},2,{"$f":"データ貼付!A134","v":"フィールド記録会"},{"$f":"データ貼付!B134","v":"網走"},{"$f":"データ貼付!C134","v":43624},{"$f":"データ貼付!F134","v":"金澤茉梨亜"},{"$f":"データ貼付!G134","v":3941},{"$f":"データ貼付!H134","v":"決"},{"$f":"データ貼付!I134","v":"遠軽高"},{"$f":"データ貼付!J134","v":3},{"$f":"データ貼付!K134","v":0}]
[134,"高校男子ハンマー投7",{"$f":"J137&COUNTIF($J$4:J137,J137)","v":"工藤颯斗1"},{"$f":"データ貼付!D135&データ貼付!E135","v":"高校男子ハンマー投"},{"$f":"データ貼付!G135+ROW()/1000000","v":3036.000137},7,{"$f":"データ貼付!A135","v":"高体連支部"},{"$f":"データ貼付!B135","v":"北見"},{"$f":"データ貼付!C135","v":43608},{"$f":"データ貼付!F135","v":"工藤颯斗"},{"$f":"データ貼付!G135","v":3036},{"$f":"データ貼付!H135","v":"決"},{"$f":"データ貼付!I135","v":"網走南ヶ丘高"},{"$f":"データ貼付!J135","v":3},{"$f":"データ貼付!K135","v":0}]
[135,"高校男子ハンマー投8",{"$f":"J138&COUNTIF($J$4:J138,J138)","v":"高宮魁1"},{"$f":"データ貼付!D136&データ貼付!E136","v":"高校男子ハンマー投"},{"$f":"データ貼付!G136+ROW()/1000000","v":2658.0001379999999},8,{"$f":"データ貼付!A136","v":"記録会４戦"},{"$f":"データ貼付!B136","v":"北見"},{"$f":"データ貼付!C136","v":43681},{"$f":"データ貼付!F136","v":"高宮魁"},{"$f":"データ貼付!G136","v":2658},{"$f":"データ貼付!H136","v":"決"},{"$f":"データ貼付!I136","v":"雄武高"},{"$f":"データ貼付!J136","v":1},{"$f":"データ貼付!K136","v":0}]
[136,"高校女子ハンマー投6",{"$f":"J139&COUNTIF($J$4:J139,J139)","v":"高橋愛唯1"},{"$f":"データ貼付!D137&データ貼付!E137","v":"高校女子ハンマー投"},{"$f":"データ貼付!G137+ROW()/1000000","v":2259.0001390000002},6,{"$f":"データ貼付!A137","v":"全道高校新人"},{"$f":"データ貼付!B137","v":"函館"},{"$f":"データ貼付!C137","v":" 9/18"},{"$f":"データ貼付!F137","v":"高橋愛唯"},{"$f":"データ貼付!G137","v":2259},{"$f":"データ貼付!H137","v":"決"},{"$f":"データ貼付!I137","v":"遠軽高"},{"$f":"データ貼付!J137","v":2},{"$f":"データ貼付!K137","v":0}]
[137,"高校男子ハンマー投5",{"$f":"J140&COUNTIF($J$4:J140,J140)","v":"高嶋祐太1"},{"$f":"データ貼付!D138&データ貼付!E138","v":"高校男子ハンマー投"},{"$f":"データ貼付!G138+ROW()/1000000","v":3780.0001400000001},5,{"$f":"データ貼付!A138","v":"記録会４戦"},{"$f":"データ貼付!B138","v":"北見"},{"$f":"データ貼付!C138","v":43681},{"$f":"データ貼付!F138","v":"高嶋祐太"},{"$f":"データ貼付!G138","v":3780},{"$f":"データ貼付!H138","v":"決"},{"$f":"データ貼付!I138","v":"遠軽高"},{"$f":"データ貼付!J138","v":2},{"$f":"データ貼付!K138","v":0}]
[138,"高校男子ハンマー投3",{"$f":"J141&COUNTIF($J$4:J141,J141)","v":"佐川翔流1"},{"$f":"データ貼付!D139&データ貼付!E139","v":"高校男子ハンマー投"},{"$f":"データ貼付!G139+ROW()/1000000","v":3888.000141},3,{"$f":"データ貼付!A139","v":"秋季陸上"},{"$f":"データ貼付!B139","v":"網走"},{"$f":"データ貼付!C139","v":43715},{"$f":"データ貼付!F139","v":"佐川翔流"},{"$f":"データ貼付!G139","v":3888},{"$f":"データ貼付!H139","v":"決"},{"$f":"データ貼付!I139","v":"遠軽高"},{"$f":"データ貼付!J139","v":2},{"$f":"データ貼付!K139","v":0}]
[139,"高校男子ハンマー投1",{"$f":"J142&COUNTIF($J$4:J142,J142)","v":"佐川翔琉1"},{"$f":"データ貼付!D140&データ貼付!E140","v":"高校男子ハンマー投"},{"$f":"データ貼付!G140+ROW()/1000000","v":4035.0001419999999},1,{"$f":"データ貼付!A140","v":"高体連支部"},{"$f":"データ貼付!B140","v":"北見"},{"$f":"データ貼付!C140","v":43608},{"$f":"データ貼付!F140","v":"佐川翔琉"},{"$f":"データ貼付!G140","v":4035},{"$f":"データ貼付!H140","v":"決"},{"$f":"データ貼付!I140","v":"遠軽高"},{"$f":"データ貼付!J140","v":2},{"$f":"データ貼付!K140","v":0}]
[140,"高校男子ハンマー投6",{"$f":"J143&COUNTIF($J$4:J143,J143)","v":"佐藤汰希1"},{"$f":"データ貼付!D141&データ貼付!E141","v":"高校男子ハンマー投"},{"$f":"データ貼付!G141+ROW()/1000000","v":3577.0001430000002},6,{"$f":"データ貼付!A141","v":"高校新人"},{"$f":"データ貼付!B141","v":"網走"},{"$f":"データ貼付!C141","v":43701},{"$f":"データ貼付!F141","v":"佐藤汰希"},{"$f":"データ貼付!G141","v":3577},{"$f":"データ貼付!H141","v":"決"},{"$f":"データ貼付!I141","v":"興部高"},{"$f":"データ貼付!J141","v":2},{"$f":"データ貼付!K141","v":0}]
[141,"一般男子ハンマー投2",{"$f":"J144&COUNTIF($J$4:J144,J144)","v":"山下大輔1"},{"$f":"データ貼付!D142&データ貼付!E142","v":"一般男子ハンマー投"},{"$f":"データ貼付!G142+ROW()/1000000","v":4302.0001439999996},2,{"$f":"データ貼付!A142","v":"フィールド記録会"},{"$f":"データ貼付!B142","v":"網走"},{"$f":"データ貼付!C142","v":43624},{"$f":"データ貼付!F142","v":"山下大輔"},{"$f":"データ貼付!G142","v":4302},{"$f":"データ貼付!H142","v":"決"},{"$f":"データ貼付!I142","v":"釧路地方陸協"},{"$f":"データ貼付!J142","v":"般"},{"$f":"データ貼付!K142","v":0}]
[142,"高校女子ハンマー投5",{"$f":"J145&COUNTIF($J$4:J145,J145)","v":"山田幸奈1"},{"$f":"データ貼付!D143&データ貼付!E143","v":"高校女子ハンマー投"},{"$f":"データ貼付!G143+ROW()/1000000","v":2420.000145},5,{"$f":"データ貼付!A143","v":"高体連支部"},{"$f":"データ貼付!B143","v":"北見"},{"$f":"データ貼付!C143","v":43608},{"$f":"データ貼付!F143","v":"山田幸奈"},{"$f":"データ貼付!G143","v":2420},{"$f":"データ貼付!H143","v":"決"},{"$f":"データ貼付!I143","v":"網走桂陽高"},{"$f":"データ貼付!J143","v":3},{"$f":"データ貼付!K143","v":0}]
[143,"高校女子ハンマー投3",{"$f":"J146&COUNTIF($J$4:J146,J146)","v":"舟木愛公1"},{"$f":"データ貼付!D144&データ貼付!E144","v":"高校女子ハンマー投"},{"$f":"データ貼付!G144+ROW()/1000000","v":2602.0001459999999},3,{"$f":"データ貼付!A144","v":"秋季陸上"},{"$f":"データ貼付!B144","v":"網走"},{"$f":"データ貼付!C144","v":43715},{"$f":"データ貼付!F144","v":"舟木愛公"},{"$f":"データ貼付!G144","v":2602},{"$f":"データ貼付!H144","v":"決"},{"$f":"データ貼付!I144","v":"遠軽高"},{"$f":"データ貼付!J144","v":1},{"$f":"データ貼付!K144","v":0}]
[144,"高校女子ハンマー投1",{"$f":"J147&COUNTIF($J$4:J147,J147)","v":"植村菜々1"},{"$f":"データ貼付!D145&データ貼付!E145","v":"高校女子ハンマー投"},{"$f":"データ貼付!G145+ROW()/1000000","v":4211.0001469999997},1,{"$f":"データ貼付!A145","v":"高体連支部"},{"$f":"データ貼付!B145","v":"北見"},{"$f":"データ貼付!C145","v":43608},{"$f":"データ貼付!F145","v":"植村菜々"},{"$f":"データ貼付!G145","v":4211},{"$f":"データ貼付!H145","v":"決"},{"$f":"データ貼付!I145","v":"遠軽高"},{"$f":"データ貼付!J145","v":3},{"$f":"データ貼付!K145","v":0}]
[145,"高校女子ハンマー投4",{"$f":"J148&COUNTIF($J$4:J148,J148)","v":"植村葉月1"},{"$f":"データ貼付!D146&データ貼付!E146","v":"高校女子ハンマー投"},{"$f":"データ貼付!G146+ROW()/1000000","v":2514.0001480000001},4,{"$f":"データ貼付!A146","v":"フィールド記録会"},{"$f":"データ貼付!B146","v":"網走"},{"$f":"データ貼付!C146","v":43624},{"$f":"データ貼付!F146","v":"植村葉月"},{"$f":"データ貼付!G146","v":2514},{"$f":"データ貼付!H146","v":"決"},{"$f":"データ貼付!I146","v":"湧別高"},{"$f":"データ貼付!J146","v":3},{"$f":"データ貼付!K146","v":0}]
[146,"一般男子ハンマー投3",{"$f":"J149&COUNTIF($J$4:J149,J149)","v":"川田恒1"},{"$f":"データ貼付!D147&データ貼付!E147","v":"一般男子ハンマー投"},{"$f":"データ貼付!G147+ROW()/1000000","v":3898.000149},3,{"$f":"データ貼付!A147","v":"秋季陸上"},{"$f":"データ貼付!B147","v":"網走"},{"$f":"データ貼付!C147","v":43715},{"$f":"データ貼付!F147","v":"川田恒"},{"$f":"データ貼付!G147","v":3898},{"$f":"データ貼付!H147","v":"決"},{"$f":"データ貼付!I147","v":"ｵﾎｰﾂｸ陸協(川田)"},{"$f":"データ貼付!J147","v":"般"},{"$f":"データ貼付!K147","v":0}]
[147,"高校男子ハンマー投11",{"$f":"J150&COUNTIF($J$4:J150,J150)","v":"中村拓斗1"},{"$f":"データ貼付!D148&データ貼付!E148","v":"高校男子ハンマー投"},{"$f":"データ貼付!G148+ROW()/1000000","v":1693.0001500000001},11,{"$f":"データ貼付!A148","v":"フィールド記録会"},{"$f":"データ貼付!B148","v":"網走"},{"$f":"データ貼付!C148","v":43624},{"$f":"データ貼付!F148","v":"中村拓斗"},{"$f":"データ貼付!G148","v":1693},{"$f":"データ貼付!H148","v":"決"},{"$f":"データ貼付!I148","v":"美幌高"},{"$f":"データ貼付!J148","v":3},{"$f":"データ貼付!K148","v":0}]
[148,"高校男子ハンマー投9",{"$f":"J151&COUNTIF($J$4:J151,J151)","v":"長谷部岳斗1"},{"$f":"データ貼付!D149&データ貼付!E149","v":"高校男子ハンマー投"},{"$f":"データ貼付!G149+ROW()/1000000","v":2452.0001510000002},9,{"$f":"データ貼付!A149","v":"選手権"},{"$f":"データ貼付!B149","v":"北見"},{"$f":"データ貼付!C149","v":43597},{"$f":"データ貼付!F149","v":"長谷部岳斗"},{"$f":"データ貼付!G149","v":2452},{"$f":"データ貼付!H149","v":"決"},{"$f":"データ貼付!I149","v":"北見工業高"},{"$f":"データ貼付!J149","v":3},{"$f":"データ貼付!K149","v":0}]
[149,"一般女子ハンマー投2",{"$f":"J152&COUNTIF($J$4:J152,J152)","v":"尾崎京子1"},{"$f":"データ貼付!D150&データ貼付!E150","v":"一般女子ハンマー投"},{"$f":"データ貼付!G150+ROW()/1000000","v":4265.0001519999996},2,{"$f":"データ貼付!A150","v":"道選手権"},{"$f":"データ貼付!B150","v":"網走"},{"$f":"データ貼付!C150","v":43687},{"$f":"データ貼付!F150","v":"尾崎京子"},{"$f":"データ貼付!G150","v":4265},{"$f":"データ貼付!H150","v":"決"},{"$f":"データ貼付!I150","v":"東海大"},{"$f":"データ貼付!J150","v":2},{"$f":"データ貼付!K150","v":0}]
[150,"高校男子ハンマー投2",{"$f":"J153&COUNTIF($J$4:J153,J153)","v":"目黒智也1"},{"$f":"データ貼付!D151&データ貼付!E151","v":"高校男子ハンマー投"},{"$f":"データ貼付!G151+ROW()/1000000","v":3894.000153},2,{"$f":"データ貼付!A151","v":"国体予選"},{"$f":"データ貼付!B151","v":"室蘭"},{"$f":"データ貼付!C151","v":43666},{"$f":"データ貼付!F151","v":"目黒智也"},{"$f":"データ貼付!G151","v":3894},{"$f":"データ貼付!H151","v":"決"},{"$f":"データ貼付!I151","v":"斜里高"},{"$f":"データ貼付!J151","v":2},{"$f":"データ貼付!K151","v":0}]
[151,"高校女子ハンマー投7",{"$f":"J154&COUNTIF($J$4:J154,J154)","v":"髙橋愛唯1"},{"$f":"データ貼付!D152&データ貼付!E152","v":"高校女子ハンマー投"},{"$f":"データ貼付!G152+ROW()/1000000","v":2111.0001539999998},7,{"$f":"データ貼付!A152","v":"秋季陸上"},{"$f":"データ貼付!B152","v":"網走"},{"$f":"データ貼付!C152","v":43715},{"$f":"データ貼付!F152","v":"髙橋愛唯"},{"$f":"データ貼付!G152","v":2111},{"$f":"データ貼付!H152","v":"決"},{"$f":"データ貼付!I152","v":"遠軽高"},{"$f":"データ貼付!J152","v":2},{"$f":"データ貼付!K152","v":0}]
[152,"高校男子ハンマー投4",{"$f":"J155&COUNTIF($J$4:J155,J155)","v":"髙嶋祐太1"},{"$f":"データ貼付!D153&データ貼付!E153","v":"高校男子ハンマー投"},{"$f":"データ貼付!G153+ROW()/1000000","v":3816.0001550000002},4,{"$f":"データ貼付!A153","v":"高校新人"},{"$f":"データ貼付!B153","v":"網走"},{"$f":"データ貼付!C153","v":43701},{"$f":"データ貼付!F153","v":"髙嶋祐太"},{"$f":"データ貼付!G153","v":3816},{"$f":"データ貼付!H153","v":"決"},{"$f":"データ貼付!I153","v":"遠軽高"},{"$f":"データ貼付!J153","v":2},{"$f":"データ貼付!K153","v":0}]
[153,"小学女子ﾎﾞｰﾃｯｸｽｽﾛｰ投2",{"$f":"J156&COUNTIF($J$4:J156,J156)","v":"安藤和2"},{"$f":"データ貼付!D154&データ貼付!E154","v":"小学女子ﾎﾞｰﾃｯｸｽｽﾛｰ投"},{"$f":"データ貼付!G154+ROW()/1000000","v":3691.0001560000001},2,{"$f":"データ貼付!A154","v":"小学記録会"},{"$f":"データ貼付!B154","v":"北見"},{"$f":"データ貼付!C154","v":43736},{"$f":"データ貼付!F154","v":"安藤和"},{"$f":"データ貼付!G154","v":3691},{"$f":"データ貼付!H154","v":"決"},{"$f":"データ貼付!I154","v":"清里陸上少年団"},{"$f":"データ貼付!J154","v":6},{"$f":"データ貼付!K154","v":0}]
[154,"小学男子ﾎﾞｰﾃｯｸｽｽﾛｰ投29",{"$f":"J157&COUNTIF($J$4:J157,J157)","v":"井田悠仁1"},{"$f":"データ貼付!D155&データ貼付!E155","v":"小学男子ﾎﾞｰﾃｯｸｽｽﾛｰ投"},{"$f":"データ貼付!G155+ROW()/1000000","v":2151.0001569999999},29,{"$f":"データ貼付!A155","v":"小学記録会"},{"$f":"データ貼付!B155","v":"北見"},{"$f":"データ貼付!C155","v":43736},{"$f":"データ貼付!F155","v":"井田悠仁"},{"$f":"データ貼付!G155","v":2151},{"$f":"データ貼付!H155","v":"決"},{"$f":"データ貼付!I155","v":"ｵﾎｰﾂｸｷｯｽﾞ"},{"$f":"データ貼付!J155","v":5},{"$f":"データ貼付!K155","v":0}]
[155,"小学男子ﾎﾞｰﾃｯｸｽｽﾛｰ投26",{"$f":"J158&COUNTIF($J$4:J158,J158)","v":"刈屋柊晴2"},{"$f":"データ貼付!D156&データ貼付!E156","v":"小学男子ﾎﾞｰﾃｯｸｽｽﾛｰ投"},{"$f":"データ貼付!G156+ROW()/1000000","v":2272.0001579999998},26,{"$f":"データ貼付!A156","v":"小学記録会"},{"$f":"データ貼付!B156","v":"北見"},{"$f":"データ貼付!C156","v":43736},{"$f":"データ貼付!F156","v":"刈屋柊晴"},{"$f":"データ貼付!G156","v":2272},{"$f":"データ貼付!H156","v":"決"},{"$f":"データ貼付!I156","v":"ｵﾎｰﾂｸｷｯｽﾞ"},{"$f":"データ貼付!J156","v":4},{"$f":"データ貼付!K156","v":0}]
[156,"小学女子ﾎﾞｰﾃｯｸｽｽﾛｰ投4",{"$f":"J159&COUNTIF($J$4:J159,J159)","v":"関谷楓花2"},{"$f":"データ貼付!D157&データ貼付!E157","v":"小学女子ﾎﾞｰﾃｯｸｽｽﾛｰ投"},{"$f":"データ貼付!G157+ROW()/1000000","v":3075.0001590000002},4,{"$f":"データ貼付!A157","v":"小学記録会"},{"$f":"データ貼付!B157","v":"北見"},{"$f":"データ貼付!C157","v":43736},{"$f":"データ貼付!F157","v":"関谷楓花"},{"$f":"データ貼付!G157","v":3075},{"$f":"データ貼付!H157","v":"決"},{"$f":"データ貼付!I157","v":"常呂陸上少年団"},{"$f":"データ貼付!J157","v":6},{"$f":"データ貼付!K157","v":0}]
[157,"小学男子ﾎﾞｰﾃｯｸｽｽﾛｰ投13",{"$f":"J160&COUNTIF($J$4:J160,J160)","v":"館日々輝1"},{"$f":"データ貼付!D158&データ貼付!E158","v":"小学男子ﾎﾞｰﾃｯｸｽｽﾛｰ投"},{"$f":"データ貼付!G158+ROW()/1000000","v":3013.0001600000001},13,{"$f":"データ貼付!A158","v":"小学記録会"},{"$f":"データ貼付!B158","v":"北見"},{"$f":"データ貼付!C158","v":43736},{"$f":"データ貼付!F158","v":"館日々輝"},{"$f":"データ貼付!G158","v":3013},{"$f":"データ貼付!H158","v":"決"},{"$f":"データ貼付!I158","v":"美幌RC"},{"$f":"データ貼付!J158","v":5},{"$f":"データ貼付!K158","v":0}]
[158,"小学男子ﾎﾞｰﾃｯｸｽｽﾛｰ投12",{"$f":"J161&COUNTIF($J$4:J161,J161)","v":"吉田仙太2"},{"$f":"データ貼付!D159&データ貼付!E159","v":"小学男子ﾎﾞｰﾃｯｸｽｽﾛｰ投"},{"$f":"データ貼付!G159+ROW()/1000000","v":3060.0001609999999},12,{"$f":"データ貼付!A159","v":"小学記録会"},{"$f":"データ貼付!B159","v":"北見"},{"$f":"データ貼付!C159","v":43736},{"$f":"データ貼付!F159","v":"吉田仙太"},{"$f":"データ貼付!G159","v":3060},{"$f":"データ貼付!H159","v":"決"},{"$f":"データ貼付!I159","v":"美幌RC"},{"$f":"データ貼付!J159","v":5},{"$f":"データ貼付!K159","v":0}]
[159,"小学女子ﾎﾞｰﾃｯｸｽｽﾛｰ投7",{"$f":"J162&COUNTIF($J$4:J162,J162)","v":"久保田颯歩2"},{"$f":"データ貼付!D160&データ貼付!E160","v":"小学女子ﾎﾞｰﾃｯｸｽｽﾛｰ投"},{"$f":"データ貼付!G160+ROW()/1000000","v":1740.000162},7,{"$f":"データ貼付!A160","v":"小学記録会"},{"$f":"データ貼付!B160","v":"北見"},{"$f":"データ貼付!C160","v":43736},{"$f":"データ貼付!F160","v":"久保田颯歩"},{"$f":"データ貼付!G160","v":1740},{"$f":"データ貼付!H160","v":"決"},{"$f":"データ貼付!I160","v":"知床斜里RC"},{"$f":"データ貼付!J160","v":5},{"$f":"データ貼付!K160","v":0}]
[160,"小学男子ﾎﾞｰﾃｯｸｽｽﾛｰ投7",{"$f":"J163&COUNTIF($J$4:J163,J163)","v":"宮下琉汰1"},{"$f":"データ貼付!D161&データ貼付!E161","v":"小学男子ﾎﾞｰﾃｯｸｽｽﾛｰ投"},{"$f":"データ貼付!G161+ROW()/1000000","v":3505.0001630000002},7,{"$f":"データ貼付!A161","v":"小学記録会"},{"$f":"データ貼付!B161","v":"北見"},{"$f":"データ貼付!C161","v":43736},{"$f":"データ貼付!F161","v":"宮下琉汰"},{"$f":"データ貼付!G161","v":3505},{"$f":"データ貼付!H161","v":"決"},{"$f":"データ貼付!I161","v":"ｵﾎｰﾂｸｷｯｽﾞ"},{"$f":"データ貼付!J161","v":6},{"$f":"データ貼付!K161","v":0}]
[161,"小学男子ﾎﾞｰﾃｯｸｽｽﾛｰ投27",{"$f":"J164&COUNTIF($J$4:J164,J164)","v":"桐山晴良2"},{"$f":"データ貼付!D162&データ貼付!E162","v":"小学男子ﾎﾞｰﾃｯｸｽｽﾛｰ投"},{"$f":"データ貼付!G162+ROW()/1000000","v":2221.000164},27,{"$f":"データ貼付!A162","v":"小学記録会"},{"$f":"データ貼付!B162","v":"北見"},{"$f":"データ貼付!C162","v":43736},{"$f":"データ貼付!F162","v":"桐山晴良"},{"$f":"データ貼付!G162","v":2221},{"$f":"データ貼付!H162","v":"決"},{"$f":"データ貼付!I162","v":"美幌XC少年団"},{"$f":"データ貼付!J162","v":0},{"$f":"データ貼付!K162","v":0}]
[162,"小学女子ﾎﾞｰﾃｯｸｽｽﾛｰ投5",{"$f":"J165&COUNTIF($J$4:J165,J165)","v":"金子心乃1"},{"$f":"データ貼付!D163&データ貼付!E163","v":"小学女子ﾎﾞｰﾃｯｸｽｽﾛｰ投"},{"$f":"データ貼付!G163+ROW()/1000000","v":2927.0001649999999},5,{"$f":"データ貼付!A163","v":"小学記録会"},{"$f":"データ貼付!B163","v":"北見"},{"$f":"データ貼付!C163","v":43736},{"$f":"データ貼付!F163","v":"金子心乃"},{"$f":"データ貼付!G163","v":2927},{"$f":"データ貼付!H163","v":"決"},{"$f":"データ貼付!I163","v":"遠軽陸上ｸﾗﾌﾞ"},{"$f":"データ貼付!J163","v":5},{"$f":"データ貼付!K163","v":0}]
[163,"小学男子ﾎﾞｰﾃｯｸｽｽﾛｰ投8",{"$f":"J166&COUNTIF($J$4:J166,J166)","v":"工藤龍祈2"},{"$f":"データ貼付!D164&データ貼付!E164","v":"小学男子ﾎﾞｰﾃｯｸｽｽﾛｰ投"},{"$f":"データ貼付!G164+ROW()/1000000","v":3403.0001659999998},8,{"$f":"データ貼付!A164","v":"小学記録会"},{"$f":"データ貼付!B164","v":"北見"},{"$f":"データ貼付!C164","v":43736},{"$f":"データ貼付!F164","v":"工藤龍祈"},{"$f":"データ貼付!G164","v":3403},{"$f":"データ貼付!H164","v":"決"},{"$f":"データ貼付!I164","v":"ｵﾎｰﾂｸｷｯｽﾞ"},{"$f":"データ貼付!J164","v":4},{"$f":"データ貼付!K164","v":0}]
[164,"小学男子ﾎﾞｰﾃｯｸｽｽﾛｰ投2",{"$f":"J167&COUNTIF($J$4:J167,J167)","v":"荒木碧巴2"},{"$f":"データ貼付!D165&データ貼付!E165","v":"小学男子ﾎﾞｰﾃｯｸｽｽﾛｰ投"},{"$f":"データ貼付!G165+ROW()/1000000","v":4377.0001670000001},2,{"$f":"データ貼付!A165","v":"小学記録会"},{"$f":"データ貼付!B165","v":"北見"},{"$f":"データ貼付!C165","v":43736},{"$f":"データ貼付!F165","v":"荒木碧巴"},{"$f":"データ貼付!G165","v":4377},{"$f":"データ貼付!H165","v":"決"},{"$f":"データ貼付!I165","v":"知床斜里RC"},{"$f":"データ貼付!J165","v":6},{"$f":"データ貼付!K165","v":0}]
[165,"小学男子ﾎﾞｰﾃｯｸｽｽﾛｰ投18",{"$f":"J168&COUNTIF($J$4:J168,J168)","v":"高橋信宗1"},{"$f":"データ貼付!D166&データ貼付!E166","v":"小学男子ﾎﾞｰﾃｯｸｽｽﾛｰ投"},{"$f":"データ貼付!G166+ROW()/1000000","v":2720.000168},18,{"$f":"データ貼付!A166","v":"小学記録会"},{"$f":"データ貼付!B166","v":"北見"},{"$f":"データ貼付!C166","v":43736},{"$f":"データ貼付!F166","v":"高橋信宗"},{"$f":"データ貼付!G166","v":2720},{"$f":"データ貼付!H166","v":"決"},{"$f":"データ貼付!I166","v":"知床斜里RC"},{"$f":"データ貼付!J166","v":5},{"$f":"データ貼付!K166","v":0}]
[166,"小学男子ﾎﾞｰﾃｯｸｽｽﾛｰ投11",{"$f":"J169&COUNTIF($J$4:J169,J169)","v":"高瀬生楓1"},{"$f":"データ貼付!D167&データ貼付!E167","v":"小学男子ﾎﾞｰﾃｯｸｽｽﾛｰ投"},{"$f":"データ貼付!G167+ROW()/1000000","v":3081.0001689999999},11,{"$f":"データ貼付!A167","v":"小学記録会"},{"$f":"データ貼付!B167","v":"北見"},{"$f":"データ貼付!C167","v":43736},{"$f":"データ貼付!F167","v":"高瀬生楓"},{"$f":"データ貼付!G167","v":3081},{"$f":"データ貼付!H167","v":"決"},{"$f":"データ貼付!I167","v":"ｵﾎｰﾂｸｷｯｽﾞ"},{"$f":"データ貼付!J167","v":3},{"$f":"データ貼付!K167","v":0}]
[167,"小学男子ﾎﾞｰﾃｯｸｽｽﾛｰ投23",{"$f":"J170&COUNTIF($J$4:J170,J170)","v":"佐々木進之介2"},{"$f":"データ貼付!D168&データ貼付!E168","v":"小学男子ﾎﾞｰﾃｯｸｽｽﾛｰ投"},{"$f":"データ貼付!G168+ROW()/1000000","v":2487.0001699999998},23,{"$f":"データ貼付!A168","v":"小学記録会"},{"$f":"データ貼付!B168","v":"北見"},{"$f":"データ貼付!C168","v":43736},{"$f":"データ貼付!F168","v":"佐々木進之介"},{"$f":"データ貼付!G168","v":2487},{"$f":"データ貼付!H168","v":"決"},{"$f":"データ貼付!I168","v":"知床斜里RC"},{"$f":"データ貼付!J168","v":5},{"$f":"データ貼付!K168","v":0}]
[168,"小学女子ﾎﾞｰﾃｯｸｽｽﾛｰ投9",{"$f":"J171&COUNTIF($J$4:J171,J171)","v":"妻鳥実和1"},{"$f":"データ貼付!D169&データ貼付!E169","v":"小学女子ﾎﾞｰﾃｯｸｽｽﾛｰ投"},{"$f":"データ貼付!G169+ROW()/1000000","v":1448.0001709999999},9,{"$f":"データ貼付!A169","v":"小学記録会"},{"$f":"データ貼付!B169","v":"北見"},{"$f":"データ貼付!C169","v":43736},{"$f":"データ貼付!F169","v":"妻鳥実和"},{"$f":"データ貼付!G169","v":1448},{"$f":"データ貼付!H169","v":"決"},{"$f":"データ貼付!I169","v":"ｵﾎｰﾂｸｷｯｽﾞ"},{"$f":"データ貼付!J169","v":3},{"$f":"データ貼付!K169","v":0}]
[169,"小学男子ﾎﾞｰﾃｯｸｽｽﾛｰ投24",{"$f":"J172&COUNTIF($J$4:J172,J172)","v":"斎藤青空1"},{"$f":"データ貼付!D170&データ貼付!E170","v":"小学男子ﾎﾞｰﾃｯｸｽｽﾛｰ投"},{"$f":"データ貼付!G170+ROW()/1000000","v":2384.000172},24,{"$f":"データ貼付!A170","v":"小学記録会"},{"$f":"データ貼付!B170","v":"北見"},{"$f":"データ貼付!C170","v":43736},{"$f":"データ貼付!F170","v":"斎藤青空"},{"$f":"データ貼付!G170","v":2384},{"$f":"データ貼付!H170","v":"決"},{"$f":"データ貼付!I170","v":"ｵﾎｰﾂｸｷｯｽﾞ"},{"$f":"データ貼付!J170","v":4},{"$f":"データ貼付!K170","v":0}]
[170,"小学男子ﾎﾞｰﾃｯｸｽｽﾛｰ投3",{"$f":"J173&COUNTIF($J$4:J173,J173)","v":"阪口智洋2"},{"$f":"データ貼付!D171&データ貼付!E171","v":"小学男子ﾎﾞｰﾃｯｸｽｽﾛｰ投"},{"$f":"データ貼付!G171+ROW()/1000000","v":3947.0001729999999},3,{"$f":"データ貼付!A171","v":"小学記録会"},{"$f":"データ貼付!B171","v":"北見"},{"$f":"データ貼付!C171","v":43736},{"$f":"データ貼付!F171","v":"阪口智洋"},{"$f":"データ貼付!G171","v":3947},{"$f":"データ貼付!H171","v":"決"},{"$f":"データ貼付!I171","v":"常呂陸上少年団"},{"$f":"データ貼付!J171","v":6},{"$f":"データ貼付!K171","v":0}]
[171,"小学男子ﾎﾞｰﾃｯｸｽｽﾛｰ投21",{"$f":"J174&COUNTIF($J$4:J174,J174)","v":"三浦正史2"},{"$f":"データ貼付!D172&データ貼付!E172","v":"小学男子ﾎﾞｰﾃｯｸｽｽﾛｰ投"},{"$f":"データ貼付!G172+ROW()/1000000","v":2558.0001739999998},21,{"$f":"データ貼付!A172","v":"小学記録会"},{"$f":"データ貼付!B172","v":"北見"},{"$f":"データ貼付!C172","v":43736},{"$f":"データ貼付!F172","v":"三浦正史"},{"$f":"データ貼付!G172","v":2558},{"$f":"データ貼付!H172","v":"決"},{"$f":"データ貼付!I172","v":"美幌RC"},{"$f":"データ貼付!J172","v":3},{"$f":"データ貼付!K172","v":0}]
[172,"小学女子ﾎﾞｰﾃｯｸｽｽﾛｰ投1",{"$f":"J175&COUNTIF($J$4:J175,J175)","v":"室田心愛2"},{"$f":"データ貼付!D173&データ貼付!E173","v":"小学女子ﾎﾞｰﾃｯｸｽｽﾛｰ投"},{"$f":"データ貼付!G173+ROW()/1000000","v":3729.0001750000001},1,{"$f":"データ貼付!A173","v":"小学記録会"},{"$f":"データ貼付!B173","v":"北見"},{"$f":"データ貼付!C173","v":43736},{"$f":"データ貼付!F173","v":"室田心愛"},{"$f":"データ貼付!G173","v":3729},{"$f":"データ貼付!H173","v":"決"},{"$f":"データ貼付!I173","v":"常呂陸上少年団"},{"$f":"データ貼付!J173","v":6},{"$f":"データ貼付!K173","v":0}]
[173,"小学男子ﾎﾞｰﾃｯｸｽｽﾛｰ投15",{"$f":"J176&COUNTIF($J$4:J176,J176)","v":"柴田遥斗2"},{"$f":"データ貼付!D174&データ貼付!E174","v":"小学男子ﾎﾞｰﾃｯｸｽｽﾛｰ投"},{"$f":"データ貼付!G174+ROW()/1000000","v":2889.000176},15,{"$f":"データ貼付!A174","v":"小学記録会"},{"$f":"データ貼付!B174","v":"北見"},{"$f":"データ貼付!C174","v":43736},{"$f":"データ貼付!F174","v":"柴田遥斗"},{"$f":"データ貼付!G174","v":2889},{"$f":"データ貼付!H174","v":"決"},{"$f":"データ貼付!I174","v":"ｵﾎｰﾂｸｷｯｽﾞ"},{"$f":"データ貼付!J174","v":3},{"$f":"データ貼付!K174","v":0}]
[174,"小学男子ﾎﾞｰﾃｯｸｽｽﾛｰ投4",{"$f":"J177&COUNTIF($J$4:J177,J177)","v":"若月柚樹2"},{"$f":"データ貼付!D175&データ貼付!E175","v":"小学男子ﾎﾞｰﾃｯｸｽｽﾛｰ投"},{"$f":"データ貼付!G175+ROW()/1000000","v":3834.0001769999999},4,{"$f":"データ貼付!A175","v":"小学記録会"},{"$f":"データ貼付!B175","v":"北見"},{"$f":"データ貼付!C175","v":43736},{"$f":"データ貼付!F175","v":"若月柚樹"},{"$f":"データ貼付!G175","v":3834},{"$f":"データ貼付!H175","v":"決"},{"$f":"データ貼付!I175","v":"美幌RC"},{"$f":"データ貼付!J175","v":4},{"$f":"データ貼付!K175","v":0}]
[175,"小学男子ﾎﾞｰﾃｯｸｽｽﾛｰ投6",{"$f":"J178&COUNTIF($J$4:J178,J178)","v":"小笠原昊2"},{"$f":"データ貼付!D176&データ貼付!E176","v":"小学男子ﾎﾞｰﾃｯｸｽｽﾛｰ投"},{"$f":"データ貼付!G176+ROW()/1000000","v":3530.0001779999998},6,{"$f":"データ貼付!A176","v":"小学記録会"},{"$f":"データ貼付!B176","v":"北見"},{"$f":"データ貼付!C176","v":43736},{"$f":"データ貼付!F176","v":"小笠原昊"},{"$f":"データ貼付!G176","v":3530},{"$f":"データ貼付!H176","v":"決"},{"$f":"データ貼付!I176","v":"清里陸上少年団"},{"$f":"データ貼付!J176","v":6},{"$f":"データ貼付!K176","v":0}]
[176,"小学男子ﾎﾞｰﾃｯｸｽｽﾛｰ投25",{"$f":"J179&COUNTIF($J$4:J179,J179)","v":"小畠正宗1"},{"$f":"データ貼付!D177&データ貼付!E177","v":"小学男子ﾎﾞｰﾃｯｸｽｽﾛｰ投"},{"$f":"データ貼付!G177+ROW()/1000000","v":2300.0001790000001},25,{"$f":"データ貼付!A177","v":"小学記録会"},{"$f":"データ貼付!B177","v":"北見"},{"$f":"データ貼付!C177","v":43736},{"$f":"データ貼付!F177","v":"小畠正宗"},{"$f":"データ貼付!G177","v":2300},{"$f":"データ貼付!H177","v":"決"},{"$f":"データ貼付!I177","v":"ｵﾎｰﾂｸｷｯｽﾞ"},{"$f":"データ貼付!J177","v":4},{"$f":"データ貼付!K177","v":0}]
[177,"小学男子ﾎﾞｰﾃｯｸｽｽﾛｰ投17",{"$f":"J180&COUNTIF($J$4:J180,J180)","v":"上原優人1"},{"$f":"データ貼付!D178&データ貼付!E178","v":"小学男子ﾎﾞｰﾃｯｸｽｽﾛｰ投"},{"$f":"データ貼付!G178+ROW()/1000000","v":2737.00018},17,{"$f":"データ貼付!A178","v":"小学記録会"},{"$f":"データ貼付!B178","v":"北見"},{"$f":"データ貼付!C178","v":43736},{"$f":"データ貼付!F178","v":"上原優人"},{"$f":"データ貼付!G178","v":2737},{"$f":"データ貼付!H178","v":"決"},{"$f":"データ貼付!I178","v":"訓子府陸上少年団"},{"$f":"データ貼付!J178","v":4},{"$f":"データ貼付!K178","v":0}]
[178,"小学男子ﾎﾞｰﾃｯｸｽｽﾛｰ投28",{"$f":"J181&COUNTIF($J$4:J181,J181)","v":"新谷一真2"},{"$f":"データ貼付!D179&データ貼付!E179","v":"小学男子ﾎﾞｰﾃｯｸｽｽﾛｰ投"},{"$f":"データ貼付!G179+ROW()/1000000","v":2191.0001809999999},28,{"$f":"データ貼付!A179","v":"小学記録会"},{"$f":"データ貼付!B179","v":"北見"},{"$f":"データ貼付!C179","v":43736},{"$f":"データ貼付!F179","v":"新谷一真"},{"$f":"データ貼付!G179","v":2191},{"$f":"データ貼付!H179","v":"決"},{"$f":"データ貼付!I179","v":"ｵﾎｰﾂｸｷｯｽﾞ"},{"$f":"データ貼付!J179","v":3},{"$f":"データ貼付!K179","v":0}]
[179,"小学男子ﾎﾞｰﾃｯｸｽｽﾛｰ投19",{"$f":"J182&COUNTIF($J$4:J182,J182)","v":"森谷翔2"},{"$f":"データ貼付!D180&データ貼付!E180","v":"小学男子ﾎﾞｰﾃｯｸｽｽﾛｰ投"},{"$f":"データ貼付!G180+ROW()/1000000","v":2701.0001820000002},19,{"$f":"データ貼付!A180","v":"小学記録会"},{"$f":"データ貼付!B180","v":"北見"},{"$f":"データ貼付!C180","v":43736},{"$f":"データ貼付!F180","v":"森谷翔"},{"$f":"データ貼付!G180","v":2701},{"$f":"データ貼付!H180","v":"決"},{"$f":"データ貼付!I180","v":"訓子府陸上少年団"},{"$f":"データ貼付!J180","v":3},{"$f":"データ貼付!K180","v":0}]
[180,"小学男子ﾎﾞｰﾃｯｸｽｽﾛｰ投22",{"$f":"J183&COUNTIF($J$4:J183,J183)","v":"須藤陸都2"},{"$f":"データ貼付!D181&データ貼付!E181","v":"小学男子ﾎﾞｰﾃｯｸｽｽﾛｰ投"},{"$f":"データ貼付!G181+ROW()/1000000","v":2539.0001830000001},22,{"$f":"データ貼付!A181","v":"小学記録会"},{"$f":"データ貼付!B181","v":"北見"},{"$f":"データ貼付!C181","v":43736},{"$f":"データ貼付!F181","v":"須藤陸都"},{"$f":"データ貼付!G181","v":2539},{"$f":"データ貼付!H181","v":"決"},{"$f":"データ貼付!I181","v":"北見美山小"},{"$f":"データ貼付!J181","v":3},{"$f":"データ貼付!K181","v":0}]
[181,"小学男子ﾎﾞｰﾃｯｸｽｽﾛｰ投32",{"$f":"J184&COUNTIF($J$4:J184,J184)","v":"石橋伸悠1"},{"$f":"データ貼付!D182&データ貼付!E182","v":"小学男子ﾎﾞｰﾃｯｸｽｽﾛｰ投"},{"$f":"データ貼付!G182+ROW()/1000000","v":941.00018399999999},32,{"$f":"データ貼付!A182","v":"小学記録会"},{"$f":"データ貼付!B182","v":"北見"},{"$f":"データ貼付!C182","v":43736},{"$f":"データ貼付!F182","v":"石橋伸悠"},{"$f":"データ貼付!G182","v":941},{"$f":"データ貼付!H182","v":"決"},{"$f":"データ貼付!I182","v":"美幌RC"},{"$f":"データ貼付!J182","v":5},{"$f":"データ貼付!K182","v":0}]
[182,"小学女子ﾎﾞｰﾃｯｸｽｽﾛｰ投8",{"$f":"J185&COUNTIF($J$4:J185,J185)","v":"大野凜1"},{"$f":"データ貼付!D183&データ貼付!E183","v":"小学女子ﾎﾞｰﾃｯｸｽｽﾛｰ投"},{"$f":"データ貼付!G183+ROW()/1000000","v":1514.0001850000001},8,{"$f":"データ貼付!A183","v":"小学記録会"},{"$f":"データ貼付!B183","v":"北見"},{"$f":"データ貼付!C183","v":43736},{"$f":"データ貼付!F183","v":"大野凜"},{"$f":"データ貼付!G183","v":1514},{"$f":"データ貼付!H183","v":"決"},{"$f":"データ貼付!I183","v":"ｵﾎｰﾂｸｷｯｽﾞ"},{"$f":"データ貼付!J183","v":3},{"$f":"データ貼付!K183","v":0}]
[183,"小学男子ﾎﾞｰﾃｯｸｽｽﾛｰ投5",{"$f":"J186&COUNTIF($J$4:J186,J186)","v":"中村直2"},{"$f":"データ貼付!D184&データ貼付!E184","v":"小学男子ﾎﾞｰﾃｯｸｽｽﾛｰ投"},{"$f":"データ貼付!G184+ROW()/1000000","v":3675.0001860000002},5,{"$f":"データ貼付!A184","v":"小学記録会"},{"$f":"データ貼付!B184","v":"北見"},{"$f":"データ貼付!C184","v":43736},{"$f":"データ貼付!F184","v":"中村直"},{"$f":"データ貼付!G184","v":3675},{"$f":"データ貼付!H184","v":"決"},{"$f":"データ貼付!I184","v":"常呂陸上少年団"},{"$f":"データ貼付!J184","v":6},{"$f":"データ貼付!K184","v":0}]
[184,"小学男子ﾎﾞｰﾃｯｸｽｽﾛｰ投14",{"$f":"J187&COUNTIF($J$4:J187,J187)","v":"長谷川大巧2"},{"$f":"データ貼付!D185&データ貼付!E185","v":"小学男子ﾎﾞｰﾃｯｸｽｽﾛｰ投"},{"$f":"データ貼付!G185+ROW()/1000000","v":2894.0001870000001},14,{"$f":"データ貼付!A185","v":"小学記録会"},{"$f":"データ貼付!B185","v":"北見"},{"$f":"データ貼付!C185","v":43736},{"$f":"データ貼付!F185","v":"長谷川大巧"},{"$f":"データ貼付!G185","v":2894},{"$f":"データ貼付!H185","v":"決"},{"$f":"データ貼付!I185","v":"美幌RC"},{"$f":"データ貼付!J185","v":3},{"$f":"データ貼付!K185","v":0}]
[185,"小学女子ﾎﾞｰﾃｯｸｽｽﾛｰ投3",{"$f":"J188&COUNTIF($J$4:J188,J188)","v":"田辺采子2"},{"$f":"データ貼付!D186&データ貼付!E186","v":"小学女子ﾎﾞｰﾃｯｸｽｽﾛｰ投"},{"$f":"データ貼付!G186+ROW()/1000000","v":3298.000188},3,{"$f":"データ貼付!A186","v":"小学記録会"},{"$f":"データ貼付!B186","v":"北見"},{"$f":"データ貼付!C186","v":43736},{"$f":"データ貼付!F186","v":"田辺采子"},{"$f":"データ貼付!G186","v":3298},{"$f":"データ貼付!H186","v":"決"},{"$f":"データ貼付!I186","v":"ｵﾎｰﾂｸｷｯｽﾞ"},{"$f":"データ貼付!J186","v":5},{"$f":"データ貼付!K186","v":0}]
[186,"小学男子ﾎﾞｰﾃｯｸｽｽﾛｰ投9",{"$f":"J189&COUNTIF($J$4:J189,J189)","v":"梅田彪牙2"},{"$f":"データ貼付!D187&データ貼付!E187","v":"小学男子ﾎﾞｰﾃｯｸｽｽﾛｰ投"},{"$f":"データ貼付!G187+ROW()/1000000","v":3246.0001889999999},9,{"$f":"データ貼付!A187","v":"小学記録会"},{"$f":"データ貼付!B187","v":"北見"},{"$f":"データ貼付!C187","v":43736},{"$f":"データ貼付!F187","v":"梅田彪牙"},{"$f":"データ貼付!G187","v":3246},{"$f":"データ貼付!H187","v":"決"},{"$f":"データ貼付!I187","v":"美幌RC"},{"$f":"データ貼付!J187","v":5},{"$f":"データ貼付!K187","v":0}]
[187,"小学男子ﾎﾞｰﾃｯｸｽｽﾛｰ投1",{"$f":"J190&COUNTIF($J$4:J190,J190)","v":"白石大和2"},{"$f":"データ貼付!D188&データ貼付!E188","v":"小学男子ﾎﾞｰﾃｯｸｽｽﾛｰ投"},{"$f":"データ貼付!G188+ROW()/1000000","v":4774.0001899999997},1,{"$f":"データ貼付!A188","v":"小学記録会"},{"$f":"データ貼付!B188","v":"北見"},{"$f":"データ貼付!C188","v":43736},{"$f":"データ貼付!F188","v":"白石大和"},{"$f":"データ貼付!G188","v":4774},{"$f":"データ貼付!H188","v":"決"},{"$f":"データ貼付!I188","v":"ｵﾎｰﾂｸｷｯｽﾞ"},{"$f":"データ貼付!J188","v":5},{"$f":"データ貼付!K188","v":0}]
[188,"小学男子ﾎﾞｰﾃｯｸｽｽﾛｰ投16",{"$f":"J191&COUNTIF($J$4:J191,J191)","v":"武田航太朗2"},{"$f":"データ貼付!D189&データ貼付!E189","v":"小学男子ﾎﾞｰﾃｯｸｽｽﾛｰ投"},{"$f":"データ貼付!G189+ROW()/1000000","v":2887.0001910000001},16,{"$f":"データ貼付!A189","v":"小学記録会"},{"$f":"データ貼付!B189","v":"北見"},{"$f":"データ貼付!C189","v":43736},{"$f":"データ貼付!F189","v":"武田航太朗"},{"$f":"データ貼付!G189","v":2887},{"$f":"データ貼付!H189","v":"決"},{"$f":"データ貼付!I189","v":"常呂陸上少年団"},{"$f":"データ貼付!J189","v":4},{"$f":"データ貼付!K189","v":0}]
[189,"小学男子ﾎﾞｰﾃｯｸｽｽﾛｰ投31",{"$f":"J192&COUNTIF($J$4:J192,J192)","v":"平沢敦斗2"},{"$f":"データ貼付!D190&データ貼付!E190","v":"小学男子ﾎﾞｰﾃｯｸｽｽﾛｰ投"},{"$f":"データ貼付!G190+ROW()/1000000","v":1324.000192},31,{"$f":"データ貼付!A190","v":"小学記録会"},{"$f":"データ貼付!B190","v":"北見"},{"$f":"データ貼付!C190","v":43736},{"$f":"データ貼付!F190","v":"平沢敦斗"},{"$f":"データ貼付!G190","v":1324},{"$f":"データ貼付!H190","v":"決"},{"$f":"データ貼付!I190","v":"ｵﾎｰﾂｸｷｯｽﾞ"},{"$f":"データ貼付!J190","v":3},{"$f":"データ貼付!K190","v":0}]
[190,"小学男子ﾎﾞｰﾃｯｸｽｽﾛｰ投30",{"$f":"J193&COUNTIF($J$4:J193,J193)","v":"堀田侑希2"},{"$f":"データ貼付!D191&データ貼付!E191","v":"小学男子ﾎﾞｰﾃｯｸｽｽﾛｰ投"},{"$f":"データ貼付!G191+ROW()/1000000","v":1579.0001930000001},30,{"$f":"データ貼付!A191","v":"小学記録会"},{"$f":"データ貼付!B191","v":"北見"},{"$f":"データ貼付!C191","v":43736},{"$f":"データ貼付!F191","v":"堀田侑希"},{"$f":"データ貼付!G191","v":1579},{"$f":"データ貼付!H191","v":"決"},{"$f":"データ貼付!I191","v":"ｵﾎｰﾂｸｷｯｽﾞ"},{"$f":"データ貼付!J191","v":3},{"$f":"データ貼付!K191","v":0}]
[191,"小学女子ﾎﾞｰﾃｯｸｽｽﾛｰ投6",{"$f":"J194&COUNTIF($J$4:J194,J194)","v":"木村美桜2"},{"$f":"データ貼付!D192&データ貼付!E192","v":"小学女子ﾎﾞｰﾃｯｸｽｽﾛｰ投"},{"$f":"データ貼付!G192+ROW()/1000000","v":2363.0001940000002},6,{"$f":"データ貼付!A192","v":"小学記録会"},{"$f":"データ貼付!B192","v":"北見"},{"$f":"データ貼付!C192","v":43736},{"$f":"データ貼付!F192","v":"木村美桜"},{"$f":"データ貼付!G192","v":2363},{"$f":"データ貼付!H192","v":"決"},{"$f":"データ貼付!I192","v":"常呂陸上少年団"},{"$f":"データ貼付!J192","v":3},{"$f":"データ貼付!K192","v":0}]
[192,"小学男子ﾎﾞｰﾃｯｸｽｽﾛｰ投20",{"$f":"J195&COUNTIF($J$4:J195,J195)","v":"澤田涼2"},{"$f":"データ貼付!D193&データ貼付!E193","v":"小学男子ﾎﾞｰﾃｯｸｽｽﾛｰ投"},{"$f":"データ貼付!G193+ROW()/1000000","v":2577.0001950000001},20,{"$f":"データ貼付!A193","v":"小学記録会"},{"$f":"データ貼付!B193","v":"北見"},{"$f":"データ貼付!C193","v":43736},{"$f":"データ貼付!F193","v":"澤田涼"},{"$f":"データ貼付!G193","v":2577},{"$f":"データ貼付!H193","v":"決"},{"$f":"データ貼付!I193","v":"知床斜里RC"},{"$f":"データ貼付!J193","v":5},{"$f":"データ貼付!K193","v":0}]
[193,"小学男子ﾎﾞｰﾃｯｸｽｽﾛｰ投10",{"$f":"J196&COUNTIF($J$4:J196,J196)","v":"齋藤匡樹2"},{"$f":"データ貼付!D194&データ貼付!E194","v":"小学男子ﾎﾞｰﾃｯｸｽｽﾛｰ投"},{"$f":"データ貼付!G194+ROW()/1000000","v":3119.000196},10,{"$f":"データ貼付!A194","v":"小学記録会"},{"$f":"データ貼付!B194","v":"北見"},{"$f":"データ貼付!C194","v":43736},{"$f":"データ貼付!F194","v":"齋藤匡樹"},{"$f":"データ貼付!G194","v":3119},{"$f":"データ貼付!H194","v":"決"},{"$f":"データ貼付!I194","v":"網走陸上少年団"},{"$f":"データ貼付!J194","v":5},{"$f":"データ貼付!K194","v":0}]
[194,{"$f":"D197&F197","v":"高校男子やり投17"},{"$f":"J197&COUNTIF($J$4:J197,J197)","v":"阿部優斗1"},{"$f":"データ貼付!D195&データ貼付!E195","v":"高校男子やり投"},{"$f":"データ貼付!G195+ROW()/1000000","v":3716.0001969999998},{"$f":"SUMPRODUCT(($D$4:$D$903=D197)*($E$4:$E$903>E197))+1","v":17},{"$f":"データ貼付!A195","v":"高体連支部"},{"$f":"データ貼付!B195","v":"北見"},{"$f":"データ貼付!C195","v":43608},{"$f":"データ貼付!F195","v":"阿部優斗"},{"$f":"データ貼付!G195","v":3716},{"$f":"データ貼付!H195","v":"決"},{"$f":"データ貼付!I195","v":"遠軽高"},{"$f":"データ貼付!J195","v":2},{"$f":"データ貼付!K195","v":0}]
[195,"高校男子やり投28",{"$f":"J198&COUNTIF($J$4:J198,J198)","v":"伊奈翔大1"},{"$f":"データ貼付!D196&データ貼付!E196","v":"高校男子やり投"},{"$f":"データ貼付!G196+ROW()/1000000","v":2952.0001980000002},28,{"$f":"データ貼付!A196","v":"記録会４戦"},{"$f":"データ貼付!B196","v":"北見"},{"$f":"データ貼付!C196","v":43681},{"$f":"データ貼付!F196","v":"伊奈翔大"},{"$f":"データ貼付!G196","v":2952},{"$f":"データ貼付!H196","v":"決"},{"$f":"データ貼付!I196","v":"北見柏陽高"},{"$f":"データ貼付!J196","v":1},{"$f":"データ貼付!K196","v":0}]
[196,"高校男子やり投21",{"$f":"J199&COUNTIF($J$4:J199,J199)","v":"臼井貴将1"},{"$f":"データ貼付!D197&データ貼付!E197","v":"高校男子やり投"},{"$f":"データ貼付!G197+ROW()/1000000","v":3448.0001990000001},21,{"$f":"データ貼付!A197","v":"高校新人"},{"$f":"データ貼付!B197","v":"網走"},{"$f":"データ貼付!C197","v":43700},{"$f":"データ貼付!F197","v":"臼井貴将"},{"$f":"データ貼付!G197","v":3448},{"$f":"データ貼付!H197","v":"決"},{"$f":"データ貼付!I197","v":"網走南ヶ丘高"},{"$f":"データ貼付!J197","v":2},{"$f":"データ貼付!K197","v":0}]
[197,"高校男子やり投33",{"$f":"J200&COUNTIF($J$4:J200,J200)","v":"横山陸翔1"},{"$f":"データ貼付!D198&データ貼付!E198","v":"高校男子やり投"},{"$f":"データ貼付!G198+ROW()/1000000","v":2611.0001999999999},33,{"$f":"データ貼付!A198","v":"秋季陸上"},{"$f":"データ貼付!B198","v":"網走"},{"$f":"データ貼付!C198","v":43715},{"$f":"データ貼付!F198","v":"横山陸翔"},{"$f":"データ貼付!G198","v":2611},{"$f":"データ貼付!H198","v":"決"},{"$f":"データ貼付!I198","v":"日体大附属高"},{"$f":"データ貼付!J198","v":1},{"$f":"データ貼付!K198","v":0}]
[198,"高校女子やり投10",{"$f":"J201&COUNTIF($J$4:J201,J201)","v":"横山倫花1"},{"$f":"データ貼付!D199&データ貼付!E199","v":"高校女子やり投"},{"$f":"データ貼付!G199+ROW()/1000000","v":2300.0002009999998},10,{"$f":"データ貼付!A199","v":"全道高校新人"},{"$f":"データ貼付!B199","v":"函館"},{"$f":"データ貼付!C199","v":" 9/18"},{"$f":"データ貼付!F199","v":"横山倫花"},{"$f":"データ貼付!G199","v":2300},{"$f":"データ貼付!H199","v":"予"},{"$f":"データ貼付!I199","v":"北見緑陵高"},{"$f":"データ貼付!J199","v":1},{"$f":"データ貼付!K199","v":0}]
[199,"一般男子やり投6",{"$f":"J202&COUNTIF($J$4:J202,J202)","v":"荻原慧1"},{"$f":"データ貼付!D200&データ貼付!E200","v":"一般男子やり投"},{"$f":"データ貼付!G200+ROW()/1000000","v":3549.0002020000002},6,{"$f":"データ貼付!A200","v":"フィールド記録会"},{"$f":"データ貼付!B200","v":"網走"},{"$f":"データ貼付!C200","v":43624},{"$f":"データ貼付!F200","v":"荻原慧"},{"$f":"データ貼付!G200","v":3549},{"$f":"データ貼付!H200","v":"決"},{"$f":"データ貼付!I200","v":"北見工大"},{"$f":"データ貼付!J200","v":"般"},{"$f":"データ貼付!K200","v":0}]
[200,"高校男子やり投13",{"$f":"J203&COUNTIF($J$4:J203,J203)","v":"雅楽川碧翔1"},{"$f":"データ貼付!D201&データ貼付!E201","v":"高校男子やり投"},{"$f":"データ貼付!G201+ROW()/1000000","v":3951.0002030000001},13,{"$f":"データ貼付!A201","v":"高体連支部"},{"$f":"データ貼付!B201","v":"北見"},{"$f":"データ貼付!C201","v":43608},{"$f":"データ貼付!F201","v":"雅楽川碧翔"},{"$f":"データ貼付!G201","v":3951},{"$f":"データ貼付!H201","v":"決"},{"$f":"データ貼付!I201","v":"湧別高"},{"$f":"データ貼付!J201","v":3},{"$f":"データ貼付!K201","v":0}]
[201,"高校男子やり投30",{"$f":"J204&COUNTIF($J$4:J204,J204)","v":"葛尾蒼空1"},{"$f":"データ貼付!D202&データ貼付!E202","v":"高校男子やり投"},{"$f":"データ貼付!G202+ROW()/1000000","v":2863.0002039999999},30,{"$f":"データ貼付!A202","v":"高校新人"},{"$f":"データ貼付!B202","v":"網走"},{"$f":"データ貼付!C202","v":43700},{"$f":"データ貼付!F202","v":"葛尾蒼空"},{"$f":"データ貼付!G202","v":2863},{"$f":"データ貼付!H202","v":"決"},{"$f":"データ貼付!I202","v":"網走南ヶ丘高"},{"$f":"データ貼付!J202","v":1},{"$f":"データ貼付!K202","v":0}]
[202,"高校男子やり投36",{"$f":"J205&COUNTIF($J$4:J205,J205)","v":"関野寛大1"},{"$f":"データ貼付!D203&データ貼付!E203","v":"高校男子やり投"},{"$f":"データ貼付!G203+ROW()/1000000","v":2144.0002049999998},36,{"$f":"データ貼付!A203","v":"記録会４戦"},{"$f":"データ貼付!B203","v":"北見"},{"$f":"データ貼付!C203","v":43681},{"$f":"データ貼付!F203","v":"関野寛大"},{"$f":"データ貼付!G203","v":2144},{"$f":"データ貼付!H203","v":"決"},{"$f":"データ貼付!I203","v":"北見商業高"},{"$f":"データ貼付!J203","v":1},{"$f":"データ貼付!K203","v":0}]
[203,"高校男子やり投12",{"$f":"J206&COUNTIF($J$4:J206,J206)","v":"菊地孝太1"},{"$f":"データ貼付!D204&データ貼付!E204","v":"高校男子やり投"},{"$f":"データ貼付!G204+ROW()/1000000","v":3956.0002060000002},12,{"$f":"データ貼付!A204","v":"秋季陸上"},{"$f":"データ貼付!B204","v":"網走"},{"$f":"データ貼付!C204","v":43715},{"$f":"データ貼付!F204","v":"菊地孝太"},{"$f":"データ貼付!G204","v":3956},{"$f":"データ貼付!H204","v":"決"},{"$f":"データ貼付!I204","v":"雄武高"},{"$f":"データ貼付!J204","v":2},{"$f":"データ貼付!K204","v":0}]
[204,"高校女子やり投5",{"$f":"J207&COUNTIF($J$4:J207,J207)","v":"金澤茉梨亜2"},{"$f":"データ貼付!D205&データ貼付!E205","v":"高校女子やり投"},{"$f":"データ貼付!G205+ROW()/1000000","v":2942.000207},5,{"$f":"データ貼付!A205","v":"高体連支部"},{"$f":"データ貼付!B205","v":"北見"},{"$f":"データ貼付!C205","v":43609},{"$f":"データ貼付!F205","v":"金澤茉梨亜"},{"$f":"データ貼付!G205","v":2942},{"$f":"データ貼付!H205","v":"決"},{"$f":"データ貼付!I205","v":"遠軽高"},{"$f":"データ貼付!J205","v":3},{"$f":"データ貼付!K205","v":0}]
[205,"高校男子やり投35",{"$f":"J208&COUNTIF($J$4:J208,J208)","v":"古賀稜吾1"},{"$f":"データ貼付!D206&データ貼付!E206","v":"高校男子やり投"},{"$f":"データ貼付!G206+ROW()/1000000","v":2259.0002079999999},35,{"$f":"データ貼付!A206","v":"記録会４戦"},{"$f":"データ貼付!B206","v":"北見"},{"$f":"データ貼付!C206","v":43681},{"$f":"データ貼付!F206","v":"古賀稜吾"},{"$f":"データ貼付!G206","v":2259},{"$f":"データ貼付!H206","v":"決"},{"$f":"データ貼付!I206","v":"湧別高"},{"$f":"データ貼付!J206","v":1},{"$f":"データ貼付!K206","v":0}]
[206,"高校男子やり投34",{"$f":"J209&COUNTIF($J$4:J209,J209)","v":"佐々木一生1"},{"$f":"データ貼付!D207&データ貼付!E207","v":"高校男子やり投"},{"$f":"データ貼付!G207+ROW()/1000000","v":2538.0002089999998},34,{"$f":"データ貼付!A207","v":"記録会３戦"},{"$f":"データ貼付!B207","v":"網走"},{"$f":"データ貼付!C207","v":43660},{"$f":"データ貼付!F207","v":"佐々木一生"},{"$f":"データ貼付!G207","v":2538},{"$f":"データ貼付!H207","v":"決"},{"$f":"データ貼付!I207","v":"日体大附属高"},{"$f":"データ貼付!J207","v":2},{"$f":"データ貼付!K207","v":0}]
[207,"高校男子やり投8",{"$f":"J210&COUNTIF($J$4:J210,J210)","v":"佐々木洸瑠1"},{"$f":"データ貼付!D208&データ貼付!E208","v":"高校男子やり投"},{"$f":"データ貼付!G208+ROW()/1000000","v":4060.0002100000002},8,{"$f":"データ貼付!A208","v":"秋季陸上"},{"$f":"データ貼付!B208","v":"網走"},{"$f":"データ貼付!C208","v":43715},{"$f":"データ貼付!F208","v":"佐々木洸瑠"},{"$f":"データ貼付!G208","v":4060},{"$f":"データ貼付!H208","v":"決"},{"$f":"データ貼付!I208","v":"興部高"},{"$f":"データ貼付!J208","v":1},{"$f":"データ貼付!K208","v":0}]
[208,"高校男子やり投4",{"$f":"J211&COUNTIF($J$4:J211,J211)","v":"坂元拓斗1"},{"$f":"データ貼付!D209&データ貼付!E209","v":"高校男子やり投"},{"$f":"データ貼付!G209+ROW()/1000000","v":4457.0002109999996},4,{"$f":"データ貼付!A209","v":"秋季陸上"},{"$f":"データ貼付!B209","v":"網走"},{"$f":"データ貼付!C209","v":43715},{"$f":"データ貼付!F209","v":"坂元拓斗"},{"$f":"データ貼付!G209","v":4457},{"$f":"データ貼付!H209","v":"決"},{"$f":"データ貼付!I209","v":"雄武高"},{"$f":"データ貼付!J209","v":1},{"$f":"データ貼付!K209","v":0}]
[209,"高校男子やり投37",{"$f":"J212&COUNTIF($J$4:J212,J212)","v":"坂口明悠夢1"},{"$f":"データ貼付!D210&データ貼付!E210","v":"高校男子やり投"},{"$f":"データ貼付!G210+ROW()/1000000","v":1942.0002119999999},37,{"$f":"データ貼付!A210","v":"高校新人"},{"$f":"データ貼付!B210","v":"網走"},{"$f":"データ貼付!C210","v":43700},{"$f":"データ貼付!F210","v":"坂口明悠夢"},{"$f":"データ貼付!G210","v":1942},{"$f":"データ貼付!H210","v":"決"},{"$f":"データ貼付!I210","v":"日体大附属高"},{"$f":"データ貼付!J210","v":1},{"$f":"データ貼付!K210","v":0}]
[210,"高校男子やり投6",{"$f":"J213&COUNTIF($J$4:J213,J213)","v":"坂本拓斗1"},{"$f":"データ貼付!D211&データ貼付!E211","v":"高校男子やり投"},{"$f":"データ貼付!G211+ROW()/1000000","v":4177.0002130000003},6,{"$f":"データ貼付!A211","v":"選手権"},{"$f":"データ貼付!B211","v":"北見"},{"$f":"データ貼付!C211","v":43596},{"$f":"データ貼付!F211","v":"坂本拓斗"},{"$f":"データ貼付!G211","v":4177},{"$f":"データ貼付!H211","v":"決"},{"$f":"データ貼付!I211","v":"雄武高"},{"$f":"データ貼付!J211","v":1},{"$f":"データ貼付!K211","v":0}]
[211,"一般男子やり投5",{"$f":"J214&COUNTIF($J$4:J214,J214)","v":"山下海都1"},{"$f":"データ貼付!D212&データ貼付!E212","v":"一般男子やり投"},{"$f":"データ貼付!G212+ROW()/1000000","v":4712.0002139999997},5,{"$f":"データ貼付!A212","v":"秋季陸上"},{"$f":"データ貼付!B212","v":"網走"},{"$f":"データ貼付!C212","v":43715},{"$f":"データ貼付!F212","v":"山下海都"},{"$f":"データ貼付!G212","v":4712},{"$f":"データ貼付!H212","v":"決"},{"$f":"データ貼付!I212","v":"北翔大"},{"$f":"データ貼付!J212","v":"般"},{"$f":"データ貼付!K212","v":0}]
[212,"高校女子やり投20",{"$f":"J215&COUNTIF($J$4:J215,J215)","v":"山口夢月1"},{"$f":"データ貼付!D213&データ貼付!E213","v":"高校女子やり投"},{"$f":"データ貼付!G213+ROW()/1000000","v":1305.000215},20,{"$f":"データ貼付!A213","v":"記録会４戦"},{"$f":"データ貼付!B213","v":"北見"},{"$f":"データ貼付!C213","v":43681},{"$f":"データ貼付!F213","v":"山口夢月"},{"$f":"データ貼付!G213","v":1305},{"$f":"データ貼付!H213","v":"決"},{"$f":"データ貼付!I213","v":"湧別高"},{"$f":"データ貼付!J213","v":1},{"$f":"データ貼付!K213","v":0}]
[213,"高校男子やり投29",{"$f":"J216&COUNTIF($J$4:J216,J216)","v":"似鳥斗也1"},{"$f":"データ貼付!D214&データ貼付!E214","v":"高校男子やり投"},{"$f":"データ貼付!G214+ROW()/1000000","v":2895.0002159999999},29,{"$f":"データ貼付!A214","v":"高体連支部"},{"$f":"データ貼付!B214","v":"北見"},{"$f":"データ貼付!C214","v":43608},{"$f":"データ貼付!F214","v":"似鳥斗也"},{"$f":"データ貼付!G214","v":2895},{"$f":"データ貼付!H214","v":"決"},{"$f":"データ貼付!I214","v":"興部高"},{"$f":"データ貼付!J214","v":1},{"$f":"データ貼付!K214","v":0}]
[214,"一般男子やり投3",{"$f":"J217&COUNTIF($J$4:J217,J217)","v":"小川卓也1"},{"$f":"データ貼付!D215&データ貼付!E215","v":"一般男子やり投"},{"$f":"データ貼付!G215+ROW()/1000000","v":5448.0002169999998},3,{"$f":"データ貼付!A215","v":"フィールド記録会"},{"$f":"データ貼付!B215","v":"網走"},{"$f":"データ貼付!C215","v":43624},{"$f":"データ貼付!F215","v":"小川卓也"},{"$f":"データ貼付!G215","v":5448},{"$f":"データ貼付!H215","v":"決"},{"$f":"データ貼付!I215","v":"ｵﾎｰﾂｸ陸協(小川)"},{"$f":"データ貼付!J215","v":"般"},{"$f":"データ貼付!K215","v":0}]
[215,"高校女子やり投18",{"$f":"J218&COUNTIF($J$4:J218,J218)","v":"小野寺琉奈1"},{"$f":"データ貼付!D216&データ貼付!E216","v":"高校女子やり投"},{"$f":"データ貼付!G216+ROW()/1000000","v":1566.0002179999999},18,{"$f":"データ貼付!A216","v":"高体連支部"},{"$f":"データ貼付!B216","v":"北見"},{"$f":"データ貼付!C216","v":43609},{"$f":"データ貼付!F216","v":"小野寺琉奈"},{"$f":"データ貼付!G216","v":1566},{"$f":"データ貼付!H216","v":"決"},{"$f":"データ貼付!I216","v":"紋別高"},{"$f":"データ貼付!J216","v":3},{"$f":"データ貼付!K216","v":0}]
[216,"高校女子やり投11",{"$f":"J219&COUNTIF($J$4:J219,J219)","v":"新藤彩音1"},{"$f":"データ貼付!D217&データ貼付!E217","v":"高校女子やり投"},{"$f":"データ貼付!G217+ROW()/1000000","v":2277.000219},11,{"$f":"データ貼付!A217","v":"高体連支部"},{"$f":"データ貼付!B217","v":"北見"},{"$f":"データ貼付!C217","v":43609},{"$f":"データ貼付!F217","v":"新藤彩音"},{"$f":"データ貼付!G217","v":2277},{"$f":"データ貼付!H217","v":"決"},{"$f":"データ貼付!I217","v":"美幌高"},{"$f":"データ貼付!J217","v":1},{"$f":"データ貼付!K217","v":0}]
[217,"高校女子やり投12",{"$f":"J220&COUNTIF($J$4:J220,J220)","v":"新歩カンセイ1"},{"$f":"データ貼付!D218&データ貼付!E218","v":"高校女子やり投"},{"$f":"データ貼付!G218+ROW()/1000000","v":2275.0002199999999},12,{"$f":"データ貼付!A218","v":"秋季陸上"},{"$f":"データ貼付!B218","v":"網走"},{"$f":"データ貼付!C218","v":43715},{"$f":"データ貼付!F218","v":"新歩カンセイ"},{"$f":"データ貼付!G218","v":2275},{"$f":"データ貼付!H218","v":"決"},{"$f":"データ貼付!I218","v":"北見緑陵高"},{"$f":"データ貼付!J218","v":2},{"$f":"データ貼付!K218","v":0}]
[218,"高校女子やり投14",{"$f":"J221&COUNTIF($J$4:J221,J221)","v":"新歩ｶﾝｾｲ1"},{"$f":"データ貼付!D219&データ貼付!E219","v":"高校女子やり投"},{"$f":"データ貼付!G219+ROW()/1000000","v":2159.0002209999998},14,{"$f":"データ貼付!A219","v":"全道高校新人"},{"$f":"データ貼付!B219","v":"函館"},{"$f":"データ貼付!C219","v":" 9/18"},{"$f":"データ貼付!F219","v":"新歩ｶﾝｾｲ"},{"$f":"データ貼付!G219","v":2159},{"$f":"データ貼付!H219","v":"予"},{"$f":"データ貼付!I219","v":"北見緑陵高"},{"$f":"データ貼付!J219","v":2},{"$f":"データ貼付!K219","v":0}]
[219,"高校女子やり投8",{"$f":"J222&COUNTIF($J$4:J222,J222)","v":"森愛梨1"},{"$f":"データ貼付!D220&データ貼付!E220","v":"高校女子やり投"},{"$f":"データ貼付!G220+ROW()/1000000","v":2684.0002220000001},8,{"$f":"データ貼付!A220","v":"全道高校新人"},{"$f":"データ貼付!B220","v":"函館"},{"$f":"データ貼付!C220","v":" 9/18"},{"$f":"データ貼付!F220","v":"森愛梨"},{"$f":"データ貼付!G220","v":2684},{"$f":"データ貼付!H220","v":"予"},{"$f":"データ貼付!I220","v":"北見柏陽高"},{"$f":"データ貼付!J220","v":1},{"$f":"データ貼付!K220","v":0}]
[220,"高校男子やり投7",{"$f":"J223&COUNTIF($J$4:J223,J223)","v":"杉本一樹1"},{"$f":"データ貼付!D221&データ貼付!E221","v":"高校男子やり投"},{"$f":"データ貼付!G221+ROW()/1000000","v":4122.000223},7,{"$f":"データ貼付!A221","v":"選手権"},{"$f":"データ貼付!B221","v":"北見"},{"$f":"データ貼付!C221","v":43596},{"$f":"データ貼付!F221","v":"杉本一樹"},{"$f":"データ貼付!G221","v":4122},{"$f":"データ貼付!H221","v":"決"},{"$f":"データ貼付!I221","v":"北見北斗高"},{"$f":"データ貼付!J221","v":3},{"$f":"データ貼付!K221","v":0}]
[221,"高校女子やり投6",{"$f":"J224&COUNTIF($J$4:J224,J224)","v":"菅原玲奈1"},{"$f":"データ貼付!D222&データ貼付!E222","v":"高校女子やり投"},{"$f":"データ貼付!G222+ROW()/1000000","v":2845.0002239999999},6,{"$f":"データ貼付!A222","v":"秋季陸上"},{"$f":"データ貼付!B222","v":"網走"},{"$f":"データ貼付!C222","v":43715},{"$f":"データ貼付!F222","v":"菅原玲奈"},{"$f":"データ貼付!G222","v":2845},{"$f":"データ貼付!H222","v":"決"},{"$f":"データ貼付!I222","v":"興部高"},{"$f":"データ貼付!J222","v":2},{"$f":"データ貼付!K222","v":0}]
[222,"一般男子やり投2",{"$f":"J225&COUNTIF($J$4:J225,J225)","v":"清水弥1"},{"$f":"データ貼付!D223&データ貼付!E223","v":"一般男子やり投"},{"$f":"データ貼付!G223+ROW()/1000000","v":5848.0002249999998},2,{"$f":"データ貼付!A223","v":"道選手権"},{"$f":"データ貼付!B223","v":"網走"},{"$f":"データ貼付!C223","v":43687},{"$f":"データ貼付!F223","v":"清水弥"},{"$f":"データ貼付!G223","v":5848},{"$f":"データ貼付!H223","v":"決"},{"$f":"データ貼付!I223","v":"オホーツク陸協"},{"$f":"データ貼付!J223","v":0},{"$f":"データ貼付!K223","v":0}]
[223,"高校男子やり投1",{"$f":"J226&COUNTIF($J$4:J226,J226)","v":"斉藤双希1"},{"$f":"データ貼付!D224&データ貼付!E224","v":"高校男子やり投"},{"$f":"データ貼付!G224+ROW()/1000000","v":5066.0002260000001},1,{"$f":"データ貼付!A224","v":"全道高校"},{"$f":"データ貼付!B224","v":"帯広"},{"$f":"データ貼付!C224","v":43636},{"$f":"データ貼付!F224","v":"斉藤双希"},{"$f":"データ貼付!G224","v":5066},{"$f":"データ貼付!H224","v":"予"},{"$f":"データ貼付!I224","v":"日体大附属高"},{"$f":"データ貼付!J224","v":3},{"$f":"データ貼付!K224","v":0}]
[224,"高校男子やり投32",{"$f":"J227&COUNTIF($J$4:J227,J227)","v":"石井丈太郎1"},{"$f":"データ貼付!D225&データ貼付!E225","v":"高校男子やり投"},{"$f":"データ貼付!G225+ROW()/1000000","v":2632.000227},32,{"$f":"データ貼付!A225","v":"記録会３戦"},{"$f":"データ貼付!B225","v":"網走"},{"$f":"データ貼付!C225","v":43660},{"$f":"データ貼付!F225","v":"石井丈太郎"},{"$f":"データ貼付!G225","v":2632},{"$f":"データ貼付!H225","v":"決"},{"$f":"データ貼付!I225","v":"清里高"},{"$f":"データ貼付!J225","v":1},{"$f":"データ貼付!K225","v":0}]
[225,"高校女子やり投13",{"$f":"J228&COUNTIF($J$4:J228,J228)","v":"石原彩菜1"},{"$f":"データ貼付!D226&データ貼付!E226","v":"高校女子やり投"},{"$f":"データ貼付!G226+ROW()/1000000","v":2175.0002279999999},13,{"$f":"データ貼付!A226","v":"秋季陸上"},{"$f":"データ貼付!B226","v":"網走"},{"$f":"データ貼付!C226","v":43715},{"$f":"データ貼付!F226","v":"石原彩菜"},{"$f":"データ貼付!G226","v":2175},{"$f":"データ貼付!H226","v":"決"},{"$f":"データ貼付!I226","v":"網走南ヶ丘高"},{"$f":"データ貼付!J226","v":1},{"$f":"データ貼付!K226","v":0}]
[226,"高校男子やり投11",{"$f":"J229&COUNTIF($J$4:J229,J229)","v":"石塚慎馬1"},{"$f":"データ貼付!D227&データ貼付!E227","v":"高校男子やり投"},{"$f":"データ貼付!G227+ROW()/1000000","v":3976.0002290000002},11,{"$f":"データ貼付!A227","v":"高校新人"},{"$f":"データ貼付!B227","v":"網走"},{"$f":"データ貼付!C227","v":43700},{"$f":"データ貼付!F227","v":"石塚慎馬"},{"$f":"データ貼付!G227","v":3976},{"$f":"データ貼付!H227","v":"決"},{"$f":"データ貼付!I227","v":"北見北斗高"},{"$f":"データ貼付!J227","v":2},{"$f":"データ貼付!K227","v":0}]
[227,"高校男子やり投20",{"$f":"J230&COUNTIF($J$4:J230,J230)","v":"石田大洋1"},{"$f":"データ貼付!D228&データ貼付!E228","v":"高校男子やり投"},{"$f":"データ貼付!G228+ROW()/1000000","v":3462.0002300000001},20,{"$f":"データ貼付!A228","v":"高体連支部"},{"$f":"データ貼付!B228","v":"北見"},{"$f":"データ貼付!C228","v":43608},{"$f":"データ貼付!F228","v":"石田大洋"},{"$f":"データ貼付!G228","v":3462},{"$f":"データ貼付!H228","v":"決"},{"$f":"データ貼付!I228","v":"遠軽高"},{"$f":"データ貼付!J228","v":3},{"$f":"データ貼付!K228","v":0}]
[228,"高校女子やり投19",{"$f":"J231&COUNTIF($J$4:J231,J231)","v":"石澤美咲1"},{"$f":"データ貼付!D229&データ貼付!E229","v":"高校女子やり投"},{"$f":"データ貼付!G229+ROW()/1000000","v":1308.000231},19,{"$f":"データ貼付!A229","v":"フィールド記録会"},{"$f":"データ貼付!B229","v":"網走"},{"$f":"データ貼付!C229","v":43624},{"$f":"データ貼付!F229","v":"石澤美咲"},{"$f":"データ貼付!G229","v":1308},{"$f":"データ貼付!H229","v":"決"},{"$f":"データ貼付!I229","v":"美幌高"},{"$f":"データ貼付!J229","v":1},{"$f":"データ貼付!K229","v":0}]
[229,"高校男子やり投3",{"$f":"J232&COUNTIF($J$4:J232,J232)","v":"赤坂玲央1"},{"$f":"データ貼付!D230&データ貼付!E230","v":"高校男子やり投"},{"$f":"データ貼付!G230+ROW()/1000000","v":4602.0002320000003},3,{"$f":"データ貼付!A230","v":"高体連支部"},{"$f":"データ貼付!B230","v":"北見"},{"$f":"データ貼付!C230","v":43608},{"$f":"データ貼付!F230","v":"赤坂玲央"},{"$f":"データ貼付!G230","v":4602},{"$f":"データ貼付!H230","v":"決"},{"$f":"データ貼付!I230","v":"日体大附属高"},{"$f":"データ貼付!J230","v":3},{"$f":"データ貼付!K230","v":0}]
[230,"高校男子やり投22",{"$f":"J233&COUNTIF($J$4:J233,J233)","v":"泉仁1"},{"$f":"データ貼付!D231&データ貼付!E231","v":"高校男子やり投"},{"$f":"データ貼付!G231+ROW()/1000000","v":3323.0002330000002},22,{"$f":"データ貼付!A231","v":"記録会３戦"},{"$f":"データ貼付!B231","v":"網走"},{"$f":"データ貼付!C231","v":43660},{"$f":"データ貼付!F231","v":"泉仁"},{"$f":"データ貼付!G231","v":3323},{"$f":"データ貼付!H231","v":"決"},{"$f":"データ貼付!I231","v":"日体大附属高"},{"$f":"データ貼付!J231","v":1},{"$f":"データ貼付!K231","v":0}]
[231,"高校女子やり投16",{"$f":"J234&COUNTIF($J$4:J234,J234)","v":"曽根美紅1"},{"$f":"データ貼付!D232&データ貼付!E232","v":"高校女子やり投"},{"$f":"データ貼付!G232+ROW()/1000000","v":2077.0002340000001},16,{"$f":"データ貼付!A232","v":"記録会３戦"},{"$f":"データ貼付!B232","v":"網走"},{"$f":"データ貼付!C232","v":43660},{"$f":"データ貼付!F232","v":"曽根美紅"},{"$f":"データ貼付!G232","v":2077},{"$f":"データ貼付!H232","v":"決"},{"$f":"データ貼付!I232","v":"網走南ヶ丘高"},{"$f":"データ貼付!J232","v":1},{"$f":"データ貼付!K232","v":0}]
[232,"高校男子やり投14",{"$f":"J235&COUNTIF($J$4:J235,J235)","v":"村澤幸樹1"},{"$f":"データ貼付!D233&データ貼付!E233","v":"高校男子やり投"},{"$f":"データ貼付!G233+ROW()/1000000","v":3940.000235},14,{"$f":"データ貼付!A233","v":"高体連支部"},{"$f":"データ貼付!B233","v":"北見"},{"$f":"データ貼付!C233","v":43608},{"$f":"データ貼付!F233","v":"村澤幸樹"},{"$f":"データ貼付!G233","v":3940},{"$f":"データ貼付!H233","v":"決"},{"$f":"データ貼付!I233","v":"北見緑陵高"},{"$f":"データ貼付!J233","v":3},{"$f":"データ貼付!K233","v":0}]
[233,"一般男子やり投4",{"$f":"J236&COUNTIF($J$4:J236,J236)","v":"大石千馬1"},{"$f":"データ貼付!D234&データ貼付!E234","v":"一般男子やり投"},{"$f":"データ貼付!G234+ROW()/1000000","v":4718.0002359999999},4,{"$f":"データ貼付!A234","v":"道選手権"},{"$f":"データ貼付!B234","v":"網走"},{"$f":"データ貼付!C234","v":43687},{"$f":"データ貼付!F234","v":"大石千馬"},{"$f":"データ貼付!G234","v":4718},{"$f":"データ貼付!H234","v":"決"},{"$f":"データ貼付!I234","v":"中央大学陸上競技同好会"},{"$f":"データ貼付!J234","v":2},{"$f":"データ貼付!K234","v":0}]
[234,"高校男子やり投19",{"$f":"J237&COUNTIF($J$4:J237,J237)","v":"瀧澤昭太1"},{"$f":"データ貼付!D235&データ貼付!E235","v":"高校男子やり投"},{"$f":"データ貼付!G235+ROW()/1000000","v":3569.0002370000002},19,{"$f":"データ貼付!A235","v":"選手権"},{"$f":"データ貼付!B235","v":"北見"},{"$f":"データ貼付!C235","v":43596},{"$f":"データ貼付!F235","v":"瀧澤昭太"},{"$f":"データ貼付!G235","v":3569},{"$f":"データ貼付!H235","v":"決"},{"$f":"データ貼付!I235","v":"雄武高"},{"$f":"データ貼付!J235","v":2},{"$f":"データ貼付!K235","v":0}]
[235,"高校女子やり投2",{"$f":"J238&COUNTIF($J$4:J238,J238)","v":"池谷菜摘子1"},{"$f":"データ貼付!D236&データ貼付!E236","v":"高校女子やり投"},{"$f":"データ貼付!G236+ROW()/1000000","v":3625.0002380000001},2,{"$f":"データ貼付!A236","v":"全道高校新人"},{"$f":"データ貼付!B236","v":"函館"},{"$f":"データ貼付!C236","v":" 9/18"},{"$f":"データ貼付!F236","v":"池谷菜摘子"},{"$f":"データ貼付!G236","v":3625},{"$f":"データ貼付!H236","v":"決"},{"$f":"データ貼付!I236","v":"北見北斗高"},{"$f":"データ貼付!J236","v":2},{"$f":"データ貼付!K236","v":0}]
[236,"高校男子やり投10",{"$f":"J239&COUNTIF($J$4:J239,J239)","v":"池田尚人1"},{"$f":"データ貼付!D237&データ貼付!E237","v":"高校男子やり投"},{"$f":"データ貼付!G237+ROW()/1000000","v":3988.000239},10,{"$f":"データ貼付!A237","v":"高体連支部"},{"$f":"データ貼付!B237","v":"北見"},{"$f":"データ貼付!C237","v":43608},{"$f":"データ貼付!F237","v":"池田尚人"},{"$f":"データ貼付!G237","v":3988},{"$f":"データ貼付!H237","v":"決"},{"$f":"データ貼付!I237","v":"網走桂陽高"},{"$f":"データ貼付!J237","v":3},{"$f":"データ貼付!K237","v":0}]
[237,"高校女子やり投17",{"$f":"J240&COUNTIF($J$4:J240,J240)","v":"中西樹奈1"},{"$f":"データ貼付!D238&データ貼付!E238","v":"高校女子やり投"},{"$f":"データ貼付!G238+ROW()/1000000","v":2027.0002400000001},17,{"$f":"データ貼付!A238","v":"高校新人"},{"$f":"データ貼付!B238","v":"網走"},{"$f":"データ貼付!C238","v":43700},{"$f":"データ貼付!F238","v":"中西樹奈"},{"$f":"データ貼付!G238","v":2027},{"$f":"データ貼付!H238","v":"決"},{"$f":"データ貼付!I238","v":"北見藤高"},{"$f":"データ貼付!J238","v":1},{"$f":"データ貼付!K238","v":0}]
[238,"高校女子やり投9",{"$f":"J241&COUNTIF($J$4:J241,J241)","v":"中村萌花1"},{"$f":"データ貼付!D239&データ貼付!E239","v":"高校女子やり投"},{"$f":"データ貼付!G239+ROW()/1000000","v":2452.0002410000002},9,{"$f":"データ貼付!A239","v":"秋季陸上"},{"$f":"データ貼付!B239","v":"網走"},{"$f":"データ貼付!C239","v":43715},{"$f":"データ貼付!F239","v":"中村萌花"},{"$f":"データ貼付!G239","v":2452},{"$f":"データ貼付!H239","v":"決"},{"$f":"データ貼付!I239","v":"遠軽高"},{"$f":"データ貼付!J239","v":1},{"$f":"データ貼付!K239","v":0}]
[239,"高校男子やり投9",{"$f":"J242&COUNTIF($J$4:J242,J242)","v":"中田脩翔1"},{"$f":"データ貼付!D240&データ貼付!E240","v":"高校男子やり投"},{"$f":"データ貼付!G240+ROW()/1000000","v":4059.0002420000001},9,{"$f":"データ貼付!A240","v":"記録会４戦"},{"$f":"データ貼付!B240","v":"北見"},{"$f":"データ貼付!C240","v":43681},{"$f":"データ貼付!F240","v":"中田脩翔"},{"$f":"データ貼付!G240","v":4059},{"$f":"データ貼付!H240","v":"決"},{"$f":"データ貼付!I240","v":"遠軽高"},{"$f":"データ貼付!J240","v":1},{"$f":"データ貼付!K240","v":0}]
[240,"高校男子やり投5",{"$f":"J243&COUNTIF($J$4:J243,J243)","v":"中野柊1"},{"$f":"データ貼付!D241&データ貼付!E241","v":"高校男子やり投"},{"$f":"データ貼付!G241+ROW()/1000000","v":4298.0002430000004},5,{"$f":"データ貼付!A241","v":"高体連支部"},{"$f":"データ貼付!B241","v":"北見"},{"$f":"データ貼付!C241","v":43608},{"$f":"データ貼付!F241","v":"中野柊"},{"$f":"データ貼付!G241","v":4298},{"$f":"データ貼付!H241","v":"決"},{"$f":"データ貼付!I241","v":"網走桂陽高"},{"$f":"データ貼付!J241","v":2},{"$f":"データ貼付!K241","v":0}]
[241,"一般女子やり投1",{"$f":"J244&COUNTIF($J$4:J244,J244)","v":"直川あすか1"},{"$f":"データ貼付!D242&データ貼付!E242","v":"一般女子やり投"},{"$f":"データ貼付!G242+ROW()/1000000","v":3115.0002439999998},1,{"$f":"データ貼付!A242","v":"道選手権"},{"$f":"データ貼付!B242","v":"網走"},{"$f":"データ貼付!C242","v":43687},{"$f":"データ貼付!F242","v":"直川あすか"},{"$f":"データ貼付!G242","v":3115},{"$f":"データ貼付!H242","v":"決"},{"$f":"データ貼付!I242","v":"北海道スポーツ専門学校"},{"$f":"データ貼付!J242","v":0},{"$f":"データ貼付!K242","v":0}]
[242,"高校男子やり投15",{"$f":"J245&COUNTIF($J$4:J245,J245)","v":"田原亮佑1"},{"$f":"データ貼付!D243&データ貼付!E243","v":"高校男子やり投"},{"$f":"データ貼付!G243+ROW()/1000000","v":3928.0002450000002},15,{"$f":"データ貼付!A243","v":"高体連支部"},{"$f":"データ貼付!B243","v":"北見"},{"$f":"データ貼付!C243","v":43608},{"$f":"データ貼付!F243","v":"田原亮佑"},{"$f":"データ貼付!G243","v":3928},{"$f":"データ貼付!H243","v":"決"},{"$f":"データ貼付!I243","v":"雄武高"},{"$f":"データ貼付!J243","v":2},{"$f":"データ貼付!K243","v":0}]
[243,"高校男子やり投2",{"$f":"J246&COUNTIF($J$4:J246,J246)","v":"田中慎之助1"},{"$f":"データ貼付!D244&データ貼付!E244","v":"高校男子やり投"},{"$f":"データ貼付!G244+ROW()/1000000","v":4764.0002459999996},2,{"$f":"データ貼付!A244","v":"全道高校"},{"$f":"データ貼付!B244","v":"帯広"},{"$f":"データ貼付!C244","v":43636},{"$f":"データ貼付!F244","v":"田中慎之助"},{"$f":"データ貼付!G244","v":4764},{"$f":"データ貼付!H244","v":"予"},{"$f":"データ貼付!I244","v":"北見緑陵高"},{"$f":"データ貼付!J244","v":3},{"$f":"データ貼付!K244","v":0}]
[244,"高校男子やり投16",{"$f":"J247&COUNTIF($J$4:J247,J247)","v":"土本蒼樹1"},{"$f":"データ貼付!D245&データ貼付!E245","v":"高校男子やり投"},{"$f":"データ貼付!G245+ROW()/1000000","v":3812.0002469999999},16,{"$f":"データ貼付!A245","v":"秋季陸上"},{"$f":"データ貼付!B245","v":"網走"},{"$f":"データ貼付!C245","v":43715},{"$f":"データ貼付!F245","v":"土本蒼樹"},{"$f":"データ貼付!G245","v":3812},{"$f":"データ貼付!H245","v":"決"},{"$f":"データ貼付!I245","v":"常呂高"},{"$f":"データ貼付!J245","v":1},{"$f":"データ貼付!K245","v":0}]
[245,"高校男子やり投23",{"$f":"J248&COUNTIF($J$4:J248,J248)","v":"日下大夢1"},{"$f":"データ貼付!D246&データ貼付!E246","v":"高校男子やり投"},{"$f":"データ貼付!G246+ROW()/1000000","v":3284.0002479999998},23,{"$f":"データ貼付!A246","v":"秋季陸上"},{"$f":"データ貼付!B246","v":"網走"},{"$f":"データ貼付!C246","v":43715},{"$f":"データ貼付!F246","v":"日下大夢"},{"$f":"データ貼付!G246","v":3284},{"$f":"データ貼付!H246","v":"決"},{"$f":"データ貼付!I246","v":"紋別高"},{"$f":"データ貼付!J246","v":2},{"$f":"データ貼付!K246","v":0}]
[246,"高校男子やり投18",{"$f":"J249&COUNTIF($J$4:J249,J249)","v":"白川楓1"},{"$f":"データ貼付!D247&データ貼付!E247","v":"高校男子やり投"},{"$f":"データ貼付!G247+ROW()/1000000","v":3592.0002490000002},18,{"$f":"データ貼付!A247","v":"記録会４戦"},{"$f":"データ貼付!B247","v":"北見"},{"$f":"データ貼付!C247","v":43681},{"$f":"データ貼付!F247","v":"白川楓"},{"$f":"データ貼付!G247","v":3592},{"$f":"データ貼付!H247","v":"決"},{"$f":"データ貼付!I247","v":"興部高"},{"$f":"データ貼付!J247","v":1},{"$f":"データ貼付!K247","v":0}]
[247,"高校男子やり投25",{"$f":"J250&COUNTIF($J$4:J250,J250)","v":"畑内蒼汰1"},{"$f":"データ貼付!D248&データ貼付!E248","v":"高校男子やり投"},{"$f":"データ貼付!G248+ROW()/1000000","v":3137.0002500000001},25,{"$f":"データ貼付!A248","v":"秋季陸上"},{"$f":"データ貼付!B248","v":"網走"},{"$f":"データ貼付!C248","v":43715},{"$f":"データ貼付!F248","v":"畑内蒼汰"},{"$f":"データ貼付!G248","v":3137},{"$f":"データ貼付!H248","v":"決"},{"$f":"データ貼付!I248","v":"紋別高"},{"$f":"データ貼付!J248","v":2},{"$f":"データ貼付!K248","v":0}]
[248,"高校男子やり投31",{"$f":"J251&COUNTIF($J$4:J251,J251)","v":"八重樫春人1"},{"$f":"データ貼付!D249&データ貼付!E249","v":"高校男子やり投"},{"$f":"データ貼付!G249+ROW()/1000000","v":2647.0002509999999},31,{"$f":"データ貼付!A249","v":"記録会４戦"},{"$f":"データ貼付!B249","v":"北見"},{"$f":"データ貼付!C249","v":43681},{"$f":"データ貼付!F249","v":"八重樫春人"},{"$f":"データ貼付!G249","v":2647},{"$f":"データ貼付!H249","v":"決"},{"$f":"データ貼付!I249","v":"北見商業高"},{"$f":"データ貼付!J249","v":1},{"$f":"データ貼付!K249","v":0}]
[249,"高校女子やり投7",{"$f":"J252&COUNTIF($J$4:J252,J252)","v":"尾崎梨杏1"},{"$f":"データ貼付!D250&データ貼付!E250","v":"高校女子やり投"},{"$f":"データ貼付!G250+ROW()/1000000","v":2686.0002519999998},7,{"$f":"データ貼付!A250","v":"高体連支部"},{"$f":"データ貼付!B250","v":"北見"},{"$f":"データ貼付!C250","v":43609},{"$f":"データ貼付!F250","v":"尾崎梨杏"},{"$f":"データ貼付!G250","v":2686},{"$f":"データ貼付!H250","v":"決"},{"$f":"データ貼付!I250","v":"北見柏陽高"},{"$f":"データ貼付!J250","v":3},{"$f":"データ貼付!K250","v":0}]
[250,"高校女子やり投15",{"$f":"J253&COUNTIF($J$4:J253,J253)","v":"平吹侑里1"},{"$f":"データ貼付!D251&データ貼付!E251","v":"高校女子やり投"},{"$f":"データ貼付!G251+ROW()/1000000","v":2094.0002530000002},15,{"$f":"データ貼付!A251","v":"高校新人"},{"$f":"データ貼付!B251","v":"網走"},{"$f":"データ貼付!C251","v":43700},{"$f":"データ貼付!F251","v":"平吹侑里"},{"$f":"データ貼付!G251","v":2094},{"$f":"データ貼付!H251","v":"決"},{"$f":"データ貼付!I251","v":"美幌高"},{"$f":"データ貼付!J251","v":1},{"$f":"データ貼付!K251","v":0}]
[251,"一般男子やり投1",{"$f":"J254&COUNTIF($J$4:J254,J254)","v":"片川志遠1"},{"$f":"データ貼付!D252&データ貼付!E252","v":"一般男子やり投"},{"$f":"データ貼付!G252+ROW()/1000000","v":6349.0002539999996},1,{"$f":"データ貼付!A252","v":"道選手権"},{"$f":"データ貼付!B252","v":"網走"},{"$f":"データ貼付!C252","v":43687},{"$f":"データ貼付!F252","v":"片川志遠"},{"$f":"データ貼付!G252","v":6349},{"$f":"データ貼付!H252","v":"決"},{"$f":"データ貼付!I252","v":"大阪体育大"},{"$f":"データ貼付!J252","v":2},{"$f":"データ貼付!K252","v":0}]
[252,"高校女子やり投3",{"$f":"J255&COUNTIF($J$4:J255,J255)","v":"牧田あみ1"},{"$f":"データ貼付!D253&データ貼付!E253","v":"高校女子やり投"},{"$f":"データ貼付!G253+ROW()/1000000","v":3543.0002549999999},3,{"$f":"データ貼付!A253","v":"全道高校"},{"$f":"データ貼付!B253","v":"帯広"},{"$f":"データ貼付!C253","v":43634},{"$f":"データ貼付!F253","v":"牧田あみ"},{"$f":"データ貼付!G253","v":3543},{"$f":"データ貼付!H253","v":"予"},{"$f":"データ貼付!I253","v":"網走南ヶ丘高"},{"$f":"データ貼付!J253","v":3},{"$f":"データ貼付!K253","v":0}]
[253,"高校女子やり投4",{"$f":"J256&COUNTIF($J$4:J256,J256)","v":"木幡遥香1"},{"$f":"データ貼付!D254&データ貼付!E254","v":"高校女子やり投"},{"$f":"データ貼付!G254+ROW()/1000000","v":3308.0002559999998},4,{"$f":"データ貼付!A254","v":"全道高校新人"},{"$f":"データ貼付!B254","v":"函館"},{"$f":"データ貼付!C254","v":" 9/18"},{"$f":"データ貼付!F254","v":"木幡遥香"},{"$f":"データ貼付!G254","v":3308},{"$f":"データ貼付!H254","v":"予"},{"$f":"データ貼付!I254","v":"網走南ｹ丘高"},{"$f":"データ貼付!J254","v":2},{"$f":"データ貼付!K254","v":0}]
[254,"高校男子やり投26",{"$f":"J257&COUNTIF($J$4:J257,J257)","v":"野崎竜矢1"},{"$f":"データ貼付!D255&データ貼付!E255","v":"高校男子やり投"},{"$f":"データ貼付!G255+ROW()/1000000","v":3122.0002570000001},26,{"$f":"データ貼付!A255","v":"記録会４戦"},{"$f":"データ貼付!B255","v":"北見"},{"$f":"データ貼付!C255","v":43681},{"$f":"データ貼付!F255","v":"野崎竜矢"},{"$f":"データ貼付!G255","v":3122},{"$f":"データ貼付!H255","v":"決"},{"$f":"データ貼付!I255","v":"網走南ヶ丘高"},{"$f":"データ貼付!J255","v":1},{"$f":"データ貼付!K255","v":0}]
[255,"高校男子やり投24",{"$f":"J258&COUNTIF($J$4:J258,J258)","v":"野中涼汰1"},{"$f":"データ貼付!D256&データ貼付!E256","v":"高校男子やり投"},{"$f":"データ貼付!G256+ROW()/1000000","v":3245.000258},24,{"$f":"データ貼付!A256","v":"選手権"},{"$f":"データ貼付!B256","v":"北見"},{"$f":"データ貼付!C256","v":43596},{"$f":"データ貼付!F256","v":"野中涼汰"},{"$f":"データ貼付!G256","v":3245},{"$f":"データ貼付!H256","v":"決"},{"$f":"データ貼付!I256","v":"北見柏陽高"},{"$f":"データ貼付!J256","v":3},{"$f":"データ貼付!K256","v":0}]
[256,"高校女子やり投1",{"$f":"J259&COUNTIF($J$4:J259,J259)","v":"矢萩雪奈1"},{"$f":"データ貼付!D257&データ貼付!E257","v":"高校女子やり投"},{"$f":"データ貼付!G257+ROW()/1000000","v":4377.0002590000004},1,{"$f":"データ貼付!A257","v":"高体連支部"},{"$f":"データ貼付!B257","v":"北見"},{"$f":"データ貼付!C257","v":43609},{"$f":"データ貼付!F257","v":"矢萩雪奈"},{"$f":"データ貼付!G257","v":4377},{"$f":"データ貼付!H257","v":"決"},{"$f":"データ貼付!I257","v":"遠軽高"},{"$f":"データ貼付!J257","v":3},{"$f":"データ貼付!K257","v":0}]
[257,"高校男子やり投27",{"$f":"J260&COUNTIF($J$4:J260,J260)","v":"六渡和馬1"},{"$f":"データ貼付!D258&データ貼付!E258","v":"高校男子やり投"},{"$f":"データ貼付!G258+ROW()/1000000","v":3109.0002599999998},27,{"$f":"データ貼付!A258","v":"高校新人"},{"$f":"データ貼付!B258","v":"網走"},{"$f":"データ貼付!C258","v":43700},{"$f":"データ貼付!F258","v":"六渡和馬"},{"$f":"データ貼付!G258","v":3109},{"$f":"データ貼付!H258","v":"決"},{"$f":"データ貼付!I258","v":"北見北斗高"},{"$f":"データ貼付!J258","v":1},{"$f":"データ貼付!K258","v":0}]
[258,{"$f":"D261&F261","v":"中学男子円盤投3"},{"$f":"J261&COUNTIF($J$4:J261,J261)","v":"安田遥1"},{"$f":"データ貼付!D259&データ貼付!E259","v":"中学男子円盤投"},{"$f":"データ貼付!G259+ROW()/1000000","v":2252.0002610000001},{"$f":"SUMPRODUCT(($D$4:$D$903=D261)*($E$4:$E$903>E261))+1","v":3},{"$f":"データ貼付!A259","v":"中学新人"},{"$f":"データ貼付!B259","v":"網走"},{"$f":"データ貼付!C259","v":43701},{"$f":"データ貼付!F259","v":"安田遥"},{"$f":"データ貼付!G259","v":2252},{"$f":"データ貼付!H259","v":"決"},{"$f":"データ貼付!I259","v":"雄武中"},{"$f":"データ貼付!J259","v":2},{"$f":"データ貼付!K259","v":0}]
[259,"高校男子円盤投15",{"$f":"J262&COUNTIF($J$4:J262,J262)","v":"奥山颯太1"},{"$f":"データ貼付!D260&データ貼付!E260","v":"高校男子円盤投"},{"$f":"データ貼付!G260+ROW()/1000000","v":2448.000262},15,{"$f":"データ貼付!A260","v":"高体連支部"},{"$f":"データ貼付!B260","v":"北見"},{"$f":"データ貼付!C260","v":43609},{"$f":"データ貼付!F260","v":"奥山颯太"},{"$f":"データ貼付!G260","v":2448},{"$f":"データ貼付!H260","v":"決"},{"$f":"データ貼付!I260","v":"湧別高"},{"$f":"データ貼付!J260","v":3},{"$f":"データ貼付!K260","v":0}]
[260,"高校男子円盤投12",{"$f":"J263&COUNTIF($J$4:J263,J263)","v":"横山陸翔2"},{"$f":"データ貼付!D261&データ貼付!E261","v":"高校男子円盤投"},{"$f":"データ貼付!G261+ROW()/1000000","v":2665.0002629999999},12,{"$f":"データ貼付!A261","v":"高校新人"},{"$f":"データ貼付!B261","v":"網走"},{"$f":"データ貼付!C261","v":43701},{"$f":"データ貼付!F261","v":"横山陸翔"},{"$f":"データ貼付!G261","v":2665},{"$f":"データ貼付!H261","v":"決"},{"$f":"データ貼付!I261","v":"日体大附属高"},{"$f":"データ貼付!J261","v":1},{"$f":"データ貼付!K261","v":0}]
[261,"高校女子円盤投10",{"$f":"J264&COUNTIF($J$4:J264,J264)","v":"岡沢奈菜1"},{"$f":"データ貼付!D262&データ貼付!E262","v":"高校女子円盤投"},{"$f":"データ貼付!G262+ROW()/1000000","v":1584.000264},10,{"$f":"データ貼付!A262","v":"全道高校新人"},{"$f":"データ貼付!B262","v":"函館"},{"$f":"データ貼付!C262","v":" 9/19"},{"$f":"データ貼付!F262","v":"岡沢奈菜"},{"$f":"データ貼付!G262","v":1584},{"$f":"データ貼付!H262","v":"予"},{"$f":"データ貼付!I262","v":"清里高"},{"$f":"データ貼付!J262","v":1},{"$f":"データ貼付!K262","v":0}]
[262,"一般女子円盤投1",{"$f":"J265&COUNTIF($J$4:J265,J265)","v":"沖崎桜1"},{"$f":"データ貼付!D263&データ貼付!E263","v":"一般女子円盤投"},{"$f":"データ貼付!G263+ROW()/1000000","v":3266.0002650000001},1,{"$f":"データ貼付!A263","v":"道選手権"},{"$f":"データ貼付!B263","v":"網走"},{"$f":"データ貼付!C263","v":43688},{"$f":"データ貼付!F263","v":"沖崎桜"},{"$f":"データ貼付!G263","v":3266},{"$f":"データ貼付!H263","v":"決"},{"$f":"データ貼付!I263","v":"オホーツクAC"},{"$f":"データ貼付!J263","v":0},{"$f":"データ貼付!K263","v":0}]
[263,"高校男子円盤投30",{"$f":"J266&COUNTIF($J$4:J266,J266)","v":"夏野克規2"},{"$f":"データ貼付!D264&データ貼付!E264","v":"高校男子円盤投"},{"$f":"データ貼付!G264+ROW()/1000000","v":1494.000266},30,{"$f":"データ貼付!A264","v":"高体連支部"},{"$f":"データ貼付!B264","v":"北見"},{"$f":"データ貼付!C264","v":43609},{"$f":"データ貼付!F264","v":"夏野克規"},{"$f":"データ貼付!G264","v":1494},{"$f":"データ貼付!H264","v":"決"},{"$f":"データ貼付!I264","v":"遠軽高"},{"$f":"データ貼付!J264","v":1},{"$f":"データ貼付!K264","v":0}]
[264,"高校男子円盤投32",{"$f":"J267&COUNTIF($J$4:J267,J267)","v":"葛尾蒼空2"},{"$f":"データ貼付!D265&データ貼付!E265","v":"高校男子円盤投"},{"$f":"データ貼付!G265+ROW()/1000000","v":1194.0002669999999},32,{"$f":"データ貼付!A265","v":"記録会３戦"},{"$f":"データ貼付!B265","v":"網走"},{"$f":"データ貼付!C265","v":43660},{"$f":"データ貼付!F265","v":"葛尾蒼空"},{"$f":"データ貼付!G265","v":1194},{"$f":"データ貼付!H265","v":"決"},{"$f":"データ貼付!I265","v":"網走南ヶ丘高"},{"$f":"データ貼付!J265","v":1},{"$f":"データ貼付!K265","v":0}]
[265,"中学女子円盤投4",{"$f":"J268&COUNTIF($J$4:J268,J268)","v":"岩越茜莉2"},{"$f":"データ貼付!D266&データ貼付!E266","v":"中学女子円盤投"},{"$f":"データ貼付!G266+ROW()/1000000","v":1566.000268},4,{"$f":"データ貼付!A266","v":"中体連地区"},{"$f":"データ貼付!B266","v":"北見"},{"$f":"データ貼付!C266","v":43630},{"$f":"データ貼付!F266","v":"岩越茜莉"},{"$f":"データ貼付!G266","v":1566},{"$f":"データ貼付!H266","v":"決"},{"$f":"データ貼付!I266","v":"雄武中"},{"$f":"データ貼付!J266","v":3},{"$f":"データ貼付!K266","v":0}]
[266,"高校男子円盤投19",{"$f":"J269&COUNTIF($J$4:J269,J269)","v":"亀谷拓矢1"},{"$f":"データ貼付!D267&データ貼付!E267","v":"高校男子円盤投"},{"$f":"データ貼付!G267+ROW()/1000000","v":2249.0002690000001},19,{"$f":"データ貼付!A267","v":"秋季陸上"},{"$f":"データ貼付!B267","v":"網走"},{"$f":"データ貼付!C267","v":43716},{"$f":"データ貼付!F267","v":"亀谷拓矢"},{"$f":"データ貼付!G267","v":2249},{"$f":"データ貼付!H267","v":"決"},{"$f":"データ貼付!I267","v":"日体大附属高"},{"$f":"データ貼付!J267","v":2},{"$f":"データ貼付!K267","v":0}]
[267,"高校男子円盤投11",{"$f":"J270&COUNTIF($J$4:J270,J270)","v":"菊地孝太2"},{"$f":"データ貼付!D268&データ貼付!E268","v":"高校男子円盤投"},{"$f":"データ貼付!G268+ROW()/1000000","v":2690.00027},11,{"$f":"データ貼付!A268","v":"高体連支部"},{"$f":"データ貼付!B268","v":"北見"},{"$f":"データ貼付!C268","v":43609},{"$f":"データ貼付!F268","v":"菊地孝太"},{"$f":"データ貼付!G268","v":2690},{"$f":"データ貼付!H268","v":"決"},{"$f":"データ貼付!I268","v":"雄武高"},{"$f":"データ貼付!J268","v":2},{"$f":"データ貼付!K268","v":0}]
[268,"高校男子円盤投18",{"$f":"J271&COUNTIF($J$4:J271,J271)","v":"橋田翔1"},{"$f":"データ貼付!D269&データ貼付!E269","v":"高校男子円盤投"},{"$f":"データ貼付!G269+ROW()/1000000","v":2255.0002709999999},18,{"$f":"データ貼付!A269","v":"記録会第２戦"},{"$f":"データ貼付!B269","v":"網走"},{"$f":"データ貼付!C269","v":43590},{"$f":"データ貼付!F269","v":"橋田翔"},{"$f":"データ貼付!G269","v":2255},{"$f":"データ貼付!H269","v":"決"},{"$f":"データ貼付!I269","v":"紋別高"},{"$f":"データ貼付!J269","v":3},{"$f":"データ貼付!K269","v":0}]
[269,"高校男子円盤投24",{"$f":"J272&COUNTIF($J$4:J272,J272)","v":"橋立悠1"},{"$f":"データ貼付!D270&データ貼付!E270","v":"高校男子円盤投"},{"$f":"データ貼付!G270+ROW()/1000000","v":1995.000272},24,{"$f":"データ貼付!A270","v":"秋季陸上"},{"$f":"データ貼付!B270","v":"網走"},{"$f":"データ貼付!C270","v":43716},{"$f":"データ貼付!F270","v":"橋立悠"},{"$f":"データ貼付!G270","v":1995},{"$f":"データ貼付!H270","v":"決"},{"$f":"データ貼付!I270","v":"日体大附属高"},{"$f":"データ貼付!J270","v":2},{"$f":"データ貼付!K270","v":0}]
[270,"高校女子円盤投4",{"$f":"J273&COUNTIF($J$4:J273,J273)","v":"金澤茉梨亜3"},{"$f":"データ貼付!D271&データ貼付!E271","v":"高校女子円盤投"},{"$f":"データ貼付!G271+ROW()/1000000","v":2668.0002730000001},4,{"$f":"データ貼付!A271","v":"高体連支部"},{"$f":"データ貼付!B271","v":"北見"},{"$f":"データ貼付!C271","v":43609},{"$f":"データ貼付!F271","v":"金澤茉梨亜"},{"$f":"データ貼付!G271","v":2668},{"$f":"データ貼付!H271","v":"決"},{"$f":"データ貼付!I271","v":"遠軽高"},{"$f":"データ貼付!J271","v":3},{"$f":"データ貼付!K271","v":0}]
[271,"中学女子円盤投2",{"$f":"J274&COUNTIF($J$4:J274,J274)","v":"兼田桃香1"},{"$f":"データ貼付!D272&データ貼付!E272","v":"中学女子円盤投"},{"$f":"データ貼付!G272+ROW()/1000000","v":2162.000274},2,{"$f":"データ貼付!A272","v":"記録会４戦"},{"$f":"データ貼付!B272","v":"北見"},{"$f":"データ貼付!C272","v":43681},{"$f":"データ貼付!F272","v":"兼田桃香"},{"$f":"データ貼付!G272","v":2162},{"$f":"データ貼付!H272","v":"決"},{"$f":"データ貼付!I272","v":"北見常呂中"},{"$f":"データ貼付!J272","v":3},{"$f":"データ貼付!K272","v":0}]
[272,"高校男子円盤投1",{"$f":"J275&COUNTIF($J$4:J275,J275)","v":"工藤颯斗2"},{"$f":"データ貼付!D273&データ貼付!E273","v":"高校男子円盤投"},{"$f":"データ貼付!G273+ROW()/1000000","v":4124.0002750000003},1,{"$f":"データ貼付!A273","v":"高体連支部"},{"$f":"データ貼付!B273","v":"北見"},{"$f":"データ貼付!C273","v":43609},{"$f":"データ貼付!F273","v":"工藤颯斗"},{"$f":"データ貼付!G273","v":4124},{"$f":"データ貼付!H273","v":"決"},{"$f":"データ貼付!I273","v":"網走南ヶ丘高"},{"$f":"データ貼付!J273","v":3},{"$f":"データ貼付!K273","v":0}]
[273,"高校男子円盤投21",{"$f":"J276&COUNTIF($J$4:J276,J276)","v":"荒木龍之介1"},{"$f":"データ貼付!D274&データ貼付!E274","v":"高校男子円盤投"},{"$f":"データ貼付!G274+ROW()/1000000","v":2222.0002760000002},21,{"$f":"データ貼付!A274","v":"秋季陸上"},{"$f":"データ貼付!B274","v":"網走"},{"$f":"データ貼付!C274","v":43716},{"$f":"データ貼付!F274","v":"荒木龍之介"},{"$f":"データ貼付!G274","v":2222},{"$f":"データ貼付!H274","v":"決"},{"$f":"データ貼付!I274","v":"紋別高"},{"$f":"データ貼付!J274","v":2},{"$f":"データ貼付!K274","v":0}]
[274,"高校男子円盤投2",{"$f":"J277&COUNTIF($J$4:J277,J277)","v":"高宮成生1"},{"$f":"データ貼付!D275&データ貼付!E275","v":"高校男子円盤投"},{"$f":"データ貼付!G275+ROW()/1000000","v":3441.0002770000001},2,{"$f":"データ貼付!A275","v":"全道高校新人"},{"$f":"データ貼付!B275","v":"函館"},{"$f":"データ貼付!C275","v":" 9/20"},{"$f":"データ貼付!F275","v":"高宮成生"},{"$f":"データ貼付!G275","v":3441},{"$f":"データ貼付!H275","v":"決"},{"$f":"データ貼付!I275","v":"雄武高"},{"$f":"データ貼付!J275","v":1},{"$f":"データ貼付!K275","v":0}]
[275,"高校女子円盤投9",{"$f":"J278&COUNTIF($J$4:J278,J278)","v":"高橋愛唯2"},{"$f":"データ貼付!D276&データ貼付!E276","v":"高校女子円盤投"},{"$f":"データ貼付!G276+ROW()/1000000","v":1900.000278},9,{"$f":"データ貼付!A276","v":"全道高校新人"},{"$f":"データ貼付!B276","v":"函館"},{"$f":"データ貼付!C276","v":" 9/19"},{"$f":"データ貼付!F276","v":"高橋愛唯"},{"$f":"データ貼付!G276","v":1900},{"$f":"データ貼付!H276","v":"予"},{"$f":"データ貼付!I276","v":"遠軽高"},{"$f":"データ貼付!J276","v":2},{"$f":"データ貼付!K276","v":0}]
[276,"高校男子円盤投28",{"$f":"J279&COUNTIF($J$4:J279,J279)","v":"高嶋祐太2"},{"$f":"データ貼付!D277&データ貼付!E277","v":"高校男子円盤投"},{"$f":"データ貼付!G277+ROW()/1000000","v":1663.0002790000001},28,{"$f":"データ貼付!A277","v":"秋季陸上"},{"$f":"データ貼付!B277","v":"網走"},{"$f":"データ貼付!C277","v":43716},{"$f":"データ貼付!F277","v":"高嶋祐太"},{"$f":"データ貼付!G277","v":1663},{"$f":"データ貼付!H277","v":"決"},{"$f":"データ貼付!I277","v":"遠軽高"},{"$f":"データ貼付!J277","v":2},{"$f":"データ貼付!K277","v":0}]
[277,"高校男子円盤投27",{"$f":"J280&COUNTIF($J$4:J280,J280)","v":"鴻巣勇人1"},{"$f":"データ貼付!D278&データ貼付!E278","v":"高校男子円盤投"},{"$f":"データ貼付!G278+ROW()/1000000","v":1751.00028},27,{"$f":"データ貼付!A278","v":"記録会３戦"},{"$f":"データ貼付!B278","v":"網走"},{"$f":"データ貼付!C278","v":43660},{"$f":"データ貼付!F278","v":"鴻巣勇人"},{"$f":"データ貼付!G278","v":1751},{"$f":"データ貼付!H278","v":"決"},{"$f":"データ貼付!I278","v":"日体大附属高"},{"$f":"データ貼付!J278","v":1},{"$f":"データ貼付!K278","v":0}]
[278,"高校男子円盤投25",{"$f":"J281&COUNTIF($J$4:J281,J281)","v":"佐川翔流2"},{"$f":"データ貼付!D279&データ貼付!E279","v":"高校男子円盤投"},{"$f":"データ貼付!G279+ROW()/1000000","v":1976.0002810000001},25,{"$f":"データ貼付!A279","v":"秋季陸上"},{"$f":"データ貼付!B279","v":"網走"},{"$f":"データ貼付!C279","v":43716},{"$f":"データ貼付!F279","v":"佐川翔流"},{"$f":"データ貼付!G279","v":1976},{"$f":"データ貼付!H279","v":"決"},{"$f":"データ貼付!I279","v":"遠軽高"},{"$f":"データ貼付!J279","v":2},{"$f":"データ貼付!K279","v":0}]
[279,"高校男子円盤投23",{"$f":"J282&COUNTIF($J$4:J282,J282)","v":"佐川翔琉2"},{"$f":"データ貼付!D280&データ貼付!E280","v":"高校男子円盤投"},{"$f":"データ貼付!G280+ROW()/1000000","v":2136.000282},23,{"$f":"データ貼付!A280","v":"高体連支部"},{"$f":"データ貼付!B280","v":"北見"},{"$f":"データ貼付!C280","v":43609},{"$f":"データ貼付!F280","v":"佐川翔琉"},{"$f":"データ貼付!G280","v":2136},{"$f":"データ貼付!H280","v":"決"},{"$f":"データ貼付!I280","v":"遠軽高"},{"$f":"データ貼付!J280","v":2},{"$f":"データ貼付!K280","v":0}]
[280,"高校男子円盤投7",{"$f":"J283&COUNTIF($J$4:J283,J283)","v":"佐藤一希1"},{"$f":"データ貼付!D281&データ貼付!E281","v":"高校男子円盤投"},{"$f":"データ貼付!G281+ROW()/1000000","v":2904.0002829999999},7,{"$f":"データ貼付!A281","v":"高体連支部"},{"$f":"データ貼付!B281","v":"北見"},{"$f":"データ貼付!C281","v":43609},{"$f":"データ貼付!F281","v":"佐藤一希"},{"$f":"データ貼付!G281","v":2904},{"$f":"データ貼付!H281","v":"決"},{"$f":"データ貼付!I281","v":"清里高"},{"$f":"データ貼付!J281","v":2},{"$f":"データ貼付!K281","v":0}]
[281,"中学男子円盤投6",{"$f":"J284&COUNTIF($J$4:J284,J284)","v":"佐藤広大2"},{"$f":"データ貼付!D282&データ貼付!E282","v":"中学男子円盤投"},{"$f":"データ貼付!G282+ROW()/1000000","v":1935.000284},6,{"$f":"データ貼付!A282","v":"秋季陸上"},{"$f":"データ貼付!B282","v":"網走"},{"$f":"データ貼付!C282","v":43716},{"$f":"データ貼付!F282","v":"佐藤広大"},{"$f":"データ貼付!G282","v":1935},{"$f":"データ貼付!H282","v":"決"},{"$f":"データ貼付!I282","v":"遠軽中"},{"$f":"データ貼付!J282","v":2},{"$f":"データ貼付!K282","v":0}]
[282,"高校男子円盤投17",{"$f":"J285&COUNTIF($J$4:J285,J285)","v":"佐藤汰希2"},{"$f":"データ貼付!D283&データ貼付!E283","v":"高校男子円盤投"},{"$f":"データ貼付!G283+ROW()/1000000","v":2260.0002850000001},17,{"$f":"データ貼付!A283","v":"記録会第２戦"},{"$f":"データ貼付!B283","v":"網走"},{"$f":"データ貼付!C283","v":43590},{"$f":"データ貼付!F283","v":"佐藤汰希"},{"$f":"データ貼付!G283","v":2260},{"$f":"データ貼付!H283","v":"決"},{"$f":"データ貼付!I283","v":"興部高"},{"$f":"データ貼付!J283","v":2},{"$f":"データ貼付!K283","v":0}]
[283,"中学男子円盤投8",{"$f":"J286&COUNTIF($J$4:J286,J286)","v":"笹原煌一朗1"},{"$f":"データ貼付!D284&データ貼付!E284","v":"中学男子円盤投"},{"$f":"データ貼付!G284+ROW()/1000000","v":1790.000286},8,{"$f":"データ貼付!A284","v":"秋季陸上"},{"$f":"データ貼付!B284","v":"網走"},{"$f":"データ貼付!C284","v":43716},{"$f":"データ貼付!F284","v":"笹原煌一朗"},{"$f":"データ貼付!G284","v":1790},{"$f":"データ貼付!H284","v":"決"},{"$f":"データ貼付!I284","v":"遠軽中"},{"$f":"データ貼付!J284","v":2},{"$f":"データ貼付!K284","v":0}]
[284,"一般男子円盤投2",{"$f":"J287&COUNTIF($J$4:J287,J287)","v":"山下海都2"},{"$f":"データ貼付!D285&データ貼付!E285","v":"一般男子円盤投"},{"$f":"データ貼付!G285+ROW()/1000000","v":3287.0002869999998},2,{"$f":"データ貼付!A285","v":"道選手権"},{"$f":"データ貼付!B285","v":"網走"},{"$f":"データ貼付!C285","v":43688},{"$f":"データ貼付!F285","v":"山下海都"},{"$f":"データ貼付!G285","v":3287},{"$f":"データ貼付!H285","v":"決"},{"$f":"データ貼付!I285","v":"北翔大"},{"$f":"データ貼付!J285","v":3},{"$f":"データ貼付!K285","v":0}]
[285,"中学男子円盤投7",{"$f":"J288&COUNTIF($J$4:J288,J288)","v":"山下渓斗1"},{"$f":"データ貼付!D286&データ貼付!E286","v":"中学男子円盤投"},{"$f":"データ貼付!G286+ROW()/1000000","v":1832.000288},7,{"$f":"データ貼付!A286","v":"秋季陸上"},{"$f":"データ貼付!B286","v":"網走"},{"$f":"データ貼付!C286","v":43716},{"$f":"データ貼付!F286","v":"山下渓斗"},{"$f":"データ貼付!G286","v":1832},{"$f":"データ貼付!H286","v":"決"},{"$f":"データ貼付!I286","v":"湧別中"},{"$f":"データ貼付!J286","v":1},{"$f":"データ貼付!K286","v":0}]
[286,"高校男子円盤投5",{"$f":"J289&COUNTIF($J$4:J289,J289)","v":"山谷黄太洋1"},{"$f":"データ貼付!D287&データ貼付!E287","v":"高校男子円盤投"},{"$f":"データ貼付!G287+ROW()/1000000","v":3203.0002890000001},5,{"$f":"データ貼付!A287","v":"記録会３戦"},{"$f":"データ貼付!B287","v":"網走"},{"$f":"データ貼付!C287","v":43660},{"$f":"データ貼付!F287","v":"山谷黄太洋"},{"$f":"データ貼付!G287","v":3203},{"$f":"データ貼付!H287","v":"決"},{"$f":"データ貼付!I287","v":"日体大附属高"},{"$f":"データ貼付!J287","v":3},{"$f":"データ貼付!K287","v":0}]
[287,"高校男子円盤投16",{"$f":"J290&COUNTIF($J$4:J290,J290)","v":"山内大慎1"},{"$f":"データ貼付!D288&データ貼付!E288","v":"高校男子円盤投"},{"$f":"データ貼付!G288+ROW()/1000000","v":2298.0002899999999},16,{"$f":"データ貼付!A288","v":"選手権"},{"$f":"データ貼付!B288","v":"北見"},{"$f":"データ貼付!C288","v":43597},{"$f":"データ貼付!F288","v":"山内大慎"},{"$f":"データ貼付!G288","v":2298},{"$f":"データ貼付!H288","v":"決"},{"$f":"データ貼付!I288","v":"北見柏陽高"},{"$f":"データ貼付!J288","v":2},{"$f":"データ貼付!K288","v":0}]
[288,"中学男子円盤投11",{"$f":"J291&COUNTIF($J$4:J291,J291)","v":"柴田賢1"},{"$f":"データ貼付!D289&データ貼付!E289","v":"中学男子円盤投"},{"$f":"データ貼付!G289+ROW()/1000000","v":1742.0002910000001},11,{"$f":"データ貼付!A289","v":"秋季陸上"},{"$f":"データ貼付!B289","v":"網走"},{"$f":"データ貼付!C289","v":43716},{"$f":"データ貼付!F289","v":"柴田賢"},{"$f":"データ貼付!G289","v":1742},{"$f":"データ貼付!H289","v":"決"},{"$f":"データ貼付!I289","v":"湧別中"},{"$f":"データ貼付!J289","v":1},{"$f":"データ貼付!K289","v":0}]
[289,"高校女子円盤投7",{"$f":"J292&COUNTIF($J$4:J292,J292)","v":"舟木愛公2"},{"$f":"データ貼付!D290&データ貼付!E290","v":"高校女子円盤投"},{"$f":"データ貼付!G290+ROW()/1000000","v":2090.0002920000002},7,{"$f":"データ貼付!A290","v":"高体連支部"},{"$f":"データ貼付!B290","v":"北見"},{"$f":"データ貼付!C290","v":43609},{"$f":"データ貼付!F290","v":"舟木愛公"},{"$f":"データ貼付!G290","v":2090},{"$f":"データ貼付!H290","v":"決"},{"$f":"データ貼付!I290","v":"遠軽高"},{"$f":"データ貼付!J290","v":1},{"$f":"データ貼付!K290","v":0}]
[290,"中学男子円盤投14",{"$f":"J293&COUNTIF($J$4:J293,J293)","v":"小舘櫂飛1"},{"$f":"データ貼付!D291&データ貼付!E291","v":"中学男子円盤投"},{"$f":"データ貼付!G291+ROW()/1000000","v":1282.0002930000001},14,{"$f":"データ貼付!A291","v":"中体連地区"},{"$f":"データ貼付!B291","v":"北見"},{"$f":"データ貼付!C291","v":43630},{"$f":"データ貼付!F291","v":"小舘櫂飛"},{"$f":"データ貼付!G291","v":1282},{"$f":"データ貼付!H291","v":"決"},{"$f":"データ貼付!I291","v":"北見北光中"},{"$f":"データ貼付!J291","v":2},{"$f":"データ貼付!K291","v":0}]
[291,"高校女子円盤投2",{"$f":"J294&COUNTIF($J$4:J294,J294)","v":"植村菜々2"},{"$f":"データ貼付!D292&データ貼付!E292","v":"高校女子円盤投"},{"$f":"データ貼付!G292+ROW()/1000000","v":3109.0002939999999},2,{"$f":"データ貼付!A292","v":"選手権"},{"$f":"データ貼付!B292","v":"北見"},{"$f":"データ貼付!C292","v":43597},{"$f":"データ貼付!F292","v":"植村菜々"},{"$f":"データ貼付!G292","v":3109},{"$f":"データ貼付!H292","v":"決"},{"$f":"データ貼付!I292","v":"遠軽高"},{"$f":"データ貼付!J292","v":3},{"$f":"データ貼付!K292","v":0}]
[292,"高校女子円盤投1",{"$f":"J295&COUNTIF($J$4:J295,J295)","v":"植村葉月2"},{"$f":"データ貼付!D293&データ貼付!E293","v":"高校女子円盤投"},{"$f":"データ貼付!G293+ROW()/1000000","v":3274.0002949999998},1,{"$f":"データ貼付!A293","v":"選手権"},{"$f":"データ貼付!B293","v":"北見"},{"$f":"データ貼付!C293","v":43597},{"$f":"データ貼付!F293","v":"植村葉月"},{"$f":"データ貼付!G293","v":3274},{"$f":"データ貼付!H293","v":"決"},{"$f":"データ貼付!I293","v":"湧別高"},{"$f":"データ貼付!J293","v":3},{"$f":"データ貼付!K293","v":0}]
[293,"高校女子円盤投11",{"$f":"J296&COUNTIF($J$4:J296,J296)","v":"新藤彩音2"},{"$f":"データ貼付!D294&データ貼付!E294","v":"高校女子円盤投"},{"$f":"データ貼付!G294+ROW()/1000000","v":919.00029600000005},11,{"$f":"データ貼付!A294","v":"高校新人"},{"$f":"データ貼付!B294","v":"網走"},{"$f":"データ貼付!C294","v":43701},{"$f":"データ貼付!F294","v":"新藤彩音"},{"$f":"データ貼付!G294","v":919},{"$f":"データ貼付!H294","v":"決"},{"$f":"データ貼付!I294","v":"美幌高"},{"$f":"データ貼付!J294","v":1},{"$f":"データ貼付!K294","v":0}]
[294,"中学男子円盤投12",{"$f":"J297&COUNTIF($J$4:J297,J297)","v":"森駿輝1"},{"$f":"データ貼付!D295&データ貼付!E295","v":"中学男子円盤投"},{"$f":"データ貼付!G295+ROW()/1000000","v":1472.000297},12,{"$f":"データ貼付!A295","v":"中体連地区"},{"$f":"データ貼付!B295","v":"北見"},{"$f":"データ貼付!C295","v":43630},{"$f":"データ貼付!F295","v":"森駿輝"},{"$f":"データ貼付!G295","v":1472},{"$f":"データ貼付!H295","v":"決"},{"$f":"データ貼付!I295","v":"北見北光中"},{"$f":"データ貼付!J295","v":2},{"$f":"データ貼付!K295","v":0}]
[295,"中学男子円盤投10",{"$f":"J298&COUNTIF($J$4:J298,J298)","v":"水野舜也1"},{"$f":"データ貼付!D296&データ貼付!E296","v":"中学男子円盤投"},{"$f":"データ貼付!G296+ROW()/1000000","v":1771.0002979999999},10,{"$f":"データ貼付!A296","v":"記録会４戦"},{"$f":"データ貼付!B296","v":"北見"},{"$f":"データ貼付!C296","v":43681},{"$f":"データ貼付!F296","v":"水野舜也"},{"$f":"データ貼付!G296","v":1771},{"$f":"データ貼付!H296","v":"決"},{"$f":"データ貼付!I296","v":"北見温根湯中"},{"$f":"データ貼付!J296","v":2},{"$f":"データ貼付!K296","v":0}]
[296,"高校男子円盤投29",{"$f":"J299&COUNTIF($J$4:J299,J299)","v":"清野陽喜1"},{"$f":"データ貼付!D297&データ貼付!E297","v":"高校男子円盤投"},{"$f":"データ貼付!G297+ROW()/1000000","v":1655.000299},29,{"$f":"データ貼付!A297","v":"高校新人"},{"$f":"データ貼付!B297","v":"網走"},{"$f":"データ貼付!C297","v":43701},{"$f":"データ貼付!F297","v":"清野陽喜"},{"$f":"データ貼付!G297","v":1655},{"$f":"データ貼付!H297","v":"決"},{"$f":"データ貼付!I297","v":"北見柏陽高"},{"$f":"データ貼付!J297","v":1},{"$f":"データ貼付!K297","v":0}]
[297,"中学女子円盤投5",{"$f":"J300&COUNTIF($J$4:J300,J300)","v":"西塚凛華1"},{"$f":"データ貼付!D298&データ貼付!E298","v":"中学女子円盤投"},{"$f":"データ貼付!G298+ROW()/1000000","v":1154.0002999999999},5,{"$f":"データ貼付!A298","v":"中体連地区"},{"$f":"データ貼付!B298","v":"北見"},{"$f":"データ貼付!C298","v":43630},{"$f":"データ貼付!F298","v":"西塚凛華"},{"$f":"データ貼付!G298","v":1154},{"$f":"データ貼付!H298","v":"決"},{"$f":"データ貼付!I298","v":"遠軽中"},{"$f":"データ貼付!J298","v":2},{"$f":"データ貼付!K298","v":0}]
[298,"高校男子円盤投31",{"$f":"J301&COUNTIF($J$4:J301,J301)","v":"石井丈太郎2"},{"$f":"データ貼付!D299&データ貼付!E299","v":"高校男子円盤投"},{"$f":"データ貼付!G299+ROW()/1000000","v":1420.000301},31,{"$f":"データ貼付!A299","v":"高体連支部"},{"$f":"データ貼付!B299","v":"北見"},{"$f":"データ貼付!C299","v":43609},{"$f":"データ貼付!F299","v":"石井丈太郎"},{"$f":"データ貼付!G299","v":1420},{"$f":"データ貼付!H299","v":"決"},{"$f":"データ貼付!I299","v":"清里高"},{"$f":"データ貼付!J299","v":1},{"$f":"データ貼付!K299","v":0}]
[299,"高校男子円盤投9",{"$f":"J302&COUNTIF($J$4:J302,J302)","v":"石田大洋2"},{"$f":"データ貼付!D300&データ貼付!E300","v":"高校男子円盤投"},{"$f":"データ貼付!G300+ROW()/1000000","v":2804.0003019999999},9,{"$f":"データ貼付!A300","v":"記録会第２戦"},{"$f":"データ貼付!B300","v":"網走"},{"$f":"データ貼付!C300","v":43590},{"$f":"データ貼付!F300","v":"石田大洋"},{"$f":"データ貼付!G300","v":2804},{"$f":"データ貼付!H300","v":"決"},{"$f":"データ貼付!I300","v":"遠軽高"},{"$f":"データ貼付!J300","v":3},{"$f":"データ貼付!K300","v":0}]
[300,"中学男子円盤投17",{"$f":"J303&COUNTIF($J$4:J303,J303)","v":"草薙怜冶2"},{"$f":"データ貼付!D301&データ貼付!E301","v":"中学男子円盤投"},{"$f":"データ貼付!G301+ROW()/1000000","v":1120.000303},17,{"$f":"データ貼付!A301","v":"秋季陸上"},{"$f":"データ貼付!B301","v":"網走"},{"$f":"データ貼付!C301","v":43716},{"$f":"データ貼付!F301","v":"草薙怜冶"},{"$f":"データ貼付!G301","v":1120},{"$f":"データ貼付!H301","v":"決"},{"$f":"データ貼付!I301","v":"湧別中"},{"$f":"データ貼付!J301","v":1},{"$f":"データ貼付!K301","v":0}]
[301,"高校男子円盤投20",{"$f":"J304&COUNTIF($J$4:J304,J304)","v":"大和大輝1"},{"$f":"データ貼付!D302&データ貼付!E302","v":"高校男子円盤投"},{"$f":"データ貼付!G302+ROW()/1000000","v":2245.0003040000001},20,{"$f":"データ貼付!A302","v":"秋季陸上"},{"$f":"データ貼付!B302","v":"網走"},{"$f":"データ貼付!C302","v":43716},{"$f":"データ貼付!F302","v":"大和大輝"},{"$f":"データ貼付!G302","v":2245},{"$f":"データ貼付!H302","v":"決"},{"$f":"データ貼付!I302","v":"日体大附属高"},{"$f":"データ貼付!J302","v":1},{"$f":"データ貼付!K302","v":0}]
[302,"高校男子円盤投6",{"$f":"J305&COUNTIF($J$4:J305,J305)","v":"瀧澤昭太2"},{"$f":"データ貼付!D303&データ貼付!E303","v":"高校男子円盤投"},{"$f":"データ貼付!G303+ROW()/1000000","v":3153.000305},6,{"$f":"データ貼付!A303","v":"全道高校新人"},{"$f":"データ貼付!B303","v":"函館"},{"$f":"データ貼付!C303","v":" 9/20"},{"$f":"データ貼付!F303","v":"瀧澤昭太"},{"$f":"データ貼付!G303","v":3153},{"$f":"データ貼付!H303","v":"予"},{"$f":"データ貼付!I303","v":"雄武高"},{"$f":"データ貼付!J303","v":2},{"$f":"データ貼付!K303","v":0}]
[303,"中学男子円盤投9",{"$f":"J306&COUNTIF($J$4:J306,J306)","v":"瀧澤亮太1"},{"$f":"データ貼付!D304&データ貼付!E304","v":"中学男子円盤投"},{"$f":"データ貼付!G304+ROW()/1000000","v":1777.0003059999999},9,{"$f":"データ貼付!A304","v":"中体連地区"},{"$f":"データ貼付!B304","v":"北見"},{"$f":"データ貼付!C304","v":43630},{"$f":"データ貼付!F304","v":"瀧澤亮太"},{"$f":"データ貼付!G304","v":1777},{"$f":"データ貼付!H304","v":"決"},{"$f":"データ貼付!I304","v":"雄武中"},{"$f":"データ貼付!J304","v":2},{"$f":"データ貼付!K304","v":0}]
[304,"高校男子円盤投4",{"$f":"J307&COUNTIF($J$4:J307,J307)","v":"池田尚人2"},{"$f":"データ貼付!D305&データ貼付!E305","v":"高校男子円盤投"},{"$f":"データ貼付!G305+ROW()/1000000","v":3313.0003069999998},4,{"$f":"データ貼付!A305","v":"全道高校"},{"$f":"データ貼付!B305","v":"帯広"},{"$f":"データ貼付!C305","v":43635},{"$f":"データ貼付!F305","v":"池田尚人"},{"$f":"データ貼付!G305","v":3313},{"$f":"データ貼付!H305","v":"予"},{"$f":"データ貼付!I305","v":"網走桂陽高"},{"$f":"データ貼付!J305","v":3},{"$f":"データ貼付!K305","v":0}]
[305,"高校男子円盤投22",{"$f":"J308&COUNTIF($J$4:J308,J308)","v":"中村拓斗2"},{"$f":"データ貼付!D306&データ貼付!E306","v":"高校男子円盤投"},{"$f":"データ貼付!G306+ROW()/1000000","v":2153.0003080000001},22,{"$f":"データ貼付!A306","v":"フィールド記録会"},{"$f":"データ貼付!B306","v":"網走"},{"$f":"データ貼付!C306","v":43624},{"$f":"データ貼付!F306","v":"中村拓斗"},{"$f":"データ貼付!G306","v":2153},{"$f":"データ貼付!H306","v":"決"},{"$f":"データ貼付!I306","v":"美幌高"},{"$f":"データ貼付!J306","v":3},{"$f":"データ貼付!K306","v":0}]
[306,"中学女子円盤投3",{"$f":"J309&COUNTIF($J$4:J309,J309)","v":"中島彩希1"},{"$f":"データ貼付!D307&データ貼付!E307","v":"中学女子円盤投"},{"$f":"データ貼付!G307+ROW()/1000000","v":1824.000309},3,{"$f":"データ貼付!A307","v":"記録会４戦"},{"$f":"データ貼付!B307","v":"北見"},{"$f":"データ貼付!C307","v":43681},{"$f":"データ貼付!F307","v":"中島彩希"},{"$f":"データ貼付!G307","v":1824},{"$f":"データ貼付!H307","v":"決"},{"$f":"データ貼付!I307","v":"北見常呂中"},{"$f":"データ貼付!J307","v":3},{"$f":"データ貼付!K307","v":0}]
[307,"高校男子円盤投14",{"$f":"J310&COUNTIF($J$4:J310,J310)","v":"中野柊2"},{"$f":"データ貼付!D308&データ貼付!E308","v":"高校男子円盤投"},{"$f":"データ貼付!G308+ROW()/1000000","v":2490.0003099999999},14,{"$f":"データ貼付!A308","v":"秋季陸上"},{"$f":"データ貼付!B308","v":"網走"},{"$f":"データ貼付!C308","v":43716},{"$f":"データ貼付!F308","v":"中野柊"},{"$f":"データ貼付!G308","v":2490},{"$f":"データ貼付!H308","v":"決"},{"$f":"データ貼付!I308","v":"網走桂陽高"},{"$f":"データ貼付!J308","v":2},{"$f":"データ貼付!K308","v":0}]
[308,"高校男子円盤投13",{"$f":"J311&COUNTIF($J$4:J311,J311)","v":"長廻湧丞1"},{"$f":"データ貼付!D309&データ貼付!E309","v":"高校男子円盤投"},{"$f":"データ貼付!G309+ROW()/1000000","v":2503.0003109999998},13,{"$f":"データ貼付!A309","v":"全道高校新人"},{"$f":"データ貼付!B309","v":"函館"},{"$f":"データ貼付!C309","v":" 9/20"},{"$f":"データ貼付!F309","v":"長廻湧丞"},{"$f":"データ貼付!G309","v":2503},{"$f":"データ貼付!H309","v":"予"},{"$f":"データ貼付!I309","v":"清里高"},{"$f":"データ貼付!J309","v":1},{"$f":"データ貼付!K309","v":0}]
[309,"高校男子円盤投3",{"$f":"J312&COUNTIF($J$4:J312,J312)","v":"長谷部岳斗2"},{"$f":"データ貼付!D310&データ貼付!E310","v":"高校男子円盤投"},{"$f":"データ貼付!G310+ROW()/1000000","v":3329.0003120000001},3,{"$f":"データ貼付!A310","v":"全道高校"},{"$f":"データ貼付!B310","v":"帯広"},{"$f":"データ貼付!C310","v":43635},{"$f":"データ貼付!F310","v":"長谷部岳斗"},{"$f":"データ貼付!G310","v":3329},{"$f":"データ貼付!H310","v":"予"},{"$f":"データ貼付!I310","v":"北見工業高"},{"$f":"データ貼付!J310","v":3},{"$f":"データ貼付!K310","v":0}]
[310,"高校男子円盤投8",{"$f":"J313&COUNTIF($J$4:J313,J313)","v":"田原亮佑2"},{"$f":"データ貼付!D311&データ貼付!E311","v":"高校男子円盤投"},{"$f":"データ貼付!G311+ROW()/1000000","v":2849.000313},8,{"$f":"データ貼付!A311","v":"選手権"},{"$f":"データ貼付!B311","v":"北見"},{"$f":"データ貼付!C311","v":43597},{"$f":"データ貼付!F311","v":"田原亮佑"},{"$f":"データ貼付!G311","v":2849},{"$f":"データ貼付!H311","v":"決"},{"$f":"データ貼付!I311","v":"雄武高"},{"$f":"データ貼付!J311","v":2},{"$f":"データ貼付!K311","v":0}]
[311,"高校女子円盤投3",{"$f":"J314&COUNTIF($J$4:J314,J314)","v":"奈良雅1"},{"$f":"データ貼付!D312&データ貼付!E312","v":"高校女子円盤投"},{"$f":"データ貼付!G312+ROW()/1000000","v":2946.0003139999999},3,{"$f":"データ貼付!A312","v":"高体連支部"},{"$f":"データ貼付!B312","v":"北見"},{"$f":"データ貼付!C312","v":43609},{"$f":"データ貼付!F312","v":"奈良雅"},{"$f":"データ貼付!G312","v":2946},{"$f":"データ貼付!H312","v":"決"},{"$f":"データ貼付!I312","v":"北見柏陽高"},{"$f":"データ貼付!J312","v":3},{"$f":"データ貼付!K312","v":0}]
[312,"中学女子円盤投1",{"$f":"J315&COUNTIF($J$4:J315,J315)","v":"白石光1"},{"$f":"データ貼付!D313&データ貼付!E313","v":"中学女子円盤投"},{"$f":"データ貼付!G313+ROW()/1000000","v":2476.0003149999998},1,{"$f":"データ貼付!A313","v":"記録会４戦"},{"$f":"データ貼付!B313","v":"北見"},{"$f":"データ貼付!C313","v":43681},{"$f":"データ貼付!F313","v":"白石光"},{"$f":"データ貼付!G313","v":2476},{"$f":"データ貼付!H313","v":"決"},{"$f":"データ貼付!I313","v":"北見光西中"},{"$f":"データ貼付!J313","v":3},{"$f":"データ貼付!K313","v":0}]
[313,"中学男子円盤投2",{"$f":"J316&COUNTIF($J$4:J316,J316)","v":"服部拓美1"},{"$f":"データ貼付!D314&データ貼付!E314","v":"中学男子円盤投"},{"$f":"データ貼付!G314+ROW()/1000000","v":2517.0003160000001},2,{"$f":"データ貼付!A314","v":"記録会４戦"},{"$f":"データ貼付!B314","v":"北見"},{"$f":"データ貼付!C314","v":43681},{"$f":"データ貼付!F314","v":"服部拓美"},{"$f":"データ貼付!G314","v":2517},{"$f":"データ貼付!H314","v":"決"},{"$f":"データ貼付!I314","v":"北見北光中"},{"$f":"データ貼付!J314","v":3},{"$f":"データ貼付!K314","v":0}]
[314,"中学男子円盤投13",{"$f":"J317&COUNTIF($J$4:J317,J317)","v":"豊田琉偉2"},{"$f":"データ貼付!D315&データ貼付!E315","v":"中学男子円盤投"},{"$f":"データ貼付!G315+ROW()/1000000","v":1304.000317},13,{"$f":"データ貼付!A315","v":"中体連地区"},{"$f":"データ貼付!B315","v":"北見"},{"$f":"データ貼付!C315","v":43630},{"$f":"データ貼付!F315","v":"豊田琉偉"},{"$f":"データ貼付!G315","v":1304},{"$f":"データ貼付!H315","v":"決"},{"$f":"データ貼付!I315","v":"遠軽中"},{"$f":"データ貼付!J315","v":3},{"$f":"データ貼付!K315","v":0}]
[315,"中学男子円盤投16",{"$f":"J318&COUNTIF($J$4:J318,J318)","v":"北村隼人1"},{"$f":"データ貼付!D316&データ貼付!E316","v":"中学男子円盤投"},{"$f":"データ貼付!G316+ROW()/1000000","v":1160.0003180000001},16,{"$f":"データ貼付!A316","v":"中体連地区"},{"$f":"データ貼付!B316","v":"北見"},{"$f":"データ貼付!C316","v":43630},{"$f":"データ貼付!F316","v":"北村隼人"},{"$f":"データ貼付!G316","v":1160},{"$f":"データ貼付!H316","v":"決"},{"$f":"データ貼付!I316","v":"北見北光中"},{"$f":"データ貼付!J316","v":2},{"$f":"データ貼付!K316","v":0}]
[316,"高校女子円盤投6",{"$f":"J319&COUNTIF($J$4:J319,J319)","v":"牧田あみ2"},{"$f":"データ貼付!D317&データ貼付!E317","v":"高校女子円盤投"},{"$f":"データ貼付!G317+ROW()/1000000","v":2331.0003190000002},6,{"$f":"データ貼付!A317","v":"選手権"},{"$f":"データ貼付!B317","v":"北見"},{"$f":"データ貼付!C317","v":43597},{"$f":"データ貼付!F317","v":"牧田あみ"},{"$f":"データ貼付!G317","v":2331},{"$f":"データ貼付!H317","v":"決"},{"$f":"データ貼付!I317","v":"網走南ヶ丘高"},{"$f":"データ貼付!J317","v":3},{"$f":"データ貼付!K317","v":0}]
[317,"中学男子円盤投5",{"$f":"J320&COUNTIF($J$4:J320,J320)","v":"堀田尚希1"},{"$f":"データ貼付!D318&データ貼付!E318","v":"中学男子円盤投"},{"$f":"データ貼付!G318+ROW()/1000000","v":1993.0003200000001},5,{"$f":"データ貼付!A318","v":"記録会第２戦"},{"$f":"データ貼付!B318","v":"網走"},{"$f":"データ貼付!C318","v":43590},{"$f":"データ貼付!F318","v":"堀田尚希"},{"$f":"データ貼付!G318","v":1993},{"$f":"データ貼付!H318","v":"決"},{"$f":"データ貼付!I318","v":"北見高栄中"},{"$f":"データ貼付!J318","v":3},{"$f":"データ貼付!K318","v":0}]
[318,"一般男子円盤投1",{"$f":"J321&COUNTIF($J$4:J321,J321)","v":"本間勝人1"},{"$f":"データ貼付!D319&データ貼付!E319","v":"一般男子円盤投"},{"$f":"データ貼付!G319+ROW()/1000000","v":3675.000321},1,{"$f":"データ貼付!A319","v":"秋季陸上"},{"$f":"データ貼付!B319","v":"網走"},{"$f":"データ貼付!C319","v":43716},{"$f":"データ貼付!F319","v":"本間勝人"},{"$f":"データ貼付!G319","v":3675},{"$f":"データ貼付!H319","v":"決"},{"$f":"データ貼付!I319","v":"ｵﾎｰﾂｸAC"},{"$f":"データ貼付!J319","v":"般"},{"$f":"データ貼付!K319","v":0}]
[319,"中学男子円盤投15",{"$f":"J322&COUNTIF($J$4:J322,J322)","v":"木内健太郎2"},{"$f":"データ貼付!D320&データ貼付!E320","v":"中学男子円盤投"},{"$f":"データ貼付!G320+ROW()/1000000","v":1257.0003220000001},15,{"$f":"データ貼付!A320","v":"中学新人"},{"$f":"データ貼付!B320","v":"網走"},{"$f":"データ貼付!C320","v":43701},{"$f":"データ貼付!F320","v":"木内健太郎"},{"$f":"データ貼付!G320","v":1257},{"$f":"データ貼付!H320","v":"決"},{"$f":"データ貼付!I320","v":"遠軽中"},{"$f":"データ貼付!J320","v":2},{"$f":"データ貼付!K320","v":0}]
[320,"高校女子円盤投5",{"$f":"J323&COUNTIF($J$4:J323,J323)","v":"木幡遥香2"},{"$f":"データ貼付!D321&データ貼付!E321","v":"高校女子円盤投"},{"$f":"データ貼付!G321+ROW()/1000000","v":2502.0003230000002},5,{"$f":"データ貼付!A321","v":"高体連支部"},{"$f":"データ貼付!B321","v":"北見"},{"$f":"データ貼付!C321","v":43609},{"$f":"データ貼付!F321","v":"木幡遥香"},{"$f":"データ貼付!G321","v":2502},{"$f":"データ貼付!H321","v":"決"},{"$f":"データ貼付!I321","v":"網走南ヶ丘高"},{"$f":"データ貼付!J321","v":2},{"$f":"データ貼付!K321","v":0}]
[321,"中学男子円盤投4",{"$f":"J324&COUNTIF($J$4:J324,J324)","v":"野口万里1"},{"$f":"データ貼付!D322&データ貼付!E322","v":"中学男子円盤投"},{"$f":"データ貼付!G322+ROW()/1000000","v":2032.0003240000001},4,{"$f":"データ貼付!A322","v":"中体連地区"},{"$f":"データ貼付!B322","v":"北見"},{"$f":"データ貼付!C322","v":43630},{"$f":"データ貼付!F322","v":"野口万里"},{"$f":"データ貼付!G322","v":2032},{"$f":"データ貼付!H322","v":"決"},{"$f":"データ貼付!I322","v":"雄武中"},{"$f":"データ貼付!J322","v":3},{"$f":"データ貼付!K322","v":0}]
[322,{"$f":"D325&F325","v":"高校男子円盤投10"},{"$f":"J325&COUNTIF($J$4:J325,J325)","v":"野中涼汰2"},{"$f":"データ貼付!D323&データ貼付!E323","v":"高校男子円盤投"},{"$f":"データ貼付!G323+ROW()/1000000","v":2789.000325},{"$f":"SUMPRODUCT(($D$4:$D$903=D325)*($E$4:$E$903>E325))+1","v":10},{"$f":"データ貼付!A323","v":"高体連支部"},{"$f":"データ貼付!B323","v":"北見"},{"$f":"データ貼付!C323","v":43609},{"$f":"データ貼付!F323","v":"野中涼汰"},{"$f":"データ貼付!G323","v":2789},{"$f":"データ貼付!H323","v":"決"},{"$f":"データ貼付!I323","v":"北見柏陽高"},{"$f":"データ貼付!J323","v":3},{"$f":"データ貼付!K323","v":0}]
[323,"中学男子円盤投1",{"$f":"J326&COUNTIF($J$4:J326,J326)","v":"鈴木康世1"},{"$f":"データ貼付!D324&データ貼付!E324","v":"中学男子円盤投"},{"$f":"データ貼付!G324+ROW()/1000000","v":2523.0003259999999},1,{"$f":"データ貼付!A324","v":"フィールド記録会"},{"$f":"データ貼付!B324","v":"網走"},{"$f":"データ貼付!C324","v":43624},{"$f":"データ貼付!F324","v":"鈴木康世"},{"$f":"データ貼付!G324","v":2523},{"$f":"データ貼付!H324","v":"決"},{"$f":"データ貼付!I324","v":"北見高栄中"},{"$f":"データ貼付!J324","v":3},{"$f":"データ貼付!K324","v":0}]
[324,"高校女子円盤投8",{"$f":"J327&COUNTIF($J$4:J327,J327)","v":"髙橋愛唯2"},{"$f":"データ貼付!D325&データ貼付!E325","v":"高校女子円盤投"},{"$f":"データ貼付!G325+ROW()/1000000","v":2066.0003270000002},8,{"$f":"データ貼付!A325","v":"秋季陸上"},{"$f":"データ貼付!B325","v":"網走"},{"$f":"データ貼付!C325","v":43716},{"$f":"データ貼付!F325","v":"髙橋愛唯"},{"$f":"データ貼付!G325","v":2066},{"$f":"データ貼付!H325","v":"決"},{"$f":"データ貼付!I325","v":"遠軽高"},{"$f":"データ貼付!J325","v":2},{"$f":"データ貼付!K325","v":0}]
[325,"高校男子円盤投26",{"$f":"J328&COUNTIF($J$4:J328,J328)","v":"髙嶋祐太2"},{"$f":"データ貼付!D326&データ貼付!E326","v":"高校男子円盤投"},{"$f":"データ貼付!G326+ROW()/1000000","v":1852.0003280000001},26,{"$f":"データ貼付!A326","v":"高校新人"},{"$f":"データ貼付!B326","v":"網走"},{"$f":"データ貼付!C326","v":43701},{"$f":"データ貼付!F326","v":"髙嶋祐太"},{"$f":"データ貼付!G326","v":1852},{"$f":"データ貼付!H326","v":"決"},{"$f":"データ貼付!I326","v":"遠軽高"},{"$f":"データ貼付!J326","v":2},{"$f":"データ貼付!K326","v":0}]
[326,"高校男子三段跳18",{"$f":"J329&COUNTIF($J$4:J329,J329)","v":"阿部優斗2"},{"$f":"データ貼付!D327&データ貼付!E327","v":"高校男子三段跳"},{"$f":"データ貼付!G327+ROW()/1000000","v":1069.000329},18,{"$f":"データ貼付!A327","v":"高体連支部"},{"$f":"データ貼付!B327","v":"北見"},{"$f":"データ貼付!C327","v":43610},{"$f":"データ貼付!F327","v":"阿部優斗"},{"$f":"データ貼付!G327","v":1069},{"$f":"データ貼付!H327","v":"決"},{"$f":"データ貼付!I327","v":"遠軽高"},{"$f":"データ貼付!J327","v":2},{"$f":"データ貼付!K327","v":1.7}]
[327,"高校女子三段跳4",{"$f":"J330&COUNTIF($J$4:J330,J330)","v":"伊藤果蓮1"},{"$f":"データ貼付!D328&データ貼付!E328","v":"高校女子三段跳"},{"$f":"データ貼付!G328+ROW()/1000000","v":1018.00033},4,{"$f":"データ貼付!A328","v":"高体連支部"},{"$f":"データ貼付!B328","v":"北見"},{"$f":"データ貼付!C328","v":43610},{"$f":"データ貼付!F328","v":"伊藤果蓮"},{"$f":"データ貼付!G328","v":1018},{"$f":"データ貼付!H328","v":"決"},{"$f":"データ貼付!I328","v":"網走南ヶ丘高"},{"$f":"データ貼付!J328","v":2},{"$f":"データ貼付!K328","v":1.3}]
[328,"一般男子三段跳4",{"$f":"J331&COUNTIF($J$4:J331,J331)","v":"伊藤千颯1"},{"$f":"データ貼付!D329&データ貼付!E329","v":"一般男子三段跳"},{"$f":"データ貼付!G329+ROW()/1000000","v":1272.000331},4,{"$f":"データ貼付!A329","v":"道選手権"},{"$f":"データ貼付!B329","v":"網走"},{"$f":"データ貼付!C329","v":43688},{"$f":"データ貼付!F329","v":"伊藤千颯"},{"$f":"データ貼付!G329","v":1272},{"$f":"データ貼付!H329","v":"決"},{"$f":"データ貼付!I329","v":"北教大岩見沢"},{"$f":"データ貼付!J329","v":1},{"$f":"データ貼付!K329","v":1.6}]
[329,"高校男子三段跳7",{"$f":"J332&COUNTIF($J$4:J332,J332)","v":"伊藤拓摩1"},{"$f":"データ貼付!D330&データ貼付!E330","v":"高校男子三段跳"},{"$f":"データ貼付!G330+ROW()/1000000","v":1251.0003320000001},7,{"$f":"データ貼付!A330","v":"道選手権"},{"$f":"データ貼付!B330","v":"網走"},{"$f":"データ貼付!C330","v":43688},{"$f":"データ貼付!F330","v":"伊藤拓摩"},{"$f":"データ貼付!G330","v":1251},{"$f":"データ貼付!H330","v":"決"},{"$f":"データ貼付!I330","v":"網走南ヶ丘高"},{"$f":"データ貼付!J330","v":2},{"$f":"データ貼付!K330","v":2.4}]
[330,"高校男子三段跳3",{"$f":"J333&COUNTIF($J$4:J333,J333)","v":"伊藤拓磨1"},{"$f":"データ貼付!D331&データ貼付!E331","v":"高校男子三段跳"},{"$f":"データ貼付!G331+ROW()/1000000","v":1359.000333},3,{"$f":"データ貼付!A331","v":"全道高校新人"},{"$f":"データ貼付!B331","v":"函館"},{"$f":"データ貼付!C331","v":" 9/20"},{"$f":"データ貼付!F331","v":"伊藤拓磨"},{"$f":"データ貼付!G331","v":1359},{"$f":"データ貼付!H331","v":"決"},{"$f":"データ貼付!I331","v":"網走南ｹ丘高"},{"$f":"データ貼付!J331","v":2},{"$f":"データ貼付!K331","v":1.9}]
[331,"高校男子三段跳2",{"$f":"J334&COUNTIF($J$4:J334,J334)","v":"臼井貴将2"},{"$f":"データ貼付!D332&データ貼付!E332","v":"高校男子三段跳"},{"$f":"データ貼付!G332+ROW()/1000000","v":1360.0003340000001},2,{"$f":"データ貼付!A332","v":"全道高校"},{"$f":"データ貼付!B332","v":"帯広"},{"$f":"データ貼付!C332","v":43637},{"$f":"データ貼付!F332","v":"臼井貴将"},{"$f":"データ貼付!G332","v":1360},{"$f":"データ貼付!H332","v":"決"},{"$f":"データ貼付!I332","v":"網走南ヶ丘高"},{"$f":"データ貼付!J332","v":2},{"$f":"データ貼付!K332","v":1.5}]
[332,"高校女子三段跳2",{"$f":"J335&COUNTIF($J$4:J335,J335)","v":"塩田悦子1"},{"$f":"データ貼付!D333&データ貼付!E333","v":"高校女子三段跳"},{"$f":"データ貼付!G333+ROW()/1000000","v":1089.000335},2,{"$f":"データ貼付!A333","v":"道選手権"},{"$f":"データ貼付!B333","v":"網走"},{"$f":"データ貼付!C333","v":43688},{"$f":"データ貼付!F333","v":"塩田悦子"},{"$f":"データ貼付!G333","v":1089},{"$f":"データ貼付!H333","v":"決"},{"$f":"データ貼付!I333","v":"網走南ヶ丘高"},{"$f":"データ貼付!J333","v":2},{"$f":"データ貼付!K333","v":1.8}]
[333,"一般男子三段跳6",{"$f":"J336&COUNTIF($J$4:J336,J336)","v":"荻原慧2"},{"$f":"データ貼付!D334&データ貼付!E334","v":"一般男子三段跳"},{"$f":"データ貼付!G334+ROW()/1000000","v":1150.0003360000001},6,{"$f":"データ貼付!A334","v":"フィールド記録会"},{"$f":"データ貼付!B334","v":"網走"},{"$f":"データ貼付!C334","v":43624},{"$f":"データ貼付!F334","v":"荻原慧"},{"$f":"データ貼付!G334","v":1150},{"$f":"データ貼付!H334","v":"決"},{"$f":"データ貼付!I334","v":"北見工大"},{"$f":"データ貼付!J334","v":"般"},{"$f":"データ貼付!K334","v":1.7}]
[334,"高校男子三段跳12",{"$f":"J337&COUNTIF($J$4:J337,J337)","v":"葛西光雄1"},{"$f":"データ貼付!D335&データ貼付!E335","v":"高校男子三段跳"},{"$f":"データ貼付!G335+ROW()/1000000","v":1171.0003369999999},12,{"$f":"データ貼付!A335","v":"高体連支部"},{"$f":"データ貼付!B335","v":"北見"},{"$f":"データ貼付!C335","v":43610},{"$f":"データ貼付!F335","v":"葛西光雄"},{"$f":"データ貼付!G335","v":1171},{"$f":"データ貼付!H335","v":"決"},{"$f":"データ貼付!I335","v":"日体大附属高"},{"$f":"データ貼付!J335","v":3},{"$f":"データ貼付!K335","v":1.6}]
[335,"高校男子三段跳13",{"$f":"J338&COUNTIF($J$4:J338,J338)","v":"株田貴敏1"},{"$f":"データ貼付!D336&データ貼付!E336","v":"高校男子三段跳"},{"$f":"データ貼付!G336+ROW()/1000000","v":1139.0003380000001},13,{"$f":"データ貼付!A336","v":"高校新人"},{"$f":"データ貼付!B336","v":"網走"},{"$f":"データ貼付!C336","v":43701},{"$f":"データ貼付!F336","v":"株田貴敏"},{"$f":"データ貼付!G336","v":1139},{"$f":"データ貼付!H336","v":"決"},{"$f":"データ貼付!I336","v":"網走桂陽高"},{"$f":"データ貼付!J336","v":1},{"$f":"データ貼付!K336","v":0.1}]
[336,"一般男子三段跳1",{"$f":"J339&COUNTIF($J$4:J339,J339)","v":"金子航太1"},{"$f":"データ貼付!D337&データ貼付!E337","v":"一般男子三段跳"},{"$f":"データ貼付!G337+ROW()/1000000","v":1334.0003389999999},1,{"$f":"データ貼付!A337","v":"秋季陸上"},{"$f":"データ貼付!B337","v":"網走"},{"$f":"データ貼付!C337","v":43716},{"$f":"データ貼付!F337","v":"金子航太"},{"$f":"データ貼付!G337","v":1334},{"$f":"データ貼付!H337","v":"決"},{"$f":"データ貼付!I337","v":"ｵﾎｰﾂｸAC"},{"$f":"データ貼付!J337","v":"般"},{"$f":"データ貼付!K337","v":-1.3}]
[337,"高校男子三段跳9",{"$f":"J340&COUNTIF($J$4:J340,J340)","v":"原田雲向1"},{"$f":"データ貼付!D338&データ貼付!E338","v":"高校男子三段跳"},{"$f":"データ貼付!G338+ROW()/1000000","v":1199.0003400000001},9,{"$f":"データ貼付!A338","v":"全道高校新人"},{"$f":"データ貼付!B338","v":"函館"},{"$f":"データ貼付!C338","v":" 9/20"},{"$f":"データ貼付!F338","v":"原田雲向"},{"$f":"データ貼付!G338","v":1199},{"$f":"データ貼付!H338","v":"予"},{"$f":"データ貼付!I338","v":"女満別高"},{"$f":"データ貼付!J338","v":2},{"$f":"データ貼付!K338","v":4}]
[338,"高校男子三段跳11",{"$f":"J341&COUNTIF($J$4:J341,J341)","v":"工藤夢叶1"},{"$f":"データ貼付!D339&データ貼付!E339","v":"高校男子三段跳"},{"$f":"データ貼付!G339+ROW()/1000000","v":1176.0003409999999},11,{"$f":"データ貼付!A339","v":"全道高校新人"},{"$f":"データ貼付!B339","v":"函館"},{"$f":"データ貼付!C339","v":" 9/20"},{"$f":"データ貼付!F339","v":"工藤夢叶"},{"$f":"データ貼付!G339","v":1176},{"$f":"データ貼付!H339","v":"予"},{"$f":"データ貼付!I339","v":"北見工高"},{"$f":"データ貼付!J339","v":2},{"$f":"データ貼付!K339","v":2.5}]
[339,"高校女子三段跳8",{"$f":"J342&COUNTIF($J$4:J342,J342)","v":"合田未夢1"},{"$f":"データ貼付!D340&データ貼付!E340","v":"高校女子三段跳"},{"$f":"データ貼付!G340+ROW()/1000000","v":948.00034200000005},8,{"$f":"データ貼付!A340","v":"国体予選"},{"$f":"データ貼付!B340","v":"室蘭"},{"$f":"データ貼付!C340","v":43667},{"$f":"データ貼付!F340","v":"合田未夢"},{"$f":"データ貼付!G340","v":948},{"$f":"データ貼付!H340","v":"決"},{"$f":"データ貼付!I340","v":"北見北斗高"},{"$f":"データ貼付!J340","v":2},{"$f":"データ貼付!K340","v":3.3}]
[340,"高校女子三段跳1",{"$f":"J343&COUNTIF($J$4:J343,J343)","v":"根田りりん1"},{"$f":"データ貼付!D341&データ貼付!E341","v":"高校女子三段跳"},{"$f":"データ貼付!G341+ROW()/1000000","v":1136.0003429999999},1,{"$f":"データ貼付!A341","v":"選手権"},{"$f":"データ貼付!B341","v":"北見"},{"$f":"データ貼付!C341","v":43596},{"$f":"データ貼付!F341","v":"根田りりん"},{"$f":"データ貼付!G341","v":1136},{"$f":"データ貼付!H341","v":"決"},{"$f":"データ貼付!I341","v":"網走南ヶ丘高"},{"$f":"データ貼付!J341","v":3},{"$f":"データ貼付!K341","v":2.4}]
[341,"高校男子三段跳14",{"$f":"J344&COUNTIF($J$4:J344,J344)","v":"佐々木快音1"},{"$f":"データ貼付!D342&データ貼付!E342","v":"高校男子三段跳"},{"$f":"データ貼付!G342+ROW()/1000000","v":1114.000344},14,{"$f":"データ貼付!A342","v":"高校新人"},{"$f":"データ貼付!B342","v":"網走"},{"$f":"データ貼付!C342","v":43701},{"$f":"データ貼付!F342","v":"佐々木快音"},{"$f":"データ貼付!G342","v":1114},{"$f":"データ貼付!H342","v":"決"},{"$f":"データ貼付!I342","v":"北見北斗高"},{"$f":"データ貼付!J342","v":1},{"$f":"データ貼付!K342","v":-1.7}]
[342,"高校男子三段跳4",{"$f":"J345&COUNTIF($J$4:J345,J345)","v":"佐藤涼太1"},{"$f":"データ貼付!D343&データ貼付!E343","v":"高校男子三段跳"},{"$f":"データ貼付!G343+ROW()/1000000","v":1304.0003449999999},4,{"$f":"データ貼付!A343","v":"全道高校"},{"$f":"データ貼付!B343","v":"帯広"},{"$f":"データ貼付!C343","v":43637},{"$f":"データ貼付!F343","v":"佐藤涼太"},{"$f":"データ貼付!G343","v":1304},{"$f":"データ貼付!H343","v":"予"},{"$f":"データ貼付!I343","v":"網走桂陽高"},{"$f":"データ貼付!J343","v":3},{"$f":"データ貼付!K343","v":-0.2}]
[343,"高校男子三段跳1",{"$f":"J346&COUNTIF($J$4:J346,J346)","v":"山本凛太郎1"},{"$f":"データ貼付!D344&データ貼付!E344","v":"高校男子三段跳"},{"$f":"データ貼付!G344+ROW()/1000000","v":1399.000346},1,{"$f":"データ貼付!A344","v":"全道高校"},{"$f":"データ貼付!B344","v":"帯広"},{"$f":"データ貼付!C344","v":43637},{"$f":"データ貼付!F344","v":"山本凛太郎"},{"$f":"データ貼付!G344","v":1399},{"$f":"データ貼付!H344","v":"決"},{"$f":"データ貼付!I344","v":"網走南ヶ丘高"},{"$f":"データ貼付!J344","v":3},{"$f":"データ貼付!K344","v":0.8}]
[344,"高校男子三段跳5",{"$f":"J347&COUNTIF($J$4:J347,J347)","v":"山本凜太郎1"},{"$f":"データ貼付!D345&データ貼付!E345","v":"高校男子三段跳"},{"$f":"データ貼付!G345+ROW()/1000000","v":1300.0003469999999},5,{"$f":"データ貼付!A345","v":"高体連支部"},{"$f":"データ貼付!B345","v":"北見"},{"$f":"データ貼付!C345","v":43610},{"$f":"データ貼付!F345","v":"山本凜太郎"},{"$f":"データ貼付!G345","v":1300},{"$f":"データ貼付!H345","v":"決"},{"$f":"データ貼付!I345","v":"網走南ヶ丘高"},{"$f":"データ貼付!J345","v":3},{"$f":"データ貼付!K345","v":2.8}]
[345,"高校男子三段跳10",{"$f":"J348&COUNTIF($J$4:J348,J348)","v":"小川慶士1"},{"$f":"データ貼付!D346&データ貼付!E346","v":"高校男子三段跳"},{"$f":"データ貼付!G346+ROW()/1000000","v":1184.000348},10,{"$f":"データ貼付!A346","v":"記録会４戦"},{"$f":"データ貼付!B346","v":"北見"},{"$f":"データ貼付!C346","v":43681},{"$f":"データ貼付!F346","v":"小川慶士"},{"$f":"データ貼付!G346","v":1184},{"$f":"データ貼付!H346","v":"決"},{"$f":"データ貼付!I346","v":"紋別高"},{"$f":"データ貼付!J346","v":2},{"$f":"データ貼付!K346","v":1.4}]
[346,"一般男子三段跳5",{"$f":"J349&COUNTIF($J$4:J349,J349)","v":"松田侑也1"},{"$f":"データ貼付!D347&データ貼付!E347","v":"一般男子三段跳"},{"$f":"データ貼付!G347+ROW()/1000000","v":1195.0003489999999},5,{"$f":"データ貼付!A347","v":"フィールド記録会"},{"$f":"データ貼付!B347","v":"網走"},{"$f":"データ貼付!C347","v":43624},{"$f":"データ貼付!F347","v":"松田侑也"},{"$f":"データ貼付!G347","v":1195},{"$f":"データ貼付!H347","v":"決"},{"$f":"データ貼付!I347","v":"北見工大"},{"$f":"データ貼付!J347","v":"般"},{"$f":"データ貼付!K347","v":2.2999999999999998}]
[347,"高校男子三段跳16",{"$f":"J350&COUNTIF($J$4:J350,J350)","v":"菖蒲功起1"},{"$f":"データ貼付!D348&データ貼付!E348","v":"高校男子三段跳"},{"$f":"データ貼付!G348+ROW()/1000000","v":1095.00035},16,{"$f":"データ貼付!A348","v":"記録会４戦"},{"$f":"データ貼付!B348","v":"北見"},{"$f":"データ貼付!C348","v":43681},{"$f":"データ貼付!F348","v":"菖蒲功起"},{"$f":"データ貼付!G348","v":1095},{"$f":"データ貼付!H348","v":"決"},{"$f":"データ貼付!I348","v":"北見北斗高"},{"$f":"データ貼付!J348","v":1},{"$f":"データ貼付!K348","v":1.3}]
[348,"高校女子三段跳6",{"$f":"J351&COUNTIF($J$4:J351,J351)","v":"曽根美紅2"},{"$f":"データ貼付!D349&データ貼付!E349","v":"高校女子三段跳"},{"$f":"データ貼付!G349+ROW()/1000000","v":989.00035100000002},6,{"$f":"データ貼付!A349","v":"秋季陸上"},{"$f":"データ貼付!B349","v":"網走"},{"$f":"データ貼付!C349","v":43716},{"$f":"データ貼付!F349","v":"曽根美紅"},{"$f":"データ貼付!G349","v":989},{"$f":"データ貼付!H349","v":"決"},{"$f":"データ貼付!I349","v":"網走南ヶ丘高"},{"$f":"データ貼付!J349","v":1},{"$f":"データ貼付!K349","v":-0.4}]
[349,"高校男子三段跳17",{"$f":"J352&COUNTIF($J$4:J352,J352)","v":"中村優斗1"},{"$f":"データ貼付!D350&データ貼付!E350","v":"高校男子三段跳"},{"$f":"データ貼付!G350+ROW()/1000000","v":1091.000352},17,{"$f":"データ貼付!A350","v":"記録会４戦"},{"$f":"データ貼付!B350","v":"北見"},{"$f":"データ貼付!C350","v":43681},{"$f":"データ貼付!F350","v":"中村優斗"},{"$f":"データ貼付!G350","v":1091},{"$f":"データ貼付!H350","v":"決"},{"$f":"データ貼付!I350","v":"北見商業高"},{"$f":"データ貼付!J350","v":2},{"$f":"データ貼付!K350","v":1.1000000000000001}]
[350,"一般男子三段跳2",{"$f":"J353&COUNTIF($J$4:J353,J353)","v":"長野蒼人1"},{"$f":"データ貼付!D351&データ貼付!E351","v":"一般男子三段跳"},{"$f":"データ貼付!G351+ROW()/1000000","v":1324.0003529999999},2,{"$f":"データ貼付!A351","v":"道選手権"},{"$f":"データ貼付!B351","v":"網走"},{"$f":"データ貼付!C351","v":43688},{"$f":"データ貼付!F351","v":"長野蒼人"},{"$f":"データ貼付!G351","v":1324},{"$f":"データ貼付!H351","v":"決"},{"$f":"データ貼付!I351","v":"北翔大"},{"$f":"データ貼付!J351","v":1},{"$f":"データ貼付!K351","v":1.6}]
[351,"高校男子三段跳15",{"$f":"J354&COUNTIF($J$4:J354,J354)","v":"板垣航平1"},{"$f":"データ貼付!D352&データ貼付!E352","v":"高校男子三段跳"},{"$f":"データ貼付!G352+ROW()/1000000","v":1109.000354},15,{"$f":"データ貼付!A352","v":"高体連支部"},{"$f":"データ貼付!B352","v":"北見"},{"$f":"データ貼付!C352","v":43610},{"$f":"データ貼付!F352","v":"板垣航平"},{"$f":"データ貼付!G352","v":1109},{"$f":"データ貼付!H352","v":"決"},{"$f":"データ貼付!I352","v":"北見柏陽高"},{"$f":"データ貼付!J352","v":2},{"$f":"データ貼付!K352","v":1.9}]
[352,"一般男子三段跳3",{"$f":"J355&COUNTIF($J$4:J355,J355)","v":"板垣颯平1"},{"$f":"データ貼付!D353&データ貼付!E353","v":"一般男子三段跳"},{"$f":"データ貼付!G353+ROW()/1000000","v":1277.0003549999999},3,{"$f":"データ貼付!A353","v":"選手権"},{"$f":"データ貼付!B353","v":"北見"},{"$f":"データ貼付!C353","v":43596},{"$f":"データ貼付!F353","v":"板垣颯平"},{"$f":"データ貼付!G353","v":1277},{"$f":"データ貼付!H353","v":"決"},{"$f":"データ貼付!I353","v":"東農大ｵﾎｰﾂｸ"},{"$f":"データ貼付!J353","v":"般"},{"$f":"データ貼付!K353","v":0.2}]
[353,"高校女子三段跳7",{"$f":"J356&COUNTIF($J$4:J356,J356)","v":"本田桃子1"},{"$f":"データ貼付!D354&データ貼付!E354","v":"高校女子三段跳"},{"$f":"データ貼付!G354+ROW()/1000000","v":974.00035600000001},7,{"$f":"データ貼付!A354","v":"記録会第２戦"},{"$f":"データ貼付!B354","v":"網走"},{"$f":"データ貼付!C354","v":43590},{"$f":"データ貼付!F354","v":"本田桃子"},{"$f":"データ貼付!G354","v":974},{"$f":"データ貼付!H354","v":"決"},{"$f":"データ貼付!I354","v":"遠軽高"},{"$f":"データ貼付!J354","v":3},{"$f":"データ貼付!K354","v":1.5}]
[354,"高校女子三段跳5",{"$f":"J357&COUNTIF($J$4:J357,J357)","v":"矢萩雪奈2"},{"$f":"データ貼付!D355&データ貼付!E355","v":"高校女子三段跳"},{"$f":"データ貼付!G355+ROW()/1000000","v":1002.000357},5,{"$f":"データ貼付!A355","v":"高体連支部"},{"$f":"データ貼付!B355","v":"北見"},{"$f":"データ貼付!C355","v":43610},{"$f":"データ貼付!F355","v":"矢萩雪奈"},{"$f":"データ貼付!G355","v":1002},{"$f":"データ貼付!H355","v":"決"},{"$f":"データ貼付!I355","v":"遠軽高"},{"$f":"データ貼付!J355","v":3},{"$f":"データ貼付!K355","v":0.7}]
[355,"高校女子三段跳3",{"$f":"J358&COUNTIF($J$4:J358,J358)","v":"林ちひろ1"},{"$f":"データ貼付!D356&データ貼付!E356","v":"高校女子三段跳"},{"$f":"データ貼付!G356+ROW()/1000000","v":1026.000358},3,{"$f":"データ貼付!A356","v":"記録会第２戦"},{"$f":"データ貼付!B356","v":"網走"},{"$f":"データ貼付!C356","v":43590},{"$f":"データ貼付!F356","v":"林ちひろ"},{"$f":"データ貼付!G356","v":1026},{"$f":"データ貼付!H356","v":"決"},{"$f":"データ貼付!I356","v":"北見緑陵高"},{"$f":"データ貼付!J356","v":1},{"$f":"データ貼付!K356","v":2.4}]
[356,"高校男子三段跳6",{"$f":"J359&COUNTIF($J$4:J359,J359)","v":"六渡和馬2"},{"$f":"データ貼付!D357&データ貼付!E357","v":"高校男子三段跳"},{"$f":"データ貼付!G357+ROW()/1000000","v":1293.0003589999999},6,{"$f":"データ貼付!A357","v":"全道高校新人"},{"$f":"データ貼付!B357","v":"函館"},{"$f":"データ貼付!C357","v":" 9/20"},{"$f":"データ貼付!F357","v":"六渡和馬"},{"$f":"データ貼付!G357","v":1293},{"$f":"データ貼付!H357","v":"予"},{"$f":"データ貼付!I357","v":"北見北斗高"},{"$f":"データ貼付!J357","v":1},{"$f":"データ貼付!K357","v":1.5}]
[357,"高校男子三段跳8",{"$f":"J360&COUNTIF($J$4:J360,J360)","v":"髙橋悠希1"},{"$f":"データ貼付!D358&データ貼付!E358","v":"高校男子三段跳"},{"$f":"データ貼付!G358+ROW()/1000000","v":1205.00036},8,{"$f":"データ貼付!A358","v":"全道高校"},{"$f":"データ貼付!B358","v":"帯広"},{"$f":"データ貼付!C358","v":43637},{"$f":"データ貼付!F358","v":"髙橋悠希"},{"$f":"データ貼付!G358","v":1205},{"$f":"データ貼付!H358","v":"予"},{"$f":"データ貼付!I358","v":"北見北斗高"},{"$f":"データ貼付!J358","v":2},{"$f":"データ貼付!K358","v":0.7}]
[358,"小学男子走幅跳3",{"$f":"J361&COUNTIF($J$4:J361,J361)","v":"阿部空晴2"},{"$f":"データ貼付!D359&データ貼付!E359","v":"小学男子走幅跳"},{"$f":"データ貼付!G359+ROW()/1000000","v":451.000361},3,{"$f":"データ貼付!A359","v":"全道小学"},{"$f":"データ貼付!B359","v":"札幌"},{"$f":"データ貼付!C359","v":43661},{"$f":"データ貼付!F359","v":"阿部空晴"},{"$f":"データ貼付!G359","v":451},{"$f":"データ貼付!H359","v":"決"},{"$f":"データ貼付!I359","v":"美幌RC"},{"$f":"データ貼付!J359","v":6},{"$f":"データ貼付!K359","v":2.2999999999999998}]
[359,"小学男子走幅跳64",{"$f":"J362&COUNTIF($J$4:J362,J362)","v":"阿部奏佑1"},{"$f":"データ貼付!D360&データ貼付!E360","v":"小学男子走幅跳"},{"$f":"データ貼付!G360+ROW()/1000000","v":3.6200000000000002E-4},64,{"$f":"データ貼付!A360","v":"小学記録会"},{"$f":"データ貼付!B360","v":"北見"},{"$f":"データ貼付!C360","v":43736},{"$f":"データ貼付!F360","v":"阿部奏佑"},{"$f":"データ貼付!G360","v":0},{"$f":"データ貼付!H360","v":"決"},{"$f":"データ貼付!I360","v":"ｵﾎｰﾂｸｷｯｽﾞ"},{"$f":"データ貼付!J360","v":3},{"$f":"データ貼付!K360","v":0}]
[360,"中学男子走幅跳81",{"$f":"J363&COUNTIF($J$4:J363,J363)","v":"阿部唯人1"},{"$f":"データ貼付!D361&データ貼付!E361","v":"中学男子走幅跳"},{"$f":"データ貼付!G361+ROW()/1000000","v":303.00036299999999},81,{"$f":"データ貼付!A361","v":"秋季陸上"},{"$f":"データ貼付!B361","v":"網走"},{"$f":"データ貼付!C361","v":43716},{"$f":"データ貼付!F361","v":"阿部唯人"},{"$f":"データ貼付!G361","v":303},{"$f":"データ貼付!H361","v":"決"},{"$f":"データ貼付!I361","v":"大空東藻琴中"},{"$f":"データ貼付!J361","v":1},{"$f":"データ貼付!K361","v":-0.5}]
[361,"高校男子走幅跳50",{"$f":"J364&COUNTIF($J$4:J364,J364)","v":"阿部優斗3"},{"$f":"データ貼付!D362&データ貼付!E362","v":"高校男子走幅跳"},{"$f":"データ貼付!G362+ROW()/1000000","v":470.00036399999999},50,{"$f":"データ貼付!A362","v":"選手権"},{"$f":"データ貼付!B362","v":"北見"},{"$f":"データ貼付!C362","v":43597},{"$f":"データ貼付!F362","v":"阿部優斗"},{"$f":"データ貼付!G362","v":470},{"$f":"データ貼付!H362","v":"決"},{"$f":"データ貼付!I362","v":"遠軽高"},{"$f":"データ貼付!J362","v":2},{"$f":"データ貼付!K362","v":2.2000000000000002}]
[362,"高校男子走幅跳4",{"$f":"J365&COUNTIF($J$4:J365,J365)","v":"阿部麗1"},{"$f":"データ貼付!D363&データ貼付!E363","v":"高校男子走幅跳"},{"$f":"データ貼付!G363+ROW()/1000000","v":627.00036499999999},4,{"$f":"データ貼付!A363","v":"高体連支部"},{"$f":"データ貼付!B363","v":"北見"},{"$f":"データ貼付!C363","v":43608},{"$f":"データ貼付!F363","v":"阿部麗"},{"$f":"データ貼付!G363","v":627},{"$f":"データ貼付!H363","v":"決"},{"$f":"データ貼付!I363","v":"遠軽高"},{"$f":"データ貼付!J363","v":2},{"$f":"データ貼付!K363","v":0.1}]
[363,"小学男子走幅跳58",{"$f":"J366&COUNTIF($J$4:J366,J366)","v":"安井一晴2"},{"$f":"データ貼付!D364&データ貼付!E364","v":"小学男子走幅跳"},{"$f":"データ貼付!G364+ROW()/1000000","v":252.00036600000001},58,{"$f":"データ貼付!A364","v":"記録会第１戦"},{"$f":"データ貼付!B364","v":"北見"},{"$f":"データ貼付!C364","v":43583},{"$f":"データ貼付!F364","v":"安井一晴"},{"$f":"データ貼付!G364","v":252},{"$f":"データ貼付!H364","v":"決"},{"$f":"データ貼付!I364","v":"ｵﾎｰﾂｸｷｯｽﾞ"},{"$f":"データ貼付!J364","v":4},{"$f":"データ貼付!K364","v":0}]
[364,"中学女子走幅跳11",{"$f":"J367&COUNTIF($J$4:J367,J367)","v":"安部沙彩1"},{"$f":"データ貼付!D365&データ貼付!E365","v":"中学女子走幅跳"},{"$f":"データ貼付!G365+ROW()/1000000","v":435.00036699999998},11,{"$f":"データ貼付!A365","v":"フィールド記録会"},{"$f":"データ貼付!B365","v":"網走"},{"$f":"データ貼付!C365","v":43624},{"$f":"データ貼付!F365","v":"安部沙彩"},{"$f":"データ貼付!G365","v":435},{"$f":"データ貼付!H365","v":"決"},{"$f":"データ貼付!I365","v":"網走第四中"},{"$f":"データ貼付!J365","v":3},{"$f":"データ貼付!K365","v":2.8}]
[365,"小学男子走幅跳36",{"$f":"J368&COUNTIF($J$4:J368,J368)","v":"伊藤悦大2"},{"$f":"データ貼付!D366&データ貼付!E366","v":"小学男子走幅跳"},{"$f":"データ貼付!G366+ROW()/1000000","v":335.00036799999998},36,{"$f":"データ貼付!A366","v":"小学記録会"},{"$f":"データ貼付!B366","v":"北見"},{"$f":"データ貼付!C366","v":43736},{"$f":"データ貼付!F366","v":"伊藤悦大"},{"$f":"データ貼付!G366","v":335},{"$f":"データ貼付!H366","v":"決"},{"$f":"データ貼付!I366","v":"ｵﾎｰﾂｸｷｯｽﾞ"},{"$f":"データ貼付!J366","v":4},{"$f":"データ貼付!K366","v":0}]
[366,"高校女子走幅跳7",{"$f":"J369&COUNTIF($J$4:J369,J369)","v":"伊藤果蓮2"},{"$f":"データ貼付!D367&データ貼付!E367","v":"高校女子走幅跳"},{"$f":"データ貼付!G367+ROW()/1000000","v":488.00036899999998},7,{"$f":"データ貼付!A367","v":"記録会第１戦"},{"$f":"データ貼付!B367","v":"北見"},{"$f":"データ貼付!C367","v":43583},{"$f":"データ貼付!F367","v":"伊藤果蓮"},{"$f":"データ貼付!G367","v":488},{"$f":"データ貼付!H367","v":"決"},{"$f":"データ貼付!I367","v":"網走南ヶ丘高"},{"$f":"データ貼付!J367","v":2},{"$f":"データ貼付!K367","v":1.1000000000000001}]
[367,"高校男子走幅跳15",{"$f":"J370&COUNTIF($J$4:J370,J370)","v":"伊藤拓摩2"},{"$f":"データ貼付!D368&データ貼付!E368","v":"高校男子走幅跳"},{"$f":"データ貼付!G368+ROW()/1000000","v":584.00036999999998},15,{"$f":"データ貼付!A368","v":"記録会４戦"},{"$f":"データ貼付!B368","v":"北見"},{"$f":"データ貼付!C368","v":43681},{"$f":"データ貼付!F368","v":"伊藤拓摩"},{"$f":"データ貼付!G368","v":584},{"$f":"データ貼付!H368","v":"決"},{"$f":"データ貼付!I368","v":"網走南ヶ丘高"},{"$f":"データ貼付!J368","v":2},{"$f":"データ貼付!K368","v":-0.9}]
[368,"高校男子走幅跳6",{"$f":"J371&COUNTIF($J$4:J371,J371)","v":"伊藤拓磨2"},{"$f":"データ貼付!D369&データ貼付!E369","v":"高校男子走幅跳"},{"$f":"データ貼付!G369+ROW()/1000000","v":622.00037099999997},6,{"$f":"データ貼付!A369","v":"高体連支部"},{"$f":"データ貼付!B369","v":"北見"},{"$f":"データ貼付!C369","v":43608},{"$f":"データ貼付!F369","v":"伊藤拓磨"},{"$f":"データ貼付!G369","v":622},{"$f":"データ貼付!H369","v":"決"},{"$f":"データ貼付!I369","v":"網走南ヶ丘高"},{"$f":"データ貼付!J369","v":2},{"$f":"データ貼付!K369","v":-0.3}]
[369,"中学女子走幅跳36",{"$f":"J372&COUNTIF($J$4:J372,J372)","v":"伊藤椿2"},{"$f":"データ貼付!D370&データ貼付!E370","v":"中学女子走幅跳"},{"$f":"データ貼付!G370+ROW()/1000000","v":365.00037200000003},36,{"$f":"データ貼付!A370","v":"記録会第２戦"},{"$f":"データ貼付!B370","v":"網走"},{"$f":"データ貼付!C370","v":43590},{"$f":"データ貼付!F370","v":"伊藤椿"},{"$f":"データ貼付!G370","v":365},{"$f":"データ貼付!H370","v":"決"},{"$f":"データ貼付!I370","v":"湧別中"},{"$f":"データ貼付!J370","v":2},{"$f":"データ貼付!K370","v":1.6}]
[370,"小学男子走幅跳16",{"$f":"J373&COUNTIF($J$4:J373,J373)","v":"伊藤榮音2"},{"$f":"データ貼付!D371&データ貼付!E371","v":"小学男子走幅跳"},{"$f":"データ貼付!G371+ROW()/1000000","v":391.00037300000002},16,{"$f":"データ貼付!A371","v":"小学記録会"},{"$f":"データ貼付!B371","v":"北見"},{"$f":"データ貼付!C371","v":43736},{"$f":"データ貼付!F371","v":"伊藤榮音"},{"$f":"データ貼付!G371","v":391},{"$f":"データ貼付!H371","v":"決"},{"$f":"データ貼付!I371","v":"ｵﾎｰﾂｸｷｯｽﾞ"},{"$f":"データ貼付!J371","v":6},{"$f":"データ貼付!K371","v":0}]
[371,"高校男子走幅跳39",{"$f":"J374&COUNTIF($J$4:J374,J374)","v":"伊奈翔大2"},{"$f":"データ貼付!D372&データ貼付!E372","v":"高校男子走幅跳"},{"$f":"データ貼付!G372+ROW()/1000000","v":516.00037399999997},39,{"$f":"データ貼付!A372","v":"高体連支部"},{"$f":"データ貼付!B372","v":"北見"},{"$f":"データ貼付!C372","v":43608},{"$f":"データ貼付!F372","v":"伊奈翔大"},{"$f":"データ貼付!G372","v":516},{"$f":"データ貼付!H372","v":"決"},{"$f":"データ貼付!I372","v":"北見柏陽高"},{"$f":"データ貼付!J372","v":1},{"$f":"データ貼付!K372","v":1}]
[372,"高校男子走幅跳47",{"$f":"J375&COUNTIF($J$4:J375,J375)","v":"伊能颯汰1"},{"$f":"データ貼付!D373&データ貼付!E373","v":"高校男子走幅跳"},{"$f":"データ貼付!G373+ROW()/1000000","v":476.00037500000002},47,{"$f":"データ貼付!A373","v":"秋季陸上"},{"$f":"データ貼付!B373","v":"網走"},{"$f":"データ貼付!C373","v":43715},{"$f":"データ貼付!F373","v":"伊能颯汰"},{"$f":"データ貼付!G373","v":476},{"$f":"データ貼付!H373","v":"決"},{"$f":"データ貼付!I373","v":"湧別高"},{"$f":"データ貼付!J373","v":1},{"$f":"データ貼付!K373","v":-0.9}]
[373,"中学女子走幅跳15",{"$f":"J376&COUNTIF($J$4:J376,J376)","v":"井戸仁生1"},{"$f":"データ貼付!D374&データ貼付!E374","v":"中学女子走幅跳"},{"$f":"データ貼付!G374+ROW()/1000000","v":432.00037600000002},15,{"$f":"データ貼付!A374","v":"通信陸上"},{"$f":"データ貼付!B374","v":"網走"},{"$f":"データ貼付!C374","v":43645},{"$f":"データ貼付!F374","v":"井戸仁生"},{"$f":"データ貼付!G374","v":432},{"$f":"データ貼付!H374","v":"決"},{"$f":"データ貼付!I374","v":"北見北中"},{"$f":"データ貼付!J374","v":3},{"$f":"データ貼付!K374","v":3.7}]
[374,"小学女子走幅跳7",{"$f":"J377&COUNTIF($J$4:J377,J377)","v":"井上茜深1"},{"$f":"データ貼付!D375&データ貼付!E375","v":"小学女子走幅跳"},{"$f":"データ貼付!G375+ROW()/1000000","v":371.00037700000001},7,{"$f":"データ貼付!A375","v":"全道小学"},{"$f":"データ貼付!B375","v":"札幌"},{"$f":"データ貼付!C375","v":43661},{"$f":"データ貼付!F375","v":"井上茜深"},{"$f":"データ貼付!G375","v":371},{"$f":"データ貼付!H375","v":"決"},{"$f":"データ貼付!I375","v":"常呂陸上少年団"},{"$f":"データ貼付!J375","v":6},{"$f":"データ貼付!K375","v":0.7}]
[375,"高校男子走幅跳53",{"$f":"J378&COUNTIF($J$4:J378,J378)","v":"井上蒼汰1"},{"$f":"データ貼付!D376&データ貼付!E376","v":"高校男子走幅跳"},{"$f":"データ貼付!G376+ROW()/1000000","v":437.00037800000001},53,{"$f":"データ貼付!A376","v":"高校新人"},{"$f":"データ貼付!B376","v":"網走"},{"$f":"データ貼付!C376","v":43700},{"$f":"データ貼付!F376","v":"井上蒼汰"},{"$f":"データ貼付!G376","v":437},{"$f":"データ貼付!H376","v":"決"},{"$f":"データ貼付!I376","v":"日体大附属高"},{"$f":"データ貼付!J376","v":1},{"$f":"データ貼付!K376","v":2.7}]
[376,"小学男子走幅跳42",{"$f":"J379&COUNTIF($J$4:J379,J379)","v":"井田悠仁2"},{"$f":"データ貼付!D377&データ貼付!E377","v":"小学男子走幅跳"},{"$f":"データ貼付!G377+ROW()/1000000","v":311.00037900000001},42,{"$f":"データ貼付!A377","v":"小学生ｵﾎｰﾂｸ"},{"$f":"データ貼付!B377","v":"北見"},{"$f":"データ貼付!C377","v":43632},{"$f":"データ貼付!F377","v":"井田悠仁"},{"$f":"データ貼付!G377","v":311},{"$f":"データ貼付!H377","v":"決"},{"$f":"データ貼付!I377","v":"ｵﾎｰﾂｸｷｯｽﾞ"},{"$f":"データ貼付!J377","v":5},{"$f":"データ貼付!K377","v":0}]
[377,"中学男子走幅跳70",{"$f":"J380&COUNTIF($J$4:J380,J380)","v":"稲垣璃久2"},{"$f":"データ貼付!D378&データ貼付!E378","v":"中学男子走幅跳"},{"$f":"データ貼付!G378+ROW()/1000000","v":349.00038000000001},70,{"$f":"データ貼付!A378","v":"中体連地区"},{"$f":"データ貼付!B378","v":"北見"},{"$f":"データ貼付!C378","v":43630},{"$f":"データ貼付!F378","v":"稲垣璃久"},{"$f":"データ貼付!G378","v":349},{"$f":"データ貼付!H378","v":"予"},{"$f":"データ貼付!I378","v":"北見北中"},{"$f":"データ貼付!J378","v":2},{"$f":"データ貼付!K378","v":5}]
[378,"小学男子走幅跳46",{"$f":"J381&COUNTIF($J$4:J381,J381)","v":"浦田侍暖2"},{"$f":"データ貼付!D379&データ貼付!E379","v":"小学男子走幅跳"},{"$f":"データ貼付!G379+ROW()/1000000","v":301.000381},46,{"$f":"データ貼付!A379","v":"小学記録会"},{"$f":"データ貼付!B379","v":"北見"},{"$f":"データ貼付!C379","v":43736},{"$f":"データ貼付!F379","v":"浦田侍暖"},{"$f":"データ貼付!G379","v":301},{"$f":"データ貼付!H379","v":"決"},{"$f":"データ貼付!I379","v":"ｵﾎｰﾂｸｷｯｽﾞ"},{"$f":"データ貼付!J379","v":3},{"$f":"データ貼付!K379","v":0}]
[379,"小学男子走幅跳6",{"$f":"J382&COUNTIF($J$4:J382,J382)","v":"浦田誉人2"},{"$f":"データ貼付!D380&データ貼付!E380","v":"小学男子走幅跳"},{"$f":"データ貼付!G380+ROW()/1000000","v":415.000382},6,{"$f":"データ貼付!A380","v":"小学記録会"},{"$f":"データ貼付!B380","v":"北見"},{"$f":"データ貼付!C380","v":43736},{"$f":"データ貼付!F380","v":"浦田誉人"},{"$f":"データ貼付!G380","v":415},{"$f":"データ貼付!H380","v":"決"},{"$f":"データ貼付!I380","v":"美幌RC"},{"$f":"データ貼付!J380","v":5},{"$f":"データ貼付!K380","v":0}]
[380,"中学女子走幅跳3",{"$f":"J383&COUNTIF($J$4:J383,J383)","v":"遠藤りあら1"},{"$f":"データ貼付!D381&データ貼付!E381","v":"中学女子走幅跳"},{"$f":"データ貼付!G381+ROW()/1000000","v":471.000383},3,{"$f":"データ貼付!A381","v":"中体連地区"},{"$f":"データ貼付!B381","v":"北見"},{"$f":"データ貼付!C381","v":43631},{"$f":"データ貼付!F381","v":"遠藤りあら"},{"$f":"データ貼付!G381","v":471},{"$f":"データ貼付!H381","v":"決"},{"$f":"データ貼付!I381","v":"網走第二中"},{"$f":"データ貼付!J381","v":3},{"$f":"データ貼付!K381","v":1.3}]
[381,"高校女子走幅跳9",{"$f":"J384&COUNTIF($J$4:J384,J384)","v":"塩田悦子2"},{"$f":"データ貼付!D382&データ貼付!E382","v":"高校女子走幅跳"},{"$f":"データ貼付!G382+ROW()/1000000","v":477.000384},9,{"$f":"データ貼付!A382","v":"記録会第２戦"},{"$f":"データ貼付!B382","v":"網走"},{"$f":"データ貼付!C382","v":43590},{"$f":"データ貼付!F382","v":"塩田悦子"},{"$f":"データ貼付!G382","v":477},{"$f":"データ貼付!H382","v":"決"},{"$f":"データ貼付!I382","v":"網走南ヶ丘高"},{"$f":"データ貼付!J382","v":2},{"$f":"データ貼付!K382","v":2.2999999999999998}]
[382,"中学女子走幅跳35",{"$f":"J385&COUNTIF($J$4:J385,J385)","v":"奥静香1"},{"$f":"データ貼付!D383&データ貼付!E383","v":"中学女子走幅跳"},{"$f":"データ貼付!G383+ROW()/1000000","v":370.00038499999999},35,{"$f":"データ貼付!A383","v":"秋季陸上"},{"$f":"データ貼付!B383","v":"網走"},{"$f":"データ貼付!C383","v":43715},{"$f":"データ貼付!F383","v":"奥静香"},{"$f":"データ貼付!G383","v":370},{"$f":"データ貼付!H383","v":"決"},{"$f":"データ貼付!I383","v":"大空東藻琴中"},{"$f":"データ貼付!J383","v":2},{"$f":"データ貼付!K383","v":1.3}]
[383,"高校男子走幅跳33",{"$f":"J386&COUNTIF($J$4:J386,J386)","v":"岡崎凌大1"},{"$f":"データ貼付!D384&データ貼付!E384","v":"高校男子走幅跳"},{"$f":"データ貼付!G384+ROW()/1000000","v":523.00038600000005},33,{"$f":"データ貼付!A384","v":"高体連支部"},{"$f":"データ貼付!B384","v":"北見"},{"$f":"データ貼付!C384","v":43608},{"$f":"データ貼付!F384","v":"岡崎凌大"},{"$f":"データ貼付!G384","v":523},{"$f":"データ貼付!H384","v":"決"},{"$f":"データ貼付!I384","v":"清里高"},{"$f":"データ貼付!J384","v":3},{"$f":"データ貼付!K384","v":2.2999999999999998}]
[384,"小学男子走幅跳1",{"$f":"J387&COUNTIF($J$4:J387,J387)","v":"加藤遼太1"},{"$f":"データ貼付!D385&データ貼付!E385","v":"小学男子走幅跳"},{"$f":"データ貼付!G385+ROW()/1000000","v":471.00038699999999},1,{"$f":"データ貼付!A385","v":"小学記録会"},{"$f":"データ貼付!B385","v":"北見"},{"$f":"データ貼付!C385","v":43736},{"$f":"データ貼付!F385","v":"加藤遼太"},{"$f":"データ貼付!G385","v":471},{"$f":"データ貼付!H385","v":"決"},{"$f":"データ貼付!I385","v":"ｵﾎｰﾂｸｷｯｽﾞ"},{"$f":"データ貼付!J385","v":6},{"$f":"データ貼付!K385","v":0}]
[385,"小学女子走幅跳11",{"$f":"J388&COUNTIF($J$4:J388,J388)","v":"河端美桜1"},{"$f":"データ貼付!D386&データ貼付!E386","v":"小学女子走幅跳"},{"$f":"データ貼付!G386+ROW()/1000000","v":344.00038799999999},11,{"$f":"データ貼付!A386","v":"小学生ｵﾎｰﾂｸ"},{"$f":"データ貼付!B386","v":"北見"},{"$f":"データ貼付!C386","v":43632},{"$f":"データ貼付!F386","v":"河端美桜"},{"$f":"データ貼付!G386","v":344},{"$f":"データ貼付!H386","v":"決"},{"$f":"データ貼付!I386","v":"訓子府陸上少年団"},{"$f":"データ貼付!J386","v":4},{"$f":"データ貼付!K386","v":0}]
[386,{"$f":"D389&F389","v":"中学男子走幅跳42"},{"$f":"J389&COUNTIF($J$4:J389,J389)","v":"河部純平1"},{"$f":"データ貼付!D387&データ貼付!E387","v":"中学男子走幅跳"},{"$f":"データ貼付!G387+ROW()/1000000","v":423.00038899999998},{"$f":"SUMPRODUCT(($D$4:$D$903=D389)*($E$4:$E$903>E389))+1","v":42},{"$f":"データ貼付!A387","v":"中体連地区"},{"$f":"データ貼付!B387","v":"北見"},{"$f":"データ貼付!C387","v":43630},{"$f":"データ貼付!F387","v":"河部純平"},{"$f":"データ貼付!G387","v":423},{"$f":"データ貼付!H387","v":"予"},{"$f":"データ貼付!I387","v":"斜里中"},{"$f":"データ貼付!J387","v":3},{"$f":"データ貼付!K387","v":3.1}]
[387,"中学女子走幅跳4",{"$f":"J390&COUNTIF($J$4:J390,J390)","v":"改元希1"},{"$f":"データ貼付!D388&データ貼付!E388","v":"中学女子走幅跳"},{"$f":"データ貼付!G388+ROW()/1000000","v":458.00038999999998},4,{"$f":"データ貼付!A388","v":"中学新人"},{"$f":"データ貼付!B388","v":"網走"},{"$f":"データ貼付!C388","v":43701},{"$f":"データ貼付!F388","v":"改元希"},{"$f":"データ貼付!G388","v":458},{"$f":"データ貼付!H388","v":"決"},{"$f":"データ貼付!I388","v":"網走第一中"},{"$f":"データ貼付!J388","v":2},{"$f":"データ貼付!K388","v":2.6}]
[388,"中学女子走幅跳31",{"$f":"J391&COUNTIF($J$4:J391,J391)","v":"角みちる1"},{"$f":"データ貼付!D389&データ貼付!E389","v":"中学女子走幅跳"},{"$f":"データ貼付!G389+ROW()/1000000","v":382.00039099999998},31,{"$f":"データ貼付!A389","v":"中学新人"},{"$f":"データ貼付!B389","v":"網走"},{"$f":"データ貼付!C389","v":43701},{"$f":"データ貼付!F389","v":"角みちる"},{"$f":"データ貼付!G389","v":382},{"$f":"データ貼付!H389","v":"決"},{"$f":"データ貼付!I389","v":"北見東陵中"},{"$f":"データ貼付!J389","v":1},{"$f":"データ貼付!K389","v":2.7}]
[389,"小学男子走幅跳28",{"$f":"J392&COUNTIF($J$4:J392,J392)","v":"角田蓮2"},{"$f":"データ貼付!D390&データ貼付!E390","v":"小学男子走幅跳"},{"$f":"データ貼付!G390+ROW()/1000000","v":350.00039199999998},28,{"$f":"データ貼付!A390","v":"記録会第１戦"},{"$f":"データ貼付!B390","v":"北見"},{"$f":"データ貼付!C390","v":43583},{"$f":"データ貼付!F390","v":"角田蓮"},{"$f":"データ貼付!G390","v":350},{"$f":"データ貼付!H390","v":"決"},{"$f":"データ貼付!I390","v":"美幌RC"},{"$f":"データ貼付!J390","v":6},{"$f":"データ貼付!K390","v":0}]
[390,"高校女子走幅跳13",{"$f":"J393&COUNTIF($J$4:J393,J393)","v":"掛川原凜1"},{"$f":"データ貼付!D391&データ貼付!E391","v":"高校女子走幅跳"},{"$f":"データ貼付!G391+ROW()/1000000","v":414.00039299999997},13,{"$f":"データ貼付!A391","v":"秋季陸上"},{"$f":"データ貼付!B391","v":"網走"},{"$f":"データ貼付!C391","v":43715},{"$f":"データ貼付!F391","v":"掛川原凜"},{"$f":"データ貼付!G391","v":414},{"$f":"データ貼付!H391","v":"決"},{"$f":"データ貼付!I391","v":"雄武高"},{"$f":"データ貼付!J391","v":1},{"$f":"データ貼付!K391","v":1.6}]
[391,"中学女子走幅跳10",{"$f":"J394&COUNTIF($J$4:J394,J394)","v":"笠原優来1"},{"$f":"データ貼付!D392&データ貼付!E392","v":"中学女子走幅跳"},{"$f":"データ貼付!G392+ROW()/1000000","v":435.00039400000003},10,{"$f":"データ貼付!A392","v":"秋季陸上"},{"$f":"データ貼付!B392","v":"網走"},{"$f":"データ貼付!C392","v":43715},{"$f":"データ貼付!F392","v":"笠原優来"},{"$f":"データ貼付!G392","v":435},{"$f":"データ貼付!H392","v":"決"},{"$f":"データ貼付!I392","v":"北見北中"},{"$f":"データ貼付!J392","v":2},{"$f":"データ貼付!K392","v":1.2}]
[392,"高校男子走幅跳23",{"$f":"J395&COUNTIF($J$4:J395,J395)","v":"葛西光雄2"},{"$f":"データ貼付!D393&データ貼付!E393","v":"高校男子走幅跳"},{"$f":"データ貼付!G393+ROW()/1000000","v":551.00039500000003},23,{"$f":"データ貼付!A393","v":"高体連支部"},{"$f":"データ貼付!B393","v":"北見"},{"$f":"データ貼付!C393","v":43608},{"$f":"データ貼付!F393","v":"葛西光雄"},{"$f":"データ貼付!G393","v":551},{"$f":"データ貼付!H393","v":"決"},{"$f":"データ貼付!I393","v":"日体大附属高"},{"$f":"データ貼付!J393","v":3},{"$f":"データ貼付!K393","v":0}]
[393,"高校男子走幅跳51",{"$f":"J396&COUNTIF($J$4:J396,J396)","v":"葛尾蒼空3"},{"$f":"データ貼付!D394&データ貼付!E394","v":"高校男子走幅跳"},{"$f":"データ貼付!G394+ROW()/1000000","v":465.00039600000002},51,{"$f":"データ貼付!A394","v":"高校新人"},{"$f":"データ貼付!B394","v":"網走"},{"$f":"データ貼付!C394","v":43700},{"$f":"データ貼付!F394","v":"葛尾蒼空"},{"$f":"データ貼付!G394","v":465},{"$f":"データ貼付!H394","v":"決"},{"$f":"データ貼付!I394","v":"網走南ヶ丘高"},{"$f":"データ貼付!J394","v":1},{"$f":"データ貼付!K394","v":2.5}]
[394,"高校男子走幅跳19",{"$f":"J397&COUNTIF($J$4:J397,J397)","v":"株田貴敏2"},{"$f":"データ貼付!D395&データ貼付!E395","v":"高校男子走幅跳"},{"$f":"データ貼付!G395+ROW()/1000000","v":559.00039700000002},19,{"$f":"データ貼付!A395","v":"高体連支部"},{"$f":"データ貼付!B395","v":"北見"},{"$f":"データ貼付!C395","v":43608},{"$f":"データ貼付!F395","v":"株田貴敏"},{"$f":"データ貼付!G395","v":559},{"$f":"データ貼付!H395","v":"決"},{"$f":"データ貼付!I395","v":"網走桂陽高"},{"$f":"データ貼付!J395","v":1},{"$f":"データ貼付!K395","v":1.1000000000000001}]
[395,"小学男子走幅跳9",{"$f":"J398&COUNTIF($J$4:J398,J398)","v":"鎌田亜津煌1"},{"$f":"データ貼付!D396&データ貼付!E396","v":"小学男子走幅跳"},{"$f":"データ貼付!G396+ROW()/1000000","v":410.00039800000002},9,{"$f":"データ貼付!A396","v":"小学記録会"},{"$f":"データ貼付!B396","v":"北見"},{"$f":"データ貼付!C396","v":43736},{"$f":"データ貼付!F396","v":"鎌田亜津煌"},{"$f":"データ貼付!G396","v":410},{"$f":"データ貼付!H396","v":"決"},{"$f":"データ貼付!I396","v":"知床斜里RC"},{"$f":"データ貼付!J396","v":4},{"$f":"データ貼付!K396","v":0}]
[396,"中学女子走幅跳40",{"$f":"J399&COUNTIF($J$4:J399,J399)","v":"鎌田絢萌1"},{"$f":"データ貼付!D397&データ貼付!E397","v":"中学女子走幅跳"},{"$f":"データ貼付!G397+ROW()/1000000","v":356.00039900000002},40,{"$f":"データ貼付!A397","v":"フィールド記録会"},{"$f":"データ貼付!B397","v":"網走"},{"$f":"データ貼付!C397","v":43624},{"$f":"データ貼付!F397","v":"鎌田絢萌"},{"$f":"データ貼付!G397","v":356},{"$f":"データ貼付!H397","v":"決"},{"$f":"データ貼付!I397","v":"斜里中"},{"$f":"データ貼付!J397","v":1},{"$f":"データ貼付!K397","v":3.2}]
[397,"小学男子走幅跳63",{"$f":"J400&COUNTIF($J$4:J400,J400)","v":"刈屋柊晴3"},{"$f":"データ貼付!D398&データ貼付!E398","v":"小学男子走幅跳"},{"$f":"データ貼付!G398+ROW()/1000000","v":227.00040000000001},63,{"$f":"データ貼付!A398","v":"選手権"},{"$f":"データ貼付!B398","v":"北見"},{"$f":"データ貼付!C398","v":43597},{"$f":"データ貼付!F398","v":"刈屋柊晴"},{"$f":"データ貼付!G398","v":227},{"$f":"データ貼付!H398","v":"決"},{"$f":"データ貼付!I398","v":"ｵﾎｰﾂｸｷｯｽﾞ"},{"$f":"データ貼付!J398","v":4},{"$f":"データ貼付!K398","v":0}]
[398,"中学男子走幅跳5",{"$f":"J401&COUNTIF($J$4:J401,J401)","v":"関根至恩1"},{"$f":"データ貼付!D399&データ貼付!E399","v":"中学男子走幅跳"},{"$f":"データ貼付!G399+ROW()/1000000","v":580.00040100000001},5,{"$f":"データ貼付!A399","v":"中体連地区"},{"$f":"データ貼付!B399","v":"北見"},{"$f":"データ貼付!C399","v":43631},{"$f":"データ貼付!F399","v":"関根至恩"},{"$f":"データ貼付!G399","v":580},{"$f":"データ貼付!H399","v":"決"},{"$f":"データ貼付!I399","v":"北見北光中"},{"$f":"データ貼付!J399","v":3},{"$f":"データ貼付!K399","v":2}]
[399,"小学男子走幅跳43",{"$f":"J402&COUNTIF($J$4:J402,J402)","v":"丸山翔生1"},{"$f":"データ貼付!D400&データ貼付!E400","v":"小学男子走幅跳"},{"$f":"データ貼付!G400+ROW()/1000000","v":310.00040200000001},43,{"$f":"データ貼付!A400","v":"小学記録会"},{"$f":"データ貼付!B400","v":"北見"},{"$f":"データ貼付!C400","v":43736},{"$f":"データ貼付!F400","v":"丸山翔生"},{"$f":"データ貼付!G400","v":310},{"$f":"データ貼付!H400","v":"決"},{"$f":"データ貼付!I400","v":"ｵﾎｰﾂｸｷｯｽﾞ"},{"$f":"データ貼付!J400","v":4},{"$f":"データ貼付!K400","v":0}]
[400,"中学男子走幅跳73",{"$f":"J403&COUNTIF($J$4:J403,J403)","v":"岩原右京1"},{"$f":"データ貼付!D401&データ貼付!E401","v":"中学男子走幅跳"},{"$f":"データ貼付!G401+ROW()/1000000","v":346.00040300000001},73,{"$f":"データ貼付!A401","v":"中体連地区"},{"$f":"データ貼付!B401","v":"北見"},{"$f":"データ貼付!C401","v":43630},{"$f":"データ貼付!F401","v":"岩原右京"},{"$f":"データ貼付!G401","v":346},{"$f":"データ貼付!H401","v":"予"},{"$f":"データ貼付!I401","v":"大空女満別中"},{"$f":"データ貼付!J401","v":1},{"$f":"データ貼付!K401","v":1.7}]
[401,"小学男子走幅跳35",{"$f":"J404&COUNTIF($J$4:J404,J404)","v":"岩崎鼓太郎1"},{"$f":"データ貼付!D402&データ貼付!E402","v":"小学男子走幅跳"},{"$f":"データ貼付!G402+ROW()/1000000","v":339.000404},35,{"$f":"データ貼付!A402","v":"記録会第１戦"},{"$f":"データ貼付!B402","v":"北見"},{"$f":"データ貼付!C402","v":43583},{"$f":"データ貼付!F402","v":"岩崎鼓太郎"},{"$f":"データ貼付!G402","v":339},{"$f":"データ貼付!H402","v":"決"},{"$f":"データ貼付!I402","v":"ｵﾎｰﾂｸｷｯｽﾞ"},{"$f":"データ貼付!J402","v":6},{"$f":"データ貼付!K402","v":0}]
[402,"小学女子走幅跳24",{"$f":"J405&COUNTIF($J$4:J405,J405)","v":"岩村蒼依1"},{"$f":"データ貼付!D403&データ貼付!E403","v":"小学女子走幅跳"},{"$f":"データ貼付!G403+ROW()/1000000","v":279.000405},24,{"$f":"データ貼付!A403","v":"小学記録会"},{"$f":"データ貼付!B403","v":"北見"},{"$f":"データ貼付!C403","v":43736},{"$f":"データ貼付!F403","v":"岩村蒼依"},{"$f":"データ貼付!G403","v":279},{"$f":"データ貼付!H403","v":"決"},{"$f":"データ貼付!I403","v":"知床斜里RC"},{"$f":"データ貼付!J403","v":6},{"$f":"データ貼付!K403","v":0}]
[403,"高校男子走幅跳13",{"$f":"J406&COUNTIF($J$4:J406,J406)","v":"喜多駿介1"},{"$f":"データ貼付!D404&データ貼付!E404","v":"高校男子走幅跳"},{"$f":"データ貼付!G404+ROW()/1000000","v":594.000406},13,{"$f":"データ貼付!A404","v":"高体連支部"},{"$f":"データ貼付!B404","v":"北見"},{"$f":"データ貼付!C404","v":43608},{"$f":"データ貼付!F404","v":"喜多駿介"},{"$f":"データ貼付!G404","v":594},{"$f":"データ貼付!H404","v":"決"},{"$f":"データ貼付!I404","v":"紋別高"},{"$f":"データ貼付!J404","v":3},{"$f":"データ貼付!K404","v":0.6}]
[404,"高校男子走幅跳55",{"$f":"J407&COUNTIF($J$4:J407,J407)","v":"亀山結渡1"},{"$f":"データ貼付!D405&データ貼付!E405","v":"高校男子走幅跳"},{"$f":"データ貼付!G405+ROW()/1000000","v":424.000407},55,{"$f":"データ貼付!A405","v":"記録会第２戦"},{"$f":"データ貼付!B405","v":"網走"},{"$f":"データ貼付!C405","v":43590},{"$f":"データ貼付!F405","v":"亀山結渡"},{"$f":"データ貼付!G405","v":424},{"$f":"データ貼付!H405","v":"決"},{"$f":"データ貼付!I405","v":"日体大附属高"},{"$f":"データ貼付!J405","v":2},{"$f":"データ貼付!K405","v":1.8}]
[405,"中学男子走幅跳55",{"$f":"J408&COUNTIF($J$4:J408,J408)","v":"亀田怜苑1"},{"$f":"データ貼付!D406&データ貼付!E406","v":"中学男子走幅跳"},{"$f":"データ貼付!G406+ROW()/1000000","v":392.00040799999999},55,{"$f":"データ貼付!A406","v":"中体連地区"},{"$f":"データ貼付!B406","v":"北見"},{"$f":"データ貼付!C406","v":43630},{"$f":"データ貼付!F406","v":"亀田怜苑"},{"$f":"データ貼付!G406","v":392},{"$f":"データ貼付!H406","v":"予"},{"$f":"データ貼付!I406","v":"北見小泉中"},{"$f":"データ貼付!J406","v":1},{"$f":"データ貼付!K406","v":0.7}]
[406,"高校男子走幅跳57",{"$f":"J409&COUNTIF($J$4:J409,J409)","v":"菊地一輝1"},{"$f":"データ貼付!D407&データ貼付!E407","v":"高校男子走幅跳"},{"$f":"データ貼付!G407+ROW()/1000000","v":416.00040899999999},57,{"$f":"データ貼付!A407","v":"フィールド記録会"},{"$f":"データ貼付!B407","v":"網走"},{"$f":"データ貼付!C407","v":43624},{"$f":"データ貼付!F407","v":"菊地一輝"},{"$f":"データ貼付!G407","v":416},{"$f":"データ貼付!H407","v":"決"},{"$f":"データ貼付!I407","v":"遠軽高"},{"$f":"データ貼付!J407","v":1},{"$f":"データ貼付!K407","v":-1}]
[407,"高校男子走幅跳49",{"$f":"J410&COUNTIF($J$4:J410,J410)","v":"菊地孝太3"},{"$f":"データ貼付!D408&データ貼付!E408","v":"高校男子走幅跳"},{"$f":"データ貼付!G408+ROW()/1000000","v":471.00040999999999},49,{"$f":"データ貼付!A408","v":"高校新人"},{"$f":"データ貼付!B408","v":"網走"},{"$f":"データ貼付!C408","v":43700},{"$f":"データ貼付!F408","v":"菊地孝太"},{"$f":"データ貼付!G408","v":471},{"$f":"データ貼付!H408","v":"決"},{"$f":"データ貼付!I408","v":"雄武高"},{"$f":"データ貼付!J408","v":2},{"$f":"データ貼付!K408","v":1.2}]
[408,"中学男子走幅跳20",{"$f":"J411&COUNTIF($J$4:J411,J411)","v":"菊地遥粋1"},{"$f":"データ貼付!D409&データ貼付!E409","v":"中学男子走幅跳"},{"$f":"データ貼付!G409+ROW()/1000000","v":492.00041099999999},20,{"$f":"データ貼付!A409","v":"中体連地区"},{"$f":"データ貼付!B409","v":"北見"},{"$f":"データ貼付!C409","v":43631},{"$f":"データ貼付!F409","v":"菊地遥粋"},{"$f":"データ貼付!G409","v":492},{"$f":"データ貼付!H409","v":"決"},{"$f":"データ貼付!I409","v":"北見南中"},{"$f":"データ貼付!J409","v":3},{"$f":"データ貼付!K409","v":-0.1}]
[409,"中学女子走幅跳52",{"$f":"J412&COUNTIF($J$4:J412,J412)","v":"菊池優璃2"},{"$f":"データ貼付!D410&データ貼付!E410","v":"中学女子走幅跳"},{"$f":"データ貼付!G410+ROW()/1000000","v":322.00041199999998},52,{"$f":"データ貼付!A410","v":"記録会３戦"},{"$f":"データ貼付!B410","v":"網走"},{"$f":"データ貼付!C410","v":43660},{"$f":"データ貼付!F410","v":"菊池優璃"},{"$f":"データ貼付!G410","v":322},{"$f":"データ貼付!H410","v":"決"},{"$f":"データ貼付!I410","v":"網走第四中"},{"$f":"データ貼付!J410","v":2},{"$f":"データ貼付!K410","v":0.6}]
[410,"高校男子走幅跳62",{"$f":"J413&COUNTIF($J$4:J413,J413)","v":"菊池勇翔1"},{"$f":"データ貼付!D411&データ貼付!E411","v":"高校男子走幅跳"},{"$f":"データ貼付!G411+ROW()/1000000","v":256.00041299999998},62,{"$f":"データ貼付!A411","v":"高体連支部"},{"$f":"データ貼付!B411","v":"北見"},{"$f":"データ貼付!C411","v":43608},{"$f":"データ貼付!F411","v":"菊池勇翔"},{"$f":"データ貼付!G411","v":256},{"$f":"データ貼付!H411","v":"決"},{"$f":"データ貼付!I411","v":"北見商業高"},{"$f":"データ貼付!J411","v":1},{"$f":"データ貼付!K411","v":0.4}]
[411,"高校男子走幅跳43",{"$f":"J414&COUNTIF($J$4:J414,J414)","v":"吉澤蓮1"},{"$f":"データ貼付!D412&データ貼付!E412","v":"高校男子走幅跳"},{"$f":"データ貼付!G412+ROW()/1000000","v":496.00041399999998},43,{"$f":"データ貼付!A412","v":"高体連支部"},{"$f":"データ貼付!B412","v":"北見"},{"$f":"データ貼付!C412","v":43608},{"$f":"データ貼付!F412","v":"吉澤蓮"},{"$f":"データ貼付!G412","v":496},{"$f":"データ貼付!H412","v":"決"},{"$f":"データ貼付!I412","v":"湧別高"},{"$f":"データ貼付!J412","v":1},{"$f":"データ貼付!K412","v":2.4}]
[412,"中学男子走幅跳37",{"$f":"J415&COUNTIF($J$4:J415,J415)","v":"久保秋結仁1"},{"$f":"データ貼付!D413&データ貼付!E413","v":"中学男子走幅跳"},{"$f":"データ貼付!G413+ROW()/1000000","v":440.00041499999998},37,{"$f":"データ貼付!A413","v":"秋季陸上"},{"$f":"データ貼付!B413","v":"網走"},{"$f":"データ貼付!C413","v":43716},{"$f":"データ貼付!F413","v":"久保秋結仁"},{"$f":"データ貼付!G413","v":440},{"$f":"データ貼付!H413","v":"決"},{"$f":"データ貼付!I413","v":"紋別中"},{"$f":"データ貼付!J413","v":2},{"$f":"データ貼付!K413","v":-0.3}]
[413,"中学女子走幅跳9",{"$f":"J416&COUNTIF($J$4:J416,J416)","v":"宮下美侑1"},{"$f":"データ貼付!D414&データ貼付!E414","v":"中学女子走幅跳"},{"$f":"データ貼付!G414+ROW()/1000000","v":440.00041599999997},9,{"$f":"データ貼付!A414","v":"中学新人"},{"$f":"データ貼付!B414","v":"網走"},{"$f":"データ貼付!C414","v":43701},{"$f":"データ貼付!F414","v":"宮下美侑"},{"$f":"データ貼付!G414","v":440},{"$f":"データ貼付!H414","v":"決"},{"$f":"データ貼付!I414","v":"紋別中"},{"$f":"データ貼付!J414","v":2},{"$f":"データ貼付!K414","v":1.5}]
[414,"中学女子走幅跳14",{"$f":"J417&COUNTIF($J$4:J417,J417)","v":"宮末侑奈1"},{"$f":"データ貼付!D415&データ貼付!E415","v":"中学女子走幅跳"},{"$f":"データ貼付!G415+ROW()/1000000","v":433.00041700000003},14,{"$f":"データ貼付!A415","v":"通信陸上"},{"$f":"データ貼付!B415","v":"網走"},{"$f":"データ貼付!C415","v":43645},{"$f":"データ貼付!F415","v":"宮末侑奈"},{"$f":"データ貼付!G415","v":433},{"$f":"データ貼付!H415","v":"決"},{"$f":"データ貼付!I415","v":"美幌北中"},{"$f":"データ貼付!J415","v":1},{"$f":"データ貼付!K415","v":1.9}]
[415,"一般男子走幅跳1",{"$f":"J418&COUNTIF($J$4:J418,J418)","v":"橋本尚弥1"},{"$f":"データ貼付!D416&データ貼付!E416","v":"一般男子走幅跳"},{"$f":"データ貼付!G416+ROW()/1000000","v":739.00041799999997},1,{"$f":"データ貼付!A416","v":"記録会４戦"},{"$f":"データ貼付!B416","v":"北見"},{"$f":"データ貼付!C416","v":43681},{"$f":"データ貼付!F416","v":"橋本尚弥"},{"$f":"データ貼付!G416","v":739},{"$f":"データ貼付!H416","v":"決"},{"$f":"データ貼付!I416","v":"アーク"},{"$f":"データ貼付!J416","v":"般"},{"$f":"データ貼付!K416","v":0.3}]
[416,"高校男子走幅跳1",{"$f":"J419&COUNTIF($J$4:J419,J419)","v":"橋本悠利1"},{"$f":"データ貼付!D417&データ貼付!E417","v":"高校男子走幅跳"},{"$f":"データ貼付!G417+ROW()/1000000","v":678.00041899999997},1,{"$f":"データ貼付!A417","v":"高体連支部"},{"$f":"データ貼付!B417","v":"北見"},{"$f":"データ貼付!C417","v":43608},{"$f":"データ貼付!F417","v":"橋本悠利"},{"$f":"データ貼付!G417","v":678},{"$f":"データ貼付!H417","v":"決"},{"$f":"データ貼付!I417","v":"雄武高"},{"$f":"データ貼付!J417","v":3},{"$f":"データ貼付!K417","v":0.5}]
[417,"中学男子走幅跳60",{"$f":"J420&COUNTIF($J$4:J420,J420)","v":"橋本颯汰1"},{"$f":"データ貼付!D418&データ貼付!E418","v":"中学男子走幅跳"},{"$f":"データ貼付!G418+ROW()/1000000","v":377.00042000000002},60,{"$f":"データ貼付!A418","v":"中体連地区"},{"$f":"データ貼付!B418","v":"北見"},{"$f":"データ貼付!C418","v":43630},{"$f":"データ貼付!F418","v":"橋本颯汰"},{"$f":"データ貼付!G418","v":377},{"$f":"データ貼付!H418","v":"予"},{"$f":"データ貼付!I418","v":"美幌北中"},{"$f":"データ貼付!J418","v":1},{"$f":"データ貼付!K418","v":2.9}]
[418,"小学男子走幅跳12",{"$f":"J421&COUNTIF($J$4:J421,J421)","v":"近藤輝空1"},{"$f":"データ貼付!D419&データ貼付!E419","v":"小学男子走幅跳"},{"$f":"データ貼付!G419+ROW()/1000000","v":400.00042100000002},12,{"$f":"データ貼付!A419","v":"フィールド記録会"},{"$f":"データ貼付!B419","v":"網走"},{"$f":"データ貼付!C419","v":43624},{"$f":"データ貼付!F419","v":"近藤輝空"},{"$f":"データ貼付!G419","v":400},{"$f":"データ貼付!H419","v":"決"},{"$f":"データ貼付!I419","v":"ｵﾎｰﾂｸｷｯｽﾞ"},{"$f":"データ貼付!J419","v":6},{"$f":"データ貼付!K419","v":0}]
[419,"中学男子走幅跳76",{"$f":"J422&COUNTIF($J$4:J422,J422)","v":"近藤陸翼1"},{"$f":"データ貼付!D420&データ貼付!E420","v":"中学男子走幅跳"},{"$f":"データ貼付!G420+ROW()/1000000","v":340.00042200000001},76,{"$f":"データ貼付!A420","v":"中学新人"},{"$f":"データ貼付!B420","v":"網走"},{"$f":"データ貼付!C420","v":43700},{"$f":"データ貼付!F420","v":"近藤陸翼"},{"$f":"データ貼付!G420","v":340},{"$f":"データ貼付!H420","v":"決"},{"$f":"データ貼付!I420","v":"北見留辺蘂中"},{"$f":"データ貼付!J420","v":1},{"$f":"データ貼付!K420","v":1.3}]
[420,"小学男子走幅跳21",{"$f":"J423&COUNTIF($J$4:J423,J423)","v":"近藤伶1"},{"$f":"データ貼付!D421&データ貼付!E421","v":"小学男子走幅跳"},{"$f":"データ貼付!G421+ROW()/1000000","v":379.00042300000001},21,{"$f":"データ貼付!A421","v":"小学記録会"},{"$f":"データ貼付!B421","v":"北見"},{"$f":"データ貼付!C421","v":43736},{"$f":"データ貼付!F421","v":"近藤伶"},{"$f":"データ貼付!G421","v":379},{"$f":"データ貼付!H421","v":"決"},{"$f":"データ貼付!I421","v":"興部小(近藤)"},{"$f":"データ貼付!J421","v":6},{"$f":"データ貼付!K421","v":0}]
[421,"一般男子走幅跳2",{"$f":"J424&COUNTIF($J$4:J424,J424)","v":"金子航太2"},{"$f":"データ貼付!D422&データ貼付!E422","v":"一般男子走幅跳"},{"$f":"データ貼付!G422+ROW()/1000000","v":730.00042399999995},2,{"$f":"データ貼付!A422","v":"選手権"},{"$f":"データ貼付!B422","v":"北見"},{"$f":"データ貼付!C422","v":43597},{"$f":"データ貼付!F422","v":"金子航太"},{"$f":"データ貼付!G422","v":730},{"$f":"データ貼付!H422","v":"決"},{"$f":"データ貼付!I422","v":"ｵﾎｰﾂｸAC"},{"$f":"データ貼付!J422","v":0},{"$f":"データ貼付!K422","v":2.5}]
[422,"中学男子走幅跳3",{"$f":"J425&COUNTIF($J$4:J425,J425)","v":"金澤世凪1"},{"$f":"データ貼付!D423&データ貼付!E423","v":"中学男子走幅跳"},{"$f":"データ貼付!G423+ROW()/1000000","v":607.00042499999995},3,{"$f":"データ貼付!A423","v":"全道中学新人"},{"$f":"データ貼付!B423","v":"千歳"},{"$f":"データ貼付!C423","v":43729},{"$f":"データ貼付!F423","v":"金澤世凪"},{"$f":"データ貼付!G423","v":607},{"$f":"データ貼付!H423","v":"決"},{"$f":"データ貼付!I423","v":"斜里"},{"$f":"データ貼付!J423","v":2},{"$f":"データ貼付!K423","v":3.5}]
[423,"小学男子走幅跳19",{"$f":"J426&COUNTIF($J$4:J426,J426)","v":"金澤裕真1"},{"$f":"データ貼付!D424&データ貼付!E424","v":"小学男子走幅跳"},{"$f":"データ貼付!G424+ROW()/1000000","v":384.000426},19,{"$f":"データ貼付!A424","v":"小学記録会"},{"$f":"データ貼付!B424","v":"北見"},{"$f":"データ貼付!C424","v":43736},{"$f":"データ貼付!F424","v":"金澤裕真"},{"$f":"データ貼付!G424","v":384},{"$f":"データ貼付!H424","v":"決"},{"$f":"データ貼付!I424","v":"美幌RC"},{"$f":"データ貼付!J424","v":5},{"$f":"データ貼付!K424","v":0}]
[424,"小学女子走幅跳31",{"$f":"J427&COUNTIF($J$4:J427,J427)","v":"金澤琉花1"},{"$f":"データ貼付!D425&データ貼付!E425","v":"小学女子走幅跳"},{"$f":"データ貼付!G425+ROW()/1000000","v":240.000427},31,{"$f":"データ貼付!A425","v":"記録会第１戦"},{"$f":"データ貼付!B425","v":"北見"},{"$f":"データ貼付!C425","v":43583},{"$f":"データ貼付!F425","v":"金澤琉花"},{"$f":"データ貼付!G425","v":240},{"$f":"データ貼付!H425","v":"決"},{"$f":"データ貼付!I425","v":"知床斜里RC"},{"$f":"データ貼付!J425","v":3},{"$f":"データ貼付!K425","v":0}]
[425,"高校女子走幅跳14",{"$f":"J428&COUNTIF($J$4:J428,J428)","v":"金澤茉梨亜4"},{"$f":"データ貼付!D426&データ貼付!E426","v":"高校女子走幅跳"},{"$f":"データ貼付!G426+ROW()/1000000","v":387.000428},14,{"$f":"データ貼付!A426","v":"記録会第１戦"},{"$f":"データ貼付!B426","v":"北見"},{"$f":"データ貼付!C426","v":43583},{"$f":"データ貼付!F426","v":"金澤茉梨亜"},{"$f":"データ貼付!G426","v":387},{"$f":"データ貼付!H426","v":"決"},{"$f":"データ貼付!I426","v":"遠軽高"},{"$f":"データ貼付!J426","v":2},{"$f":"データ貼付!K426","v":3}]
[426,"中学男子走幅跳47",{"$f":"J429&COUNTIF($J$4:J429,J429)","v":"栗原明慎2"},{"$f":"データ貼付!D427&データ貼付!E427","v":"中学男子走幅跳"},{"$f":"データ貼付!G427+ROW()/1000000","v":416.000429},47,{"$f":"データ貼付!A427","v":"記録会４戦"},{"$f":"データ貼付!B427","v":"北見"},{"$f":"データ貼付!C427","v":43681},{"$f":"データ貼付!F427","v":"栗原明慎"},{"$f":"データ貼付!G427","v":416},{"$f":"データ貼付!H427","v":"決"},{"$f":"データ貼付!I427","v":"北見北光中"},{"$f":"データ貼付!J427","v":1},{"$f":"データ貼付!K427","v":-0.3}]
[427,"中学女子走幅跳46",{"$f":"J430&COUNTIF($J$4:J430,J430)","v":"穴山美夢1"},{"$f":"データ貼付!D428&データ貼付!E428","v":"中学女子走幅跳"},{"$f":"データ貼付!G428+ROW()/1000000","v":343.00042999999999},46,{"$f":"データ貼付!A428","v":"中学新人"},{"$f":"データ貼付!B428","v":"網走"},{"$f":"データ貼付!C428","v":43701},{"$f":"データ貼付!F428","v":"穴山美夢"},{"$f":"データ貼付!G428","v":343},{"$f":"データ貼付!H428","v":"決"},{"$f":"データ貼付!I428","v":"網走第二中"},{"$f":"データ貼付!J428","v":1},{"$f":"データ貼付!K428","v":1.3}]
[428,"中学女子走幅跳16",{"$f":"J431&COUNTIF($J$4:J431,J431)","v":"穴澤日菜2"},{"$f":"データ貼付!D429&データ貼付!E429","v":"中学女子走幅跳"},{"$f":"データ貼付!G429+ROW()/1000000","v":424.00043099999999},16,{"$f":"データ貼付!A429","v":"記録会４戦"},{"$f":"データ貼付!B429","v":"北見"},{"$f":"データ貼付!C429","v":43681},{"$f":"データ貼付!F429","v":"穴澤日菜"},{"$f":"データ貼付!G429","v":424},{"$f":"データ貼付!H429","v":"決"},{"$f":"データ貼付!I429","v":"北見南中"},{"$f":"データ貼付!J429","v":1},{"$f":"データ貼付!K429","v":1.6}]
[429,"高校男子走幅跳16",{"$f":"J432&COUNTIF($J$4:J432,J432)","v":"原田雲向2"},{"$f":"データ貼付!D430&データ貼付!E430","v":"高校男子走幅跳"},{"$f":"データ貼付!G430+ROW()/1000000","v":578.00043200000005},16,{"$f":"データ貼付!A430","v":"秋季陸上"},{"$f":"データ貼付!B430","v":"網走"},{"$f":"データ貼付!C430","v":43715},{"$f":"データ貼付!F430","v":"原田雲向"},{"$f":"データ貼付!G430","v":578},{"$f":"データ貼付!H430","v":"決"},{"$f":"データ貼付!I430","v":"女満別高"},{"$f":"データ貼付!J430","v":2},{"$f":"データ貼付!K430","v":0.9}]
[430,"小学男子走幅跳2",{"$f":"J433&COUNTIF($J$4:J433,J433)","v":"後藤大輔2"},{"$f":"データ貼付!D431&データ貼付!E431","v":"小学男子走幅跳"},{"$f":"データ貼付!G431+ROW()/1000000","v":466.00043299999999},2,{"$f":"データ貼付!A431","v":"全道小学"},{"$f":"データ貼付!B431","v":"札幌"},{"$f":"データ貼付!C431","v":43661},{"$f":"データ貼付!F431","v":"後藤大輔"},{"$f":"データ貼付!G431","v":466},{"$f":"データ貼付!H431","v":"決"},{"$f":"データ貼付!I431","v":"美幌RC"},{"$f":"データ貼付!J431","v":6},{"$f":"データ貼付!K431","v":0.3}]
[431,"中学男子走幅跳44",{"$f":"J434&COUNTIF($J$4:J434,J434)","v":"工藤之雅2"},{"$f":"データ貼付!D432&データ貼付!E432","v":"中学男子走幅跳"},{"$f":"データ貼付!G432+ROW()/1000000","v":421.00043399999998},44,{"$f":"データ貼付!A432","v":"中体連地区"},{"$f":"データ貼付!B432","v":"北見"},{"$f":"データ貼付!C432","v":43630},{"$f":"データ貼付!F432","v":"工藤之雅"},{"$f":"データ貼付!G432","v":421},{"$f":"データ貼付!H432","v":"予"},{"$f":"データ貼付!I432","v":"北見北中"},{"$f":"データ貼付!J432","v":2},{"$f":"データ貼付!K432","v":-0.7}]
[432,"小学男子走幅跳25",{"$f":"J435&COUNTIF($J$4:J435,J435)","v":"工藤龍祈3"},{"$f":"データ貼付!D433&データ貼付!E433","v":"小学男子走幅跳"},{"$f":"データ貼付!G433+ROW()/1000000","v":366.00043499999998},25,{"$f":"データ貼付!A433","v":"小学記録会"},{"$f":"データ貼付!B433","v":"北見"},{"$f":"データ貼付!C433","v":43736},{"$f":"データ貼付!F433","v":"工藤龍祈"},{"$f":"データ貼付!G433","v":366},{"$f":"データ貼付!H433","v":"決"},{"$f":"データ貼付!I433","v":"ｵﾎｰﾂｸｷｯｽﾞ"},{"$f":"データ貼付!J433","v":4},{"$f":"データ貼付!K433","v":0}]
[433,"中学男子走幅跳7",{"$f":"J436&COUNTIF($J$4:J436,J436)","v":"荒木颯葵1"},{"$f":"データ貼付!D434&データ貼付!E434","v":"中学男子走幅跳"},{"$f":"データ貼付!G434+ROW()/1000000","v":547.00043600000004},7,{"$f":"データ貼付!A434","v":"道ジュニア"},{"$f":"データ貼付!B434","v":"釧路"},{"$f":"データ貼付!C434","v":43709},{"$f":"データ貼付!F434","v":"荒木颯葵"},{"$f":"データ貼付!G434","v":547},{"$f":"データ貼付!H434","v":"決"},{"$f":"データ貼付!I434","v":"北見小泉中"},{"$f":"データ貼付!J434","v":3},{"$f":"データ貼付!K434","v":1.4}]
[434,"高校男子走幅跳22",{"$f":"J437&COUNTIF($J$4:J437,J437)","v":"高宮魁2"},{"$f":"データ貼付!D435&データ貼付!E435","v":"高校男子走幅跳"},{"$f":"データ貼付!G435+ROW()/1000000","v":552.00043700000003},22,{"$f":"データ貼付!A435","v":"フィールド記録会"},{"$f":"データ貼付!B435","v":"網走"},{"$f":"データ貼付!C435","v":43624},{"$f":"データ貼付!F435","v":"高宮魁"},{"$f":"データ貼付!G435","v":552},{"$f":"データ貼付!H435","v":"決"},{"$f":"データ貼付!I435","v":"雄武高"},{"$f":"データ貼付!J435","v":1},{"$f":"データ貼付!K435","v":1.6}]
[435,"小学女子走幅跳25",{"$f":"J438&COUNTIF($J$4:J438,J438)","v":"高橋月紀華1"},{"$f":"データ貼付!D436&データ貼付!E436","v":"小学女子走幅跳"},{"$f":"データ貼付!G436+ROW()/1000000","v":277.00043799999997},25,{"$f":"データ貼付!A436","v":"小学記録会"},{"$f":"データ貼付!B436","v":"北見"},{"$f":"データ貼付!C436","v":43736},{"$f":"データ貼付!F436","v":"高橋月紀華"},{"$f":"データ貼付!G436","v":277},{"$f":"データ貼付!H436","v":"決"},{"$f":"データ貼付!I436","v":"訓子府陸上少年団"},{"$f":"データ貼付!J436","v":3},{"$f":"データ貼付!K436","v":0}]
[436,"小学男子走幅跳41",{"$f":"J439&COUNTIF($J$4:J439,J439)","v":"高瀬生楓2"},{"$f":"データ貼付!D437&データ貼付!E437","v":"小学男子走幅跳"},{"$f":"データ貼付!G437+ROW()/1000000","v":311.00043899999997},41,{"$f":"データ貼付!A437","v":"小学記録会"},{"$f":"データ貼付!B437","v":"北見"},{"$f":"データ貼付!C437","v":43736},{"$f":"データ貼付!F437","v":"高瀬生楓"},{"$f":"データ貼付!G437","v":311},{"$f":"データ貼付!H437","v":"決"},{"$f":"データ貼付!I437","v":"ｵﾎｰﾂｸｷｯｽﾞ"},{"$f":"データ貼付!J437","v":3},{"$f":"データ貼付!K437","v":0}]
[437,"小学女子走幅跳10",{"$f":"J440&COUNTIF($J$4:J440,J440)","v":"高嶋美來1"},{"$f":"データ貼付!D438&データ貼付!E438","v":"小学女子走幅跳"},{"$f":"データ貼付!G438+ROW()/1000000","v":347.00044000000003},10,{"$f":"データ貼付!A438","v":"小学記録会"},{"$f":"データ貼付!B438","v":"北見"},{"$f":"データ貼付!C438","v":43736},{"$f":"データ貼付!F438","v":"高嶋美來"},{"$f":"データ貼付!G438","v":347},{"$f":"データ貼付!H438","v":"決"},{"$f":"データ貼付!I438","v":"網走陸上少年団"},{"$f":"データ貼付!J438","v":6},{"$f":"データ貼付!K438","v":0}]
[438,"高校男子走幅跳59",{"$f":"J441&COUNTIF($J$4:J441,J441)","v":"高野羽流1"},{"$f":"データ貼付!D439&データ貼付!E439","v":"高校男子走幅跳"},{"$f":"データ貼付!G439+ROW()/1000000","v":372.00044100000002},59,{"$f":"データ貼付!A439","v":"記録会４戦"},{"$f":"データ貼付!B439","v":"北見"},{"$f":"データ貼付!C439","v":43681},{"$f":"データ貼付!F439","v":"高野羽流"},{"$f":"データ貼付!G439","v":372},{"$f":"データ貼付!H439","v":"決"},{"$f":"データ貼付!I439","v":"北見商業高"},{"$f":"データ貼付!J439","v":1},{"$f":"データ貼付!K439","v":0.5}]
[439,"中学女子走幅跳28",{"$f":"J442&COUNTIF($J$4:J442,J442)","v":"高野夕奈1"},{"$f":"データ貼付!D440&データ貼付!E440","v":"中学女子走幅跳"},{"$f":"データ貼付!G440+ROW()/1000000","v":391.00044200000002},28,{"$f":"データ貼付!A440","v":"中体連地区"},{"$f":"データ貼付!B440","v":"北見"},{"$f":"データ貼付!C440","v":43630},{"$f":"データ貼付!F440","v":"高野夕奈"},{"$f":"データ貼付!G440","v":391},{"$f":"データ貼付!H440","v":"予"},{"$f":"データ貼付!I440","v":"網走第四中"},{"$f":"データ貼付!J440","v":3},{"$f":"データ貼付!K440","v":0.9}]
[440,"高校女子走幅跳10",{"$f":"J443&COUNTIF($J$4:J443,J443)","v":"合田未夢2"},{"$f":"データ貼付!D441&データ貼付!E441","v":"高校女子走幅跳"},{"$f":"データ貼付!G441+ROW()/1000000","v":452.00044300000002},10,{"$f":"データ貼付!A441","v":"高体連支部"},{"$f":"データ貼付!B441","v":"北見"},{"$f":"データ貼付!C441","v":43608},{"$f":"データ貼付!F441","v":"合田未夢"},{"$f":"データ貼付!G441","v":452},{"$f":"データ貼付!H441","v":"決"},{"$f":"データ貼付!I441","v":"北見北斗高"},{"$f":"データ貼付!J441","v":2},{"$f":"データ貼付!K441","v":0.3}]
[441,"中学男子走幅跳36",{"$f":"J444&COUNTIF($J$4:J444,J444)","v":"黒坂光輝1"},{"$f":"データ貼付!D442&データ貼付!E442","v":"中学男子走幅跳"},{"$f":"データ貼付!G442+ROW()/1000000","v":445.00044400000002},36,{"$f":"データ貼付!A442","v":"秋季陸上"},{"$f":"データ貼付!B442","v":"網走"},{"$f":"データ貼付!C442","v":43716},{"$f":"データ貼付!F442","v":"黒坂光輝"},{"$f":"データ貼付!G442","v":445},{"$f":"データ貼付!H442","v":"決"},{"$f":"データ貼付!I442","v":"網走第一中"},{"$f":"データ貼付!J442","v":1},{"$f":"データ貼付!K442","v":-1.2}]
[442,"中学男子走幅跳77",{"$f":"J445&COUNTIF($J$4:J445,J445)","v":"黒田悠羽2"},{"$f":"データ貼付!D443&データ貼付!E443","v":"中学男子走幅跳"},{"$f":"データ貼付!G443+ROW()/1000000","v":334.00044500000001},77,{"$f":"データ貼付!A443","v":"記録会第２戦"},{"$f":"データ貼付!B443","v":"網走"},{"$f":"データ貼付!C443","v":43590},{"$f":"データ貼付!F443","v":"黒田悠羽"},{"$f":"データ貼付!G443","v":334},{"$f":"データ貼付!H443","v":"決"},{"$f":"データ貼付!I443","v":"北見常呂中"},{"$f":"データ貼付!J443","v":1},{"$f":"データ貼付!K443","v":1.9}]
[443,"高校女子走幅跳2",{"$f":"J446&COUNTIF($J$4:J446,J446)","v":"根田りりん2"},{"$f":"データ貼付!D444&データ貼付!E444","v":"高校女子走幅跳"},{"$f":"データ貼付!G444+ROW()/1000000","v":536.00044600000001},2,{"$f":"データ貼付!A444","v":"高体連支部"},{"$f":"データ貼付!B444","v":"北見"},{"$f":"データ貼付!C444","v":43608},{"$f":"データ貼付!F444","v":"根田りりん"},{"$f":"データ貼付!G444","v":536},{"$f":"データ貼付!H444","v":"決"},{"$f":"データ貼付!I444","v":"網走南ヶ丘高"},{"$f":"データ貼付!J444","v":3},{"$f":"データ貼付!K444","v":1.8}]
[444,"高校男子走幅跳29",{"$f":"J447&COUNTIF($J$4:J447,J447)","v":"根田一光1"},{"$f":"データ貼付!D445&データ貼付!E445","v":"高校男子走幅跳"},{"$f":"データ貼付!G445+ROW()/1000000","v":528.00044700000001},29,{"$f":"データ貼付!A445","v":"高校新人"},{"$f":"データ貼付!B445","v":"網走"},{"$f":"データ貼付!C445","v":43700},{"$f":"データ貼付!F445","v":"根田一光"},{"$f":"データ貼付!G445","v":528},{"$f":"データ貼付!H445","v":"決"},{"$f":"データ貼付!I445","v":"網走南ヶ丘高"},{"$f":"データ貼付!J445","v":1},{"$f":"データ貼付!K445","v":2.5}]
[445,"高校男子走幅跳61",{"$f":"J448&COUNTIF($J$4:J448,J448)","v":"佐久間楓大1"},{"$f":"データ貼付!D446&データ貼付!E446","v":"高校男子走幅跳"},{"$f":"データ貼付!G446+ROW()/1000000","v":288.00044800000001},61,{"$f":"データ貼付!A446","v":"秋季陸上"},{"$f":"データ貼付!B446","v":"網走"},{"$f":"データ貼付!C446","v":43715},{"$f":"データ貼付!F446","v":"佐久間楓大"},{"$f":"データ貼付!G446","v":288},{"$f":"データ貼付!H446","v":"決"},{"$f":"データ貼付!I446","v":"日体大附属高"},{"$f":"データ貼付!J446","v":2},{"$f":"データ貼付!K446","v":0.6}]
[446,"中学女子走幅跳27",{"$f":"J449&COUNTIF($J$4:J449,J449)","v":"佐々木華恋1"},{"$f":"データ貼付!D447&データ貼付!E447","v":"中学女子走幅跳"},{"$f":"データ貼付!G447+ROW()/1000000","v":396.000449},27,{"$f":"データ貼付!A447","v":"通信陸上"},{"$f":"データ貼付!B447","v":"網走"},{"$f":"データ貼付!C447","v":43644},{"$f":"データ貼付!F447","v":"佐々木華恋"},{"$f":"データ貼付!G447","v":396},{"$f":"データ貼付!H447","v":"予"},{"$f":"データ貼付!I447","v":"紋別中"},{"$f":"データ貼付!J447","v":3},{"$f":"データ貼付!K447","v":1}]
[447,"小学女子走幅跳13",{"$f":"J450&COUNTIF($J$4:J450,J450)","v":"佐々木紀香2"},{"$f":"データ貼付!D448&データ貼付!E448","v":"小学女子走幅跳"},{"$f":"データ貼付!G448+ROW()/1000000","v":338.00045},13,{"$f":"データ貼付!A448","v":"小学記録会"},{"$f":"データ貼付!B448","v":"北見"},{"$f":"データ貼付!C448","v":43736},{"$f":"データ貼付!F448","v":"佐々木紀香"},{"$f":"データ貼付!G448","v":338},{"$f":"データ貼付!H448","v":"決"},{"$f":"データ貼付!I448","v":"訓子府陸上少年団"},{"$f":"データ貼付!J448","v":6},{"$f":"データ貼付!K448","v":0}]
[448,"小学男子走幅跳59",{"$f":"J451&COUNTIF($J$4:J451,J451)","v":"佐々木瞬汰2"},{"$f":"データ貼付!D449&データ貼付!E449","v":"小学男子走幅跳"},{"$f":"データ貼付!G449+ROW()/1000000","v":249.000451},59,{"$f":"データ貼付!A449","v":"記録会第１戦"},{"$f":"データ貼付!B449","v":"北見"},{"$f":"データ貼付!C449","v":43583},{"$f":"データ貼付!F449","v":"佐々木瞬汰"},{"$f":"データ貼付!G449","v":249},{"$f":"データ貼付!H449","v":"決"},{"$f":"データ貼付!I449","v":"美幌RC"},{"$f":"データ貼付!J449","v":4},{"$f":"データ貼付!K449","v":0}]
[449,"高校男子走幅跳60",{"$f":"J452&COUNTIF($J$4:J452,J452)","v":"佐々木洸瑠2"},{"$f":"データ貼付!D450&データ貼付!E450","v":"高校男子走幅跳"},{"$f":"データ貼付!G450+ROW()/1000000","v":316.000452},60,{"$f":"データ貼付!A450","v":"選手権"},{"$f":"データ貼付!B450","v":"北見"},{"$f":"データ貼付!C450","v":43597},{"$f":"データ貼付!F450","v":"佐々木洸瑠"},{"$f":"データ貼付!G450","v":316},{"$f":"データ貼付!H450","v":"決"},{"$f":"データ貼付!I450","v":"興部高"},{"$f":"データ貼付!J450","v":1},{"$f":"データ貼付!K450","v":1.6}]
[450,{"$f":"D453&F453","v":"小学男子走幅跳17"},{"$f":"J453&COUNTIF($J$4:J453,J453)","v":"佐藤世志明1"},{"$f":"データ貼付!D451&データ貼付!E451","v":"小学男子走幅跳"},{"$f":"データ貼付!G451+ROW()/1000000","v":386.00045299999999},{"$f":"SUMPRODUCT(($D$4:$D$903=D453)*($E$4:$E$903>E453))+1","v":17},{"$f":"データ貼付!A451","v":"フィールド記録会"},{"$f":"データ貼付!B451","v":"網走"},{"$f":"データ貼付!C451","v":43624},{"$f":"データ貼付!F451","v":"佐藤世志明"},{"$f":"データ貼付!G451","v":386},{"$f":"データ貼付!H451","v":"決"},{"$f":"データ貼付!I451","v":"知床斜里RC"},{"$f":"データ貼付!J451","v":6},{"$f":"データ貼付!K451","v":0}]
[451,"中学女子走幅跳13",{"$f":"J454&COUNTIF($J$4:J454,J454)","v":"佐伯涼子1"},{"$f":"データ貼付!D452&データ貼付!E452","v":"中学女子走幅跳"},{"$f":"データ貼付!G452+ROW()/1000000","v":434.00045399999999},13,{"$f":"データ貼付!A452","v":"通信陸上"},{"$f":"データ貼付!B452","v":"網走"},{"$f":"データ貼付!C452","v":43645},{"$f":"データ貼付!F452","v":"佐伯涼子"},{"$f":"データ貼付!G452","v":434},{"$f":"データ貼付!H452","v":"決"},{"$f":"データ貼付!I452","v":"北見南中"},{"$f":"データ貼付!J452","v":2},{"$f":"データ貼付!K452","v":2.2999999999999998}]
[452,"中学女子走幅跳17",{"$f":"J455&COUNTIF($J$4:J455,J455)","v":"佐伯凉子1"},{"$f":"データ貼付!D453&データ貼付!E453","v":"中学女子走幅跳"},{"$f":"データ貼付!G453+ROW()/1000000","v":422.00045499999999},17,{"$f":"データ貼付!A453","v":"記録会３戦"},{"$f":"データ貼付!B453","v":"網走"},{"$f":"データ貼付!C453","v":43660},{"$f":"データ貼付!F453","v":"佐伯凉子"},{"$f":"データ貼付!G453","v":422},{"$f":"データ貼付!H453","v":"決"},{"$f":"データ貼付!I453","v":"北見南中"},{"$f":"データ貼付!J453","v":2},{"$f":"データ貼付!K453","v":1.2}]
[453,"高校男子走幅跳38",{"$f":"J456&COUNTIF($J$4:J456,J456)","v":"佐野光1"},{"$f":"データ貼付!D454&データ貼付!E454","v":"高校男子走幅跳"},{"$f":"データ貼付!G454+ROW()/1000000","v":516.00045599999999},38,{"$f":"データ貼付!A454","v":"高体連支部"},{"$f":"データ貼付!B454","v":"北見"},{"$f":"データ貼付!C454","v":43608},{"$f":"データ貼付!F454","v":"佐野光"},{"$f":"データ貼付!G454","v":516},{"$f":"データ貼付!H454","v":"決"},{"$f":"データ貼付!I454","v":"北見北斗高"},{"$f":"データ貼付!J454","v":1},{"$f":"データ貼付!K454","v":1.7}]
[454,"中学男子走幅跳14",{"$f":"J457&COUNTIF($J$4:J457,J457)","v":"佐野巧1"},{"$f":"データ貼付!D455&データ貼付!E455","v":"中学男子走幅跳"},{"$f":"データ貼付!G455+ROW()/1000000","v":510.00045699999998},14,{"$f":"データ貼付!A455","v":"秋季陸上"},{"$f":"データ貼付!B455","v":"網走"},{"$f":"データ貼付!C455","v":43716},{"$f":"データ貼付!F455","v":"佐野巧"},{"$f":"データ貼付!G455","v":510},{"$f":"データ貼付!H455","v":"決"},{"$f":"データ貼付!I455","v":"斜里中"},{"$f":"データ貼付!J455","v":3},{"$f":"データ貼付!K455","v":-0.6}]
[455,"小学男子走幅跳49",{"$f":"J458&COUNTIF($J$4:J458,J458)","v":"佐野氷佳流1"},{"$f":"データ貼付!D456&データ貼付!E456","v":"小学男子走幅跳"},{"$f":"データ貼付!G456+ROW()/1000000","v":285.00045799999998},49,{"$f":"データ貼付!A456","v":"選手権"},{"$f":"データ貼付!B456","v":"北見"},{"$f":"データ貼付!C456","v":43597},{"$f":"データ貼付!F456","v":"佐野氷佳流"},{"$f":"データ貼付!G456","v":285},{"$f":"データ貼付!H456","v":"決"},{"$f":"データ貼付!I456","v":"知床斜里RC"},{"$f":"データ貼付!J456","v":5},{"$f":"データ貼付!K456","v":0}]
[456,"小学男子走幅跳24",{"$f":"J459&COUNTIF($J$4:J459,J459)","v":"斎藤快晴1"},{"$f":"データ貼付!D457&データ貼付!E457","v":"小学男子走幅跳"},{"$f":"データ貼付!G457+ROW()/1000000","v":366.00045899999998},24,{"$f":"データ貼付!A457","v":"小学記録会"},{"$f":"データ貼付!B457","v":"北見"},{"$f":"データ貼付!C457","v":43736},{"$f":"データ貼付!F457","v":"斎藤快晴"},{"$f":"データ貼付!G457","v":366},{"$f":"データ貼付!H457","v":"決"},{"$f":"データ貼付!I457","v":"常呂陸上少年団"},{"$f":"データ貼付!J457","v":6},{"$f":"データ貼付!K457","v":0}]
[457,"小学男子走幅跳47",{"$f":"J460&COUNTIF($J$4:J460,J460)","v":"斎藤青空2"},{"$f":"データ貼付!D458&データ貼付!E458","v":"小学男子走幅跳"},{"$f":"データ貼付!G458+ROW()/1000000","v":295.00045999999998},47,{"$f":"データ貼付!A458","v":"記録会第１戦"},{"$f":"データ貼付!B458","v":"北見"},{"$f":"データ貼付!C458","v":43583},{"$f":"データ貼付!F458","v":"斎藤青空"},{"$f":"データ貼付!G458","v":295},{"$f":"データ貼付!H458","v":"決"},{"$f":"データ貼付!I458","v":"ｵﾎｰﾂｸｷｯｽﾞ"},{"$f":"データ貼付!J458","v":4},{"$f":"データ貼付!K458","v":0}]
[458,"小学男子走幅跳48",{"$f":"J461&COUNTIF($J$4:J461,J461)","v":"斎藤大至1"},{"$f":"データ貼付!D459&データ貼付!E459","v":"小学男子走幅跳"},{"$f":"データ貼付!G459+ROW()/1000000","v":286.00046099999997},48,{"$f":"データ貼付!A459","v":"記録会第１戦"},{"$f":"データ貼付!B459","v":"北見"},{"$f":"データ貼付!C459","v":43583},{"$f":"データ貼付!F459","v":"斎藤大至"},{"$f":"データ貼付!G459","v":286},{"$f":"データ貼付!H459","v":"決"},{"$f":"データ貼付!I459","v":"ｵﾎｰﾂｸｷｯｽﾞ"},{"$f":"データ貼付!J459","v":4},{"$f":"データ貼付!K459","v":0}]
[459,"高校男子走幅跳31",{"$f":"J462&COUNTIF($J$4:J462,J462)","v":"坂元恭介1"},{"$f":"データ貼付!D460&データ貼付!E460","v":"高校男子走幅跳"},{"$f":"データ貼付!G460+ROW()/1000000","v":527.00046199999997},31,{"$f":"データ貼付!A460","v":"高校新人"},{"$f":"データ貼付!B460","v":"網走"},{"$f":"データ貼付!C460","v":43700},{"$f":"データ貼付!F460","v":"坂元恭介"},{"$f":"データ貼付!G460","v":527},{"$f":"データ貼付!H460","v":"決"},{"$f":"データ貼付!I460","v":"網走南ヶ丘高"},{"$f":"データ貼付!J460","v":1},{"$f":"データ貼付!K460","v":1.3}]
[460,"高校男子走幅跳52",{"$f":"J463&COUNTIF($J$4:J463,J463)","v":"坂口直樹1"},{"$f":"データ貼付!D461&データ貼付!E461","v":"高校男子走幅跳"},{"$f":"データ貼付!G461+ROW()/1000000","v":464.00046300000002},52,{"$f":"データ貼付!A461","v":"選手権"},{"$f":"データ貼付!B461","v":"北見"},{"$f":"データ貼付!C461","v":43597},{"$f":"データ貼付!F461","v":"坂口直樹"},{"$f":"データ貼付!G461","v":464},{"$f":"データ貼付!H461","v":"決"},{"$f":"データ貼付!I461","v":"遠軽高"},{"$f":"データ貼付!J461","v":1},{"$f":"データ貼付!K461","v":0.7}]
[461,"小学男子走幅跳34",{"$f":"J464&COUNTIF($J$4:J464,J464)","v":"坂本好希1"},{"$f":"データ貼付!D462&データ貼付!E462","v":"小学男子走幅跳"},{"$f":"データ貼付!G462+ROW()/1000000","v":340.00046400000002},34,{"$f":"データ貼付!A462","v":"小学生ｵﾎｰﾂｸ"},{"$f":"データ貼付!B462","v":"北見"},{"$f":"データ貼付!C462","v":43632},{"$f":"データ貼付!F462","v":"坂本好希"},{"$f":"データ貼付!G462","v":340},{"$f":"データ貼付!H462","v":"決"},{"$f":"データ貼付!I462","v":"訓子府陸上少年団"},{"$f":"データ貼付!J462","v":4},{"$f":"データ貼付!K462","v":0}]
[462,"中学男子走幅跳45",{"$f":"J465&COUNTIF($J$4:J465,J465)","v":"坂野綾圭泉1"},{"$f":"データ貼付!D463&データ貼付!E463","v":"中学男子走幅跳"},{"$f":"データ貼付!G463+ROW()/1000000","v":419.00046500000002},45,{"$f":"データ貼付!A463","v":"記録会第１戦"},{"$f":"データ貼付!B463","v":"北見"},{"$f":"データ貼付!C463","v":43583},{"$f":"データ貼付!F463","v":"坂野綾圭泉"},{"$f":"データ貼付!G463","v":419},{"$f":"データ貼付!H463","v":"決"},{"$f":"データ貼付!I463","v":"斜里中"},{"$f":"データ貼付!J463","v":3},{"$f":"データ貼付!K463","v":1.6}]
[463,"中学男子走幅跳32",{"$f":"J466&COUNTIF($J$4:J466,J466)","v":"笹原煌一朗2"},{"$f":"データ貼付!D464&データ貼付!E464","v":"中学男子走幅跳"},{"$f":"データ貼付!G464+ROW()/1000000","v":454.00046600000002},32,{"$f":"データ貼付!A464","v":"中体連地区"},{"$f":"データ貼付!B464","v":"北見"},{"$f":"データ貼付!C464","v":43630},{"$f":"データ貼付!F464","v":"笹原煌一朗"},{"$f":"データ貼付!G464","v":454},{"$f":"データ貼付!H464","v":"予"},{"$f":"データ貼付!I464","v":"遠軽中"},{"$f":"データ貼付!J464","v":2},{"$f":"データ貼付!K464","v":4.5}]
[464,"中学男子走幅跳63",{"$f":"J467&COUNTIF($J$4:J467,J467)","v":"三原立暉2"},{"$f":"データ貼付!D465&データ貼付!E465","v":"中学男子走幅跳"},{"$f":"データ貼付!G465+ROW()/1000000","v":372.00046700000001},63,{"$f":"データ貼付!A465","v":"記録会３戦"},{"$f":"データ貼付!B465","v":"網走"},{"$f":"データ貼付!C465","v":43660},{"$f":"データ貼付!F465","v":"三原立暉"},{"$f":"データ貼付!G465","v":372},{"$f":"データ貼付!H465","v":"決"},{"$f":"データ貼付!I465","v":"網走第一中"},{"$f":"データ貼付!J465","v":1},{"$f":"データ貼付!K465","v":-0.2}]
[465,"中学女子走幅跳44",{"$f":"J468&COUNTIF($J$4:J468,J468)","v":"三塚ありさ2"},{"$f":"データ貼付!D466&データ貼付!E466","v":"中学女子走幅跳"},{"$f":"データ貼付!G466+ROW()/1000000","v":344.00046800000001},44,{"$f":"データ貼付!A466","v":"記録会４戦"},{"$f":"データ貼付!B466","v":"北見"},{"$f":"データ貼付!C466","v":43681},{"$f":"データ貼付!F466","v":"三塚ありさ"},{"$f":"データ貼付!G466","v":344},{"$f":"データ貼付!H466","v":"決"},{"$f":"データ貼付!I466","v":"網走第四中"},{"$f":"データ貼付!J466","v":1},{"$f":"データ貼付!K466","v":0.2}]
[466,"高校男子走幅跳41",{"$f":"J469&COUNTIF($J$4:J469,J469)","v":"山下拓馬1"},{"$f":"データ貼付!D467&データ貼付!E467","v":"高校男子走幅跳"},{"$f":"データ貼付!G467+ROW()/1000000","v":503.00046900000001},41,{"$f":"データ貼付!A467","v":"高校新人"},{"$f":"データ貼付!B467","v":"網走"},{"$f":"データ貼付!C467","v":43700},{"$f":"データ貼付!F467","v":"山下拓馬"},{"$f":"データ貼付!G467","v":503},{"$f":"データ貼付!H467","v":"決"},{"$f":"データ貼付!I467","v":"北見工業高"},{"$f":"データ貼付!J467","v":1},{"$f":"データ貼付!K467","v":2.1}]
[467,"小学男子走幅跳27",{"$f":"J470&COUNTIF($J$4:J470,J470)","v":"山形晃輝1"},{"$f":"データ貼付!D468&データ貼付!E468","v":"小学男子走幅跳"},{"$f":"データ貼付!G468+ROW()/1000000","v":353.00047000000001},27,{"$f":"データ貼付!A468","v":"小学記録会"},{"$f":"データ貼付!B468","v":"北見"},{"$f":"データ貼付!C468","v":43736},{"$f":"データ貼付!F468","v":"山形晃輝"},{"$f":"データ貼付!G468","v":353},{"$f":"データ貼付!H468","v":"決"},{"$f":"データ貼付!I468","v":"ｵﾎｰﾂｸｷｯｽﾞ"},{"$f":"データ貼付!J468","v":5},{"$f":"データ貼付!K468","v":0}]
[468,"中学女子走幅跳37",{"$f":"J471&COUNTIF($J$4:J471,J471)","v":"山口佳瑛1"},{"$f":"データ貼付!D469&データ貼付!E469","v":"中学女子走幅跳"},{"$f":"データ貼付!G469+ROW()/1000000","v":364.000471},37,{"$f":"データ貼付!A469","v":"秋季陸上"},{"$f":"データ貼付!B469","v":"網走"},{"$f":"データ貼付!C469","v":43715},{"$f":"データ貼付!F469","v":"山口佳瑛"},{"$f":"データ貼付!G469","v":364},{"$f":"データ貼付!H469","v":"決"},{"$f":"データ貼付!I469","v":"北見小泉中"},{"$f":"データ貼付!J469","v":2},{"$f":"データ貼付!K469","v":3.3}]
[469,"中学男子走幅跳13",{"$f":"J472&COUNTIF($J$4:J472,J472)","v":"山崎幸希1"},{"$f":"データ貼付!D470&データ貼付!E470","v":"中学男子走幅跳"},{"$f":"データ貼付!G470+ROW()/1000000","v":512.00047199999995},13,{"$f":"データ貼付!A470","v":"中体連地区"},{"$f":"データ貼付!B470","v":"北見"},{"$f":"データ貼付!C470","v":43631},{"$f":"データ貼付!F470","v":"山崎幸希"},{"$f":"データ貼付!G470","v":512},{"$f":"データ貼付!H470","v":"決"},{"$f":"データ貼付!I470","v":"斜里中"},{"$f":"データ貼付!J470","v":2},{"$f":"データ貼付!K470","v":1.3}]
[470,"中学女子走幅跳56",{"$f":"J473&COUNTIF($J$4:J473,J473)","v":"山崎真由1"},{"$f":"データ貼付!D471&データ貼付!E471","v":"中学女子走幅跳"},{"$f":"データ貼付!G471+ROW()/1000000","v":301.000473},56,{"$f":"データ貼付!A471","v":"記録会３戦"},{"$f":"データ貼付!B471","v":"網走"},{"$f":"データ貼付!C471","v":43660},{"$f":"データ貼付!F471","v":"山崎真由"},{"$f":"データ貼付!G471","v":301},{"$f":"データ貼付!H471","v":"決"},{"$f":"データ貼付!I471","v":"斜里中"},{"$f":"データ貼付!J471","v":1},{"$f":"データ貼付!K471","v":-1.1000000000000001}]
[471,"中学女子走幅跳59",{"$f":"J474&COUNTIF($J$4:J474,J474)","v":"山村奈々2"},{"$f":"データ貼付!D472&データ貼付!E472","v":"中学女子走幅跳"},{"$f":"データ貼付!G472+ROW()/1000000","v":4.7399999999999997E-4},59,{"$f":"データ貼付!A472","v":"中学新人"},{"$f":"データ貼付!B472","v":"網走"},{"$f":"データ貼付!C472","v":43701},{"$f":"データ貼付!F472","v":"山村奈々"},{"$f":"データ貼付!G472","v":0},{"$f":"データ貼付!H472","v":"決"},{"$f":"データ貼付!I472","v":"北見北光中"},{"$f":"データ貼付!J472","v":1},{"$f":"データ貼付!K472","v":0}]
[472,"小学男子走幅跳57",{"$f":"J475&COUNTIF($J$4:J475,J475)","v":"山田悠翔2"},{"$f":"データ貼付!D473&データ貼付!E473","v":"小学男子走幅跳"},{"$f":"データ貼付!G473+ROW()/1000000","v":254.00047499999999},57,{"$f":"データ貼付!A473","v":"小学記録会"},{"$f":"データ貼付!B473","v":"北見"},{"$f":"データ貼付!C473","v":43736},{"$f":"データ貼付!F473","v":"山田悠翔"},{"$f":"データ貼付!G473","v":254},{"$f":"データ貼付!H473","v":"決"},{"$f":"データ貼付!I473","v":"常呂陸上少年団"},{"$f":"データ貼付!J473","v":4},{"$f":"データ貼付!K473","v":0}]
[473,"高校男子走幅跳36",{"$f":"J476&COUNTIF($J$4:J476,J476)","v":"山田翔也1"},{"$f":"データ貼付!D474&データ貼付!E474","v":"高校男子走幅跳"},{"$f":"データ貼付!G474+ROW()/1000000","v":519.00047600000005},36,{"$f":"データ貼付!A474","v":"記録会第１戦"},{"$f":"データ貼付!B474","v":"北見"},{"$f":"データ貼付!C474","v":43583},{"$f":"データ貼付!F474","v":"山田翔也"},{"$f":"データ貼付!G474","v":519},{"$f":"データ貼付!H474","v":"決"},{"$f":"データ貼付!I474","v":"紋別高"},{"$f":"データ貼付!J474","v":2},{"$f":"データ貼付!K474","v":1.1000000000000001}]
[474,"小学女子走幅跳12",{"$f":"J477&COUNTIF($J$4:J477,J477)","v":"山内一紗1"},{"$f":"データ貼付!D475&データ貼付!E475","v":"小学女子走幅跳"},{"$f":"データ貼付!G475+ROW()/1000000","v":343.00047699999999},12,{"$f":"データ貼付!A475","v":"小学記録会"},{"$f":"データ貼付!B475","v":"北見"},{"$f":"データ貼付!C475","v":43736},{"$f":"データ貼付!F475","v":"山内一紗"},{"$f":"データ貼付!G475","v":343},{"$f":"データ貼付!H475","v":"決"},{"$f":"データ貼付!I475","v":"訓子府陸上少年団"},{"$f":"データ貼付!J475","v":6},{"$f":"データ貼付!K475","v":0}]
[475,"小学女子走幅跳23",{"$f":"J478&COUNTIF($J$4:J478,J478)","v":"山本はな1"},{"$f":"データ貼付!D476&データ貼付!E476","v":"小学女子走幅跳"},{"$f":"データ貼付!G476+ROW()/1000000","v":280.00047799999999},23,{"$f":"データ貼付!A476","v":"小学記録会"},{"$f":"データ貼付!B476","v":"北見"},{"$f":"データ貼付!C476","v":43736},{"$f":"データ貼付!F476","v":"山本はな"},{"$f":"データ貼付!G476","v":280},{"$f":"データ貼付!H476","v":"決"},{"$f":"データ貼付!I476","v":"ｵﾎｰﾂｸACｼﾞｭﾆｱ"},{"$f":"データ貼付!J476","v":3},{"$f":"データ貼付!K476","v":0}]
[476,"中学男子走幅跳72",{"$f":"J479&COUNTIF($J$4:J479,J479)","v":"山本銀士郎1"},{"$f":"データ貼付!D477&データ貼付!E477","v":"中学男子走幅跳"},{"$f":"データ貼付!G477+ROW()/1000000","v":346.00047899999998},72,{"$f":"データ貼付!A477","v":"通信陸上"},{"$f":"データ貼付!B477","v":"網走"},{"$f":"データ貼付!C477","v":43644},{"$f":"データ貼付!F477","v":"山本銀士郎"},{"$f":"データ貼付!G477","v":346},{"$f":"データ貼付!H477","v":"予"},{"$f":"データ貼付!I477","v":"網走第一中"},{"$f":"データ貼付!J477","v":2},{"$f":"データ貼付!K477","v":1}]
[477,"小学男子走幅跳39",{"$f":"J480&COUNTIF($J$4:J480,J480)","v":"山本耕四郎1"},{"$f":"データ貼付!D478&データ貼付!E478","v":"小学男子走幅跳"},{"$f":"データ貼付!G478+ROW()/1000000","v":315.00047999999998},39,{"$f":"データ貼付!A478","v":"記録会第１戦"},{"$f":"データ貼付!B478","v":"北見"},{"$f":"データ貼付!C478","v":43583},{"$f":"データ貼付!F478","v":"山本耕四郎"},{"$f":"データ貼付!G478","v":315},{"$f":"データ貼付!H478","v":"決"},{"$f":"データ貼付!I478","v":"ｵﾎｰﾂｸACｼﾞｭﾆｱ"},{"$f":"データ貼付!J478","v":5},{"$f":"データ貼付!K478","v":0}]
[478,"小学男子走幅跳30",{"$f":"J481&COUNTIF($J$4:J481,J481)","v":"山本大三郎1"},{"$f":"データ貼付!D479&データ貼付!E479","v":"小学男子走幅跳"},{"$f":"データ貼付!G479+ROW()/1000000","v":348.00048099999998},30,{"$f":"データ貼付!A479","v":"小学生ｵﾎｰﾂｸ"},{"$f":"データ貼付!B479","v":"北見"},{"$f":"データ貼付!C479","v":43632},{"$f":"データ貼付!F479","v":"山本大三郎"},{"$f":"データ貼付!G479","v":348},{"$f":"データ貼付!H479","v":"決"},{"$f":"データ貼付!I479","v":"ｵﾎｰﾂｸACｼﾞｭﾆｱ"},{"$f":"データ貼付!J479","v":6},{"$f":"データ貼付!K479","v":0}]
[479,"高校男子走幅跳2",{"$f":"J482&COUNTIF($J$4:J482,J482)","v":"山本凛太郎2"},{"$f":"データ貼付!D480&データ貼付!E480","v":"高校男子走幅跳"},{"$f":"データ貼付!G480+ROW()/1000000","v":653.00048200000003},2,{"$f":"データ貼付!A480","v":"記録会第１戦"},{"$f":"データ貼付!B480","v":"北見"},{"$f":"データ貼付!C480","v":43583},{"$f":"データ貼付!F480","v":"山本凛太郎"},{"$f":"データ貼付!G480","v":653},{"$f":"データ貼付!H480","v":"決"},{"$f":"データ貼付!I480","v":"網走南ヶ丘高"},{"$f":"データ貼付!J480","v":3},{"$f":"データ貼付!K480","v":-0.5}]
[480,"高校男子走幅跳3",{"$f":"J483&COUNTIF($J$4:J483,J483)","v":"山本凜太郎2"},{"$f":"データ貼付!D481&データ貼付!E481","v":"高校男子走幅跳"},{"$f":"データ貼付!G481+ROW()/1000000","v":652.00048300000003},3,{"$f":"データ貼付!A481","v":"高体連支部"},{"$f":"データ貼付!B481","v":"北見"},{"$f":"データ貼付!C481","v":43608},{"$f":"データ貼付!F481","v":"山本凜太郎"},{"$f":"データ貼付!G481","v":652},{"$f":"データ貼付!H481","v":"決"},{"$f":"データ貼付!I481","v":"網走南ヶ丘高"},{"$f":"データ貼付!J481","v":3},{"$f":"データ貼付!K481","v":0.8}]
[481,"中学男子走幅跳15",{"$f":"J484&COUNTIF($J$4:J484,J484)","v":"市村宥樹1"},{"$f":"データ貼付!D482&データ貼付!E482","v":"中学男子走幅跳"},{"$f":"データ貼付!G482+ROW()/1000000","v":507.00048399999997},15,{"$f":"データ貼付!A482","v":"記録会３戦"},{"$f":"データ貼付!B482","v":"網走"},{"$f":"データ貼付!C482","v":43660},{"$f":"データ貼付!F482","v":"市村宥樹"},{"$f":"データ貼付!G482","v":507},{"$f":"データ貼付!H482","v":"決"},{"$f":"データ貼付!I482","v":"斜里中"},{"$f":"データ貼付!J482","v":3},{"$f":"データ貼付!K482","v":1}]
[482,"小学女子走幅跳1",{"$f":"J485&COUNTIF($J$4:J485,J485)","v":"寺澤碧凜1"},{"$f":"データ貼付!D483&データ貼付!E483","v":"小学女子走幅跳"},{"$f":"データ貼付!G483+ROW()/1000000","v":405.00048500000003},1,{"$f":"データ貼付!A483","v":"小学記録会"},{"$f":"データ貼付!B483","v":"北見"},{"$f":"データ貼付!C483","v":43736},{"$f":"データ貼付!F483","v":"寺澤碧凜"},{"$f":"データ貼付!G483","v":405},{"$f":"データ貼付!H483","v":"決"},{"$f":"データ貼付!I483","v":"ｵﾎｰﾂｸｷｯｽﾞ"},{"$f":"データ貼付!J483","v":6},{"$f":"データ貼付!K483","v":0}]
[483,"中学女子走幅跳47",{"$f":"J486&COUNTIF($J$4:J486,J486)","v":"篠原もも香1"},{"$f":"データ貼付!D484&データ貼付!E484","v":"中学女子走幅跳"},{"$f":"データ貼付!G484+ROW()/1000000","v":341.00048600000002},47,{"$f":"データ貼付!A484","v":"記録会４戦"},{"$f":"データ貼付!B484","v":"北見"},{"$f":"データ貼付!C484","v":43681},{"$f":"データ貼付!F484","v":"篠原もも香"},{"$f":"データ貼付!G484","v":341},{"$f":"データ貼付!H484","v":"決"},{"$f":"データ貼付!I484","v":"北見南中"},{"$f":"データ貼付!J484","v":1},{"$f":"データ貼付!K484","v":0}]
[484,"小学男子走幅跳53",{"$f":"J487&COUNTIF($J$4:J487,J487)","v":"柴田遥斗3"},{"$f":"データ貼付!D485&データ貼付!E485","v":"小学男子走幅跳"},{"$f":"データ貼付!G485+ROW()/1000000","v":278.00048700000002},53,{"$f":"データ貼付!A485","v":"小学記録会"},{"$f":"データ貼付!B485","v":"北見"},{"$f":"データ貼付!C485","v":43736},{"$f":"データ貼付!F485","v":"柴田遥斗"},{"$f":"データ貼付!G485","v":278},{"$f":"データ貼付!H485","v":"決"},{"$f":"データ貼付!I485","v":"ｵﾎｰﾂｸｷｯｽﾞ"},{"$f":"データ貼付!J485","v":3},{"$f":"データ貼付!K485","v":0}]
[485,"小学男子走幅跳62",{"$f":"J488&COUNTIF($J$4:J488,J488)","v":"若月柚樹3"},{"$f":"データ貼付!D486&データ貼付!E486","v":"小学男子走幅跳"},{"$f":"データ貼付!G486+ROW()/1000000","v":236.00048799999999},62,{"$f":"データ貼付!A486","v":"フィールド記録会"},{"$f":"データ貼付!B486","v":"網走"},{"$f":"データ貼付!C486","v":43624},{"$f":"データ貼付!F486","v":"若月柚樹"},{"$f":"データ貼付!G486","v":236},{"$f":"データ貼付!H486","v":"決"},{"$f":"データ貼付!I486","v":"美幌RC"},{"$f":"データ貼付!J486","v":4},{"$f":"データ貼付!K486","v":0}]
[486,"中学女子走幅跳30",{"$f":"J489&COUNTIF($J$4:J489,J489)","v":"若沢美勇1"},{"$f":"データ貼付!D487&データ貼付!E487","v":"中学女子走幅跳"},{"$f":"データ貼付!G487+ROW()/1000000","v":389.00048900000002},30,{"$f":"データ貼付!A487","v":"記録会第１戦"},{"$f":"データ貼付!B487","v":"北見"},{"$f":"データ貼付!C487","v":43583},{"$f":"データ貼付!F487","v":"若沢美勇"},{"$f":"データ貼付!G487","v":389},{"$f":"データ貼付!H487","v":"決"},{"$f":"データ貼付!I487","v":"北見小泉中"},{"$f":"データ貼付!J487","v":2},{"$f":"データ貼付!K487","v":1.2}]
[487,"中学男子走幅跳51",{"$f":"J490&COUNTIF($J$4:J490,J490)","v":"酒井柊優2"},{"$f":"データ貼付!D488&データ貼付!E488","v":"中学男子走幅跳"},{"$f":"データ貼付!G488+ROW()/1000000","v":405.00049000000001},51,{"$f":"データ貼付!A488","v":"記録会４戦"},{"$f":"データ貼付!B488","v":"北見"},{"$f":"データ貼付!C488","v":43681},{"$f":"データ貼付!F488","v":"酒井柊優"},{"$f":"データ貼付!G488","v":405},{"$f":"データ貼付!H488","v":"決"},{"$f":"データ貼付!I488","v":"北見東陵中"},{"$f":"データ貼付!J488","v":1},{"$f":"データ貼付!K488","v":2.1}]
[488,"中学女子走幅跳32",{"$f":"J491&COUNTIF($J$4:J491,J491)","v":"酒部暖1"},{"$f":"データ貼付!D489&データ貼付!E489","v":"中学女子走幅跳"},{"$f":"データ貼付!G489+ROW()/1000000","v":376.00049100000001},32,{"$f":"データ貼付!A489","v":"フィールド記録会"},{"$f":"データ貼付!B489","v":"網走"},{"$f":"データ貼付!C489","v":43624},{"$f":"データ貼付!F489","v":"酒部暖"},{"$f":"データ貼付!G489","v":376},{"$f":"データ貼付!H489","v":"決"},{"$f":"データ貼付!I489","v":"斜里中"},{"$f":"データ貼付!J489","v":1},{"$f":"データ貼付!K489","v":3.2}]
[489,"中学男子走幅跳46",{"$f":"J492&COUNTIF($J$4:J492,J492)","v":"小原詩恩1"},{"$f":"データ貼付!D490&データ貼付!E490","v":"中学男子走幅跳"},{"$f":"データ貼付!G490+ROW()/1000000","v":416.00049200000001},46,{"$f":"データ貼付!A490","v":"記録会３戦"},{"$f":"データ貼付!B490","v":"網走"},{"$f":"データ貼付!C490","v":43660},{"$f":"データ貼付!F490","v":"小原詩恩"},{"$f":"データ貼付!G490","v":416},{"$f":"データ貼付!H490","v":"決"},{"$f":"データ貼付!I490","v":"美幌北中"},{"$f":"データ貼付!J490","v":1},{"$f":"データ貼付!K490","v":-0.2}]
[490,"高校男子走幅跳25",{"$f":"J493&COUNTIF($J$4:J493,J493)","v":"小山唯斗1"},{"$f":"データ貼付!D491&データ貼付!E491","v":"高校男子走幅跳"},{"$f":"データ貼付!G491+ROW()/1000000","v":542.00049300000001},25,{"$f":"データ貼付!A491","v":"高校新人"},{"$f":"データ貼付!B491","v":"網走"},{"$f":"データ貼付!C491","v":43700},{"$f":"データ貼付!F491","v":"小山唯斗"},{"$f":"データ貼付!G491","v":542},{"$f":"データ貼付!H491","v":"決"},{"$f":"データ貼付!I491","v":"網走南ヶ丘高"},{"$f":"データ貼付!J491","v":2},{"$f":"データ貼付!K491","v":2.4}]
[491,"中学男子走幅跳8",{"$f":"J494&COUNTIF($J$4:J494,J494)","v":"小助川智博1"},{"$f":"データ貼付!D492&データ貼付!E492","v":"中学男子走幅跳"},{"$f":"データ貼付!G492+ROW()/1000000","v":546.000494},8,{"$f":"データ貼付!A492","v":"記録会４戦"},{"$f":"データ貼付!B492","v":"北見"},{"$f":"データ貼付!C492","v":43681},{"$f":"データ貼付!F492","v":"小助川智博"},{"$f":"データ貼付!G492","v":546},{"$f":"データ貼付!H492","v":"決"},{"$f":"データ貼付!I492","v":"紋別中"},{"$f":"データ貼付!J492","v":2},{"$f":"データ貼付!K492","v":0.8}]
[492,"高校男子走幅跳30",{"$f":"J495&COUNTIF($J$4:J495,J495)","v":"小澄晴斗1"},{"$f":"データ貼付!D493&データ貼付!E493","v":"高校男子走幅跳"},{"$f":"データ貼付!G493+ROW()/1000000","v":527.000495},30,{"$f":"データ貼付!A493","v":"選手権"},{"$f":"データ貼付!B493","v":"北見"},{"$f":"データ貼付!C493","v":43597},{"$f":"データ貼付!F493","v":"小澄晴斗"},{"$f":"データ貼付!G493","v":527},{"$f":"データ貼付!H493","v":"決"},{"$f":"データ貼付!I493","v":"北見工業高"},{"$f":"データ貼付!J493","v":3},{"$f":"データ貼付!K493","v":2.2999999999999998}]
[493,"高校男子走幅跳32",{"$f":"J496&COUNTIF($J$4:J496,J496)","v":"小川慶士2"},{"$f":"データ貼付!D494&データ貼付!E494","v":"高校男子走幅跳"},{"$f":"データ貼付!G494+ROW()/1000000","v":523.000496},32,{"$f":"データ貼付!A494","v":"秋季陸上"},{"$f":"データ貼付!B494","v":"網走"},{"$f":"データ貼付!C494","v":43715},{"$f":"データ貼付!F494","v":"小川慶士"},{"$f":"データ貼付!G494","v":523},{"$f":"データ貼付!H494","v":"決"},{"$f":"データ貼付!I494","v":"紋別高"},{"$f":"データ貼付!J494","v":2},{"$f":"データ貼付!K494","v":-0.1}]
[494,"小学女子走幅跳18",{"$f":"J497&COUNTIF($J$4:J497,J497)","v":"小泉杏実1"},{"$f":"データ貼付!D495&データ貼付!E495","v":"小学女子走幅跳"},{"$f":"データ貼付!G495+ROW()/1000000","v":331.000497},18,{"$f":"データ貼付!A495","v":"小学記録会"},{"$f":"データ貼付!B495","v":"北見"},{"$f":"データ貼付!C495","v":43736},{"$f":"データ貼付!F495","v":"小泉杏実"},{"$f":"データ貼付!G495","v":331},{"$f":"データ貼付!H495","v":"決"},{"$f":"データ貼付!I495","v":"訓子府陸上少年団"},{"$f":"データ貼付!J495","v":4},{"$f":"データ貼付!K495","v":0}]
[495,"中学男子走幅跳38",{"$f":"J498&COUNTIF($J$4:J498,J498)","v":"小島悠翔1"},{"$f":"データ貼付!D496&データ貼付!E496","v":"中学男子走幅跳"},{"$f":"データ貼付!G496+ROW()/1000000","v":436.00049799999999},38,{"$f":"データ貼付!A496","v":"秋季陸上"},{"$f":"データ貼付!B496","v":"網走"},{"$f":"データ貼付!C496","v":43716},{"$f":"データ貼付!F496","v":"小島悠翔"},{"$f":"データ貼付!G496","v":436},{"$f":"データ貼付!H496","v":"決"},{"$f":"データ貼付!I496","v":"美幌北中"},{"$f":"データ貼付!J496","v":2},{"$f":"データ貼付!K496","v":-1.5}]
[496,"中学女子走幅跳48",{"$f":"J499&COUNTIF($J$4:J499,J499)","v":"小木若菜1"},{"$f":"データ貼付!D497&データ貼付!E497","v":"中学女子走幅跳"},{"$f":"データ貼付!G497+ROW()/1000000","v":331.00049899999999},48,{"$f":"データ貼付!A497","v":"秋季陸上"},{"$f":"データ貼付!B497","v":"網走"},{"$f":"データ貼付!C497","v":43715},{"$f":"データ貼付!F497","v":"小木若菜"},{"$f":"データ貼付!G497","v":331},{"$f":"データ貼付!H497","v":"決"},{"$f":"データ貼付!I497","v":"置戸中"},{"$f":"データ貼付!J497","v":1},{"$f":"データ貼付!K497","v":2.1}]
[497,"高校女子走幅跳4",{"$f":"J500&COUNTIF($J$4:J500,J500)","v":"小野寺萌華1"},{"$f":"データ貼付!D498&データ貼付!E498","v":"高校女子走幅跳"},{"$f":"データ貼付!G498+ROW()/1000000","v":506.00049999999999},4,{"$f":"データ貼付!A498","v":"高体連支部"},{"$f":"データ貼付!B498","v":"北見"},{"$f":"データ貼付!C498","v":43608},{"$f":"データ貼付!F498","v":"小野寺萌華"},{"$f":"データ貼付!G498","v":506},{"$f":"データ貼付!H498","v":"決"},{"$f":"データ貼付!I498","v":"網走南ヶ丘高"},{"$f":"データ貼付!J498","v":1},{"$f":"データ貼付!K498","v":2.6}]
[498,"高校男子走幅跳37",{"$f":"J501&COUNTIF($J$4:J501,J501)","v":"小野拓也1"},{"$f":"データ貼付!D499&データ貼付!E499","v":"高校男子走幅跳"},{"$f":"データ貼付!G499+ROW()/1000000","v":518.00050099999999},37,{"$f":"データ貼付!A499","v":"記録会第２戦"},{"$f":"データ貼付!B499","v":"網走"},{"$f":"データ貼付!C499","v":43590},{"$f":"データ貼付!F499","v":"小野拓也"},{"$f":"データ貼付!G499","v":518},{"$f":"データ貼付!H499","v":"決"},{"$f":"データ貼付!I499","v":"網走桂陽高"},{"$f":"データ貼付!J499","v":3},{"$f":"データ貼付!K499","v":1.4}]
[499,"中学男子走幅跳80",{"$f":"J502&COUNTIF($J$4:J502,J502)","v":"小林蓮弥1"},{"$f":"データ貼付!D500&データ貼付!E500","v":"中学男子走幅跳"},{"$f":"データ貼付!G500+ROW()/1000000","v":323.00050199999998},80,{"$f":"データ貼付!A500","v":"記録会３戦"},{"$f":"データ貼付!B500","v":"網走"},{"$f":"データ貼付!C500","v":43660},{"$f":"データ貼付!F500","v":"小林蓮弥"},{"$f":"データ貼付!G500","v":323},{"$f":"データ貼付!H500","v":"決"},{"$f":"データ貼付!I500","v":"北見小泉中"},{"$f":"データ貼付!J500","v":1},{"$f":"データ貼付!K500","v":0.5}]
[500,"中学女子走幅跳19",{"$f":"J503&COUNTIF($J$4:J503,J503)","v":"小林澪1"},{"$f":"データ貼付!D501&データ貼付!E501","v":"中学女子走幅跳"},{"$f":"データ貼付!G501+ROW()/1000000","v":418.00050299999998},19,{"$f":"データ貼付!A501","v":"通信陸上"},{"$f":"データ貼付!B501","v":"網走"},{"$f":"データ貼付!C501","v":43644},{"$f":"データ貼付!F501","v":"小林澪"},{"$f":"データ貼付!G501","v":418},{"$f":"データ貼付!H501","v":"予"},{"$f":"データ貼付!I501","v":"斜里中"},{"$f":"データ貼付!J501","v":1},{"$f":"データ貼付!K501","v":0.7}]
[501,"小学女子走幅跳27",{"$f":"J504&COUNTIF($J$4:J504,J504)","v":"松井杏美李1"},{"$f":"データ貼付!D502&データ貼付!E502","v":"小学女子走幅跳"},{"$f":"データ貼付!G502+ROW()/1000000","v":257.00050399999998},27,{"$f":"データ貼付!A502","v":"記録会第１戦"},{"$f":"データ貼付!B502","v":"北見"},{"$f":"データ貼付!C502","v":43583},{"$f":"データ貼付!F502","v":"松井杏美李"},{"$f":"データ貼付!G502","v":257},{"$f":"データ貼付!H502","v":"決"},{"$f":"データ貼付!I502","v":"美幌RC"},{"$f":"データ貼付!J502","v":3},{"$f":"データ貼付!K502","v":0}]
[502,"中学男子走幅跳23",{"$f":"J505&COUNTIF($J$4:J505,J505)","v":"松永悠輝1"},{"$f":"データ貼付!D503&データ貼付!E503","v":"中学男子走幅跳"},{"$f":"データ貼付!G503+ROW()/1000000","v":484.00050499999998},23,{"$f":"データ貼付!A503","v":"秋季陸上"},{"$f":"データ貼付!B503","v":"網走"},{"$f":"データ貼付!C503","v":43716},{"$f":"データ貼付!F503","v":"松永悠輝"},{"$f":"データ貼付!G503","v":484},{"$f":"データ貼付!H503","v":"決"},{"$f":"データ貼付!I503","v":"雄武中"},{"$f":"データ貼付!J503","v":2},{"$f":"データ貼付!K503","v":-0.2}]
[503,"高校女子走幅跳8",{"$f":"J506&COUNTIF($J$4:J506,J506)","v":"松原麗1"},{"$f":"データ貼付!D504&データ貼付!E504","v":"高校女子走幅跳"},{"$f":"データ貼付!G504+ROW()/1000000","v":481.00050599999997},8,{"$f":"データ貼付!A504","v":"高体連支部"},{"$f":"データ貼付!B504","v":"北見"},{"$f":"データ貼付!C504","v":43608},{"$f":"データ貼付!F504","v":"松原麗"},{"$f":"データ貼付!G504","v":481},{"$f":"データ貼付!H504","v":"決"},{"$f":"データ貼付!I504","v":"遠軽高"},{"$f":"データ貼付!J504","v":2},{"$f":"データ貼付!K504","v":2.4}]
[504,"一般男子走幅跳4",{"$f":"J507&COUNTIF($J$4:J507,J507)","v":"松田侑也2"},{"$f":"データ貼付!D505&データ貼付!E505","v":"一般男子走幅跳"},{"$f":"データ貼付!G505+ROW()/1000000","v":603.00050699999997},4,{"$f":"データ貼付!A505","v":"秋季陸上"},{"$f":"データ貼付!B505","v":"網走"},{"$f":"データ貼付!C505","v":43715},{"$f":"データ貼付!F505","v":"松田侑也"},{"$f":"データ貼付!G505","v":603},{"$f":"データ貼付!H505","v":"決"},{"$f":"データ貼付!I505","v":"北見工大"},{"$f":"データ貼付!J505","v":"般"},{"$f":"データ貼付!K505","v":-1.2}]
[505,"中学女子走幅跳8",{"$f":"J508&COUNTIF($J$4:J508,J508)","v":"松本優那1"},{"$f":"データ貼付!D506&データ貼付!E506","v":"中学女子走幅跳"},{"$f":"データ貼付!G506+ROW()/1000000","v":440.00050800000002},8,{"$f":"データ貼付!A506","v":"道ジュニア"},{"$f":"データ貼付!B506","v":"釧路"},{"$f":"データ貼付!C506","v":43709},{"$f":"データ貼付!F506","v":"松本優那"},{"$f":"データ貼付!G506","v":440},{"$f":"データ貼付!H506","v":"決"},{"$f":"データ貼付!I506","v":"美幌北中"},{"$f":"データ貼付!J506","v":1},{"$f":"データ貼付!K506","v":1.3}]
[506,"小学女子走幅跳3",{"$f":"J509&COUNTIF($J$4:J509,J509)","v":"沼岡実來1"},{"$f":"データ貼付!D507&データ貼付!E507","v":"小学女子走幅跳"},{"$f":"データ貼付!G507+ROW()/1000000","v":391.00050900000002},3,{"$f":"データ貼付!A507","v":"小学記録会"},{"$f":"データ貼付!B507","v":"北見"},{"$f":"データ貼付!C507","v":43736},{"$f":"データ貼付!F507","v":"沼岡実來"},{"$f":"データ貼付!G507","v":391},{"$f":"データ貼付!H507","v":"決"},{"$f":"データ貼付!I507","v":"美幌RC"},{"$f":"データ貼付!J507","v":5},{"$f":"データ貼付!K507","v":0}]
[507,"高校男子走幅跳40",{"$f":"J510&COUNTIF($J$4:J510,J510)","v":"菖蒲功起2"},{"$f":"データ貼付!D508&データ貼付!E508","v":"高校男子走幅跳"},{"$f":"データ貼付!G508+ROW()/1000000","v":515.00050999999996},40,{"$f":"データ貼付!A508","v":"高校新人"},{"$f":"データ貼付!B508","v":"網走"},{"$f":"データ貼付!C508","v":43700},{"$f":"データ貼付!F508","v":"菖蒲功起"},{"$f":"データ貼付!G508","v":515},{"$f":"データ貼付!H508","v":"決"},{"$f":"データ貼付!I508","v":"北見北斗高"},{"$f":"データ貼付!J508","v":1},{"$f":"データ貼付!K508","v":1.3}]
[508,"中学男子走幅跳41",{"$f":"J511&COUNTIF($J$4:J511,J511)","v":"上伊澤渉1"},{"$f":"データ貼付!D509&データ貼付!E509","v":"中学男子走幅跳"},{"$f":"データ貼付!G509+ROW()/1000000","v":428.00051100000002},41,{"$f":"データ貼付!A509","v":"中学新人"},{"$f":"データ貼付!B509","v":"網走"},{"$f":"データ貼付!C509","v":43700},{"$f":"データ貼付!F509","v":"上伊澤渉"},{"$f":"データ貼付!G509","v":428},{"$f":"データ貼付!H509","v":"決"},{"$f":"データ貼付!I509","v":"北見東陵中"},{"$f":"データ貼付!J509","v":2},{"$f":"データ貼付!K509","v":0.7}]
[509,"中学男子走幅跳69",{"$f":"J512&COUNTIF($J$4:J512,J512)","v":"上西翔1"},{"$f":"データ貼付!D510&データ貼付!E510","v":"中学男子走幅跳"},{"$f":"データ貼付!G510+ROW()/1000000","v":349.00051200000001},69,{"$f":"データ貼付!A510","v":"記録会３戦"},{"$f":"データ貼付!B510","v":"網走"},{"$f":"データ貼付!C510","v":43660},{"$f":"データ貼付!F510","v":"上西翔"},{"$f":"データ貼付!G510","v":349},{"$f":"データ貼付!H510","v":"決"},{"$f":"データ貼付!I510","v":"美幌中"},{"$f":"データ貼付!J510","v":1},{"$f":"データ貼付!K510","v":1.1000000000000001}]
[510,"中学男子走幅跳66",{"$f":"J513&COUNTIF($J$4:J513,J513)","v":"城石陸斗1"},{"$f":"データ貼付!D511&データ貼付!E511","v":"中学男子走幅跳"},{"$f":"データ貼付!G511+ROW()/1000000","v":361.00051300000001},66,{"$f":"データ貼付!A511","v":"記録会３戦"},{"$f":"データ貼付!B511","v":"網走"},{"$f":"データ貼付!C511","v":43660},{"$f":"データ貼付!F511","v":"城石陸斗"},{"$f":"データ貼付!G511","v":361},{"$f":"データ貼付!H511","v":"決"},{"$f":"データ貼付!I511","v":"北見小泉中"},{"$f":"データ貼付!J511","v":1},{"$f":"データ貼付!K511","v":0.9}]
[511,"中学男子走幅跳12",{"$f":"J514&COUNTIF($J$4:J514,J514)","v":"植本一希1"},{"$f":"データ貼付!D512&データ貼付!E512","v":"中学男子走幅跳"},{"$f":"データ貼付!G512+ROW()/1000000","v":518.00051399999995},12,{"$f":"データ貼付!A512","v":"記録会４戦"},{"$f":"データ貼付!B512","v":"北見"},{"$f":"データ貼付!C512","v":43681},{"$f":"データ貼付!F512","v":"植本一希"},{"$f":"データ貼付!G512","v":518},{"$f":"データ貼付!H512","v":"決"},{"$f":"データ貼付!I512","v":"北見北光中"},{"$f":"データ貼付!J512","v":3},{"$f":"データ貼付!K512","v":1.2}]
[512,"小学男子走幅跳60",{"$f":"J515&COUNTIF($J$4:J515,J515)","v":"新谷一真3"},{"$f":"データ貼付!D513&データ貼付!E513","v":"小学男子走幅跳"},{"$f":"データ貼付!G513+ROW()/1000000","v":244.00051500000001},60,{"$f":"データ貼付!A513","v":"小学記録会"},{"$f":"データ貼付!B513","v":"北見"},{"$f":"データ貼付!C513","v":43736},{"$f":"データ貼付!F513","v":"新谷一真"},{"$f":"データ貼付!G513","v":244},{"$f":"データ貼付!H513","v":"決"},{"$f":"データ貼付!I513","v":"ｵﾎｰﾂｸｷｯｽﾞ"},{"$f":"データ貼付!J513","v":3},{"$f":"データ貼付!K513","v":0}]
[513,"小学女子走幅跳16",{"$f":"J516&COUNTIF($J$4:J516,J516)","v":"森下愛羽1"},{"$f":"データ貼付!D514&データ貼付!E514","v":"小学女子走幅跳"},{"$f":"データ貼付!G514+ROW()/1000000","v":333.000516},16,{"$f":"データ貼付!A514","v":"小学生ｵﾎｰﾂｸ"},{"$f":"データ貼付!B514","v":"北見"},{"$f":"データ貼付!C514","v":43632},{"$f":"データ貼付!F514","v":"森下愛羽"},{"$f":"データ貼付!G514","v":333},{"$f":"データ貼付!H514","v":"決"},{"$f":"データ貼付!I514","v":"訓子府陸上少年団"},{"$f":"データ貼付!J514","v":6},{"$f":"データ貼付!K514","v":0}]
[514,{"$f":"D517&F517","v":"中学男子走幅跳34"},{"$f":"J517&COUNTIF($J$4:J517,J517)","v":"森駿輝2"},{"$f":"データ貼付!D515&データ貼付!E515","v":"中学男子走幅跳"},{"$f":"データ貼付!G515+ROW()/1000000","v":448.000517},{"$f":"SUMPRODUCT(($D$4:$D$903=D517)*($E$4:$E$903>E517))+1","v":34},{"$f":"データ貼付!A515","v":"記録会３戦"},{"$f":"データ貼付!B515","v":"網走"},{"$f":"データ貼付!C515","v":43660},{"$f":"データ貼付!F515","v":"森駿輝"},{"$f":"データ貼付!G515","v":448},{"$f":"データ貼付!H515","v":"決"},{"$f":"データ貼付!I515","v":"北見北光中"},{"$f":"データ貼付!J515","v":2},{"$f":"データ貼付!K515","v":0.8}]
[515,"小学女子走幅跳21",{"$f":"J518&COUNTIF($J$4:J518,J518)","v":"森南帆1"},{"$f":"データ貼付!D516&データ貼付!E516","v":"小学女子走幅跳"},{"$f":"データ貼付!G516+ROW()/1000000","v":302.000518},21,{"$f":"データ貼付!A516","v":"小学記録会"},{"$f":"データ貼付!B516","v":"北見"},{"$f":"データ貼付!C516","v":43736},{"$f":"データ貼付!F516","v":"森南帆"},{"$f":"データ貼付!G516","v":302},{"$f":"データ貼付!H516","v":"決"},{"$f":"データ貼付!I516","v":"常呂陸上少年団"},{"$f":"データ貼付!J516","v":4},{"$f":"データ貼付!K516","v":0}]
[516,"高校男子走幅跳11",{"$f":"J519&COUNTIF($J$4:J519,J519)","v":"水上遥翔1"},{"$f":"データ貼付!D517&データ貼付!E517","v":"高校男子走幅跳"},{"$f":"データ貼付!G517+ROW()/1000000","v":607.00051900000005},11,{"$f":"データ貼付!A517","v":"高校新人"},{"$f":"データ貼付!B517","v":"網走"},{"$f":"データ貼付!C517","v":43700},{"$f":"データ貼付!F517","v":"水上遥翔"},{"$f":"データ貼付!G517","v":607},{"$f":"データ貼付!H517","v":"決"},{"$f":"データ貼付!I517","v":"北見北斗高"},{"$f":"データ貼付!J517","v":1},{"$f":"データ貼付!K517","v":1.6}]
[517,"小学女子走幅跳29",{"$f":"J520&COUNTIF($J$4:J520,J520)","v":"水谷有里1"},{"$f":"データ貼付!D518&データ貼付!E518","v":"小学女子走幅跳"},{"$f":"データ貼付!G518+ROW()/1000000","v":252.00051999999999},29,{"$f":"データ貼付!A518","v":"小学記録会"},{"$f":"データ貼付!B518","v":"北見"},{"$f":"データ貼付!C518","v":43736},{"$f":"データ貼付!F518","v":"水谷有里"},{"$f":"データ貼付!G518","v":252},{"$f":"データ貼付!H518","v":"決"},{"$f":"データ貼付!I518","v":"常呂陸上少年団"},{"$f":"データ貼付!J518","v":4},{"$f":"データ貼付!K518","v":0}]
[518,"中学女子走幅跳12",{"$f":"J521&COUNTIF($J$4:J521,J521)","v":"杉本玲奈1"},{"$f":"データ貼付!D519&データ貼付!E519","v":"中学女子走幅跳"},{"$f":"データ貼付!G519+ROW()/1000000","v":434.00052099999999},12,{"$f":"データ貼付!A519","v":"通信陸上"},{"$f":"データ貼付!B519","v":"網走"},{"$f":"データ貼付!C519","v":43645},{"$f":"データ貼付!F519","v":"杉本玲奈"},{"$f":"データ貼付!G519","v":434},{"$f":"データ貼付!H519","v":"決"},{"$f":"データ貼付!I519","v":"網走第四中"},{"$f":"データ貼付!J519","v":2},{"$f":"データ貼付!K519","v":1.4}]
[519,"中学男子走幅跳49",{"$f":"J522&COUNTIF($J$4:J522,J522)","v":"杉澤快流1"},{"$f":"データ貼付!D520&データ貼付!E520","v":"中学男子走幅跳"},{"$f":"データ貼付!G520+ROW()/1000000","v":407.00052199999999},49,{"$f":"データ貼付!A520","v":"通信陸上"},{"$f":"データ貼付!B520","v":"網走"},{"$f":"データ貼付!C520","v":43644},{"$f":"データ貼付!F520","v":"杉澤快流"},{"$f":"データ貼付!G520","v":407},{"$f":"データ貼付!H520","v":"予"},{"$f":"データ貼付!I520","v":"北見東陵中"},{"$f":"データ貼付!J520","v":2},{"$f":"データ貼付!K520","v":1.2}]
[520,"小学女子走幅跳8",{"$f":"J523&COUNTIF($J$4:J523,J523)","v":"菅田愛莉1"},{"$f":"データ貼付!D521&データ貼付!E521","v":"小学女子走幅跳"},{"$f":"データ貼付!G521+ROW()/1000000","v":364.00052299999999},8,{"$f":"データ貼付!A521","v":"小学記録会"},{"$f":"データ貼付!B521","v":"北見"},{"$f":"データ貼付!C521","v":43736},{"$f":"データ貼付!F521","v":"菅田愛莉"},{"$f":"データ貼付!G521","v":364},{"$f":"データ貼付!H521","v":"決"},{"$f":"データ貼付!I521","v":"美幌RC"},{"$f":"データ貼付!J521","v":4},{"$f":"データ貼付!K521","v":0}]
[521,"小学男子走幅跳22",{"$f":"J524&COUNTIF($J$4:J524,J524)","v":"菅田皓生1"},{"$f":"データ貼付!D522&データ貼付!E522","v":"小学男子走幅跳"},{"$f":"データ貼付!G522+ROW()/1000000","v":378.00052399999998},22,{"$f":"データ貼付!A522","v":"小学記録会"},{"$f":"データ貼付!B522","v":"北見"},{"$f":"データ貼付!C522","v":43736},{"$f":"データ貼付!F522","v":"菅田皓生"},{"$f":"データ貼付!G522","v":378},{"$f":"データ貼付!H522","v":"決"},{"$f":"データ貼付!I522","v":"美幌RC"},{"$f":"データ貼付!J522","v":4},{"$f":"データ貼付!K522","v":0}]
[522,"高校男子走幅跳44",{"$f":"J525&COUNTIF($J$4:J525,J525)","v":"菅野威織1"},{"$f":"データ貼付!D523&データ貼付!E523","v":"高校男子走幅跳"},{"$f":"データ貼付!G523+ROW()/1000000","v":490.00052499999998},44,{"$f":"データ貼付!A523","v":"記録会第１戦"},{"$f":"データ貼付!B523","v":"北見"},{"$f":"データ貼付!C523","v":43583},{"$f":"データ貼付!F523","v":"菅野威織"},{"$f":"データ貼付!G523","v":490},{"$f":"データ貼付!H523","v":"決"},{"$f":"データ貼付!I523","v":"北見工業高"},{"$f":"データ貼付!J523","v":3},{"$f":"データ貼付!K523","v":-0.1}]
[523,"中学女子走幅跳34",{"$f":"J526&COUNTIF($J$4:J526,J526)","v":"瀬川杏優1"},{"$f":"データ貼付!D524&データ貼付!E524","v":"中学女子走幅跳"},{"$f":"データ貼付!G524+ROW()/1000000","v":374.00052599999998},34,{"$f":"データ貼付!A524","v":"記録会第１戦"},{"$f":"データ貼付!B524","v":"北見"},{"$f":"データ貼付!C524","v":43583},{"$f":"データ貼付!F524","v":"瀬川杏優"},{"$f":"データ貼付!G524","v":374},{"$f":"データ貼付!H524","v":"決"},{"$f":"データ貼付!I524","v":"網走第一中"},{"$f":"データ貼付!J524","v":2},{"$f":"データ貼付!K524","v":1.3}]
[524,"小学男子走幅跳55",{"$f":"J527&COUNTIF($J$4:J527,J527)","v":"清野文斗1"},{"$f":"データ貼付!D525&データ貼付!E525","v":"小学男子走幅跳"},{"$f":"データ貼付!G525+ROW()/1000000","v":272.00052699999998},55,{"$f":"データ貼付!A525","v":"小学記録会"},{"$f":"データ貼付!B525","v":"北見"},{"$f":"データ貼付!C525","v":43736},{"$f":"データ貼付!F525","v":"清野文斗"},{"$f":"データ貼付!G525","v":272},{"$f":"データ貼付!H525","v":"決"},{"$f":"データ貼付!I525","v":"訓子府陸上少年団"},{"$f":"データ貼付!J525","v":3},{"$f":"データ貼付!K525","v":0}]
[525,"中学女子走幅跳5",{"$f":"J528&COUNTIF($J$4:J528,J528)","v":"西田陽菜多1"},{"$f":"データ貼付!D526&データ貼付!E526","v":"中学女子走幅跳"},{"$f":"データ貼付!G526+ROW()/1000000","v":457.00052799999997},5,{"$f":"データ貼付!A526","v":"中体連地区"},{"$f":"データ貼付!B526","v":"北見"},{"$f":"データ貼付!C526","v":43631},{"$f":"データ貼付!F526","v":"西田陽菜多"},{"$f":"データ貼付!G526","v":457},{"$f":"データ貼付!H526","v":"決"},{"$f":"データ貼付!I526","v":"北見高栄中"},{"$f":"データ貼付!J526","v":3},{"$f":"データ貼付!K526","v":0.1}]
[526,"高校男子走幅跳35",{"$f":"J529&COUNTIF($J$4:J529,J529)","v":"西島直希1"},{"$f":"データ貼付!D527&データ貼付!E527","v":"高校男子走幅跳"},{"$f":"データ貼付!G527+ROW()/1000000","v":520.00052900000003},35,{"$f":"データ貼付!A527","v":"記録会４戦"},{"$f":"データ貼付!B527","v":"北見"},{"$f":"データ貼付!C527","v":43681},{"$f":"データ貼付!F527","v":"西島直希"},{"$f":"データ貼付!G527","v":520},{"$f":"データ貼付!H527","v":"決"},{"$f":"データ貼付!I527","v":"北見緑陵高"},{"$f":"データ貼付!J527","v":1},{"$f":"データ貼付!K527","v":-0.6}]
[527,"中学男子走幅跳57",{"$f":"J530&COUNTIF($J$4:J530,J530)","v":"西藤志竜1"},{"$f":"データ貼付!D528&データ貼付!E528","v":"中学男子走幅跳"},{"$f":"データ貼付!G528+ROW()/1000000","v":379.00053000000003},57,{"$f":"データ貼付!A528","v":"中体連地区"},{"$f":"データ貼付!B528","v":"北見"},{"$f":"データ貼付!C528","v":43630},{"$f":"データ貼付!F528","v":"西藤志竜"},{"$f":"データ貼付!G528","v":379},{"$f":"データ貼付!H528","v":"予"},{"$f":"データ貼付!I528","v":"北見南中"},{"$f":"データ貼付!J528","v":1},{"$f":"データ貼付!K528","v":3.7}]
[528,"小学男子走幅跳44",{"$f":"J531&COUNTIF($J$4:J531,J531)","v":"西迫知希1"},{"$f":"データ貼付!D529&データ貼付!E529","v":"小学男子走幅跳"},{"$f":"データ貼付!G529+ROW()/1000000","v":307.00053100000002},44,{"$f":"データ貼付!A529","v":"記録会第１戦"},{"$f":"データ貼付!B529","v":"北見"},{"$f":"データ貼付!C529","v":43583},{"$f":"データ貼付!F529","v":"西迫知希"},{"$f":"データ貼付!G529","v":307},{"$f":"データ貼付!H529","v":"決"},{"$f":"データ貼付!I529","v":"ｵﾎｰﾂｸｷｯｽﾞ"},{"$f":"データ貼付!J529","v":5},{"$f":"データ貼付!K529","v":0}]
[529,"中学男子走幅跳1",{"$f":"J532&COUNTIF($J$4:J532,J532)","v":"西迫篤志1"},{"$f":"データ貼付!D530&データ貼付!E530","v":"中学男子走幅跳"},{"$f":"データ貼付!G530+ROW()/1000000","v":659.00053200000002},1,{"$f":"データ貼付!A530","v":"中体連地区"},{"$f":"データ貼付!B530","v":"北見"},{"$f":"データ貼付!C530","v":43631},{"$f":"データ貼付!F530","v":"西迫篤志"},{"$f":"データ貼付!G530","v":659},{"$f":"データ貼付!H530","v":"決"},{"$f":"データ貼付!I530","v":"北見北中"},{"$f":"データ貼付!J530","v":3},{"$f":"データ貼付!K530","v":1.9}]
[530,"中学男子走幅跳61",{"$f":"J533&COUNTIF($J$4:J533,J533)","v":"西陽矢1"},{"$f":"データ貼付!D531&データ貼付!E531","v":"中学男子走幅跳"},{"$f":"データ貼付!G531+ROW()/1000000","v":375.00053300000002},61,{"$f":"データ貼付!A531","v":"選手権"},{"$f":"データ貼付!B531","v":"北見"},{"$f":"データ貼付!C531","v":43596},{"$f":"データ貼付!F531","v":"西陽矢"},{"$f":"データ貼付!G531","v":375},{"$f":"データ貼付!H531","v":"決"},{"$f":"データ貼付!I531","v":"大空東藻琴中"},{"$f":"データ貼付!J531","v":2},{"$f":"データ貼付!K531","v":0.6}]
[531,"高校男子走幅跳58",{"$f":"J534&COUNTIF($J$4:J534,J534)","v":"斉藤一歩1"},{"$f":"データ貼付!D532&データ貼付!E532","v":"高校男子走幅跳"},{"$f":"データ貼付!G532+ROW()/1000000","v":406.00053400000002},58,{"$f":"データ貼付!A532","v":"高校新人"},{"$f":"データ貼付!B532","v":"網走"},{"$f":"データ貼付!C532","v":43700},{"$f":"データ貼付!F532","v":"斉藤一歩"},{"$f":"データ貼付!G532","v":406},{"$f":"データ貼付!H532","v":"決"},{"$f":"データ貼付!I532","v":"北見緑陵高"},{"$f":"データ貼付!J532","v":1},{"$f":"データ貼付!K532","v":0.2}]
[532,"高校男子走幅跳28",{"$f":"J535&COUNTIF($J$4:J535,J535)","v":"斉藤双希2"},{"$f":"データ貼付!D533&データ貼付!E533","v":"高校男子走幅跳"},{"$f":"データ貼付!G533+ROW()/1000000","v":529.00053500000001},28,{"$f":"データ貼付!A533","v":"高体連支部"},{"$f":"データ貼付!B533","v":"北見"},{"$f":"データ貼付!C533","v":43608},{"$f":"データ貼付!F533","v":"斉藤双希"},{"$f":"データ貼付!G533","v":529},{"$f":"データ貼付!H533","v":"決"},{"$f":"データ貼付!I533","v":"日体大附属高"},{"$f":"データ貼付!J533","v":3},{"$f":"データ貼付!K533","v":0.9}]
[533,"小学男子走幅跳45",{"$f":"J536&COUNTIF($J$4:J536,J536)","v":"斉藤大至1"},{"$f":"データ貼付!D534&データ貼付!E534","v":"小学男子走幅跳"},{"$f":"データ貼付!G534+ROW()/1000000","v":305.00053600000001},45,{"$f":"データ貼付!A534","v":"小学生ｵﾎｰﾂｸ"},{"$f":"データ貼付!B534","v":"北見"},{"$f":"データ貼付!C534","v":43632},{"$f":"データ貼付!F534","v":"斉藤大至"},{"$f":"データ貼付!G534","v":305},{"$f":"データ貼付!H534","v":"決"},{"$f":"データ貼付!I534","v":"ｵﾎｰﾂｸｷｯｽﾞ"},{"$f":"データ貼付!J534","v":4},{"$f":"データ貼付!K534","v":0}]
[534,"中学男子走幅跳79",{"$f":"J537&COUNTIF($J$4:J537,J537)","v":"斉藤楓1"},{"$f":"データ貼付!D535&データ貼付!E535","v":"中学男子走幅跳"},{"$f":"データ貼付!G535+ROW()/1000000","v":325.00053700000001},79,{"$f":"データ貼付!A535","v":"通信陸上"},{"$f":"データ貼付!B535","v":"網走"},{"$f":"データ貼付!C535","v":43644},{"$f":"データ貼付!F535","v":"斉藤楓"},{"$f":"データ貼付!G535","v":325},{"$f":"データ貼付!H535","v":"予"},{"$f":"データ貼付!I535","v":"紋別中"},{"$f":"データ貼付!J535","v":1},{"$f":"データ貼付!K535","v":1.1000000000000001}]
[535,"高校男子走幅跳12",{"$f":"J538&COUNTIF($J$4:J538,J538)","v":"石井建太郎1"},{"$f":"データ貼付!D536&データ貼付!E536","v":"高校男子走幅跳"},{"$f":"データ貼付!G536+ROW()/1000000","v":601.00053800000001},12,{"$f":"データ貼付!A536","v":"高体連支部"},{"$f":"データ貼付!B536","v":"北見"},{"$f":"データ貼付!C536","v":43608},{"$f":"データ貼付!F536","v":"石井建太郎"},{"$f":"データ貼付!G536","v":601},{"$f":"データ貼付!H536","v":"決"},{"$f":"データ貼付!I536","v":"網走南ヶ丘高"},{"$f":"データ貼付!J536","v":2},{"$f":"データ貼付!K536","v":2.2999999999999998}]
[536,"高校男子走幅跳8",{"$f":"J539&COUNTIF($J$4:J539,J539)","v":"石井建太朗1"},{"$f":"データ貼付!D537&データ貼付!E537","v":"高校男子走幅跳"},{"$f":"データ貼付!G537+ROW()/1000000","v":619.000539},8,{"$f":"データ貼付!A537","v":"記録会第２戦"},{"$f":"データ貼付!B537","v":"網走"},{"$f":"データ貼付!C537","v":43590},{"$f":"データ貼付!F537","v":"石井建太朗"},{"$f":"データ貼付!G537","v":619},{"$f":"データ貼付!H537","v":"決"},{"$f":"データ貼付!I537","v":"網走南ヶ丘高"},{"$f":"データ貼付!J537","v":2},{"$f":"データ貼付!K537","v":2.2000000000000002}]
[537,"高校男子走幅跳56",{"$f":"J540&COUNTIF($J$4:J540,J540)","v":"石井丈太郎3"},{"$f":"データ貼付!D538&データ貼付!E538","v":"高校男子走幅跳"},{"$f":"データ貼付!G538+ROW()/1000000","v":420.00054},56,{"$f":"データ貼付!A538","v":"高校新人"},{"$f":"データ貼付!B538","v":"網走"},{"$f":"データ貼付!C538","v":43700},{"$f":"データ貼付!F538","v":"石井丈太郎"},{"$f":"データ貼付!G538","v":420},{"$f":"データ貼付!H538","v":"決"},{"$f":"データ貼付!I538","v":"清里高"},{"$f":"データ貼付!J538","v":1},{"$f":"データ貼付!K538","v":2.6}]
[538,"中学男子走幅跳19",{"$f":"J541&COUNTIF($J$4:J541,J541)","v":"石崎虎太郎1"},{"$f":"データ貼付!D539&データ貼付!E539","v":"中学男子走幅跳"},{"$f":"データ貼付!G539+ROW()/1000000","v":492.000541},19,{"$f":"データ貼付!A539","v":"中体連地区"},{"$f":"データ貼付!B539","v":"北見"},{"$f":"データ貼付!C539","v":43631},{"$f":"データ貼付!F539","v":"石崎虎太郎"},{"$f":"データ貼付!G539","v":492},{"$f":"データ貼付!H539","v":"決"},{"$f":"データ貼付!I539","v":"北見南中"},{"$f":"データ貼付!J539","v":2},{"$f":"データ貼付!K539","v":-1.7}]
[539,"高校女子走幅跳11",{"$f":"J542&COUNTIF($J$4:J542,J542)","v":"石山真衣1"},{"$f":"データ貼付!D540&データ貼付!E540","v":"高校女子走幅跳"},{"$f":"データ貼付!G540+ROW()/1000000","v":449.000542},11,{"$f":"データ貼付!A540","v":"記録会４戦"},{"$f":"データ貼付!B540","v":"北見"},{"$f":"データ貼付!C540","v":43681},{"$f":"データ貼付!F540","v":"石山真衣"},{"$f":"データ貼付!G540","v":449},{"$f":"データ貼付!H540","v":"決"},{"$f":"データ貼付!I540","v":"湧別高"},{"$f":"データ貼付!J540","v":3},{"$f":"データ貼付!K540","v":0.9}]
[540,"小学男子走幅跳11",{"$f":"J543&COUNTIF($J$4:J543,J543)","v":"石川大道1"},{"$f":"データ貼付!D541&データ貼付!E541","v":"小学男子走幅跳"},{"$f":"データ貼付!G541+ROW()/1000000","v":406.00054299999999},11,{"$f":"データ貼付!A541","v":"小学記録会"},{"$f":"データ貼付!B541","v":"北見"},{"$f":"データ貼付!C541","v":43736},{"$f":"データ貼付!F541","v":"石川大道"},{"$f":"データ貼付!G541","v":406},{"$f":"データ貼付!H541","v":"決"},{"$f":"データ貼付!I541","v":"美幌RC"},{"$f":"データ貼付!J541","v":5},{"$f":"データ貼付!K541","v":0}]
[541,"小学女子走幅跳26",{"$f":"J544&COUNTIF($J$4:J544,J544)","v":"石川知優2"},{"$f":"データ貼付!D542&データ貼付!E542","v":"小学女子走幅跳"},{"$f":"データ貼付!G542+ROW()/1000000","v":270.00054399999999},26,{"$f":"データ貼付!A542","v":"記録会第１戦"},{"$f":"データ貼付!B542","v":"北見"},{"$f":"データ貼付!C542","v":43583},{"$f":"データ貼付!F542","v":"石川知優"},{"$f":"データ貼付!G542","v":270},{"$f":"データ貼付!H542","v":"決"},{"$f":"データ貼付!I542","v":"美幌RC"},{"$f":"データ貼付!J542","v":3},{"$f":"データ貼付!K542","v":0}]
[542,"小学男子走幅跳15",{"$f":"J545&COUNTIF($J$4:J545,J545)","v":"石田晴大1"},{"$f":"データ貼付!D543&データ貼付!E543","v":"小学男子走幅跳"},{"$f":"データ貼付!G543+ROW()/1000000","v":392.00054499999999},15,{"$f":"データ貼付!A543","v":"フィールド記録会"},{"$f":"データ貼付!B543","v":"網走"},{"$f":"データ貼付!C543","v":43624},{"$f":"データ貼付!F543","v":"石田晴大"},{"$f":"データ貼付!G543","v":392},{"$f":"データ貼付!H543","v":"決"},{"$f":"データ貼付!I543","v":"ｵﾎｰﾂｸｷｯｽﾞ"},{"$f":"データ貼付!J543","v":5},{"$f":"データ貼付!K543","v":0}]
[543,"一般男子走幅跳6",{"$f":"J546&COUNTIF($J$4:J546,J546)","v":"雪田大輝1"},{"$f":"データ貼付!D544&データ貼付!E544","v":"一般男子走幅跳"},{"$f":"データ貼付!G544+ROW()/1000000","v":540.00054599999999},6,{"$f":"データ貼付!A544","v":"秋季陸上"},{"$f":"データ貼付!B544","v":"網走"},{"$f":"データ貼付!C544","v":43715},{"$f":"データ貼付!F544","v":"雪田大輝"},{"$f":"データ貼付!G544","v":540},{"$f":"データ貼付!H544","v":"決"},{"$f":"データ貼付!I544","v":"ｵﾎｰﾂｸ陸協(沼田)"},{"$f":"データ貼付!J544","v":"般"},{"$f":"データ貼付!K544","v":0.6}]
[544,"小学男子走幅跳26",{"$f":"J547&COUNTIF($J$4:J547,J547)","v":"川瀬智仁1"},{"$f":"データ貼付!D545&データ貼付!E545","v":"小学男子走幅跳"},{"$f":"データ貼付!G545+ROW()/1000000","v":363.00054699999998},26,{"$f":"データ貼付!A545","v":"記録会第１戦"},{"$f":"データ貼付!B545","v":"北見"},{"$f":"データ貼付!C545","v":43583},{"$f":"データ貼付!F545","v":"川瀬智仁"},{"$f":"データ貼付!G545","v":363},{"$f":"データ貼付!H545","v":"決"},{"$f":"データ貼付!I545","v":"ｵﾎｰﾂｸACｼﾞｭﾆｱ"},{"$f":"データ貼付!J545","v":5},{"$f":"データ貼付!K545","v":0}]
[545,"高校男子走幅跳26",{"$f":"J548&COUNTIF($J$4:J548,J548)","v":"泉仁2"},{"$f":"データ貼付!D546&データ貼付!E546","v":"高校男子走幅跳"},{"$f":"データ貼付!G546+ROW()/1000000","v":531.00054799999998},26,{"$f":"データ貼付!A546","v":"高体連支部"},{"$f":"データ貼付!B546","v":"北見"},{"$f":"データ貼付!C546","v":43608},{"$f":"データ貼付!F546","v":"泉仁"},{"$f":"データ貼付!G546","v":531},{"$f":"データ貼付!H546","v":"決"},{"$f":"データ貼付!I546","v":"日体大附属高"},{"$f":"データ貼付!J546","v":1},{"$f":"データ貼付!K546","v":0.6}]
[546,"中学男子走幅跳54",{"$f":"J549&COUNTIF($J$4:J549,J549)","v":"浅倉悠大1"},{"$f":"データ貼付!D547&データ貼付!E547","v":"中学男子走幅跳"},{"$f":"データ貼付!G547+ROW()/1000000","v":392.00054899999998},54,{"$f":"データ貼付!A547","v":"通信陸上"},{"$f":"データ貼付!B547","v":"網走"},{"$f":"データ貼付!C547","v":43644},{"$f":"データ貼付!F547","v":"浅倉悠大"},{"$f":"データ貼付!G547","v":392},{"$f":"データ貼付!H547","v":"予"},{"$f":"データ貼付!I547","v":"美幌北中"},{"$f":"データ貼付!J547","v":1},{"$f":"データ貼付!K547","v":1}]
[547,"中学男子走幅跳53",{"$f":"J550&COUNTIF($J$4:J550,J550)","v":"曽根哲優1"},{"$f":"データ貼付!D548&データ貼付!E548","v":"中学男子走幅跳"},{"$f":"データ貼付!G548+ROW()/1000000","v":396.00054999999998},53,{"$f":"データ貼付!A548","v":"秋季陸上"},{"$f":"データ貼付!B548","v":"網走"},{"$f":"データ貼付!C548","v":43716},{"$f":"データ貼付!F548","v":"曽根哲優"},{"$f":"データ貼付!G548","v":396},{"$f":"データ貼付!H548","v":"決"},{"$f":"データ貼付!I548","v":"美幌北中"},{"$f":"データ貼付!J548","v":1},{"$f":"データ貼付!K548","v":-0.5}]
[548,"小学男子走幅跳10",{"$f":"J551&COUNTIF($J$4:J551,J551)","v":"曽根天太1"},{"$f":"データ貼付!D549&データ貼付!E549","v":"小学男子走幅跳"},{"$f":"データ貼付!G549+ROW()/1000000","v":406.00055099999997},10,{"$f":"データ貼付!A549","v":"小学記録会"},{"$f":"データ貼付!B549","v":"北見"},{"$f":"データ貼付!C549","v":43736},{"$f":"データ貼付!F549","v":"曽根天太"},{"$f":"データ貼付!G549","v":406},{"$f":"データ貼付!H549","v":"決"},{"$f":"データ貼付!I549","v":"美幌RC"},{"$f":"データ貼付!J549","v":5},{"$f":"データ貼付!K549","v":0}]
[549,"高校女子走幅跳5",{"$f":"J552&COUNTIF($J$4:J552,J552)","v":"曽根美紅3"},{"$f":"データ貼付!D550&データ貼付!E550","v":"高校女子走幅跳"},{"$f":"データ貼付!G550+ROW()/1000000","v":500.00055200000003},5,{"$f":"データ貼付!A550","v":"記録会４戦"},{"$f":"データ貼付!B550","v":"北見"},{"$f":"データ貼付!C550","v":43681},{"$f":"データ貼付!F550","v":"曽根美紅"},{"$f":"データ貼付!G550","v":500},{"$f":"データ貼付!H550","v":"決"},{"$f":"データ貼付!I550","v":"網走南ヶ丘高"},{"$f":"データ貼付!J550","v":1},{"$f":"データ貼付!K550","v":2.1}]
[550,"中学男子走幅跳33",{"$f":"J553&COUNTIF($J$4:J553,J553)","v":"倉本静鬼2"},{"$f":"データ貼付!D551&データ貼付!E551","v":"中学男子走幅跳"},{"$f":"データ貼付!G551+ROW()/1000000","v":450.00055300000002},33,{"$f":"データ貼付!A551","v":"通信陸上"},{"$f":"データ貼付!B551","v":"網走"},{"$f":"データ貼付!C551","v":43644},{"$f":"データ貼付!F551","v":"倉本静鬼"},{"$f":"データ貼付!G551","v":450},{"$f":"データ貼付!H551","v":"予"},{"$f":"データ貼付!I551","v":"北見東陵中"},{"$f":"データ貼付!J551","v":2},{"$f":"データ貼付!K551","v":1}]
[551,"小学女子走幅跳28",{"$f":"J554&COUNTIF($J$4:J554,J554)","v":"相馬羽夏2"},{"$f":"データ貼付!D552&データ貼付!E552","v":"小学女子走幅跳"},{"$f":"データ貼付!G552+ROW()/1000000","v":254.00055399999999},28,{"$f":"データ貼付!A552","v":"小学記録会"},{"$f":"データ貼付!B552","v":"北見"},{"$f":"データ貼付!C552","v":43736},{"$f":"データ貼付!F552","v":"相馬羽夏"},{"$f":"データ貼付!G552","v":254},{"$f":"データ貼付!H552","v":"決"},{"$f":"データ貼付!I552","v":"ｵﾎｰﾂｸｷｯｽﾞ"},{"$f":"データ貼付!J552","v":3},{"$f":"データ貼付!K552","v":0}]
[552,"小学女子走幅跳4",{"$f":"J555&COUNTIF($J$4:J555,J555)","v":"相馬可夏子1"},{"$f":"データ貼付!D553&データ貼付!E553","v":"小学女子走幅跳"},{"$f":"データ貼付!G553+ROW()/1000000","v":388.00055500000002},4,{"$f":"データ貼付!A553","v":"全道小学"},{"$f":"データ貼付!B553","v":"札幌"},{"$f":"データ貼付!C553","v":43661},{"$f":"データ貼付!F553","v":"相馬可夏子"},{"$f":"データ貼付!G553","v":388},{"$f":"データ貼付!H553","v":"決"},{"$f":"データ貼付!I553","v":"ｵﾎｰﾂｸｷｯｽﾞ"},{"$f":"データ貼付!J553","v":5},{"$f":"データ貼付!K553","v":2.1}]
[553,"中学男子走幅跳31",{"$f":"J556&COUNTIF($J$4:J556,J556)","v":"増山奈孝1"},{"$f":"データ貼付!D554&データ貼付!E554","v":"中学男子走幅跳"},{"$f":"データ貼付!G554+ROW()/1000000","v":454.00055600000002},31,{"$f":"データ貼付!A554","v":"記録会４戦"},{"$f":"データ貼付!B554","v":"北見"},{"$f":"データ貼付!C554","v":43681},{"$f":"データ貼付!F554","v":"増山奈孝"},{"$f":"データ貼付!G554","v":454},{"$f":"データ貼付!H554","v":"決"},{"$f":"データ貼付!I554","v":"北見光西中"},{"$f":"データ貼付!J554","v":1},{"$f":"データ貼付!K554","v":0.7}]
[554,"中学女子走幅跳20",{"$f":"J557&COUNTIF($J$4:J557,J557)","v":"村田爽1"},{"$f":"データ貼付!D555&データ貼付!E555","v":"中学女子走幅跳"},{"$f":"データ貼付!G555+ROW()/1000000","v":413.00055700000001},20,{"$f":"データ貼付!A555","v":"秋季陸上"},{"$f":"データ貼付!B555","v":"網走"},{"$f":"データ貼付!C555","v":43715},{"$f":"データ貼付!F555","v":"村田爽"},{"$f":"データ貼付!G555","v":413},{"$f":"データ貼付!H555","v":"決"},{"$f":"データ貼付!I555","v":"網走第二中"},{"$f":"データ貼付!J555","v":1},{"$f":"データ貼付!K555","v":2.4}]
[555,"高校男子走幅跳24",{"$f":"J558&COUNTIF($J$4:J558,J558)","v":"村田優月1"},{"$f":"データ貼付!D556&データ貼付!E556","v":"高校男子走幅跳"},{"$f":"データ貼付!G556+ROW()/1000000","v":549.00055799999996},24,{"$f":"データ貼付!A556","v":"高校新人"},{"$f":"データ貼付!B556","v":"網走"},{"$f":"データ貼付!C556","v":43700},{"$f":"データ貼付!F556","v":"村田優月"},{"$f":"データ貼付!G556","v":549},{"$f":"データ貼付!H556","v":"決"},{"$f":"データ貼付!I556","v":"雄武高"},{"$f":"データ貼付!J556","v":1},{"$f":"データ貼付!K556","v":4.0999999999999996}]
[556,"高校男子走幅跳10",{"$f":"J559&COUNTIF($J$4:J559,J559)","v":"村田陽平1"},{"$f":"データ貼付!D557&データ貼付!E557","v":"高校男子走幅跳"},{"$f":"データ貼付!G557+ROW()/1000000","v":608.00055899999995},10,{"$f":"データ貼付!A557","v":"選手権"},{"$f":"データ貼付!B557","v":"北見"},{"$f":"データ貼付!C557","v":43597},{"$f":"データ貼付!F557","v":"村田陽平"},{"$f":"データ貼付!G557","v":608},{"$f":"データ貼付!H557","v":"決"},{"$f":"データ貼付!I557","v":"雄武高"},{"$f":"データ貼付!J557","v":3},{"$f":"データ貼付!K557","v":1.8}]
[557,"中学男子走幅跳22",{"$f":"J560&COUNTIF($J$4:J560,J560)","v":"太田龍空1"},{"$f":"データ貼付!D558&データ貼付!E558","v":"中学男子走幅跳"},{"$f":"データ貼付!G558+ROW()/1000000","v":484.00056000000001},22,{"$f":"データ貼付!A558","v":"記録会４戦"},{"$f":"データ貼付!B558","v":"北見"},{"$f":"データ貼付!C558","v":43681},{"$f":"データ貼付!F558","v":"太田龍空"},{"$f":"データ貼付!G558","v":484},{"$f":"データ貼付!H558","v":"決"},{"$f":"データ貼付!I558","v":"北見小泉中"},{"$f":"データ貼付!J558","v":1},{"$f":"データ貼付!K558","v":1.6}]
[558,"小学男子走幅跳33",{"$f":"J561&COUNTIF($J$4:J561,J561)","v":"大森光真1"},{"$f":"データ貼付!D559&データ貼付!E559","v":"小学男子走幅跳"},{"$f":"データ貼付!G559+ROW()/1000000","v":341.000561},33,{"$f":"データ貼付!A559","v":"全道小学"},{"$f":"データ貼付!B559","v":"札幌"},{"$f":"データ貼付!C559","v":43660},{"$f":"データ貼付!F559","v":"大森光真"},{"$f":"データ貼付!G559","v":341},{"$f":"データ貼付!H559","v":"決"},{"$f":"データ貼付!I559","v":"ｵﾎｰﾂｸｷｯｽﾞ"},{"$f":"データ貼付!J559","v":4},{"$f":"データ貼付!K559","v":3.4}]
[559,"中学男子走幅跳16",{"$f":"J562&COUNTIF($J$4:J562,J562)","v":"大水皓輝1"},{"$f":"データ貼付!D560&データ貼付!E560","v":"中学男子走幅跳"},{"$f":"データ貼付!G560+ROW()/1000000","v":506.000562},16,{"$f":"データ貼付!A560","v":"選手権"},{"$f":"データ貼付!B560","v":"北見"},{"$f":"データ貼付!C560","v":43596},{"$f":"データ貼付!F560","v":"大水皓輝"},{"$f":"データ貼付!G560","v":506},{"$f":"データ貼付!H560","v":"決"},{"$f":"データ貼付!I560","v":"雄武中"},{"$f":"データ貼付!J560","v":1},{"$f":"データ貼付!K560","v":1.9}]
[560,"中学男子走幅跳10",{"$f":"J563&COUNTIF($J$4:J563,J563)","v":"大水皓生1"},{"$f":"データ貼付!D561&データ貼付!E561","v":"中学男子走幅跳"},{"$f":"データ貼付!G561+ROW()/1000000","v":533.00056300000006},10,{"$f":"データ貼付!A561","v":"秋季陸上"},{"$f":"データ貼付!B561","v":"網走"},{"$f":"データ貼付!C561","v":43716},{"$f":"データ貼付!F561","v":"大水皓生"},{"$f":"データ貼付!G561","v":533},{"$f":"データ貼付!H561","v":"決"},{"$f":"データ貼付!I561","v":"雄武中"},{"$f":"データ貼付!J561","v":1},{"$f":"データ貼付!K561","v":-1.2}]
[561,"中学男子走幅跳2",{"$f":"J564&COUNTIF($J$4:J564,J564)","v":"大水颯太1"},{"$f":"データ貼付!D562&データ貼付!E562","v":"中学男子走幅跳"},{"$f":"データ貼付!G562+ROW()/1000000","v":639.00056400000005},2,{"$f":"データ貼付!A562","v":"フィールド記録会"},{"$f":"データ貼付!B562","v":"網走"},{"$f":"データ貼付!C562","v":43624},{"$f":"データ貼付!F562","v":"大水颯太"},{"$f":"データ貼付!G562","v":639},{"$f":"データ貼付!H562","v":"決"},{"$f":"データ貼付!I562","v":"雄武中"},{"$f":"データ貼付!J562","v":3},{"$f":"データ貼付!K562","v":3.3}]
[562,"中学男子走幅跳50",{"$f":"J565&COUNTIF($J$4:J565,J565)","v":"大津陽弥1"},{"$f":"データ貼付!D563&データ貼付!E563","v":"中学男子走幅跳"},{"$f":"データ貼付!G563+ROW()/1000000","v":405.00056499999999},50,{"$f":"データ貼付!A563","v":"秋季陸上"},{"$f":"データ貼付!B563","v":"網走"},{"$f":"データ貼付!C563","v":43716},{"$f":"データ貼付!F563","v":"大津陽弥"},{"$f":"データ貼付!G563","v":405},{"$f":"データ貼付!H563","v":"決"},{"$f":"データ貼付!I563","v":"北見高栄中"},{"$f":"データ貼付!J563","v":1},{"$f":"データ貼付!K563","v":0.5}]
[563,"小学男子走幅跳50",{"$f":"J566&COUNTIF($J$4:J566,J566)","v":"大東啓2"},{"$f":"データ貼付!D564&データ貼付!E564","v":"小学男子走幅跳"},{"$f":"データ貼付!G564+ROW()/1000000","v":284.00056599999999},50,{"$f":"データ貼付!A564","v":"小学記録会"},{"$f":"データ貼付!B564","v":"北見"},{"$f":"データ貼付!C564","v":43736},{"$f":"データ貼付!F564","v":"大東啓"},{"$f":"データ貼付!G564","v":284},{"$f":"データ貼付!H564","v":"決"},{"$f":"データ貼付!I564","v":"美幌RC"},{"$f":"データ貼付!J564","v":5},{"$f":"データ貼付!K564","v":0}]
[564,"中学男子走幅跳52",{"$f":"J567&COUNTIF($J$4:J567,J567)","v":"大道光竜1"},{"$f":"データ貼付!D565&データ貼付!E565","v":"中学男子走幅跳"},{"$f":"データ貼付!G565+ROW()/1000000","v":396.00056699999999},52,{"$f":"データ貼付!A565","v":"通信陸上"},{"$f":"データ貼付!B565","v":"網走"},{"$f":"データ貼付!C565","v":43644},{"$f":"データ貼付!F565","v":"大道光竜"},{"$f":"データ貼付!G565","v":396},{"$f":"データ貼付!H565","v":"予"},{"$f":"データ貼付!I565","v":"北見高栄中"},{"$f":"データ貼付!J565","v":1},{"$f":"データ貼付!K565","v":1.8}]
[565,"小学女子走幅跳5",{"$f":"J568&COUNTIF($J$4:J568,J568)","v":"大内埜瑚1"},{"$f":"データ貼付!D566&データ貼付!E566","v":"小学女子走幅跳"},{"$f":"データ貼付!G566+ROW()/1000000","v":380.00056799999999},5,{"$f":"データ貼付!A566","v":"全道小学"},{"$f":"データ貼付!B566","v":"札幌"},{"$f":"データ貼付!C566","v":43660},{"$f":"データ貼付!F566","v":"大内埜瑚"},{"$f":"データ貼付!G566","v":380},{"$f":"データ貼付!H566","v":"決"},{"$f":"データ貼付!I566","v":"美幌RC"},{"$f":"データ貼付!J566","v":4},{"$f":"データ貼付!K566","v":3.2}]
[566,"小学男子走幅跳61",{"$f":"J569&COUNTIF($J$4:J569,J569)","v":"大木駿徹2"},{"$f":"データ貼付!D567&データ貼付!E567","v":"小学男子走幅跳"},{"$f":"データ貼付!G567+ROW()/1000000","v":238.00056900000001},61,{"$f":"データ貼付!A567","v":"小学記録会"},{"$f":"データ貼付!B567","v":"北見"},{"$f":"データ貼付!C567","v":43736},{"$f":"データ貼付!F567","v":"大木駿徹"},{"$f":"データ貼付!G567","v":238},{"$f":"データ貼付!H567","v":"決"},{"$f":"データ貼付!I567","v":"ｵﾎｰﾂｸｷｯｽﾞ"},{"$f":"データ貼付!J567","v":3},{"$f":"データ貼付!K567","v":0}]
[567,"中学男子走幅跳59",{"$f":"J570&COUNTIF($J$4:J570,J570)","v":"大友永遠1"},{"$f":"データ貼付!D568&データ貼付!E568","v":"中学男子走幅跳"},{"$f":"データ貼付!G568+ROW()/1000000","v":378.00056999999998},59,{"$f":"データ貼付!A568","v":"中体連地区"},{"$f":"データ貼付!B568","v":"北見"},{"$f":"データ貼付!C568","v":43630},{"$f":"データ貼付!F568","v":"大友永遠"},{"$f":"データ貼付!G568","v":378},{"$f":"データ貼付!H568","v":"予"},{"$f":"データ貼付!I568","v":"美幌北中"},{"$f":"データ貼付!J568","v":1},{"$f":"データ貼付!K568","v":2}]
[568,"小学男子走幅跳13",{"$f":"J571&COUNTIF($J$4:J571,J571)","v":"滝口葉1"},{"$f":"データ貼付!D569&データ貼付!E569","v":"小学男子走幅跳"},{"$f":"データ貼付!G569+ROW()/1000000","v":397.00057099999998},13,{"$f":"データ貼付!A569","v":"小学記録会"},{"$f":"データ貼付!B569","v":"北見"},{"$f":"データ貼付!C569","v":43736},{"$f":"データ貼付!F569","v":"滝口葉"},{"$f":"データ貼付!G569","v":397},{"$f":"データ貼付!H569","v":"決"},{"$f":"データ貼付!I569","v":"ｵﾎｰﾂｸｷｯｽﾞ"},{"$f":"データ貼付!J569","v":6},{"$f":"データ貼付!K569","v":0}]
[569,"小学男子走幅跳18",{"$f":"J572&COUNTIF($J$4:J572,J572)","v":"谷浦晴磨2"},{"$f":"データ貼付!D570&データ貼付!E570","v":"小学男子走幅跳"},{"$f":"データ貼付!G570+ROW()/1000000","v":385.00057199999998},18,{"$f":"データ貼付!A570","v":"小学記録会"},{"$f":"データ貼付!B570","v":"北見"},{"$f":"データ貼付!C570","v":43736},{"$f":"データ貼付!F570","v":"谷浦晴磨"},{"$f":"データ貼付!G570","v":385},{"$f":"データ貼付!H570","v":"決"},{"$f":"データ貼付!I570","v":"美幌RC"},{"$f":"データ貼付!J570","v":4},{"$f":"データ貼付!K570","v":0}]
[570,"小学男子走幅跳32",{"$f":"J573&COUNTIF($J$4:J573,J573)","v":"谷柊亜1"},{"$f":"データ貼付!D571&データ貼付!E571","v":"小学男子走幅跳"},{"$f":"データ貼付!G571+ROW()/1000000","v":343.00057299999997},32,{"$f":"データ貼付!A571","v":"小学記録会"},{"$f":"データ貼付!B571","v":"北見"},{"$f":"データ貼付!C571","v":43736},{"$f":"データ貼付!F571","v":"谷柊亜"},{"$f":"データ貼付!G571","v":343},{"$f":"データ貼付!H571","v":"決"},{"$f":"データ貼付!I571","v":"常呂陸上少年団"},{"$f":"データ貼付!J571","v":6},{"$f":"データ貼付!K571","v":0}]
[571,"小学女子走幅跳14",{"$f":"J574&COUNTIF($J$4:J574,J574)","v":"谷脇那由多2"},{"$f":"データ貼付!D572&データ貼付!E572","v":"小学女子走幅跳"},{"$f":"データ貼付!G572+ROW()/1000000","v":337.00057399999997},14,{"$f":"データ貼付!A572","v":"小学記録会"},{"$f":"データ貼付!B572","v":"北見"},{"$f":"データ貼付!C572","v":43736},{"$f":"データ貼付!F572","v":"谷脇那由多"},{"$f":"データ貼付!G572","v":337},{"$f":"データ貼付!H572","v":"決"},{"$f":"データ貼付!I572","v":"ｵﾎｰﾂｸｷｯｽﾞ"},{"$f":"データ貼付!J572","v":3},{"$f":"データ貼付!K572","v":0}]
[572,"中学男子走幅跳74",{"$f":"J575&COUNTIF($J$4:J575,J575)","v":"谷脇良明1"},{"$f":"データ貼付!D573&データ貼付!E573","v":"中学男子走幅跳"},{"$f":"データ貼付!G573+ROW()/1000000","v":344.00057500000003},74,{"$f":"データ貼付!A573","v":"通信陸上"},{"$f":"データ貼付!B573","v":"網走"},{"$f":"データ貼付!C573","v":43644},{"$f":"データ貼付!F573","v":"谷脇良明"},{"$f":"データ貼付!G573","v":344},{"$f":"データ貼付!H573","v":"予"},{"$f":"データ貼付!I573","v":"北見南中"},{"$f":"データ貼付!J573","v":1},{"$f":"データ貼付!K573","v":1.8}]
[573,"高校女子走幅跳15",{"$f":"J576&COUNTIF($J$4:J576,J576)","v":"池谷菜摘子2"},{"$f":"データ貼付!D574&データ貼付!E574","v":"高校女子走幅跳"},{"$f":"データ貼付!G574+ROW()/1000000","v":378.00057600000002},15,{"$f":"データ貼付!A574","v":"記録会４戦"},{"$f":"データ貼付!B574","v":"北見"},{"$f":"データ貼付!C574","v":43681},{"$f":"データ貼付!F574","v":"池谷菜摘子"},{"$f":"データ貼付!G574","v":378},{"$f":"データ貼付!H574","v":"決"},{"$f":"データ貼付!I574","v":"北見北斗高"},{"$f":"データ貼付!J574","v":2},{"$f":"データ貼付!K574","v":0.5}]
[574,"高校女子走幅跳12",{"$f":"J577&COUNTIF($J$4:J577,J577)","v":"池田美梨1"},{"$f":"データ貼付!D575&データ貼付!E575","v":"高校女子走幅跳"},{"$f":"データ貼付!G575+ROW()/1000000","v":421.00057700000002},12,{"$f":"データ貼付!A575","v":"記録会４戦"},{"$f":"データ貼付!B575","v":"北見"},{"$f":"データ貼付!C575","v":43681},{"$f":"データ貼付!F575","v":"池田美梨"},{"$f":"データ貼付!G575","v":421},{"$f":"データ貼付!H575","v":"決"},{"$f":"データ貼付!I575","v":"紋別高"},{"$f":"データ貼付!J575","v":2},{"$f":"データ貼付!K575","v":2.1}]
[575,"中学男子走幅跳26",{"$f":"J578&COUNTIF($J$4:J578,J578)","v":"竹村璃玖1"},{"$f":"データ貼付!D576&データ貼付!E576","v":"中学男子走幅跳"},{"$f":"データ貼付!G576+ROW()/1000000","v":468.00057800000002},26,{"$f":"データ貼付!A576","v":"フィールド記録会"},{"$f":"データ貼付!B576","v":"網走"},{"$f":"データ貼付!C576","v":43624},{"$f":"データ貼付!F576","v":"竹村璃玖"},{"$f":"データ貼付!G576","v":468},{"$f":"データ貼付!H576","v":"決"},{"$f":"データ貼付!I576","v":"北見常呂中"},{"$f":"データ貼付!J576","v":2},{"$f":"データ貼付!K576","v":-1.6}]
[576,"中学男子走幅跳30",{"$f":"J579&COUNTIF($J$4:J579,J579)","v":"中井啓晴2"},{"$f":"データ貼付!D577&データ貼付!E577","v":"中学男子走幅跳"},{"$f":"データ貼付!G577+ROW()/1000000","v":461.00057900000002},30,{"$f":"データ貼付!A577","v":"記録会第１戦"},{"$f":"データ貼付!B577","v":"北見"},{"$f":"データ貼付!C577","v":43583},{"$f":"データ貼付!F577","v":"中井啓晴"},{"$f":"データ貼付!G577","v":461},{"$f":"データ貼付!H577","v":"決"},{"$f":"データ貼付!I577","v":"北見小泉中"},{"$f":"データ貼付!J577","v":3},{"$f":"データ貼付!K577","v":0.3}]
[577,"小学男子走幅跳7",{"$f":"J580&COUNTIF($J$4:J580,J580)","v":"中崎楽久1"},{"$f":"データ貼付!D578&データ貼付!E578","v":"小学男子走幅跳"},{"$f":"データ貼付!G578+ROW()/1000000","v":412.00058000000001},7,{"$f":"データ貼付!A578","v":"小学記録会"},{"$f":"データ貼付!B578","v":"北見"},{"$f":"データ貼付!C578","v":43736},{"$f":"データ貼付!F578","v":"中崎楽久"},{"$f":"データ貼付!G578","v":412},{"$f":"データ貼付!H578","v":"決"},{"$f":"データ貼付!I578","v":"ｵﾎｰﾂｸｷｯｽﾞ"},{"$f":"データ貼付!J578","v":5},{"$f":"データ貼付!K578","v":0}]
[578,{"$f":"D581&F581","v":"中学女子走幅跳49"},{"$f":"J581&COUNTIF($J$4:J581,J581)","v":"中村のあ1"},{"$f":"データ貼付!D579&データ貼付!E579","v":"中学女子走幅跳"},{"$f":"データ貼付!G579+ROW()/1000000","v":327.00058100000001},{"$f":"SUMPRODUCT(($D$4:$D$903=D581)*($E$4:$E$903>E581))+1","v":49},{"$f":"データ貼付!A579","v":"中学新人"},{"$f":"データ貼付!B579","v":"網走"},{"$f":"データ貼付!C579","v":43701},{"$f":"データ貼付!F579","v":"中村のあ"},{"$f":"データ貼付!G579","v":327},{"$f":"データ貼付!H579","v":"決"},{"$f":"データ貼付!I579","v":"雄武中"},{"$f":"データ貼付!J579","v":1},{"$f":"データ貼付!K579","v":2.5}]
[579,"中学男子走幅跳28",{"$f":"J582&COUNTIF($J$4:J582,J582)","v":"中村志瞳1"},{"$f":"データ貼付!D580&データ貼付!E580","v":"中学男子走幅跳"},{"$f":"データ貼付!G580+ROW()/1000000","v":465.00058200000001},28,{"$f":"データ貼付!A580","v":"秋季陸上"},{"$f":"データ貼付!B580","v":"網走"},{"$f":"データ貼付!C580","v":43716},{"$f":"データ貼付!F580","v":"中村志瞳"},{"$f":"データ貼付!G580","v":465},{"$f":"データ貼付!H580","v":"決"},{"$f":"データ貼付!I580","v":"北見高栄中"},{"$f":"データ貼付!J580","v":1},{"$f":"データ貼付!K580","v":-0.5}]
[580,"高校男子走幅跳27",{"$f":"J583&COUNTIF($J$4:J583,J583)","v":"中村優斗2"},{"$f":"データ貼付!D581&データ貼付!E581","v":"高校男子走幅跳"},{"$f":"データ貼付!G581+ROW()/1000000","v":529.00058300000001},27,{"$f":"データ貼付!A581","v":"高体連支部"},{"$f":"データ貼付!B581","v":"北見"},{"$f":"データ貼付!C581","v":43608},{"$f":"データ貼付!F581","v":"中村優斗"},{"$f":"データ貼付!G581","v":529},{"$f":"データ貼付!H581","v":"決"},{"$f":"データ貼付!I581","v":"北見商業高"},{"$f":"データ貼付!J581","v":2},{"$f":"データ貼付!K581","v":-0.5}]
[581,"中学女子走幅跳39",{"$f":"J584&COUNTIF($J$4:J584,J584)","v":"中村栞奈1"},{"$f":"データ貼付!D582&データ貼付!E582","v":"中学女子走幅跳"},{"$f":"データ貼付!G582+ROW()/1000000","v":361.000584},39,{"$f":"データ貼付!A582","v":"フィールド記録会"},{"$f":"データ貼付!B582","v":"網走"},{"$f":"データ貼付!C582","v":43624},{"$f":"データ貼付!F582","v":"中村栞奈"},{"$f":"データ貼付!G582","v":361},{"$f":"データ貼付!H582","v":"決"},{"$f":"データ貼付!I582","v":"斜里中"},{"$f":"データ貼付!J582","v":1},{"$f":"データ貼付!K582","v":2}]
[582,"小学男子走幅跳5",{"$f":"J585&COUNTIF($J$4:J585,J585)","v":"中田隼翔1"},{"$f":"データ貼付!D583&データ貼付!E583","v":"小学男子走幅跳"},{"$f":"データ貼付!G583+ROW()/1000000","v":425.000585},5,{"$f":"データ貼付!A583","v":"小学記録会"},{"$f":"データ貼付!B583","v":"北見"},{"$f":"データ貼付!C583","v":43736},{"$f":"データ貼付!F583","v":"中田隼翔"},{"$f":"データ貼付!G583","v":425},{"$f":"データ貼付!H583","v":"決"},{"$f":"データ貼付!I583","v":"ｵﾎｰﾂｸACｼﾞｭﾆｱ"},{"$f":"データ貼付!J583","v":6},{"$f":"データ貼付!K583","v":0}]
[583,"中学男子走幅跳17",{"$f":"J586&COUNTIF($J$4:J586,J586)","v":"中田竜翔1"},{"$f":"データ貼付!D584&データ貼付!E584","v":"中学男子走幅跳"},{"$f":"データ貼付!G584+ROW()/1000000","v":505.000586},17,{"$f":"データ貼付!A584","v":"記録会第２戦"},{"$f":"データ貼付!B584","v":"網走"},{"$f":"データ貼付!C584","v":43590},{"$f":"データ貼付!F584","v":"中田竜翔"},{"$f":"データ貼付!G584","v":505},{"$f":"データ貼付!H584","v":"決"},{"$f":"データ貼付!I584","v":"網走第一中"},{"$f":"データ貼付!J584","v":3},{"$f":"データ貼付!K584","v":1.2}]
[584,"中学男子走幅跳4",{"$f":"J587&COUNTIF($J$4:J587,J587)","v":"中嶋優斗1"},{"$f":"データ貼付!D585&データ貼付!E585","v":"中学男子走幅跳"},{"$f":"データ貼付!G585+ROW()/1000000","v":595.000587},4,{"$f":"データ貼付!A585","v":"通信陸上"},{"$f":"データ貼付!B585","v":"網走"},{"$f":"データ貼付!C585","v":43645},{"$f":"データ貼付!F585","v":"中嶋優斗"},{"$f":"データ貼付!G585","v":595},{"$f":"データ貼付!H585","v":"決"},{"$f":"データ貼付!I585","v":"北見光西中"},{"$f":"データ貼付!J585","v":3},{"$f":"データ貼付!K585","v":2.8}]
[585,"中学男子走幅跳48",{"$f":"J588&COUNTIF($J$4:J588,J588)","v":"中浜蓮1"},{"$f":"データ貼付!D586&データ貼付!E586","v":"中学男子走幅跳"},{"$f":"データ貼付!G586+ROW()/1000000","v":413.00058799999999},48,{"$f":"データ貼付!A586","v":"秋季陸上"},{"$f":"データ貼付!B586","v":"網走"},{"$f":"データ貼付!C586","v":43716},{"$f":"データ貼付!F586","v":"中浜蓮"},{"$f":"データ貼付!G586","v":413},{"$f":"データ貼付!H586","v":"決"},{"$f":"データ貼付!I586","v":"大空東藻琴中"},{"$f":"データ貼付!J586","v":1},{"$f":"データ貼付!K586","v":0.1}]
[586,"高校男子走幅跳21",{"$f":"J589&COUNTIF($J$4:J589,J589)","v":"仲条京悟1"},{"$f":"データ貼付!D587&データ貼付!E587","v":"高校男子走幅跳"},{"$f":"データ貼付!G587+ROW()/1000000","v":553.00058899999999},21,{"$f":"データ貼付!A587","v":"秋季陸上"},{"$f":"データ貼付!B587","v":"網走"},{"$f":"データ貼付!C587","v":43715},{"$f":"データ貼付!F587","v":"仲条京悟"},{"$f":"データ貼付!G587","v":553},{"$f":"データ貼付!H587","v":"決"},{"$f":"データ貼付!I587","v":"紋別高"},{"$f":"データ貼付!J587","v":2},{"$f":"データ貼付!K587","v":-0.4}]
[587,"中学女子走幅跳33",{"$f":"J590&COUNTIF($J$4:J590,J590)","v":"長見静留1"},{"$f":"データ貼付!D588&データ貼付!E588","v":"中学女子走幅跳"},{"$f":"データ貼付!G588+ROW()/1000000","v":374.00058999999999},33,{"$f":"データ貼付!A588","v":"記録会４戦"},{"$f":"データ貼付!B588","v":"北見"},{"$f":"データ貼付!C588","v":43681},{"$f":"データ貼付!F588","v":"長見静留"},{"$f":"データ貼付!G588","v":374},{"$f":"データ貼付!H588","v":"決"},{"$f":"データ貼付!I588","v":"大空東藻琴中"},{"$f":"データ貼付!J588","v":1},{"$f":"データ貼付!K588","v":0.5}]
[588,"高校男子走幅跳54",{"$f":"J591&COUNTIF($J$4:J591,J591)","v":"長原瑞紀1"},{"$f":"データ貼付!D589&データ貼付!E589","v":"高校男子走幅跳"},{"$f":"データ貼付!G589+ROW()/1000000","v":428.00059099999999},54,{"$f":"データ貼付!A589","v":"高体連支部"},{"$f":"データ貼付!B589","v":"北見"},{"$f":"データ貼付!C589","v":43608},{"$f":"データ貼付!F589","v":"長原瑞紀"},{"$f":"データ貼付!G589","v":428},{"$f":"データ貼付!H589","v":"決"},{"$f":"データ貼付!I589","v":"湧別高"},{"$f":"データ貼付!J589","v":2},{"$f":"データ貼付!K589","v":1.4}]
[589,"中学男子走幅跳6",{"$f":"J592&COUNTIF($J$4:J592,J592)","v":"長谷川佳祐1"},{"$f":"データ貼付!D590&データ貼付!E590","v":"中学男子走幅跳"},{"$f":"データ貼付!G590+ROW()/1000000","v":575.00059199999998},6,{"$f":"データ貼付!A590","v":"記録会第１戦"},{"$f":"データ貼付!B590","v":"北見"},{"$f":"データ貼付!C590","v":43583},{"$f":"データ貼付!F590","v":"長谷川佳祐"},{"$f":"データ貼付!G590","v":575},{"$f":"データ貼付!H590","v":"決"},{"$f":"データ貼付!I590","v":"網走第二中"},{"$f":"データ貼付!J590","v":2},{"$f":"データ貼付!K590","v":0.7}]
[590,"小学男子走幅跳40",{"$f":"J593&COUNTIF($J$4:J593,J593)","v":"長島羽佑1"},{"$f":"データ貼付!D591&データ貼付!E591","v":"小学男子走幅跳"},{"$f":"データ貼付!G591+ROW()/1000000","v":312.00059299999998},40,{"$f":"データ貼付!A591","v":"選手権"},{"$f":"データ貼付!B591","v":"北見"},{"$f":"データ貼付!C591","v":43597},{"$f":"データ貼付!F591","v":"長島羽佑"},{"$f":"データ貼付!G591","v":312},{"$f":"データ貼付!H591","v":"決"},{"$f":"データ貼付!I591","v":"知床斜里RC"},{"$f":"データ貼付!J591","v":5},{"$f":"データ貼付!K591","v":0}]
[591,"高校男子走幅跳42",{"$f":"J594&COUNTIF($J$4:J594,J594)","v":"長野光希1"},{"$f":"データ貼付!D592&データ貼付!E592","v":"高校男子走幅跳"},{"$f":"データ貼付!G592+ROW()/1000000","v":498.00059399999998},42,{"$f":"データ貼付!A592","v":"高校新人"},{"$f":"データ貼付!B592","v":"網走"},{"$f":"データ貼付!C592","v":43700},{"$f":"データ貼付!F592","v":"長野光希"},{"$f":"データ貼付!G592","v":498},{"$f":"データ貼付!H592","v":"決"},{"$f":"データ貼付!I592","v":"北見工業高"},{"$f":"データ貼付!J592","v":2},{"$f":"データ貼付!K592","v":0.3}]
[592,"一般男子走幅跳3",{"$f":"J595&COUNTIF($J$4:J595,J595)","v":"長野蒼人2"},{"$f":"データ貼付!D593&データ貼付!E593","v":"一般男子走幅跳"},{"$f":"データ貼付!G593+ROW()/1000000","v":607.00059499999998},3,{"$f":"データ貼付!A593","v":"記録会４戦"},{"$f":"データ貼付!B593","v":"北見"},{"$f":"データ貼付!C593","v":43681},{"$f":"データ貼付!F593","v":"長野蒼人"},{"$f":"データ貼付!G593","v":607},{"$f":"データ貼付!H593","v":"決"},{"$f":"データ貼付!I593","v":"北翔大"},{"$f":"データ貼付!J593","v":"般"},{"$f":"データ貼付!K593","v":-1.1000000000000001}]
[593,"中学女子走幅跳1",{"$f":"J596&COUNTIF($J$4:J596,J596)","v":"長野萌果1"},{"$f":"データ貼付!D594&データ貼付!E594","v":"中学女子走幅跳"},{"$f":"データ貼付!G594+ROW()/1000000","v":525.00059599999997},1,{"$f":"データ貼付!A594","v":"道ジュニア"},{"$f":"データ貼付!B594","v":"釧路"},{"$f":"データ貼付!C594","v":43709},{"$f":"データ貼付!F594","v":"長野萌果"},{"$f":"データ貼付!G594","v":525},{"$f":"データ貼付!H594","v":"決"},{"$f":"データ貼付!I594","v":"北見高栄中"},{"$f":"データ貼付!J594","v":2},{"$f":"データ貼付!K594","v":1.4}]
[594,"中学男子走幅跳21",{"$f":"J597&COUNTIF($J$4:J597,J597)","v":"天野琉稀1"},{"$f":"データ貼付!D595&データ貼付!E595","v":"中学男子走幅跳"},{"$f":"データ貼付!G595+ROW()/1000000","v":484.00059700000003},21,{"$f":"データ貼付!A595","v":"通信陸上"},{"$f":"データ貼付!B595","v":"網走"},{"$f":"データ貼付!C595","v":43645},{"$f":"データ貼付!F595","v":"天野琉稀"},{"$f":"データ貼付!G595","v":484},{"$f":"データ貼付!H595","v":"決"},{"$f":"データ貼付!I595","v":"大空女満別中"},{"$f":"データ貼付!J595","v":3},{"$f":"データ貼付!K595","v":0.9}]
[595,"中学男子走幅跳78",{"$f":"J598&COUNTIF($J$4:J598,J598)","v":"田村響1"},{"$f":"データ貼付!D596&データ貼付!E596","v":"中学男子走幅跳"},{"$f":"データ貼付!G596+ROW()/1000000","v":331.00059800000002},78,{"$f":"データ貼付!A596","v":"中学新人"},{"$f":"データ貼付!B596","v":"網走"},{"$f":"データ貼付!C596","v":43700},{"$f":"データ貼付!F596","v":"田村響"},{"$f":"データ貼付!G596","v":331},{"$f":"データ貼付!H596","v":"決"},{"$f":"データ貼付!I596","v":"北見南中"},{"$f":"データ貼付!J596","v":1},{"$f":"データ貼付!K596","v":0.6}]
[596,"小学男子走幅跳31",{"$f":"J599&COUNTIF($J$4:J599,J599)","v":"田村樹1"},{"$f":"データ貼付!D597&データ貼付!E597","v":"小学男子走幅跳"},{"$f":"データ貼付!G597+ROW()/1000000","v":343.00059900000002},31,{"$f":"データ貼付!A597","v":"小学記録会"},{"$f":"データ貼付!B597","v":"北見"},{"$f":"データ貼付!C597","v":43736},{"$f":"データ貼付!F597","v":"田村樹"},{"$f":"データ貼付!G597","v":343},{"$f":"データ貼付!H597","v":"決"},{"$f":"データ貼付!I597","v":"ｵﾎｰﾂｸｷｯｽﾞ"},{"$f":"データ貼付!J597","v":4},{"$f":"データ貼付!K597","v":0}]
[597,"中学女子走幅跳29",{"$f":"J600&COUNTIF($J$4:J600,J600)","v":"田中こころ1"},{"$f":"データ貼付!D598&データ貼付!E598","v":"中学女子走幅跳"},{"$f":"データ貼付!G598+ROW()/1000000","v":390.00060000000002},29,{"$f":"データ貼付!A598","v":"通信陸上"},{"$f":"データ貼付!B598","v":"網走"},{"$f":"データ貼付!C598","v":43644},{"$f":"データ貼付!F598","v":"田中こころ"},{"$f":"データ貼付!G598","v":390},{"$f":"データ貼付!H598","v":"予"},{"$f":"データ貼付!I598","v":"北見南中"},{"$f":"データ貼付!J598","v":3},{"$f":"データ貼付!K598","v":1.5}]
[598,"中学女子走幅跳38",{"$f":"J601&COUNTIF($J$4:J601,J601)","v":"田中志麻1"},{"$f":"データ貼付!D599&データ貼付!E599","v":"中学女子走幅跳"},{"$f":"データ貼付!G599+ROW()/1000000","v":361.00060100000002},38,{"$f":"データ貼付!A599","v":"中学新人"},{"$f":"データ貼付!B599","v":"網走"},{"$f":"データ貼付!C599","v":43701},{"$f":"データ貼付!F599","v":"田中志麻"},{"$f":"データ貼付!G599","v":361},{"$f":"データ貼付!H599","v":"決"},{"$f":"データ貼付!I599","v":"北見高栄中"},{"$f":"データ貼付!J599","v":1},{"$f":"データ貼付!K599","v":2.7}]
[599,"中学男子走幅跳71",{"$f":"J602&COUNTIF($J$4:J602,J602)","v":"田中智也2"},{"$f":"データ貼付!D600&データ貼付!E600","v":"中学男子走幅跳"},{"$f":"データ貼付!G600+ROW()/1000000","v":348.00060200000001},71,{"$f":"データ貼付!A600","v":"記録会４戦"},{"$f":"データ貼付!B600","v":"北見"},{"$f":"データ貼付!C600","v":43681},{"$f":"データ貼付!F600","v":"田中智也"},{"$f":"データ貼付!G600","v":348},{"$f":"データ貼付!H600","v":"決"},{"$f":"データ貼付!I600","v":"網走第一中"},{"$f":"データ貼付!J600","v":1},{"$f":"データ貼付!K600","v":-1.2}]
[600,"小学女子走幅跳32",{"$f":"J603&COUNTIF($J$4:J603,J603)","v":"渡辺朔音1"},{"$f":"データ貼付!D601&データ貼付!E601","v":"小学女子走幅跳"},{"$f":"データ貼付!G601+ROW()/1000000","v":239.00060300000001},32,{"$f":"データ貼付!A601","v":"小学生ｵﾎｰﾂｸ"},{"$f":"データ貼付!B601","v":"北見"},{"$f":"データ貼付!C601","v":43632},{"$f":"データ貼付!F601","v":"渡辺朔音"},{"$f":"データ貼付!G601","v":239},{"$f":"データ貼付!H601","v":"決"},{"$f":"データ貼付!I601","v":"ｵﾎｰﾂｸACｼﾞｭﾆｱ"},{"$f":"データ貼付!J601","v":4},{"$f":"データ貼付!K601","v":0}]
[601,"中学女子走幅跳50",{"$f":"J604&COUNTIF($J$4:J604,J604)","v":"渡辺理世1"},{"$f":"データ貼付!D602&データ貼付!E602","v":"中学女子走幅跳"},{"$f":"データ貼付!G602+ROW()/1000000","v":325.00060400000001},50,{"$f":"データ貼付!A602","v":"中体連地区"},{"$f":"データ貼付!B602","v":"北見"},{"$f":"データ貼付!C602","v":43630},{"$f":"データ貼付!F602","v":"渡辺理世"},{"$f":"データ貼付!G602","v":325},{"$f":"データ貼付!H602","v":"予"},{"$f":"データ貼付!I602","v":"北見北光中"},{"$f":"データ貼付!J602","v":2},{"$f":"データ貼付!K602","v":6}]
[602,"高校男子走幅跳7",{"$f":"J605&COUNTIF($J$4:J605,J605)","v":"渡辺颯1"},{"$f":"データ貼付!D603&データ貼付!E603","v":"高校男子走幅跳"},{"$f":"データ貼付!G603+ROW()/1000000","v":620.00060499999995},7,{"$f":"データ貼付!A603","v":"高校新人"},{"$f":"データ貼付!B603","v":"網走"},{"$f":"データ貼付!C603","v":43700},{"$f":"データ貼付!F603","v":"渡辺颯"},{"$f":"データ貼付!G603","v":620},{"$f":"データ貼付!H603","v":"決"},{"$f":"データ貼付!I603","v":"北見藤高"},{"$f":"データ貼付!J603","v":1},{"$f":"データ貼付!K603","v":1.5}]
[603,"中学男子走幅跳9",{"$f":"J606&COUNTIF($J$4:J606,J606)","v":"渡邊里恭1"},{"$f":"データ貼付!D604&データ貼付!E604","v":"中学男子走幅跳"},{"$f":"データ貼付!G604+ROW()/1000000","v":543.00060599999995},9,{"$f":"データ貼付!A604","v":"中体連地区"},{"$f":"データ貼付!B604","v":"北見"},{"$f":"データ貼付!C604","v":43630},{"$f":"データ貼付!F604","v":"渡邊里恭"},{"$f":"データ貼付!G604","v":543},{"$f":"データ貼付!H604","v":"予"},{"$f":"データ貼付!I604","v":"北見北光中"},{"$f":"データ貼付!J604","v":3},{"$f":"データ貼付!K604","v":-0.2}]
[604,"中学女子走幅跳22",{"$f":"J607&COUNTIF($J$4:J607,J607)","v":"土田結子1"},{"$f":"データ貼付!D605&データ貼付!E605","v":"中学女子走幅跳"},{"$f":"データ貼付!G605+ROW()/1000000","v":408.000607},22,{"$f":"データ貼付!A605","v":"中体連地区"},{"$f":"データ貼付!B605","v":"北見"},{"$f":"データ貼付!C605","v":43630},{"$f":"データ貼付!F605","v":"土田結子"},{"$f":"データ貼付!G605","v":408},{"$f":"データ貼付!H605","v":"予"},{"$f":"データ貼付!I605","v":"大空女満別中"},{"$f":"データ貼付!J605","v":3},{"$f":"データ貼付!K605","v":2.2999999999999998}]
[605,"高校男子走幅跳5",{"$f":"J608&COUNTIF($J$4:J608,J608)","v":"土門樹央1"},{"$f":"データ貼付!D606&データ貼付!E606","v":"高校男子走幅跳"},{"$f":"データ貼付!G606+ROW()/1000000","v":622.00060800000006},5,{"$f":"データ貼付!A606","v":"選手権"},{"$f":"データ貼付!B606","v":"北見"},{"$f":"データ貼付!C606","v":43597},{"$f":"データ貼付!F606","v":"土門樹央"},{"$f":"データ貼付!G606","v":622},{"$f":"データ貼付!H606","v":"決"},{"$f":"データ貼付!I606","v":"美幌高"},{"$f":"データ貼付!J606","v":3},{"$f":"データ貼付!K606","v":1.7}]
[606,"高校男子走幅跳9",{"$f":"J609&COUNTIF($J$4:J609,J609)","v":"土門樹生1"},{"$f":"データ貼付!D607&データ貼付!E607","v":"高校男子走幅跳"},{"$f":"データ貼付!G607+ROW()/1000000","v":608.00060900000005},9,{"$f":"データ貼付!A607","v":"フィールド記録会"},{"$f":"データ貼付!B607","v":"網走"},{"$f":"データ貼付!C607","v":43624},{"$f":"データ貼付!F607","v":"土門樹生"},{"$f":"データ貼付!G607","v":608},{"$f":"データ貼付!H607","v":"決"},{"$f":"データ貼付!I607","v":"美幌高"},{"$f":"データ貼付!J607","v":3},{"$f":"データ貼付!K607","v":2.4}]
[607,"高校男子走幅跳45",{"$f":"J610&COUNTIF($J$4:J610,J610)","v":"島田哲1"},{"$f":"データ貼付!D608&データ貼付!E608","v":"高校男子走幅跳"},{"$f":"データ貼付!G608+ROW()/1000000","v":483.00060999999999},45,{"$f":"データ貼付!A608","v":"高校新人"},{"$f":"データ貼付!B608","v":"網走"},{"$f":"データ貼付!C608","v":43700},{"$f":"データ貼付!F608","v":"島田哲"},{"$f":"データ貼付!G608","v":483},{"$f":"データ貼付!H608","v":"決"},{"$f":"データ貼付!I608","v":"日体大附属高"},{"$f":"データ貼付!J608","v":1},{"$f":"データ貼付!K608","v":2}]
[608,"中学男子走幅跳40",{"$f":"J611&COUNTIF($J$4:J611,J611)","v":"藤江諒丞1"},{"$f":"データ貼付!D609&データ貼付!E609","v":"中学男子走幅跳"},{"$f":"データ貼付!G609+ROW()/1000000","v":433.00061099999999},40,{"$f":"データ貼付!A609","v":"中体連地区"},{"$f":"データ貼付!B609","v":"北見"},{"$f":"データ貼付!C609","v":43630},{"$f":"データ貼付!F609","v":"藤江諒丞"},{"$f":"データ貼付!G609","v":433},{"$f":"データ貼付!H609","v":"予"},{"$f":"データ貼付!I609","v":"遠軽中"},{"$f":"データ貼付!J609","v":2},{"$f":"データ貼付!K609","v":3.6}]
[609,"高校男子走幅跳14",{"$f":"J612&COUNTIF($J$4:J612,J612)","v":"南出竜之介1"},{"$f":"データ貼付!D610&データ貼付!E610","v":"高校男子走幅跳"},{"$f":"データ貼付!G610+ROW()/1000000","v":592.00061200000005},14,{"$f":"データ貼付!A610","v":"選手権"},{"$f":"データ貼付!B610","v":"北見"},{"$f":"データ貼付!C610","v":43597},{"$f":"データ貼付!F610","v":"南出竜之介"},{"$f":"データ貼付!G610","v":592},{"$f":"データ貼付!H610","v":"決"},{"$f":"データ貼付!I610","v":"網走桂陽高"},{"$f":"データ貼付!J610","v":3},{"$f":"データ貼付!K610","v":1.9}]
[610,"中学女子走幅跳25",{"$f":"J613&COUNTIF($J$4:J613,J613)","v":"二上優美1"},{"$f":"データ貼付!D611&データ貼付!E611","v":"中学女子走幅跳"},{"$f":"データ貼付!G611+ROW()/1000000","v":406.00061299999999},25,{"$f":"データ貼付!A611","v":"選手権"},{"$f":"データ貼付!B611","v":"北見"},{"$f":"データ貼付!C611","v":43596},{"$f":"データ貼付!F611","v":"二上優美"},{"$f":"データ貼付!G611","v":406},{"$f":"データ貼付!H611","v":"決"},{"$f":"データ貼付!I611","v":"美幌中"},{"$f":"データ貼付!J611","v":3},{"$f":"データ貼付!K611","v":2.9}]
[611,"小学女子走幅跳30",{"$f":"J614&COUNTIF($J$4:J614,J614)","v":"日根若葉1"},{"$f":"データ貼付!D612&データ貼付!E612","v":"小学女子走幅跳"},{"$f":"データ貼付!G612+ROW()/1000000","v":246.00061400000001},30,{"$f":"データ貼付!A612","v":"小学記録会"},{"$f":"データ貼付!B612","v":"北見"},{"$f":"データ貼付!C612","v":43736},{"$f":"データ貼付!F612","v":"日根若葉"},{"$f":"データ貼付!G612","v":246},{"$f":"データ貼付!H612","v":"決"},{"$f":"データ貼付!I612","v":"ｵﾎｰﾂｸACｼﾞｭﾆｱ"},{"$f":"データ貼付!J612","v":3},{"$f":"データ貼付!K612","v":0}]
[612,"中学女子走幅跳53",{"$f":"J615&COUNTIF($J$4:J615,J615)","v":"日根優菜1"},{"$f":"データ貼付!D613&データ貼付!E613","v":"中学女子走幅跳"},{"$f":"データ貼付!G613+ROW()/1000000","v":315.00061499999998},53,{"$f":"データ貼付!A613","v":"記録会３戦"},{"$f":"データ貼付!B613","v":"網走"},{"$f":"データ貼付!C613","v":43660},{"$f":"データ貼付!F613","v":"日根優菜"},{"$f":"データ貼付!G613","v":315},{"$f":"データ貼付!H613","v":"決"},{"$f":"データ貼付!I613","v":"網走第四中"},{"$f":"データ貼付!J613","v":2},{"$f":"データ貼付!K613","v":0.2}]
[613,"中学男子走幅跳62",{"$f":"J616&COUNTIF($J$4:J616,J616)","v":"白井爽太郎1"},{"$f":"データ貼付!D614&データ貼付!E614","v":"中学男子走幅跳"},{"$f":"データ貼付!G614+ROW()/1000000","v":372.00061599999998},62,{"$f":"データ貼付!A614","v":"秋季陸上"},{"$f":"データ貼付!B614","v":"網走"},{"$f":"データ貼付!C614","v":43716},{"$f":"データ貼付!F614","v":"白井爽太郎"},{"$f":"データ貼付!G614","v":372},{"$f":"データ貼付!H614","v":"決"},{"$f":"データ貼付!I614","v":"大空東藻琴中"},{"$f":"データ貼付!J614","v":1},{"$f":"データ貼付!K614","v":0.1}]
[614,"中学女子走幅跳7",{"$f":"J617&COUNTIF($J$4:J617,J617)","v":"白石光2"},{"$f":"データ貼付!D615&データ貼付!E615","v":"中学女子走幅跳"},{"$f":"データ貼付!G615+ROW()/1000000","v":440.00061699999998},7,{"$f":"データ貼付!A615","v":"フィールド記録会"},{"$f":"データ貼付!B615","v":"網走"},{"$f":"データ貼付!C615","v":43624},{"$f":"データ貼付!F615","v":"白石光"},{"$f":"データ貼付!G615","v":440},{"$f":"データ貼付!H615","v":"決"},{"$f":"データ貼付!I615","v":"ｵﾎｰﾂｸAC(中学)"},{"$f":"データ貼付!J615","v":3},{"$f":"データ貼付!K615","v":3}]
[615,"小学男子走幅跳29",{"$f":"J618&COUNTIF($J$4:J618,J618)","v":"白石大和3"},{"$f":"データ貼付!D616&データ貼付!E616","v":"小学男子走幅跳"},{"$f":"データ貼付!G616+ROW()/1000000","v":348.00061799999997},29,{"$f":"データ貼付!A616","v":"記録会第１戦"},{"$f":"データ貼付!B616","v":"北見"},{"$f":"データ貼付!C616","v":43583},{"$f":"データ貼付!F616","v":"白石大和"},{"$f":"データ貼付!G616","v":348},{"$f":"データ貼付!H616","v":"決"},{"$f":"データ貼付!I616","v":"ｵﾎｰﾂｸｷｯｽﾞ"},{"$f":"データ貼付!J616","v":5},{"$f":"データ貼付!K616","v":0}]
[616,"小学男子走幅跳51",{"$f":"J619&COUNTIF($J$4:J619,J619)","v":"畑谷颯樹2"},{"$f":"データ貼付!D617&データ貼付!E617","v":"小学男子走幅跳"},{"$f":"データ貼付!G617+ROW()/1000000","v":282.00061899999997},51,{"$f":"データ貼付!A617","v":"フィールド記録会"},{"$f":"データ貼付!B617","v":"網走"},{"$f":"データ貼付!C617","v":43624},{"$f":"データ貼付!F617","v":"畑谷颯樹"},{"$f":"データ貼付!G617","v":282},{"$f":"データ貼付!H617","v":"決"},{"$f":"データ貼付!I617","v":"知床アスリートクラブ"},{"$f":"データ貼付!J617","v":3},{"$f":"データ貼付!K617","v":0}]
[617,"中学女子走幅跳42",{"$f":"J620&COUNTIF($J$4:J620,J620)","v":"八木沼歩花1"},{"$f":"データ貼付!D618&データ貼付!E618","v":"中学女子走幅跳"},{"$f":"データ貼付!G618+ROW()/1000000","v":346.00062000000003},42,{"$f":"データ貼付!A618","v":"記録会４戦"},{"$f":"データ貼付!B618","v":"北見"},{"$f":"データ貼付!C618","v":43681},{"$f":"データ貼付!F618","v":"八木沼歩花"},{"$f":"データ貼付!G618","v":346},{"$f":"データ貼付!H618","v":"決"},{"$f":"データ貼付!I618","v":"北見北中"},{"$f":"データ貼付!J618","v":2},{"$f":"データ貼付!K618","v":0.9}]
[618,"小学女子走幅跳20",{"$f":"J621&COUNTIF($J$4:J621,J621)","v":"板岡沙英1"},{"$f":"データ貼付!D619&データ貼付!E619","v":"小学女子走幅跳"},{"$f":"データ貼付!G619+ROW()/1000000","v":313.00062100000002},20,{"$f":"データ貼付!A619","v":"小学生ｵﾎｰﾂｸ"},{"$f":"データ貼付!B619","v":"北見"},{"$f":"データ貼付!C619","v":43632},{"$f":"データ貼付!F619","v":"板岡沙英"},{"$f":"データ貼付!G619","v":313},{"$f":"データ貼付!H619","v":"決"},{"$f":"データ貼付!I619","v":"ｵﾎｰﾂｸｷｯｽﾞ"},{"$f":"データ貼付!J619","v":4},{"$f":"データ貼付!K619","v":0}]
[619,"高校男子走幅跳17",{"$f":"J622&COUNTIF($J$4:J622,J622)","v":"板垣航平2"},{"$f":"データ貼付!D620&データ貼付!E620","v":"高校男子走幅跳"},{"$f":"データ貼付!G620+ROW()/1000000","v":565.00062200000002},17,{"$f":"データ貼付!A620","v":"高校新人"},{"$f":"データ貼付!B620","v":"網走"},{"$f":"データ貼付!C620","v":43700},{"$f":"データ貼付!F620","v":"板垣航平"},{"$f":"データ貼付!G620","v":565},{"$f":"データ貼付!H620","v":"決"},{"$f":"データ貼付!I620","v":"北見柏陽高"},{"$f":"データ貼付!J620","v":2},{"$f":"データ貼付!K620","v":0.4}]
[620,"一般男子走幅跳5",{"$f":"J623&COUNTIF($J$4:J623,J623)","v":"板垣颯平2"},{"$f":"データ貼付!D621&データ貼付!E621","v":"一般男子走幅跳"},{"$f":"データ貼付!G621+ROW()/1000000","v":599.00062300000002},5,{"$f":"データ貼付!A621","v":"記録会第１戦"},{"$f":"データ貼付!B621","v":"北見"},{"$f":"データ貼付!C621","v":43583},{"$f":"データ貼付!F621","v":"板垣颯平"},{"$f":"データ貼付!G621","v":599},{"$f":"データ貼付!H621","v":"決"},{"$f":"データ貼付!I621","v":"東農大ｵﾎｰﾂｸ"},{"$f":"データ貼付!J621","v":"般"},{"$f":"データ貼付!K621","v":0.8}]
[621,"中学男子走幅跳68",{"$f":"J624&COUNTIF($J$4:J624,J624)","v":"飯島空輝1"},{"$f":"データ貼付!D622&データ貼付!E622","v":"中学男子走幅跳"},{"$f":"データ貼付!G622+ROW()/1000000","v":358.00062400000002},68,{"$f":"データ貼付!A622","v":"中学新人"},{"$f":"データ貼付!B622","v":"網走"},{"$f":"データ貼付!C622","v":43700},{"$f":"データ貼付!F622","v":"飯島空輝"},{"$f":"データ貼付!G622","v":358},{"$f":"データ貼付!H622","v":"決"},{"$f":"データ貼付!I622","v":"北見北中"},{"$f":"データ貼付!J622","v":1},{"$f":"データ貼付!K622","v":1}]
[622,"小学女子走幅跳17",{"$f":"J625&COUNTIF($J$4:J625,J625)","v":"尾島美空1"},{"$f":"データ貼付!D623&データ貼付!E623","v":"小学女子走幅跳"},{"$f":"データ貼付!G623+ROW()/1000000","v":331.00062500000001},17,{"$f":"データ貼付!A623","v":"小学記録会"},{"$f":"データ貼付!B623","v":"北見"},{"$f":"データ貼付!C623","v":43736},{"$f":"データ貼付!F623","v":"尾島美空"},{"$f":"データ貼付!G623","v":331},{"$f":"データ貼付!H623","v":"決"},{"$f":"データ貼付!I623","v":"ｵﾎｰﾂｸｷｯｽﾞ"},{"$f":"データ貼付!J623","v":5},{"$f":"データ貼付!K623","v":0}]
[623,"中学女子走幅跳24",{"$f":"J626&COUNTIF($J$4:J626,J626)","v":"富永咲愛1"},{"$f":"データ貼付!D624&データ貼付!E624","v":"中学女子走幅跳"},{"$f":"データ貼付!G624+ROW()/1000000","v":406.00062600000001},24,{"$f":"データ貼付!A624","v":"中体連地区"},{"$f":"データ貼付!B624","v":"北見"},{"$f":"データ貼付!C624","v":43630},{"$f":"データ貼付!F624","v":"富永咲愛"},{"$f":"データ貼付!G624","v":406},{"$f":"データ貼付!H624","v":"予"},{"$f":"データ貼付!I624","v":"北見小泉中"},{"$f":"データ貼付!J624","v":1},{"$f":"データ貼付!K624","v":5}]
[624,"小学女子走幅跳6",{"$f":"J627&COUNTIF($J$4:J627,J627)","v":"布目友理1"},{"$f":"データ貼付!D625&データ貼付!E625","v":"小学女子走幅跳"},{"$f":"データ貼付!G625+ROW()/1000000","v":377.00062700000001},6,{"$f":"データ貼付!A625","v":"記録会第１戦"},{"$f":"データ貼付!B625","v":"北見"},{"$f":"データ貼付!C625","v":43583},{"$f":"データ貼付!F625","v":"布目友理"},{"$f":"データ貼付!G625","v":377},{"$f":"データ貼付!H625","v":"決"},{"$f":"データ貼付!I625","v":"留辺蘂JSC"},{"$f":"データ貼付!J625","v":5},{"$f":"データ貼付!K625","v":0}]
[625,"小学男子走幅跳54",{"$f":"J628&COUNTIF($J$4:J628,J628)","v":"武田航太朗3"},{"$f":"データ貼付!D626&データ貼付!E626","v":"小学男子走幅跳"},{"$f":"データ貼付!G626+ROW()/1000000","v":273.00062800000001},54,{"$f":"データ貼付!A626","v":"小学記録会"},{"$f":"データ貼付!B626","v":"北見"},{"$f":"データ貼付!C626","v":43736},{"$f":"データ貼付!F626","v":"武田航太朗"},{"$f":"データ貼付!G626","v":273},{"$f":"データ貼付!H626","v":"決"},{"$f":"データ貼付!I626","v":"常呂陸上少年団"},{"$f":"データ貼付!J626","v":4},{"$f":"データ貼付!K626","v":0}]
[626,"小学女子走幅跳22",{"$f":"J629&COUNTIF($J$4:J629,J629)","v":"武田美桜1"},{"$f":"データ貼付!D627&データ貼付!E627","v":"小学女子走幅跳"},{"$f":"データ貼付!G627+ROW()/1000000","v":296.000629},22,{"$f":"データ貼付!A627","v":"小学記録会"},{"$f":"データ貼付!B627","v":"北見"},{"$f":"データ貼付!C627","v":43736},{"$f":"データ貼付!F627","v":"武田美桜"},{"$f":"データ貼付!G627","v":296},{"$f":"データ貼付!H627","v":"決"},{"$f":"データ貼付!I627","v":"訓子府陸上少年団"},{"$f":"データ貼付!J627","v":6},{"$f":"データ貼付!K627","v":0}]
[627,"小学女子走幅跳9",{"$f":"J630&COUNTIF($J$4:J630,J630)","v":"福井花歩1"},{"$f":"データ貼付!D628&データ貼付!E628","v":"小学女子走幅跳"},{"$f":"データ貼付!G628+ROW()/1000000","v":350.00063},9,{"$f":"データ貼付!A628","v":"小学記録会"},{"$f":"データ貼付!B628","v":"北見"},{"$f":"データ貼付!C628","v":43736},{"$f":"データ貼付!F628","v":"福井花歩"},{"$f":"データ貼付!G628","v":350},{"$f":"データ貼付!H628","v":"決"},{"$f":"データ貼付!I628","v":"ｵﾎｰﾂｸｷｯｽﾞ"},{"$f":"データ貼付!J628","v":5},{"$f":"データ貼付!K628","v":0}]
[628,"小学男子走幅跳20",{"$f":"J631&COUNTIF($J$4:J631,J631)","v":"福井慶太2"},{"$f":"データ貼付!D629&データ貼付!E629","v":"小学男子走幅跳"},{"$f":"データ貼付!G629+ROW()/1000000","v":379.000631},20,{"$f":"データ貼付!A629","v":"小学記録会"},{"$f":"データ貼付!B629","v":"北見"},{"$f":"データ貼付!C629","v":43736},{"$f":"データ貼付!F629","v":"福井慶太"},{"$f":"データ貼付!G629","v":379},{"$f":"データ貼付!H629","v":"決"},{"$f":"データ貼付!I629","v":"ｵﾎｰﾂｸｷｯｽﾞ"},{"$f":"データ貼付!J629","v":3},{"$f":"データ貼付!K629","v":0}]
[629,"中学男子走幅跳29",{"$f":"J632&COUNTIF($J$4:J632,J632)","v":"福田悠介2"},{"$f":"データ貼付!D630&データ貼付!E630","v":"中学男子走幅跳"},{"$f":"データ貼付!G630+ROW()/1000000","v":464.000632},29,{"$f":"データ貼付!A630","v":"中学新人"},{"$f":"データ貼付!B630","v":"網走"},{"$f":"データ貼付!C630","v":43700},{"$f":"データ貼付!F630","v":"福田悠介"},{"$f":"データ貼付!G630","v":464},{"$f":"データ貼付!H630","v":"決"},{"$f":"データ貼付!I630","v":"網走第一中"},{"$f":"データ貼付!J630","v":2},{"$f":"データ貼付!K630","v":-2}]
[630,"小学男子走幅跳8",{"$f":"J633&COUNTIF($J$4:J633,J633)","v":"福田涼介1"},{"$f":"データ貼付!D631&データ貼付!E631","v":"小学男子走幅跳"},{"$f":"データ貼付!G631+ROW()/1000000","v":411.00063299999999},8,{"$f":"データ貼付!A631","v":"小学記録会"},{"$f":"データ貼付!B631","v":"北見"},{"$f":"データ貼付!C631","v":43736},{"$f":"データ貼付!F631","v":"福田涼介"},{"$f":"データ貼付!G631","v":411},{"$f":"データ貼付!H631","v":"決"},{"$f":"データ貼付!I631","v":"ｵﾎｰﾂｸACｼﾞｭﾆｱ"},{"$f":"データ貼付!J631","v":6},{"$f":"データ貼付!K631","v":0}]
[631,"中学女子走幅跳55",{"$f":"J634&COUNTIF($J$4:J634,J634)","v":"平沢虹華1"},{"$f":"データ貼付!D632&データ貼付!E632","v":"中学女子走幅跳"},{"$f":"データ貼付!G632+ROW()/1000000","v":308.00063399999999},55,{"$f":"データ貼付!A632","v":"中学新人"},{"$f":"データ貼付!B632","v":"網走"},{"$f":"データ貼付!C632","v":43701},{"$f":"データ貼付!F632","v":"平沢虹華"},{"$f":"データ貼付!G632","v":308},{"$f":"データ貼付!H632","v":"決"},{"$f":"データ貼付!I632","v":"北見小泉中"},{"$f":"データ貼付!J632","v":1},{"$f":"データ貼付!K632","v":2.2000000000000002}]
[632,"小学女子走幅跳19",{"$f":"J635&COUNTIF($J$4:J635,J635)","v":"平谷心優1"},{"$f":"データ貼付!D633&データ貼付!E633","v":"小学女子走幅跳"},{"$f":"データ貼付!G633+ROW()/1000000","v":329.00063499999999},19,{"$f":"データ貼付!A633","v":"小学記録会"},{"$f":"データ貼付!B633","v":"北見"},{"$f":"データ貼付!C633","v":43736},{"$f":"データ貼付!F633","v":"平谷心優"},{"$f":"データ貼付!G633","v":329},{"$f":"データ貼付!H633","v":"決"},{"$f":"データ貼付!I633","v":"美幌RC"},{"$f":"データ貼付!J633","v":4},{"$f":"データ貼付!K633","v":0}]
[633,"中学女子走幅跳51",{"$f":"J636&COUNTIF($J$4:J636,J636)","v":"平野亜笈1"},{"$f":"データ貼付!D634&データ貼付!E634","v":"中学女子走幅跳"},{"$f":"データ貼付!G634+ROW()/1000000","v":322.00063599999999},51,{"$f":"データ貼付!A634","v":"通信陸上"},{"$f":"データ貼付!B634","v":"網走"},{"$f":"データ貼付!C634","v":43644},{"$f":"データ貼付!F634","v":"平野亜笈"},{"$f":"データ貼付!G634","v":322},{"$f":"データ貼付!H634","v":"予"},{"$f":"データ貼付!I634","v":"斜里中"},{"$f":"データ貼付!J634","v":1},{"$f":"データ貼付!K634","v":2}]
[634,"中学男子走幅跳64",{"$f":"J637&COUNTIF($J$4:J637,J637)","v":"米倉啓太1"},{"$f":"データ貼付!D635&データ貼付!E635","v":"中学男子走幅跳"},{"$f":"データ貼付!G635+ROW()/1000000","v":369.00063699999998},64,{"$f":"データ貼付!A635","v":"中学新人"},{"$f":"データ貼付!B635","v":"網走"},{"$f":"データ貼付!C635","v":43700},{"$f":"データ貼付!F635","v":"米倉啓太"},{"$f":"データ貼付!G635","v":369},{"$f":"データ貼付!H635","v":"決"},{"$f":"データ貼付!I635","v":"大空女満別中"},{"$f":"データ貼付!J635","v":1},{"$f":"データ貼付!K635","v":-0.3}]
[635,"高校男子走幅跳48",{"$f":"J638&COUNTIF($J$4:J638,J638)","v":"米地賢豊1"},{"$f":"データ貼付!D636&データ貼付!E636","v":"高校男子走幅跳"},{"$f":"データ貼付!G636+ROW()/1000000","v":475.00063799999998},48,{"$f":"データ貼付!A636","v":"高体連支部"},{"$f":"データ貼付!B636","v":"北見"},{"$f":"データ貼付!C636","v":43608},{"$f":"データ貼付!F636","v":"米地賢豊"},{"$f":"データ貼付!G636","v":475},{"$f":"データ貼付!H636","v":"決"},{"$f":"データ貼付!I636","v":"北見柏陽高"},{"$f":"データ貼付!J636","v":1},{"$f":"データ貼付!K636","v":4.2}]
[636,"中学女子走幅跳54",{"$f":"J639&COUNTIF($J$4:J639,J639)","v":"片川天姫1"},{"$f":"データ貼付!D637&データ貼付!E637","v":"中学女子走幅跳"},{"$f":"データ貼付!G637+ROW()/1000000","v":314.00063899999998},54,{"$f":"データ貼付!A637","v":"中学新人"},{"$f":"データ貼付!B637","v":"網走"},{"$f":"データ貼付!C637","v":43701},{"$f":"データ貼付!F637","v":"片川天姫"},{"$f":"データ貼付!G637","v":314},{"$f":"データ貼付!H637","v":"決"},{"$f":"データ貼付!I637","v":"雄武中"},{"$f":"データ貼付!J637","v":1},{"$f":"データ貼付!K637","v":3.3}]
[637,"小学男子走幅跳14",{"$f":"J640&COUNTIF($J$4:J640,J640)","v":"豊原隆介1"},{"$f":"データ貼付!D638&データ貼付!E638","v":"小学男子走幅跳"},{"$f":"データ貼付!G638+ROW()/1000000","v":393.00063999999998},14,{"$f":"データ貼付!A638","v":"小学記録会"},{"$f":"データ貼付!B638","v":"北見"},{"$f":"データ貼付!C638","v":43736},{"$f":"データ貼付!F638","v":"豊原隆介"},{"$f":"データ貼付!G638","v":393},{"$f":"データ貼付!H638","v":"決"},{"$f":"データ貼付!I638","v":"ｵﾎｰﾂｸｷｯｽﾞ"},{"$f":"データ貼付!J638","v":6},{"$f":"データ貼付!K638","v":0}]
[638,"中学男子走幅跳43",{"$f":"J641&COUNTIF($J$4:J641,J641)","v":"北村隼人2"},{"$f":"データ貼付!D639&データ貼付!E639","v":"中学男子走幅跳"},{"$f":"データ貼付!G639+ROW()/1000000","v":421.00064099999997},43,{"$f":"データ貼付!A639","v":"秋季陸上"},{"$f":"データ貼付!B639","v":"網走"},{"$f":"データ貼付!C639","v":43716},{"$f":"データ貼付!F639","v":"北村隼人"},{"$f":"データ貼付!G639","v":421},{"$f":"データ貼付!H639","v":"決"},{"$f":"データ貼付!I639","v":"北見北光中"},{"$f":"データ貼付!J639","v":2},{"$f":"データ貼付!K639","v":0.3}]
[639,"中学女子走幅跳18",{"$f":"J642&COUNTIF($J$4:J642,J642)","v":"北野眞帆1"},{"$f":"データ貼付!D640&データ貼付!E640","v":"中学女子走幅跳"},{"$f":"データ貼付!G640+ROW()/1000000","v":421.00064200000003},18,{"$f":"データ貼付!A640","v":"記録会４戦"},{"$f":"データ貼付!B640","v":"北見"},{"$f":"データ貼付!C640","v":43681},{"$f":"データ貼付!F640","v":"北野眞帆"},{"$f":"データ貼付!G640","v":421},{"$f":"データ貼付!H640","v":"決"},{"$f":"データ貼付!I640","v":"北見北中"},{"$f":"データ貼付!J640","v":3},{"$f":"データ貼付!K640","v":1.8}]
[640,"小学男子走幅跳23",{"$f":"J643&COUNTIF($J$4:J643,J643)","v":"堀澤仁景1"},{"$f":"データ貼付!D641&データ貼付!E641","v":"小学男子走幅跳"},{"$f":"データ貼付!G641+ROW()/1000000","v":369.00064300000003},23,{"$f":"データ貼付!A641","v":"小学記録会"},{"$f":"データ貼付!B641","v":"北見"},{"$f":"データ貼付!C641","v":43736},{"$f":"データ貼付!F641","v":"堀澤仁景"},{"$f":"データ貼付!G641","v":369},{"$f":"データ貼付!H641","v":"決"},{"$f":"データ貼付!I641","v":"ｵﾎｰﾂｸｷｯｽﾞ"},{"$f":"データ貼付!J641","v":6},{"$f":"データ貼付!K641","v":0}]
[641,"中学男子走幅跳67",{"$f":"J644&COUNTIF($J$4:J644,J644)","v":"本川雅久1"},{"$f":"データ貼付!D642&データ貼付!E642","v":"中学男子走幅跳"},{"$f":"データ貼付!G642+ROW()/1000000","v":358.00064400000002},67,{"$f":"データ貼付!A642","v":"中学新人"},{"$f":"データ貼付!B642","v":"網走"},{"$f":"データ貼付!C642","v":43700},{"$f":"データ貼付!F642","v":"本川雅久"},{"$f":"データ貼付!G642","v":358},{"$f":"データ貼付!H642","v":"決"},{"$f":"データ貼付!I642","v":"大空女満別中"},{"$f":"データ貼付!J642","v":1},{"$f":"データ貼付!K642","v":0}]
[642,{"$f":"D645&F645","v":"中学男子走幅跳27"},{"$f":"J645&COUNTIF($J$4:J645,J645)","v":"本田孝仁1"},{"$f":"データ貼付!D643&データ貼付!E643","v":"中学男子走幅跳"},{"$f":"データ貼付!G643+ROW()/1000000","v":467.00064500000002},{"$f":"SUMPRODUCT(($D$4:$D$903=D645)*($E$4:$E$903>E645))+1","v":27},{"$f":"データ貼付!A643","v":"秋季陸上"},{"$f":"データ貼付!B643","v":"網走"},{"$f":"データ貼付!C643","v":43716},{"$f":"データ貼付!F643","v":"本田孝仁"},{"$f":"データ貼付!G643","v":467},{"$f":"データ貼付!H643","v":"決"},{"$f":"データ貼付!I643","v":"北見常呂中"},{"$f":"データ貼付!J643","v":1},{"$f":"データ貼付!K643","v":0}]
[643,"小学男子走幅跳4",{"$f":"J646&COUNTIF($J$4:J646,J646)","v":"本田櫂晴2"},{"$f":"データ貼付!D644&データ貼付!E644","v":"小学男子走幅跳"},{"$f":"データ貼付!G644+ROW()/1000000","v":436.00064600000002},4,{"$f":"データ貼付!A644","v":"小学記録会"},{"$f":"データ貼付!B644","v":"北見"},{"$f":"データ貼付!C644","v":43736},{"$f":"データ貼付!F644","v":"本田櫂晴"},{"$f":"データ貼付!G644","v":436},{"$f":"データ貼付!H644","v":"決"},{"$f":"データ貼付!I644","v":"ｵﾎｰﾂｸｷｯｽﾞ"},{"$f":"データ貼付!J644","v":5},{"$f":"データ貼付!K644","v":0}]
[644,"中学男子走幅跳11",{"$f":"J647&COUNTIF($J$4:J647,J647)","v":"名古屋玲二1"},{"$f":"データ貼付!D645&データ貼付!E645","v":"中学男子走幅跳"},{"$f":"データ貼付!G645+ROW()/1000000","v":529.00064699999996},11,{"$f":"データ貼付!A645","v":"通信陸上"},{"$f":"データ貼付!B645","v":"網走"},{"$f":"データ貼付!C645","v":43645},{"$f":"データ貼付!F645","v":"名古屋玲二"},{"$f":"データ貼付!G645","v":529},{"$f":"データ貼付!H645","v":"決"},{"$f":"データ貼付!I645","v":"美幌北中"},{"$f":"データ貼付!J645","v":3},{"$f":"データ貼付!K645","v":2.5}]
[645,"中学男子走幅跳18",{"$f":"J648&COUNTIF($J$4:J648,J648)","v":"茂木亮磨1"},{"$f":"データ貼付!D646&データ貼付!E646","v":"中学男子走幅跳"},{"$f":"データ貼付!G646+ROW()/1000000","v":496.00064800000001},18,{"$f":"データ貼付!A646","v":"中体連地区"},{"$f":"データ貼付!B646","v":"北見"},{"$f":"データ貼付!C646","v":43630},{"$f":"データ貼付!F646","v":"茂木亮磨"},{"$f":"データ貼付!G646","v":496},{"$f":"データ貼付!H646","v":"予"},{"$f":"データ貼付!I646","v":"清里中"},{"$f":"データ貼付!J646","v":2},{"$f":"データ貼付!K646","v":3.6}]
[646,"中学男子走幅跳75",{"$f":"J649&COUNTIF($J$4:J649,J649)","v":"野口蒼太1"},{"$f":"データ貼付!D647&データ貼付!E647","v":"中学男子走幅跳"},{"$f":"データ貼付!G647+ROW()/1000000","v":342.00064900000001},75,{"$f":"データ貼付!A647","v":"通信陸上"},{"$f":"データ貼付!B647","v":"網走"},{"$f":"データ貼付!C647","v":43644},{"$f":"データ貼付!F647","v":"野口蒼太"},{"$f":"データ貼付!G647","v":342},{"$f":"データ貼付!H647","v":"予"},{"$f":"データ貼付!I647","v":"北見小泉中"},{"$f":"データ貼付!J647","v":1},{"$f":"データ貼付!K647","v":2.2000000000000002}]
[647,"高校男子走幅跳46",{"$f":"J650&COUNTIF($J$4:J650,J650)","v":"野崎竜矢2"},{"$f":"データ貼付!D648&データ貼付!E648","v":"高校男子走幅跳"},{"$f":"データ貼付!G648+ROW()/1000000","v":476.00065000000001},46,{"$f":"データ貼付!A648","v":"高校新人"},{"$f":"データ貼付!B648","v":"網走"},{"$f":"データ貼付!C648","v":43700},{"$f":"データ貼付!F648","v":"野崎竜矢"},{"$f":"データ貼付!G648","v":476},{"$f":"データ貼付!H648","v":"決"},{"$f":"データ貼付!I648","v":"網走南ヶ丘高"},{"$f":"データ貼付!J648","v":1},{"$f":"データ貼付!K648","v":2.9}]
[648,"中学男子走幅跳65",{"$f":"J651&COUNTIF($J$4:J651,J651)","v":"野村駿2"},{"$f":"データ貼付!D649&データ貼付!E649","v":"中学男子走幅跳"},{"$f":"データ貼付!G649+ROW()/1000000","v":368.000651},65,{"$f":"データ貼付!A649","v":"記録会３戦"},{"$f":"データ貼付!B649","v":"網走"},{"$f":"データ貼付!C649","v":43660},{"$f":"データ貼付!F649","v":"野村駿"},{"$f":"データ貼付!G649","v":368},{"$f":"データ貼付!H649","v":"決"},{"$f":"データ貼付!I649","v":"北見東陵中"},{"$f":"データ貼付!J649","v":1},{"$f":"データ貼付!K649","v":1.4}]
[649,"中学女子走幅跳26",{"$f":"J652&COUNTIF($J$4:J652,J652)","v":"野村柚果1"},{"$f":"データ貼付!D650&データ貼付!E650","v":"中学女子走幅跳"},{"$f":"データ貼付!G650+ROW()/1000000","v":404.000652},26,{"$f":"データ貼付!A650","v":"記録会４戦"},{"$f":"データ貼付!B650","v":"北見"},{"$f":"データ貼付!C650","v":43681},{"$f":"データ貼付!F650","v":"野村柚果"},{"$f":"データ貼付!G650","v":404},{"$f":"データ貼付!H650","v":"決"},{"$f":"データ貼付!I650","v":"北見北中"},{"$f":"データ貼付!J650","v":1},{"$f":"データ貼付!K650","v":0.8}]
[650,"小学男子走幅跳56",{"$f":"J653&COUNTIF($J$4:J653,J653)","v":"野田将誠1"},{"$f":"データ貼付!D651&データ貼付!E651","v":"小学男子走幅跳"},{"$f":"データ貼付!G651+ROW()/1000000","v":259.000653},56,{"$f":"データ貼付!A651","v":"小学記録会"},{"$f":"データ貼付!B651","v":"北見"},{"$f":"データ貼付!C651","v":43736},{"$f":"データ貼付!F651","v":"野田将誠"},{"$f":"データ貼付!G651","v":259},{"$f":"データ貼付!H651","v":"決"},{"$f":"データ貼付!I651","v":"ｵﾎｰﾂｸｷｯｽﾞ"},{"$f":"データ貼付!J651","v":4},{"$f":"データ貼付!K651","v":0}]
[651,"中学男子走幅跳39",{"$f":"J654&COUNTIF($J$4:J654,J654)","v":"矢口新大1"},{"$f":"データ貼付!D652&データ貼付!E652","v":"中学男子走幅跳"},{"$f":"データ貼付!G652+ROW()/1000000","v":434.000654},39,{"$f":"データ貼付!A652","v":"記録会３戦"},{"$f":"データ貼付!B652","v":"網走"},{"$f":"データ貼付!C652","v":43660},{"$f":"データ貼付!F652","v":"矢口新大"},{"$f":"データ貼付!G652","v":434},{"$f":"データ貼付!H652","v":"決"},{"$f":"データ貼付!I652","v":"清里中"},{"$f":"データ貼付!J652","v":2},{"$f":"データ貼付!K652","v":0.5}]
[652,"中学女子走幅跳57",{"$f":"J655&COUNTIF($J$4:J655,J655)","v":"矢田蒼那1"},{"$f":"データ貼付!D653&データ貼付!E653","v":"中学女子走幅跳"},{"$f":"データ貼付!G653+ROW()/1000000","v":282.00065499999999},57,{"$f":"データ貼付!A653","v":"中学新人"},{"$f":"データ貼付!B653","v":"網走"},{"$f":"データ貼付!C653","v":43701},{"$f":"データ貼付!F653","v":"矢田蒼那"},{"$f":"データ貼付!G653","v":282},{"$f":"データ貼付!H653","v":"決"},{"$f":"データ貼付!I653","v":"北見南中"},{"$f":"データ貼付!J653","v":2},{"$f":"データ貼付!K653","v":3.4}]
[653,"中学女子走幅跳58",{"$f":"J656&COUNTIF($J$4:J656,J656)","v":"矢田蒼梛1"},{"$f":"データ貼付!D654&データ貼付!E654","v":"中学女子走幅跳"},{"$f":"データ貼付!G654+ROW()/1000000","v":272.00065599999999},58,{"$f":"データ貼付!A654","v":"記録会４戦"},{"$f":"データ貼付!B654","v":"北見"},{"$f":"データ貼付!C654","v":43681},{"$f":"データ貼付!F654","v":"矢田蒼梛"},{"$f":"データ貼付!G654","v":272},{"$f":"データ貼付!H654","v":"決"},{"$f":"データ貼付!I654","v":"北見南中"},{"$f":"データ貼付!J654","v":2},{"$f":"データ貼付!K654","v":1.3}]
[654,"高校女子走幅跳1",{"$f":"J657&COUNTIF($J$4:J657,J657)","v":"矢萩雪奈3"},{"$f":"データ貼付!D655&データ貼付!E655","v":"高校女子走幅跳"},{"$f":"データ貼付!G655+ROW()/1000000","v":538.00065700000005},1,{"$f":"データ貼付!A655","v":"高体連支部"},{"$f":"データ貼付!B655","v":"北見"},{"$f":"データ貼付!C655","v":43608},{"$f":"データ貼付!F655","v":"矢萩雪奈"},{"$f":"データ貼付!G655","v":538},{"$f":"データ貼付!H655","v":"決"},{"$f":"データ貼付!I655","v":"遠軽高"},{"$f":"データ貼付!J655","v":3},{"$f":"データ貼付!K655","v":1.7}]
[655,"高校女子走幅跳3",{"$f":"J658&COUNTIF($J$4:J658,J658)","v":"林ちひろ2"},{"$f":"データ貼付!D656&データ貼付!E656","v":"高校女子走幅跳"},{"$f":"データ貼付!G656+ROW()/1000000","v":524.00065800000004},3,{"$f":"データ貼付!A656","v":"記録会第１戦"},{"$f":"データ貼付!B656","v":"北見"},{"$f":"データ貼付!C656","v":43583},{"$f":"データ貼付!F656","v":"林ちひろ"},{"$f":"データ貼付!G656","v":524},{"$f":"データ貼付!H656","v":"決"},{"$f":"データ貼付!I656","v":"北見緑陵高"},{"$f":"データ貼付!J656","v":1},{"$f":"データ貼付!K656","v":1.6}]
[656,"高校男子走幅跳34",{"$f":"J659&COUNTIF($J$4:J659,J659)","v":"林愛斗1"},{"$f":"データ貼付!D657&データ貼付!E657","v":"高校男子走幅跳"},{"$f":"データ貼付!G657+ROW()/1000000","v":520.00065900000004},34,{"$f":"データ貼付!A657","v":"高体連支部"},{"$f":"データ貼付!B657","v":"北見"},{"$f":"データ貼付!C657","v":43608},{"$f":"データ貼付!F657","v":"林愛斗"},{"$f":"データ貼付!G657","v":520},{"$f":"データ貼付!H657","v":"決"},{"$f":"データ貼付!I657","v":"北見緑陵高"},{"$f":"データ貼付!J657","v":3},{"$f":"データ貼付!K657","v":0.7}]
[657,"中学男子走幅跳56",{"$f":"J660&COUNTIF($J$4:J660,J660)","v":"林柚輔1"},{"$f":"データ貼付!D658&データ貼付!E658","v":"中学男子走幅跳"},{"$f":"データ貼付!G658+ROW()/1000000","v":390.00065999999998},56,{"$f":"データ貼付!A658","v":"中学新人"},{"$f":"データ貼付!B658","v":"網走"},{"$f":"データ貼付!C658","v":43700},{"$f":"データ貼付!F658","v":"林柚輔"},{"$f":"データ貼付!G658","v":390},{"$f":"データ貼付!H658","v":"決"},{"$f":"データ貼付!I658","v":"北見北中"},{"$f":"データ貼付!J658","v":1},{"$f":"データ貼付!K658","v":-0.1}]
[658,"中学女子走幅跳43",{"$f":"J661&COUNTIF($J$4:J661,J661)","v":"鈴木沙也加1"},{"$f":"データ貼付!D659&データ貼付!E659","v":"中学女子走幅跳"},{"$f":"データ貼付!G659+ROW()/1000000","v":344.00066099999998},43,{"$f":"データ貼付!A659","v":"中学新人"},{"$f":"データ貼付!B659","v":"網走"},{"$f":"データ貼付!C659","v":43701},{"$f":"データ貼付!F659","v":"鈴木沙也加"},{"$f":"データ貼付!G659","v":344},{"$f":"データ貼付!H659","v":"決"},{"$f":"データ貼付!I659","v":"北見東陵中"},{"$f":"データ貼付!J659","v":1},{"$f":"データ貼付!K659","v":1.6}]
[659,"中学男子走幅跳24",{"$f":"J662&COUNTIF($J$4:J662,J662)","v":"鈴木侑輝1"},{"$f":"データ貼付!D660&データ貼付!E660","v":"中学男子走幅跳"},{"$f":"データ貼付!G660+ROW()/1000000","v":482.00066199999998},24,{"$f":"データ貼付!A660","v":"選手権"},{"$f":"データ貼付!B660","v":"北見"},{"$f":"データ貼付!C660","v":43596},{"$f":"データ貼付!F660","v":"鈴木侑輝"},{"$f":"データ貼付!G660","v":482},{"$f":"データ貼付!H660","v":"決"},{"$f":"データ貼付!I660","v":"遠軽中"},{"$f":"データ貼付!J660","v":3},{"$f":"データ貼付!K660","v":1.5}]
[660,"高校男子走幅跳20",{"$f":"J663&COUNTIF($J$4:J663,J663)","v":"六渡和馬3"},{"$f":"データ貼付!D661&データ貼付!E661","v":"高校男子走幅跳"},{"$f":"データ貼付!G661+ROW()/1000000","v":557.00066300000003},20,{"$f":"データ貼付!A661","v":"高校新人"},{"$f":"データ貼付!B661","v":"網走"},{"$f":"データ貼付!C661","v":43700},{"$f":"データ貼付!F661","v":"六渡和馬"},{"$f":"データ貼付!G661","v":557},{"$f":"データ貼付!H661","v":"決"},{"$f":"データ貼付!I661","v":"北見北斗高"},{"$f":"データ貼付!J661","v":1},{"$f":"データ貼付!K661","v":2.1}]
[661,"中学男子走幅跳25",{"$f":"J664&COUNTIF($J$4:J664,J664)","v":"鷲尾征1"},{"$f":"データ貼付!D662&データ貼付!E662","v":"中学男子走幅跳"},{"$f":"データ貼付!G662+ROW()/1000000","v":476.00066399999997},25,{"$f":"データ貼付!A662","v":"記録会４戦"},{"$f":"データ貼付!B662","v":"北見"},{"$f":"データ貼付!C662","v":43681},{"$f":"データ貼付!F662","v":"鷲尾征"},{"$f":"データ貼付!G662","v":476},{"$f":"データ貼付!H662","v":"決"},{"$f":"データ貼付!I662","v":"北見北光中"},{"$f":"データ貼付!J662","v":2},{"$f":"データ貼付!K662","v":1.2}]
[662,"小学男子走幅跳38",{"$f":"J665&COUNTIF($J$4:J665,J665)","v":"廣瀬太一1"},{"$f":"データ貼付!D663&データ貼付!E663","v":"小学男子走幅跳"},{"$f":"データ貼付!G663+ROW()/1000000","v":325.00066500000003},38,{"$f":"データ貼付!A663","v":"選手権"},{"$f":"データ貼付!B663","v":"北見"},{"$f":"データ貼付!C663","v":43597},{"$f":"データ貼付!F663","v":"廣瀬太一"},{"$f":"データ貼付!G663","v":325},{"$f":"データ貼付!H663","v":"決"},{"$f":"データ貼付!I663","v":"ｵﾎｰﾂｸｷｯｽﾞ"},{"$f":"データ貼付!J663","v":5},{"$f":"データ貼付!K663","v":0}]
[663,"小学女子走幅跳2",{"$f":"J666&COUNTIF($J$4:J666,J666)","v":"廣田彩華1"},{"$f":"データ貼付!D664&データ貼付!E664","v":"小学女子走幅跳"},{"$f":"データ貼付!G664+ROW()/1000000","v":392.00066600000002},2,{"$f":"データ貼付!A664","v":"全道小学"},{"$f":"データ貼付!B664","v":"札幌"},{"$f":"データ貼付!C664","v":43661},{"$f":"データ貼付!F664","v":"廣田彩華"},{"$f":"データ貼付!G664","v":392},{"$f":"データ貼付!H664","v":"決"},{"$f":"データ貼付!I664","v":"美幌RC"},{"$f":"データ貼付!J664","v":5},{"$f":"データ貼付!K664","v":1.6}]
[664,"中学女子走幅跳41",{"$f":"J667&COUNTIF($J$4:J667,J667)","v":"廣澤優々花1"},{"$f":"データ貼付!D665&データ貼付!E665","v":"中学女子走幅跳"},{"$f":"データ貼付!G665+ROW()/1000000","v":346.00066700000002},41,{"$f":"データ貼付!A665","v":"選手権"},{"$f":"データ貼付!B665","v":"北見"},{"$f":"データ貼付!C665","v":43596},{"$f":"データ貼付!F665","v":"廣澤優々花"},{"$f":"データ貼付!G665","v":346},{"$f":"データ貼付!H665","v":"決"},{"$f":"データ貼付!I665","v":"北見東陵中"},{"$f":"データ貼付!J665","v":2},{"$f":"データ貼付!K665","v":3.4}]
[665,"小学男子走幅跳52",{"$f":"J668&COUNTIF($J$4:J668,J668)","v":"櫻井晴1"},{"$f":"データ貼付!D666&データ貼付!E666","v":"小学男子走幅跳"},{"$f":"データ貼付!G666+ROW()/1000000","v":278.00066800000002},52,{"$f":"データ貼付!A666","v":"小学記録会"},{"$f":"データ貼付!B666","v":"北見"},{"$f":"データ貼付!C666","v":43736},{"$f":"データ貼付!F666","v":"櫻井晴"},{"$f":"データ貼付!G666","v":278},{"$f":"データ貼付!H666","v":"決"},{"$f":"データ貼付!I666","v":"ｵﾎｰﾂｸｷｯｽﾞ"},{"$f":"データ貼付!J666","v":4},{"$f":"データ貼付!K666","v":0}]
[666,"中学女子走幅跳2",{"$f":"J669&COUNTIF($J$4:J669,J669)","v":"澤向美樹1"},{"$f":"データ貼付!D667&データ貼付!E667","v":"中学女子走幅跳"},{"$f":"データ貼付!G667+ROW()/1000000","v":476.00066900000002},2,{"$f":"データ貼付!A667","v":"全道中学新人"},{"$f":"データ貼付!B667","v":"千歳"},{"$f":"データ貼付!C667","v":43730},{"$f":"データ貼付!F667","v":"澤向美樹"},{"$f":"データ貼付!G667","v":476},{"$f":"データ貼付!H667","v":"決"},{"$f":"データ貼付!I667","v":"北見常呂"},{"$f":"データ貼付!J667","v":1},{"$f":"データ貼付!K667","v":0.6}]
[667,"中学男子走幅跳35",{"$f":"J670&COUNTIF($J$4:J670,J670)","v":"萬龍来1"},{"$f":"データ貼付!D668&データ貼付!E668","v":"中学男子走幅跳"},{"$f":"データ貼付!G668+ROW()/1000000","v":447.00067000000001},35,{"$f":"データ貼付!A668","v":"中体連地区"},{"$f":"データ貼付!B668","v":"北見"},{"$f":"データ貼付!C668","v":43630},{"$f":"データ貼付!F668","v":"萬龍来"},{"$f":"データ貼付!G668","v":447},{"$f":"データ貼付!H668","v":"予"},{"$f":"データ貼付!I668","v":"網走第一中"},{"$f":"データ貼付!J668","v":2},{"$f":"データ貼付!K668","v":3.6}]
[668,"小学男子走幅跳37",{"$f":"J671&COUNTIF($J$4:J671,J671)","v":"齊藤快晴1"},{"$f":"データ貼付!D669&データ貼付!E669","v":"小学男子走幅跳"},{"$f":"データ貼付!G669+ROW()/1000000","v":325.00067100000001},37,{"$f":"データ貼付!A669","v":"小学生ｵﾎｰﾂｸ"},{"$f":"データ貼付!B669","v":"北見"},{"$f":"データ貼付!C669","v":43632},{"$f":"データ貼付!F669","v":"齊藤快晴"},{"$f":"データ貼付!G669","v":325},{"$f":"データ貼付!H669","v":"決"},{"$f":"データ貼付!I669","v":"常呂陸上少年団"},{"$f":"データ貼付!J669","v":6},{"$f":"データ貼付!K669","v":0}]
[669,"中学女子走幅跳23",{"$f":"J672&COUNTIF($J$4:J672,J672)","v":"髙橋愛花1"},{"$f":"データ貼付!D670&データ貼付!E670","v":"中学女子走幅跳"},{"$f":"データ貼付!G670+ROW()/1000000","v":407.00067200000001},23,{"$f":"データ貼付!A670","v":"中学新人"},{"$f":"データ貼付!B670","v":"網走"},{"$f":"データ貼付!C670","v":43701},{"$f":"データ貼付!F670","v":"髙橋愛花"},{"$f":"データ貼付!G670","v":407},{"$f":"データ貼付!H670","v":"決"},{"$f":"データ貼付!I670","v":"美幌中"},{"$f":"データ貼付!J670","v":2},{"$f":"データ貼付!K670","v":3.1}]
[670,"高校女子走幅跳6",{"$f":"J673&COUNTIF($J$4:J673,J673)","v":"髙橋菜摘1"},{"$f":"データ貼付!D671&データ貼付!E671","v":"高校女子走幅跳"},{"$f":"データ貼付!G671+ROW()/1000000","v":494.00067300000001},6,{"$f":"データ貼付!A671","v":"高体連支部"},{"$f":"データ貼付!B671","v":"北見"},{"$f":"データ貼付!C671","v":43608},{"$f":"データ貼付!F671","v":"髙橋菜摘"},{"$f":"データ貼付!G671","v":494},{"$f":"データ貼付!H671","v":"決"},{"$f":"データ貼付!I671","v":"北見柏陽高"},{"$f":"データ貼付!J671","v":2},{"$f":"データ貼付!K671","v":2.7}]
[671,"小学女子走幅跳15",{"$f":"J674&COUNTIF($J$4:J674,J674)","v":"髙橋碧衣1"},{"$f":"データ貼付!D672&データ貼付!E672","v":"小学女子走幅跳"},{"$f":"データ貼付!G672+ROW()/1000000","v":334.000674},15,{"$f":"データ貼付!A672","v":"小学記録会"},{"$f":"データ貼付!B672","v":"北見"},{"$f":"データ貼付!C672","v":43736},{"$f":"データ貼付!F672","v":"髙橋碧衣"},{"$f":"データ貼付!G672","v":334},{"$f":"データ貼付!H672","v":"決"},{"$f":"データ貼付!I672","v":"常呂陸上少年団"},{"$f":"データ貼付!J672","v":5},{"$f":"データ貼付!K672","v":0}]
[672,"高校男子走幅跳18",{"$f":"J675&COUNTIF($J$4:J675,J675)","v":"髙橋悠希2"},{"$f":"データ貼付!D673&データ貼付!E673","v":"高校男子走幅跳"},{"$f":"データ貼付!G673+ROW()/1000000","v":564.000675},18,{"$f":"データ貼付!A673","v":"記録会４戦"},{"$f":"データ貼付!B673","v":"北見"},{"$f":"データ貼付!C673","v":43681},{"$f":"データ貼付!F673","v":"髙橋悠希"},{"$f":"データ貼付!G673","v":564},{"$f":"データ貼付!H673","v":"決"},{"$f":"データ貼付!I673","v":"北見北斗高"},{"$f":"データ貼付!J673","v":2},{"$f":"データ貼付!K673","v":0}]
[673,"中学男子走幅跳58",{"$f":"J676&COUNTIF($J$4:J676,J676)","v":"髙橋龍之介2"},{"$f":"データ貼付!D674&データ貼付!E674","v":"中学男子走幅跳"},{"$f":"データ貼付!G674+ROW()/1000000","v":378.000676},58,{"$f":"データ貼付!A674","v":"秋季陸上"},{"$f":"データ貼付!B674","v":"網走"},{"$f":"データ貼付!C674","v":43716},{"$f":"データ貼付!F674","v":"髙橋龍之介"},{"$f":"データ貼付!G674","v":378},{"$f":"データ貼付!H674","v":"決"},{"$f":"データ貼付!I674","v":"網走第四中"},{"$f":"データ貼付!J674","v":1},{"$f":"データ貼付!K674","v":-1.2}]
[674,"中学女子走幅跳45",{"$f":"J677&COUNTIF($J$4:J677,J677)","v":"髙田沙七2"},{"$f":"データ貼付!D675&データ貼付!E675","v":"中学女子走幅跳"},{"$f":"データ貼付!G675+ROW()/1000000","v":343.000677},45,{"$f":"データ貼付!A675","v":"選手権"},{"$f":"データ貼付!B675","v":"北見"},{"$f":"データ貼付!C675","v":43596},{"$f":"データ貼付!F675","v":"髙田沙七"},{"$f":"データ貼付!G675","v":343},{"$f":"データ貼付!H675","v":"決"},{"$f":"データ貼付!I675","v":"北見北光中"},{"$f":"データ貼付!J675","v":3},{"$f":"データ貼付!K675","v":1.8}]
[675,"中学女子走幅跳6",{"$f":"J678&COUNTIF($J$4:J678,J678)","v":"髙木杏華1"},{"$f":"データ貼付!D676&データ貼付!E676","v":"中学女子走幅跳"},{"$f":"データ貼付!G676+ROW()/1000000","v":452.00067799999999},6,{"$f":"データ貼付!A676","v":"通信陸上"},{"$f":"データ貼付!B676","v":"網走"},{"$f":"データ貼付!C676","v":43645},{"$f":"データ貼付!F676","v":"髙木杏華"},{"$f":"データ貼付!G676","v":452},{"$f":"データ貼付!H676","v":"決"},{"$f":"データ貼付!I676","v":"北見北光中"},{"$f":"データ貼付!J676","v":3},{"$f":"データ貼付!K676","v":3.7}]
[676,"中学女子走幅跳21",{"$f":"J679&COUNTIF($J$4:J679,J679)","v":"髙木千陽1"},{"$f":"データ貼付!D677&データ貼付!E677","v":"中学女子走幅跳"},{"$f":"データ貼付!G677+ROW()/1000000","v":408.00067899999999},21,{"$f":"データ貼付!A677","v":"中学新人"},{"$f":"データ貼付!B677","v":"網走"},{"$f":"データ貼付!C677","v":43701},{"$f":"データ貼付!F677","v":"髙木千陽"},{"$f":"データ貼付!G677","v":408},{"$f":"データ貼付!H677","v":"決"},{"$f":"データ貼付!I677","v":"北見東陵中"},{"$f":"データ貼付!J677","v":2},{"$f":"データ貼付!K677","v":3.8}]
[677,"小学男子砲丸投(2.721kg)4",{"$f":"J680&COUNTIF($J$4:J680,J680)","v":"井田悠仁3"},{"$f":"データ貼付!D678&データ貼付!E678","v":"小学男子砲丸投(2.721kg)"},{"$f":"データ貼付!G678+ROW()/1000000","v":570.00067999999999},4,{"$f":"データ貼付!A678","v":"小学記録会"},{"$f":"データ貼付!B678","v":"北見"},{"$f":"データ貼付!C678","v":43736},{"$f":"データ貼付!F678","v":"井田悠仁"},{"$f":"データ貼付!G678","v":570},{"$f":"データ貼付!H678","v":"決"},{"$f":"データ貼付!I678","v":"ｵﾎｰﾂｸｷｯｽﾞ"},{"$f":"データ貼付!J678","v":5},{"$f":"データ貼付!K678","v":0}]
[678,"小学女子砲丸投(2.721kg)3",{"$f":"J681&COUNTIF($J$4:J681,J681)","v":"関谷楓花3"},{"$f":"データ貼付!D679&データ貼付!E679","v":"小学女子砲丸投(2.721kg)"},{"$f":"データ貼付!G679+ROW()/1000000","v":702.00068099999999},3,{"$f":"データ貼付!A679","v":"小学記録会"},{"$f":"データ貼付!B679","v":"北見"},{"$f":"データ貼付!C679","v":43736},{"$f":"データ貼付!F679","v":"関谷楓花"},{"$f":"データ貼付!G679","v":702},{"$f":"データ貼付!H679","v":"決"},{"$f":"データ貼付!I679","v":"常呂陸上少年団"},{"$f":"データ貼付!J679","v":6},{"$f":"データ貼付!K679","v":0}]
[679,"小学男子砲丸投(2.721kg)1",{"$f":"J682&COUNTIF($J$4:J682,J682)","v":"岩崎鼓太郎2"},{"$f":"データ貼付!D680&データ貼付!E680","v":"小学男子砲丸投(2.721kg)"},{"$f":"データ貼付!G680+ROW()/1000000","v":805.00068199999998},1,{"$f":"データ貼付!A680","v":"小学記録会"},{"$f":"データ貼付!B680","v":"北見"},{"$f":"データ貼付!C680","v":43736},{"$f":"データ貼付!F680","v":"岩崎鼓太郎"},{"$f":"データ貼付!G680","v":805},{"$f":"データ貼付!H680","v":"決"},{"$f":"データ貼付!I680","v":"ｵﾎｰﾂｸｷｯｽﾞ"},{"$f":"データ貼付!J680","v":6},{"$f":"データ貼付!K680","v":0}]
[680,"小学女子砲丸投(2.721kg)5",{"$f":"J683&COUNTIF($J$4:J683,J683)","v":"久保田颯歩3"},{"$f":"データ貼付!D681&データ貼付!E681","v":"小学女子砲丸投(2.721kg)"},{"$f":"データ貼付!G681+ROW()/1000000","v":440.00068299999998},5,{"$f":"データ貼付!A681","v":"小学記録会"},{"$f":"データ貼付!B681","v":"北見"},{"$f":"データ貼付!C681","v":43736},{"$f":"データ貼付!F681","v":"久保田颯歩"},{"$f":"データ貼付!G681","v":440},{"$f":"データ貼付!H681","v":"決"},{"$f":"データ貼付!I681","v":"知床斜里RC"},{"$f":"データ貼付!J681","v":5},{"$f":"データ貼付!K681","v":0}]
[681,"小学女子砲丸投(2.721kg)1",{"$f":"J684&COUNTIF($J$4:J684,J684)","v":"原田莉子1"},{"$f":"データ貼付!D682&データ貼付!E682","v":"小学女子砲丸投(2.721kg)"},{"$f":"データ貼付!G682+ROW()/1000000","v":748.00068399999998},1,{"$f":"データ貼付!A682","v":"小学記録会"},{"$f":"データ貼付!B682","v":"北見"},{"$f":"データ貼付!C682","v":43736},{"$f":"データ貼付!F682","v":"原田莉子"},{"$f":"データ貼付!G682","v":748},{"$f":"データ貼付!H682","v":"決"},{"$f":"データ貼付!I682","v":"ｵﾎｰﾂｸｷｯｽﾞ"},{"$f":"データ貼付!J682","v":6},{"$f":"データ貼付!K682","v":0}]
[682,"小学男子砲丸投(2.721kg)5",{"$f":"J685&COUNTIF($J$4:J685,J685)","v":"西迫知希2"},{"$f":"データ貼付!D683&データ貼付!E683","v":"小学男子砲丸投(2.721kg)"},{"$f":"データ貼付!G683+ROW()/1000000","v":540.00068499999998},5,{"$f":"データ貼付!A683","v":"小学記録会"},{"$f":"データ貼付!B683","v":"北見"},{"$f":"データ貼付!C683","v":43736},{"$f":"データ貼付!F683","v":"西迫知希"},{"$f":"データ貼付!G683","v":540},{"$f":"データ貼付!H683","v":"決"},{"$f":"データ貼付!I683","v":"ｵﾎｰﾂｸｷｯｽﾞ"},{"$f":"データ貼付!J683","v":5},{"$f":"データ貼付!K683","v":0}]
[683,"小学女子砲丸投(2.721kg)2",{"$f":"J686&COUNTIF($J$4:J686,J686)","v":"中村光1"},{"$f":"データ貼付!D684&データ貼付!E684","v":"小学女子砲丸投(2.721kg)"},{"$f":"データ貼付!G684+ROW()/1000000","v":722.00068599999997},2,{"$f":"データ貼付!A684","v":"小学記録会"},{"$f":"データ貼付!B684","v":"北見"},{"$f":"データ貼付!C684","v":43736},{"$f":"データ貼付!F684","v":"中村光"},{"$f":"データ貼付!G684","v":722},{"$f":"データ貼付!H684","v":"決"},{"$f":"データ貼付!I684","v":"常呂陸上少年団"},{"$f":"データ貼付!J684","v":6},{"$f":"データ貼付!K684","v":0}]
[684,"小学男子砲丸投(2.721kg)3",{"$f":"J687&COUNTIF($J$4:J687,J687)","v":"田中蒼司1"},{"$f":"データ貼付!D685&データ貼付!E685","v":"小学男子砲丸投(2.721kg)"},{"$f":"データ貼付!G685+ROW()/1000000","v":632.00068699999997},3,{"$f":"データ貼付!A685","v":"小学記録会"},{"$f":"データ貼付!B685","v":"北見"},{"$f":"データ貼付!C685","v":43736},{"$f":"データ貼付!F685","v":"田中蒼司"},{"$f":"データ貼付!G685","v":632},{"$f":"データ貼付!H685","v":"決"},{"$f":"データ貼付!I685","v":"遠軽陸上ｸﾗﾌﾞ"},{"$f":"データ貼付!J685","v":6},{"$f":"データ貼付!K685","v":0}]
[685,"小学女子砲丸投(2.721kg)4",{"$f":"J688&COUNTIF($J$4:J688,J688)","v":"田辺采子3"},{"$f":"データ貼付!D686&データ貼付!E686","v":"小学女子砲丸投(2.721kg)"},{"$f":"データ貼付!G686+ROW()/1000000","v":582.00068799999997},4,{"$f":"データ貼付!A686","v":"小学記録会"},{"$f":"データ貼付!B686","v":"北見"},{"$f":"データ貼付!C686","v":43736},{"$f":"データ貼付!F686","v":"田辺采子"},{"$f":"データ貼付!G686","v":582},{"$f":"データ貼付!H686","v":"決"},{"$f":"データ貼付!I686","v":"ｵﾎｰﾂｸｷｯｽﾞ"},{"$f":"データ貼付!J686","v":5},{"$f":"データ貼付!K686","v":0}]
[686,"小学男子砲丸投(2.721kg)2",{"$f":"J689&COUNTIF($J$4:J689,J689)","v":"本田愛斗1"},{"$f":"データ貼付!D687&データ貼付!E687","v":"小学男子砲丸投(2.721kg)"},{"$f":"データ貼付!G687+ROW()/1000000","v":707.00068899999997},2,{"$f":"データ貼付!A687","v":"小学記録会"},{"$f":"データ貼付!B687","v":"北見"},{"$f":"データ貼付!C687","v":43736},{"$f":"データ貼付!F687","v":"本田愛斗"},{"$f":"データ貼付!G687","v":707},{"$f":"データ貼付!H687","v":"決"},{"$f":"データ貼付!I687","v":"網走陸上少年団"},{"$f":"データ貼付!J687","v":6},{"$f":"データ貼付!K687","v":0}]
[687,"中学男子砲丸投3",{"$f":"J690&COUNTIF($J$4:J690,J690)","v":"スノーノア1"},{"$f":"データ貼付!D688&データ貼付!E688","v":"中学男子砲丸投"},{"$f":"データ貼付!G688+ROW()/1000000","v":1026.0006900000001},3,{"$f":"データ貼付!A688","v":"通信陸上"},{"$f":"データ貼付!B688","v":"網走"},{"$f":"データ貼付!C688","v":43645},{"$f":"データ貼付!F688","v":"スノーノア"},{"$f":"データ貼付!G688","v":1026},{"$f":"データ貼付!H688","v":"予"},{"$f":"データ貼付!I688","v":"網走第四中"},{"$f":"データ貼付!J688","v":3},{"$f":"データ貼付!K688","v":0}]
[688,"中学男子砲丸投39",{"$f":"J691&COUNTIF($J$4:J691,J691)","v":"安達真優1"},{"$f":"データ貼付!D689&データ貼付!E689","v":"中学男子砲丸投"},{"$f":"データ貼付!G689+ROW()/1000000","v":625.00069099999996},39,{"$f":"データ貼付!A689","v":"中学新人"},{"$f":"データ貼付!B689","v":"網走"},{"$f":"データ貼付!C689","v":43700},{"$f":"データ貼付!F689","v":"安達真優"},{"$f":"データ貼付!G689","v":625},{"$f":"データ貼付!H689","v":"決"},{"$f":"データ貼付!I689","v":"北見東陵中"},{"$f":"データ貼付!J689","v":1},{"$f":"データ貼付!K689","v":0}]
[689,"中学男子砲丸投21",{"$f":"J692&COUNTIF($J$4:J692,J692)","v":"安田遥2"},{"$f":"データ貼付!D690&データ貼付!E690","v":"中学男子砲丸投"},{"$f":"データ貼付!G690+ROW()/1000000","v":755.00069199999996},21,{"$f":"データ貼付!A690","v":"選手権"},{"$f":"データ貼付!B690","v":"北見"},{"$f":"データ貼付!C690","v":43597},{"$f":"データ貼付!F690","v":"安田遥"},{"$f":"データ貼付!G690","v":755},{"$f":"データ貼付!H690","v":"決"},{"$f":"データ貼付!I690","v":"雄武中"},{"$f":"データ貼付!J690","v":2},{"$f":"データ貼付!K690","v":0}]
[690,"中学女子砲丸投20",{"$f":"J693&COUNTIF($J$4:J693,J693)","v":"安部遥香1"},{"$f":"データ貼付!D691&データ貼付!E691","v":"中学女子砲丸投"},{"$f":"データ貼付!G691+ROW()/1000000","v":592.00069299999996},20,{"$f":"データ貼付!A691","v":"秋季陸上"},{"$f":"データ貼付!B691","v":"網走"},{"$f":"データ貼付!C691","v":43716},{"$f":"データ貼付!F691","v":"安部遥香"},{"$f":"データ貼付!G691","v":592},{"$f":"データ貼付!H691","v":"決"},{"$f":"データ貼付!I691","v":"湧別中"},{"$f":"データ貼付!J691","v":1},{"$f":"データ貼付!K691","v":0}]
[691,"中学女子砲丸投29",{"$f":"J694&COUNTIF($J$4:J694,J694)","v":"伊藤椿3"},{"$f":"データ貼付!D692&データ貼付!E692","v":"中学女子砲丸投"},{"$f":"データ貼付!G692+ROW()/1000000","v":535.00069399999995},29,{"$f":"データ貼付!A692","v":"秋季陸上"},{"$f":"データ貼付!B692","v":"網走"},{"$f":"データ貼付!C692","v":43716},{"$f":"データ貼付!F692","v":"伊藤椿"},{"$f":"データ貼付!G692","v":535},{"$f":"データ貼付!H692","v":"決"},{"$f":"データ貼付!I692","v":"湧別中"},{"$f":"データ貼付!J692","v":2},{"$f":"データ貼付!K692","v":0}]
[692,"中学女子砲丸投30",{"$f":"J695&COUNTIF($J$4:J695,J695)","v":"伊藤優果2"},{"$f":"データ貼付!D693&データ貼付!E693","v":"中学女子砲丸投"},{"$f":"データ貼付!G693+ROW()/1000000","v":522.00069499999995},30,{"$f":"データ貼付!A693","v":"通信陸上"},{"$f":"データ貼付!B693","v":"網走"},{"$f":"データ貼付!C693","v":43644},{"$f":"データ貼付!F693","v":"伊藤優果"},{"$f":"データ貼付!G693","v":522},{"$f":"データ貼付!H693","v":"決"},{"$f":"データ貼付!I693","v":"北見北光中"},{"$f":"データ貼付!J693","v":1},{"$f":"データ貼付!K693","v":0}]
[693,"中学女子砲丸投24",{"$f":"J696&COUNTIF($J$4:J696,J696)","v":"伊藤里桜1"},{"$f":"データ貼付!D694&データ貼付!E694","v":"中学女子砲丸投"},{"$f":"データ貼付!G694+ROW()/1000000","v":573.00069599999995},24,{"$f":"データ貼付!A694","v":"秋季陸上"},{"$f":"データ貼付!B694","v":"網走"},{"$f":"データ貼付!C694","v":43716},{"$f":"データ貼付!F694","v":"伊藤里桜"},{"$f":"データ貼付!G694","v":573},{"$f":"データ貼付!H694","v":"決"},{"$f":"データ貼付!I694","v":"大空女満別中"},{"$f":"データ貼付!J694","v":1},{"$f":"データ貼付!K694","v":0}]
[694,"中学男子砲丸投56",{"$f":"J697&COUNTIF($J$4:J697,J697)","v":"稲垣璃久3"},{"$f":"データ貼付!D695&データ貼付!E695","v":"中学男子砲丸投"},{"$f":"データ貼付!G695+ROW()/1000000","v":496.000697},56,{"$f":"データ貼付!A695","v":"記録会第１戦"},{"$f":"データ貼付!B695","v":"北見"},{"$f":"データ貼付!C695","v":43583},{"$f":"データ貼付!F695","v":"稲垣璃久"},{"$f":"データ貼付!G695","v":496},{"$f":"データ貼付!H695","v":"決"},{"$f":"データ貼付!I695","v":"北見北中"},{"$f":"データ貼付!J695","v":2},{"$f":"データ貼付!K695","v":0}]
[695,"高校男子砲丸投7",{"$f":"J698&COUNTIF($J$4:J698,J698)","v":"臼井貴将3"},{"$f":"データ貼付!D696&データ貼付!E696","v":"高校男子砲丸投"},{"$f":"データ貼付!G696+ROW()/1000000","v":1239.0006980000001},7,{"$f":"データ貼付!A696","v":"高体連支部"},{"$f":"データ貼付!B696","v":"北見"},{"$f":"データ貼付!C696","v":43610},{"$f":"データ貼付!F696","v":"臼井貴将"},{"$f":"データ貼付!G696","v":1239},{"$f":"データ貼付!H696","v":"決"},{"$f":"データ貼付!I696","v":"網走南ヶ丘高"},{"$f":"データ貼付!J696","v":2},{"$f":"データ貼付!K696","v":0}]
[696,"中学女子砲丸投9",{"$f":"J699&COUNTIF($J$4:J699,J699)","v":"永本文香1"},{"$f":"データ貼付!D697&データ貼付!E697","v":"中学女子砲丸投"},{"$f":"データ貼付!G697+ROW()/1000000","v":816.00069900000005},9,{"$f":"データ貼付!A697","v":"記録会４戦"},{"$f":"データ貼付!B697","v":"北見"},{"$f":"データ貼付!C697","v":43681},{"$f":"データ貼付!F697","v":"永本文香"},{"$f":"データ貼付!G697","v":816},{"$f":"データ貼付!H697","v":"決"},{"$f":"データ貼付!I697","v":"網走第三中"},{"$f":"データ貼付!J697","v":2},{"$f":"データ貼付!K697","v":0}]
[697,"中学男子砲丸投43",{"$f":"J700&COUNTIF($J$4:J700,J700)","v":"遠藤寿2"},{"$f":"データ貼付!D698&データ貼付!E698","v":"中学男子砲丸投"},{"$f":"データ貼付!G698+ROW()/1000000","v":585.00070000000005},43,{"$f":"データ貼付!A698","v":"中体連地区"},{"$f":"データ貼付!B698","v":"北見"},{"$f":"データ貼付!C698","v":43630},{"$f":"データ貼付!F698","v":"遠藤寿"},{"$f":"データ貼付!G698","v":585},{"$f":"データ貼付!H698","v":"決"},{"$f":"データ貼付!I698","v":"網走第二中"},{"$f":"データ貼付!J698","v":3},{"$f":"データ貼付!K698","v":0}]
[698,"中学女子砲丸投16",{"$f":"J701&COUNTIF($J$4:J701,J701)","v":"横山このか1"},{"$f":"データ貼付!D699&データ貼付!E699","v":"中学女子砲丸投"},{"$f":"データ貼付!G699+ROW()/1000000","v":655.00070100000005},16,{"$f":"データ貼付!A699","v":"通信陸上"},{"$f":"データ貼付!B699","v":"網走"},{"$f":"データ貼付!C699","v":43644},{"$f":"データ貼付!F699","v":"横山このか"},{"$f":"データ貼付!G699","v":655},{"$f":"データ貼付!H699","v":"決"},{"$f":"データ貼付!I699","v":"北見常呂中"},{"$f":"データ貼付!J699","v":1},{"$f":"データ貼付!K699","v":0}]
[699,"中学男子砲丸投52",{"$f":"J702&COUNTIF($J$4:J702,J702)","v":"横松大輝1"},{"$f":"データ貼付!D700&データ貼付!E700","v":"中学男子砲丸投"},{"$f":"データ貼付!G700+ROW()/1000000","v":521.00070200000005},52,{"$f":"データ貼付!A700","v":"中体連地区"},{"$f":"データ貼付!B700","v":"北見"},{"$f":"データ貼付!C700","v":43630},{"$f":"データ貼付!F700","v":"横松大輝"},{"$f":"データ貼付!G700","v":521},{"$f":"データ貼付!H700","v":"決"},{"$f":"データ貼付!I700","v":"美幌中"},{"$f":"データ貼付!J700","v":2},{"$f":"データ貼付!K700","v":0}]
[700,"高校女子砲丸投16",{"$f":"J703&COUNTIF($J$4:J703,J703)","v":"岡沢奈菜2"},{"$f":"データ貼付!D701&データ貼付!E701","v":"高校女子砲丸投"},{"$f":"データ貼付!G701+ROW()/1000000","v":520.00070300000004},16,{"$f":"データ貼付!A701","v":"高校新人"},{"$f":"データ貼付!B701","v":"網走"},{"$f":"データ貼付!C701","v":43700},{"$f":"データ貼付!F701","v":"岡沢奈菜"},{"$f":"データ貼付!G701","v":520},{"$f":"データ貼付!H701","v":"決"},{"$f":"データ貼付!I701","v":"清里高"},{"$f":"データ貼付!J701","v":1},{"$f":"データ貼付!K701","v":0}]
[701,"高校男子砲丸投22",{"$f":"J704&COUNTIF($J$4:J704,J704)","v":"夏野克規3"},{"$f":"データ貼付!D702&データ貼付!E702","v":"高校男子砲丸投"},{"$f":"データ貼付!G702+ROW()/1000000","v":764.00070400000004},22,{"$f":"データ貼付!A702","v":"高体連支部"},{"$f":"データ貼付!B702","v":"北見"},{"$f":"データ貼付!C702","v":43610},{"$f":"データ貼付!F702","v":"夏野克規"},{"$f":"データ貼付!G702","v":764},{"$f":"データ貼付!H702","v":"決"},{"$f":"データ貼付!I702","v":"遠軽高"},{"$f":"データ貼付!J702","v":1},{"$f":"データ貼付!K702","v":0}]
[702,"中学女子砲丸投23",{"$f":"J705&COUNTIF($J$4:J705,J705)","v":"鎌田絢萌2"},{"$f":"データ貼付!D703&データ貼付!E703","v":"中学女子砲丸投"},{"$f":"データ貼付!G703+ROW()/1000000","v":577.00070500000004},23,{"$f":"データ貼付!A703","v":"フィールド記録会"},{"$f":"データ貼付!B703","v":"網走"},{"$f":"データ貼付!C703","v":43624},{"$f":"データ貼付!F703","v":"鎌田絢萌"},{"$f":"データ貼付!G703","v":577},{"$f":"データ貼付!H703","v":"決"},{"$f":"データ貼付!I703","v":"斜里中"},{"$f":"データ貼付!J703","v":1},{"$f":"データ貼付!K703","v":0}]
[703,"小学女子砲丸投3",{"$f":"J706&COUNTIF($J$4:J706,J706)","v":"関谷楓花4"},{"$f":"データ貼付!D704&データ貼付!E704","v":"小学女子砲丸投"},{"$f":"データ貼付!G704+ROW()/1000000","v":673.00070600000004},3,{"$f":"データ貼付!A704","v":"全道小学"},{"$f":"データ貼付!B704","v":"札幌"},{"$f":"データ貼付!C704","v":43661},{"$f":"データ貼付!F704","v":"関谷楓花"},{"$f":"データ貼付!G704","v":673},{"$f":"データ貼付!H704","v":"決"},{"$f":"データ貼付!I704","v":"常呂陸上少年団"},{"$f":"データ貼付!J704","v":6},{"$f":"データ貼付!K704","v":0}]
[704,"高校男子砲丸投24",{"$f":"J707&COUNTIF($J$4:J707,J707)","v":"関野寛大2"},{"$f":"データ貼付!D705&データ貼付!E705","v":"高校男子砲丸投"},{"$f":"データ貼付!G705+ROW()/1000000","v":740.00070700000003},24,{"$f":"データ貼付!A705","v":"高体連支部"},{"$f":"データ貼付!B705","v":"北見"},{"$f":"データ貼付!C705","v":43610},{"$f":"データ貼付!F705","v":"関野寛大"},{"$f":"データ貼付!G705","v":740},{"$f":"データ貼付!H705","v":"決"},{"$f":"データ貼付!I705","v":"北見商業高"},{"$f":"データ貼付!J705","v":1},{"$f":"データ貼付!K705","v":0}]
[705,"中学男子砲丸投25",{"$f":"J708&COUNTIF($J$4:J708,J708)","v":"関澤陸2"},{"$f":"データ貼付!D706&データ貼付!E706","v":"中学男子砲丸投"},{"$f":"データ貼付!G706+ROW()/1000000","v":725.00070800000003},25,{"$f":"データ貼付!A706","v":"記録会第１戦"},{"$f":"データ貼付!B706","v":"北見"},{"$f":"データ貼付!C706","v":43583},{"$f":"データ貼付!F706","v":"関澤陸"},{"$f":"データ貼付!G706","v":725},{"$f":"データ貼付!H706","v":"決"},{"$f":"データ貼付!I706","v":"北見光西中"},{"$f":"データ貼付!J706","v":3},{"$f":"データ貼付!K706","v":0}]
[706,{"$f":"D709&F709","v":"小学男子砲丸投1"},{"$f":"J709&COUNTIF($J$4:J709,J709)","v":"岩崎鼓太郎3"},{"$f":"データ貼付!D707&データ貼付!E707","v":"小学男子砲丸投"},{"$f":"データ貼付!G707+ROW()/1000000","v":876.00070900000003},{"$f":"SUMPRODUCT(($D$4:$D$903=D709)*($E$4:$E$903>E709))+1","v":1},{"$f":"データ貼付!A707","v":"全道小学"},{"$f":"データ貼付!B707","v":"札幌"},{"$f":"データ貼付!C707","v":43661},{"$f":"データ貼付!F707","v":"岩崎鼓太郎"},{"$f":"データ貼付!G707","v":876},{"$f":"データ貼付!H707","v":"決"},{"$f":"データ貼付!I707","v":"ｵﾎｰﾂｸｷｯｽﾞ"},{"$f":"データ貼付!J707","v":6},{"$f":"データ貼付!K707","v":0}]
[707,"中学男子砲丸投18",{"$f":"J710&COUNTIF($J$4:J710,J710)","v":"岩山航生1"},{"$f":"データ貼付!D708&データ貼付!E708","v":"中学男子砲丸投"},{"$f":"データ貼付!G708+ROW()/1000000","v":773.00071000000003},18,{"$f":"データ貼付!A708","v":"秋季陸上"},{"$f":"データ貼付!B708","v":"網走"},{"$f":"データ貼付!C708","v":43715},{"$f":"データ貼付!F708","v":"岩山航生"},{"$f":"データ貼付!G708","v":773},{"$f":"データ貼付!H708","v":"決"},{"$f":"データ貼付!I708","v":"斜里知床ｳﾄﾛ学校"},{"$f":"データ貼付!J708","v":2},{"$f":"データ貼付!K708","v":0}]
[708,"中学男子砲丸投13",{"$f":"J711&COUNTIF($J$4:J711,J711)","v":"岩本楓摩1"},{"$f":"データ貼付!D709&データ貼付!E709","v":"中学男子砲丸投"},{"$f":"データ貼付!G709+ROW()/1000000","v":826.00071100000002},13,{"$f":"データ貼付!A709","v":"通信陸上"},{"$f":"データ貼付!B709","v":"網走"},{"$f":"データ貼付!C709","v":43645},{"$f":"データ貼付!F709","v":"岩本楓摩"},{"$f":"データ貼付!G709","v":826},{"$f":"データ貼付!H709","v":"決"},{"$f":"データ貼付!I709","v":"美幌北中"},{"$f":"データ貼付!J709","v":2},{"$f":"データ貼付!K709","v":0}]
[709,"高校男子砲丸投15",{"$f":"J712&COUNTIF($J$4:J712,J712)","v":"亀谷拓矢2"},{"$f":"データ貼付!D710&データ貼付!E710","v":"高校男子砲丸投"},{"$f":"データ貼付!G710+ROW()/1000000","v":868.00071200000002},15,{"$f":"データ貼付!A710","v":"記録会３戦"},{"$f":"データ貼付!B710","v":"網走"},{"$f":"データ貼付!C710","v":43660},{"$f":"データ貼付!F710","v":"亀谷拓矢"},{"$f":"データ貼付!G710","v":868},{"$f":"データ貼付!H710","v":"決"},{"$f":"データ貼付!I710","v":"日体大附属高"},{"$f":"データ貼付!J710","v":2},{"$f":"データ貼付!K710","v":0}]
[710,"中学男子砲丸投2",{"$f":"J713&COUNTIF($J$4:J713,J713)","v":"菊地琉生1"},{"$f":"データ貼付!D711&データ貼付!E711","v":"中学男子砲丸投"},{"$f":"データ貼付!G711+ROW()/1000000","v":1073.0007129999999},2,{"$f":"データ貼付!A711","v":"中体連地区"},{"$f":"データ貼付!B711","v":"北見"},{"$f":"データ貼付!C711","v":43630},{"$f":"データ貼付!F711","v":"菊地琉生"},{"$f":"データ貼付!G711","v":1073},{"$f":"データ貼付!H711","v":"決"},{"$f":"データ貼付!I711","v":"網走第四中"},{"$f":"データ貼付!J711","v":3},{"$f":"データ貼付!K711","v":0}]
[711,"中学男子砲丸投9",{"$f":"J714&COUNTIF($J$4:J714,J714)","v":"橘悠冬1"},{"$f":"データ貼付!D712&データ貼付!E712","v":"中学男子砲丸投"},{"$f":"データ貼付!G712+ROW()/1000000","v":865.00071400000002},9,{"$f":"データ貼付!A712","v":"中学新人"},{"$f":"データ貼付!B712","v":"網走"},{"$f":"データ貼付!C712","v":43701},{"$f":"データ貼付!F712","v":"橘悠冬"},{"$f":"データ貼付!G712","v":865},{"$f":"データ貼付!H712","v":"決"},{"$f":"データ貼付!I712","v":"清里中"},{"$f":"データ貼付!J712","v":2},{"$f":"データ貼付!K712","v":0}]
[712,"小学女子砲丸投4",{"$f":"J715&COUNTIF($J$4:J715,J715)","v":"久保田颯歩4"},{"$f":"データ貼付!D713&データ貼付!E713","v":"小学女子砲丸投"},{"$f":"データ貼付!G713+ROW()/1000000","v":424.00071500000001},4,{"$f":"データ貼付!A713","v":"フィールド記録会"},{"$f":"データ貼付!B713","v":"網走"},{"$f":"データ貼付!C713","v":43624},{"$f":"データ貼付!F713","v":"久保田颯歩"},{"$f":"データ貼付!G713","v":424},{"$f":"データ貼付!H713","v":"決"},{"$f":"データ貼付!I713","v":"知床斜里RC"},{"$f":"データ貼付!J713","v":5},{"$f":"データ貼付!K713","v":0}]
[713,"高校男子砲丸投23",{"$f":"J716&COUNTIF($J$4:J716,J716)","v":"橋立悠2"},{"$f":"データ貼付!D714&データ貼付!E714","v":"高校男子砲丸投"},{"$f":"データ貼付!G714+ROW()/1000000","v":755.00071600000001},23,{"$f":"データ貼付!A714","v":"記録会３戦"},{"$f":"データ貼付!B714","v":"網走"},{"$f":"データ貼付!C714","v":43660},{"$f":"データ貼付!F714","v":"橋立悠"},{"$f":"データ貼付!G714","v":755},{"$f":"データ貼付!H714","v":"決"},{"$f":"データ貼付!I714","v":"日体大附属高"},{"$f":"データ貼付!J714","v":2},{"$f":"データ貼付!K714","v":0}]
[714,"中学男子砲丸投37",{"$f":"J717&COUNTIF($J$4:J717,J717)","v":"近藤天空1"},{"$f":"データ貼付!D715&データ貼付!E715","v":"中学男子砲丸投"},{"$f":"データ貼付!G715+ROW()/1000000","v":630.00071700000001},37,{"$f":"データ貼付!A715","v":"中学新人"},{"$f":"データ貼付!B715","v":"網走"},{"$f":"データ貼付!C715","v":43700},{"$f":"データ貼付!F715","v":"近藤天空"},{"$f":"データ貼付!G715","v":630},{"$f":"データ貼付!H715","v":"決"},{"$f":"データ貼付!I715","v":"斜里中"},{"$f":"データ貼付!J715","v":1},{"$f":"データ貼付!K715","v":0}]
[715,"中学女子砲丸投17",{"$f":"J718&COUNTIF($J$4:J718,J718)","v":"金子幸恵1"},{"$f":"データ貼付!D716&データ貼付!E716","v":"中学女子砲丸投"},{"$f":"データ貼付!G716+ROW()/1000000","v":622.00071800000001},17,{"$f":"データ貼付!A716","v":"中学新人"},{"$f":"データ貼付!B716","v":"網走"},{"$f":"データ貼付!C716","v":43701},{"$f":"データ貼付!F716","v":"金子幸恵"},{"$f":"データ貼付!G716","v":622},{"$f":"データ貼付!H716","v":"決"},{"$f":"データ貼付!I716","v":"大空東藻琴中"},{"$f":"データ貼付!J716","v":2},{"$f":"データ貼付!K716","v":0}]
[716,"中学男子砲丸投33",{"$f":"J719&COUNTIF($J$4:J719,J719)","v":"栗原明慎3"},{"$f":"データ貼付!D717&データ貼付!E717","v":"中学男子砲丸投"},{"$f":"データ貼付!G717+ROW()/1000000","v":672.000719},33,{"$f":"データ貼付!A717","v":"中体連地区"},{"$f":"データ貼付!B717","v":"北見"},{"$f":"データ貼付!C717","v":43631},{"$f":"データ貼付!F717","v":"栗原明慎"},{"$f":"データ貼付!G717","v":672},{"$f":"データ貼付!H717","v":"決"},{"$f":"データ貼付!I717","v":"北見北光中"},{"$f":"データ貼付!J717","v":1},{"$f":"データ貼付!K717","v":0}]
[717,"中学女子砲丸投31",{"$f":"J720&COUNTIF($J$4:J720,J720)","v":"穴田音花1"},{"$f":"データ貼付!D718&データ貼付!E718","v":"中学女子砲丸投"},{"$f":"データ貼付!G718+ROW()/1000000","v":494.00072},31,{"$f":"データ貼付!A718","v":"通信陸上"},{"$f":"データ貼付!B718","v":"網走"},{"$f":"データ貼付!C718","v":43644},{"$f":"データ貼付!F718","v":"穴田音花"},{"$f":"データ貼付!G718","v":494},{"$f":"データ貼付!H718","v":"決"},{"$f":"データ貼付!I718","v":"北見北光中"},{"$f":"データ貼付!J718","v":1},{"$f":"データ貼付!K718","v":0}]
[718,"中学女子砲丸投2",{"$f":"J721&COUNTIF($J$4:J721,J721)","v":"兼田桃香2"},{"$f":"データ貼付!D719&データ貼付!E719","v":"中学女子砲丸投"},{"$f":"データ貼付!G719+ROW()/1000000","v":1005.000721},2,{"$f":"データ貼付!A719","v":"選手権"},{"$f":"データ貼付!B719","v":"北見"},{"$f":"データ貼付!C719","v":43597},{"$f":"データ貼付!F719","v":"兼田桃香"},{"$f":"データ貼付!G719","v":1005},{"$f":"データ貼付!H719","v":"決"},{"$f":"データ貼付!I719","v":"北見常呂中"},{"$f":"データ貼付!J719","v":3},{"$f":"データ貼付!K719","v":0}]
[719,"小学女子砲丸投2",{"$f":"J722&COUNTIF($J$4:J722,J722)","v":"原田莉子2"},{"$f":"データ貼付!D720&データ貼付!E720","v":"小学女子砲丸投"},{"$f":"データ貼付!G720+ROW()/1000000","v":701.000722},2,{"$f":"データ貼付!A720","v":"全道小学"},{"$f":"データ貼付!B720","v":"札幌"},{"$f":"データ貼付!C720","v":43661},{"$f":"データ貼付!F720","v":"原田莉子"},{"$f":"データ貼付!G720","v":701},{"$f":"データ貼付!H720","v":"決"},{"$f":"データ貼付!I720","v":"ｵﾎｰﾂｸｷｯｽﾞ"},{"$f":"データ貼付!J720","v":6},{"$f":"データ貼付!K720","v":0}]
[720,"高校女子砲丸投17",{"$f":"J723&COUNTIF($J$4:J723,J723)","v":"後藤花夏1"},{"$f":"データ貼付!D721&データ貼付!E721","v":"高校女子砲丸投"},{"$f":"データ貼付!G721+ROW()/1000000","v":481.00072299999999},17,{"$f":"データ貼付!A721","v":"高校新人"},{"$f":"データ貼付!B721","v":"網走"},{"$f":"データ貼付!C721","v":43700},{"$f":"データ貼付!F721","v":"後藤花夏"},{"$f":"データ貼付!G721","v":481},{"$f":"データ貼付!H721","v":"決"},{"$f":"データ貼付!I721","v":"遠軽高"},{"$f":"データ貼付!J721","v":1},{"$f":"データ貼付!K721","v":0}]
[721,"中学男子砲丸投40",{"$f":"J724&COUNTIF($J$4:J724,J724)","v":"工藤蒼己1"},{"$f":"データ貼付!D722&データ貼付!E722","v":"中学男子砲丸投"},{"$f":"データ貼付!G722+ROW()/1000000","v":608.00072399999999},40,{"$f":"データ貼付!A722","v":"選手権"},{"$f":"データ貼付!B722","v":"北見"},{"$f":"データ貼付!C722","v":43597},{"$f":"データ貼付!F722","v":"工藤蒼己"},{"$f":"データ貼付!G722","v":608},{"$f":"データ貼付!H722","v":"決"},{"$f":"データ貼付!I722","v":"湧別中"},{"$f":"データ貼付!J722","v":2},{"$f":"データ貼付!K722","v":0}]
[722,"高校男子砲丸投1",{"$f":"J725&COUNTIF($J$4:J725,J725)","v":"工藤颯斗3"},{"$f":"データ貼付!D723&データ貼付!E723","v":"高校男子砲丸投"},{"$f":"データ貼付!G723+ROW()/1000000","v":1493.0007250000001},1,{"$f":"データ貼付!A723","v":"記録会第２戦"},{"$f":"データ貼付!B723","v":"網走"},{"$f":"データ貼付!C723","v":43590},{"$f":"データ貼付!F723","v":"工藤颯斗"},{"$f":"データ貼付!G723","v":1493},{"$f":"データ貼付!H723","v":"決"},{"$f":"データ貼付!I723","v":"網走南ヶ丘高"},{"$f":"データ貼付!J723","v":3},{"$f":"データ貼付!K723","v":0}]
[723,"高校男子砲丸投5",{"$f":"J726&COUNTIF($J$4:J726,J726)","v":"高宮魁3"},{"$f":"データ貼付!D724&データ貼付!E724","v":"高校男子砲丸投"},{"$f":"データ貼付!G724+ROW()/1000000","v":1254.000726},5,{"$f":"データ貼付!A724","v":"国体予選"},{"$f":"データ貼付!B724","v":"室蘭"},{"$f":"データ貼付!C724","v":43666},{"$f":"データ貼付!F724","v":"高宮魁"},{"$f":"データ貼付!G724","v":1254},{"$f":"データ貼付!H724","v":"決"},{"$f":"データ貼付!I724","v":"雄武高"},{"$f":"データ貼付!J724","v":1},{"$f":"データ貼付!K724","v":0}]
[724,"高校男子砲丸投2",{"$f":"J727&COUNTIF($J$4:J727,J727)","v":"高宮成生2"},{"$f":"データ貼付!D725&データ貼付!E725","v":"高校男子砲丸投"},{"$f":"データ貼付!G725+ROW()/1000000","v":1429.0007270000001},2,{"$f":"データ貼付!A725","v":"国体予選"},{"$f":"データ貼付!B725","v":"室蘭"},{"$f":"データ貼付!C725","v":43666},{"$f":"データ貼付!F725","v":"高宮成生"},{"$f":"データ貼付!G725","v":1429},{"$f":"データ貼付!H725","v":"決"},{"$f":"データ貼付!I725","v":"雄武高"},{"$f":"データ貼付!J725","v":1},{"$f":"データ貼付!K725","v":0}]
[725,"高校男子砲丸投11",{"$f":"J728&COUNTIF($J$4:J728,J728)","v":"鴻巣勇人2"},{"$f":"データ貼付!D726&データ貼付!E726","v":"高校男子砲丸投"},{"$f":"データ貼付!G726+ROW()/1000000","v":980.00072799999998},11,{"$f":"データ貼付!A726","v":"高体連支部"},{"$f":"データ貼付!B726","v":"北見"},{"$f":"データ貼付!C726","v":43610},{"$f":"データ貼付!F726","v":"鴻巣勇人"},{"$f":"データ貼付!G726","v":980},{"$f":"データ貼付!H726","v":"決"},{"$f":"データ貼付!I726","v":"日体大附属高"},{"$f":"データ貼付!J726","v":1},{"$f":"データ貼付!K726","v":0}]
[726,"高校男子砲丸投26",{"$f":"J729&COUNTIF($J$4:J729,J729)","v":"佐川翔流3"},{"$f":"データ貼付!D727&データ貼付!E727","v":"高校男子砲丸投"},{"$f":"データ貼付!G727+ROW()/1000000","v":731.00072899999998},26,{"$f":"データ貼付!A727","v":"記録会第１戦"},{"$f":"データ貼付!B727","v":"北見"},{"$f":"データ貼付!C727","v":43583},{"$f":"データ貼付!F727","v":"佐川翔流"},{"$f":"データ貼付!G727","v":731},{"$f":"データ貼付!H727","v":"決"},{"$f":"データ貼付!I727","v":"遠軽高"},{"$f":"データ貼付!J727","v":1},{"$f":"データ貼付!K727","v":0}]
[727,"高校男子砲丸投27",{"$f":"J730&COUNTIF($J$4:J730,J730)","v":"佐川翔琉3"},{"$f":"データ貼付!D728&データ貼付!E728","v":"高校男子砲丸投"},{"$f":"データ貼付!G728+ROW()/1000000","v":709.00072999999998},27,{"$f":"データ貼付!A728","v":"高体連支部"},{"$f":"データ貼付!B728","v":"北見"},{"$f":"データ貼付!C728","v":43610},{"$f":"データ貼付!F728","v":"佐川翔琉"},{"$f":"データ貼付!G728","v":709},{"$f":"データ貼付!H728","v":"決"},{"$f":"データ貼付!I728","v":"遠軽高"},{"$f":"データ貼付!J728","v":2},{"$f":"データ貼付!K728","v":0}]
[728,"中学女子砲丸投32",{"$f":"J731&COUNTIF($J$4:J731,J731)","v":"佐藤愛心1"},{"$f":"データ貼付!D729&データ貼付!E729","v":"中学女子砲丸投"},{"$f":"データ貼付!G729+ROW()/1000000","v":489.00073099999997},32,{"$f":"データ貼付!A729","v":"中学新人"},{"$f":"データ貼付!B729","v":"網走"},{"$f":"データ貼付!C729","v":43701},{"$f":"データ貼付!F729","v":"佐藤愛心"},{"$f":"データ貼付!G729","v":489},{"$f":"データ貼付!H729","v":"決"},{"$f":"データ貼付!I729","v":"雄武中"},{"$f":"データ貼付!J729","v":1},{"$f":"データ貼付!K729","v":0}]
[729,"高校男子砲丸投8",{"$f":"J732&COUNTIF($J$4:J732,J732)","v":"佐藤一希2"},{"$f":"データ貼付!D730&データ貼付!E730","v":"高校男子砲丸投"},{"$f":"データ貼付!G730+ROW()/1000000","v":1087.000732},8,{"$f":"データ貼付!A730","v":"記録会第１戦"},{"$f":"データ貼付!B730","v":"北見"},{"$f":"データ貼付!C730","v":43583},{"$f":"データ貼付!F730","v":"佐藤一希"},{"$f":"データ貼付!G730","v":1087},{"$f":"データ貼付!H730","v":"決"},{"$f":"データ貼付!I730","v":"清里高"},{"$f":"データ貼付!J730","v":2},{"$f":"データ貼付!K730","v":0}]
[730,"中学男子砲丸投53",{"$f":"J733&COUNTIF($J$4:J733,J733)","v":"佐藤広大3"},{"$f":"データ貼付!D731&データ貼付!E731","v":"中学男子砲丸投"},{"$f":"データ貼付!G731+ROW()/1000000","v":506.00073300000003},53,{"$f":"データ貼付!A731","v":"中体連地区"},{"$f":"データ貼付!B731","v":"北見"},{"$f":"データ貼付!C731","v":43630},{"$f":"データ貼付!F731","v":"佐藤広大"},{"$f":"データ貼付!G731","v":506},{"$f":"データ貼付!H731","v":"決"},{"$f":"データ貼付!I731","v":"遠軽中"},{"$f":"データ貼付!J731","v":2},{"$f":"データ貼付!K731","v":0}]
[731,"中学男子砲丸投8",{"$f":"J734&COUNTIF($J$4:J734,J734)","v":"佐藤太一1"},{"$f":"データ貼付!D732&データ貼付!E732","v":"中学男子砲丸投"},{"$f":"データ貼付!G732+ROW()/1000000","v":878.00073399999997},8,{"$f":"データ貼付!A732","v":"秋季陸上"},{"$f":"データ貼付!B732","v":"網走"},{"$f":"データ貼付!C732","v":43715},{"$f":"データ貼付!F732","v":"佐藤太一"},{"$f":"データ貼付!G732","v":878},{"$f":"データ貼付!H732","v":"決"},{"$f":"データ貼付!I732","v":"紋別中"},{"$f":"データ貼付!J732","v":2},{"$f":"データ貼付!K732","v":0}]
[732,"高校男子砲丸投29",{"$f":"J735&COUNTIF($J$4:J735,J735)","v":"佐藤汰希3"},{"$f":"データ貼付!D733&データ貼付!E733","v":"高校男子砲丸投"},{"$f":"データ貼付!G733+ROW()/1000000","v":690.00073499999996},29,{"$f":"データ貼付!A733","v":"高体連支部"},{"$f":"データ貼付!B733","v":"北見"},{"$f":"データ貼付!C733","v":43610},{"$f":"データ貼付!F733","v":"佐藤汰希"},{"$f":"データ貼付!G733","v":690},{"$f":"データ貼付!H733","v":"決"},{"$f":"データ貼付!I733","v":"興部高"},{"$f":"データ貼付!J733","v":2},{"$f":"データ貼付!K733","v":0}]
[733,"中学男子砲丸投35",{"$f":"J736&COUNTIF($J$4:J736,J736)","v":"佐藤大斗1"},{"$f":"データ貼付!D734&データ貼付!E734","v":"中学男子砲丸投"},{"$f":"データ貼付!G734+ROW()/1000000","v":642.00073599999996},35,{"$f":"データ貼付!A734","v":"中体連地区"},{"$f":"データ貼付!B734","v":"北見"},{"$f":"データ貼付!C734","v":43631},{"$f":"データ貼付!F734","v":"佐藤大斗"},{"$f":"データ貼付!G734","v":642},{"$f":"データ貼付!H734","v":"決"},{"$f":"データ貼付!I734","v":"斜里中"},{"$f":"データ貼付!J734","v":1},{"$f":"データ貼付!K734","v":0}]
[734,"中学男子砲丸投23",{"$f":"J737&COUNTIF($J$4:J737,J737)","v":"佐藤瑠唯1"},{"$f":"データ貼付!D735&データ貼付!E735","v":"中学男子砲丸投"},{"$f":"データ貼付!G735+ROW()/1000000","v":749.00073699999996},23,{"$f":"データ貼付!A735","v":"記録会第１戦"},{"$f":"データ貼付!B735","v":"北見"},{"$f":"データ貼付!C735","v":43583},{"$f":"データ貼付!F735","v":"佐藤瑠唯"},{"$f":"データ貼付!G735","v":749},{"$f":"データ貼付!H735","v":"決"},{"$f":"データ貼付!I735","v":"北見光西中"},{"$f":"データ貼付!J735","v":2},{"$f":"データ貼付!K735","v":0}]
[735,"中学男子砲丸投24",{"$f":"J738&COUNTIF($J$4:J738,J738)","v":"三条憲彦1"},{"$f":"データ貼付!D736&データ貼付!E736","v":"中学男子砲丸投"},{"$f":"データ貼付!G736+ROW()/1000000","v":731.00073799999996},24,{"$f":"データ貼付!A736","v":"通信陸上"},{"$f":"データ貼付!B736","v":"網走"},{"$f":"データ貼付!C736","v":43645},{"$f":"データ貼付!F736","v":"三条憲彦"},{"$f":"データ貼付!G736","v":731},{"$f":"データ貼付!H736","v":"予"},{"$f":"データ貼付!I736","v":"網走第四中"},{"$f":"データ貼付!J736","v":3},{"$f":"データ貼付!K736","v":0}]
[736,"中学男子砲丸投6",{"$f":"J739&COUNTIF($J$4:J739,J739)","v":"三塚知輝2"},{"$f":"データ貼付!D737&データ貼付!E737","v":"中学男子砲丸投"},{"$f":"データ貼付!G737+ROW()/1000000","v":984.00073899999995},6,{"$f":"データ貼付!A737","v":"通信陸上"},{"$f":"データ貼付!B737","v":"網走"},{"$f":"データ貼付!C737","v":43645},{"$f":"データ貼付!F737","v":"三塚知輝"},{"$f":"データ貼付!G737","v":984},{"$f":"データ貼付!H737","v":"決"},{"$f":"データ貼付!I737","v":"網走第四中"},{"$f":"データ貼付!J737","v":3},{"$f":"データ貼付!K737","v":0}]
[737,"中学男子砲丸投26",{"$f":"J740&COUNTIF($J$4:J740,J740)","v":"山下渓斗2"},{"$f":"データ貼付!D738&データ貼付!E738","v":"中学男子砲丸投"},{"$f":"データ貼付!G738+ROW()/1000000","v":724.00073999999995},26,{"$f":"データ貼付!A738","v":"中学新人"},{"$f":"データ貼付!B738","v":"網走"},{"$f":"データ貼付!C738","v":43700},{"$f":"データ貼付!F738","v":"山下渓斗"},{"$f":"データ貼付!G738","v":724},{"$f":"データ貼付!H738","v":"決"},{"$f":"データ貼付!I738","v":"湧別中"},{"$f":"データ貼付!J738","v":1},{"$f":"データ貼付!K738","v":0}]
[738,"高校男子砲丸投6",{"$f":"J741&COUNTIF($J$4:J741,J741)","v":"山谷黄太洋2"},{"$f":"データ貼付!D739&データ貼付!E739","v":"高校男子砲丸投"},{"$f":"データ貼付!G739+ROW()/1000000","v":1246.0007410000001},6,{"$f":"データ貼付!A739","v":"選手権"},{"$f":"データ貼付!B739","v":"北見"},{"$f":"データ貼付!C739","v":43596},{"$f":"データ貼付!F739","v":"山谷黄太洋"},{"$f":"データ貼付!G739","v":1246},{"$f":"データ貼付!H739","v":"決"},{"$f":"データ貼付!I739","v":"日体大附属高"},{"$f":"データ貼付!J739","v":3},{"$f":"データ貼付!K739","v":0}]
[739,"高校女子砲丸投2",{"$f":"J742&COUNTIF($J$4:J742,J742)","v":"山田幸奈2"},{"$f":"データ貼付!D740&データ貼付!E740","v":"高校女子砲丸投"},{"$f":"データ貼付!G740+ROW()/1000000","v":1060.0007419999999},2,{"$f":"データ貼付!A740","v":"選手権"},{"$f":"データ貼付!B740","v":"北見"},{"$f":"データ貼付!C740","v":43596},{"$f":"データ貼付!F740","v":"山田幸奈"},{"$f":"データ貼付!G740","v":1060},{"$f":"データ貼付!H740","v":"決"},{"$f":"データ貼付!I740","v":"網走桂陽高"},{"$f":"データ貼付!J740","v":3},{"$f":"データ貼付!K740","v":0}]
[740,"中学男子砲丸投12",{"$f":"J743&COUNTIF($J$4:J743,J743)","v":"山田真生1"},{"$f":"データ貼付!D741&データ貼付!E741","v":"中学男子砲丸投"},{"$f":"データ貼付!G741+ROW()/1000000","v":827.00074300000006},12,{"$f":"データ貼付!A741","v":"中学新人"},{"$f":"データ貼付!B741","v":"網走"},{"$f":"データ貼付!C741","v":43701},{"$f":"データ貼付!F741","v":"山田真生"},{"$f":"データ貼付!G741","v":827},{"$f":"データ貼付!H741","v":"決"},{"$f":"データ貼付!I741","v":"美幌中"},{"$f":"データ貼付!J741","v":2},{"$f":"データ貼付!K741","v":0}]
[741,"中学男子砲丸投32",{"$f":"J744&COUNTIF($J$4:J744,J744)","v":"山田大成1"},{"$f":"データ貼付!D742&データ貼付!E742","v":"中学男子砲丸投"},{"$f":"データ貼付!G742+ROW()/1000000","v":679.00074400000005},32,{"$f":"データ貼付!A742","v":"中学新人"},{"$f":"データ貼付!B742","v":"網走"},{"$f":"データ貼付!C742","v":43700},{"$f":"データ貼付!F742","v":"山田大成"},{"$f":"データ貼付!G742","v":679},{"$f":"データ貼付!H742","v":"決"},{"$f":"データ貼付!I742","v":"北見北中"},{"$f":"データ貼付!J742","v":1},{"$f":"データ貼付!K742","v":0}]
[742,"一般女子砲丸投1",{"$f":"J745&COUNTIF($J$4:J745,J745)","v":"山内沙邪佳1"},{"$f":"データ貼付!D743&データ貼付!E743","v":"一般女子砲丸投"},{"$f":"データ貼付!G743+ROW()/1000000","v":1075.0007450000001},1,{"$f":"データ貼付!A743","v":"道選手権"},{"$f":"データ貼付!B743","v":"網走"},{"$f":"データ貼付!C743","v":43687},{"$f":"データ貼付!F743","v":"山内沙邪佳"},{"$f":"データ貼付!G743","v":1075},{"$f":"データ貼付!H743","v":"決"},{"$f":"データ貼付!I743","v":"札幌大"},{"$f":"データ貼付!J743","v":1},{"$f":"データ貼付!K743","v":0}]
[743,"中学男子砲丸投49",{"$f":"J746&COUNTIF($J$4:J746,J746)","v":"志賀一斗1"},{"$f":"データ貼付!D744&データ貼付!E744","v":"中学男子砲丸投"},{"$f":"データ貼付!G744+ROW()/1000000","v":545.00074600000005},49,{"$f":"データ貼付!A744","v":"記録会３戦"},{"$f":"データ貼付!B744","v":"網走"},{"$f":"データ貼付!C744","v":43660},{"$f":"データ貼付!F744","v":"志賀一斗"},{"$f":"データ貼付!G744","v":545},{"$f":"データ貼付!H744","v":"決"},{"$f":"データ貼付!I744","v":"北見東陵中"},{"$f":"データ貼付!J744","v":2},{"$f":"データ貼付!K744","v":0}]
[744,"高校男子砲丸投31",{"$f":"J747&COUNTIF($J$4:J747,J747)","v":"似鳥斗也2"},{"$f":"データ貼付!D745&データ貼付!E745","v":"高校男子砲丸投"},{"$f":"データ貼付!G745+ROW()/1000000","v":650.00074700000005},31,{"$f":"データ貼付!A745","v":"記録会４戦"},{"$f":"データ貼付!B745","v":"北見"},{"$f":"データ貼付!C745","v":43681},{"$f":"データ貼付!F745","v":"似鳥斗也"},{"$f":"データ貼付!G745","v":650},{"$f":"データ貼付!H745","v":"決"},{"$f":"データ貼付!I745","v":"興部高"},{"$f":"データ貼付!J745","v":1},{"$f":"データ貼付!K745","v":0}]
[745,"中学女子砲丸投6",{"$f":"J748&COUNTIF($J$4:J748,J748)","v":"児玉夢月1"},{"$f":"データ貼付!D746&データ貼付!E746","v":"中学女子砲丸投"},{"$f":"データ貼付!G746+ROW()/1000000","v":863.00074800000004},6,{"$f":"データ貼付!A746","v":"秋季陸上"},{"$f":"データ貼付!B746","v":"網走"},{"$f":"データ貼付!C746","v":43716},{"$f":"データ貼付!F746","v":"児玉夢月"},{"$f":"データ貼付!G746","v":863},{"$f":"データ貼付!H746","v":"決"},{"$f":"データ貼付!I746","v":"大空東藻琴中"},{"$f":"データ貼付!J746","v":2},{"$f":"データ貼付!K746","v":0}]
[746,"中学男子砲丸投60",{"$f":"J749&COUNTIF($J$4:J749,J749)","v":"児玉陽春1"},{"$f":"データ貼付!D747&データ貼付!E747","v":"中学男子砲丸投"},{"$f":"データ貼付!G747+ROW()/1000000","v":479.00074899999998},60,{"$f":"データ貼付!A747","v":"中体連地区"},{"$f":"データ貼付!B747","v":"北見"},{"$f":"データ貼付!C747","v":43631},{"$f":"データ貼付!F747","v":"児玉陽春"},{"$f":"データ貼付!G747","v":479},{"$f":"データ貼付!H747","v":"決"},{"$f":"データ貼付!I747","v":"北見高栄中"},{"$f":"データ貼付!J747","v":1},{"$f":"データ貼付!K747","v":0}]
[747,"中学男子砲丸投15",{"$f":"J750&COUNTIF($J$4:J750,J750)","v":"柴田賢2"},{"$f":"データ貼付!D748&データ貼付!E748","v":"中学男子砲丸投"},{"$f":"データ貼付!G748+ROW()/1000000","v":820.00075000000004},15,{"$f":"データ貼付!A748","v":"中学新人"},{"$f":"データ貼付!B748","v":"網走"},{"$f":"データ貼付!C748","v":43700},{"$f":"データ貼付!F748","v":"柴田賢"},{"$f":"データ貼付!G748","v":820},{"$f":"データ貼付!H748","v":"決"},{"$f":"データ貼付!I748","v":"湧別中"},{"$f":"データ貼付!J748","v":1},{"$f":"データ貼付!K748","v":0}]
[748,"中学男子砲丸投45",{"$f":"J751&COUNTIF($J$4:J751,J751)","v":"酒井柊優3"},{"$f":"データ貼付!D749&データ貼付!E749","v":"中学男子砲丸投"},{"$f":"データ貼付!G749+ROW()/1000000","v":571.00075100000004},45,{"$f":"データ貼付!A749","v":"通信陸上"},{"$f":"データ貼付!B749","v":"網走"},{"$f":"データ貼付!C749","v":43645},{"$f":"データ貼付!F749","v":"酒井柊優"},{"$f":"データ貼付!G749","v":571},{"$f":"データ貼付!H749","v":"予"},{"$f":"データ貼付!I749","v":"北見東陵中"},{"$f":"データ貼付!J749","v":1},{"$f":"データ貼付!K749","v":0}]
[749,"高校女子砲丸投12",{"$f":"J752&COUNTIF($J$4:J752,J752)","v":"舟木愛公3"},{"$f":"データ貼付!D750&データ貼付!E750","v":"高校女子砲丸投"},{"$f":"データ貼付!G750+ROW()/1000000","v":639.00075200000003},12,{"$f":"データ貼付!A750","v":"高体連支部"},{"$f":"データ貼付!B750","v":"北見"},{"$f":"データ貼付!C750","v":43610},{"$f":"データ貼付!F750","v":"舟木愛公"},{"$f":"データ貼付!G750","v":639},{"$f":"データ貼付!H750","v":"決"},{"$f":"データ貼付!I750","v":"遠軽高"},{"$f":"データ貼付!J750","v":1},{"$f":"データ貼付!K750","v":0}]
[750,"一般男子砲丸投2",{"$f":"J753&COUNTIF($J$4:J753,J753)","v":"春名将志1"},{"$f":"データ貼付!D751&データ貼付!E751","v":"一般男子砲丸投"},{"$f":"データ貼付!G751+ROW()/1000000","v":1101.000753},2,{"$f":"データ貼付!A751","v":"秋季陸上"},{"$f":"データ貼付!B751","v":"網走"},{"$f":"データ貼付!C751","v":43715},{"$f":"データ貼付!F751","v":"春名将志"},{"$f":"データ貼付!G751","v":1101},{"$f":"データ貼付!H751","v":"決"},{"$f":"データ貼付!I751","v":"ｵﾎｰﾂｸ陸協(春名)"},{"$f":"データ貼付!J751","v":"般"},{"$f":"データ貼付!K751","v":0}]
[751,"中学男子砲丸投31",{"$f":"J754&COUNTIF($J$4:J754,J754)","v":"楯身優2"},{"$f":"データ貼付!D752&データ貼付!E752","v":"中学男子砲丸投"},{"$f":"データ貼付!G752+ROW()/1000000","v":681.00075400000003},31,{"$f":"データ貼付!A752","v":"秋季陸上"},{"$f":"データ貼付!B752","v":"網走"},{"$f":"データ貼付!C752","v":43715},{"$f":"データ貼付!F752","v":"楯身優"},{"$f":"データ貼付!G752","v":681},{"$f":"データ貼付!H752","v":"決"},{"$f":"データ貼付!I752","v":"北見北中"},{"$f":"データ貼付!J752","v":2},{"$f":"データ貼付!K752","v":0}]
[752,"中学男子砲丸投48",{"$f":"J755&COUNTIF($J$4:J755,J755)","v":"所琉世1"},{"$f":"データ貼付!D753&データ貼付!E753","v":"中学男子砲丸投"},{"$f":"データ貼付!G753+ROW()/1000000","v":546.00075500000003},48,{"$f":"データ貼付!A753","v":"記録会第２戦"},{"$f":"データ貼付!B753","v":"網走"},{"$f":"データ貼付!C753","v":43590},{"$f":"データ貼付!F753","v":"所琉世"},{"$f":"データ貼付!G753","v":546},{"$f":"データ貼付!H753","v":"決"},{"$f":"データ貼付!I753","v":"北見光西中"},{"$f":"データ貼付!J753","v":2},{"$f":"データ貼付!K753","v":0}]
[753,"中学女子砲丸投10",{"$f":"J756&COUNTIF($J$4:J756,J756)","v":"小河美月1"},{"$f":"データ貼付!D754&データ貼付!E754","v":"中学女子砲丸投"},{"$f":"データ貼付!G754+ROW()/1000000","v":810.00075600000002},10,{"$f":"データ貼付!A754","v":"中学新人"},{"$f":"データ貼付!B754","v":"網走"},{"$f":"データ貼付!C754","v":43701},{"$f":"データ貼付!F754","v":"小河美月"},{"$f":"データ貼付!G754","v":810},{"$f":"データ貼付!H754","v":"決"},{"$f":"データ貼付!I754","v":"大空東藻琴中"},{"$f":"データ貼付!J754","v":1},{"$f":"データ貼付!K754","v":0}]
[754,"中学男子砲丸投51",{"$f":"J757&COUNTIF($J$4:J757,J757)","v":"小舘櫂飛2"},{"$f":"データ貼付!D755&データ貼付!E755","v":"中学男子砲丸投"},{"$f":"データ貼付!G755+ROW()/1000000","v":531.00075700000002},51,{"$f":"データ貼付!A755","v":"通信陸上"},{"$f":"データ貼付!B755","v":"網走"},{"$f":"データ貼付!C755","v":43645},{"$f":"データ貼付!F755","v":"小舘櫂飛"},{"$f":"データ貼付!G755","v":531},{"$f":"データ貼付!H755","v":"予"},{"$f":"データ貼付!I755","v":"北見北光中"},{"$f":"データ貼付!J755","v":2},{"$f":"データ貼付!K755","v":0}]
[755,"中学女子砲丸投22",{"$f":"J758&COUNTIF($J$4:J758,J758)","v":"小沼奈月1"},{"$f":"データ貼付!D756&データ貼付!E756","v":"中学女子砲丸投"},{"$f":"データ貼付!G756+ROW()/1000000","v":583.00075800000002},22,{"$f":"データ貼付!A756","v":"秋季陸上"},{"$f":"データ貼付!B756","v":"網走"},{"$f":"データ貼付!C756","v":43716},{"$f":"データ貼付!F756","v":"小沼奈月"},{"$f":"データ貼付!G756","v":583},{"$f":"データ貼付!H756","v":"決"},{"$f":"データ貼付!I756","v":"網走第二中"},{"$f":"データ貼付!J756","v":1},{"$f":"データ貼付!K756","v":0}]
[756,"中学女子砲丸投8",{"$f":"J759&COUNTIF($J$4:J759,J759)","v":"小川璃子2"},{"$f":"データ貼付!D757&データ貼付!E757","v":"中学女子砲丸投"},{"$f":"データ貼付!G757+ROW()/1000000","v":822.00075900000002},8,{"$f":"データ貼付!A757","v":"通信陸上"},{"$f":"データ貼付!B757","v":"網走"},{"$f":"データ貼付!C757","v":43644},{"$f":"データ貼付!F757","v":"小川璃子"},{"$f":"データ貼付!G757","v":822},{"$f":"データ貼付!H757","v":"決"},{"$f":"データ貼付!I757","v":"網走第三中"},{"$f":"データ貼付!J757","v":3},{"$f":"データ貼付!K757","v":0}]
[757,"中学女子砲丸投13",{"$f":"J760&COUNTIF($J$4:J760,J760)","v":"小川遼佳1"},{"$f":"データ貼付!D758&データ貼付!E758","v":"中学女子砲丸投"},{"$f":"データ貼付!G758+ROW()/1000000","v":742.00076000000001},13,{"$f":"データ貼付!A758","v":"記録会第１戦"},{"$f":"データ貼付!B758","v":"北見"},{"$f":"データ貼付!C758","v":43583},{"$f":"データ貼付!F758","v":"小川遼佳"},{"$f":"データ貼付!G758","v":742},{"$f":"データ貼付!H758","v":"決"},{"$f":"データ貼付!I758","v":"大空東藻琴中"},{"$f":"データ貼付!J758","v":3},{"$f":"データ貼付!K758","v":0}]
[758,"中学男子砲丸投16",{"$f":"J761&COUNTIF($J$4:J761,J761)","v":"小林樹生2"},{"$f":"データ貼付!D759&データ貼付!E759","v":"中学男子砲丸投"},{"$f":"データ貼付!G759+ROW()/1000000","v":819.00076100000001},16,{"$f":"データ貼付!A759","v":"中体連地区"},{"$f":"データ貼付!B759","v":"北見"},{"$f":"データ貼付!C759","v":43631},{"$f":"データ貼付!F759","v":"小林樹生"},{"$f":"データ貼付!G759","v":819},{"$f":"データ貼付!H759","v":"決"},{"$f":"データ貼付!I759","v":"雄武中"},{"$f":"データ貼付!J759","v":1},{"$f":"データ貼付!K759","v":0}]
[759,"中学男子砲丸投58",{"$f":"J762&COUNTIF($J$4:J762,J762)","v":"松井凌雅1"},{"$f":"データ貼付!D760&データ貼付!E760","v":"中学男子砲丸投"},{"$f":"データ貼付!G760+ROW()/1000000","v":485.00076200000001},58,{"$f":"データ貼付!A760","v":"中学新人"},{"$f":"データ貼付!B760","v":"網走"},{"$f":"データ貼付!C760","v":43700},{"$f":"データ貼付!F760","v":"松井凌雅"},{"$f":"データ貼付!G760","v":485},{"$f":"データ貼付!H760","v":"決"},{"$f":"データ貼付!I760","v":"北見東陵中"},{"$f":"データ貼付!J760","v":1},{"$f":"データ貼付!K760","v":0}]
[760,"中学男子砲丸投44",{"$f":"J763&COUNTIF($J$4:J763,J763)","v":"松田陽向太2"},{"$f":"データ貼付!D761&データ貼付!E761","v":"中学男子砲丸投"},{"$f":"データ貼付!G761+ROW()/1000000","v":571.00076300000001},44,{"$f":"データ貼付!A761","v":"中学新人"},{"$f":"データ貼付!B761","v":"網走"},{"$f":"データ貼付!C761","v":43700},{"$f":"データ貼付!F761","v":"松田陽向太"},{"$f":"データ貼付!G761","v":571},{"$f":"データ貼付!H761","v":"決"},{"$f":"データ貼付!I761","v":"北見東陵中"},{"$f":"データ貼付!J761","v":1},{"$f":"データ貼付!K761","v":0}]
[761,"高校女子砲丸投15",{"$f":"J764&COUNTIF($J$4:J764,J764)","v":"松田瑠乃1"},{"$f":"データ貼付!D762&データ貼付!E762","v":"高校女子砲丸投"},{"$f":"データ貼付!G762+ROW()/1000000","v":541.000764},15,{"$f":"データ貼付!A762","v":"高校新人"},{"$f":"データ貼付!B762","v":"網走"},{"$f":"データ貼付!C762","v":43700},{"$f":"データ貼付!F762","v":"松田瑠乃"},{"$f":"データ貼付!G762","v":541},{"$f":"データ貼付!H762","v":"決"},{"$f":"データ貼付!I762","v":"遠軽高"},{"$f":"データ貼付!J762","v":1},{"$f":"データ貼付!K762","v":0}]
[762,"中学男子砲丸投61",{"$f":"J765&COUNTIF($J$4:J765,J765)","v":"上西翔2"},{"$f":"データ貼付!D763&データ貼付!E763","v":"中学男子砲丸投"},{"$f":"データ貼付!G763+ROW()/1000000","v":327.000765},61,{"$f":"データ貼付!A763","v":"中体連地区"},{"$f":"データ貼付!B763","v":"北見"},{"$f":"データ貼付!C763","v":43631},{"$f":"データ貼付!F763","v":"上西翔"},{"$f":"データ貼付!G763","v":327},{"$f":"データ貼付!H763","v":"決"},{"$f":"データ貼付!I763","v":"美幌中"},{"$f":"データ貼付!J763","v":1},{"$f":"データ貼付!K763","v":0}]
[763,"高校女子砲丸投4",{"$f":"J766&COUNTIF($J$4:J766,J766)","v":"植村菜々3"},{"$f":"データ貼付!D764&データ貼付!E764","v":"高校女子砲丸投"},{"$f":"データ貼付!G764+ROW()/1000000","v":929.000766},4,{"$f":"データ貼付!A764","v":"全道高校"},{"$f":"データ貼付!B764","v":"帯広"},{"$f":"データ貼付!C764","v":43635},{"$f":"データ貼付!F764","v":"植村菜々"},{"$f":"データ貼付!G764","v":929},{"$f":"データ貼付!H764","v":"予"},{"$f":"データ貼付!I764","v":"遠軽高"},{"$f":"データ貼付!J764","v":3},{"$f":"データ貼付!K764","v":0}]
[764,"高校女子砲丸投6",{"$f":"J767&COUNTIF($J$4:J767,J767)","v":"植村葉月3"},{"$f":"データ貼付!D765&データ貼付!E765","v":"高校女子砲丸投"},{"$f":"データ貼付!G765+ROW()/1000000","v":786.000767},6,{"$f":"データ貼付!A765","v":"秋季陸上"},{"$f":"データ貼付!B765","v":"網走"},{"$f":"データ貼付!C765","v":43715},{"$f":"データ貼付!F765","v":"植村葉月"},{"$f":"データ貼付!G765","v":786},{"$f":"データ貼付!H765","v":"決"},{"$f":"データ貼付!I765","v":"湧別高"},{"$f":"データ貼付!J765","v":3},{"$f":"データ貼付!K765","v":0}]
[765,"高校女子砲丸投14",{"$f":"J768&COUNTIF($J$4:J768,J768)","v":"新藤彩音3"},{"$f":"データ貼付!D766&データ貼付!E766","v":"高校女子砲丸投"},{"$f":"データ貼付!G766+ROW()/1000000","v":545.00076799999999},14,{"$f":"データ貼付!A766","v":"高体連支部"},{"$f":"データ貼付!B766","v":"北見"},{"$f":"データ貼付!C766","v":43610},{"$f":"データ貼付!F766","v":"新藤彩音"},{"$f":"データ貼付!G766","v":545},{"$f":"データ貼付!H766","v":"決"},{"$f":"データ貼付!I766","v":"美幌高"},{"$f":"データ貼付!J766","v":1},{"$f":"データ貼付!K766","v":0}]
[766,"中学男子砲丸投7",{"$f":"J769&COUNTIF($J$4:J769,J769)","v":"須藤晴人2"},{"$f":"データ貼付!D767&データ貼付!E767","v":"中学男子砲丸投"},{"$f":"データ貼付!G767+ROW()/1000000","v":941.00076899999999},7,{"$f":"データ貼付!A767","v":"中学新人"},{"$f":"データ貼付!B767","v":"網走"},{"$f":"データ貼付!C767","v":43701},{"$f":"データ貼付!F767","v":"須藤晴人"},{"$f":"データ貼付!G767","v":941},{"$f":"データ貼付!H767","v":"決"},{"$f":"データ貼付!I767","v":"北見北中"},{"$f":"データ貼付!J767","v":2},{"$f":"データ貼付!K767","v":0}]
[767,"中学男子砲丸投11",{"$f":"J770&COUNTIF($J$4:J770,J770)","v":"水野舜也2"},{"$f":"データ貼付!D768&データ貼付!E768","v":"中学男子砲丸投"},{"$f":"データ貼付!G768+ROW()/1000000","v":833.00076999999999},11,{"$f":"データ貼付!A768","v":"秋季陸上"},{"$f":"データ貼付!B768","v":"網走"},{"$f":"データ貼付!C768","v":43715},{"$f":"データ貼付!F768","v":"水野舜也"},{"$f":"データ貼付!G768","v":833},{"$f":"データ貼付!H768","v":"決"},{"$f":"データ貼付!I768","v":"北見温根湯中"},{"$f":"データ貼付!J768","v":2},{"$f":"データ貼付!K768","v":0}]
[768,"中学女子砲丸投27",{"$f":"J771&COUNTIF($J$4:J771,J771)","v":"杉山吏湖1"},{"$f":"データ貼付!D769&データ貼付!E769","v":"中学女子砲丸投"},{"$f":"データ貼付!G769+ROW()/1000000","v":542.00077099999999},27,{"$f":"データ貼付!A769","v":"フィールド記録会"},{"$f":"データ貼付!B769","v":"網走"},{"$f":"データ貼付!C769","v":43624},{"$f":"データ貼付!F769","v":"杉山吏湖"},{"$f":"データ貼付!G769","v":542},{"$f":"データ貼付!H769","v":"決"},{"$f":"データ貼付!I769","v":"斜里中"},{"$f":"データ貼付!J769","v":1},{"$f":"データ貼付!K769","v":0}]
[769,"中学女子砲丸投12",{"$f":"J772&COUNTIF($J$4:J772,J772)","v":"杉澤夏希1"},{"$f":"データ貼付!D770&データ貼付!E770","v":"中学女子砲丸投"},{"$f":"データ貼付!G770+ROW()/1000000","v":748.00077199999998},12,{"$f":"データ貼付!A770","v":"中学新人"},{"$f":"データ貼付!B770","v":"網走"},{"$f":"データ貼付!C770","v":43701},{"$f":"データ貼付!F770","v":"杉澤夏希"},{"$f":"データ貼付!G770","v":748},{"$f":"データ貼付!H770","v":"決"},{"$f":"データ貼付!I770","v":"大空東藻琴中"},{"$f":"データ貼付!J770","v":2},{"$f":"データ貼付!K770","v":0}]
[770,{"$f":"D773&F773","v":"高校男子砲丸投17"},{"$f":"J773&COUNTIF($J$4:J773,J773)","v":"清野陽喜2"},{"$f":"データ貼付!D771&データ貼付!E771","v":"高校男子砲丸投"},{"$f":"データ貼付!G771+ROW()/1000000","v":818.00077299999998},{"$f":"SUMPRODUCT(($D$4:$D$903=D773)*($E$4:$E$903>E773))+1","v":17},{"$f":"データ貼付!A771","v":"記録会４戦"},{"$f":"データ貼付!B771","v":"北見"},{"$f":"データ貼付!C771","v":43681},{"$f":"データ貼付!F771","v":"清野陽喜"},{"$f":"データ貼付!G771","v":818},{"$f":"データ貼付!H771","v":"決"},{"$f":"データ貼付!I771","v":"北見柏陽高"},{"$f":"データ貼付!J771","v":1},{"$f":"データ貼付!K771","v":0}]
[771,"中学男子砲丸投59",{"$f":"J774&COUNTIF($J$4:J774,J774)","v":"西村海斗1"},{"$f":"データ貼付!D772&データ貼付!E772","v":"中学男子砲丸投"},{"$f":"データ貼付!G772+ROW()/1000000","v":483.00077399999998},59,{"$f":"データ貼付!A772","v":"中体連地区"},{"$f":"データ貼付!B772","v":"北見"},{"$f":"データ貼付!C772","v":43630},{"$f":"データ貼付!F772","v":"西村海斗"},{"$f":"データ貼付!G772","v":483},{"$f":"データ貼付!H772","v":"決"},{"$f":"データ貼付!I772","v":"北見北光中"},{"$f":"データ貼付!J772","v":2},{"$f":"データ貼付!K772","v":0}]
[772,"中学女子砲丸投11",{"$f":"J775&COUNTIF($J$4:J775,J775)","v":"西塚凛華2"},{"$f":"データ貼付!D773&データ貼付!E773","v":"中学女子砲丸投"},{"$f":"データ貼付!G773+ROW()/1000000","v":798.00077499999998},11,{"$f":"データ貼付!A773","v":"中学新人"},{"$f":"データ貼付!B773","v":"網走"},{"$f":"データ貼付!C773","v":43701},{"$f":"データ貼付!F773","v":"西塚凛華"},{"$f":"データ貼付!G773","v":798},{"$f":"データ貼付!H773","v":"決"},{"$f":"データ貼付!I773","v":"遠軽中"},{"$f":"データ貼付!J773","v":2},{"$f":"データ貼付!K773","v":0}]
[773,"中学男子砲丸投19",{"$f":"J776&COUNTIF($J$4:J776,J776)","v":"青山直樹1"},{"$f":"データ貼付!D774&データ貼付!E774","v":"中学男子砲丸投"},{"$f":"データ貼付!G774+ROW()/1000000","v":758.00077599999997},19,{"$f":"データ貼付!A774","v":"秋季陸上"},{"$f":"データ貼付!B774","v":"網走"},{"$f":"データ貼付!C774","v":43715},{"$f":"データ貼付!F774","v":"青山直樹"},{"$f":"データ貼付!G774","v":758},{"$f":"データ貼付!H774","v":"決"},{"$f":"データ貼付!I774","v":"北見北光中"},{"$f":"データ貼付!J774","v":1},{"$f":"データ貼付!K774","v":0}]
[774,"高校女子砲丸投10",{"$f":"J777&COUNTIF($J$4:J777,J777)","v":"青木愛優凪1"},{"$f":"データ貼付!D775&データ貼付!E775","v":"高校女子砲丸投"},{"$f":"データ貼付!G775+ROW()/1000000","v":672.00077699999997},10,{"$f":"データ貼付!A775","v":"秋季陸上"},{"$f":"データ貼付!B775","v":"網走"},{"$f":"データ貼付!C775","v":43715},{"$f":"データ貼付!F775","v":"青木愛優凪"},{"$f":"データ貼付!G775","v":672},{"$f":"データ貼付!H775","v":"決"},{"$f":"データ貼付!I775","v":"常呂高"},{"$f":"データ貼付!J775","v":1},{"$f":"データ貼付!K775","v":0}]
[775,"高校女子砲丸投5",{"$f":"J778&COUNTIF($J$4:J778,J778)","v":"石原彩菜2"},{"$f":"データ貼付!D776&データ貼付!E776","v":"高校女子砲丸投"},{"$f":"データ貼付!G776+ROW()/1000000","v":837.00077799999997},5,{"$f":"データ貼付!A776","v":"秋季陸上"},{"$f":"データ貼付!B776","v":"網走"},{"$f":"データ貼付!C776","v":43715},{"$f":"データ貼付!F776","v":"石原彩菜"},{"$f":"データ貼付!G776","v":837},{"$f":"データ貼付!H776","v":"決"},{"$f":"データ貼付!I776","v":"網走南ヶ丘高"},{"$f":"データ貼付!J776","v":1},{"$f":"データ貼付!K776","v":0}]
[776,"中学男子砲丸投54",{"$f":"J779&COUNTIF($J$4:J779,J779)","v":"石原遥翔2"},{"$f":"データ貼付!D777&データ貼付!E777","v":"中学男子砲丸投"},{"$f":"データ貼付!G777+ROW()/1000000","v":503.00077900000002},54,{"$f":"データ貼付!A777","v":"記録会３戦"},{"$f":"データ貼付!B777","v":"網走"},{"$f":"データ貼付!C777","v":43660},{"$f":"データ貼付!F777","v":"石原遥翔"},{"$f":"データ貼付!G777","v":503},{"$f":"データ貼付!H777","v":"決"},{"$f":"データ貼付!I777","v":"網走第四中"},{"$f":"データ貼付!J777","v":1},{"$f":"データ貼付!K777","v":0}]
[777,"高校男子砲丸投3",{"$f":"J780&COUNTIF($J$4:J780,J780)","v":"石田大洋3"},{"$f":"データ貼付!D778&データ貼付!E778","v":"高校男子砲丸投"},{"$f":"データ貼付!G778+ROW()/1000000","v":1361.0007800000001},3,{"$f":"データ貼付!A778","v":"全道高校"},{"$f":"データ貼付!B778","v":"帯広"},{"$f":"データ貼付!C778","v":43637},{"$f":"データ貼付!F778","v":"石田大洋"},{"$f":"データ貼付!G778","v":1361},{"$f":"データ貼付!H778","v":"決"},{"$f":"データ貼付!I778","v":"遠軽高"},{"$f":"データ貼付!J778","v":3},{"$f":"データ貼付!K778","v":0}]
[778,"中学女子砲丸投4",{"$f":"J781&COUNTIF($J$4:J781,J781)","v":"前川りん1"},{"$f":"データ貼付!D779&データ貼付!E779","v":"中学女子砲丸投"},{"$f":"データ貼付!G779+ROW()/1000000","v":915.00078099999996},4,{"$f":"データ貼付!A779","v":"中体連地区"},{"$f":"データ貼付!B779","v":"北見"},{"$f":"データ貼付!C779","v":43631},{"$f":"データ貼付!F779","v":"前川りん"},{"$f":"データ貼付!G779","v":915},{"$f":"データ貼付!H779","v":"決"},{"$f":"データ貼付!I779","v":"大空東藻琴中"},{"$f":"データ貼付!J779","v":3},{"$f":"データ貼付!K779","v":0}]
[779,"高校女子砲丸投11",{"$f":"J782&COUNTIF($J$4:J782,J782)","v":"曽根美紅4"},{"$f":"データ貼付!D780&データ貼付!E780","v":"高校女子砲丸投"},{"$f":"データ貼付!G780+ROW()/1000000","v":670.00078199999996},11,{"$f":"データ貼付!A780","v":"高校新人"},{"$f":"データ貼付!B780","v":"網走"},{"$f":"データ貼付!C780","v":43700},{"$f":"データ貼付!F780","v":"曽根美紅"},{"$f":"データ貼付!G780","v":670},{"$f":"データ貼付!H780","v":"決"},{"$f":"データ貼付!I780","v":"網走南ヶ丘高"},{"$f":"データ貼付!J780","v":1},{"$f":"データ貼付!K780","v":0}]
[780,"中学女子砲丸投5",{"$f":"J783&COUNTIF($J$4:J783,J783)","v":"相馬夏好1"},{"$f":"データ貼付!D781&データ貼付!E781","v":"中学女子砲丸投"},{"$f":"データ貼付!G781+ROW()/1000000","v":882.00078299999996},5,{"$f":"データ貼付!A781","v":"中学新人"},{"$f":"データ貼付!B781","v":"網走"},{"$f":"データ貼付!C781","v":43701},{"$f":"データ貼付!F781","v":"相馬夏好"},{"$f":"データ貼付!G781","v":882},{"$f":"データ貼付!H781","v":"決"},{"$f":"データ貼付!I781","v":"北見光西中"},{"$f":"データ貼付!J781","v":1},{"$f":"データ貼付!K781","v":0}]
[781,"高校男子砲丸投19",{"$f":"J784&COUNTIF($J$4:J784,J784)","v":"相澤陽紀1"},{"$f":"データ貼付!D782&データ貼付!E782","v":"高校男子砲丸投"},{"$f":"データ貼付!G782+ROW()/1000000","v":788.00078399999995},19,{"$f":"データ貼付!A782","v":"高体連支部"},{"$f":"データ貼付!B782","v":"北見"},{"$f":"データ貼付!C782","v":43610},{"$f":"データ貼付!F782","v":"相澤陽紀"},{"$f":"データ貼付!G782","v":788},{"$f":"データ貼付!H782","v":"決"},{"$f":"データ貼付!I782","v":"雄武高"},{"$f":"データ貼付!J782","v":2},{"$f":"データ貼付!K782","v":0}]
[782,"中学女子砲丸投25",{"$f":"J785&COUNTIF($J$4:J785,J785)","v":"草岡美紀2"},{"$f":"データ貼付!D783&データ貼付!E783","v":"中学女子砲丸投"},{"$f":"データ貼付!G783+ROW()/1000000","v":558.00078499999995},25,{"$f":"データ貼付!A783","v":"中学新人"},{"$f":"データ貼付!B783","v":"網走"},{"$f":"データ貼付!C783","v":43701},{"$f":"データ貼付!F783","v":"草岡美紀"},{"$f":"データ貼付!G783","v":558},{"$f":"データ貼付!H783","v":"決"},{"$f":"データ貼付!I783","v":"網走第二中"},{"$f":"データ貼付!J783","v":1},{"$f":"データ貼付!K783","v":0}]
[783,"中学男子砲丸投55",{"$f":"J786&COUNTIF($J$4:J786,J786)","v":"草薙怜冶3"},{"$f":"データ貼付!D784&データ貼付!E784","v":"中学男子砲丸投"},{"$f":"データ貼付!G784+ROW()/1000000","v":502.00078600000001},55,{"$f":"データ貼付!A784","v":"中学新人"},{"$f":"データ貼付!B784","v":"網走"},{"$f":"データ貼付!C784","v":43700},{"$f":"データ貼付!F784","v":"草薙怜冶"},{"$f":"データ貼付!G784","v":502},{"$f":"データ貼付!H784","v":"決"},{"$f":"データ貼付!I784","v":"湧別中"},{"$f":"データ貼付!J784","v":1},{"$f":"データ貼付!K784","v":0}]
[784,"中学男子砲丸投30",{"$f":"J787&COUNTIF($J$4:J787,J787)","v":"増山奈孝2"},{"$f":"データ貼付!D785&データ貼付!E785","v":"中学男子砲丸投"},{"$f":"データ貼付!G785+ROW()/1000000","v":702.00078699999995},30,{"$f":"データ貼付!A785","v":"中体連地区"},{"$f":"データ貼付!B785","v":"北見"},{"$f":"データ貼付!C785","v":43631},{"$f":"データ貼付!F785","v":"増山奈孝"},{"$f":"データ貼付!G785","v":702},{"$f":"データ貼付!H785","v":"決"},{"$f":"データ貼付!I785","v":"北見光西中"},{"$f":"データ貼付!J785","v":1},{"$f":"データ貼付!K785","v":0}]
[785,"高校男子砲丸投18",{"$f":"J788&COUNTIF($J$4:J788,J788)","v":"太田結陽1"},{"$f":"データ貼付!D786&データ貼付!E786","v":"高校男子砲丸投"},{"$f":"データ貼付!G786+ROW()/1000000","v":816.00078800000006},18,{"$f":"データ貼付!A786","v":"高体連支部"},{"$f":"データ貼付!B786","v":"北見"},{"$f":"データ貼付!C786","v":43610},{"$f":"データ貼付!F786","v":"太田結陽"},{"$f":"データ貼付!G786","v":816},{"$f":"データ貼付!H786","v":"決"},{"$f":"データ貼付!I786","v":"清里高"},{"$f":"データ貼付!J786","v":2},{"$f":"データ貼付!K786","v":0}]
[786,"小学男子砲丸投3",{"$f":"J789&COUNTIF($J$4:J789,J789)","v":"大友優雅2"},{"$f":"データ貼付!D787&データ貼付!E787","v":"小学男子砲丸投"},{"$f":"データ貼付!G787+ROW()/1000000","v":671.00078900000005},3,{"$f":"データ貼付!A787","v":"フィールド記録会"},{"$f":"データ貼付!B787","v":"網走"},{"$f":"データ貼付!C787","v":43624},{"$f":"データ貼付!F787","v":"大友優雅"},{"$f":"データ貼付!G787","v":671},{"$f":"データ貼付!H787","v":"決"},{"$f":"データ貼付!I787","v":"知床斜里RC"},{"$f":"データ貼付!J787","v":6},{"$f":"データ貼付!K787","v":0}]
[787,"高校男子砲丸投20",{"$f":"J790&COUNTIF($J$4:J790,J790)","v":"大和大輝2"},{"$f":"データ貼付!D788&データ貼付!E788","v":"高校男子砲丸投"},{"$f":"データ貼付!G788+ROW()/1000000","v":778.00079000000005},20,{"$f":"データ貼付!A788","v":"記録会３戦"},{"$f":"データ貼付!B788","v":"網走"},{"$f":"データ貼付!C788","v":43660},{"$f":"データ貼付!F788","v":"大和大輝"},{"$f":"データ貼付!G788","v":778},{"$f":"データ貼付!H788","v":"決"},{"$f":"データ貼付!I788","v":"日体大附属高"},{"$f":"データ貼付!J788","v":1},{"$f":"データ貼付!K788","v":0}]
[788,"中学女子砲丸投28",{"$f":"J791&COUNTIF($J$4:J791,J791)","v":"大澤未希1"},{"$f":"データ貼付!D789&データ貼付!E789","v":"中学女子砲丸投"},{"$f":"データ貼付!G789+ROW()/1000000","v":540.00079100000005},28,{"$f":"データ貼付!A789","v":"選手権"},{"$f":"データ貼付!B789","v":"北見"},{"$f":"データ貼付!C789","v":43597},{"$f":"データ貼付!F789","v":"大澤未希"},{"$f":"データ貼付!G789","v":540},{"$f":"データ貼付!H789","v":"決"},{"$f":"データ貼付!I789","v":"清里中"},{"$f":"データ貼付!J789","v":1},{"$f":"データ貼付!K789","v":0}]
[789,"中学男子砲丸投29",{"$f":"J792&COUNTIF($J$4:J792,J792)","v":"瀧澤亮太2"},{"$f":"データ貼付!D790&データ貼付!E790","v":"中学男子砲丸投"},{"$f":"データ貼付!G790+ROW()/1000000","v":707.00079200000005},29,{"$f":"データ貼付!A790","v":"通信陸上"},{"$f":"データ貼付!B790","v":"網走"},{"$f":"データ貼付!C790","v":43645},{"$f":"データ貼付!F790","v":"瀧澤亮太"},{"$f":"データ貼付!G790","v":707},{"$f":"データ貼付!H790","v":"予"},{"$f":"データ貼付!I790","v":"雄武中"},{"$f":"データ貼付!J790","v":2},{"$f":"データ貼付!K790","v":0}]
[790,"高校男子砲丸投4",{"$f":"J793&COUNTIF($J$4:J793,J793)","v":"池田尚人3"},{"$f":"データ貼付!D791&データ貼付!E791","v":"高校男子砲丸投"},{"$f":"データ貼付!G791+ROW()/1000000","v":1278.0007929999999},4,{"$f":"データ貼付!A791","v":"全道高校"},{"$f":"データ貼付!B791","v":"帯広"},{"$f":"データ貼付!C791","v":43637},{"$f":"データ貼付!F791","v":"池田尚人"},{"$f":"データ貼付!G791","v":1278},{"$f":"データ貼付!H791","v":"予"},{"$f":"データ貼付!I791","v":"網走桂陽高"},{"$f":"データ貼付!J791","v":3},{"$f":"データ貼付!K791","v":0}]
[791,"高校女子砲丸投3",{"$f":"J794&COUNTIF($J$4:J794,J794)","v":"竹村花乃1"},{"$f":"データ貼付!D792&データ貼付!E792","v":"高校女子砲丸投"},{"$f":"データ貼付!G792+ROW()/1000000","v":988.00079400000004},3,{"$f":"データ貼付!A792","v":"全道高校新人"},{"$f":"データ貼付!B792","v":"函館"},{"$f":"データ貼付!C792","v":" 9/20"},{"$f":"データ貼付!F792","v":"竹村花乃"},{"$f":"データ貼付!G792","v":988},{"$f":"データ貼付!H792","v":"予"},{"$f":"データ貼付!I792","v":"常呂高"},{"$f":"データ貼付!J792","v":1},{"$f":"データ貼付!K792","v":0}]
[792,"中学男子砲丸投22",{"$f":"J795&COUNTIF($J$4:J795,J795)","v":"中原紘希1"},{"$f":"データ貼付!D793&データ貼付!E793","v":"中学男子砲丸投"},{"$f":"データ貼付!G793+ROW()/1000000","v":750.00079500000004},22,{"$f":"データ貼付!A793","v":"記録会４戦"},{"$f":"データ貼付!B793","v":"北見"},{"$f":"データ貼付!C793","v":43681},{"$f":"データ貼付!F793","v":"中原紘希"},{"$f":"データ貼付!G793","v":750},{"$f":"データ貼付!H793","v":"決"},{"$f":"データ貼付!I793","v":"北見高栄中"},{"$f":"データ貼付!J793","v":1},{"$f":"データ貼付!K793","v":0}]
[793,"中学男子砲丸投27",{"$f":"J796&COUNTIF($J$4:J796,J796)","v":"中原太亜2"},{"$f":"データ貼付!D794&データ貼付!E794","v":"中学男子砲丸投"},{"$f":"データ貼付!G794+ROW()/1000000","v":713.00079600000004},27,{"$f":"データ貼付!A794","v":"通信陸上"},{"$f":"データ貼付!B794","v":"網走"},{"$f":"データ貼付!C794","v":43645},{"$f":"データ貼付!F794","v":"中原太亜"},{"$f":"データ貼付!G794","v":713},{"$f":"データ貼付!H794","v":"予"},{"$f":"データ貼付!I794","v":"北見常呂中"},{"$f":"データ貼付!J794","v":2},{"$f":"データ貼付!K794","v":0}]
[794,"高校女子砲丸投9",{"$f":"J797&COUNTIF($J$4:J797,J797)","v":"中西樹奈2"},{"$f":"データ貼付!D795&データ貼付!E795","v":"高校女子砲丸投"},{"$f":"データ貼付!G795+ROW()/1000000","v":737.00079700000003},9,{"$f":"データ貼付!A795","v":"記録会４戦"},{"$f":"データ貼付!B795","v":"北見"},{"$f":"データ貼付!C795","v":43681},{"$f":"データ貼付!F795","v":"中西樹奈"},{"$f":"データ貼付!G795","v":737},{"$f":"データ貼付!H795","v":"決"},{"$f":"データ貼付!I795","v":"北見藤高"},{"$f":"データ貼付!J795","v":1},{"$f":"データ貼付!K795","v":0}]
[795,"中学女子砲丸投26",{"$f":"J798&COUNTIF($J$4:J798,J798)","v":"中村のあ2"},{"$f":"データ貼付!D796&データ貼付!E796","v":"中学女子砲丸投"},{"$f":"データ貼付!G796+ROW()/1000000","v":546.00079800000003},26,{"$f":"データ貼付!A796","v":"通信陸上"},{"$f":"データ貼付!B796","v":"網走"},{"$f":"データ貼付!C796","v":43644},{"$f":"データ貼付!F796","v":"中村のあ"},{"$f":"データ貼付!G796","v":546},{"$f":"データ貼付!H796","v":"決"},{"$f":"データ貼付!I796","v":"雄武中"},{"$f":"データ貼付!J796","v":1},{"$f":"データ貼付!K796","v":0}]
[796,"小学男子砲丸投5",{"$f":"J799&COUNTIF($J$4:J799,J799)","v":"中村海杜2"},{"$f":"データ貼付!D797&データ貼付!E797","v":"小学男子砲丸投"},{"$f":"データ貼付!G797+ROW()/1000000","v":614.00079900000003},5,{"$f":"データ貼付!A797","v":"小学生ｵﾎｰﾂｸ"},{"$f":"データ貼付!B797","v":"北見"},{"$f":"データ貼付!C797","v":43632},{"$f":"データ貼付!F797","v":"中村海杜"},{"$f":"データ貼付!G797","v":614},{"$f":"データ貼付!H797","v":"決"},{"$f":"データ貼付!I797","v":"知床斜里RC"},{"$f":"データ貼付!J797","v":6},{"$f":"データ貼付!K797","v":0}]
[797,"小学女子砲丸投1",{"$f":"J800&COUNTIF($J$4:J800,J800)","v":"中村光2"},{"$f":"データ貼付!D798&データ貼付!E798","v":"小学女子砲丸投"},{"$f":"データ貼付!G798+ROW()/1000000","v":730.00080000000003},1,{"$f":"データ貼付!A798","v":"全道小学"},{"$f":"データ貼付!B798","v":"札幌"},{"$f":"データ貼付!C798","v":43661},{"$f":"データ貼付!F798","v":"中村光"},{"$f":"データ貼付!G798","v":730},{"$f":"データ貼付!H798","v":"決"},{"$f":"データ貼付!I798","v":"常呂陸上少年団"},{"$f":"データ貼付!J798","v":6},{"$f":"データ貼付!K798","v":0}]
[798,"小学男子砲丸投7",{"$f":"J801&COUNTIF($J$4:J801,J801)","v":"中村星汰2"},{"$f":"データ貼付!D799&データ貼付!E799","v":"小学男子砲丸投"},{"$f":"データ貼付!G799+ROW()/1000000","v":549.00080100000002},7,{"$f":"データ貼付!A799","v":"フィールド記録会"},{"$f":"データ貼付!B799","v":"網走"},{"$f":"データ貼付!C799","v":43624},{"$f":"データ貼付!F799","v":"中村星汰"},{"$f":"データ貼付!G799","v":549},{"$f":"データ貼付!H799","v":"決"},{"$f":"データ貼付!I799","v":"知床斜里RC"},{"$f":"データ貼付!J799","v":6},{"$f":"データ貼付!K799","v":0}]
[799,"高校男子砲丸投21",{"$f":"J802&COUNTIF($J$4:J802,J802)","v":"中村拓斗3"},{"$f":"データ貼付!D800&データ貼付!E800","v":"高校男子砲丸投"},{"$f":"データ貼付!G800+ROW()/1000000","v":777.00080200000002},21,{"$f":"データ貼付!A800","v":"高体連支部"},{"$f":"データ貼付!B800","v":"北見"},{"$f":"データ貼付!C800","v":43610},{"$f":"データ貼付!F800","v":"中村拓斗"},{"$f":"データ貼付!G800","v":777},{"$f":"データ貼付!H800","v":"決"},{"$f":"データ貼付!I800","v":"美幌高"},{"$f":"データ貼付!J800","v":3},{"$f":"データ貼付!K800","v":0}]
[800,"中学女子砲丸投7",{"$f":"J803&COUNTIF($J$4:J803,J803)","v":"中島彩希2"},{"$f":"データ貼付!D801&データ貼付!E801","v":"中学女子砲丸投"},{"$f":"データ貼付!G801+ROW()/1000000","v":826.00080300000002},7,{"$f":"データ貼付!A801","v":"記録会４戦"},{"$f":"データ貼付!B801","v":"北見"},{"$f":"データ貼付!C801","v":43681},{"$f":"データ貼付!F801","v":"中島彩希"},{"$f":"データ貼付!G801","v":826},{"$f":"データ貼付!H801","v":"決"},{"$f":"データ貼付!I801","v":"北見常呂中"},{"$f":"データ貼付!J801","v":3},{"$f":"データ貼付!K801","v":0}]
[801,"高校男子砲丸投9",{"$f":"J804&COUNTIF($J$4:J804,J804)","v":"長廻湧丞2"},{"$f":"データ貼付!D802&データ貼付!E802","v":"高校男子砲丸投"},{"$f":"データ貼付!G802+ROW()/1000000","v":1085.000804},9,{"$f":"データ貼付!A802","v":"国体予選"},{"$f":"データ貼付!B802","v":"室蘭"},{"$f":"データ貼付!C802","v":43666},{"$f":"データ貼付!F802","v":"長廻湧丞"},{"$f":"データ貼付!G802","v":1085},{"$f":"データ貼付!H802","v":"決"},{"$f":"データ貼付!I802","v":"清里高"},{"$f":"データ貼付!J802","v":1},{"$f":"データ貼付!K802","v":0}]
[802,"高校男子砲丸投12",{"$f":"J805&COUNTIF($J$4:J805,J805)","v":"長谷部岳斗3"},{"$f":"データ貼付!D803&データ貼付!E803","v":"高校男子砲丸投"},{"$f":"データ貼付!G803+ROW()/1000000","v":950.00080500000001},12,{"$f":"データ貼付!A803","v":"高体連支部"},{"$f":"データ貼付!B803","v":"北見"},{"$f":"データ貼付!C803","v":43610},{"$f":"データ貼付!F803","v":"長谷部岳斗"},{"$f":"データ貼付!G803","v":950},{"$f":"データ貼付!H803","v":"決"},{"$f":"データ貼付!I803","v":"北見工業高"},{"$f":"データ貼付!J803","v":3},{"$f":"データ貼付!K803","v":0}]
[803,"中学女子砲丸投18",{"$f":"J806&COUNTIF($J$4:J806,J806)","v":"長尾優里愛1"},{"$f":"データ貼付!D804&データ貼付!E804","v":"中学女子砲丸投"},{"$f":"データ貼付!G804+ROW()/1000000","v":621.00080600000001},18,{"$f":"データ貼付!A804","v":"記録会３戦"},{"$f":"データ貼付!B804","v":"網走"},{"$f":"データ貼付!C804","v":43660},{"$f":"データ貼付!F804","v":"長尾優里愛"},{"$f":"データ貼付!G804","v":621},{"$f":"データ貼付!H804","v":"決"},{"$f":"データ貼付!I804","v":"大空東藻琴中"},{"$f":"データ貼付!J804","v":2},{"$f":"データ貼付!K804","v":0}]
[804,"中学男子砲丸投41",{"$f":"J807&COUNTIF($J$4:J807,J807)","v":"田刈子雄大1"},{"$f":"データ貼付!D805&データ貼付!E805","v":"中学男子砲丸投"},{"$f":"データ貼付!G805+ROW()/1000000","v":604.00080700000001},41,{"$f":"データ貼付!A805","v":"中学新人"},{"$f":"データ貼付!B805","v":"網走"},{"$f":"データ貼付!C805","v":43700},{"$f":"データ貼付!F805","v":"田刈子雄大"},{"$f":"データ貼付!G805","v":604},{"$f":"データ貼付!H805","v":"決"},{"$f":"データ貼付!I805","v":"北見北中"},{"$f":"データ貼付!J805","v":1},{"$f":"データ貼付!K805","v":0}]
[805,"中学男子砲丸投34",{"$f":"J808&COUNTIF($J$4:J808,J808)","v":"田中達也2"},{"$f":"データ貼付!D806&データ貼付!E806","v":"中学男子砲丸投"},{"$f":"データ貼付!G806+ROW()/1000000","v":651.00080800000001},34,{"$f":"データ貼付!A806","v":"フィールド記録会"},{"$f":"データ貼付!B806","v":"網走"},{"$f":"データ貼付!C806","v":43624},{"$f":"データ貼付!F806","v":"田中達也"},{"$f":"データ貼付!G806","v":651},{"$f":"データ貼付!H806","v":"決"},{"$f":"データ貼付!I806","v":"網走第一中"},{"$f":"データ貼付!J806","v":3},{"$f":"データ貼付!K806","v":0}]
[806,"中学男子砲丸投20",{"$f":"J809&COUNTIF($J$4:J809,J809)","v":"渡邉日向2"},{"$f":"データ貼付!D807&データ貼付!E807","v":"中学男子砲丸投"},{"$f":"データ貼付!G807+ROW()/1000000","v":756.000809},20,{"$f":"データ貼付!A807","v":"選手権"},{"$f":"データ貼付!B807","v":"北見"},{"$f":"データ貼付!C807","v":43597},{"$f":"データ貼付!F807","v":"渡邉日向"},{"$f":"データ貼付!G807","v":756},{"$f":"データ貼付!H807","v":"決"},{"$f":"データ貼付!I807","v":"網走第四中"},{"$f":"データ貼付!J807","v":1},{"$f":"データ貼付!K807","v":0}]
[807,"中学女子砲丸投3",{"$f":"J810&COUNTIF($J$4:J810,J810)","v":"唐川捺稀1"},{"$f":"データ貼付!D808&データ貼付!E808","v":"中学女子砲丸投"},{"$f":"データ貼付!G808+ROW()/1000000","v":978.00081},3,{"$f":"データ貼付!A808","v":"全道中学"},{"$f":"データ貼付!B808","v":"旭川"},{"$f":"データ貼付!C808","v":43674},{"$f":"データ貼付!F808","v":"唐川捺稀"},{"$f":"データ貼付!G808","v":978},{"$f":"データ貼付!H808","v":"予"},{"$f":"データ貼付!I808","v":"湧別中"},{"$f":"データ貼付!J808","v":3},{"$f":"データ貼付!K808","v":0}]
[808,"高校女子砲丸投7",{"$f":"J811&COUNTIF($J$4:J811,J811)","v":"奈良雅2"},{"$f":"データ貼付!D809&データ貼付!E809","v":"高校女子砲丸投"},{"$f":"データ貼付!G809+ROW()/1000000","v":772.000811},7,{"$f":"データ貼付!A809","v":"記録会第２戦"},{"$f":"データ貼付!B809","v":"網走"},{"$f":"データ貼付!C809","v":43590},{"$f":"データ貼付!F809","v":"奈良雅"},{"$f":"データ貼付!G809","v":772},{"$f":"データ貼付!H809","v":"決"},{"$f":"データ貼付!I809","v":"北見柏陽高"},{"$f":"データ貼付!J809","v":3},{"$f":"データ貼付!K809","v":0}]
[809,"中学男子砲丸投28",{"$f":"J812&COUNTIF($J$4:J812,J812)","v":"二川響1"},{"$f":"データ貼付!D810&データ貼付!E810","v":"中学男子砲丸投"},{"$f":"データ貼付!G810+ROW()/1000000","v":710.000812},28,{"$f":"データ貼付!A810","v":"中学新人"},{"$f":"データ貼付!B810","v":"網走"},{"$f":"データ貼付!C810","v":43700},{"$f":"データ貼付!F810","v":"二川響"},{"$f":"データ貼付!G810","v":710},{"$f":"データ貼付!H810","v":"決"},{"$f":"データ貼付!I810","v":"美幌中"},{"$f":"データ貼付!J810","v":1},{"$f":"データ貼付!K810","v":0}]
[810,"高校男子砲丸投14",{"$f":"J813&COUNTIF($J$4:J813,J813)","v":"日下大夢2"},{"$f":"データ貼付!D811&データ貼付!E811","v":"高校男子砲丸投"},{"$f":"データ貼付!G811+ROW()/1000000","v":900.00081299999999},14,{"$f":"データ貼付!A811","v":"高体連支部"},{"$f":"データ貼付!B811","v":"北見"},{"$f":"データ貼付!C811","v":43610},{"$f":"データ貼付!F811","v":"日下大夢"},{"$f":"データ貼付!G811","v":900},{"$f":"データ貼付!H811","v":"決"},{"$f":"データ貼付!I811","v":"紋別高"},{"$f":"データ貼付!J811","v":2},{"$f":"データ貼付!K811","v":0}]
[811,"中学女子砲丸投1",{"$f":"J814&COUNTIF($J$4:J814,J814)","v":"白石光3"},{"$f":"データ貼付!D812&データ貼付!E812","v":"中学女子砲丸投"},{"$f":"データ貼付!G812+ROW()/1000000","v":1171.000814},1,{"$f":"データ貼付!A812","v":"通信陸上"},{"$f":"データ貼付!B812","v":"網走"},{"$f":"データ貼付!C812","v":43644},{"$f":"データ貼付!F812","v":"白石光"},{"$f":"データ貼付!G812","v":1171},{"$f":"データ貼付!H812","v":"決"},{"$f":"データ貼付!I812","v":"北見光西中"},{"$f":"データ貼付!J812","v":3},{"$f":"データ貼付!K812","v":0}]
[812,"高校男子砲丸投32",{"$f":"J815&COUNTIF($J$4:J815,J815)","v":"白川楓2"},{"$f":"データ貼付!D813&データ貼付!E813","v":"高校男子砲丸投"},{"$f":"データ貼付!G813+ROW()/1000000","v":623.00081499999999},32,{"$f":"データ貼付!A813","v":"秋季陸上"},{"$f":"データ貼付!B813","v":"網走"},{"$f":"データ貼付!C813","v":43715},{"$f":"データ貼付!F813","v":"白川楓"},{"$f":"データ貼付!G813","v":623},{"$f":"データ貼付!H813","v":"決"},{"$f":"データ貼付!I813","v":"興部高"},{"$f":"データ貼付!J813","v":1},{"$f":"データ貼付!K813","v":0}]
[813,"中学男子砲丸投14",{"$f":"J816&COUNTIF($J$4:J816,J816)","v":"白幡塁斗1"},{"$f":"データ貼付!D814&データ貼付!E814","v":"中学男子砲丸投"},{"$f":"データ貼付!G814+ROW()/1000000","v":822.00081599999999},14,{"$f":"データ貼付!A814","v":"中体連地区"},{"$f":"データ貼付!B814","v":"北見"},{"$f":"データ貼付!C814","v":43631},{"$f":"データ貼付!F814","v":"白幡塁斗"},{"$f":"データ貼付!G814","v":822},{"$f":"データ貼付!H814","v":"決"},{"$f":"データ貼付!I814","v":"遠軽中"},{"$f":"データ貼付!J814","v":1},{"$f":"データ貼付!K814","v":0}]
[814,"高校男子砲丸投16",{"$f":"J817&COUNTIF($J$4:J817,J817)","v":"畑内蒼汰2"},{"$f":"データ貼付!D815&データ貼付!E815","v":"高校男子砲丸投"},{"$f":"データ貼付!G815+ROW()/1000000","v":836.00081699999998},16,{"$f":"データ貼付!A815","v":"秋季陸上"},{"$f":"データ貼付!B815","v":"網走"},{"$f":"データ貼付!C815","v":43715},{"$f":"データ貼付!F815","v":"畑内蒼汰"},{"$f":"データ貼付!G815","v":836},{"$f":"データ貼付!H815","v":"決"},{"$f":"データ貼付!I815","v":"紋別高"},{"$f":"データ貼付!J815","v":2},{"$f":"データ貼付!K815","v":0}]
[815,"中学女子砲丸投15",{"$f":"J818&COUNTIF($J$4:J818,J818)","v":"畠野美優2"},{"$f":"データ貼付!D816&データ貼付!E816","v":"中学女子砲丸投"},{"$f":"データ貼付!G816+ROW()/1000000","v":720.00081799999998},15,{"$f":"データ貼付!A816","v":"中学新人"},{"$f":"データ貼付!B816","v":"網走"},{"$f":"データ貼付!C816","v":43701},{"$f":"データ貼付!F816","v":"畠野美優"},{"$f":"データ貼付!G816","v":720},{"$f":"データ貼付!H816","v":"決"},{"$f":"データ貼付!I816","v":"北見光西中"},{"$f":"データ貼付!J816","v":2},{"$f":"データ貼付!K816","v":0}]
[816,"高校男子砲丸投30",{"$f":"J819&COUNTIF($J$4:J819,J819)","v":"八重樫春人2"},{"$f":"データ貼付!D817&データ貼付!E817","v":"高校男子砲丸投"},{"$f":"データ貼付!G817+ROW()/1000000","v":686.00081899999998},30,{"$f":"データ貼付!A817","v":"高体連支部"},{"$f":"データ貼付!B817","v":"北見"},{"$f":"データ貼付!C817","v":43610},{"$f":"データ貼付!F817","v":"八重樫春人"},{"$f":"データ貼付!G817","v":686},{"$f":"データ貼付!H817","v":"決"},{"$f":"データ貼付!I817","v":"北見商業高"},{"$f":"データ貼付!J817","v":1},{"$f":"データ貼付!K817","v":0}]
[817,"中学女子砲丸投14",{"$f":"J820&COUNTIF($J$4:J820,J820)","v":"服部茜1"},{"$f":"データ貼付!D818&データ貼付!E818","v":"中学女子砲丸投"},{"$f":"データ貼付!G818+ROW()/1000000","v":740.00081999999998},14,{"$f":"データ貼付!A818","v":"秋季陸上"},{"$f":"データ貼付!B818","v":"網走"},{"$f":"データ貼付!C818","v":43716},{"$f":"データ貼付!F818","v":"服部茜"},{"$f":"データ貼付!G818","v":740},{"$f":"データ貼付!H818","v":"決"},{"$f":"データ貼付!I818","v":"大空女満別中"},{"$f":"データ貼付!J818","v":1},{"$f":"データ貼付!K818","v":0}]
[818,"中学男子砲丸投42",{"$f":"J821&COUNTIF($J$4:J821,J821)","v":"服部一吹1"},{"$f":"データ貼付!D819&データ貼付!E819","v":"中学男子砲丸投"},{"$f":"データ貼付!G819+ROW()/1000000","v":601.00082099999997},42,{"$f":"データ貼付!A819","v":"通信陸上"},{"$f":"データ貼付!B819","v":"網走"},{"$f":"データ貼付!C819","v":43645},{"$f":"データ貼付!F819","v":"服部一吹"},{"$f":"データ貼付!G819","v":601},{"$f":"データ貼付!H819","v":"予"},{"$f":"データ貼付!I819","v":"清里中"},{"$f":"データ貼付!J819","v":3},{"$f":"データ貼付!K819","v":0}]
[819,"中学男子砲丸投1",{"$f":"J822&COUNTIF($J$4:J822,J822)","v":"服部拓美2"},{"$f":"データ貼付!D820&データ貼付!E820","v":"中学男子砲丸投"},{"$f":"データ貼付!G820+ROW()/1000000","v":1138.000822},1,{"$f":"データ貼付!A820","v":"全道中学"},{"$f":"データ貼付!B820","v":"旭川"},{"$f":"データ貼付!C820","v":43673},{"$f":"データ貼付!F820","v":"服部拓美"},{"$f":"データ貼付!G820","v":1138},{"$f":"データ貼付!H820","v":"予"},{"$f":"データ貼付!I820","v":"北見北光中"},{"$f":"データ貼付!J820","v":3},{"$f":"データ貼付!K820","v":0}]
[820,"高校女子砲丸投13",{"$f":"J823&COUNTIF($J$4:J823,J823)","v":"福井優月1"},{"$f":"データ貼付!D821&データ貼付!E821","v":"高校女子砲丸投"},{"$f":"データ貼付!G821+ROW()/1000000","v":607.00082299999997},13,{"$f":"データ貼付!A821","v":"高体連支部"},{"$f":"データ貼付!B821","v":"北見"},{"$f":"データ貼付!C821","v":43610},{"$f":"データ貼付!F821","v":"福井優月"},{"$f":"データ貼付!G821","v":607},{"$f":"データ貼付!H821","v":"決"},{"$f":"データ貼付!I821","v":"北見商業高"},{"$f":"データ貼付!J821","v":2},{"$f":"データ貼付!K821","v":0}]
[821,"中学男子砲丸投46",{"$f":"J824&COUNTIF($J$4:J824,J824)","v":"平佐太一2"},{"$f":"データ貼付!D822&データ貼付!E822","v":"中学男子砲丸投"},{"$f":"データ貼付!G822+ROW()/1000000","v":561.00082399999997},46,{"$f":"データ貼付!A822","v":"通信陸上"},{"$f":"データ貼付!B822","v":"網走"},{"$f":"データ貼付!C822","v":43645},{"$f":"データ貼付!F822","v":"平佐太一"},{"$f":"データ貼付!G822","v":561},{"$f":"データ貼付!H822","v":"予"},{"$f":"データ貼付!I822","v":"網走第三中"},{"$f":"データ貼付!J822","v":2},{"$f":"データ貼付!K822","v":0}]
[822,"高校男子砲丸投25",{"$f":"J825&COUNTIF($J$4:J825,J825)","v":"平吹鷹也1"},{"$f":"データ貼付!D823&データ貼付!E823","v":"高校男子砲丸投"},{"$f":"データ貼付!G823+ROW()/1000000","v":735.00082499999996},25,{"$f":"データ貼付!A823","v":"記録会第２戦"},{"$f":"データ貼付!B823","v":"網走"},{"$f":"データ貼付!C823","v":43590},{"$f":"データ貼付!F823","v":"平吹鷹也"},{"$f":"データ貼付!G823","v":735},{"$f":"データ貼付!H823","v":"決"},{"$f":"データ貼付!I823","v":"北見柏陽高"},{"$f":"データ貼付!J823","v":3},{"$f":"データ貼付!K823","v":0}]
[823,"小学男子砲丸投4",{"$f":"J826&COUNTIF($J$4:J826,J826)","v":"平澤宗也1"},{"$f":"データ貼付!D824&データ貼付!E824","v":"小学男子砲丸投"},{"$f":"データ貼付!G824+ROW()/1000000","v":643.00082599999996},4,{"$f":"データ貼付!A824","v":"小学生ｵﾎｰﾂｸ"},{"$f":"データ貼付!B824","v":"北見"},{"$f":"データ貼付!C824","v":43632},{"$f":"データ貼付!F824","v":"平澤宗也"},{"$f":"データ貼付!G824","v":643},{"$f":"データ貼付!H824","v":"決"},{"$f":"データ貼付!I824","v":"ｵﾎｰﾂｸｷｯｽﾞ"},{"$f":"データ貼付!J824","v":6},{"$f":"データ貼付!K824","v":0}]
[824,"中学女子砲丸投21",{"$f":"J827&COUNTIF($J$4:J827,J827)","v":"片川天姫2"},{"$f":"データ貼付!D825&データ貼付!E825","v":"中学女子砲丸投"},{"$f":"データ貼付!G825+ROW()/1000000","v":588.00082699999996},21,{"$f":"データ貼付!A825","v":"中学新人"},{"$f":"データ貼付!B825","v":"網走"},{"$f":"データ貼付!C825","v":43701},{"$f":"データ貼付!F825","v":"片川天姫"},{"$f":"データ貼付!G825","v":588},{"$f":"データ貼付!H825","v":"決"},{"$f":"データ貼付!I825","v":"雄武中"},{"$f":"データ貼付!J825","v":1},{"$f":"データ貼付!K825","v":0}]
[825,"中学男子砲丸投10",{"$f":"J828&COUNTIF($J$4:J828,J828)","v":"豊田琉偉3"},{"$f":"データ貼付!D826&データ貼付!E826","v":"中学男子砲丸投"},{"$f":"データ貼付!G826+ROW()/1000000","v":851.00082799999996},10,{"$f":"データ貼付!A826","v":"通信陸上"},{"$f":"データ貼付!B826","v":"網走"},{"$f":"データ貼付!C826","v":43645},{"$f":"データ貼付!F826","v":"豊田琉偉"},{"$f":"データ貼付!G826","v":851},{"$f":"データ貼付!H826","v":"決"},{"$f":"データ貼付!I826","v":"遠軽中"},{"$f":"データ貼付!J826","v":3},{"$f":"データ貼付!K826","v":0}]
[826,"中学男子砲丸投57",{"$f":"J829&COUNTIF($J$4:J829,J829)","v":"北村隼人3"},{"$f":"データ貼付!D827&データ貼付!E827","v":"中学男子砲丸投"},{"$f":"データ貼付!G827+ROW()/1000000","v":493.00082900000001},57,{"$f":"データ貼付!A827","v":"中体連地区"},{"$f":"データ貼付!B827","v":"北見"},{"$f":"データ貼付!C827","v":43630},{"$f":"データ貼付!F827","v":"北村隼人"},{"$f":"データ貼付!G827","v":493},{"$f":"データ貼付!H827","v":"決"},{"$f":"データ貼付!I827","v":"北見北光中"},{"$f":"データ貼付!J827","v":2},{"$f":"データ貼付!K827","v":0}]
[827,"高校女子砲丸投8",{"$f":"J830&COUNTIF($J$4:J830,J830)","v":"牧田あみ3"},{"$f":"データ貼付!D828&データ貼付!E828","v":"高校女子砲丸投"},{"$f":"データ貼付!G828+ROW()/1000000","v":762.00082999999995},8,{"$f":"データ貼付!A828","v":"高体連支部"},{"$f":"データ貼付!B828","v":"北見"},{"$f":"データ貼付!C828","v":43610},{"$f":"データ貼付!F828","v":"牧田あみ"},{"$f":"データ貼付!G828","v":762},{"$f":"データ貼付!H828","v":"決"},{"$f":"データ貼付!I828","v":"網走南ヶ丘高"},{"$f":"データ貼付!J828","v":3},{"$f":"データ貼付!K828","v":0}]
[828,"一般男子砲丸投1",{"$f":"J831&COUNTIF($J$4:J831,J831)","v":"本間勝人2"},{"$f":"データ貼付!D829&データ貼付!E829","v":"一般男子砲丸投"},{"$f":"データ貼付!G829+ROW()/1000000","v":1479.0008310000001},1,{"$f":"データ貼付!A829","v":"道選手権"},{"$f":"データ貼付!B829","v":"網走"},{"$f":"データ貼付!C829","v":43687},{"$f":"データ貼付!F829","v":"本間勝人"},{"$f":"データ貼付!G829","v":1479},{"$f":"データ貼付!H829","v":"決"},{"$f":"データ貼付!I829","v":"オホーツクAC"},{"$f":"データ貼付!J829","v":0},{"$f":"データ貼付!K829","v":0}]
[829,"小学男子砲丸投2",{"$f":"J832&COUNTIF($J$4:J832,J832)","v":"本田愛斗2"},{"$f":"データ貼付!D830&データ貼付!E830","v":"小学男子砲丸投"},{"$f":"データ貼付!G830+ROW()/1000000","v":709.00083199999995},2,{"$f":"データ貼付!A830","v":"全道小学"},{"$f":"データ貼付!B830","v":"札幌"},{"$f":"データ貼付!C830","v":43661},{"$f":"データ貼付!F830","v":"本田愛斗"},{"$f":"データ貼付!G830","v":709},{"$f":"データ貼付!H830","v":"決"},{"$f":"データ貼付!I830","v":"網走陸上少年団"},{"$f":"データ貼付!J830","v":6},{"$f":"データ貼付!K830","v":0}]
[830,"小学男子砲丸投6",{"$f":"J833&COUNTIF($J$4:J833,J833)","v":"本田櫂晴3"},{"$f":"データ貼付!D831&データ貼付!E831","v":"小学男子砲丸投"},{"$f":"データ貼付!G831+ROW()/1000000","v":566.00083299999994},6,{"$f":"データ貼付!A831","v":"フィールド記録会"},{"$f":"データ貼付!B831","v":"網走"},{"$f":"データ貼付!C831","v":43624},{"$f":"データ貼付!F831","v":"本田櫂晴"},{"$f":"データ貼付!G831","v":566},{"$f":"データ貼付!H831","v":"決"},{"$f":"データ貼付!I831","v":"ｵﾎｰﾂｸｷｯｽﾞ"},{"$f":"データ貼付!J831","v":5},{"$f":"データ貼付!K831","v":0}]
[831,"中学男子砲丸投50",{"$f":"J834&COUNTIF($J$4:J834,J834)","v":"木内健太郎3"},{"$f":"データ貼付!D832&データ貼付!E832","v":"中学男子砲丸投"},{"$f":"データ貼付!G832+ROW()/1000000","v":535.00083400000005},50,{"$f":"データ貼付!A832","v":"記録会第１戦"},{"$f":"データ貼付!B832","v":"北見"},{"$f":"データ貼付!C832","v":43583},{"$f":"データ貼付!F832","v":"木内健太郎"},{"$f":"データ貼付!G832","v":535},{"$f":"データ貼付!H832","v":"決"},{"$f":"データ貼付!I832","v":"遠軽中"},{"$f":"データ貼付!J832","v":2},{"$f":"データ貼付!K832","v":0}]
[832,"高校女子砲丸投1",{"$f":"J835&COUNTIF($J$4:J835,J835)","v":"木幡遥香3"},{"$f":"データ貼付!D833&データ貼付!E833","v":"高校女子砲丸投"},{"$f":"データ貼付!G833+ROW()/1000000","v":1143.0008350000001},1,{"$f":"データ貼付!A833","v":"国体予選"},{"$f":"データ貼付!B833","v":"室蘭"},{"$f":"データ貼付!C833","v":43666},{"$f":"データ貼付!F833","v":"木幡遥香"},{"$f":"データ貼付!G833","v":1143},{"$f":"データ貼付!H833","v":"決"},{"$f":"データ貼付!I833","v":"網走南ヶ丘高"},{"$f":"データ貼付!J833","v":2},{"$f":"データ貼付!K833","v":0}]
[833,"高校男子砲丸投28",{"$f":"J836&COUNTIF($J$4:J836,J836)","v":"野崎竜矢3"},{"$f":"データ貼付!D834&データ貼付!E834","v":"高校男子砲丸投"},{"$f":"データ貼付!G834+ROW()/1000000","v":698.00083600000005},28,{"$f":"データ貼付!A834","v":"高校新人"},{"$f":"データ貼付!B834","v":"網走"},{"$f":"データ貼付!C834","v":43700},{"$f":"データ貼付!F834","v":"野崎竜矢"},{"$f":"データ貼付!G834","v":698},{"$f":"データ貼付!H834","v":"決"},{"$f":"データ貼付!I834","v":"網走南ヶ丘高"},{"$f":"データ貼付!J834","v":1},{"$f":"データ貼付!K834","v":0}]
[834,{"$f":"D837&F837","v":"高校男子砲丸投13"},{"$f":"J837&COUNTIF($J$4:J837,J837)","v":"野中涼汰3"},{"$f":"データ貼付!D835&データ貼付!E835","v":"高校男子砲丸投"},{"$f":"データ貼付!G835+ROW()/1000000","v":919.00083700000005},{"$f":"SUMPRODUCT(($D$4:$D$903=D837)*($E$4:$E$903>E837))+1","v":13},{"$f":"データ貼付!A835","v":"高体連支部"},{"$f":"データ貼付!B835","v":"北見"},{"$f":"データ貼付!C835","v":43610},{"$f":"データ貼付!F835","v":"野中涼汰"},{"$f":"データ貼付!G835","v":919},{"$f":"データ貼付!H835","v":"決"},{"$f":"データ貼付!I835","v":"北見柏陽高"},{"$f":"データ貼付!J835","v":3},{"$f":"データ貼付!K835","v":0}]
[835,"中学男子砲丸投5",{"$f":"J838&COUNTIF($J$4:J838,J838)","v":"野長瀬鉄騎1"},{"$f":"データ貼付!D836&データ貼付!E836","v":"中学男子砲丸投"},{"$f":"データ貼付!G836+ROW()/1000000","v":993.00083800000004},5,{"$f":"データ貼付!A836","v":"道ジュニア"},{"$f":"データ貼付!B836","v":"釧路"},{"$f":"データ貼付!C836","v":43709},{"$f":"データ貼付!F836","v":"野長瀬鉄騎"},{"$f":"データ貼付!G836","v":993},{"$f":"データ貼付!H836","v":"決"},{"$f":"データ貼付!I836","v":"北見高栄中"},{"$f":"データ貼付!J836","v":2},{"$f":"データ貼付!K836","v":0}]
[836,"中学男子砲丸投17",{"$f":"J839&COUNTIF($J$4:J839,J839)","v":"林和弘1"},{"$f":"データ貼付!D837&データ貼付!E837","v":"中学男子砲丸投"},{"$f":"データ貼付!G837+ROW()/1000000","v":782.00083900000004},17,{"$f":"データ貼付!A837","v":"中体連地区"},{"$f":"データ貼付!B837","v":"北見"},{"$f":"データ貼付!C837","v":43631},{"$f":"データ貼付!F837","v":"林和弘"},{"$f":"データ貼付!G837","v":782},{"$f":"データ貼付!H837","v":"決"},{"$f":"データ貼付!I837","v":"清里中"},{"$f":"データ貼付!J837","v":1},{"$f":"データ貼付!K837","v":0}]
[837,"中学男子砲丸投4",{"$f":"J840&COUNTIF($J$4:J840,J840)","v":"鈴木康世2"},{"$f":"データ貼付!D838&データ貼付!E838","v":"中学男子砲丸投"},{"$f":"データ貼付!G838+ROW()/1000000","v":1002.00084},4,{"$f":"データ貼付!A838","v":"秋季陸上"},{"$f":"データ貼付!B838","v":"網走"},{"$f":"データ貼付!C838","v":43715},{"$f":"データ貼付!F838","v":"鈴木康世"},{"$f":"データ貼付!G838","v":1002},{"$f":"データ貼付!H838","v":"決"},{"$f":"データ貼付!I838","v":"北見高栄中"},{"$f":"データ貼付!J838","v":3},{"$f":"データ貼付!K838","v":0}]
[838,"中学男子砲丸投47",{"$f":"J841&COUNTIF($J$4:J841,J841)","v":"鈴木昂英1"},{"$f":"データ貼付!D839&データ貼付!E839","v":"中学男子砲丸投"},{"$f":"データ貼付!G839+ROW()/1000000","v":553.00084100000004},47,{"$f":"データ貼付!A839","v":"中学新人"},{"$f":"データ貼付!B839","v":"網走"},{"$f":"データ貼付!C839","v":43701},{"$f":"データ貼付!F839","v":"鈴木昂英"},{"$f":"データ貼付!G839","v":553},{"$f":"データ貼付!H839","v":"決"},{"$f":"データ貼付!I839","v":"北見高栄中"},{"$f":"データ貼付!J839","v":1},{"$f":"データ貼付!K839","v":0}]
[839,"高校男子砲丸投10",{"$f":"J842&COUNTIF($J$4:J842,J842)","v":"鈴木悠斗1"},{"$f":"データ貼付!D840&データ貼付!E840","v":"高校男子砲丸投"},{"$f":"データ貼付!G840+ROW()/1000000","v":992.00084200000003},10,{"$f":"データ貼付!A840","v":"全道高校新人"},{"$f":"データ貼付!B840","v":"函館"},{"$f":"データ貼付!C840","v":" 9/19"},{"$f":"データ貼付!F840","v":"鈴木悠斗"},{"$f":"データ貼付!G840","v":992},{"$f":"データ貼付!H840","v":"予"},{"$f":"データ貼付!I840","v":"北見柏陽高"},{"$f":"データ貼付!J840","v":2},{"$f":"データ貼付!K840","v":0}]
[840,"中学女子砲丸投19",{"$f":"J843&COUNTIF($J$4:J843,J843)","v":"麓妃那1"},{"$f":"データ貼付!D841&データ貼付!E841","v":"中学女子砲丸投"},{"$f":"データ貼付!G841+ROW()/1000000","v":603.00084300000003},19,{"$f":"データ貼付!A841","v":"秋季陸上"},{"$f":"データ貼付!B841","v":"網走"},{"$f":"データ貼付!C841","v":43716},{"$f":"データ貼付!F841","v":"麓妃那"},{"$f":"データ貼付!G841","v":603},{"$f":"データ貼付!H841","v":"決"},{"$f":"データ貼付!I841","v":"北見高栄中"},{"$f":"データ貼付!J841","v":1},{"$f":"データ貼付!K841","v":0}]
[841,"中学男子砲丸投38",{"$f":"J844&COUNTIF($J$4:J844,J844)","v":"和田湊1"},{"$f":"データ貼付!D842&データ貼付!E842","v":"中学男子砲丸投"},{"$f":"データ貼付!G842+ROW()/1000000","v":629.00084400000003},38,{"$f":"データ貼付!A842","v":"中学新人"},{"$f":"データ貼付!B842","v":"網走"},{"$f":"データ貼付!C842","v":43701},{"$f":"データ貼付!F842","v":"和田湊"},{"$f":"データ貼付!G842","v":629},{"$f":"データ貼付!H842","v":"決"},{"$f":"データ貼付!I842","v":"紋別中"},{"$f":"データ貼付!J842","v":2},{"$f":"データ貼付!K842","v":0}]
[842,"中学男子砲丸投36",{"$f":"J845&COUNTIF($J$4:J845,J845)","v":"橫松大輝1"},{"$f":"データ貼付!D843&データ貼付!E843","v":"中学男子砲丸投"},{"$f":"データ貼付!G843+ROW()/1000000","v":640.00084500000003},36,{"$f":"データ貼付!A843","v":"記録会第１戦"},{"$f":"データ貼付!B843","v":"北見"},{"$f":"データ貼付!C843","v":43583},{"$f":"データ貼付!F843","v":"橫松大輝"},{"$f":"データ貼付!G843","v":640},{"$f":"データ貼付!H843","v":"決"},{"$f":"データ貼付!I843","v":"美幌中"},{"$f":"データ貼付!J843","v":2},{"$f":"データ貼付!K843","v":0}]
[843,"58",{"$f":"J846&COUNTIF($J$4:J846,J846)","v":"01"},{"$f":"データ貼付!D844&データ貼付!E844","v":""},{"$f":"データ貼付!G844+ROW()/1000000","v":8.4599999999999996E-4},58,{"$f":"データ貼付!A844","v":0},{"$f":"データ貼付!B844","v":0},{"$f":"データ貼付!C844","v":0},{"$f":"データ貼付!F844","v":0},{"$f":"データ貼付!G844","v":0},{"$f":"データ貼付!H844","v":0},{"$f":"データ貼付!I844","v":0},{"$f":"データ貼付!J844","v":0},{"$f":"データ貼付!K844","v":0}]
[844,"57",{"$f":"J847&COUNTIF($J$4:J847,J847)","v":"02"},{"$f":"データ貼付!D845&データ貼付!E845","v":""},{"$f":"データ貼付!G845+ROW()/1000000","v":8.4699999999999999E-4},57,{"$f":"データ貼付!A845","v":0},{"$f":"データ貼付!B845","v":0},{"$f":"データ貼付!C845","v":0},{"$f":"データ貼付!F845","v":0},{"$f":"データ貼付!G845","v":0},{"$f":"データ貼付!H845","v":0},{"$f":"データ貼付!I845","v":0},{"$f":"データ貼付!J845","v":0},{"$f":"データ貼付!K845","v":0}]
[845,"56",{"$f":"J848&COUNTIF($J$4:J848,J848)","v":"03"},{"$f":"データ貼付!D846&データ貼付!E846","v":""},{"$f":"データ貼付!G846+ROW()/1000000","v":8.4800000000000001E-4},56,{"$f":"データ貼付!A846","v":0},{"$f":"データ貼付!B846","v":0},{"$f":"データ貼付!C846","v":0},{"$f":"データ貼付!F846","v":0},{"$f":"データ貼付!G846","v":0},{"$f":"データ貼付!H846","v":0},{"$f":"データ貼付!I846","v":0},{"$f":"データ貼付!J846","v":0},{"$f":"データ貼付!K846","v":0}]
[846,"55",{"$f":"J849&COUNTIF($J$4:J849,J849)","v":"04"},{"$f":"データ貼付!D847&データ貼付!E847","v":""},{"$f":"データ貼付!G847+ROW()/1000000","v":8.4900000000000004E-4},55,{"$f":"データ貼付!A847","v":0},{"$f":"データ貼付!B847","v":0},{"$f":"データ貼付!C847","v":0},{"$f":"データ貼付!F847","v":0},{"$f":"データ貼付!G847","v":0},{"$f":"データ貼付!H847","v":0},{"$f":"データ貼付!I847","v":0},{"$f":"データ貼付!J847","v":0},{"$f":"データ貼付!K847","v":0}]
[847,"54",{"$f":"J850&COUNTIF($J$4:J850,J850)","v":"05"},{"$f":"データ貼付!D848&データ貼付!E848","v":""},{"$f":"データ貼付!G848+ROW()/1000000","v":8.4999999999999995E-4},54,{"$f":"データ貼付!A848","v":0},{"$f":"データ貼付!B848","v":0},{"$f":"データ貼付!C848","v":0},{"$f":"データ貼付!F848","v":0},{"$f":"データ貼付!G848","v":0},{"$f":"データ貼付!H848","v":0},{"$f":"データ貼付!I848","v":0},{"$f":"データ貼付!J848","v":0},{"$f":"データ貼付!K848","v":0}]
[848,"53",{"$f":"J851&COUNTIF($J$4:J851,J851)","v":"06"},{"$f":"データ貼付!D849&データ貼付!E849","v":""},{"$f":"データ貼付!G849+ROW()/1000000","v":8.5099999999999998E-4},53,{"$f":"データ貼付!A849","v":0},{"$f":"データ貼付!B849","v":0},{"$f":"データ貼付!C849","v":0},{"$f":"データ貼付!F849","v":0},{"$f":"データ貼付!G849","v":0},{"$f":"データ貼付!H849","v":0},{"$f":"データ貼付!I849","v":0},{"$f":"データ貼付!J849","v":0},{"$f":"データ貼付!K849","v":0}]
[849,"52",{"$f":"J852&COUNTIF($J$4:J852,J852)","v":"07"},{"$f":"データ貼付!D850&データ貼付!E850","v":""},{"$f":"データ貼付!G850+ROW()/1000000","v":8.52E-4},52,{"$f":"データ貼付!A850","v":0},{"$f":"データ貼付!B850","v":0},{"$f":"データ貼付!C850","v":0},{"$f":"データ貼付!F850","v":0},{"$f":"データ貼付!G850","v":0},{"$f":"データ貼付!H850","v":0},{"$f":"データ貼付!I850","v":0},{"$f":"データ貼付!J850","v":0},{"$f":"データ貼付!K850","v":0}]
[850,"51",{"$f":"J853&COUNTIF($J$4:J853,J853)","v":"08"},{"$f":"データ貼付!D851&データ貼付!E851","v":""},{"$f":"データ貼付!G851+ROW()/1000000","v":8.5300000000000003E-4},51,{"$f":"データ貼付!A851","v":0},{"$f":"データ貼付!B851","v":0},{"$f":"データ貼付!C851","v":0},{"$f":"データ貼付!F851","v":0},{"$f":"データ貼付!G851","v":0},{"$f":"データ貼付!H851","v":0},{"$f":"データ貼付!I851","v":0},{"$f":"データ貼付!J851","v":0},{"$f":"データ貼付!K851","v":0}]
[851,"50",{"$f":"J854&COUNTIF($J$4:J854,J854)","v":"09"},{"$f":"データ貼付!D852&データ貼付!E852","v":""},{"$f":"データ貼付!G852+ROW()/1000000","v":8.5400000000000005E-4},50,{"$f":"データ貼付!A852","v":0},{"$f":"データ貼付!B852","v":0},{"$f":"データ貼付!C852","v":0},{"$f":"データ貼付!F852","v":0},{"$f":"データ貼付!G852","v":0},{"$f":"データ貼付!H852","v":0},{"$f":"データ貼付!I852","v":0},{"$f":"データ貼付!J852","v":0},{"$f":"データ貼付!K852","v":0}]
[852,"49",{"$f":"J855&COUNTIF($J$4:J855,J855)","v":"010"},{"$f":"データ貼付!D853&データ貼付!E853","v":""},{"$f":"データ貼付!G853+ROW()/1000000","v":8.5499999999999997E-4},49,{"$f":"データ貼付!A853","v":0},{"$f":"データ貼付!B853","v":0},{"$f":"データ貼付!C853","v":0},{"$f":"データ貼付!F853","v":0},{"$f":"データ貼付!G853","v":0},{"$f":"データ貼付!H853","v":0},{"$f":"データ貼付!I853","v":0},{"$f":"データ貼付!J853","v":0},{"$f":"データ貼付!K853","v":0}]
[853,"48",{"$f":"J856&COUNTIF($J$4:J856,J856)","v":"011"},{"$f":"データ貼付!D854&データ貼付!E854","v":""},{"$f":"データ貼付!G854+ROW()/1000000","v":8.5599999999999999E-4},48,{"$f":"データ貼付!A854","v":0},{"$f":"データ貼付!B854","v":0},{"$f":"データ貼付!C854","v":0},{"$f":"データ貼付!F854","v":0},{"$f":"データ貼付!G854","v":0},{"$f":"データ貼付!H854","v":0},{"$f":"データ貼付!I854","v":0},{"$f":"データ貼付!J854","v":0},{"$f":"データ貼付!K854","v":0}]
[854,"47",{"$f":"J857&COUNTIF($J$4:J857,J857)","v":"012"},{"$f":"データ貼付!D855&データ貼付!E855","v":""},{"$f":"データ貼付!G855+ROW()/1000000","v":8.5700000000000001E-4},47,{"$f":"データ貼付!A855","v":0},{"$f":"データ貼付!B855","v":0},{"$f":"データ貼付!C855","v":0},{"$f":"データ貼付!F855","v":0},{"$f":"データ貼付!G855","v":0},{"$f":"データ貼付!H855","v":0},{"$f":"データ貼付!I855","v":0},{"$f":"データ貼付!J855","v":0},{"$f":"データ貼付!K855","v":0}]
[855,"46",{"$f":"J858&COUNTIF($J$4:J858,J858)","v":"013"},{"$f":"データ貼付!D856&データ貼付!E856","v":""},{"$f":"データ貼付!G856+ROW()/1000000","v":8.5800000000000004E-4},46,{"$f":"データ貼付!A856","v":0},{"$f":"データ貼付!B856","v":0},{"$f":"データ貼付!C856","v":0},{"$f":"データ貼付!F856","v":0},{"$f":"データ貼付!G856","v":0},{"$f":"データ貼付!H856","v":0},{"$f":"データ貼付!I856","v":0},{"$f":"データ貼付!J856","v":0},{"$f":"データ貼付!K856","v":0}]
[856,"45",{"$f":"J859&COUNTIF($J$4:J859,J859)","v":"014"},{"$f":"データ貼付!D857&データ貼付!E857","v":""},{"$f":"データ貼付!G857+ROW()/1000000","v":8.5899999999999995E-4},45,{"$f":"データ貼付!A857","v":0},{"$f":"データ貼付!B857","v":0},{"$f":"データ貼付!C857","v":0},{"$f":"データ貼付!F857","v":0},{"$f":"データ貼付!G857","v":0},{"$f":"データ貼付!H857","v":0},{"$f":"データ貼付!I857","v":0},{"$f":"データ貼付!J857","v":0},{"$f":"データ貼付!K857","v":0}]
[857,"44",{"$f":"J860&COUNTIF($J$4:J860,J860)","v":"015"},{"$f":"データ貼付!D858&データ貼付!E858","v":""},{"$f":"データ貼付!G858+ROW()/1000000","v":8.5999999999999998E-4},44,{"$f":"データ貼付!A858","v":0},{"$f":"データ貼付!B858","v":0},{"$f":"データ貼付!C858","v":0},{"$f":"データ貼付!F858","v":0},{"$f":"データ貼付!G858","v":0},{"$f":"データ貼付!H858","v":0},{"$f":"データ貼付!I858","v":0},{"$f":"データ貼付!J858","v":0},{"$f":"データ貼付!K858","v":0}]
[858,"43",{"$f":"J861&COUNTIF($J$4:J861,J861)","v":"016"},{"$f":"データ貼付!D859&データ貼付!E859","v":""},{"$f":"データ貼付!G859+ROW()/1000000","v":8.61E-4},43,{"$f":"データ貼付!A859","v":0},{"$f":"データ貼付!B859","v":0},{"$f":"データ貼付!C859","v":0},{"$f":"データ貼付!F859","v":0},{"$f":"データ貼付!G859","v":0},{"$f":"データ貼付!H859","v":0},{"$f":"データ貼付!I859","v":0},{"$f":"データ貼付!J859","v":0},{"$f":"データ貼付!K859","v":0}]
[859,"42",{"$f":"J862&COUNTIF($J$4:J862,J862)","v":"017"},{"$f":"データ貼付!D860&データ貼付!E860","v":""},{"$f":"データ貼付!G860+ROW()/1000000","v":8.6200000000000003E-4},42,{"$f":"データ貼付!A860","v":0},{"$f":"データ貼付!B860","v":0},{"$f":"データ貼付!C860","v":0},{"$f":"データ貼付!F860","v":0},{"$f":"データ貼付!G860","v":0},{"$f":"データ貼付!H860","v":0},{"$f":"データ貼付!I860","v":0},{"$f":"データ貼付!J860","v":0},{"$f":"データ貼付!K860","v":0}]
[860,"41",{"$f":"J863&COUNTIF($J$4:J863,J863)","v":"018"},{"$f":"データ貼付!D861&データ貼付!E861","v":""},{"$f":"データ貼付!G861+ROW()/1000000","v":8.6300000000000005E-4},41,{"$f":"データ貼付!A861","v":0},{"$f":"データ貼付!B861","v":0},{"$f":"データ貼付!C861","v":0},{"$f":"データ貼付!F861","v":0},{"$f":"データ貼付!G861","v":0},{"$f":"データ貼付!H861","v":0},{"$f":"データ貼付!I861","v":0},{"$f":"データ貼付!J861","v":0},{"$f":"データ貼付!K861","v":0}]
[861,"40",{"$f":"J864&COUNTIF($J$4:J864,J864)","v":"019"},{"$f":"データ貼付!D862&データ貼付!E862","v":""},{"$f":"データ貼付!G862+ROW()/1000000","v":8.6399999999999997E-4},40,{"$f":"データ貼付!A862","v":0},{"$f":"データ貼付!B862","v":0},{"$f":"データ貼付!C862","v":0},{"$f":"データ貼付!F862","v":0},{"$f":"データ貼付!G862","v":0},{"$f":"データ貼付!H862","v":0},{"$f":"データ貼付!I862","v":0},{"$f":"データ貼付!J862","v":0},{"$f":"データ貼付!K862","v":0}]
[862,"39",{"$f":"J865&COUNTIF($J$4:J865,J865)","v":"020"},{"$f":"データ貼付!D863&データ貼付!E863","v":""},{"$f":"データ貼付!G863+ROW()/1000000","v":8.6499999999999999E-4},39,{"$f":"データ貼付!A863","v":0},{"$f":"データ貼付!B863","v":0},{"$f":"データ貼付!C863","v":0},{"$f":"データ貼付!F863","v":0},{"$f":"データ貼付!G863","v":0},{"$f":"データ貼付!H863","v":0},{"$f":"データ貼付!I863","v":0},{"$f":"データ貼付!J863","v":0},{"$f":"データ貼付!K863","v":0}]
[863,"38",{"$f":"J866&COUNTIF($J$4:J866,J866)","v":"021"},{"$f":"データ貼付!D864&データ貼付!E864","v":""},{"$f":"データ貼付!G864+ROW()/1000000","v":8.6600000000000002E-4},38,{"$f":"データ貼付!A864","v":0},{"$f":"データ貼付!B864","v":0},{"$f":"データ貼付!C864","v":0},{"$f":"データ貼付!F864","v":0},{"$f":"データ貼付!G864","v":0},{"$f":"データ貼付!H864","v":0},{"$f":"データ貼付!I864","v":0},{"$f":"データ貼付!J864","v":0},{"$f":"データ貼付!K864","v":0}]
[864,"37",{"$f":"J867&COUNTIF($J$4:J867,J867)","v":"022"},{"$f":"データ貼付!D865&データ貼付!E865","v":""},{"$f":"データ貼付!G865+ROW()/1000000","v":8.6700000000000004E-4},37,{"$f":"データ貼付!A865","v":0},{"$f":"データ貼付!B865","v":0},{"$f":"データ貼付!C865","v":0},{"$f":"データ貼付!F865","v":0},{"$f":"データ貼付!G865","v":0},{"$f":"データ貼付!H865","v":0},{"$f":"データ貼付!I865","v":0},{"$f":"データ貼付!J865","v":0},{"$f":"データ貼付!K865","v":0}]
[865,"36",{"$f":"J868&COUNTIF($J$4:J868,J868)","v":"023"},{"$f":"データ貼付!D866&データ貼付!E866","v":""},{"$f":"データ貼付!G866+ROW()/1000000","v":8.6799999999999996E-4},36,{"$f":"データ貼付!A866","v":0},{"$f":"データ貼付!B866","v":0},{"$f":"データ貼付!C866","v":0},{"$f":"データ貼付!F866","v":0},{"$f":"データ貼付!G866","v":0},{"$f":"データ貼付!H866","v":0},{"$f":"データ貼付!I866","v":0},{"$f":"データ貼付!J866","v":0},{"$f":"データ貼付!K866","v":0}]
[866,"35",{"$f":"J869&COUNTIF($J$4:J869,J869)","v":"024"},{"$f":"データ貼付!D867&データ貼付!E867","v":""},{"$f":"データ貼付!G867+ROW()/1000000","v":8.6899999999999998E-4},35,{"$f":"データ貼付!A867","v":0},{"$f":"データ貼付!B867","v":0},{"$f":"データ貼付!C867","v":0},{"$f":"データ貼付!F867","v":0},{"$f":"データ貼付!G867","v":0},{"$f":"データ貼付!H867","v":0},{"$f":"データ貼付!I867","v":0},{"$f":"データ貼付!J867","v":0},{"$f":"データ貼付!K867","v":0}]
[867,"34",{"$f":"J870&COUNTIF($J$4:J870,J870)","v":"025"},{"$f":"データ貼付!D868&データ貼付!E868","v":""},{"$f":"データ貼付!G868+ROW()/1000000","v":8.7000000000000001E-4},34,{"$f":"データ貼付!A868","v":0},{"$f":"データ貼付!B868","v":0},{"$f":"データ貼付!C868","v":0},{"$f":"データ貼付!F868","v":0},{"$f":"データ貼付!G868","v":0},{"$f":"データ貼付!H868","v":0},{"$f":"データ貼付!I868","v":0},{"$f":"データ貼付!J868","v":0},{"$f":"データ貼付!K868","v":0}]
[868,"33",{"$f":"J871&COUNTIF($J$4:J871,J871)","v":"026"},{"$f":"データ貼付!D869&データ貼付!E869","v":""},{"$f":"データ貼付!G869+ROW()/1000000","v":8.7100000000000003E-4},33,{"$f":"データ貼付!A869","v":0},{"$f":"データ貼付!B869","v":0},{"$f":"データ貼付!C869","v":0},{"$f":"データ貼付!F869","v":0},{"$f":"データ貼付!G869","v":0},{"$f":"データ貼付!H869","v":0},{"$f":"データ貼付!I869","v":0},{"$f":"データ貼付!J869","v":0},{"$f":"データ貼付!K869","v":0}]
[869,"32",{"$f":"J872&COUNTIF($J$4:J872,J872)","v":"027"},{"$f":"データ貼付!D870&データ貼付!E870","v":""},{"$f":"データ貼付!G870+ROW()/1000000","v":8.7200000000000005E-4},32,{"$f":"データ貼付!A870","v":0},{"$f":"データ貼付!B870","v":0},{"$f":"データ貼付!C870","v":0},{"$f":"データ貼付!F870","v":0},{"$f":"データ貼付!G870","v":0},{"$f":"データ貼付!H870","v":0},{"$f":"データ貼付!I870","v":0},{"$f":"データ貼付!J870","v":0},{"$f":"データ貼付!K870","v":0}]
[870,"31",{"$f":"J873&COUNTIF($J$4:J873,J873)","v":"028"},{"$f":"データ貼付!D871&データ貼付!E871","v":""},{"$f":"データ貼付!G871+ROW()/1000000","v":8.7299999999999997E-4},31,{"$f":"データ貼付!A871","v":0},{"$f":"データ貼付!B871","v":0},{"$f":"データ貼付!C871","v":0},{"$f":"データ貼付!F871","v":0},{"$f":"データ貼付!G871","v":0},{"$f":"データ貼付!H871","v":0},{"$f":"データ貼付!I871","v":0},{"$f":"データ貼付!J871","v":0},{"$f":"データ貼付!K871","v":0}]
[871,"30",{"$f":"J874&COUNTIF($J$4:J874,J874)","v":"029"},{"$f":"データ貼付!D872&データ貼付!E872","v":""},{"$f":"データ貼付!G872+ROW()/1000000","v":8.7399999999999999E-4},30,{"$f":"データ貼付!A872","v":0},{"$f":"データ貼付!B872","v":0},{"$f":"データ貼付!C872","v":0},{"$f":"データ貼付!F872","v":0},{"$f":"データ貼付!G872","v":0},{"$f":"データ貼付!H872","v":0},{"$f":"データ貼付!I872","v":0},{"$f":"データ貼付!J872","v":0},{"$f":"データ貼付!K872","v":0}]
[872,"29",{"$f":"J875&COUNTIF($J$4:J875,J875)","v":"030"},{"$f":"データ貼付!D873&データ貼付!E873","v":""},{"$f":"データ貼付!G873+ROW()/1000000","v":8.7500000000000002E-4},29,{"$f":"データ貼付!A873","v":0},{"$f":"データ貼付!B873","v":0},{"$f":"データ貼付!C873","v":0},{"$f":"データ貼付!F873","v":0},{"$f":"データ貼付!G873","v":0},{"$f":"データ貼付!H873","v":0},{"$f":"データ貼付!I873","v":0},{"$f":"データ貼付!J873","v":0},{"$f":"データ貼付!K873","v":0}]
[873,"28",{"$f":"J876&COUNTIF($J$4:J876,J876)","v":"031"},{"$f":"データ貼付!D874&データ貼付!E874","v":""},{"$f":"データ貼付!G874+ROW()/1000000","v":8.7600000000000004E-4},28,{"$f":"データ貼付!A874","v":0},{"$f":"データ貼付!B874","v":0},{"$f":"データ貼付!C874","v":0},{"$f":"データ貼付!F874","v":0},{"$f":"データ貼付!G874","v":0},{"$f":"データ貼付!H874","v":0},{"$f":"データ貼付!I874","v":0},{"$f":"データ貼付!J874","v":0},{"$f":"データ貼付!K874","v":0}]
[874,"27",{"$f":"J877&COUNTIF($J$4:J877,J877)","v":"032"},{"$f":"データ貼付!D875&データ貼付!E875","v":""},{"$f":"データ貼付!G875+ROW()/1000000","v":8.7699999999999996E-4},27,{"$f":"データ貼付!A875","v":0},{"$f":"データ貼付!B875","v":0},{"$f":"データ貼付!C875","v":0},{"$f":"データ貼付!F875","v":0},{"$f":"データ貼付!G875","v":0},{"$f":"データ貼付!H875","v":0},{"$f":"データ貼付!I875","v":0},{"$f":"データ貼付!J875","v":0},{"$f":"データ貼付!K875","v":0}]
[875,"26",{"$f":"J878&COUNTIF($J$4:J878,J878)","v":"033"},{"$f":"データ貼付!D876&データ貼付!E876","v":""},{"$f":"データ貼付!G876+ROW()/1000000","v":8.7799999999999998E-4},26,{"$f":"データ貼付!A876","v":0},{"$f":"データ貼付!B876","v":0},{"$f":"データ貼付!C876","v":0},{"$f":"データ貼付!F876","v":0},{"$f":"データ貼付!G876","v":0},{"$f":"データ貼付!H876","v":0},{"$f":"データ貼付!I876","v":0},{"$f":"データ貼付!J876","v":0},{"$f":"データ貼付!K876","v":0}]
[876,"25",{"$f":"J879&COUNTIF($J$4:J879,J879)","v":"034"},{"$f":"データ貼付!D877&データ貼付!E877","v":""},{"$f":"データ貼付!G877+ROW()/1000000","v":8.7900000000000001E-4},25,{"$f":"データ貼付!A877","v":0},{"$f":"データ貼付!B877","v":0},{"$f":"データ貼付!C877","v":0},{"$f":"データ貼付!F877","v":0},{"$f":"データ貼付!G877","v":0},{"$f":"データ貼付!H877","v":0},{"$f":"データ貼付!I877","v":0},{"$f":"データ貼付!J877","v":0},{"$f":"データ貼付!K877","v":0}]
[877,"24",{"$f":"J880&COUNTIF($J$4:J880,J880)","v":"035"},{"$f":"データ貼付!D878&データ貼付!E878","v":""},{"$f":"データ貼付!G878+ROW()/1000000","v":8.8000000000000003E-4},24,{"$f":"データ貼付!A878","v":0},{"$f":"データ貼付!B878","v":0},{"$f":"データ貼付!C878","v":0},{"$f":"データ貼付!F878","v":0},{"$f":"データ貼付!G878","v":0},{"$f":"データ貼付!H878","v":0},{"$f":"データ貼付!I878","v":0},{"$f":"データ貼付!J878","v":0},{"$f":"データ貼付!K878","v":0}]
[878,"23",{"$f":"J881&COUNTIF($J$4:J881,J881)","v":"036"},{"$f":"データ貼付!D879&データ貼付!E879","v":""},{"$f":"データ貼付!G879+ROW()/1000000","v":8.8099999999999995E-4},23,{"$f":"データ貼付!A879","v":0},{"$f":"データ貼付!B879","v":0},{"$f":"データ貼付!C879","v":0},{"$f":"データ貼付!F879","v":0},{"$f":"データ貼付!G879","v":0},{"$f":"データ貼付!H879","v":0},{"$f":"データ貼付!I879","v":0},{"$f":"データ貼付!J879","v":0},{"$f":"データ貼付!K879","v":0}]
[879,"22",{"$f":"J882&COUNTIF($J$4:J882,J882)","v":"037"},{"$f":"データ貼付!D880&データ貼付!E880","v":""},{"$f":"データ貼付!G880+ROW()/1000000","v":8.8199999999999997E-4},22,{"$f":"データ貼付!A880","v":0},{"$f":"データ貼付!B880","v":0},{"$f":"データ貼付!C880","v":0},{"$f":"データ貼付!F880","v":0},{"$f":"データ貼付!G880","v":0},{"$f":"データ貼付!H880","v":0},{"$f":"データ貼付!I880","v":0},{"$f":"データ貼付!J880","v":0},{"$f":"データ貼付!K880","v":0}]
[880,"21",{"$f":"J883&COUNTIF($J$4:J883,J883)","v":"038"},{"$f":"データ貼付!D881&データ貼付!E881","v":""},{"$f":"データ貼付!G881+ROW()/1000000","v":8.83E-4},21,{"$f":"データ貼付!A881","v":0},{"$f":"データ貼付!B881","v":0},{"$f":"データ貼付!C881","v":0},{"$f":"データ貼付!F881","v":0},{"$f":"データ貼付!G881","v":0},{"$f":"データ貼付!H881","v":0},{"$f":"データ貼付!I881","v":0},{"$f":"データ貼付!J881","v":0},{"$f":"データ貼付!K881","v":0}]
[881,"20",{"$f":"J884&COUNTIF($J$4:J884,J884)","v":"039"},{"$f":"データ貼付!D882&データ貼付!E882","v":""},{"$f":"データ貼付!G882+ROW()/1000000","v":8.8400000000000002E-4},20,{"$f":"データ貼付!A882","v":0},{"$f":"データ貼付!B882","v":0},{"$f":"データ貼付!C882","v":0},{"$f":"データ貼付!F882","v":0},{"$f":"データ貼付!G882","v":0},{"$f":"データ貼付!H882","v":0},{"$f":"データ貼付!I882","v":0},{"$f":"データ貼付!J882","v":0},{"$f":"データ貼付!K882","v":0}]
[882,"19",{"$f":"J885&COUNTIF($J$4:J885,J885)","v":"040"},{"$f":"データ貼付!D883&データ貼付!E883","v":""},{"$f":"データ貼付!G883+ROW()/1000000","v":8.8500000000000004E-4},19,{"$f":"データ貼付!A883","v":0},{"$f":"データ貼付!B883","v":0},{"$f":"データ貼付!C883","v":0},{"$f":"データ貼付!F883","v":0},{"$f":"データ貼付!G883","v":0},{"$f":"データ貼付!H883","v":0},{"$f":"データ貼付!I883","v":0},{"$f":"データ貼付!J883","v":0},{"$f":"データ貼付!K883","v":0}]
[883,"18",{"$f":"J886&COUNTIF($J$4:J886,J886)","v":"041"},{"$f":"データ貼付!D884&データ貼付!E884","v":""},{"$f":"データ貼付!G884+ROW()/1000000","v":8.8599999999999996E-4},18,{"$f":"データ貼付!A884","v":0},{"$f":"データ貼付!B884","v":0},{"$f":"データ貼付!C884","v":0},{"$f":"データ貼付!F884","v":0},{"$f":"データ貼付!G884","v":0},{"$f":"データ貼付!H884","v":0},{"$f":"データ貼付!I884","v":0},{"$f":"データ貼付!J884","v":0},{"$f":"データ貼付!K884","v":0}]
[884,"17",{"$f":"J887&COUNTIF($J$4:J887,J887)","v":"042"},{"$f":"データ貼付!D885&データ貼付!E885","v":""},{"$f":"データ貼付!G885+ROW()/1000000","v":8.8699999999999998E-4},17,{"$f":"データ貼付!A885","v":0},{"$f":"データ貼付!B885","v":0},{"$f":"データ貼付!C885","v":0},{"$f":"データ貼付!F885","v":0},{"$f":"データ貼付!G885","v":0},{"$f":"データ貼付!H885","v":0},{"$f":"データ貼付!I885","v":0},{"$f":"データ貼付!J885","v":0},{"$f":"データ貼付!K885","v":0}]
[885,"16",{"$f":"J888&COUNTIF($J$4:J888,J888)","v":"043"},{"$f":"データ貼付!D886&データ貼付!E886","v":""},{"$f":"データ貼付!G886+ROW()/1000000","v":8.8800000000000001E-4},16,{"$f":"データ貼付!A886","v":0},{"$f":"データ貼付!B886","v":0},{"$f":"データ貼付!C886","v":0},{"$f":"データ貼付!F886","v":0},{"$f":"データ貼付!G886","v":0},{"$f":"データ貼付!H886","v":0},{"$f":"データ貼付!I886","v":0},{"$f":"データ貼付!J886","v":0},{"$f":"データ貼付!K886","v":0}]
[886,"15",{"$f":"J889&COUNTIF($J$4:J889,J889)","v":"044"},{"$f":"データ貼付!D887&データ貼付!E887","v":""},{"$f":"データ貼付!G887+ROW()/1000000","v":8.8900000000000003E-4},15,{"$f":"データ貼付!A887","v":0},{"$f":"データ貼付!B887","v":0},{"$f":"データ貼付!C887","v":0},{"$f":"データ貼付!F887","v":0},{"$f":"データ貼付!G887","v":0},{"$f":"データ貼付!H887","v":0},{"$f":"データ貼付!I887","v":0},{"$f":"データ貼付!J887","v":0},{"$f":"データ貼付!K887","v":0}]
[887,"14",{"$f":"J890&COUNTIF($J$4:J890,J890)","v":"045"},{"$f":"データ貼付!D888&データ貼付!E888","v":""},{"$f":"データ貼付!G888+ROW()/1000000","v":8.8999999999999995E-4},14,{"$f":"データ貼付!A888","v":0},{"$f":"データ貼付!B888","v":0},{"$f":"データ貼付!C888","v":0},{"$f":"データ貼付!F888","v":0},{"$f":"データ貼付!G888","v":0},{"$f":"データ貼付!H888","v":0},{"$f":"データ貼付!I888","v":0},{"$f":"データ貼付!J888","v":0},{"$f":"データ貼付!K888","v":0}]
[888,"13",{"$f":"J891&COUNTIF($J$4:J891,J891)","v":"046"},{"$f":"データ貼付!D889&データ貼付!E889","v":""},{"$f":"データ貼付!G889+ROW()/1000000","v":8.9099999999999997E-4},13,{"$f":"データ貼付!A889","v":0},{"$f":"データ貼付!B889","v":0},{"$f":"データ貼付!C889","v":0},{"$f":"データ貼付!F889","v":0},{"$f":"データ貼付!G889","v":0},{"$f":"データ貼付!H889","v":0},{"$f":"データ貼付!I889","v":0},{"$f":"データ貼付!J889","v":0},{"$f":"データ貼付!K889","v":0}]
[889,"12",{"$f":"J892&COUNTIF($J$4:J892,J892)","v":"047"},{"$f":"データ貼付!D890&データ貼付!E890","v":""},{"$f":"データ貼付!G890+ROW()/1000000","v":8.92E-4},12,{"$f":"データ貼付!A890","v":0},{"$f":"データ貼付!B890","v":0},{"$f":"データ貼付!C890","v":0},{"$f":"データ貼付!F890","v":0},{"$f":"データ貼付!G890","v":0},{"$f":"データ貼付!H890","v":0},{"$f":"データ貼付!I890","v":0},{"$f":"データ貼付!J890","v":0},{"$f":"データ貼付!K890","v":0}]
[890,"11",{"$f":"J893&COUNTIF($J$4:J893,J893)","v":"048"},{"$f":"データ貼付!D891&データ貼付!E891","v":""},{"$f":"データ貼付!G891+ROW()/1000000","v":8.9300000000000002E-4},11,{"$f":"データ貼付!A891","v":0},{"$f":"データ貼付!B891","v":0},{"$f":"データ貼付!C891","v":0},{"$f":"データ貼付!F891","v":0},{"$f":"データ貼付!G891","v":0},{"$f":"データ貼付!H891","v":0},{"$f":"データ貼付!I891","v":0},{"$f":"データ貼付!J891","v":0},{"$f":"データ貼付!K891","v":0}]
[891,"10",{"$f":"J894&COUNTIF($J$4:J894,J894)","v":"049"},{"$f":"データ貼付!D892&データ貼付!E892","v":""},{"$f":"データ貼付!G892+ROW()/1000000","v":8.9400000000000005E-4},10,{"$f":"データ貼付!A892","v":0},{"$f":"データ貼付!B892","v":0},{"$f":"データ貼付!C892","v":0},{"$f":"データ貼付!F892","v":0},{"$f":"データ貼付!G892","v":0},{"$f":"データ貼付!H892","v":0},{"$f":"データ貼付!I892","v":0},{"$f":"データ貼付!J892","v":0},{"$f":"データ貼付!K892","v":0}]
[892,"9",{"$f":"J895&COUNTIF($J$4:J895,J895)","v":"050"},{"$f":"データ貼付!D893&データ貼付!E893","v":""},{"$f":"データ貼付!G893+ROW()/1000000","v":8.9499999999999996E-4},9,{"$f":"データ貼付!A893","v":0},{"$f":"データ貼付!B893","v":0},{"$f":"データ貼付!C893","v":0},{"$f":"データ貼付!F893","v":0},{"$f":"データ貼付!G893","v":0},{"$f":"データ貼付!H893","v":0},{"$f":"データ貼付!I893","v":0},{"$f":"データ貼付!J893","v":0},{"$f":"データ貼付!K893","v":0}]
[893,"8",{"$f":"J896&COUNTIF($J$4:J896,J896)","v":"051"},{"$f":"データ貼付!D894&データ貼付!E894","v":""},{"$f":"データ貼付!G894+ROW()/1000000","v":8.9599999999999999E-4},8,{"$f":"データ貼付!A894","v":0},{"$f":"データ貼付!B894","v":0},{"$f":"データ貼付!C894","v":0},{"$f":"データ貼付!F894","v":0},{"$f":"データ貼付!G894","v":0},{"$f":"データ貼付!H894","v":0},{"$f":"データ貼付!I894","v":0},{"$f":"データ貼付!J894","v":0},{"$f":"データ貼付!K894","v":0}]
[894,"7",{"$f":"J897&COUNTIF($J$4:J897,J897)","v":"052"},{"$f":"データ貼付!D895&データ貼付!E895","v":""},{"$f":"データ貼付!G895+ROW()/1000000","v":8.9700000000000001E-4},7,{"$f":"データ貼付!A895","v":0},{"$f":"データ貼付!B895","v":0},{"$f":"データ貼付!C895","v":0},{"$f":"データ貼付!F895","v":0},{"$f":"データ貼付!G895","v":0},{"$f":"データ貼付!H895","v":0},{"$f":"データ貼付!I895","v":0},{"$f":"データ貼付!J895","v":0},{"$f":"データ貼付!K895","v":0}]
[895,"6",{"$f":"J898&COUNTIF($J$4:J898,J898)","v":"053"},{"$f":"データ貼付!D896&データ貼付!E896","v":""},{"$f":"データ貼付!G896+ROW()/1000000","v":8.9800000000000004E-4},6,{"$f":"データ貼付!A896","v":0},{"$f":"データ貼付!B896","v":0},{"$f":"データ貼付!C896","v":0},{"$f":"データ貼付!F896","v":0},{"$f":"データ貼付!G896","v":0},{"$f":"データ貼付!H896","v":0},{"$f":"データ貼付!I896","v":0},{"$f":"データ貼付!J896","v":0},{"$f":"データ貼付!K896","v":0}]
[896,"5",{"$f":"J899&COUNTIF($J$4:J899,J899)","v":"054"},{"$f":"データ貼付!D897&データ貼付!E897","v":""},{"$f":"データ貼付!G897+ROW()/1000000","v":8.9899999999999995E-4},5,{"$f":"データ貼付!A897","v":0},{"$f":"データ貼付!B897","v":0},{"$f":"データ貼付!C897","v":0},{"$f":"データ貼付!F897","v":0},{"$f":"データ貼付!G897","v":0},{"$f":"データ貼付!H897","v":0},{"$f":"データ貼付!I897","v":0},{"$f":"データ貼付!J897","v":0},{"$f":"データ貼付!K897","v":0}]
[897,"4",{"$f":"J900&COUNTIF($J$4:J900,J900)","v":"055"},{"$f":"データ貼付!D898&データ貼付!E898","v":""},{"$f":"データ貼付!G898+ROW()/1000000","v":8.9999999999999998E-4},4,{"$f":"データ貼付!A898","v":0},{"$f":"データ貼付!B898","v":0},{"$f":"データ貼付!C898","v":0},{"$f":"データ貼付!F898","v":0},{"$f":"データ貼付!G898","v":0},{"$f":"データ貼付!H898","v":0},{"$f":"データ貼付!I898","v":0},{"$f":"データ貼付!J898","v":0},{"$f":"データ貼付!K898","v":0}]
[898,{"$f":"D901&F901","v":"3"},{"$f":"J901&COUNTIF($J$4:J901,J901)","v":"056"},{"$f":"データ貼付!D899&データ貼付!E899","v":""},{"$f":"データ貼付!G899+ROW()/1000000","v":9.01E-4},{"$f":"SUMPRODUCT(($D$4:$D$903=D901)*($E$4:$E$903>E901))+1","v":3},{"$f":"データ貼付!A899","v":0},{"$f":"データ貼付!B899","v":0},{"$f":"データ貼付!C899","v":0},{"$f":"データ貼付!F899","v":0},{"$f":"データ貼付!G899","v":0},{"$f":"データ貼付!H899","v":0},{"$f":"データ貼付!I899","v":0},{"$f":"データ貼付!J899","v":0},{"$f":"データ貼付!K899","v":0}]
[899,"2",{"$f":"J902&COUNTIF($J$4:J902,J902)","v":"057"},{"$f":"データ貼付!D900&データ貼付!E900","v":""},{"$f":"データ貼付!G900+ROW()/1000000","v":9.0200000000000002E-4},2,{"$f":"データ貼付!A900","v":0},{"$f":"データ貼付!B900","v":0},{"$f":"データ貼付!C900","v":0},{"$f":"データ貼付!F900","v":0},{"$f":"データ貼付!G900","v":0},{"$f":"データ貼付!H900","v":0},{"$f":"データ貼付!I900","v":0},{"$f":"データ貼付!J900","v":0},{"$f":"データ貼付!K900","v":0}]
[900,"1",{"$f":"J903&COUNTIF($J$4:J903,J903)","v":"058"},{"$f":"データ貼付!D901&データ貼付!E901","v":""},{"$f":"データ貼付!G901+ROW()/1000000","v":9.0300000000000005E-4},1,{"$f":"データ貼付!A901","v":0},{"$f":"データ貼付!B901","v":0},{"$f":"データ貼付!C901","v":0},{"$f":"データ貼付!F901","v":0},{"$f":"データ貼付!G901","v":0},{"$f":"データ貼付!H901","v":0},{"$f":"データ貼付!I901","v":0},{"$f":"データ貼付!J901","v":0},{"$f":"データ貼付!K901","v":0}]
["*","*","*","*","*","*","*","*","*","*","*","*","*","*","*","*","*"]

{"sheet":"Sheet2","index":3,"n_rows":0,"n_cols":0,"rows_kept":0,"cut":false,"hidden":true,"merged":[]}

{"sheet":"Sheet3","index":4,"n_rows":0,"n_cols":0,"rows_kept":0,"cut":false,"hidden":true,"merged":[]}

{"sheet":"Sheet4","index":5,"n_rows":0,"n_cols":0,"rows_kept":0,"cut":false,"hidden":true,"merged":[]}

{"sheet":"Sheet5","index":6,"n_rows":0,"n_cols":0,"rows_kept":0,"cut":false,"hidden":true,"merged":[]}

{"sheet":"Sheet6","index":7,"n_rows":18,"n_cols":3,"rows_kept":18,"cut":false,"hidden":true,"merged":[]}
[null,null,"60m"]
[null,null,"100m"]
[null,null,"200m"]
[null,null,"300m"]
[null,null,"400m"]
[null,null,"800m"]
[null,null,"1000m"]
[null,null,"1500m"]
[null,null,"3000m"]
[null,null,"5000m"]
[null,null,"80mH"]
[null,null,"100mH"]
[null,null,"110mH"]
[null,null,"100mYH"]
[null,null,"110mJH"]
[null,null,"400mH"]
[null,null,"3000mSC"]
[null,null,"5000mW"]