{"text_format":"1","workbook":"xlsx","n_sheets":9,"sheets":["データ貼付","種目毎","抽出","Sheet2","Sheet3","Sheet4","Sheet5","Sheet6","Sheet1"],"not_rendered":{"charts":0,"images":0,"macros":1,"external_links":0,"defined_names":5,"comments":0,"pivot_tables":0},"unopened":[],"bounds":{"document_bytes":16777216,"sheet_cells":100000,"rows_first":2000,"rows_last":500,"rows_between":2000,"halvings":0,"cell_chars":16384,"cell_head_chars":4096},"cells_cut":0,"cells_raw":0,"read":"whole","date_system":"1900"}

{"sheet":"データ貼付","index":0,"n_rows":19151,"n_cols":15,"rows_kept":19151,"cut":false,"hidden":true,"merged":[]}
["競技会名","競技場","競技実施月日","クラス","種目","選手／チーム","記録","ラウンド","所属","学年","風速"]
["記録会４戦","北見","2019-08-04","中学男子","棒高跳","ｽﾉｰｼﾞｮｻｲﾔ",220,"決","網走第四中",1,null,null,{"$f":"F2&E2","v":"ｽﾉｰｼﾞｮｻｲﾔ棒高跳"},null,1]
["記録会４戦","北見","2019-08-04","中学女子","走高跳","阿部愛佳",130,"決","網走第三中",2,null,null,"阿部愛佳走高跳",null,{"$f":"IF(M3=M2,0,1)","v":1}]
["小学生ｵﾎｰﾂｸ","北見","2019-06-16","小学男子","走高跳","阿部空晴",120,"決","美幌RC",6,null,null,"阿部空晴走高跳",null,{"$f":"IF(M4=M3,0,1)","v":1}]
["小学生ｵﾎｰﾂｸ","北見","2019-06-16","小学男子","走高跳","安井徠人",105,"決","美幌RC",5,null,null,"安井徠人走高跳",null,1]
["全道高校","帯広"," 6/19","高校男子","棒高跳","安田留伊",400,"決","北見緑陵高",2,null,null,"安田留伊棒高跳",null,{"$f":"IF(M6=#REF!,0,1)","v":{"$error":"#REF!"}}]
["選手権","北見","2019-05-12","高校男子","走高跳","鞍元宏樹",140,"決","北見工業高",3,null,null,"鞍元宏樹走高跳",null,{"$f":"IF(M7=#REF!,0,1)","v":{"$error":"#REF!"}}]
["小学生記録会","北見","2019-09-28","小学男子","走高跳","伊藤尊",95,"決","ｵﾎｰﾂｸACｼﾞｭﾆｱ",4,null,null,"伊藤尊走高跳",null,1]
["通信陸上","網走","2019-06-29","中学女子","走高跳","伊藤来美",143,"決","北見南中",3,null,null,"伊藤来美走高跳",null,1]
["地区中体連","北見","2019-06-15","中学女子","走高跳","伊藤凛音",140,"決","北見南中",1,null,null,"伊藤凛音走高跳",null,1]
["記録会第２戦","網走","2019-05-04","高校男子","走高跳","伊奈翔大",160,"決","北見柏陽高",1,null,null,"伊奈翔大走高跳",null,{"$f":"IF(M11=#REF!,0,1)","v":{"$error":"#REF!"}}]
["小学生記録会","北見","2019-09-28","小学女子","走高跳","井上茜深",125,"決","常呂陸上少年団",6,null,null,"井上茜深走高跳",null,1]
["記録会４戦","北見","2019-08-04","中学女子","走高跳","井上優奈",125,"決","置戸中",3,null,null,"井上優奈走高跳",null,{"$f":"IF(M13=#REF!,0,1)","v":{"$error":"#REF!"}}]
["秋季陸上","網走","2019-09-08","中学女子","走高跳","井尾愛美",130,"決","網走第一中",2,null,null,"井尾愛美走高跳",null,1]
["地区中体連","北見","2019-06-15","中学女子","走高跳","一谷美穂",125,"決","紋別中",3,null,null,"一谷美穂走高跳",null,1]
["高体連支部","北見","2019-05-24","高校男子","走高跳","臼井貴将",168,"決","網走南ヶ丘高",2,null,null,"臼井貴将走高跳",null,1]
["記録会３戦","網走","2019-07-14","中学女子","走高跳","永本文香",120,"決","網走第三中",2,null,null,"永本文香走高跳",null,1]
["高校新人","北見","2019-08-23","高校女子","走高跳","塩田悦子",141,"決","網走南ヶ丘高",2,null,null,"塩田悦子走高跳",null,1]
["中学新人","北見","2019-08-24","中学女子","走高跳","奥河優花",130,"決","紋別中",2,null,null,"奥河優花走高跳",null,1]
["小学生記録会","北見","2019-09-28","小学女子","走高跳","家藤緑茄",120,"決","網走陸上少年団",5,null,null,"家藤緑茄走高跳",null,1]
["全道中学","旭川","2019-07-28","中学男子","走高跳","角谷優孔",176,"決","斜里知床ｳﾄﾛ学校",3,null,null,"角谷優孔走高跳",null,{"$f":"IF(M21=#REF!,0,1)","v":{"$error":"#REF!"}}]
["記録会第２戦","網走","2019-05-04","高校男子","走高跳","梶原幹太",175,"決","北見柏陽高",3,null,null,"梶原幹太走高跳",null,1]
["フィールド記録会","網走","2019-06-08","小学男子","走高跳","岩崎鼓太郎",110,"決","ｵﾎｰﾂｸｷｯｽﾞ",6,null,null,"岩崎鼓太郎走高跳",null,1]
["高校新人","北見","2019-08-24","高校男子","走高跳","岩﨑崚",150,"決","北見緑陵高",1,null,null,"岩﨑崚走高跳",null,1]
["通信陸上","網走","2019-06-29","中学女子","走高跳","吉田萌花",135,"決","北見南中",3,null,null,"吉田萌花走高跳",null,1]
["フィールド記録会","網走","2019-06-08","小学女子","走高跳","久保田昊和",105,"決","知床斜里RC",6,null,null,"久保田昊和走高跳",null,1]
["選手権","北見","2019-05-11","小学男子","走高跳","近藤輝空",110,"決","ｵﾎｰﾂｸｷｯｽﾞ",6,null,null,"近藤輝空走高跳",null,{"$f":"IF(M27=#REF!,0,1)","v":{"$error":"#REF!"}}]
["地区中体連","北見","2019-06-15","中学女子","走高跳","熊谷彩音",120,"決","北見小泉中",3,null,null,"熊谷彩音走高跳",null,1]
["記録会４戦","北見","2019-08-04","中学男子","棒高跳","栗生朔門",410,"決","網走第四中",3,null,null,"栗生朔門棒高跳",null,1]
["記録会４戦","北見","2019-08-04","中学男子","走高跳","月嶋永遠",150,"決","北見北光中",3,null,null,"月嶋永遠走高跳",null,{"$f":"IF(M30=#REF!,0,1)","v":{"$error":"#REF!"}}]
["地区中体連","北見","2019-06-14","中学男子","棒高跳","古畑愛斗",240,"決","北見小泉中",2,null,null,"古畑愛斗棒高跳",null,1]
["高体連支部","北見","2019-05-24","高校女子","走高跳","五十嵐響",140,"決","北見藤高",1,null,null,"五十嵐響走高跳",null,{"$f":"IF(M32=#REF!,0,1)","v":{"$error":"#REF!"}}]
["高体連支部","北見","2019-05-24","高校女子","走高跳","後田千春",125,"決","網走桂陽高",1,null,null,"後田千春走高跳",null,1]
["高体連支部","北見","2019-05-24","高校男子","走高跳","工藤夢叶",160,"決","北見工業高",2,null,null,{"$f":"F34&E34","v":"工藤夢叶走高跳"},null,1]
["小学生ｵﾎｰﾂｸ","北見","2019-06-16","小学男子","走高跳","江添陽人",100,"決","ｵﾎｰﾂｸSS",6,null,null,"江添陽人走高跳",null,1]
["フィールド記録会","網走","2019-06-08","小学男子","走高跳","荒木碧巴",115,"決","知床斜里RC",6,null,null,"荒木碧巴走高跳",null,1]
["小学生ｵﾎｰﾂｸ","北見","2019-06-16","小学女子","走高跳","高橋碧衣",100,"決","常呂陸上少年団",5,null,null,"高橋碧衣走高跳",null,1]
["全道高校新人","函館"," 9/19","高校男子","走高跳","根田一光",180,"予","網走南ｹ丘高",1,null,null,"根田一光走高跳",null,1]
["選手権","北見","2019-05-12","高校男子","走高跳","佐藤一希",150,"決","清里高",2,null,null,"佐藤一希走高跳",null,1]
["秋季陸上","網走","2019-09-07","中学男子","棒高跳","佐藤大斗",240,"決","斜里中",1,null,null,"佐藤大斗棒高跳",null,1]
["高体連支部","北見","2019-05-24","高校男子","走高跳","佐藤碧",189,"決","北見北斗高",3,null,null,"佐藤碧走高跳",null,1]
["高体連支部","北見","2019-05-24","高校男子","走高跳","佐藤琉生",171,"決","北見北斗高",1,null,null,"佐藤琉生走高跳",null,1]
["記録会第２戦","網走","2019-05-04","高校男子","走高跳","佐藤涼太",186,"決","網走桂陽高",3,null,null,"佐藤涼太走高跳",null,1]
["秋季陸上","網走","2019-09-08","中学女子","走高跳","佐伯亜子",144,"決","北見小泉中",2,null,null,"佐伯亜子走高跳",null,1]
["高校新人","北見","2019-08-24","高校男子","走高跳","佐野光",165,"決","北見北斗高",1,null,null,"佐野光走高跳",null,{"$f":"IF(M45=#REF!,0,1)","v":{"$error":"#REF!"}}]
["秋季陸上","網走","2019-09-07","中学男子","棒高跳","佐野巧",350,"決","斜里中",3,null,null,"佐野巧棒高跳",null,1]
["小学生記録会","北見","2019-09-28","小学男子","走高跳","佐野氷佳流",115,"決","知床斜里RC",5,null,null,"佐野氷佳流走高跳",null,1]
["高校新人","北見","2019-08-24","高校男子","走高跳","坂元恭介",160,"決","網走南ヶ丘高",1,null,null,"坂元恭介走高跳",null,{"$f":"IF(M48=#REF!,0,1)","v":{"$error":"#REF!"}}]
["全道高校新人","函館"," 9/18","高校男子","棒高跳","坂元恭介",420,"決","網走南ｹ丘高",1,null,null,"坂元恭介棒高跳",null,1]
["高校新人","北見","2019-08-24","高校男子","走高跳","坂口直樹",155,"決","遠軽高",1,null,null,"坂口直樹走高跳",null,{"$f":"IF(M50=#REF!,0,1)","v":{"$error":"#REF!"}}]
["記録会４戦","北見","2019-08-04","中学男子","走高跳","山田蒼唯",155,"決","北見北光中",3,null,null,"山田蒼唯走高跳",null,1]
["選手権","北見","2019-05-12","高校男子","走高跳","山田翔也",150,"決","紋別高",2,null,null,"山田翔也走高跳",null,1]
["地区中体連","北見","2019-06-14","中学男子","棒高跳","山本銀士郎",230,"決","網走第一中",2,null,null,"山本銀士郎棒高跳",null,1]
["小学生ｵﾎｰﾂｸ","北見","2019-06-16","小学男子","走高跳","山本耕四朗",105,"決","ｵﾎｰﾂｸACｼﾞｭﾆｱ",5,null,null,"山本耕四朗走高跳",null,1]
["小学生記録会","北見","2019-09-28","小学男子","走高跳","山本耕四郎",110,"決","ｵﾎｰﾂｸACｼﾞｭﾆｱ",5,null,null,"山本耕四郎走高跳",null,1]
["小学生記録会","北見","2019-09-28","小学男子","走高跳","山本大三郎",125,"決","ｵﾎｰﾂｸACｼﾞｭﾆｱ",6,null,null,"山本大三郎走高跳",null,{"$f":"IF(M56=M55,0,1)","v":1}]
["フィールド記録会","網走","2019-06-08","中学男子","棒高跳","市村宥樹",280,"決","斜里中",3,null,null,"市村宥樹棒高跳",null,{"$f":"IF(M57=#REF!,0,1)","v":{"$error":"#REF!"}}]
["通信陸上","網走","2019-06-29","中学女子","走高跳","枝﨑千夏",120,"決","美幌北中",1,null,null,"枝﨑千夏走高跳",null,1]
["通信陸上","網走","2019-06-29","中学女子","走高跳","篠原もも香",110,"決","北見南中",1,null,null,"篠原もも香走高跳",null,1]
["中学新人","北見","2019-08-24","中学女子","走高跳","篠原菜蓮",130,"決","網走第三中",2,null,null,"篠原菜蓮走高跳",null,1]
["高体連支部","北見","2019-05-23","高校女子","棒高跳","若松亜美",340,"決","北見緑陵高",3,null,null,"若松亜美棒高跳",null,1]
["小学生記録会","北見","2019-09-28","小学女子","走高跳","酒井彩吹",105,"決","網走陸上少年団",4,null,null,"酒井彩吹走高跳",null,{"$f":"IF(M62=#REF!,0,1)","v":{"$error":"#REF!"}}]
["小学生ｵﾎｰﾂｸ","北見","2019-06-16","小学女子","走高跳","酒井寧々",105,"決","ｵﾎｰﾂｸｷｯｽﾞ",5,null,null,"酒井寧々走高跳",null,1]
["選手権","北見","2019-05-12","中学男子","走高跳","酒井柊優",125,"決","北見東陵中",1,null,null,"酒井柊優走高跳",null,1]
["通信陸上","網走","2019-06-29","中学男子","走高跳","秋山義宗",140,"決","北見常呂中",2,null,null,"秋山義宗走高跳",null,1]
["記録会第２戦","網走","2019-05-04","高校男子","棒高跳","小河大介",410,"決","網走桂陽高",1,null,null,{"$f":"F66&E66","v":"小河大介棒高跳"},null,1]
["通信陸上","網走","2019-06-29","中学男子","走高跳","小原拓真",135,"決","北見常呂中",2,null,null,"小原拓真走高跳",null,{"$f":"IF(M67=#REF!,0,1)","v":{"$error":"#REF!"}}]
["選手権","北見","2019-05-12","中学男子","走高跳","小助川智博",130,"決","紋別中",2,null,null,"小助川智博走高跳",null,1]
["記録会第１戦","北見","2019-04-28","共通女子","走高跳","小川遼佳",125,"決","大空東藻琴中",3,null,null,"小川遼佳走高跳",null,1]
["全道高校","帯広"," 6/18","高校女子","棒高跳","小野寺萌華",340,"決","網走南ヶ丘高",1,null,null,"小野寺萌華棒高跳",null,1]
["選手権","北見","2019-05-12","中学女子","走高跳","小野蒼空",135,"決","美幌北中",1,null,null,"小野蒼空走高跳",null,1]
["選手権","北見","2019-05-12","高校男子","走高跳","小野拓也",168,"決","網走桂陽高",3,null,null,"小野拓也走高跳",null,{"$f":"IF(M72=#REF!,0,1)","v":{"$error":"#REF!"}}]
["高体連支部","北見","2019-05-24","高校男子","走高跳","庄司千祐",171,"決","北見柏陽高",2,null,null,"庄司千祐走高跳",null,1]
["高体連支部","北見","2019-05-23","高校女子","棒高跳","松原麗",180,"決","遠軽高",2,null,null,"松原麗棒高跳",null,1]
["記録会第１戦","北見","2019-04-28","中学男子","棒高跳","松本亮介",200,"決","北見小泉中",2,null,null,"松本亮介棒高跳",null,1]
["高体連支部","北見","2019-05-24","高校男子","走高跳","沼田陵佑",168,"決","北見柏陽高",3,null,null,"沼田陵佑走高跳",null,1]
["通信陸上","網走","2019-06-29","中学女子","走高跳","森ひなた",120,"決","北見小泉中",3,null,null,"森ひなた走高跳",null,1]
["道ジュニア","釧路","2019-09-01","中学女子","走高跳","森彩夏",151,"決","北見常呂中",3,null,null,"森彩夏走高跳",null,1]
["小学生ｵﾎｰﾂｸ","北見","2019-06-16","小学男子","走高跳","杉山智亮",115,"決","ｵﾎｰﾂｸｷｯｽﾞ",6,null,null,"杉山智亮走高跳",null,{"$f":"IF(M79=#REF!,0,1)","v":{"$error":"#REF!"}}]
["記録会第２戦","網走","2019-05-04","中学女子","走高跳","杉本玲奈",135,"決","網走第四中",2,null,null,"杉本玲奈走高跳",null,{"$f":"IF(M80=#REF!,0,1)","v":{"$error":"#REF!"}}]
["全道高校新人","函館"," 9/20","高校女子","走高跳","菅原玲奈",164,"決","興部高",2,null,null,"菅原玲奈走高跳",null,{"$f":"IF(M81=#REF!,0,1)","v":{"$error":"#REF!"}}]
["記録会４戦","北見","2019-08-04","中学男子","走高跳","正壽祐希",135,"決","北見北光中",3,null,null,"正壽祐希走高跳",null,1]
["記録会３戦","網走","2019-07-14","中学女子","走高跳","清川幸愛",120,"決","置戸中",1,null,null,"清川幸愛走高跳",null,1]
["フィールド記録会","網走","2019-06-08","小学男子","走高跳","西川佑吾",125,"決","知床斜里RC",6,null,null,"西川佑吾走高跳",null,1]
["小学生記録会","北見","2019-09-28","小学男子","走高跳","西川悠輝",105,"決","知床斜里RC",4,null,null,"西川悠輝走高跳",null,{"$f":"IF(M85=#REF!,0,1)","v":{"$error":"#REF!"}}]
["秋季陸上","網走","2019-09-07","中学男子","走高跳","西村海斗",150,"決","北見北光中",2,null,null,"西村海斗走高跳",null,1]
["中学新人","北見","2019-08-24","中学女子","走高跳","西多里奈",110,"決","網走第三中",2,null,null,"西多里奈走高跳",null,1]
["小学生ｵﾎｰﾂｸ","北見","2019-06-16","小学男子","走高跳","西迫知希",105,"決","ｵﾎｰﾂｸｷｯｽﾞ",5,null,null,"西迫知希走高跳",null,1]
["高校新人","北見","2019-08-24","高校男子","走高跳","斉藤一歩",140,"決","北見緑陵高",1,null,null,"斉藤一歩走高跳",null,1]
["高校新人","北見","2019-08-24","高校男子","棒高跳","石井建太朗",420,"決","網走南ヶ丘高",2,null,null,"石井建太朗棒高跳",null,1]
["秋季陸上","網走","2019-09-07","中学男子","棒高跳","石原遥翔",190,"決","網走第四中",1,null,null,"石原遥翔棒高跳",null,{"$f":"IF(M91=#REF!,0,1)","v":{"$error":"#REF!"}}]
["記録会第１戦","北見","2019-04-28","共通女子","走高跳","石山真衣",135,"決","湧別高",3,null,null,"石山真衣走高跳",null,1]
["秋季陸上","網走","2019-09-07","中学男子","棒高跳","石田和也",371,"決","網走第一中",3,null,null,"石田和也棒高跳",null,1]
["全道中学新人","千歳","2019-09-21","中学男子","棒高跳","川上大晴",260,"決","北見小泉",2,null,null,"川上大晴棒高跳",null,{"$f":"IF(M94=#REF!,0,1)","v":{"$error":"#REF!"}}]
["小学生記録会","北見","2019-09-28","小学男子","走高跳","川瀬智仁",105,"決","ｵﾎｰﾂｸACｼﾞｭﾆｱ",5,null,null,"川瀬智仁走高跳",null,{"$f":"IF(M95=#REF!,0,1)","v":{"$error":"#REF!"}}]
["秋季陸上","網走","2019-09-07","中学男子","棒高跳","川島歩結夢",340,"決","斜里中",2,null,null,"川島歩結夢棒高跳",null,1]
["小学生記録会","北見","2019-09-28","小学女子","走高跳","曽根絢優愛",95,"決","美幌RC",5,null,null,"曽根絢優愛走高跳",null,{"$f":"IF(M97=#REF!,0,1)","v":{"$error":"#REF!"}}]
["選手権","北見","2019-05-11","共通女子","走高跳","曽根美紅",130,"決","網走南ヶ丘高",1,null,null,{"$f":"F98&E98","v":"曽根美紅走高跳"},null,1]
["小学生記録会","北見","2019-09-28","小学女子","走高跳","曽根優彩愛",95,"決","美幌RC",5,null,null,"曽根優彩愛走高跳",null,1]
["選手権","北見","2019-05-11","中学女子","走高跳","相馬夏好",115,"決","北見光西中",1,null,null,"相馬夏好走高跳",null,1]
["小学生記録会","北見","2019-09-28","小学女子","走高跳","村上晴風",110,"決","網走陸上少年団",6,null,null,"村上晴風走高跳",null,1]
["中学新人","北見","2019-08-24","中学男子","走高跳","大橋侑弥",150,"決","網走第一中",2,null,null,"大橋侑弥走高跳",null,{"$f":"IF(M102=#REF!,0,1)","v":{"$error":"#REF!"}}]
["フィールド記録会","網走","2019-06-08","小学男子","走高跳","滝口葉",110,"決","ｵﾎｰﾂｸｷｯｽﾞ",6,null,null,"滝口葉走高跳",null,1]
["記録会第１戦","北見","2019-04-28","共通女子","走高跳","池田葵",125,"決","北見小泉中",2,null,null,"池田葵走高跳",null,1]
["高体連支部","北見","2019-05-24","高校女子","走高跳","池田美梨",148,"決","紋別高",2,null,null,"池田美梨走高跳",null,1]
["中学新人","北見","2019-08-24","中学男子","走高跳","竹村璃玖",150,"決","北見常呂中",2,null,null,"竹村璃玖走高跳",null,{"$f":"IF(M106=#REF!,0,1)","v":{"$error":"#REF!"}}]
["地区中体連","北見","2019-06-15","中学男子","走高跳","中井龍之介",115,"決","北見高栄中",1,null,null,"中井龍之介走高跳",null,{"$f":"IF(M107=#REF!,0,1)","v":{"$error":"#REF!"}}]
["記録会第１戦","北見","2019-04-28","一般男子","走高跳","中条聡",190,"決","東農大ｵﾎｰﾂｸ","般",null,null,"中条聡走高跳",null,{"$f":"IF(M108=M107,0,1)","v":1}]
["道選手権","網走","08.11*","一般男子","走高跳","中川崇義",180,"決","オホーツク陸協",0,null,null,"中川崇義走高跳",null,1]
["小学生ｵﾎｰﾂｸ","北見","2019-06-16","小学男子","走高跳","中田隼翔",120,"決","ｵﾎｰﾂｸACｼﾞｭﾆｱ",6,null,null,"中田隼翔走高跳",null,{"$f":"IF(M110=#REF!,0,1)","v":{"$error":"#REF!"}}]
["全道中学","旭川","2019-07-26","中学男子","棒高跳","中田竜翔",380,"予","網走第一中",3,null,null,"中田竜翔棒高跳",null,1]
["選手権","北見","2019-05-12","中学女子","走高跳","中島瑠菜",115,"決","北見常呂中",1,null,null,"中島瑠菜走高跳",null,{"$f":"IF(M112=#REF!,0,1)","v":{"$error":"#REF!"}}]
["選手権","北見","2019-05-12","中学男子","走高跳","長島拓希",135,"決","美幌北中",2,null,null,"長島拓希走高跳",null,1]
["中学新人","北見","2019-08-24","中学女子","走高跳","長尾優里愛",135,"決","大空東藻琴中",2,null,null,"長尾優里愛走高跳",null,1]
["秋季陸上","網走","2019-09-07","中学男子","走高跳","田村響",130,"決","北見南中",1,null,null,"田村響走高跳",null,{"$f":"IF(M115=#REF!,0,1)","v":{"$error":"#REF!"}}]
["選手権","北見","2019-05-12","中学男子","走高跳","田中達也",135,"決","網走第一中",3,null,null,"田中達也走高跳",null,1]
["記録会第１戦","北見","2019-04-28","高校男子","棒高跳","渡辺颯",390,"決","北見藤高",1,null,null,"渡辺颯棒高跳",null,1]
["高校新人","北見","2019-08-24","高校男子","走高跳","土山怜音",150,"決","北見工業高",1,null,null,"土山怜音走高跳",null,1]
["選手権","北見","2019-05-11","中学女子","走高跳","嶋田結",120,"決","斜里知床ｳﾄﾛ学校",3,null,null,"嶋田結走高跳",null,1]
["選手権","北見","2019-05-12","中学女子","走高跳","日根優菜",110,"決","網走第四中",2,null,null,"日根優菜走高跳",null,1]
["選手権","北見","2019-05-11","中学女子","走高跳","白石光",142,"決","北見光西中",3,null,null,"白石光走高跳",null,1]
["中学新人","北見","2019-08-24","中学男子","棒高跳","飯島空輝",200,"決","北見北中",1,null,null,"飯島空輝棒高跳",null,1]
["小学生記録会","北見","2019-09-28","小学女子","走高跳","布目友理",120,"決","留辺蘂JSC",5,null,null,"布目友理走高跳",null,1]
["選手権","北見","2019-05-12","中学女子","走高跳","服部茜",120,"決","大空女満別中",1,null,null,"服部茜走高跳",null,{"$f":"IF(M124=#REF!,0,1)","v":{"$error":"#REF!"}}]
["小学生ｵﾎｰﾂｸ","北見","2019-06-16","小学女子","走高跳","福井花歩",95,"決","ｵﾎｰﾂｸｷｯｽﾞ",5,null,null,"福井花歩走高跳",null,1]
["全道中学新人","千歳","2019-09-21","中学男子","棒高跳","福田悠介",320,"決","網走第一",2,null,null,"福田悠介棒高跳",null,1]
["フィールド記録会","網走","2019-06-08","小学男子","走高跳","福田涼介",110,"決","ｵﾎｰﾂｸACｼﾞｭﾆｱ",6,null,null,"福田涼介走高跳",null,{"$f":"IF(M127=#REF!,0,1)","v":{"$error":"#REF!"}}]
["選手権","北見","2019-05-12","高校男子","走高跳","平吹鷹也",165,"決","北見柏陽高",3,null,null,"平吹鷹也走高跳",null,1]
["選手権","北見","2019-05-11","共通女子","走高跳","平吹侑里",135,"決","美幌高",1,null,null,"平吹侑里走高跳",null,1]
["小学生ｵﾎｰﾂｸ","北見","2019-06-16","小学男子","走高跳","豊原隆介",120,"決","ｵﾎｰﾂｸｷｯｽﾞ",6,null,null,{"$f":"F130&E130","v":"豊原隆介走高跳"},null,1]
["記録会４戦","北見","2019-08-04","中学女子","走高跳","北村菜絵",120,"決","置戸中",3,null,null,"北村菜絵走高跳",null,1]
["小学生ｵﾎｰﾂｸ","北見","2019-06-16","小学男子","走高跳","堀澤仁景",110,"決","ｵﾎｰﾂｸｷｯｽﾞ",6,null,null,"堀澤仁景走高跳",null,1]
["フィールド記録会","網走","2019-06-08","小学女子","走高跳","木山瑞希",110,"決","知床斜里RC",5,null,null,"木山瑞希走高跳",null,1]
["高体連支部","北見","2019-05-24","高校女子","走高跳","木村美月",135,"決","北見商業高",3,null,null,"木村美月走高跳",null,1]
["高校新人","北見","2019-08-24","高校男子","走高跳","野崎竜矢",150,"決","網走南ヶ丘高",1,null,null,"野崎竜矢走高跳",null,1]
["道選手権","網走","08.10*","一般男子","棒高跳","油屋圭吾",480,"決","順天堂大",2,null,null,"油屋圭吾棒高跳",null,1]
["高校新人","北見","2019-08-24","高校女子","棒高跳","林ちひろ",270,"決","北見緑陵高",1,null,null,"林ちひろ棒高跳",null,1]
["フィールド記録会","網走","2019-06-08","中学女子","走高跳","林梢幸",125,"決","網走第四中",2,null,null,"林梢幸走高跳",null,1]
["地区中体連","北見","2019-06-15","中学男子","走高跳","鈴木昂英",120,"決","北見高栄中",1,null,null,"鈴木昂英走高跳",null,1]
["中学新人","北見","2019-08-24","中学男子","走高跳","崔宰原",150,"決","北見南中",1,null,null,"崔宰原走高跳",null,1]
["高体連支部","北見","2019-05-24","高校男子","走高跳","廣瀨慧来",168,"決","網走南ヶ丘高",3,null,null,"廣瀨慧来走高跳",null,1]
["全道高校","帯広"," 6/19","高校男子","棒高跳","廣瀨慧来",440,"決","網走南ヶ丘高",3,null,null,"廣瀨慧来棒高跳",null,1]
["中学新人","北見","2019-08-24","中学女子","走高跳","澤向美樹",135,"決","北見常呂中",1,null,null,"澤向美樹走高跳",null,{"$f":"IF(M143=#REF!,0,1)","v":{"$error":"#REF!"}}]
["中学新人","北見","2019-08-24","中学男子","走高跳","萬龍来",150,"決","網走第一中",2,null,null,"萬龍来走高跳",null,{"$f":"IF(M144=#REF!,0,1)","v":{"$error":"#REF!"}}]
["秋季陸上","網走","2019-09-08","中学女子","走高跳","髙橋愛結",130,"決","北見小泉中",2,null,null,"髙橋愛結走高跳",null,1]
["小学生ｵﾎｰﾂｸ","北見","2019-06-16","小学男子","走高跳","髙橋依",125,"決","美幌RC",6,null,null,"髙橋依走高跳",null,1]
["選手権","北見","2019-05-11","小学女子","走高跳","髙橋碧衣",105,"決","常呂陸上少年団",5,null,null,"髙橋碧衣走高跳",null,1]
["記録会第１戦","北見","2019-04-28","高校男子","走高跳","髙橋悠希",165,"決","北見北斗高",2,null,null,"髙橋悠希走高跳",null,1]
[null,null,null,null,null,null,null,null,null,null,null,null,{"$f":"F149&E149","v":""},null,1]
[null,null,null,null,null,null,null,null,null,null,null,null,"",null,0]
[null,null,null,null,null,null,null,null,null,null,null,null,"",null,0]
[null,null,null,null,null,null,null,null,null,null,null,null,"",null,0]
[null,null,null,null,null,null,null,null,null,null,null,null,"",null,0]
[null,null,null,null,null,null,null,null,null,null,null,null,"",null,0]
[null,null,null,null,null,null,null,null,null,null,null,null,"",null,{"$f":"IF(M155=M154,0,1)","v":0}]
[null,null,null,null,null,null,null,null,null,null,null,null,"",null,0]
[null,null,null,null,null,null,null,null,null,null,null,null,"",null,0]
[null,null,null,null,null,null,null,null,null,null,null,null,"",null,0]
[null,null,null,null,null,null,null,null,null,null,null,null,"",null,0]
[null,null,null,null,null,null,null,null,null,null,null,null,"",null,0]
[null,null,null,null,null,null,null,null,null,null,null,null,"",null,0]
[null,null,null,null,null,null,null,null,null,null,null,null,"",null,0]
[null,null,null,null,null,null,null,null,null,null,null,null,"",null,0]
[null,null,null,null,null,null,null,null,null,null,null,null,"",null,0]
[null,null,null,null,null,null,null,null,null,null,null,null,"",null,0]
[null,null,null,null,null,null,null,null,null,null,null,null,"",null,{"$f":"IF(M166=M165,0,1)","v":0}]
[]
[]
[]
[]
[]
[]
[]
[]
[]
[]
[]
[]
[]
[]
[]
[]
[]
[]
[]
[]
[]
[]
[]
[]
[]
[]
[]
[]
[]
[]
[]
[]
[]
[]
[]
[]
[]
[]
[]
[]
[]
[]
[]
[]
[]
[]
[]
[]
[]
[]
[]
[]
[]
[]
[]
[]
[]
[]
[]
[]
[]
[]
[]
[]
[]
[]
[]
[]
[]
[]
[]
[]
[]
[]
[]
[]
[]
[]
[]
[]
[]
[]
[]
[]
[]
[]
[]
[]
[]
[]
[]
[]
[]
[]
[]
[]
[]
[]
[]
[]
[]
[]
[]
[]
[]
[]
[]
[]
[]
[]
[]
[]
[]
[]
[]
[]
[]
[]
[]
[]
[]
[]
[]
[]
[]
[]
[]
[]
[]
[]
[]
[]
[]
[]
[]
[]
[]
[]
[]
[]
[]
[]
[]
[]
[]
[]
[]
[]
[]
[]
[]
[]
[]
[]
[]
[]
[]
[]
[]
[]
[]
[]
[]
[]
[]
[]
[]
[]
[]
[]
[]
[]
[]
[]
[]
[]
[]
[]
[]
[]
[]
[]
[]
[]
[]
[]
[]
[]
[]
[]
[]
[]
[]
[]
[]
[]
[]
[]
[]
[]
[]
[]
[]
[]
[]
[]
[]
[]
[]
[]
[]
[]
[]
[]
[]
[]
[]
[]
[]
[]
[]
[]
[]
[]
[]
[]
[]
[]
[]
[]
[]
[]
[]
[]
[]
[]
[]
[]
[]
[]
[]
[]
[]
[]
[]
[]
[]
[]
[]
[]
[]
[]
[]
[]
[]
[]
[]
[]
[]
[]
[]
[]
[]
[]
[]
[]
[]
[]
[]
[]
[]
[]
[]
[]
[]
[]
[]
[]
[]
[]
[]
[]
[]
[]
[]
[]
[]
[]
[]
[]
[]
[]
[]
[]
[]
[]
[]
[]
[]
[]
[]
[]
[]
[]
[]
[]
[]
[]
[]
[]
[]
[]
[]
[]
[]
[]
[]
[]
[]
[]
[]
[]
[]
[]
[]
[]
[]
[]
[]
[]
[]
[]
[]
[]
[]
[]
[]
[]
[]
[]
[]
[]
[]
[]
[]
[]
[]
[]
[]
[]
[]
[]
[]
[]
[]
[]
[]
[]
[]
[]
[]
[]
[]
[]
[]
[]
[]
[]
[]
[]
[]
[]
[]
[]
[]
[]
[]
[]
[]
[]
[]
[]
[]
[]
[]
[]
[]
[]
[]
[]
[]
[]
[]
[]
[]
[]
[]
[]
[]
[]
[]
[]
[]
[]
[]
[]
[]
[]
[]
[]
[]
[]
[]
[]
[]
[]
[]
[]
[]
[]
[]
[]
[]
[]
[]
[]
[]
[]
[]
[]
[]
[]
[]
[]
[]
[]
[]
[]
[]
[]
[]
[]
[]
[]
[]
[]
[]
[]
[]
[]
[]
[]
[]
[]
[]
[]
[]
[]
[]
[]
[]
[]
[]
[]
[]
[]
[]
[]
[]
[]
[]
[]
[]
[]
[]
[]
[]
[]
[]
[]
[]
[]
[]
[]
[]
[]
[]
[]
[]
[]
[]
[]
[]
[]
[]
[]
[]
[]
[]
[]
[]
[]
[]
[]
[]
[]
[]
[]
[]
[]
[]
[]
[]
[]
[]
[]
[]
[]
[]
[]
[]
[]
[]
[]
[]
[]
[]
[]
[]
[]
[]
[]
[]
[]
[]
[]
[]
[]
[]
[]
[]
[]
[]
[]
[]
[]
[]
[]
[]
[]
[]
[]
[]
[]
[]
[]
[]
[]
[]
[]
[]
[]
[]
[]
[]
[]
[]
[]
[]
[]
[]
[]
[]
[]
[]
[]
[]
[]
[]
[]
[]
[]
[]
[]
[]
[]
[]
[]
[]
[]
[]
[]
[]
[]
[]
[]
[]
[]
[]
[]
[]
[]
[]
[]
[]
[]
[]
[]
[]
[]
[]
[]
[]
[]
[]
[]
[]
[]
[]
[]
[]
[]
[]
[]
[]
[]
[]
[]
[]
[]
[]
[]
[]
[]
[]
[]
[]
[]
[]
[]
[]
[]
[]
[]
[]
[]
[]
[]
[]
[]
[]
[]
[]
[]
[]
[]
[]
[]
[]
[]
[]
[]
[]
[]
[]
[]
[]
[]
[]
[]
[]
[]
[]
[]
[]
[]
[]
[]
[]
[]
[]
[]
[]
[]
[]
[]
[]
[]
[]
[]
[]
[]
[]
[]
[]
[]
[]
[]
[]
[]
[]
[]
[]
[]
[]
[]
[]
[]
[]
[]
[]
[]
[]
[]
[]
[]
[]
[]
[]
[]
[]
[]
[]
[]
[]
[]
[]
[]
[]
[]
[]
[]
[]
[]
[]
[]
[]
[]
[]
[]
[]
[]
[]
[]
[]
[]
[]
[]
[]
[]
[]
[]
[]
[]
[]
[]
[]
[]
[]
[]
[]
[]
[]
[]
[]
[]
[]
[]
[]
[]
[]
[]
[]
[]
[]
[]
[]
[]
[]
[]
[]
[]
[]
[]
[]
[]
[]
[]
[]
[]
[]
[]
[]
[]
[]
[]
[]
[]
[]
[]
[]
[]
[]
[]
[]
[]
[]
[]
[]
[]
[]
[]
[]
[]
[]
[]
[]
[]
[]
[]
[]
[]
[]
[]
[]
[]
[]
[]
[]
[]
[]
[]
[]
[]
[]
[]
[]
[]
[]
[]
[]
[]
[]
[]
[]
[]
[]
[]
[]
[]
[]
[]
[]
[]
[]
[]
[]
[]
[]
[]
[]
[]
[]
[]
[]
[]
[]
[]
[]
[]
[]
[]
[]
[]
[]
[]
[]
[]
[]
[]
[]
[]
[]
[]
[]
[]
[]
[]
[]
[]
[]
[]
[]
[]
[]
[]
[]
[]
[]
[]
[]
[]
[]
[]
[]
[]
[]
[]
[]
[]
[]
[]
[]
[]
[]
[]
[]
[]
[]
[]
[]
[]
[]
[]
[]
[]
[]
[]
[]
[]
[]
[]
[]
[]
[]
[]
[]
[]
[]
[]
[]
[]
[]
[]
[]
[]
[]
[]
[]
[]
[]
[]
[]
[]
[]
[]
[]
[]
[]
[]
[]
[]
[]
[]
[]
[]
[]
[]
[]
[]
[]
[]
[]
[]
[]
[]
[]
[]
[]
[]
[]
[]
[]
[]
[]
[]
[]
[]
[]
[]
[]
[]
[]
[]
[]
[]
[]
[]
[]
[]
[]
[]
[]
[]
[]
[]
[]
[]
[]
[]
[]
[]
[]
[]
[]
[]
[]
[]
[]
[]
[]
[]
[]
[]
[]
[]
[]
[]
[]
[]
[]
[]
[]
[]
[]
[]
[]
[]
[]
[]
[]
[]
[]
[]
[]
[]
[]
[]
[]
[]
[]
[]
[]
[]
[]
[]
[]
[]
[]
[]
[]
[]
[]
[]
[]
[]
[]
[]
[]
[]
[]
[]
[]
[]
[]
[]
[]
[]
[]
[]
[]
[]
[]
[]
[]
[]
[]
[]
[]
[]
[]
[]
[]
[]
[]
[]
[]
[]
[]
[]
[]
[]
[]
[]
[]
[]
[]
[]
[]
[]
[]
[]
[]
[]
[]
[]
[]
[]
[]
[]
[]
[]
[]
[]
[]
[]
[]
[]
[]
[]
[]
[]
[]
[]
[]
[]
[]
[]
[]
[]
[]
[]
[]
[]
[]
[]
[]
[]
[]
[]
[]
[]
[]
[]
[]
[]
[]
[]
[]
[]
[]
[]
[]
[]
[]
[]
[]
[]
[]
[]
[]
[]
[]
[]
[]
[]
[]
[]
[]
[]
[]
[]
[]
[]
[]
[]
[]
[]
[]
[]
[]
[]
[]
[]
[]
[]
[]
[]
[]
[]
[]
[]
[]
[]
[]
[]
[]
[]
[]
[]
[]
[]
[]
[]
[]
[]
[]
[]
[]
[]
[]
[]
[]
[]
[]
[]
[]
[]
[]
[]
[]
[]
[]
[]
[]
[]
[]
[]
[]
[]
[]
[]
[]
[]
[]
[]
[]
[]
[]
[]
[]
[]
[]
[]
[]
[]
[]
[]
[]
[]
[]
[]
[]
[]
[]
[]
[]
[]
[]
[]
[]
[]
[]
[]
[]
[]
[]
[]
[]
[]
[]
[]
[]
[]
[]
[]
[]
[]
[]
[]
[]
[]
[]
[]
[]
[]
[]
[]
[]
[]
[]
[]
[]
[]
[]
[]
[]
[]
[]
[]
[]
[]
[]
[]
[]
[]
[]
[]
[]
[]
[]
[]
[]
[]
[]
[]
[]
[]
[]
[]
[]
[]
[]
[]
[]
[]
[]
[]
[]
[]
[]
[]
[]
[]
[]
[]
[]
[]
[]
[]
[]
[]
[]
[]
[]
[]
[]
[]
[]
[]
[]
[]
[]
[]
[]
[]
[]
[]
[]
[]
[]
[]
[]
[]
[]
[]
[]
[]
[]
[]
[]
[]
[]
[]
[]
[]
[]
[]
[]
[]
[]
[]
[]
[]
[]
[]
[]
[]
[]
[]
[]
[]
[]
[]
[]
[]
[]
[]
[]
[]
[]
[]
[]
[]
[]
[]
[]
[]
[]
[]
[]
[]
[]
[]
[]
[]
[]
[]
[]
[]
[]
[]
[]
[]
[]
[]
[]
[]
[]
[]
[]
[]
[]
[]
[]
[]
[]
[]
[]
[]
[]
[]
[]
[]
[]
[]
[]
[]
[]
[]
[]
[]
[]
[]
[]
[]
[]
[]
[]
[]
[]
[]
[]
[]
[]
[]
[]
[]
[]
[]
[]
[]
[]
[]
[]
[]
[]
[]
[]
[]
[]
[]
[]
[]
[]
[]
[]
[]
[]
[]
[]
[]
[]
[]
[]
[]
[]
[]
[]
[]
[]
[]
[]
[]
[]
[]
[]
[]
[]
[]
[]
[]
[]
[]
[]
[]
[]
[]
[]
[]
[]
[]
[]
[]
[]
[]
[]
[]
[]
[]
[]
[]
[]
[]
[]
[]
[]
[]
[]
[]
[]
[]
[]
[]
[]
[]
[]
[]
[]
[]
[]
[]
[]
[]
[]
[]
[]
[]
[]
[]
[]
[]
[]
[]
[]
[]
[]
[]
[]
[]
[]
[]
[]
[]
[]
[]
[]
[]
[]
[]
[]
[]
[]
[]
[]
[]
[]
[]
[]
[]
[]
[]
[]
[]
[]
[]
[]
[]
[]
[]
[]
[]
[]
[]
[]
[]
[]
[]
[]
[]
[]
[]
[]
[]
[]
[]
[]
[]
[]
[]
[]
[]
[]
[]
[]
[]
[]
[]
[]
[]
[]
[]
[]
[]
[]
[]
[]
[]
[]
[]
[]
[]
[]
[]
[]
[]
[]
[]
[]
[]
[]
[]
[]
[]
[]
[]
[]
[]
[]
[]
[]
[]
[]
[]
[]
[]
[]
[]
[]
[]
[]
[]
[]
[]
[]
[]
[]
[]
[]
[]
[]
[]
[]
[]
[]
[]
[]
[]
[]
[]
[]
[]
[]
[]
[]
[]
[]
[]
[]
[]
[]
[]
[]
[]
[]
[]
[]
[]
[]
[]
[]
[]
[]
[]
[]
[]
[]
[]
[]
[]
[]
[]
[]
[]
[]
[]
[]
[]
[]
[]
[]
[]
[]
[]
[]
[]
[]
[]
[]
[]
[]
[]
[]
[]
[]
[]
[]
[]
[]
[]
[]
[]
[]
[]
[]
[]
[]
[]
[]
[]
[]
[]
[]
[]
[]
[]
[]
[]
[]
[]
[]
[]
[]
[]
[]
[]
[]
[]
[]
[]
[]
[]
[]
[]
[]
[]
[]
[]
[]
[]
[]
[]
[]
[]
[]
[]
[]
[]
[]
[]
[]
[]
[]
[]
[]
[]
[]
[]
[]
[]
[]
[]
[]
[]
[]
[]
[]
[]
[]
[]
[]
[]
[]
[]
[]
[]
[]
[]
[]
[]
[]
[]
[]
[]
[]
[]
[]
[]
[]
[]
[]
[]
[]
[]
[]
[]
[]
[]
[]
[]
[]
[]
[]
[]
[]
[]
[]
[]
[]
[]
[]
[]
[]
[]
[]
[]
[]
[]
[]
[]
[]
[]
[]
[]
[]
[]
[]
[]
[]
[]
[]
[]
[]
[]
[]
[]
[]
[]
[]
[]
[]
[]
[]
[]
[]
[]
[]
[]
[]
[]
[]
[]
[]
[]
[]
[]
[]
[]
[]
[]
[]
[]
[]
[]
[]
[]
[]
[]
[]
[]
[]
[]
[]
[]
[]
[]
[]
[]
[]
[]
[]
[]
[]
[]
[]
[]
[]
[]
[]
[]
[]
[]
[]
[]
[]
[]
[]
[]
[]
[]
[]
[]
[]
[]
[]
[]
[]
[]
[]
[]
[]
[]
[]
[]
[]
[]
[]
[]
[]
[]
[]
[]
[]
[]
[]
[]
[]
[]
[]
[]
[]
[]
[]
[]
[]
[]
[]
[]
[]
[]
[]
[]
[]
[]
[]
[]
[]
[]
[]
[]
[]
[]
[]
[]
[]
[]
[]
[]
[]
[]
[]
[]
[]
[]
[]
[]
[]
[]
[]
[]
[]
[]
[]
[]
[]
[]
[]
[]
[]
[]
[]
[]
[]
[]
[]
[]
[]
[]
[]
[]
[]
[]
[]
[]
[]
[]
[]
[]
[]
[]
[]
[]
[]
[]
[]
[]
[]
[]
[]
[]
[]
[]
[]
[]
[]
[]
[]
[]
[]
[]
[]
[]
[]
[]
[]
[]
[]
[]
[]
[]
[]
[]
[]
[]
[]
[]
[]
[]
[]
[]
[]
[]
[]
[]
[]
[]
[]
[]
[]
[]
[]
[]
[]
[]
[]
[]
[]
[]
[]
[]
[]
[]
[]
[]
[]
[]
[]
[]
[]
[]
[]
[]
[]
[]
[]
[]
[]
[]
[]
[]
[]
[]
[]
[]
[]
[]
[]
[]
[]
[]
[]
[]
[]
[]
[]
[]
[]
[]
[]
[]
[]
[]
[]
[]
[]
[]
[]
[]
[]
[]
[]
[]
[]
[]
[]
[]
[]
[]
[]
[]
[]
[]
[]
[]
[]
[]
[]
[]
[]
[]
[]
[]
[]
[]
[]
[]
[]
[]
[]
[]
[]
[]
[]
[]
[]
[]
[]
[]
[]
[]
[]
[]
[]
[]
[]
[]
[]
[]
[]
[]
[]
[]
[]
[]
[]
[]
[]
[]
[]
[]
[]
[]
[]
[]
[]
[]
[]
[]
[]
[]
[]
[]
[]
[]
[]
[]
[]
[]
[]
[]
[]
[]
[]
[]
[]
[]
[]
[]
[]
[]
[]
[]
[]
[]
[]
[]
[]
[]
[]
[]
[]
[]
[]
[]
[]
[]
[]
[]
[]
[]
[]
[]
[]
[]
[]
[]
[]
[]
[]
[]
[]
[]
[]
[]
[]
[]
[]
[]
[]
[]
[]
[]
[]
[]
[]
[]
[]
[]
[]
[]
[]
[]
[]
[]
[]
[]
[]
[]
[]
[]
[]
[]
[]
[]
[]
[]
[]
[]
[]
[]
[]
[]
[]
[]
[]
[]
[]
[]
[]
[]
[]
[]
[]
[]
[]
[]
[]
[]
[]
[]
[]
[]
[]
[]
[]
[]
[]
[]
[]
[]
[]
[]
[]
[]
[]
[]
[]
[]
[]
[]
[]
[]
[]
[]
[]
[]
[]
[]
[]
[]
[]
[]
[]
[]
[]
[]
[]
[]
[]
[]
[]
[]
[]
[]
[]
[]
[]
[]
[]
[]
[]
[]
[]
[]
[]
[]
[]
[]
[]
[]
[]
[]
[]
[]
[]
[]
[]
[]
[]
[]
[]
[]
[]
[]
[]
[]
[]
[]
[]
[]
[]
[]
[]
[]
[]
[]
[]
[]
[]
[]
[]
[]
[]
[]
[]
[]
[]
[]
[]
[]
[]
[]
[]
[]
[]
[]
[]
[]
[]
[]
[]
[]
[]
[]
[]
[]
[]
[]
[]
[]
[]
[]
[]
[]
[]
[]
[]
[]
[]
[]
[]
[]
[]
[]
[]
[]
[]
[]
[]
[]
[]
[]
[]
[]
[]
[]
[]
[]
[]
[]
[]
[]
[]
[]
[]
[]
[]
[]
[]
[]
[]
[]
[]
[]
[]
[]
[]
[]
[]
[]
[]
[]
[]
[]
[]
[]
[]
[]
[]
[]
[]
[]
[]
[]
[]
[]
[]
[]
[]
[]
[]
[]
[]
[]
[]
[]
[]
[]
[]
[]
[]
[]
[]
[]
[]
[]
[]
[]
[]
[]
[]
[]
[]
[]
[]
[]
[]
[]
[]
[]
[]
[]
[]
[]
[]
[]
[]
[]
[]
[]
[]
[]
[]
[]
[]
[]
[]
[]
[]
[]
[]
[]
[]
[]
[]
[]
[]
[]
[]
[]
[]
[]
[]
[]
[]
[]
[]
[]
[]
[]
[]
[]
[]
[]
[]
[]
[]
[]
[]
[]
[]
[]
[]
[]
[]
[]
[]
[]
[]
[]
[]
[]
[]
[]
[]
[]
[]
[]
[]
[]
[]
[]
[]
[]
[]
[]
[]
[]
[]
[]
[]
[]
[]
[]
[]
[]
[]
[]
[]
[]
[]
[]
[]
[]
[]
[]
[]
[]
[]
[]
[]
[]
[]
[]
[]
[]
[]
[]
[]
[]
[]
[]
[]
[]
[]
[]
[]
[]
[]
[]
[]
[]
[]
[]
[]
[]
[]
[]
[]
[]
[]
[]
[]
[]
[]
[]
[]
[]
[]
[]
[]
[]
[]
[]
[]
[]
[]
[]
[]
[]
[]
[]
[]
[]
[]
[]
[]
[]
[]
[]
[]
[]
[]
[]
[]
[]
[]
[]
[]
[]
[]
[]
[]
[]
[]
[]
[]
[]
[]
[]
[]
[]
[]
[]
[]
[]
[]
[]
[]
[]
[]
[]
[]
[]
[]
[]
[]
[]
[]
[]
[]
[]
[]
[]
[]
[]
[]
[]
[]
[]
[]
[]
[]
[]
[]
[]
[]
[]
[]
[]
[]
[]
[]
[]
[]
[]
[]
[]
[]
[]
[]
[]
[]
[]
[]
[]
[]
[]
[]
[]
[]
[]
[]
[]
[]
[]
[]
[]
[]
[]
[]
[]
[]
[]
[]
[]
[]
[]
[]
[]
[]
[]
[]
[]
[]
[]
[]
[]
[]
[]
[]
[]
[]
[]
[]
[]
[]
[]
[]
[]
[]
[]
[]
[]
[]
[]
[]
[]
[]
[]
[]
[]
[]
[]
[]
[]
[]
[]
[]
[]
[]
[]
[]
[]
[]
[]
[]
[]
[]
[]
[]
[]
[]
[]
[]
[]
[]
[]
[]
[]
[]
[]
[]
[]
[]
[]
[]
[]
[]
[]
[]
[]
[]
[]
[]
[]
[]
[]
[]
[]
[]
[]
[]
[]
[]
[]
[]
[]
[]
[]
[]
[]
[]
[]
[]
[]
[]
[]
[]
[]
[]
[]
[]
[]
[]
[]
[]
[]
[]
[]
[]
[]
[]
[]
[]
[]
[]
[]
[]
[]
[]
[]
[]
[]
[]
[]
[]
[]
[]
[]
[]
[]
[]
[]
[]
[]
[]
[]
[]
[]
[]
[]
[]
[]
[]
[]
[]
[]
[]
[]
[]
[]
[]
[]
[]
[]
[]
[]
[]
[]
[]
[]
[]
[]
[]
[]
[]
[]
[]
[]
[]
[]
[]
[]
[]
[]
[]
[]
[]
[]
[]
[]
[]
[]
[]
[]
[]
[]
[]
[]
[]
[]
[]
[]
[]
[]
[]
[]
[]
[]
[]
[]
[]
[]
[]
[]
[]
[]
[]
[]
[]
[]
[]
[]
[]
[]
[]
[]
[]
[]
[]
[]
[]
[]
[]
[]
[]
[]
[]
[]
[]
[]
[]
[]
[]
[]
[]
[]
[]
[]
[]
[]
[]
[]
[]
[]
[]
[]
[]
[]
[]
[]
[]
[]
[]
[]
[]
[]
[]
[]
[]
[]
[]
[]
[]
[]
[]
[]
[]
[]
[]
[]
[]
[]
[]
[]
[]
[]
[]
[]
[]
[]
[]
[]
[]
[]
[]
[]
[]
[]
[]
[]
[]
[]
[]
[]
[]
[]
[]
[]
[]
[]
[]
[]
[]
[]
[]
[]
[]
[]
[]
[]
[]
[]
[]
[]
[]
[]
[]
[]
[]
[]
[]
[]
[]
[]
[]
[]
[]
[]
[]
[]
[]
[]
[]
[]
[]
[]
[]
[]
[]
[]
[]
[]
[]
[]
[]
[]
[]
[]
[]
[]
[]
[]
[]
[]
[]
[]
[]
[]
[]
[]
[]
[]
[]
[]
[]
[]
[]
[]
[]
[]
[]
[]
[]
[]
[]
[]
[]
[]
[]
[]
[]
[]
[]
[]
[]
[]
[]
[]
[]
[]
[]
[]
[]
[]
[]
[]
[]
[]
[]
[]
[]
[]
[]
[]
[]
[]
[]
[]
[]
[]
[]
[]
[]
[]
[]
[]
[]
[]
[]
[]
[]
[]
[]
[]
[]
[]
[]
[]
[]
[]
[]
[]
[]
[]
[]
[]
[]
[]
[]
[]
[]
[]
[]
[]
[]
[]
[]
[]
[]
[]
[]
[]
[]
[]
[]
[]
[]
[]
[]
[]
[]
[]
[]
[]
[]
[]
[]
[]
[]
[]
[]
[]
[]
[]
[]
[]
[]
[]
[]
[]
[]
[]
[]
[]
[]
[]
[]
[]
[]
[]
[]
[]
[]
[]
[]
[]
[]
[]
[]
[]
[]
[]
[]
[]
[]
[]
[]
[]
[]
[]
[]
[]
[]
[]
[]
[]
[]
[]
[]
[]
[]
[]
[]
[]
[]
[]
[]
[]
[]
[]
[]
[]
[]
[]
[]
[]
[]
[]
[]
[]
[]
[]
[]
[]
[]
[]
[]
[]
[]
[]
[]
[]
[]
[]
[]
[]
[]
[]
[]
[]
[]
[]
[]
[]
[]
[]
[]
[]
[]
[]
[]
[]
[]
[]
[]
[]
[]
[]
[]
[]
[]
[]
[]
[]
[]
[]
[]
[]
[]
[]
[]
[]
[]
[]
[]
[]
[]
[]
[]
[]
[]
[]
[]
[]
[]
[]
[]
[]
[]
[]
[]
[]
[]
[]
[]
[]
[]
[]
[]
[]
[]
[]
[]
[]
[]
[]
[]
[]
[]
[]
[]
[]
[]
[]
[]
[]
[]
[]
[]
[]
[]
[]
[]
[]
[]
[]
[]
[]
[]
[]
[]
[]
[]
[]
[]
[]
[]
[]
[]
[]
[]
[]
[]
[]
[]
[]
[]
[]
[]
[]
[]
[]
[]
[]
[]
[]
[]
[]
[]
[]
[]
[]
[]
[]
[]
[]
[]
[]
[]
[]
[]
[]
[]
[]
[]
[]
[]
[]
[]
[]
[]
[]
[]
[]
[]
[]
[]
[]
[]
[]
[]
[]
[]
[]
[]
[]
[]
[]
[]
[]
[]
[]
[]
[]
[]
[]
[]
[]
[]
[]
[]
[]
[]
[]
[]
[]
[]
[]
[]
[]
[]
[]
[]
[]
[]
[]
[]
[]
[]
[]
[]
[]
[]
[]
[]
[]
[]
[]
[]
[]
[]
[]
[]
[]
[]
[]
[]
[]
[]
[]
[]
[]
[]
[]
[]
[]
[]
[]
[]
[]
[]
[]
[]
[]
[]
[]
[]
[]
[]
[]
[]
[]
[]
[]
[]
[]
[]
[]
[]
[]
[]
[]
[]
[]
[]
[]
[]
[]
[]
[]
[]
[]
[]
[]
[]
[]
[]
[]
[]
[]
[]
[]
[]
[]
[]
[]
[]
[]
[]
[]
[]
[]
[]
[]
[]
[]
[]
[]
[]
[]
[]
[]
[]
[]
[]
[]
[]
[]
[]
[]
[]
[]
[]
[]
[]
[]
[]
[]
[]
[]
[]
[]
[]
[]
[]
[]
[]
[]
[]
[]
[]
[]
[]
[]
[]
[]
[]
[]
[]
[]
[]
[]
[]
[]
[]
[]
[]
[]
[]
[]
[]
[]
[]
[]
[]
[]
[]
[]
[]
[]
[]
[]
[]
[]
[]
[]
[]
[]
[]
[]
[]
[]
[]
[]
[]
[]
[]
[]
[]
[]
[]
[]
[]
[]
[]
[]
[]
[]
[]
[]
[]
[]
[]
[]
[]
[]
[]
[]
[]
[]
[]
[]
[]
[]
[]
[]
[]
[]
[]
[]
[]
[]
[]
[]
[]
[]
[]
[]
[]
[]
[]
[]
[]
[]
[]
[]
[]
[]
[]
[]
[]
[]
[]
[]
[]
[]
[]
[]
[]
[]
[]
[]
[]
[]
[]
[]
[]
[]
[]
[]
[]
[]
[]
[]
[]
[]
[]
[]
[]
[]
[]
[]
[]
[]
[]
[]
[]
[]
[]
[]
[]
[]
[]
[]
[]
[]
[]
[]
[]
[]
[]
[]
[]
[]
[]
[]
[]
[]
[]
[]
[]
[]
[]
[]
[]
[]
[]
[]
[]
[]
[]
[]
[]
[]
[]
[]
[]
[]
[]
[]
[]
[]
[]
[]
[]
[]
[]
[]
[]
[]
[]
[]
[]
[]
[]
[]
[]
[]
[]
[]
[]
[]
[]
[]
[]
[]
[]
[]
[]
[]
[]
[]
[]
[]
[]
[]
[]
[]
[]
[]
[]
[]
[]
[]
[]
[]
[]
[]
[]
[]
[]
[]
[]
[]
[]
[]
[]
[]
[]
[]
[]
[]
[]
[]
[]
[]
[]
[]
[]
[]
[]
[]
[]
[]
[]
[]
[]
[]
[]
[]
[]
[]
[]
[]
[]
[]
[]
[]
[]
[]
[]
[]
[]
[]
[]
[]
[]
[]
[]
[]
[]
[]
[]
[]
[]
[]
[]
[]
[]
[]
[]
[]
[]
[]
[]
[]
[]
[]
[]
[]
[]
[]
[]
[]
[]
[]
[]
[]
[]
[]
[]
[]
[]
[]
[]
[]
[]
[]
[]
[]
[]
[]
[]
[]
[]
[]
[]
[]
[]
[]
[]
[]
[]
[]
[]
[]
[]
[]
[]
[]
[]
[]
[]
[]
[]
[]
[]
[]
[]
[]
[]
[]
[]
[]
[]
[]
[]
[]
[]
[]
[]
[]
[]
[]
[]
[]
[]
[]
[]
[]
[]
[]
[]
[]
[]
[]
[]
[]
[]
[]
[]
[]
[]
[]
[]
[]
[]
[]
[]
[]
[]
[]
[]
[]
[]
[]
[]
[]
[]
[]
[]
[]
[]
[]
[]
[]
[]
[]
[]
[]
[]
[]
[]
[]
[]
[]
[]
[]
[]
[]
[]
[]
[]
[]
[]
[]
[]
[]
[]
[]
[]
[]
[]
[]
[]
[]
[]
[]
[]
[]
[]
[]
[]
[]
[]
[]
[]
[]
[]
[]
[]
[]
[]
[]
[]
[]
[]
[]
[]
[]
[]
[]
[]
[]
[]
[]
[]
[]
[]
[]
[]
[]
[]
[]
[]
[]
[]
[]
[]
[]
[]
[]
[]
[]
[]
[]
[]
[]
[]
[]
[]
[]
[]
[]
[]
[]
[]
[]
[]
[]
[]
[]
[]
[]
[]
[]
[]
[]
[]
[]
[]
[]
[]
[]
[]
[]
[]
[]
[]
[]
[]
[]
[]
[]
[]
[]
[]
[]
[]
[]
[]
[]
[]
[]
[]
[]
[]
[]
[]
[]
[]
[]
[]
[]
[]
[]
[]
[]
[]
[]
[]
[]
[]
[]
[]
[]
[]
[]
[]
[]
[]
[]
[]
[]
[]
[]
[]
[]
[]
[]
[]
[]
[]
[]
[]
[]
[]
[]
[]
[]
[]
[]
[]
[]
[]
[]
[]
[]
[]
[]
[]
[]
[]
[]
[]
[]
[]
[]
[]
[]
[]
[]
[]
[]
[]
[]
[]
[]
[]
[]
[]
[]
[]
[]
[]
[]
[]
[]
[]
[]
[]
[]
[]
[]
[]
[]
[]
[]
[]
[]
[]
[]
[]
[]
[]
[]
[]
[]
[]
[]
[]
[]
[]
[]
[]
[]
[]
[]
[]
[]
[]
[]
[]
[]
[]
[]
[]
[]
[]
[]
[]
[]
[]
[]
[]
[]
[]
[]
[]
[]
[]
[]
[]
[]
[]
[]
[]
[]
[]
[]
[]
[]
[]
[]
[]
[]
[]
[]
[]
[]
[]
[]
[]
[]
[]
[]
[]
[]
[]
[]
[]
[]
[]
[]
[]
[]
[]
[]
[]
[]
[]
[]
[]
[]
[]
[]
[]
[]
[]
[]
[]
[]
[]
[]
[]
[]
[]
[]
[]
[]
[]
[]
[]
[]
[]
[]
[]
[]
[]
[]
[]
[]
[]
[]
[]
[]
[]
[]
[]
[]
[]
[]
[]
[]
[]
[]
[]
[]
[]
[]
[]
[]
[]
[]
[]
[]
[]
[]
[]
[]
[]
[]
[]
[]
[]
[]
[]
[]
[]
[]
[]
[]
[]
[]
[]
[]
[]
[]
[]
[]
[]
[]
[]
[]
[]
[]
[]
[]
[]
[]
[]
[]
[]
[]
[]
[]
[]
[]
[]
[]
[]
[]
[]
[]
[]
[]
[]
[]
[]
[]
[]
[]
[]
[]
[]
[]
[]
[]
[]
[]
[]
[]
[]
[]
[]
[]
[]
[]
[]
[]
[]
[]
[]
[]
[]
[]
[]
[]
[]
[]
[]
[]
[]
[]
[]
[]
[]
[]
[]
[]
[]
[]
[]
[]
[]
[]
[]
[]
[]
[]
[]
[]
[]
[]
[]
[]
[]
[]
[]
[]
[]
[]
[]
[]
[]
[]
[]
[]
[]
[]
[]
[]
[]
[]
[]
[]
[]
[]
[]
[]
[]
[]
[]
[]
[]
[]
[]
[]
[]
[]
[]
[]
[]
[]
[]
[]
[]
[]
[]
[]
[]
[]
[]
[]
[]
[]
[]
[]
[]
[]
[]
[]
[]
[]
[]
[]
[]
[]
[]
[]
[]
[]
[]
[]
[]
[]
[]
[]
[]
[]
[]
[]
[]
[]
[]
[]
[]
[]
[]
[]
[]
[]
[]
[]
[]
[]
[]
[]
[]
[]
[]
[]
[]
[]
[]
[]
[]
[]
[]
[]
[]
[]
[]
[]
[]
[]
[]
[]
[]
[]
[]
[]
[]
[]
[]
[]
[]
[]
[]
[]
[]
[]
[]
[]
[]
[]
[]
[]
[]
[]
[]
[]
[]
[]
[]
[]
[]
[]
[]
[]
[]
[]
[]
[]
[]
[]
[]
[]
[]
[]
[]
[]
[]
[]
[]
[]
[]
[]
[]
[]
[]
[]
[]
[]
[]
[]
[]
[]
[]
[]
[]
[]
[]
[]
[]
[]
[]
[]
[]
[]
[]
[]
[]
[]
[]
[]
[]
[]
[]
[]
[]
[]
[]
[]
[]
[]
[]
[]
[]
[]
[]
[]
[]
[]
[]
[]
[]
[]
[]
[]
[]
[]
[]
[]
[]
[]
[]
[]
[]
[]
[]
[]
[]
[]
[]
[]
[]
[]
[]
[]
[]
[]
[]
[]
[]
[]
[]
[]
[]
[]
[]
[]
[]
[]
[]
[]
[]
[]
[]
[]
[]
[]
[]
[]
[]
[]
[]
[]
[]
[]
[]
[]
[]
[]
[]
[]
[]
[]
[]
[]
[]
[]
[]
[]
[]
[]
[]
[]
[]
[]
[]
[]
[]
[]
[]
[]
[]
[]
[]
[]
[]
[]
[]
[]
[]
[]
[]
[]
[]
[]
[]
[]
[]
[]
[]
[]
[]
[]
[]
[]
[]
[]
[]
[]
[]
[]
[]
[]
[]
[]
[]
[]
[]
[]
[]
[]
[]
[]
[]
[]
[]
[]
[]
[]
[]
[]
[]
[]
[]
[]
[]
[]
[]
[]
[]
[]
[]
[]
[]
[]
[]
[]
[]
[]
[]
[]
[]
[]
[]
[]
[]
[]
[]
[]
[]
[]
[]
[]
[]
[]
[]
[]
[]
[]
[]
[]
[]
[]
[]
[]
[]
[]
[]
[]
[]
[]
[]
[]
[]
[]
[]
[]
[]
[]
[]
[]
[]
[]
[]
[]
[]
[]
[]
[]
[]
[]
[]
[]
[]
[]
[]
[]
[]
[]
[]
[]
[]
[]
[]
[]
[]
[]
[]
[]
[]
[]
[]
[]
[]
[]
[]
[]
[]
[]
[]
[]
[]
[]
[]
[]
[]
[]
[]
[]
[]
[]
[]
[]
[]
[]
[]
[]
[]
[]
[]
[]
[]
[]
[]
[]
[]
[]
[]
[]
[]
[]
[]
[]
[]
[]
[]
[]
[]
[]
[]
[]
[]
[]
[]
[]
[]
[]
[]
[]
[]
[]
[]
[]
[]
[]
[]
[]
[]
[]
[]
[]
[]
[]
[]
[]
[]
[]
[]
[]
[]
[]
[]
[]
[]
[]
[]
[]
[]
[]
[]
[]
[]
[]
[]
[]
[]
[]
[]
[]
[]
[]
[]
[]
[]
[]
[]
[]
[]
[]
[]
[]
[]
[]
[]
[]
[]
[]
[]
[]
[]
[]
[]
[]
[]
[]
[]
[]
[]
[]
[]
[]
[]
[]
[]
[]
[]
[]
[]
[]
[]
[]
[]
[]
[]
[]
[]
[]
[]
[]
[]
[]
[]
[]
[]
[]
[]
[]
[]
[]
[]
[]
[]
[]
[]
[]
[]
[]
[]
[]
[]
[]
[]
[]
[]
[]
[]
[]
[]
[]
[]
[]
[]
[]
[]
[]
[]
[]
[]
[]
[]
[]
[]
[]
[]
[]
[]
[]
[]
[]
[]
[]
[]
[]
[]
[]
[]
[]
[]
[]
[]
[]
[]
[]
[]
[]
[]
[]
[]
[]
[]
[]
[]
[]
[]
[]
[]
[]
[]
[]
[]
[]
[]
[]
[]
[]
[]
[]
[]
[]
[]
[]
[]
[]
[]
[]
[]
[]
[]
[]
[]
[]
[]
[]
[]
[]
[]
[]
[]
[]
[]
[]
[]
[]
[]
[]
[]
[]
[]
[]
[]
[]
[]
[]
[]
[]
[]
[]
[]
[]
[]
[]
[]
[]
[]
[]
[]
[]
[]
[]
[]
[]
[]
[]
[]
[]
[]
[]
[]
[]
[]
[]
[]
[]
[]
[]
[]
[]
[]
[]
[]
[]
[]
[]
[]
[]
[]
[]
[]
[]
[]
[]
[]
[]
[]
[]
[]
[]
[]
[]
[]
[]
[]
[]
[]
[]
[]
[]
[]
[]
[]
[]
[]
[]
[]
[]
[]
[]
[]
[]
[]
[]
[]
[]
[]
[]
[]
[]
[]
[]
[]
[]
[]
[]
[]
[]
[]
[]
[]
[]
[]
[]
[]
[]
[]
[]
[]
[]
[]
[]
[]
[]
[]
[]
[]
[]
[]
[]
[]
[]
[]
[]
[]
[]
[]
[]
[]
[]
[]
[]
[]
[]
[]
[]
[]
[]
[]
[]
[]
[]
[]
[]
[]
[]
[]
[]
[]
[]
[]
[]
[]
[]
[]
[]
[]
[]
[]
[]
[]
[]
[]
[]
[]
[]
[]
[]
[]
[]
[]
[]
[]
[]
[]
[]
[]
[]
[]
[]
[]
[]
[]
[]
[]
[]
[]
[]
[]
[]
[]
[]
[]
[]
[]
[]
[]
[]
[]
[]
[]
[]
[]
[]
[]
[]
[]
[]
[]
[]
[]
[]
[]
[]
[]
[]
[]
[]
[]
[]
[]
[]
[]
[]
[]
[]
[]
[]
[]
[]
[]
[]
[]
[]
[]
[]
[]
[]
[]
[]
[]
[]
[]
[]
[]
[]
[]
[]
[]
[]
[]
[]
[]
[]
[]
[]
[]
[]
[]
[]
[]
[]
[]
[]
[]
[]
[]
[]
[]
[]
[]
[]
[]
[]
[]
[]
[]
[]
[]
[]
[]
[]
[]
[]
[]
[]
[]
[]
[]
[]
[]
[]
[]
[]
[]
[]
[]
[]
[]
[]
[]
[]
[]
[]
[]
[]
[]
[]
[]
[]
[]
[]
[]
[]
[]
[]
[]
[]
[]
[]
[]
[]
[]
[]
[]
[]
[]
[]
[]
[]
[]
[]
[]
[]
[]
[]
[]
[]
[]
[]
[]
[]
[]
[]
[]
[]
[]
[]
[]
[]
[]
[]
[]
[]
[]
[]
[]
[]
[]
[]
[]
[]
[]
[]
[]
[]
[]
[]
[]
[]
[]
[]
[]
[]
[]
[]
[]
[]
[]
[]
[]
[]
[]
[]
[]
[]
[]
[]
[]
[]
[]
[]
[]
[]
[]
[]
[]
[]
[]
[]
[]
[]
[]
[]
[]
[]
[]
[]
[]
[]
[]
[]
[]
[]
[]
[]
[]
[]
[]
[]
[]
[]
[]
[]
[]
[]
[]
[]
[]
[]
[]
[]
[]
[]
[]
[]
[]
[]
[]
[]
[]
[]
[]
[]
[]
[]
[]
[]
[]
[]
[]
[]
[]
[]
[]
[]
[]
[]
[]
[]
[]
[]
[]
[]
[]
[]
[]
[]
[]
[]
[]
[]
[]
[]
[]
[]
[]
[]
[]
[]
[]
[]
[]
[]
[]
[]
[]
[]
[]
[]
[]
[]
[]
[]
[]
[]
[]
[]
[]
[]
[]
[]
[]
[]
[]
[]
[]
[]
[]
[]
[]
[]
[]
[]
[]
[]
[]
[]
[]
[]
[]
[]
[]
[]
[]
[]
[]
[]
[]
[]
[]
[]
[]
[]
[]
[]
[]
[]
[]
[]
[]
[]
[]
[]
[]
[]
[]
[]
[]
[]
[]
[]
[]
[]
[]
[]
[]
[]
[]
[]
[]
[]
[]
[]
[]
[]
[]
[]
[]
[]
[]
[]
[]
[]
[]
[]
[]
[]
[]
[]
[]
[]
[]
[]
[]
[]
[]
[]
[]
[]
[]
[]
[]
[]
[]
[]
[]
[]
[]
[]
[]
[]
[]
[]
[]
[]
[]
[]
[]
[]
[]
[]
[]
[]
[]
[]
[]
[]
[]
[]
[]
[]
[]
[]
[]
[]
[]
[]
[]
[]
[]
[]
[]
[]
[]
[]
[]
[]
[]
[]
[]
[]
[]
[]
[]
[]
[]
[]
[]
[]
[]
[]
[]
[]
[]
[]
[]
[]
[]
[]
[]
[]
[]
[]
[]
[]
[]
[]
[]
[]
[]
[]
[]
[]
[]
[]
[]
[]
[]
[]
[]
[]
[]
[]
[]
[]
[]
[]
[]
[]
[]
[]
[]
[]
[]
[]
[]
[]
[]
[]
[]
[]
[]
[]
[]
[]
[]
[]
[]
[]
[]
[]
[]
[]
[]
[]
[]
[]
[]
[]
[]
[]
[]
[]
[]
[]
[]
[]
[]
[]
[]
[]
[]
[]
[]
[]
[]
[]
[]
[]
[]
[]
[]
[]
[]
[]
[]
[]
[]
[]
[]
[]
[]
[]
[]
[]
[]
[]
[]
[]
[]
[]
[]
[]
[]
[]
[]
[]
[]
[]
[]
[]
[]
[]
[]
[]
[]
[]
[]
[]
[]
[]
[]
[]
[]
[]
[]
[]
[]
[]
[]
[]
[]
[]
[]
[]
[]
[]
[]
[]
[]
[]
[]
[]
[]
[]
[]
[]
[]
[]
[]
[]
[]
[]
[]
[]
[]
[]
[]
[]
[]
[]
[]
[]
[]
[]
[]
[]
[]
[]
[]
[]
[]
[]
[]
[]
[]
[]
[]
[]
[]
[]
[]
[]
[]
[]
[]
[]
[]
[]
[]
[]
[]
[]
[]
[]
[]
[]
[]
[]
[]
[]
[]
[]
[]
[]
[]
[]
[]
[]
[]
[]
[]
[]
[]
[]
[]
[]
[]
[]
[]
[]
[]
[]
[]
[]
[]
[]
[]
[]
[]
[]
[]
[]
[]
[]
[]
[]
[]
[]
[]
[]
[]
[]
[]
[]
[]
[]
[]
[]
[]
[]
[]
[]
[]
[]
[]
[]
[]
[]
[]
[]
[]
[]
[]
[]
[]
[]
[]
[]
[]
[]
[]
[]
[]
[]
[]
[]
[]
[]
[]
[]
[]
[]
[]
[]
[]
[]
[]
[]
[]
[]
[]
[]
[]
[]
[]
[]
[]
[]
[]
[]
[]
[]
[]
[]
[]
[]
[]
[]
[]
[]
[]
[]
[]
[]
[]
[]
[]
[]
[]
[]
[]
[]
[]
[]
[]
[]
[]
[]
[]
[]
[]
[]
[]
[]
[]
[]
[]
[]
[]
[]
[]
[]
[]
[]
[]
[]
[]
[]
[]
[]
[]
[]
[]
[]
[]
[]
[]
[]
[]
[]
[]
[]
[]
[]
[]
[]
[]
[]
[]
[]
[]
[]
[]
[]
[]
[]
[]
[]
[]
[]
[]
[]
[]
[]
[]
[]
[]
[]
[]
[]
[]
[]
[]
[]
[]
[]
[]
[]
[]
[]
[]
[]
[]
[]
[]
[]
[]
[]
[]
[]
[]
[]
[]
[]
[]
[]
[]
[]
[]
[]
[]
[]
[]
[]
[]
[]
[]
[]
[]
[]
[]
[]
[]
[]
[]
[]
[]
[]
[]
[]
[]
[]
[]
[]
[]
[]
[]
[]
[]
[]
[]
[]
[]
[]
[]
[]
[]
[]
[]
[]
[]
[]
[]
[]
[]
[]
[]
[]
[]
[]
[]
[]
[]
[]
[]
[]
[]
[]
[]
[]
[]
[]
[]
[]
[]
[]
[]
[]
[]
[]
[]
[]
[]
[]
[]
[]
[]
[]
[]
[]
[]
[]
[]
[]
[]
[]
[]
[]
[]
[]
[]
[]
[]
[]
[]
[]
[]
[]
[]
[]
[]
[]
[]
[]
[]
[]
[]
[]
[]
[]
[]
[]
[]
[]
[]
[]
[]
[]
[]
[]
[]
[]
[]
[]
[]
[]
[]
[]
[]
[]
[]
[]
[]
[]
[]
[]
[]
[]
[]
[]
[]
[]
[]
[]
[]
[]
[]
[]
[]
[]
[]
[]
[]
[]
[]
[]
[]
[]
[]
[]
[]
[]
[]
[]
[]
[]
[]
[]
[]
[]
[]
[]
[]
[]
[]
[]
[]
[]
[]
[]
[]
[]
[]
[]
[]
[]
[]
[]
[]
[]
[]
[]
[]
[]
[]
[]
[]
[]
[]
[]
[]
[]
[]
[]
[]
[]
[]
[]
[]
[]
[]
[]
[]
[]
[]
[]
[]
[]
[]
[]
[]
[]
[]
[]
[]
[]
[]
[]
[]
[]
[]
[]
[]
[]
[]
[]
[]
[]
[]
[]
[]
[]
[]
[]
[]
[]
[]
[]
[]
[]
[]
[]
[]
[]
[]
[]
[]
[]
[]
[]
[]
[]
[]
[]
[]
[]
[]
[]
[]
[]
[]
[]
[]
[]
[]
[]
[]
[]
[]
[]
[]
[]
[]
[]
[]
[]
[]
[]
[]
[]
[]
[]
[]
[]
[]
[]
[]
[]
[]
[]
[]
[]
[]
[]
[]
[]
[]
[]
[]
[]
[]
[]
[]
[]
[]
[]
[]
[]
[]
[]
[]
[]
[]
[]
[]
[]
[]
[]
[]
[]
[]
[]
[]
[]
[]
[]
[]
[]
[]
[]
[]
[]
[]
[]
[]
[]
[]
[]
[]
[]
[]
[]
[]
[]
[]
[]
[]
[]
[]
[]
[]
[]
[]
[]
[]
[]
[]
[]
[]
[]
[]
[]
[]
[]
[]
[]
[]
[]
[]
[]
[]
[]
[]
[]
[]
[]
[]
[]
[]
[]
[]
[]
[]
[]
[]
[]
[]
[]
[]
[]
[]
[]
[]
[]
[]
[]
[]
[]
[]
[]
[]
[]
[]
[]
[]
[]
[]
[]
[]
[]
[]
[]
[]
[]
[]
[]
[]
[]
[]
[]
[]
[]
[]
[]
[]
[]
[]
[]
[]
[]
[]
[]
[]
[]
[]
[]
[]
[]
[]
[]
[]
[]
[]
[]
[]
[]
[]
[]
[]
[]
[]
[]
[]
[]
[]
[]
[]
[]
[]
[]
[]
[]
[]
[]
[]
[]
[]
[]
[]
[]
[]
[]
[]
[]
[]
[]
[]
[]
[]
[]
[]
[]
[]
[]
[]
[]
[]
[]
[]
[]
[]
[]
[]
[]
[]
[]
[]
[]
[]
[]
[]
[]
[]
[]
[]
[]
[]
[]
[]
[]
[]
[]
[]
[]
[]
[]
[]
[]
[]
[]
[]
[]
[]
[]
[]
[]
[]
[]
[]
[]
[]
[]
[]
[]
[]
[]
[]
[]
[]
[]
[]
[]
[]
[]
[]
[]
[]
[]
[]
[]
[]
[]
[]
[]
[]
[]
[]
[]
[]
[]
[]
[]
[]
[]
[]
[]
[]
[]
[]
[]
[]
[]
[]
[]
[]
[]
[]
[]
[]
[]
[]
[]
[]
[]
[]
[]
[]
[]
[]
[]
[]
[]
[]
[]
[]
[]
[]
[]
[]
[]
[]
[]
[]
[]
[]
[]
[]
[]
[]
[]
[]
[]
[]
[]
[]
[]
[]
[]
[]
[]
[]
[]
[]
[]
[]
[]
[]
[]
[]
[]
[]
[]
[]
[]
[]
[]
[]
[]
[]
[]
[]
[]
[]
[]
[]
[]
[]
[]
[]
[]
[]
[]
[]
[]
[]
[]
[]
[]
[]
[]
[]
[]
[]
[]
[]
[]
[]
[]
[]
[]
[]
[]
[]
[]
[]
[]
[]
[]
[]
[]
[]
[]
[]
[]
[]
[]
[]
[]
[]
[]
[]
[]
[]
[]
[]
[]
[]
[]
[]
[]
[]
[]
[]
[]
[]
[]
[]
[]
[]
[]
[]
[]
[]
[]
[]
[]
[]
[]
[]
[]
[]
[]
[]
[]
[]
[]
[]
[]
[]
[]
[]
[]
[]
[]
[]
[]
[]
[]
[]
[]
[]
[]
[]
[]
[]
[]
[]
[]
[]
[]
[]
[]
[]
[]
[]
[]
[]
[]
[]
[]
[]
[]
[]
[]
[]
[]
[]
[]
[]
[]
[]
[]
[]
[]
[]
[]
[]
[]
[]
[]
[]
[]
[]
[]
[]
[]
[]
[]
[]
[]
[]
[]
[]
[]
[]
[]
[]
[]
[]
[]
[]
[]
[]
[]
[]
[]
[]
[]
[]
[]
[]
[]
[]
[]
[]
[]
[]
[]
[]
[]
[]
[]
[]
[]
[]
[]
[]
[]
[]
[]
[]
[]
[]
[]
[]
[]
[]
[]
[]
[]
[]
[]
[]
[]
[]
[]
[]
[]
[]
[]
[]
[]
[]
[]
[]
[]
[]
[]
[]
[]
[]
[]
[]
[]
[]
[]
[]
[]
[]
[]
[]
[]
[]
[]
[]
[]
[]
[]
[]
[]
[]
[]
[]
[]
[]
[]
[]
[]
[]
[]
[]
[]
[]
[]
[]
[]
[]
[]
[]
[]
[]
[]
[]
[]
[]
[]
[]
[]
[]
[]
[]
[]
[]
[]
[]
[]
[]
[]
[]
[]
[]
[]
[]
[]
[]
[]
[]
[]
[]
[]
[]
[]
[]
[]
[]
[]
[]
[]
[]
[]
[]
[]
[]
[]
[]
[]
[]
[]
[]
[]
[]
[]
[]
[]
[]
[]
[]
[]
[]
[]
[]
[]
[]
[]
[]
[]
[]
[]
[]
[]
[]
[]
[]
[]
[]
[]
[]
[]
[]
[]
[]
[]
[]
[]
[]
[]
[]
[]
[]
[]
[]
[]
[]
[]
[]
[]
[]
[]
[]
[]
[]
[]
[]
[]
[]
[]
[]
[]
[]
[]
[]
[]
[]
[]
[]
[]
[]
[]
[]
[]
[]
[]
[]
[]
[]
[]
[]
[]
[]
[]
[]
[]
[]
[]
[]
[]
[]
[]
[]
[]
[]
[]
[]
[]
[]
[]
[]
[]
[]
[]
[]
[]
[]
[]
[]
[]
[]
[]
[]
[]
[]
[]
[]
[]
[]
[]
[]
[]
[]
[]
[]
[]
[]
[]
[]
[]
[]
[]
[]
[]
[]
[]
[]
[]
[]
[]
[]
[]
[]
[]
[]
[]
[]
[]
[]
[]
[]
[]
[]
[]
[]
[]
[]
[]
[]
[]
[]
[]
[]
[]
[]
[]
[]
[]
[]
[]
[]
[]
[]
[]
[]
[]
[]
[]
[]
[]
[]
[]
[]
[]
[]
[]
[]
[]
[]
[]
[]
[]
[]
[]
[]
[]
[]
[]
[]
[]
[]
[]
[]
[]
[]
[]
[]
[]
[]
[]
[]
[]
[]
[]
[]
[]
[]
[]
[]
[]
[]
[]
[]
[]
[]
[]
[]
[]
[]
[]
[]
[]
[]
[]
[]
[]
[]
[]
[]
[]
[]
[]
[]
[]
[]
[]
[]
[]
[]
[]
[]
[]
[]
[]
[]
[]
[]
[]
[]
[]
[]
[]
[]
[]
[]
[]
[]
[]
[]
[]
[]
[]
[]
[]
[]
[]
[]
[]
[]
[]
[]
[]
[]
[]
[]
[]
[]
[]
[]
[]
[]
[]
[]
[]
[]
[]
[]
[]
[]
[]
[]
[]
[]
[]
[]
[]
[]
[]
[]
[]
[]
[]
[]
[]
[]
[]
[]
[]
[]
[]
[]
[]
[]
[]
[]
[]
[]
[]
[]
[]
[]
[]
[]
[]
[]
[]
[]
[]
[]
[]
[]
[]
[]
[]
[]
[]
[]
[]
[]
[]
[]
[]
[]
[]
[]
[]
[]
[]
[]
[]
[]
[]
[]
[]
[]
[]
[]
[]
[]
[]
[]
[]
[]
[]
[]
[]
[]
[]
[]
[]
[]
[]
[]
[]
[]
[]
[]
[]
[]
[]
[]
[]
[]
[]
[]
[]
[]
[]
[]
[]
[]
[]
[]
[]
[]
[]
[]
[]
[]
[]
[]
[]
[]
[]
[]
[]
[]
[]
[]
[]
[]
[]
[]
[]
[]
[]
[]
[]
[]
[]
[]
[]
[]
[]
[]
[]
[]
[]
[]
[]
[]
[]
[]
[]
[]
[]
[]
[]
[]
[]
[]
[]
[]
[]
[]
[]
[]
[]
[]
[]
[]
[]
[]
[]
[]
[]
[]
[]
[]
[]
[]
[]
[]
[]
[]
[]
[]
[]
[]
[]
[]
[]
[]
[]
[]
[]
[]
[]
[]
[]
[]
[]
[]
[]
[]
[]
[]
[]
[]
[]
[]
[]
[]
[]
[]
[]
[]
[]
[]
[]
[]
[]
[]
[]
[]
[]
[]
[]
[]
[]
[]
[]
[]
[]
[]
[]
[]
[]
[]
[]
[]
[]
[]
[]
[]
[]
[]
[]
[]
[]
[]
[]
[]
[]
[]
[]
[]
[]
[]
[]
[]
[]
[]
[]
[]
[]
[]
[]
[]
[]
[]
[]
[]
[]
[]
[]
[]
[]
[]
[]
[]
[]
[]
[]
[]
[]
[]
[]
[]
[]
[]
[]
[]
[]
[]
[]
[]
[]
[]
[]
[]
[]
[]
[]
[]
[]
[]
[]
[]
[]
[]
[]
[]
[]
[]
[]
[]
[]
[]
[]
[]
[]
[]
[]
[]
[]
[]
[]
[]
[]
[]
[]
[]
[]
[]
[]
[]
[]
[]
[]
[]
[]
[]
[]
[]
[]
[]
[]
[]
[]
[]
[]
[]
[]
[]
[]
[]
[]
[]
[]
[]
[]
[]
[]
[]
[]
[]
[]
[]
[]
[]
[]
[]
[]
[]
[]
[]
[]
[]
[]
[]
[]
[]
[]
[]
[]
[]
[]
[]
[]
[]
[]
[]
[]
[]
[]
[]
[]
[]
[]
[]
[]
[]
[]
[]
[]
[]
[]
[]
[]
[]
[]
[]
[]
[]
[]
[]
[]
[]
[]
[]
[]
[]
[]
[]
[]
[]
[]
[]
[]
[]
[]
[]
[]
[]
[]
[]
[]
[]
[]
[]
[]
[]
[]
[]
[]
[]
[]
[]
[]
[]
[]
[]
[]
[]
[]
[]
[]
[]
[]
[]
[]
[]
[]
[]
[]
[]
[]
[]
[]
[]
[]
[]
[]
[]
[]
[]
[]
[]
[]
[]
[]
[]
[]
[]
[]
[]
[]
[]
[]
[]
[]
[]
[]
[]
[]
[]
[]
[]
[]
[]
[]
[]
[]
[]
[]
[]
[]
[]
[]
[]
[]
[]
[]
[]
[]
[]
[]
[]
[]
[]
[]
[]
[]
[]
[]
[]
[]
[]
[]
[]
[]
[]
[]
[]
[]
[]
[]
[]
[]
[]
[]
[]
[]
[]
[]
[]
[]
[]
[]
[]
[]
[]
[]
[]
[]
[]
[]
[]
[]
[]
[]
[]
[]
[]
[]
[]
[]
[]
[]
[]
[]
[]
[]
[]
[]
[]
[]
[]
[]
[]
[]
[]
[]
[]
[]
[]
[]
[]
[]
[]
[]
[]
[]
[]
[]
[]
[]
[]
[]
[]
[]
[]
[]
[]
[]
[]
[]
[]
[]
[]
[]
[]
[]
[]
[]
[]
[]
[]
[]
[]
[]
[]
[]
[]
[]
[]
[]
[]
[]
[]
[]
[]
[]
[]
[]
[]
[]
[]
[]
[]
[]
[]
[]
[]
[]
[]
[]
[]
[]
[]
[]
[]
[]
[]
[]
[]
[]
[]
[]
[]
[]
[]
[]
[]
[]
[]
[]
[]
[]
[]
[]
[]
[]
[]
[]
[]
[]
[]
[]
[]
[]
[]
[]
[]
[]
[]
[]
[]
[]
[]
[]
[]
[]
[]
[]
[]
[]
[]
[]
[]
[]
[]
[]
[]
[]
[]
[]
[]
[]
[]
[]
[]
[]
[]
[]
[]
[]
[]
[]
[]
[]
[]
[]
[]
[]
[]
[]
[]
[]
[]
[]
[]
[]
[]
[]
[]
[]
[]
[]
[]
[]
[]
[]
[]
[]
[]
[]
[]
[]
[]
[]
[]
[]
[]
[]
[]
[]
[]
[]
[]
[]
[]
[]
[]
[]
[]
[]
[]
[]
[]
[]
[]
[]
[]
[]
[]
[]
[]
[]
[]
[]
[]
[]
[]
[]
[]
[]
[]
[]
[]
[]
[]
[]
[]
[]
[]
[]
[]
[]
[]
[]
[]
[]
[]
[]
[]
[]
[]
[]
[]
[]
[]
[]
[]
[]
[]
[]
[]
[]
[]
[]
[]
[]
[]
[]
[]
[]
[]
[]
[]
[]
[]
[]
[]
[]
[]
[]
[]
[]
[]
[]
[]
[]
[]
[]
[]
[]
[]
[]
[]
[]
[]
[]
[]
[]
[]
[]
[]
[]
[]
[]
[]
[]
[]
[]
[]
[]
[]
[]
[]
[]
[]
[]
[]
[]
[]
[]
[]
[]
[]
[]
[]
[]
[]
[]
[]
[]
[]
[]
[]
[]
[]
[]
[]
[]
[]
[]
[]
[]
[]
[]
[]
[]
[]
[]
[]
[]
[]
[]
[]
[]
[]
[]
[]
[]
[]
[]
[]
[]
[]
[]
[]
[]
[]
[]
[]
[]
[]
[]
[]
[]
[]
[]
[]
[]
[]
[]
[]
[]
[]
[]
[]
[]
[]
[]
[]
[]
[]
[]
[]
[]
[]
[]
[]
[]
[]
[]
[]
[]
[]
[]
[]
[]
[]
[]
[]
[]
[]
[]
[]
[]
[]
[]
[]
[]
[]
[]
[]
[]
[]
[]
[]
[]
[]
[]
[]
[]
[]
[]
[]
[]
[]
[]
[]
[]
[]
[]
[]
[]
[]
[]
[]
[]
[]
[]
[]
[]
[]
[]
[]
[]
[]
[]
[]
[]
[]
[]
[]
[]
[]
[]
[]
[]
[]
[]
[]
[]
[]
[]
[]
[]
[]
[]
[]
[]
[]
[]
[]
[]
[]
[]
[]
[]
[]
[]
[]
[]
[]
[]
[]
[]
[]
[]
[]
[]
[]
[]
[]
[]
[]
[]
[]
[]
[]
[]
[]
[]
[]
[]
[]
[]
[]
[]
[]
[]
[]
[]
[]
[]
[]
[]
[]
[]
[]
[]
[]
[]
[]
[]
[]
[]
[]
[]
[]
[]
[]
[]
[]
[]
[]
[]
[]
[]
[]
[]
[]
[]
[]
[]
[]
[]
[]
[]
[]
[]
[]
[]
[]
[]
[]
[]
[]
[]
[]
[]
[]
[]
[]
[]
[]
[]
[]
[]
[]
[]
[]
[]
[]
[]
[]
[]
[]
[]
[]
[]
[]
[]
[]
[]
[]
[]
[]
[]
[]
[]
[]
[]
[]
[]
[]
[]
[]
[]
[]
[]
[]
[]
[]
[]
[]
[]
[]
[]
[]
[]
[]
[]
[]
[]
[]
[]
[]
[]
[]
[]
[]
[]
[]
[]
[]
[]
[]
[]
[]
[]
[]
[]
[]
[]
[]
[]
[]
[]
[]
[]
[]
[]
[]
[]
[]
[]
[]
[]
[]
[]
[]
[]
[]
[]
[]
[]
[]
[]
[]
[]
[]
[]
[]
[]
[]
[]
[]
[]
[]
[]
[]
[]
[]
[]
[]
[]
[]
[]
[]
[]
[]
[]
[]
[]
[]
[]
[]
[]
[]
[]
[]
[]
[]
[]
[]
[]
[]
[]
[]
[]
[]
[]
[]
[]
[]
[]
[]
[]
[]
[]
[]
[]
[]
[]
[]
[]
[]
[]
[]
[]
[]
[]
[]
[]
[]
[]
[]
[]
[]
[]
[]
[]
[]
[]
[]
[]
[]
[]
[]
[]
[]
[]
[]
[]
[]
[]
[]
[]
[]
[]
[]
[]
[]
[]
[]
[]
[]
[]
[]
[]
[]
[]
[]
[]
[]
[]
[]
[]
[]
[]
[]
[]
[]
[]
[]
[]
[]
[]
[]
[]
[]
[]
[]
[]
[]
[]
[]
[]
[]
[]
[]
[]
[]
[]
[]
[]
[]
[]
[]
[]
[]
[]
[]
[]
[]
[]
[]
[]
[]
[]
[]
[]
[]
[]
[]
[]
[]
[]
[]
[]
[]
[]
[]
[]
[]
[]
[]
[]
[]
[]
[]
[]
[]
[]
[]
[]
[]
[]
[]
[]
[]
[]
[]
[]
[]
[]
[]
[]
[]
[]
[]
[]
[]
[]
[]
[]
[]
[]
[]
[]
[]
[]
[]
[]
[]
[]
[]
[]
[]
[]
[]
[]
[]
[]
[]
[]
[]
[]
[]
[]
[]
[]
[]
[]
[]
[]
[]
[]
[]
[]
[]
[]
[]
[]
[]
[]
[]
[]
[]
[]
[]
[]
[]
[]
[]
[]
[]
[]
[]
[]
[]
[]
[]
[]
[]
[]
[]
[]
[]
[]
[]
[]
[]
[]
[]
[]
[]
[]
[]
[]
[]
[]
[]
[]
[]
[]
[]
[]
[]
[]
[]
[]
[]
[]
[]
[]
[]
[]
[]
[]
[]
[]
[]
[]
[]
[]
[]
[]
[]
[]
[]
[]
[]
[]
[]
[]
[]
[]
[]
[]
[]
[]
[]
[]
[]
[]
[]
[]
[]
[]
[]
[]
[]
[]
[]
[]
[]
[]
[]
[]
[]
[]
[]
[]
[]
[]
[]
[]
[]
[]
[]
[]
[]
[]
[]
[]
[]
[]
[]
[]
[]
[]
[]
[]
[]
[]
[]
[]
[]
[]
[]
[]
[]
[]
[]
[]
[]
[]
[]
[]
[]
[]
[]
[]
[]
[]
[]
[]
[]
[]
[]
[]
[]
[]
[]
[]
[]
[]
[]
[]
[]
[]
[]
[]
[]
[]
[]
[]
[]
[]
[]
[]
[]
[]
[]
[]
[]
[]
[]
[]
[]
[]
[]
[]
[]
[]
[]
[]
[]
[]
[]
[]
[]
[]
[]
[]
[]
[]
[]
[]
[]
[]
[]
[]
[]
[]
[]
[]
[]
[]
[]
[]
[]
[]
[]
[]
[]
[]
[]
[]
[]
[]
[]
[]
[]
[]
[]
[]
[]
[]
[]
[]
[]
[]
[]
[]
[]
[]
[]
[]
[]
[]
[]
[]
[]
[]
[]
[]
[]
[]
[]
[]
[]
[]
[]
[]
[]
[]
[]
[]
[]
[]
[]
[]
[]
[]
[]
[]
[]
[]
[]
[]
[]
[]
[]
[]
[]
[]
[]
[]
[]
[]
[]
[]
[]
[]
[]
[]
[]
[]
[]
[]
[]
[]
[]
[]
[]
[]
[]
[]
[]
[]
[]
[]
[]
[]
[]
[]
[]
[]
[]
[]
[]
[]
[]
[]
[]
[]
[]
[]
[]
[]
[]
[]
[]
[]
[]
[]
[]
[]
[]
[]
[]
[]
[]
[]
[]
[]
[]
[]
[]
[]
[]
[]
[]
[]
[]
[]
[]
[]
[]
[]
[]
[]
[]
[]
[]
[]
[]
[]
[]
[]
[]
[]
[]
[]
[]
[]
[]
[]
[]
[]
[]
[]
[]
[]
[]
[]
[]
[]
[]
[]
[]
[]
[]
[]
[]
[]
[]
[]
[]
[]
[]
[]
[]
[]
[]
[]
[]
[]
[]
[]
[]
[]
[]
[]
[]
[]
[]
[]
[]
[]
[]
[]
[]
[]
[]
[]
[]
[]
[]
[]
[]
[]
[]
[]
[]
[]
[]
[]
[]
[]
[]
[]
[]
[]
[]
[]
[]
[]
[]
[]
[]
[]
[]
[]
[]
[]
[]
[]
[]
[]
[]
[]
[]
[]
[]
[]
[]
[]
[]
[]
[]
[]
[]
[]
[]
[]
[]
[]
[]
[]
[]
[]
[]
[]
[]
[]
[]
[]
[]
[]
[]
[]
[]
[]
[]
[]
[]
[]
[]
[]
[]
[]
[]
[]
[]
[]
[]
[]
[]
[]
[]
[]
[]
[]
[]
[]
[]
[]
[]
[]
[]
[]
[]
[]
[]
[]
[]
[]
[]
[]
[]
[]
[]
[]
[]
[]
[]
[]
[]
[]
[]
[]
[]
[]
[]
[]
[]
[]
[]
[]
[]
[]
[]
[]
[]
[]
[]
[]
[]
[]
[]
[]
[]
[]
[]
[]
[]
[]
[]
[]
[]
[]
[]
[]
[]
[]
[]
[]
[]
[]
[]
[]
[]
[]
[]
[]
[]
[]
[]
[]
[]
[]
[]
[]
[]
[]
[]
[]
[]
[]
[]
[]
[]
[]
[]
[]
[]
[]
[]
[]
[]
[]
[]
[]
[]
[]
[]
[]
[]
[]
[]
[]
[]
[]
[]
[]
[]
[]
[]
[]
[]
[]
[]
[]
[]
[]
[]
[]
[]
[]
[]
[]
[]
[]
[]
[]
[]
[]
[]
[]
[]
[]
[]
[]
[]
[]
[]
[]
[]
[]
[]
[]
[]
[]
[]
[]
[]
[]
[]
[]
[]
[]
[]
[]
[]
[]
[]
[]
[]
[]
[]
[]
[]
[]
[]
[]
[]
[]
[]
[]
[]
[]
[]
[]
[]
[]
[]
[]
[]
[]
[]
[]
[]
[]
[]
[]
[]
[]
[]
[]
[]
[]
[]
[]
[]
[]
[]
[]
[]
[]
[]
[]
[]
[]
[]
[]
[]
[]
[]
[]
[]
[]
[]
[]
[]
[]
[]
[]
[]
[]
[]
[]
[]
[]
[]
[]
[]
[]
[]
[]
[]
[]
[]
[]
[]
[]
[]
[]
[]
[]
[]
[]
[]
[]
[]
[]
[]
[]
[]
[]
[]
[]
[]
[]
[]
[]
[]
[]
[]
[]
[]
[]
[]
[]
[]
[]
[]
[]
[]
[]
[]
[]
[]
[]
[]
[]
[]
[]
[]
[]
[]
[]
[]
[]
[]
[]
[]
[]
[]
[]
[]
[]
[]
[]
[]
[]
[]
[]
[]
[]
[]
[]
[]
[]
[]
[]
[]
[]
[]
[]
[]
[]
[]
[]
[]
[]
[]
[]
[]
[]
[]
[]
[]
[]
[]
[]
[]
[]
[]
[]
[]
[]
[]
[]
[]
[]
[]
[]
[]
[]
[]
[]
[]
[]
[]
[]
[]
[]
[]
[]
[]
[]
[]
[]
[]
[]
[]
[]
[]
[]
[]
[]
[]
[]
[]
[]
[]
[]
[]
[]
[]
[]
[]
[]
[]
[]
[]
[]
[]
[]
[]
[]
[]
[]
[]
[]
[]
[]
[]
[]
[]
[]
[]
[]
[]
[]
[]
[]
[]
[]
[]
[]
[]
[]
[]
[]
[]
[]
[]
[]
[]
[]
[]
[]
[]
[]
[]
[]
[]
[]
[]
[]
[]
[]
[]
[]
[]
[]
[]
[]
[]
[]
[]
[]
[]
[]
[]
[]
[]
[]
[]
[]
[]
[]
[]
[]
[]
[]
[]
[]
[]
[]
[]
[]
[]
[]
[]
[]
[]
[]
[]
[]
[]
[]
[]
[]
[]
[]
[]
[]
[]
[]
[]
[]
[]
[]
[]
[]
[]
[]
[]
[]
[]
[]
[]
[]
[]
[]
[]
[]
[]
[]
[]
[]
[]
[]
[]
[]
[]
[]
[]
[]
[]
[]
[]
[]
[]
[]
[]
[]
[]
[]
[]
[]
[]
[]
[]
[]
[]
[]
[]
[]
[]
[]
[]
[]
[]
[]
[]
[]
[]
[]
[]
[]
[]
[]
[]
[]
[]
[]
[]
[]
[]
[]
[]
[]
[]
[]
[]
[]
[]
[]
[]
[]
[]
[]
[]
[]
[]
[]
[]
[]
[]
[]
[]
[]
[]
[]
[]
[]
[]
[]
[]
[]
[]
[]
[]
[]
[]
[]
[]
[]
[]
[]
[]
[]
[]
[]
[]
[]
[]
[]
[]
[]
[]
[]
[]
[]
[]
[]
[]
[]
[]
[]
[]
[]
[]
[]
[]
[]
[]
[]
[]
[]
[]
[]
[]
[]
[]
[]
[]
[]
[]
[]
[]
[]
[]
[]
[]
[]
[]
[]
[]
[]
[]
[]
[]
[]
[]
[]
[]
[]
[]
[]
[]
[]
[]
[]
[]
[]
[]
[]
[]
[]
[]
[]
[]
[]
[]
[]
[]
[]
[]
[]
[]
[]
[]
[]
[]
[]
[]
[]
[]
[]
[]
[]
[]
[]
[]
[]
[]
[]
[]
[]
[]
[]
[]
[]
[]
[]
[]
[]
[]
[]
[]
[]
[]
[]
[]
[]
[]
[]
[]
[]
[]
[]
[]
[]
[]
[]
[]
[]
[]
[]
[]
[]
[]
[]
[]
[]
[]
[]
[]
[]
[]
[]
[]
[]
[]
[]
[]
[]
[]
[]
[]
[]
[]
[]
[]
[]
[]
[]
[]
[]
[]
[]
[]
[]
[]
[]
[]
[]
[]
[]
[]
[]
[]
[]
[]
[]
[]
[]
[]
[]
[]
[]
[]
[]
[]
[]
[]
[]
[]
[]
[]
[]
[]
[]
[]
[]
[]
[]
[]
[]
[]
[]
[]
[]
[]
[]
[]
[]
[]
[]
[]
[]
[]
[]
[]
[]
[]
[]
[]
[]
[]
[]
[]
[]
[]
[]
[]
[]
[]
[]
[]
[]
[]
[]
[]
[]
[]
[]
[]
[]
[]
[]
[]
[]
[]
[]
[]
[]
[]
[]
[]
[]
[]
[]
[]
[]
[]
[]
[]
[]
[]
[]
[]
[]
[]
[]
[]
[]
[]
[]
[]
[]
[]
[]
[]
[]
[]
[]
[]
[]
[]
[]
[]
[]
[]
[]
[]
[]
[]
[]
[]
[]
[]
[]
[]
[]
[]
[]
[]
[]
[]
[]
[]
[]
[]
[]
[]
[]
[]
[]
[]
[]
[]
[]
[]
[]
[]
[]
[]
[]
[]
[]
[]
[]
[]
[]
[]
[]
[]
[]
[]
[]
[]
[]
[]
[]
[]
[]
[]
[]
[]
[]
[]
[]
[]
[]
[]
[]
[]
[]
[]
[]
[]
[]
[]
[]
[]
[]
[]
[]
[]
[]
[]
[]
[]
[]
[]
[]
[]
[]
[]
[]
[]
[]
[]
[]
[]
[]
[]
[]
[]
[]
[]
[]
[]
[]
[]
[]
[]
[]
[]
[]
[]
[]
[]
[]
[]
[]
[]
[]
[]
[]
[]
[]
[]
[]
[]
[]
[]
[]
[]
[]
[]
[]
[]
[]
[]
[]
[]
[]
[]
[]
[]
[]
[]
[]
[]
[]
[]
[]
[]
[]
[]
[]
[]
[]
[]
[]
[]
[]
[]
[]
[]
[]
[]
[]
[]
[]
[]
[]
[]
[]
[]
[]
[]
[]
[]
[]
[]
[]
[]
[]
[]
[]
[]
[]
[]
[]
[]
[]
[]
[]
[]
[]
[]
[]
[]
[]
[]
[]
[]
[]
[]
[]
[]
[]
[]
[]
[]
[]
[]
[]
[]
[]
[]
[]
[]
[]
[]
[]
[]
[]
[]
[]
[]
[]
[]
[]
[]
[]
[]
[]
[]
[]
[]
[]
[]
[]
[]
[]
[]
[]
[]
[]
[]
[]
[]
[]
[]
[]
[]
[]
[]
[]
[]
[]
[]
[]
[]
[]
[]
[]
[]
[]
[]
[]
[]
[]
[]
[]
[]
[]
[]
[]
[]
[]
[]
[]
[]
[]
[]
[]
[]
[]
[]
[]
[]
[]
[]
[]
[]
[]
[]
[]
[]
[]
[]
[]
[]
[]
[]
[]
[]
[]
[]
[]
[]
[]
[]
[]
[]
[]
[]
[]
[]
[]
[]
[]
[]
[]
[]
[]
[]
[]
[]
[]
[]
[]
[]
[]
[]
[]
[]
[]
[]
[]
[]
[]
[]
[]
[]
[]
[]
[]
[]
[]
[]
[]
[]
[]
[]
[]
[]
[]
[]
[]
[]
[]
[]
[]
[]
[]
[]
[]
[]
[]
[]
[]
[]
[]
[]
[]
[]
[]
[]
[]
[]
[]
[]
[]
[]
[]
[]
[]
[]
[]
[]
[]
[]
[]
[]
[]
[]
[]
[]
[]
[]
[]
[]
[]
[]
[]
[]
[]
[]
[]
[]
[]
[]
[]
[]
[]
[]
[]
[]
[]
[]
[]
[]
[]
[]
[]
[]
[]
[]
[]
[]
[]
[]
[]
[]
[]
[]
[]
[]
[]
[]
[]
[]
[]
[]
[]
[]
[]
[]
[]
[]
[]
[]
[]
[]
[]
[]
[]
[]
[]
[]
[]
[]
[]
[]
[]
[]
[]
[]
[]
[]
[]
[]
[]
[]
[]
[]
[]
[]
[]
[]
[]
[]
[]
[]
[]
[]
[]
[]
[]
[]
[]
[]
[]
[]
[]
[]
[]
[]
[]
[]
[]
[]
[]
[]
[]
[]
[]
[]
[]
[]
[]
[]
[]
[]
[]
[]
[]
[]
[]
[]
[]
[]
[]
[]
[]
[]
[]
[]
[]
[]
[]
[]
[]
[]
[]
[]
[]
[]
[]
[]
[]
[]
[]
[]
[]
[]
[]
[]
[]
[]
[]
[]
[]
[]
[]
[]
[]
[]
[]
[]
[]
[]
[]
[]
[]
[]
[]
[]
[]
[]
[]
[]
[]
[]
[]
[]
[]
[]
[]
[]
[]
[]
[]
[]
[]
[]
[]
[]
[]
[]
[]
[]
[]
[]
[]
[]
[]
[]
[]
[]
[]
[]
[]
[]
[]
[]
[]
[]
[]
[]
[]
[]
[]
[]
[]
[]
[]
[]
[]
[]
[]
[]
[]
[]
[]
[]
[]
[]
[]
[]
[]
[]
[]
[]
[]
[]
[]
[]
[]
[]
[]
[]
[]
[]
[]
[]
[]
[]
[]
[]
[]
[]
[]
[]
[]
[]
[]
[]
[]
[]
[]
[]
[]
[]
[]
[]
[]
[]
[]
[]
[]
[]
[]
[]
[]
[]
[]
[]
[]
[]
[]
[]
[]
[]
[]
[]
[]
[]
[]
[]
[]
[]
[]
[]
[]
[]
[]
[]
[]
[]
[]
[]
[]
[]
[]
[]
[]
[]
[]
[]
[]
[]
[]
[]
[]
[]
[]
[]
[]
[]
[]
[]
[]
[]
[]
[]
[]
[]
[]
[]
[]
[]
[]
[]
[]
[]
[]
[]
[]
[]
[]
[]
[]
[]
[]
[]
[]
[]
[]
[]
[]
[]
[]
[]
[]
[]
[]
[]
[]
[]
[]
[]
[]
[]
[]
[]
[]
[]
[]
[]
[]
[]
[]
[]
[]
[]
[]
[]
[]
[]
[]
[]
[]
[]
[]
[]
[]
[]
[]
[]
[]
[]
[]
[]
[]
[]
[]
[]
[]
[]
[]
[]
[]
[]
[]
[]
[]
[]
[]
[]
[]
[]
[]
[]
[]
[]
[]
[]
[]
[]
[]
[]
[]
[]
[]
[]
[]
[]
[]
[]
[]
[]
[]
[]
[]
[]
[]
[]
[]
[]
[]
[]
[]
[]
[]
[]
[]
[]
[]
[]
[]
[]
[]
[]
[]
[]
[]
[]
[]
[]
[]
[]
[]
[]
[]
[]
[]
[]
[]
[]
[]
[]
[]
[]
[]
[]
[]
[]
[]
[]
[]
[]
[]
[]
[]
[]
[]
[]
[]
[]
[]
[]
[]
[]
[]
[]
[]
[]
[]
[]
[]
[]
[]
[]
[]
[]
[]
[]
[]
[]
[]
[]
[]
[]
[]
[]
[]
[]
[]
[]
[]
[]
[]
[]
[]
[]
[]
[]
[]
[]
[]
[]
[]
[]
[]
[]
[]
[]
[]
[]
[]
[]
[]
[]
[]
[]
[]
[]
[]
[]
[]
[]
[]
[]
[]
[]
[]
[]
[]
[]
[]
[]
[]
[]
[]
[]
[]
[]
[]
[]
[]
[]
[]
[]
[]
[]
[]
[]
[]
[]
[]
[]
[]
[]
[]
[]
[]
[]
[]
[]
[]
[]
[]
[]
[]
[]
[]
[]
[]
[]
[]
[]
[]
[]
[]
[]
[]
[]
[]
[]
[]
[]
[]
[]
[]
[]
[]
[]
[]
[]
[]
[]
[]
[]
[]
[]
[]
[]
[]
[]
[]
[]
[]
[]
[]
[]
[]
[]
[]
[]
[]
[]
[]
[]
[]
[]
[]
[]
[]
[]
[]
[]
[]
[]
[]
[]
[]
[]
[]
[]
[]
[]
[]
[]
[]
[]
[]
[]
[]
[]
[]
[]
[]
[]
[]
[]
[]
[]
[]
[]
[]
[]
[]
[]
[]
[]
[]
[]
[]
[]
[]
[]
[]
[]
[]
[]
[]
[]
[]
[]
[]
[]
[]
[]
[]
[]
[]
[]
[]
[]
[]
[]
[]
[]
[]
[]
[]
[]
[]
[]
[]
[]
[]
[]
[]
[]
[]
[]
[]
[]
[]
[]
[]
[]
[]
[]
[]
[]
[]
[]
[]
[]
[]
[]
[]
[]
[]
[]
[]
[]
[]
[]
[]
[]
[]
[]
[]
[]
[]
[]
[]
[]
[]
[]
[]
[]
[]
[]
[]
[]
[]
[]
[]
[]
[]
[]
[]
[]
[]
[]
[]
[]
[]
[]
[]
[]
[]
[]
[]
[]
[]
[]
[]
[]
[]
[]
[]
[]
[]
[]
[]
[]
[]
[]
[]
[]
[]
[]
[]
[]
[]
[]
[]
[]
[]
[]
[]
[]
[]
[]
[]
[]
[]
[]
[]
[]
[]
[]
[]
[]
[]
[]
[]
[]
[]
[]
[]
[]
[]
[]
[]
[]
[]
[]
[]
[]
[]
[]
[]
[]
[]
[]
[]
[]
[]
[]
[]
[]
[]
[]
[]
[]
[]
[]
[]
[]
[]
[]
[]
[]
[]
[]
[]
[]
[]
[]
[]
[]
[]
[]
[]
[]
[]
[]
[]
[]
[]
[]
[]
[]
[]
[]
[]
[]
[]
[]
[]
[]
[]
[]
[]
[]
[]
[]
[]
[]
[]
[]
[]
[]
[]
[]
[]
[]
[]
[]
[]
[]
[]
[]
[]
[]
[]
[]
[]
[]
[]
[]
[]
[]
[]
[]
[]
[]
[]
[]
[]
[]
[]
[]
[]
[]
[]
[]
[]
[]
[]
[]
[]
[]
[]
[]
[]
[]
[]
[]
[]
[]
[]
[]
[]
[]
[]
[]
[]
[]
[]
[]
[]
[]
[]
[]
[]
[]
[]
[]
[]
[]
[]
[]
[]
[]
[]
[]
[]
[]
[]
[]
[]
[]
[]
[]
[]
[]
[]
[]
[]
[]
[]
[]
[]
[]
[]
[]
[]
[]
[]
[]
[]
[]
[]
[]
[]
[]
[]
[]
[]
[]
[]
[]
[]
[]
[]
[]
[]
[]
[]
[]
[]
[]
[]
[]
[]
[]
[]
[]
[]
[]
[]
[]
[]
[]
[]
[]
[]
[]
[]
[]
[]
[]
[]
[]
[]
[]
[]
[]
[]
[]
[]
[]
[]
[]
[]
[]
[]
[]
[]
[]
[]
[]
[]
[]
[]
[]
[]
[]
[]
[]
[]
[]
[]
[]
[]
[]
[]
[]
[]
[]
[]
[]
[]
[]
[]
[]
[]
[]
[]
[]
[]
[]
[]
[]
[]
[]
[]
[]
[]
[]
[]
[]
[]
[]
[]
[]
[]
[]
[]
[]
[]
[]
[]
[]
[]
[]
[]
[]
[]
[]
[]
[]
[]
[]
[]
[]
[]
[]
[]
[]
[]
[]
[]
[]
[]
[]
[]
[]
[]
[]
[]
[]
[]
[]
[]
[]
[]
[]
[]
[]
[]
[]
[]
[]
[]
[]
[]
[]
[]
[]
[]
[]
[]
[]
[]
[]
[]
[]
[]
[]
[]
[]
[]
[]
[]
[]
[]
[]
[]
[]
[]
[]
[]
[]
[]
[]
[]
[]
[]
[]
[]
[]
[]
[]
[]
[]
[]
[]
[]
[]
[]
[]
[]
[]
[]
[]
[]
[]
[]
[]
[]
[]
[]
[]
[]
[]
[]
[]
[]
[]
[]
[]
[]
[]
[]
[]
[]
[]
[]
[]
[]
[]
[]
[]
[]
[]
[]
[]
[]
[]
[]
[]
[]
[]
[]
[]
[]
[]
[]
[]
[]
[]
[]
[]
[]
[]
[]
[]
[]
[]
[]
[]
[]
[]
[]
[]
[]
[]
[]
[]
[]
[]
[]
[]
[]
[]
[]
[]
[]
[]
[]
[]
[]
[]
[]
[]
[]
[]
[]
[]
[]
[]
[]
[]
[]
[]
[]
[]
[]
[]
[]
[]
[]
[]
[]
[]
[]
[]
[]
[]
[]
[]
[]
[]
[]
[]
[]
[]
[]
[]
[]
[]
[]
[]
[]
[]
[]
[]
[]
[]
[]
[]
[]
[]
[]
[]
[]
[]
[]
[]
[]
[]
[]
[]
[]
[]
[]
[]
[]
[]
[]
[]
[]
[]
[]
[]
[]
[]
[]
[]
[]
[]
[]
[]
[]
[]
[]
[]
[]
[]
[]
[]
[]
[]
[]
[]
[]
[]
[]
[]
[]
[]
[]
[]
[]
[]
[]
[]
[]
[]
[]
[]
[]
[]
[]
[]
[]
[]
[]
[]
[]
[]
[]
[]
[]
[]
[]
[]
[]
[]
[]
[]
[]
[]
[]
[]
[]
[]
[]
[]
[]
[]
[]
[]
[]
[]
[]
[]
[]
[]
[]
[]
[]
[]
[]
[]
[]
[]
[]
[]
[]
[]
[]
[]
[]
[]
[]
[]
[]
[]
[]
[]
[]
[]
[]
[]
[]
[]
[]
[]
[]
[]
[]
[]
[]
[]
[]
[]
[]
[]
[]
[]
[]
[]
[]
[]
[]
[]
[]
[]
[]
[]
[]
[]
[]
[]
[]
[]
[]
[]
[]
[]
[]
[]
[]
[]
[]
[]
[]
[]
[]
[]
[]
[]
[]
[]
[]
[]
[]
[]
[]
[]
[]
[]
[]
[]
[]
[]
[]
[]
[]
[]
[]
[]
[]
[]
[]
[]
[]
[]
[]
[]
[]
[]
[]
[]
[]
[]
[]
[]
[]
[]
[]
[]
[]
[]
[]
[]
[]
[]
[]
[]
[]
[]
[]
[]
[]
[]
[]
[]
[]
[]
[]
[]
[]
[]
[]
[]
[]
[]
[]
[]
[]
[]
[]
[]
[]
[]
[]
[]
[]
[]
[]
[]
[]
[]
[]
[]
[]
[]
[]
[]
[]
[]
[]
[]
[]
[]
[]
[]
[]
[]
[]
[]
[]
[]
[]
[]
[]
[]
[]
[]
[]
[]
[]
[]
[]
[]
[]
[]
[]
[]
[]
[]
[]
[]
[]
[]
[]
[]
[]
[]
[]
[]
[]
[]
[]
[]
[]
[]
[]
[]
[]
[]
[]
[]
[]
[]
[]
[]
[]
[]
[]
[]
[]
[]
[]
[]
[]
[]
[]
[]
[]
[]
[]
[]
[]
[]
[]
[]
[]
[]
[]
[]
[]
[]
[]
[]
[]
[]
[]
[]
[]
[]
[]
[]
[]
[]
[]
[]
[]
[]
[]
[]
[]
[]
[]
[]
[]
[]
[]
[]
[]
[]
[]
[]
[]
[]
[]
[]
[]
[]
[]
[]
[]
[]
[]
[]
[]
[]
[]
[]
[]
[]
[]
[]
[]
[]
[]
[]
[]
[]
[]
[]
[]
[]
[]
[]
[]
[]
[]
[]
[]
[]
[]
[]
[]
[]
[]
[]
[]
[]
[]
[]
[]
[]
[]
[]
[]
[]
[]
[]
[]
[]
[]
[]
[]
[]
[]
[]
[]
[]
[]
[]
[]
[]
[]
[]
[]
[]
[]
[]
[]
[]
[]
[]
[]
[]
[]
[]
[]
[]
[]
[]
[]
[]
[]
[]
[]
[]
[]
[]
[]
[]
[]
[]
[]
[]
[]
[]
[]
[]
[]
[]
[]
[]
[]
[]
[]
[]
[]
[]
[]
[]
[]
[]
[]
[]
[]
[]
[]
[]
[]
[]
[]
[]
[]
[]
[]
[]
[]
[]
[]
[]
[]
[]
[]
[]
[]
[]
[]
[]
[]
[]
[]
[]
[]
[]
[]
[]
[]
[]
[]
[]
[]
[]
[]
[]
[]
[]
[]
[]
[]
[]
[]
[]
[]
[]
[]
[]
[]
[]
[]
[]
[]
[]
[]
[]
[]
[]
[]
[]
[]
[]
[]
[]
[]
[]
[]
[]
[]
[]
[]
[]
[]
[]
[]
[]
[]
[]
[]
[]
[]
[]
[]
[]
[]
[]
[]
[]
[]
[]
[]
[]
[]
[]
[]
[]
[]
[]
[]
[]
[]
[]
[]
[]
[]
[]
[]
[]
[]
[]
[]
[]
[]
[]
[]
[]
[]
[]
[]
[]
[]
[]
[]
[]
[]
[]
[]
[]
[]
[]
[]
[]
[]
[]
[]
[]
[]
[]
[]
[]
[]
[]
[]
[]
[]
[]
[]
[]
[]
[]
[]
[]
[]
[]
[]
[]
[]
[]
[]
[]
[]
[]
[]
[]
[]
[]
[]
[]
[]
[]
[]
[]
[]
[]
[]
[]
[]
[]
[]
[]
[]
[]
[]
[]
[]
[]
[]
[]
[]
[]
[]
[]
[]
[]
[]
[]
[]
[]
[]
[]
[]
[]
[]
[]
[]
[]
[]
[]
[]
[]
[]
[]
[]
[]
[]
[]
[]
[]
[]
[]
[]
[]
[]
[]
[]
[]
[]
[]
[]
[]
[]
[]
[]
[]
[]
[]
[]
[]
[]
[]
[]
[]
[]
[]
[]
[]
[]
[]
[]
[]
[]
[]
[]
[]
[]
[]
[]
[]
[]
[]
[]
[]
[]
[]
[]
[]
[]
[]
[]
[]
[]
[]
[]
[]
[]
[]
[]
[]
[]
[]
[]
[]
[]
[]
[]
[]
[]
[]
[]
[]
[]
[]
[]
[]
[]
[]
[]
[]
[]
[]
[]
[]
[]
[]
[]
[]
[]
[]
[]
[]
[]
[]
[]
[]
[]
[]
[]
[]
[]
[]
[]
[]
[]
[]
[]
[]
[]
[]
[]
[]
[]
[]
[]
[]
[]
[]
[]
[]
[]
[]
[]
[]
[]
[]
[]
[]
[]
[]
[]
[]
[]
[]
[]
[]
[]
[]
[]
[]
[]
[]
[]
[]
[]
[]
[]
[]
[]
[]
[]
[]
[]
[]
[]
[]
[]
[]
[]
[]
[]
[]
[]
[]
[]
[]
[]
[]
[]
[]
[]
[]
[]
[]
[]
[]
[]
[]
[]
[]
[]
[]
[]
[]
[]
[]
[]
[]
[]
[]
[]
[]
[]
[]
[]
[]
[]
[]
[]
[]
[]
[]
[]
[]
[]
[]
[]
[]
[]
[]
[]
[]
[]
[]
[]
[]
[]
[]
[]
[]
[]
[]
[]
[]
[]
[]
[]
[]
[]
[]
[]
[]
[]
[]
[]
[]
[]
[]
[]
[]
[]
[]
[]
[]
[]
[]
[]
[]
[]
[]
[]
[]
[]
[]
[]
[]
[]
[]
[]
[]
[]
[]
[]
[]
[]
[]
[]
[]
[]
[]
[]
[]
[]
[]
[]
[]
[]
[]
[]
[]
[]
[]
[]
[]
[]
[]
[]
[]
[]
[]
[]
[]
[]
[]
[]
[]
[]
[]
[]
[]
[]
[]
[]
[]
[]
[]
[]
[]
[]
[]
[]
[]
[]
[]
[]
[]
[]
[]
[]
[]
[]
[]
[]
[]
[]
[]
[]
[]
[]
[]
[]
[]
[]
[]
[]
[]
[]
[]
[]
[]
[]
[]
[]
[]
[]
[]
[]
[]
[]
[]
[]
[]
[]
[]
[]
[]
[]
[]
[]
[]
[]
[]
[]
[]
[]
[]
[]
[]
[]
[]
[]
[]
[]
[]
[]
[]
[]
[]
[]
[]
[]
[]
[]
[]
[]
[]
[]
[]
[]
[]
[]
[]
[]
[]
[]
[]
[]
[]
[]
[]
[]
[]
[]
[]
[]
[]
[]
[]
[]
[]
[]
[]
[]
[]
[]
[]
[]
[]
[]
[]
[]
[]
[]
[]
[]
[]
[]
[]
[]
[]
[]
[]
[]
[]
[]
[]
[]
[]
[]
[]
[]
[]
[]
[]
[]
[]
[]
[]
[]
[]
[]
[]
[]
[]
[]
[]
[]
[]
[]
[]
[]
[]
[]
[]
[]
[]
[]
[]
[]
[]
[]
[]
[]
[]
[]
[]
[]
[]
[]
[]
[]
[]
[]
[]
[]
[]
[]
[]
[]
[]
[]
[]
[]
[]
[]
[]
[]
[]
[]
[]
[]
[]
[]
[]
[]
[]
[]
[]
[]
[]
[]
[]
[]
[]
[]
[]
[]
[]
[]
[]
[]
[]
[]
[]
[]
[]
[]
[]
[]
[]
[]
[]
[]
[]
[]
[]
[]
[]
[]
[]
[]
[]
[]
[]
[]
[]
[]
[]
[]
[]
[]
[]
[]
[]
[]
[]
[]
[]
[]
[]
[]
[]
[]
[]
[]
[]
[]
[]
[]
[]
[]
[]
[]
[]
[]
[]
[]
[]
[]
[]
[]
[]
[]
[]
[]
[]
[]
[]
[]
[]
[]
[]
[]
[]
[]
[]
[]
[]
[]
[]
[]
[]
[]
[]
[]
[]
[]
[]
[]
[]
[]
[]
[]
[]
[]
[]
[]
[]
[]
[]
[]
[]
[]
[]
[]
[]
[]
[]
[]
[]
[]
[]
[]
[]
[]
[]
[]
[]
[]
[]
[]
[]
[]
[]
[]
[]
[]
[]
[]
[]
[]
[]
[]
[]
[]
[]
[]
[]
[]
[]
[]
[]
[]
[]
[]
[]
[]
[]
[]
[]
[]
[]
[]
[]
[]
[]
[]
[]
[]
[]
[]
[]
[]
[]
[]
[]
[]
[]
[]
[]
[]
[]
[]
[]
[]
[]
[]
[]
[]
[]
[]
[]
[]
[]
[]
[]
[]
[]
[]
[]
[]
[]
[]
[]
[]
[]
[]
[]
[]
[]
[]
[]
[]
[]
[]
[]
[]
[]
[]
[]
[]
[]
[]
[]
[]
[]
[]
[]
[]
[]
[]
[]
[]
[]
[]
[]
[]
[]
[]
[]
[]
[]
[]
[]
[]
[]
[]
[]
[]
[]
[]
[]
[]
[]
[]
[]
[]
[]
[]
[]
[]
[]
[]
[]
[]
[]
[]
[]
[]
[]
[]
[]
[]
[]
[]
[]
[]
[]
[]
[]
[]
[]
[]
[]
[]
[]
[]
[]
[]
[]
[]
[]
[]
[]
[]
[]
[]
[]
[]
[]
[]
[]
[]
[]
[]
[]
[]
[]
[]
[]
[]
[]
[]
[]
[]
[]
[]
[]
[]
[]
[]
[]
[]
[]
[]
[]
[]
[]
[]
[]
[]
[]
[]
[]
[]
[]
[]
[]
[]
[]
[]
[]
[]
[]
[]
[]
[]
[]
[]
[]
[]
[]
[]
[]
[]
[]
[]
[]
[]
[]
[]
[]
[]
[]
[]
[]
[]
[]
[]
[]
[]
[]
[]
[]
[]
[]
[]
[]
[]
[]
[]
[]
[]
[]
[]
[]
[]
[]
[]
[]
[]
[]
[]
[]
[]
[]
[]
[]
[]
[]
[]
[]
[]
[]
[]
[]
[]
[]
[]
[]
[]
[]
[]
[]
[]
[]
[]
[]
[]
[]
[]
[]
[]
[]
[]
[]
[]
[]
[]
[]
[]
[]
[]
[]
[]
[]
[]
[]
[]
[]
[]
[]
[]
[]
[]
[]
[]
[]
[]
[]
[]
[]
[]
[]
[]
[]
[]
[]
[]
[]
[]
[]
[]
[]
[]
[]
[]
[]
[]
[]
[]
[]
[]
[]
[]
[]
[]
[]
[]
[]
[]
[]
[]
[]
[]
[]
[]
[]
[]
[]
[]
[]
[]
[]
[]
[]
[]
[]
[]
[]
[]
[]
[]
[]
[]
[]
[]
[]
[]
[]
[]
[]
[]
[]
[]
[]
[]
[]
[]
[]
[]
[]
[]
[]
[]
[]
[]
[]
[]
[]
[]
[]
[]
[]
[]
[]
[]
[]
[]
[]
[]
[]
[]
[]
[]
[]
[]
[]
[]
[]
[]
[]
[]
[]
[]
[]
[]
[]
[]
[]
[]
[]
[]
[]
[]
[]
[]
[]
[]
[]
[]
[]
[]
[]
[]
[]
[]
[]
[]
[]
[]
[]
[]
[]
[]
[]
[]
[]
[]
[]
[]
[]
[]
[]
[]
[]
[]
[]
[]
[]
[]
[]
[]
[]
[]
[]
[]
[]
[]
[]
[]
[]
[]
[]
[]
[]
[]
[]
[]
[]
[]
[]
[]
[]
[]
[]
[]
[]
[]
[]
[]
[]
[]
[]
[]
[]
[]
[]
[]
[]
[]
[]
[]
[]
[]
[]
[]
[]
[]
[]
[]
[]
[]
[]
[]
[]
[]
[]
[]
[]
[]
[]
[]
[]
[]
[]
[]
[]
[]
[]
[]
[]
[]
[]
[]
[]
[]
[]
[]
[]
[]
[]
[]
[]
[]
[]
[]
[]
[]
[]
[]
[]
[]
[]
[]
[]
[]
[]
[]
[]
[]
[]
[]
[]
[]
[]
[]
[]
[]
[]
[]
[]
[]
[]
[]
[]
[]
[]
[]
[]
[]
[]
[]
[]
[]
[]
[]
[]
[]
[]
[]
[]
[]
[]
[]
[]
[]
[]
[]
[]
[]
[]
[]
[]
[]
[]
[]
[]
[]
[]
[]
[]
[]
[]
[]
[]
[]
[]
[]
[]
[]
[]
[]
[]
[]
[]
[]
[]
[]
[]
[]
[]
[]
[]
[]
[]
[]
[]
[]
[]
[]
[]
[]
[]
[]
[]
[]
[]
[]
[]
[]
[]
[]
[]
[]
[]
[]
[]
[]
[]
[]
[]
[]
[]
[]
[]
[]
[]
[]
[]
[]
[]
[]
[]
[]
[]
[]
[]
[]
[]
[]
[]
[]
[]
[]
[]
[]
[]
[]
[]
[]
[]
[]
[]
[]
[]
[]
[]
[]
[]
[]
[]
[]
[]
[]
[]
[]
[]
[]
[]
[]
[]
[]
[]
[]
[]
[]
[]
[]
[]
[]
[]
[]
[]
[]
[]
[]
[]
[]
[]
[]
[]
[]
[]
[]
[]
[]
[]
[]
[]
[]
[]
[]
[]
[]
[]
[]
[]
[]
[]
[]
[]
[]
[]
[]
[]
[]
[]
[]
[]
[]
[]
[]
[]
[]
[]
[]
[]
[]
[]
[]
[]
[]
[]
[]
[]
[]
[]
[]
[]
[]
[]
[]
[]
[]
[]
[]
[]
[]
[]
[]
[]
[]
[]
[]
[]
[]
[]
[]
[]
[]
[]
[]
[]
[]
[]
[]
[]
[]
[]
[]
[]
[]
[]
[]
[]
[]
[]
[]
[]
[]
[]
[]
[]
[]
[]
[]
[]
[]
[]
[]
[]
[]
[]
[]
[]
[]
[]
[]
[]
[]
[]
[]
[]
[]
[]
[]
[]
[]
[]
[]
[]
[]
[]
[]
[]
[]
[]
[]
[]
[]
[]
[]
[]
[]
[]
[]
[]
[]
[]
[]
[]
[]
[]
[]
[]
[]
[]
[]
[]
[]
[]
[]
[]
[]
[]
[]
[]
[]
[]
[]
[]
[]
[]
[]
[]
[]
[]
[]
[]
[]
[]
[]
[]
[]
[]
[]
[]
[]
[]
[]
[]
[]
[]
[]
[]
[]
[]
[]
[]
[]
[]
[]
[]
[]
[]
[]
[]
[]
[]
[]
[]
[]
[]
[]
[]
[]
[]
[]
[]
[]
[]
[]
[]
[]
[]
[]
[]
[]
[]
[]
[]
[]
[]
[]
[]
[]
[]
[]
[]
[]
[]
[]
[]
[]
[]
[]
[]
[]
[]
[]
[]
[]
[]
[]
[]
[]
[]
[]
[]
[]
[]
[]
[]
[]
[]
[]
[]
[]
[]
[]
[]
[]
[]
[]
[]
[]
[]
[]
[]
[]
[]
[]
[]
[]
[]
[]
[]
[]
[]
[]
[]
[]
[]
[]
[]
[]
[]
[]
[]
[]
[]
[]
[]
[]
[]
[]
[]
[]
[]
[]
[]
[]
[]
[]
[]
[]
[]
[]
[]
[]
[]
[]
[]
[]
[]
[]
[]
[]
[]
[]
[]
[]
[]
[]
[]
[]
[]
[]
[]
[]
[]
[]
[]
[]
[]
[]
[]
[]
[]
[]
[]
[]
[]
[]
[]
[]
[]
[]
[]
[]
[]
[]
[]
[]
[]
[]
[]
[]
[]
[]
[]
[]
[]
[]
[]
[]
[]
[]
[]
[]
[]
[]
[]
[]
[]
[]
[]
[]
[]
[]
[]
[]
[]
[]
[]
[]
[]
[]
[]
[]
[]
[]
[]
[]
[]
[]
[]
[]
[]
[]
[]
[]
[]
[]
[]
[]
[]
[]
[]
[]
[]
[]
[]
[]
[]
[]
[]
[]
[]
[]
[]
[]
[]
[]
[]
[]
[]
[]
[]
[]
[]
[]
[]
[]
[]
[]
[]
[]
[]
[]
[]
[]
[]
[]
[]
[]
[]
[]
[]
[]
[]
[]
[]
[]
[]
[]
[]
[]
[]
[]
[]
[]
[]
[]
[]
[]
[]
[]
[]
[]
[]
[]
[]
[]
[]
[]
[]
[]
[]
[]
[]
[]
[]
[]
[]
[]
[]
[]
[]
[]
[]
[]
[]
[]
[]
[]
[]
[]
[]
[]
[]
[]
[]
[]
[]
[]
[]
[]
[]
[]
[]
[]
[]
[]
[]
[]
[]
[]
[]
[]
[]
[]
[]
[]
[]
[]
[]
[]
[]
[]
[]
[]
[]
[]
[]
[]
[]
[]
[]
[]
[]
[]
[]
[]
[]
[]
[]
[]
[]
[]
[]
[]
[]
[]
[]
[]
[]
[]
[]
[]
[]
[]
[]
[]
[]
[]
[]
[]
[]
[]
[]
[]
[]
[]
[]
[]
[]
[]
[]
[]
[]
[]
[]
[]
[]
[]
[]
[]
[]
[]
[]
[]
[]
[]
[]
[]
[]
[]
[]
[]
[]
[]
[]
[]
[]
[]
[]
[]
[]
[]
[]
[]
[]
[]
[]
[]
[]
[]
[]
[]
[]
[]
[]
[]
[]
[]
[]
[]
[]
[]
[]
[]
[]
[]
[]
[]
[]
[]
[]
[]
[]
[]
[]
[]
[]
[]
[]
[]
[]
[]
[]
[]
[]
[]
[]
[]
[]
[]
[]
[]
[]
[]
[]
[]
[]
[]
[]
[]
[]
[]
[]
[]
[]
[]
[]
[]
[]
[]
[]
[]
[]
[]
[]
[]
[]
[]
[]
[]
[]
[]
[]
[]
[]
[]
[]
[]
[]
[]
[]
[]
[]
[]
[]
[]
[]
[]
[]
[]
[]
[]
[]
[]
[]
[]
[]
[]
[]
[]
[]
[]
[]
[]
[]
[]
[]
[]
[]
[]
[]
[]
[]
[]
[]
[]
[]
[]
[]
[]
[]
[]
[]
[]
[]
[]
[]
[]
[]
[]
[]
[]
[]
[]
[]
[]
[]
[]
[]
[]
[]
[]
[]
[]
[]
[]
[]
[]
[]
[]
[]
[]
[]
[]
[]
[]
[]
[]
[]
[]
[]
[]
[]
[]
[]
[]
[]
[]
[]
[]
[]
[]
[]
[]
[]
[]
[]
[]
[]
[]
[]
[]
[]
[]
[]
[]
[]
[]
[]
[]
[]
[]
[]
[]
[]
[]
[]
[]
[]
[]
[]
[]
[]
[]
[]
[]
[]
[]
[]
[]
[]
[]
[]
[]
[]
[]
[]
[]
[]
[]
[]
[]
[]
[]
[]
[]
[]
[]
[]
[]
[]
[]
[]
[]
[]
[]
[]
[]
[]
[]
[]
[]
[]
[]
[]
[]
[]
[]
[]
[]
[]
[]
[]
[]
[]
[]
[]
[]
[]
[]
[]
[]
[]
[]
[]
[]
[]
[]
[]
[]
[]
[]
[]
[]
[]
[]
[]
[]
[]
[]
[]
[]
[]
[]
[]
[]
[]
[]
[]
[]
[]
[]
[]
[]
[]
[]
[]
[]
[]
[]
[]
[]
[]
[]
[]
[]
[]
[]
[]
[]
[]
[]
[]
[]
[]
[]
[]
[]
[]
[]
[]
[]
[]
[]
[]
[]
[]
[]
[]
[]
[]
[]
[]
[]
[]
[]
[]
[]
[]
[]
[]
[]
[]
[]
[]
[]
[]
[]
[]
[]
[]
[]
[]
[]
[]
[]
[]
[]
[]
[]
[]
[]
[]
[]
[]
[]
[]
[]
[]
[]
[]
[]
[]
[]
[]
[]
[]
[]
[]
[]
[]
[]
[]
[]
[]
[]
[]
[]
[]
[]
[]
[]
[]
[]
[]
[]
[]
[]
[]
[]
[]
[]
[]
[]
[]
[]
[]
[]
[]
[]
[]
[]
[]
[]
[]
[]
[]
[]
[]
[]
[]
[]
[]
[]
[]
[]
[]
[]
[]
[]
[]
[]
[]
[]
[]
[]
[]
[]
[]
[]
[]
[]
[]
[]
[]
[]
[]
[]
[]
[]
[]
[]
[]
[]
[]
[]
[]
[]
[]
[]
[]
[]
[]
[]
[]
[]
[]
[]
[]
[]
[]
[]
[]
[]
[]
[]
[]
[]
[]
[]
[]
[]
[]
[]
[]
[]
[]
[]
[]
[]
[]
[]
[]
[]
[]
[]
[]
[]
[]
[]
[]
[]
[]
[]
[]
[]
[]
[]
[]
[]
[]
[]
[]
[]
[]
[]
[]
[]
[]
[]
[]
[]
[]
[]
[]
[]
[]
[]
[]
[]
[]
[]
[]
[]
[]
[]
[]
[]
[]
[]
[]
[]
[]
[]
[]
[]
[]
[]
[]
[]
[]
[]
[]
[]
[]
[]
[]
[]
[]
[]
[]
[]
[]
[]
[]
[]
[]
[]
[]
[]
[]
[]
[]
[]
[]
[]
[]
[]
[]
[]
[]
[]
[]
[]
[]
[]
[]
[]
[]
[]
[]
[]
[]
[]
[]
[]
[]
[]
[]
[]
[]
[]
[]
[]
[]
[]
[]
[]
[]
[]
[]
[]
[]
[]
[]
[]
[]
[]
[]
[]
[]
[]
[]
[]
[]
[]
[]
[]
[]
[]
[]
[]
[]
[]
[]
[]
[]
[]
[]
[]
[]
[]
[]
[]
[]
[]
[]
[]
[]
[]
[]
[]
[]
[]
[]
[]
[]
[]
[]
[]
[]
[]
[]
[]
[]
[]
[]
[]
[]
[]
[]
[]
[]
[]
[]
[]
[]
[]
[]
[]
[]
[]
[]
[]
[]
[]
[]
[]
[]
[]
[]
[]
[]
[]
[]
[]
[]
[]
[]
[]
[]
[]
[]
[]
[]
[]
[]
[]
[]
[]
[]
[]
[]
[]
[]
[]
[]
[]
[]
[]
[]
[]
[]
[]
[]
[]
[]
[]
[]
[]
[]
[]
[]
[]
[]
[]
[]
[]
[]
[]
[]
[]
[]
[]
[]
[]
[]
[]
[]
[]
[]
[]
[]
[]
[]
[]
[]
[]
[]
[]
[]
[]
[]
[]
[]
[]
[]
[]
[]
[]
[]
[]
[]
[]
[]
[]
[]
[]
[]
[]
[]
[]
[]
[]
[]
[]
[]
[]
[]
[]
[]
[]
[]
[]
[]
[]
[]
[]
[]
[]
[]
[]
[]
[]
[]
[]
[]
[]
[]
[]
[]
[]
[]
[]
[]
[]
[]
[]
[]
[]
[]
[]
[]
[]
[]
[]
[]
[]
[]
[]
[]
[]
[]
[]
[]
[]
[]
[]
[]
[]
[]
[]
[]
[]
[]
[]
[]
[]
[]
[]
[]
[]
[]
[]
[]
[]
[]
[]
[]
[]
[]
[]
[]
[]
[]
[]
[]
[]
[]
[]
[]
[]
[]
[]
[]
[]
[]
[]
[]
[]
[]
[]
[]
[]
[]
[]
[]
[]
[]
[]
[]
[]
[]
[]
[]
[]
[]
[]
[]
[]
[]
[]
[]
[]
[]
[]
[]
[]
[]
[]
[]
[]
[]
[]
[]
[]
[]
[]
[]
[]
[]
[]
[]
[]
[]
[]
[]
[]
[]
[]
[]
[]
[]
[]
[]
[]
[]
[]
[]
[]
[]
[]
[]
[]
[]
[]
[]
[]
[]
[]
[]
[]
[]
[]
[]
[]
[]
[]
[]
[]
[]
[]
[]
[]
[]
[]
[]
[]
[]
[]
[]
[]
[]
[]
[]
[]
[]
[]
[]
[]
[]
[]
[]
[]
[]
[]
[]
[]
[]
[]
[]
[]
[]
[]
[]
[]
[]
[]
[]
[]
[]
[]
[]
[]
[]
[]
[]
[]
[]
[]
[]
[]
[]
[]
[]
[]
[]
[]
[]
[]
[]
[]
[]
[]
[]
[]
[]
[]
[]
[]
[]
[]
[]
[]
[]
[]
[]
[]
[]
[]
[]
[]
[]
[]
[]
[]
[]
[]
[]
[]
[]
[]
[]
[]
[]
[]
[]
[]
[]
[]
[]
[]
[]
[]
[]
[]
[]
[]
[]
[]
[]
[]
[]
[]
[]
[]
[]
[]
[]
[]
[]
[]
[]
[]
[]
[]
[]
[]
[]
[]
[]
[]
[]
[]
[]
[]
[]
[]
[]
[]
[]
[]
[]
[]
[]
[]
[]
[]
[]
[]
[]
[]
[]
[]
[]
[]
[]
[]
[]
[]
[]
[]
[]
[]
[]
[]
[]
[]
[]
[]
[]
[]
[]
[]
[]
[]
[]
[]
[]
[]
[]
[]
[]
[]
[]
[]
[]
[]
[]
[]
[]
[]
[]
[]
[]
[]
[]
[]
[]
[]
[]
[]
[]
[]
[]
[]
[]
[]
[]
[]
[]
[]
[]
[]
[]
[]
[]
[]
[]
[]
[]
[]
[]
[]
[]
[]
[]
[]
[]
[]
[]
[]
[]
[]
[]
[]
[]
[]
[]
[]
[]
[]
[]
[]
[]
[]
[]
[]
[]
[]
[]
[]
[]
[]
[]
[]
[]
[]
[]
[]
[]
[]
[]
[]
[]
[]
[]
[]
[]
[]
[]
[]
[]
[]
[]
[]
[]
[]
[]
[]
[]
[]
[]
[]
[]
[]
[]
[]
[]
[]
[]
[]
[]
[]
[]
[]
[]
[]
[]
[]
[]
[]
[]
[]
[]
[]
[]
[]
[]
[]
[]
[]
[]
[]
[]
[]
[]
[]
[]
[]
[]
[]
[]
[]
[]
[]
[]
[]
[]
[]
[]
[]
[]
[]
[]
[]
[]
[]
[]
[]
[]
[]
[]
[]
[]
[]
[]
[]
[]
[]
[]
[]
[]
[]
[]
[]
[]
[]
[]
[]
[]
[]
[]
[]
[]
[]
[]
[]
[]
[]
[]
[]
[]
[]
[]
[]
[]
[]
[]
[]
[]
[]
[]
[]
[]
[]
[]
[]
[]
[]
[]
[]
[]
[]
[]
[]
[]
[]
[]
[]
[]
[]
[]
[]
[]
[]
[]
[]
[]
[]
[]
[]
[]
[]
[]
[]
[]
[]
[]
[]
[]
[]
[]
[]
[]
[]
[]
[]
[]
[]
[]
[]
[]
[]
[]
[]
[]
[]
[]
[]
[]
[]
[]
[]
[]
[]
[]
[]
[]
[]
[]
[]
[]
[]
[]
[]
[]
[]
[]
[]
[]
[]
[]
[]
[]
[]
[]
[]
[]
[]
[]
[]
[]
[]
[]
[]
[]
[]
[]
[]
[]
[]
[]
[]
[]
[]
[]
[]
[]
[]
[]
[]
[]
[]
[]
[]
[]
[]
[]
[]
[]
[]
[]
[]
[]
[]
[]
[]
[]
[]
[]
[]
[]
[]
[]
[]
[]
[]
[]
[]
[]
[]
[]
[]
[]
[]
[]
[]
[]
[]
[]
[]
[]
[]
[]
[]
[]
[]
[]
[]
[]
[]
[]
[]
[]
[]
[]
[]
[]
[]
[]
[]
[]
[]
[]
[]
[]
[]
[]
[]
[]
[]
[]
[]
[]
[]
[]
[]
[]
[]
[]
[]
[]
[]
[]
[]
[]
[]
[]
[]
[]
[]
[]
[]
[]
[]
[]
[]
[]
[]
[]
[]
[]
[]
[]
[]
[]
[]
[]
[]
[]
[]
[]
[]
[]
[]
[]
[]
[]
[]
[]
[]
[]
[]
[]
[]
[]
[]
[]
[]
[]
[]
[]
[]
[]
[]
[]
[]
[]
[]
[]
[]
[]
[]
[]
[]
[]
[]
[]
[]
[]
[]
[]
[]
[]
[]
[]
[]
[]
[]
[]
[]
[]
[]
[]
[]
[]
[]
[]
[]
[]
[]
[]
[]
[]
[]
[]
[]
[]
[]
[]
[]
[]
[]
[]
[]
[]
[]
[]
[]
[]
[]
[]
[]
[]
[]
[]
[]
[]
[]
[]
[]
[]
[]
[]
[]
[]
[]
[]
[]
[]
[]
[]
[]
[]
[]
[]
[]
[]
[]
[]
[]
[]
[]
[]
[]
[]
[]
[]
[]
[]
[]
[]
[]
[]
[]
[]
[]
[]
[]
[]
[]
[]
[]
[]
[]
[]
[]
[]
[]
[]
[]
[]
[]
[]
[]
[]
[]
[]
[]
[]
[]
[]
[]
[]
[]
[]
[]
[]
[]
[]
[]
[]
[]
[]
[]
[]
[]
[]
[]
[]
[]
[]
[]
[]
[]
[]
[]
[]
[]
[]
[]
[]
[]
[]
[]
[]
[]
[]
[]
[]
[]
[]
[]
[]
[]
[]
[]
[]
[]
[]
[]
[]
[]
[]
[]
[]
[]
[]
[]
[]
[]
[]
[]
[]
[]
[]
[]
[]
[]
[]
[]
[]
[]
[]
[]
[]
[]
[]
[]
[]
[]
[]
[]
[]
[]
[]
[]
[]
[]
[]
[]
[]
[]
[]
[]
[]
[]
[]
[]
[]
[]
[]
[]
[]
[]
[]
[]
[]
[]
[]
[]
[]
[]
[]
[]
[]
[]
[]
[]
[]
[]
[]
[]
[]
[]
[]
[]
[]
[]
[]
[]
[]
[]
[]
[]
[]
[]
[]
[]
[]
[]
[]
[]
[]
[]
[]
[]
[]
[]
[]
[]
[]
[]
[]
[]
[]
[]
[]
[]
[]
[]
[]
[]
[]
[]
[]
[]
[]
[]
[]
[]
[]
[]
[]
[]
[]
[]
[]
[]
[]
[]
[]
[]
[]
[]
[]
[]
[]
[]
[]
[]
[]
[]
[]
[]
[]
[]
[]
[]
[]
[]
[]
[]
[]
[]
[]
[]
[]
[]
[]
[]
[]
[]
[]
[]
[]
[]
[]
[]
[]
[]
[]
[]
[]
[]
[]
[]
[]
[]
[]
[]
[]
[]
[]
[]
[]
[]
[]
[]
[]
[]
[]
[]
[]
[]
[]
[]
[]
[]
[]
[]
[]
[]
[]
[]
[]
[]
[]
[]
[]
[]
[]
[]
[]
[]
[]
[]
[]
[]
[]
[]
[]
[]
[]
[]
[]
[]
[]
[]
[]
[]
[]
[]
[]
[]
[]
[]
[]
[]
[]
[]
[]
[]
[]
[]
[]
[]
[]
[]
[]
[]
[]
[]
[]
[]
[]
[]
[]
[]
[]
[]
[]
[]
[]
[]
[]
[]
[]
[]
[]
[]
[]
[]
[]
[]
[]
[]
[]
[]
[]
[]
[]
[]
[]
[]
[]
[]
[]
[]
[]
[]
[]
[]
[]
[]
[]
[]
[]
[]
[]
[]
[]
[]
[]
[]
[]
[]
[]
[]
[]
[]
[]
[]
[]
[]
[]
[]
[]
[]
[]
[]
[]
[]
[]
[]
[]
[]
[]
[]
[]
[]
[]
[]
[]
[]
[]
[]
[]
[]
[]
[]
[]
[]
[]
[]
[]
[]
[]
[]
[]
[]
[]
[]
[]
[]
[]
[]
[]
[]
[]
[]
[]
[]
[]
[]
[]
[]
[]
[]
[]
[]
[]
[]
[]
[]
[]
[]
[]
[]
[]
[]
[]
[]
[]
[]
[]
[]
[]
[]
[]
[]
[]
[]
[]
[]
[]
[]
[]
[]
[]
[]
[]
[]
[]
[]
[]
[]
[]
[]
[]
[]
[]
[]
[]
[]
[]
[]
[]
[]
[]
[]
[]
[]
[]
[]
[]
[]
[]
[]
[]
[]
[]
[]
[]
[]
[]
[]
[]
[]
[]
[]
[]
[]
[]
[]
[]
[]
[]
[]
[]
[]
[]
[]
[]
[]
[]
[]
[]
[]
[]
[]
[]
[]
[]
[]
[]
[]
[]
[]
[]
[]
[]
[]
[]
[]
[]
[]
[]
[]
[]
[]
[]
[]
[]
[]
[]
[]
[]
[]
[]
[]
[]
[]
[]
[]
[]
[]
[]
[]
[]
[]
[]
[]
[]
[]
[]
[]
[]
[]
[]
[]
[]
[]
[]
[]
[]
[]
[]
[]
[]
[]
[]
[]
[]
[]
[]
[]
[]
[]
[]
[]
[]
[]
[]
[]
[]
[]
[]
[]
[]
[]
[]
[]
[]
[]
[]
[]
[]
[]
[]
[]
[]
[]
[]
[]
[]
[]
[]
[]
[]
[]
[]
[]
[]
[]
[]
[]
[]
[]
[]
[]
[]
[]
[]
[]
[]
[]
[]
[]
[]
[]
[]
[]
[]
[]
[]
[]
[]
[]
[]
[]
[]
[]
[]
[]
[]
[]
[]
[]
[]
[]
[]
[]
[]
[]
[]
[]
[]
[]
[]
[]
[]
[]
[]
[]
[]
[]
[]
[]
[]
[]
[]
[]
[]
[]
[]
[]
[]
[]
[]
[]
[]
[]
[]
[]
[]
[]
[]
[]
[]
[]
[]
[]
[]
[]
[]
[]
[]
[]
[]
[]
[]
[]
[]
[]
[]
[]
[]
[]
[]
[]
[]
[]
[]
[]
[]
[]
[]
[]
[]
[]
[]
[]
[]
[]
[]
[]
[]
[]
[]
[]
[]
[]
[]
[]
[]
[]
[]
[]
[]
[]
[]
[]
[]
[]
[]
[]
[]
[]
[]
[]
[]
[]
[]
[]
[]
[]
[]
[]
[]
[]
[]
[]
[]
[]
[]
[]
[]
[]
[]
[]
[]
[]
[]
[]
[]
[]
[]
[]
[]
[]
[]
[]
[]
[]
[]
[]
[]
[]
[]
[]
[]
[]
[]
[]
[]
[]
[]
[]
[]
[]
[]
[]
[]
[]
[]
[]
[]
[]
[]
[]
[]
[]
[]
[]
[]
[]
[]
[]
[]
[]
[]
[]
[]
[]
[]
[]
[]
[]
[]
[]
[]
[]
[]
[]
[]
[]
[]
[]
[]
[]
[]
[]
[]
[]
[]
[]
[]
[]
[]
[]
[]
[]
[]
[]
[]
[]
[]
[]
[]
[]
[]
[]
[]
[]
[]
[]
[]
[]
[]
[]
[]
[]
[]
[]
[]
[]
[]
[]
[]
[]
[]
[]
[]
[]
[]
[]
[]
[]
[]
[]
[]
[]
[]
[]
[]
[]
[]
[]
[]
[]
[]
[]
[]
[]
[]
[]
[]
[]
[]
[]
[]
[]
[]
[]
[]
[]
[]
[]
[]
[]
[]
[]
[]
[]
[]
[]
[]
[]
[]
[]
[]
[]
[]
[]
[]
[]
[]
[]
[]
[]
[]
[]
[]
[]
[]
[]
[]
[]
[]
[]
[]
[]
[]
[]
[]
[]
[]
[]
[]
[]
[]
[]
[]
[]
[]
[]
[]
[]
[]
[]
[]
[]
[]
[]
[]
[]
[]
[]
[]
[]
[]
[]
[]
[]
[]
[]
[]
[]
[]
[]
[]
[]
[]
[]
[]
[]
[]
[]
[]
[]
[]
[]
[]
[]
[]
[]
[]
[]
[]
[]
[]
[]
[]
[]
[]
[]
[]
[]
[]
[]
[]
[]
[]
[]
[]
[]
[]
[]
[]
[]
[]
[]
[]
[]
[]
[]
[]
[]
[]
[]
[]
[]
[]
[]
[]
[]
[]
[]
[]
[]
[]
[]
[]
[]
[]
[]
[]
[]
[]
[]
[]
[]
[]
[]
[]
[]
[]
[]
[]
[]
[]
[]
[]
[]
[]
[]
[]
[]
[]
[]
[]
[]
[]
[]
[]
[]
[]
[]
[]
[]
[]
[]
[]
[]
[]
[]
[]
[]
[]
[]
[]
[]
[]
[]
[]
[]
[]
[]
[]
[]
[]
[]
[]
[]
[]
[]
[]
[]
[]
[]
[]
[]
[]
[]
[]
[]
[]
[]
[]
[]
[]
[]
[]
[]
[]
[]
[]
[]
[]
[]
[]
[]
[]
[]
[]
[]
[]
[]
[]
[]
[]
[]
[]
[]
[]
[]
[]
[]
[]
[]
[]
[]
[]
[]
[]
[]
[]
[]
[]
[]
[]
[]
[]
[]
[]
[]
[]
[]
[]
[]
[]
[]
[]
[]
[]
[]
[]
[]
[]
[]
[]
[]
[]
[]
[]
[]
[]
[]
[]
[]
[]
[]
[]
[]
[]
[]
[]
[]
[]
[]
[]
[]
[]
[]
[]
[]
[]
[]
[]
[]
[]
[]
[]
[]
[]
[]
[]
[]
[]
[]
[]
[]
[]
[]
[]
[]
[]
[]
[]
[]
[]
[]
[]
[]
[]
[]
[]
[]
[]
[]
[]
[]
[]
[]
[]
[]
[]
[]
[]
[]
[]
[]
[]
[]
[]
[]
[]
[]
[]
[]
[]
[]
[]
[]
[]
[]
[]
[]
[]
[]
[]
[]
[]
[]
[]
[]
[]
[]
[]
[]
[]
[]
[]
[]
[]
[]
[]
[]
[]
[]
[]
[]
[]
[]
[]
[]
[]
[]
[]
[]
[]
[]
[]
[]
[]
[]
[]
[]
[]
[]
[]
[]
[]
[]
[]
[]
[]
[]
[]
[]
[]
[]
[]
[]
[]
[]
[]
[]
[]
[]
[]
[]
[]
[]
[]
[]
[]
[]
[]
[]
[]
[]
[]
[]
[]
[]
[]
[]
[]
[]
[]
[]
[]
[]
[]
[]
[]
[]
[]
[]
[]
[]
[]
[]
[]
[]
[]
[]
[]
[]
[]
[]
[]
[]
[]
[]
[]
[]
[]
[]
[]
[]
[]
[]
[]
[]
[]
[]
[]
[]
[]
[]
[]
[]
[]
[]
[]
[]
[]
[]
[]
[]
[]
[]
[]
[]
[]
[]
[]
[]
[]
[]
[]
[]
[]
[]
[]
[]
[]
[]
[]
[]
[]
[]
[]
[]
[]
[]
[]
[]
[]
[]
[]
[]
[]
[]
[]
[]
[]
[]
[]
[]
[]
[]
[]
[]
[]
[]
[]
[]
[]
[]
[]
[]
[]
[]
[]
[]
[]
[]
[]
[]
[]
[]
[]
[]
[]
[]
[]
[]
[]
[]
[]
[]
[]
[]
[]
[]
[]
[]
[]
[]
[]
[]
[]
[]
[]
[]
[]
[]
[]
[]
[]
[]
[]
[]
[]
[]
[]
[]
[]
[]
[]
[]
[]
[]
[]
[]
[]
[]
[]
[]
[]
[]
[]
[]
[]
[]
[]
[]
[]
[]
[]
[]
[]
[]
[]
[]
[]
[]
[]
[]
[]
[]
[]
[]
[]
[]
[]
[]
[]
[]
[]
[]
[]
[]
[]
[]
[]
[]
[]
[]
[]
[]
[]
[]
[]
[]
[]
[]
[]
[]
[]
[]
[]
[]
[]
[]
[]
[]
[]
[]
[]
[]
[]
[]
[]
[]
[]
[]
[]
[]
[]
[]
[]
[]
[]
[]
[]
[]
[]
[]
[]
[]
[]
[]
[]
[]
[]
[]
[]
[]
[]
[]
[]
[]
[]
[]
[]
[]
[]
[]
[]
[]
[]
[]
[]
[]
[]
[]
[]
[]
[]
[]
[]
[]
[]
[]
[]
[]
[]
[]
[]
[]
[]
[]
[]
[]
[]
[]
[]
[]
[]
[]
[]
[]
[]
[]
[]
[]
[]
[]
[]
[]
[]
[]
[]
[]
[]
[]
[]
[]
[]
[]
[]
[]
[]
[]
[]
[]
[]
[]
[]
[]
[]
[]
[]
[]
[]
[]
[]
[]
[]
[]
[]
[]
[]
[]
[]
[]
[]
[]
[]
[]
[]
[]
[]
[]
[]
[]
[]
[]
[]
[]
[]
[]
[]
[]
[]
[]
[]
[]
[]
[]
[]
[]
[]
[]
[]
[]
[]
[]
[]
[]
[]
[]
[]
[]
[]
[]
[]
[]
[]
[]
[]
[]
[]
[]
[]
[]
[]
[]
[]
[]
[]
[]
[]
[]
[]
[]
[]
[]
[]
[]
[]
[]
[]
[]
[]
[]
[]
[]
[]
[]
[]
[]
[]
[]
[]
[]
[]
[]
[]
[]
[]
[]
[]
[]
[]
[]
[]
[]
[]
[]
[]
[]
[]
[]
[]
[]
[]
[]
[]
[]
[]
[]
[]
[]
[]
[]
[]
[]
[]
[]
[]
[]
[]
[]
[]
[]
[]
[]
[]
[]
[]
[]
[]
[]
[]
[]
[]
[]
[]
[]
[]
[]
[]
[]
[]
[]
[]
[]
[]
[]
[]
[]
[]
[]
[]
[]
[]
[]
[]
[]
[]
[]
[]
[]
[]
[]
[]
[]
[]
[]
[]
[]
[]
[]
[]
[]
[]
[]
[]
[]
[]
[]
[]
[]
[]
[]
[]
[]
[]
[]
[]
[]
[]
[]
[]
[]
[]
[]
[]
[]
[]
[]
[]
[]
[]
[]
[]
[]
[]
[]
[]
[]
[]
[]
[]
[]
[]
[]
[]
[]
[]
[]
[]
[]
[]
[]
[]
[]
[]
[]
[]
[]
[]
[]
[]
[]
[]
[]
[]
[]
[]
[]
[]
[]
[]
[]
[]
[]
[]
[]
[]
[]
[]
[]
[]
[]
[]
[]
[]
[]
[]
[]
[]
[]
[]
[]
[]
[]
[]
[]
[]
[]
[]
[]
[]
[]
[]
[]
[]
[]
[]
[]
[]
[]
[]
[]
[]
[]
[]
[]
[]
[]
[]
[]
[]
[]
[]
[]
[]
[]
[]
[]
[]
[]
[]
[]
[]
[]
[]
[]
[]
[]
[]
[]
[]
[]
[]
[]
[]
[]
[]
[]
[]
[]
[]
[]
[]
[]
[]
[]
[]
[]
[]
[]
[]
[]
[]
[]
[]
[]
[]
[]
[]
[]
[]
[]
[]
[]
[]
[]
[]
[]
[]
[]
[]
[]
[]
[]
[]
[]
[]
[]
[]
[]
[]
[]
[]
[]
[]
[]
[]
[]
[]
[]
[]
[]
[]
[]
[]
[]
[]
[]
[]
[]
[]
[]
[]
[]
[]
[]
[]
[]
[]
[]
[]
[]
[]
[]
[]
[]
[]
[]
[]
[]
[]
[]
[]
[]
[]
[]
[]
[]
[]
[]
[]
[]
[]
[]
[]
[]
[]
[]
[]
[]
[]
[]
[]
[]
[]
[]
[]
[]
[]
[]
[]
[]
[]
[]
[]
[]
[]
[]
[]
[]
[]
[]
[]
[]
[]
[]
[]
[]
[]
[]
[]
[]
[]
[]
[]
[]
[]
[]
[]
[]
[]
[]
[]
[]
[]
[]
[]
[]
[]
[]
[]
[]
[]
[]
[]
[]
[]
[]
[]
[]
[]
[]
[]
[]
[]
[]
[]
[]
[]
[]
[]
[]
[]
[]
[]
[]
[]
[]
[]
[]
[]
[]
[]
[]
[]
[]
[]
[]
[]
[]
[]
[]
[]
[]
[]
[]
[]
[]
[]
[]
[]
[]
[]
[]
[]
[]
[]
[]
[]
[]
[]
[]
[]
[]
[]
[]
[]
[]
[]
[]
[]
[]
[]
[]
[]
[]
[]
[]
[]
[]
[]
[]
[]
[]
[]
[]
[]
[]
[]
[]
[]
[]
[]
[]
[]
[]
[]
[]
[]
[]
[]
[]
[]
[]
[]
[]
[]
[]
[]
[]
[]
[]
[]
[]
[]
[]
[]
[]
[]
[]
[]
[]
[]
[]
[]
[]
[]
[]
[]
[]
[]
[]
[]
[]
[]
[]
[]
[]
[]
[]
[]
[]
[]
[]
[]
[]
[]
[]
[]
[]
[]
[]
[]
[]
[]
[]
[]
[]
[]
[]
[]
[]
[]
[]
[]
[]
[]
[]
[]
[]
[]
[]
[]
[]
[]
[]
[]
[]
[]
[]
[]
[]
[]
[]
[]
[]
[]
[]
[]
[]
[]
[]
[]
[]
[]
[]
[]
[]
[]
[]
[]
[]
[]
[]
[]
[]
[]
[]
[]
[]
[]
[]
[]
[]
[]
[]
["@","@","@","@","@","@","@","@","@","@"]

{"sheet":"種目毎","index":1,"n_rows":53,"n_cols":36,"rows_kept":53,"cut":false,"hidden":false,"merged":[[33,8,33,9],[34,8,34,9],[35,8,35,9],[36,8,36,9],[24,8,24,9],[25,8,25,9],[26,8,26,9],[27,8,27,9],[28,8,28,9],[29,8,29,9],[30,8,30,9],[31,8,31,9],[32,8,32,9],[15,8,15,9],[16,8,16,9],[17,8,17,9],[18,8,18,9],[19,8,19,9],[20,8,20,9],[21,8,21,9],[22,8,22,9],[23,8,23,9],[7,8,7,9],[8,8,8,9],[9,8,9,9],[10,8,10,9],[11,8,11,9],[46,6,46,7],[41,3,41,5],[41,6,41,7],[42,3,42,5],[42,6,42,7],[43,3,43,5],[43,6,43,7],[33,3,33,5],[33,6,33,7],[34,3,34,5],[34,6,34,7],[35,3,35,5],[35,6,35,7],[36,3,36,5],[36,6,36,7],[37,3,37,5],[37,6,37,7],[45,8,45,9],[14,8,14,9],[40,3,40,5],[40,6,40,7],[44,3,44,5],[44,6,44,7],[45,3,45,5],[45,6,45,7],[46,3,46,5],[37,8,37,9],[38,8,38,9],[39,8,39,9],[40,8,40,9],[41,8,41,9],[42,8,42,9],[43,8,43,9],[44,8,44,9],[22,6,22,7],[50,8,50,9],[51,3,51,5],[51,6,51,7],[52,3,52,5],[52,6,52,7],[47,3,47,5],[47,6,47,7],[48,3,48,5],[48,6,48,7],[49,3,49,5],[49,6,49,7],[50,3,50,5],[50,6,50,7],[47,8,47,9],[48,8,48,9],[49,8,49,9],[51,8,51,9],[52,8,52,9],[46,8,46,9],[38,3,38,5],[38,6,38,7],[39,3,39,5],[39,6,39,7],[17,3,17,5],[17,6,17,7],[18,3,18,5],[18,6,18,7],[19,3,19,5],[19,6,19,7],[32,3,32,5],[32,6,32,7],[26,3,26,5],[26,6,26,7],[27,3,27,5],[27,6,27,7],[28,3,28,5],[28,6,28,7],[25,3,25,5],[25,6,25,7],[29,3,29,5],[29,6,29,7],[30,3,30,5],[30,6,30,7],[31,3,31,5],[31,6,31,7],[23,3,23,5],[23,6,23,7],[15,3,15,5],[15,6,15,7],[16,3,16,5],[16,6,16,7],[12,3,12,5],[12,6,12,7],[13,3,13,5],[13,6,13,7],[4,3,4,5],[4,6,4,7],[5,3,5,5],[5,6,5,7],[6,3,6,5],[6,6,6,7],[7,3,7,5],[7,6,7,7],[8,3,8,5],[8,6,8,7],[14,3,14,5],[14,6,14,7],[11,6,11,7],[11,3,11,5],[52,18,52,20],[47,18,47,20],[48,18,48,20],[49,18,49,20],[50,18,50,20],[51,18,51,20],[42,18,42,20],[43,18,43,20],[44,18,44,20],[45,18,45,20],[46,18,46,20],[37,18,37,20],[38,18,38,20],[39,18,39,20],[40,18,40,20],[41,18,41,20],[32,18,32,20],[33,18,33,20],[34,18,34,20],[35,18,35,20],[36,18,36,20],[13,18,13,20],[14,18,14,20],[15,18,15,20],[16,18,16,20],[27,18,27,20],[28,18,28,20],[29,18,29,20],[30,18,30,20],[31,18,31,20],[22,18,22,20],[23,18,23,20],[24,18,24,20],[25,18,25,20],[26,18,26,20],[4,18,4,20],[5,18,5,20],[6,18,6,20],[7,18,7,20],[8,18,8,20],[9,18,9,20],[10,18,10,20],[11,18,11,20],[12,18,12,20],[27,14,27,16],[28,14,28,16],[29,14,29,16],[17,18,17,20],[18,18,18,20],[19,18,19,20],[20,18,20,20],[21,18,21,20],[17,14,17,16],[18,14,18,16],[19,14,19,16],[14,14,14,16],[5,14,5,16],[6,14,6,16],[7,14,7,16],[8,14,8,16],[9,14,9,16],[11,14,11,16],[50,14,50,16],[51,14,51,16],[40,14,40,16],[41,14,41,16],[42,14,42,16],[35,14,35,16],[36,14,36,16],[37,14,37,16],[38,14,38,16],[39,14,39,16],[30,14,30,16],[31,14,31,16],[32,14,32,16],[33,14,33,16],[34,14,34,16],[25,14,25,16],[26,14,26,16],[52,14,52,16],[48,10,48,13],[49,10,49,13],[50,10,50,13],[51,10,51,13],[52,10,52,13],[43,10,43,13],[44,10,44,13],[45,10,45,13],[46,10,46,13],[47,10,47,13],[45,14,45,16],[46,14,46,16],[47,14,47,16],[48,14,48,16],[49,14,49,16],[43,14,43,16],[44,14,44,16],[38,10,38,13],[39,10,39,13],[40,10,40,13],[41,10,41,13],[42,10,42,13],[0,20,0,22],[0,18,0,19],[0,13,0,14],[0,15,0,17],[2,10,2,13],[2,14,2,16],[2,18,2,20],[33,10,33,13],[34,10,34,13],[35,10,35,13],[36,10,36,13],[37,10,37,13],[28,10,28,13],[29,10,29,13],[30,10,30,13],[31,10,31,13],[32,10,32,13],[23,10,23,13],[24,10,24,13],[25,10,25,13],[26,10,26,13],[27,10,27,13],[18,10,18,13],[19,10,19,13],[20,10,20,13],[21,10,21,13],[22,10,22,13],[15,10,15,13],[16,10,16,13],[17,10,17,13],[2,8,2,9],[3,18,3,20],[4,14,4,16],[10,14,10,16],[24,3,24,5],[24,6,24,7],[20,3,20,5],[20,6,20,7],[21,3,21,5],[21,6,21,7],[22,3,22,5],[14,10,14,13],[8,10,8,13],[9,10,9,13],[10,10,10,13],[11,10,11,13],[12,10,12,13],[20,14,20,16],[21,14,21,16],[22,14,22,16],[23,14,23,16],[24,14,24,16],[15,14,15,16],[16,14,16,16],[2,6,2,7],[2,3,2,5],[0,0,0,12],[13,10,13,13],[3,3,3,5],[3,6,3,7],[3,14,3,16],[12,14,12,16],[13,14,13,16],[9,3,9,5],[9,6,9,7],[10,3,10,5],[10,6,10,7],[12,8,12,9],[13,8,13,9],[3,8,3,9],[4,8,4,9],[5,8,5,9],[6,8,6,9],[3,10,3,13],[4,10,4,13],[5,10,5,13],[6,10,6,13],[7,10,7,13]]}
["R01　オホーツク陸協　記録集計",null,null,null,null,null,null,null,null,null,null,null,null,"種別",null,"中学男子",null,null,"種目",null,"棒高跳",null,null,null,null,"競技会名","競技場","競技実施月日","クラス","種目","選手／チーム","記録","ラウンド","所属","学年","風速"]
[]
["全順",null,"Rank","競技会名",null,null,"競技場",null,"実施日",null,"選手",null,null,null,"記録",null,null,"R","所属",null,null,"年","風"]
[1,{"$f":"IF(COUNTIF($K$4:N4,K4)=1,1,0)","v":1},1,{"$f":"VLOOKUP($P$1&$U$1&A4,抽出!$B$4:$O$200,6,FALSE)","v":"記録会４戦"},null,null,{"$f":"VLOOKUP($P$1&$U$1&A4,抽出!$B$4:$O$200,7,FALSE)","v":"北見"},null,{"$f":"VLOOKUP($P$1&$U$1&A4,抽出!$B$4:$O$200,8,FALSE)","v":"2019-08-04"},null,{"$f":"VLOOKUP($P$1&$U$1&A4,抽出!$B$4:$O$200,9,FALSE)","v":"栗生朔門"},null,null,null,{"$f":"VLOOKUP($P$1&$U$1&A4,抽出!$B$4:$O$200,10,FALSE)","v":410},null,null,{"$f":"VLOOKUP($P$1&$U$1&A4,抽出!$B$4:$O$200,11,FALSE)","v":"決"},{"$f":"VLOOKUP($P$1&$U$1&A4,抽出!$B$4:$O$200,12,FALSE)","v":"網走第四中"},null,null,{"$f":"VLOOKUP($P$1&$U$1&A4,抽出!$B$4:$O$200,13,FALSE)","v":3},{"$f":"VLOOKUP($P$1&$U$1&A4,抽出!$B$4:$O$200,14,FALSE)","v":0},null,null,"小学男子","小男"]
[2,{"$f":"IF(COUNTIF($K$4:N5,K5)=1,1,0)","v":1},{"$f":"IF(B5=0,\"\",SUM($B$4:B5))","v":2},{"$f":"VLOOKUP($P$1&$U$1&A5,抽出!$B$4:$O$200,6,FALSE)","v":"全道中学"},null,null,{"$f":"VLOOKUP($P$1&$U$1&A5,抽出!$B$4:$O$200,7,FALSE)","v":"旭川"},null,{"$f":"VLOOKUP($P$1&$U$1&A5,抽出!$B$4:$O$200,8,FALSE)","v":"2019-07-26"},null,{"$f":"VLOOKUP($P$1&$U$1&A5,抽出!$B$4:$O$200,9,FALSE)","v":"中田竜翔"},null,null,null,{"$f":"VLOOKUP($P$1&$U$1&A5,抽出!$B$4:$O$200,10,FALSE)","v":380},null,null,{"$f":"VLOOKUP($P$1&$U$1&A5,抽出!$B$4:$O$200,11,FALSE)","v":"予"},{"$f":"VLOOKUP($P$1&$U$1&A5,抽出!$B$4:$O$200,12,FALSE)","v":"網走第一中"},null,null,{"$f":"VLOOKUP($P$1&$U$1&A5,抽出!$B$4:$O$200,13,FALSE)","v":3},{"$f":"VLOOKUP($P$1&$U$1&A5,抽出!$B$4:$O$200,14,FALSE)","v":0},null,null,"小学女子","小女",null,"棒高跳"]
[3,{"$f":"IF(COUNTIF($K$4:N6,K6)=1,1,0)","v":1},{"$f":"IF(B6=0,\"\",SUM($B$4:B6))","v":3},{"$f":"VLOOKUP($P$1&$U$1&A6,抽出!$B$4:$O$200,6,FALSE)","v":"秋季陸上"},null,null,{"$f":"VLOOKUP($P$1&$U$1&A6,抽出!$B$4:$O$200,7,FALSE)","v":"網走"},null,{"$f":"VLOOKUP($P$1&$U$1&A6,抽出!$B$4:$O$200,8,FALSE)","v":"2019-09-07"},null,{"$f":"VLOOKUP($P$1&$U$1&A6,抽出!$B$4:$O$200,9,FALSE)","v":"石田和也"},null,null,null,{"$f":"VLOOKUP($P$1&$U$1&A6,抽出!$B$4:$O$200,10,FALSE)","v":371},null,null,{"$f":"VLOOKUP($P$1&$U$1&A6,抽出!$B$4:$O$200,11,FALSE)","v":"決"},{"$f":"VLOOKUP($P$1&$U$1&A6,抽出!$B$4:$O$200,12,FALSE)","v":"網走第一中"},null,null,{"$f":"VLOOKUP($P$1&$U$1&A6,抽出!$B$4:$O$200,13,FALSE)","v":3},{"$f":"VLOOKUP($P$1&$U$1&A6,抽出!$B$4:$O$200,14,FALSE)","v":0},null,null,"中学男子","中男",null,"走高跳"]
[4,{"$f":"IF(COUNTIF($K$4:N7,K7)=1,1,0)","v":1},{"$f":"IF(B7=0,\"\",SUM($B$4:B7))","v":4},{"$f":"VLOOKUP($P$1&$U$1&A7,抽出!$B$4:$O$200,6,FALSE)","v":"秋季陸上"},null,null,{"$f":"VLOOKUP($P$1&$U$1&A7,抽出!$B$4:$O$200,7,FALSE)","v":"網走"},null,{"$f":"VLOOKUP($P$1&$U$1&A7,抽出!$B$4:$O$200,8,FALSE)","v":"2019-09-07"},null,{"$f":"VLOOKUP($P$1&$U$1&A7,抽出!$B$4:$O$200,9,FALSE)","v":"佐野巧"},null,null,null,{"$f":"VLOOKUP($P$1&$U$1&A7,抽出!$B$4:$O$200,10,FALSE)","v":350},null,null,{"$f":"VLOOKUP($P$1&$U$1&A7,抽出!$B$4:$O$200,11,FALSE)","v":"決"},{"$f":"VLOOKUP($P$1&$U$1&A7,抽出!$B$4:$O$200,12,FALSE)","v":"斜里中"},null,null,{"$f":"VLOOKUP($P$1&$U$1&A7,抽出!$B$4:$O$200,13,FALSE)","v":3},{"$f":"VLOOKUP($P$1&$U$1&A7,抽出!$B$4:$O$200,14,FALSE)","v":0},null,null,"中学女子","中女"]
[5,{"$f":"IF(COUNTIF($K$4:N8,K8)=1,1,0)","v":1},{"$f":"IF(B8=0,\"\",SUM($B$4:B8))","v":5},{"$f":"VLOOKUP($P$1&$U$1&A8,抽出!$B$4:$O$200,6,FALSE)","v":"秋季陸上"},null,null,{"$f":"VLOOKUP($P$1&$U$1&A8,抽出!$B$4:$O$200,7,FALSE)","v":"網走"},null,{"$f":"VLOOKUP($P$1&$U$1&A8,抽出!$B$4:$O$200,8,FALSE)","v":"2019-09-07"},null,{"$f":"VLOOKUP($P$1&$U$1&A8,抽出!$B$4:$O$200,9,FALSE)","v":"川島歩結夢"},null,null,null,{"$f":"VLOOKUP($P$1&$U$1&A8,抽出!$B$4:$O$200,10,FALSE)","v":340},null,null,{"$f":"VLOOKUP($P$1&$U$1&A8,抽出!$B$4:$O$200,11,FALSE)","v":"決"},{"$f":"VLOOKUP($P$1&$U$1&A8,抽出!$B$4:$O$200,12,FALSE)","v":"斜里中"},null,null,{"$f":"VLOOKUP($P$1&$U$1&A8,抽出!$B$4:$O$200,13,FALSE)","v":2},{"$f":"VLOOKUP($P$1&$U$1&A8,抽出!$B$4:$O$200,14,FALSE)","v":0},null,null,"高校男子","高男"]
[6,{"$f":"IF(COUNTIF($K$4:N9,K9)=1,1,0)","v":1},{"$f":"IF(B9=0,\"\",SUM($B$4:B9))","v":6},{"$f":"VLOOKUP($P$1&$U$1&A9,抽出!$B$4:$O$200,6,FALSE)","v":"全道中学新人"},null,null,{"$f":"VLOOKUP($P$1&$U$1&A9,抽出!$B$4:$O$200,7,FALSE)","v":"千歳"},null,{"$f":"VLOOKUP($P$1&$U$1&A9,抽出!$B$4:$O$200,8,FALSE)","v":"2019-09-21"},null,{"$f":"VLOOKUP($P$1&$U$1&A9,抽出!$B$4:$O$200,9,FALSE)","v":"福田悠介"},null,null,null,{"$f":"VLOOKUP($P$1&$U$1&A9,抽出!$B$4:$O$200,10,FALSE)","v":320},null,null,{"$f":"VLOOKUP($P$1&$U$1&A9,抽出!$B$4:$O$200,11,FALSE)","v":"決"},{"$f":"VLOOKUP($P$1&$U$1&A9,抽出!$B$4:$O$200,12,FALSE)","v":"網走第一"},null,null,{"$f":"VLOOKUP($P$1&$U$1&A9,抽出!$B$4:$O$200,13,FALSE)","v":2},{"$f":"VLOOKUP($P$1&$U$1&A9,抽出!$B$4:$O$200,14,FALSE)","v":0},null,null,"高校女子","高女"]
[7,{"$f":"IF(COUNTIF($K$4:N10,K10)=1,1,0)","v":1},{"$f":"IF(B10=0,\"\",SUM($B$4:B10))","v":7},{"$f":"VLOOKUP($P$1&$U$1&A10,抽出!$B$4:$O$200,6,FALSE)","v":"フィールド記録会"},null,null,{"$f":"VLOOKUP($P$1&$U$1&A10,抽出!$B$4:$O$200,7,FALSE)","v":"網走"},null,{"$f":"VLOOKUP($P$1&$U$1&A10,抽出!$B$4:$O$200,8,FALSE)","v":"2019-06-08"},null,{"$f":"VLOOKUP($P$1&$U$1&A10,抽出!$B$4:$O$200,9,FALSE)","v":"市村宥樹"},null,null,null,{"$f":"VLOOKUP($P$1&$U$1&A10,抽出!$B$4:$O$200,10,FALSE)","v":280},null,null,{"$f":"VLOOKUP($P$1&$U$1&A10,抽出!$B$4:$O$200,11,FALSE)","v":"決"},{"$f":"VLOOKUP($P$1&$U$1&A10,抽出!$B$4:$O$200,12,FALSE)","v":"斜里中"},null,null,{"$f":"VLOOKUP($P$1&$U$1&A10,抽出!$B$4:$O$200,13,FALSE)","v":3},{"$f":"VLOOKUP($P$1&$U$1&A10,抽出!$B$4:$O$200,14,FALSE)","v":0},null,null,"一般男子","一男"]
[8,{"$f":"IF(COUNTIF($K$4:N11,K11)=1,1,0)","v":1},{"$f":"IF(B11=0,\"\",SUM($B$4:B11))","v":8},{"$f":"VLOOKUP($P$1&$U$1&A11,抽出!$B$4:$O$200,6,FALSE)","v":"全道中学新人"},null,null,{"$f":"VLOOKUP($P$1&$U$1&A11,抽出!$B$4:$O$200,7,FALSE)","v":"千歳"},null,{"$f":"VLOOKUP($P$1&$U$1&A11,抽出!$B$4:$O$200,8,FALSE)","v":"2019-09-21"},null,{"$f":"VLOOKUP($P$1&$U$1&A11,抽出!$B$4:$O$200,9,FALSE)","v":"川上大晴"},null,null,null,{"$f":"VLOOKUP($P$1&$U$1&A11,抽出!$B$4:$O$200,10,FALSE)","v":260},null,null,{"$f":"VLOOKUP($P$1&$U$1&A11,抽出!$B$4:$O$200,11,FALSE)","v":"決"},{"$f":"VLOOKUP($P$1&$U$1&A11,抽出!$B$4:$O$200,12,FALSE)","v":"北見小泉"},null,null,{"$f":"VLOOKUP($P$1&$U$1&A11,抽出!$B$4:$O$200,13,FALSE)","v":2},{"$f":"VLOOKUP($P$1&$U$1&A11,抽出!$B$4:$O$200,14,FALSE)","v":0},null,null,"一般女子","一女"]
[9,{"$f":"IF(COUNTIF($K$4:N12,K12)=1,1,0)","v":1},{"$f":"IF(B12=0,\"\",SUM($B$4:B12))","v":9},{"$f":"VLOOKUP($P$1&$U$1&A12,抽出!$B$4:$O$200,6,FALSE)","v":"秋季陸上"},null,null,{"$f":"VLOOKUP($P$1&$U$1&A12,抽出!$B$4:$O$200,7,FALSE)","v":"網走"},null,{"$f":"VLOOKUP($P$1&$U$1&A12,抽出!$B$4:$O$200,8,FALSE)","v":"2019-09-07"},null,{"$f":"VLOOKUP($P$1&$U$1&A12,抽出!$B$4:$O$200,9,FALSE)","v":"佐藤大斗"},null,null,null,{"$f":"VLOOKUP($P$1&$U$1&A12,抽出!$B$4:$O$200,10,FALSE)","v":240},null,null,{"$f":"VLOOKUP($P$1&$U$1&A12,抽出!$B$4:$O$200,11,FALSE)","v":"決"},{"$f":"VLOOKUP($P$1&$U$1&A12,抽出!$B$4:$O$200,12,FALSE)","v":"斜里中"},null,null,{"$f":"VLOOKUP($P$1&$U$1&A12,抽出!$B$4:$O$200,13,FALSE)","v":1},{"$f":"VLOOKUP($P$1&$U$1&A12,抽出!$B$4:$O$200,14,FALSE)","v":0}]
[10,{"$f":"IF(COUNTIF($K$4:N13,K13)=1,1,0)","v":1},{"$f":"IF(B13=0,\"\",SUM($B$4:B13))","v":10},{"$f":"VLOOKUP($P$1&$U$1&A13,抽出!$B$4:$O$200,6,FALSE)","v":"地区中体連"},null,null,{"$f":"VLOOKUP($P$1&$U$1&A13,抽出!$B$4:$O$200,7,FALSE)","v":"北見"},null,{"$f":"VLOOKUP($P$1&$U$1&A13,抽出!$B$4:$O$200,8,FALSE)","v":"2019-06-14"},null,{"$f":"VLOOKUP($P$1&$U$1&A13,抽出!$B$4:$O$200,9,FALSE)","v":"古畑愛斗"},null,null,null,{"$f":"VLOOKUP($P$1&$U$1&A13,抽出!$B$4:$O$200,10,FALSE)","v":240},null,null,{"$f":"VLOOKUP($P$1&$U$1&A13,抽出!$B$4:$O$200,11,FALSE)","v":"決"},{"$f":"VLOOKUP($P$1&$U$1&A13,抽出!$B$4:$O$200,12,FALSE)","v":"北見小泉中"},null,null,{"$f":"VLOOKUP($P$1&$U$1&A13,抽出!$B$4:$O$200,13,FALSE)","v":2},{"$f":"VLOOKUP($P$1&$U$1&A13,抽出!$B$4:$O$200,14,FALSE)","v":0}]
[11,{"$f":"IF(COUNTIF($K$4:N14,K14)=1,1,0)","v":1},{"$f":"IF(B14=0,\"\",SUM($B$4:B14))","v":11},{"$f":"VLOOKUP($P$1&$U$1&A14,抽出!$B$4:$O$200,6,FALSE)","v":"地区中体連"},null,null,{"$f":"VLOOKUP($P$1&$U$1&A14,抽出!$B$4:$O$200,7,FALSE)","v":"北見"},null,{"$f":"VLOOKUP($P$1&$U$1&A14,抽出!$B$4:$O$200,8,FALSE)","v":"2019-06-14"},null,{"$f":"VLOOKUP($P$1&$U$1&A14,抽出!$B$4:$O$200,9,FALSE)","v":"山本銀士郎"},null,null,null,{"$f":"VLOOKUP($P$1&$U$1&A14,抽出!$B$4:$O$200,10,FALSE)","v":230},null,null,{"$f":"VLOOKUP($P$1&$U$1&A14,抽出!$B$4:$O$200,11,FALSE)","v":"決"},{"$f":"VLOOKUP($P$1&$U$1&A14,抽出!$B$4:$O$200,12,FALSE)","v":"網走第一中"},null,null,{"$f":"VLOOKUP($P$1&$U$1&A14,抽出!$B$4:$O$200,13,FALSE)","v":2},{"$f":"VLOOKUP($P$1&$U$1&A14,抽出!$B$4:$O$200,14,FALSE)","v":0}]
[12,{"$f":"IF(COUNTIF($K$4:N15,K15)=1,1,0)","v":1},{"$f":"IF(B15=0,\"\",SUM($B$4:B15))","v":12},{"$f":"VLOOKUP($P$1&$U$1&A15,抽出!$B$4:$O$200,6,FALSE)","v":"記録会４戦"},null,null,{"$f":"VLOOKUP($P$1&$U$1&A15,抽出!$B$4:$O$200,7,FALSE)","v":"北見"},null,{"$f":"VLOOKUP($P$1&$U$1&A15,抽出!$B$4:$O$200,8,FALSE)","v":"2019-08-04"},null,{"$f":"VLOOKUP($P$1&$U$1&A15,抽出!$B$4:$O$200,9,FALSE)","v":"ｽﾉｰｼﾞｮｻｲﾔ"},null,null,null,{"$f":"VLOOKUP($P$1&$U$1&A15,抽出!$B$4:$O$200,10,FALSE)","v":220},null,null,{"$f":"VLOOKUP($P$1&$U$1&A15,抽出!$B$4:$O$200,11,FALSE)","v":"決"},{"$f":"VLOOKUP($P$1&$U$1&A15,抽出!$B$4:$O$200,12,FALSE)","v":"網走第四中"},null,null,{"$f":"VLOOKUP($P$1&$U$1&A15,抽出!$B$4:$O$200,13,FALSE)","v":1},{"$f":"VLOOKUP($P$1&$U$1&A15,抽出!$B$4:$O$200,14,FALSE)","v":0}]
[13,{"$f":"IF(COUNTIF($K$4:N16,K16)=1,1,0)","v":1},{"$f":"IF(B16=0,\"\",SUM($B$4:B16))","v":13},{"$f":"VLOOKUP($P$1&$U$1&A16,抽出!$B$4:$O$200,6,FALSE)","v":"中学新人"},null,null,{"$f":"VLOOKUP($P$1&$U$1&A16,抽出!$B$4:$O$200,7,FALSE)","v":"北見"},null,{"$f":"VLOOKUP($P$1&$U$1&A16,抽出!$B$4:$O$200,8,FALSE)","v":"2019-08-24"},null,{"$f":"VLOOKUP($P$1&$U$1&A16,抽出!$B$4:$O$200,9,FALSE)","v":"飯島空輝"},null,null,null,{"$f":"VLOOKUP($P$1&$U$1&A16,抽出!$B$4:$O$200,10,FALSE)","v":200},null,null,{"$f":"VLOOKUP($P$1&$U$1&A16,抽出!$B$4:$O$200,11,FALSE)","v":"決"},{"$f":"VLOOKUP($P$1&$U$1&A16,抽出!$B$4:$O$200,12,FALSE)","v":"北見北中"},null,null,{"$f":"VLOOKUP($P$1&$U$1&A16,抽出!$B$4:$O$200,13,FALSE)","v":1},{"$f":"VLOOKUP($P$1&$U$1&A16,抽出!$B$4:$O$200,14,FALSE)","v":0}]
[14,{"$f":"IF(COUNTIF($K$4:N17,K17)=1,1,0)","v":1},{"$f":"IF(B17=0,\"\",SUM($B$4:B17))","v":14},{"$f":"VLOOKUP($P$1&$U$1&A17,抽出!$B$4:$O$200,6,FALSE)","v":"記録会第１戦"},null,null,{"$f":"VLOOKUP($P$1&$U$1&A17,抽出!$B$4:$O$200,7,FALSE)","v":"北見"},null,{"$f":"VLOOKUP($P$1&$U$1&A17,抽出!$B$4:$O$200,8,FALSE)","v":"2019-04-28"},null,{"$f":"VLOOKUP($P$1&$U$1&A17,抽出!$B$4:$O$200,9,FALSE)","v":"松本亮介"},null,null,null,{"$f":"VLOOKUP($P$1&$U$1&A17,抽出!$B$4:$O$200,10,FALSE)","v":200},null,null,{"$f":"VLOOKUP($P$1&$U$1&A17,抽出!$B$4:$O$200,11,FALSE)","v":"決"},{"$f":"VLOOKUP($P$1&$U$1&A17,抽出!$B$4:$O$200,12,FALSE)","v":"北見小泉中"},null,null,{"$f":"VLOOKUP($P$1&$U$1&A17,抽出!$B$4:$O$200,13,FALSE)","v":2},{"$f":"VLOOKUP($P$1&$U$1&A17,抽出!$B$4:$O$200,14,FALSE)","v":0}]
[15,{"$f":"IF(COUNTIF($K$4:N18,K18)=1,1,0)","v":1},{"$f":"IF(B18=0,\"\",SUM($B$4:B18))","v":15},{"$f":"VLOOKUP($P$1&$U$1&A18,抽出!$B$4:$O$200,6,FALSE)","v":"秋季陸上"},null,null,{"$f":"VLOOKUP($P$1&$U$1&A18,抽出!$B$4:$O$200,7,FALSE)","v":"網走"},null,{"$f":"VLOOKUP($P$1&$U$1&A18,抽出!$B$4:$O$200,8,FALSE)","v":"2019-09-07"},null,{"$f":"VLOOKUP($P$1&$U$1&A18,抽出!$B$4:$O$200,9,FALSE)","v":"石原遥翔"},null,null,null,{"$f":"VLOOKUP($P$1&$U$1&A18,抽出!$B$4:$O$200,10,FALSE)","v":190},null,null,{"$f":"VLOOKUP($P$1&$U$1&A18,抽出!$B$4:$O$200,11,FALSE)","v":"決"},{"$f":"VLOOKUP($P$1&$U$1&A18,抽出!$B$4:$O$200,12,FALSE)","v":"網走第四中"},null,null,{"$f":"VLOOKUP($P$1&$U$1&A18,抽出!$B$4:$O$200,13,FALSE)","v":1},{"$f":"VLOOKUP($P$1&$U$1&A18,抽出!$B$4:$O$200,14,FALSE)","v":0}]
[16,{"$f":"IF(COUNTIF($K$4:N19,K19)=1,1,0)","v":1},{"$f":"IF(B19=0,\"\",SUM($B$4:B19))","v":16},{"$f":"VLOOKUP($P$1&$U$1&A19,抽出!$B$4:$O$200,6,FALSE)","v":{"$error":"#N/A"}},null,null,{"$f":"VLOOKUP($P$1&$U$1&A19,抽出!$B$4:$O$200,7,FALSE)","v":{"$error":"#N/A"}},null,{"$f":"VLOOKUP($P$1&$U$1&A19,抽出!$B$4:$O$200,8,FALSE)","v":{"$error":"#N/A"}},null,{"$f":"VLOOKUP($P$1&$U$1&A19,抽出!$B$4:$O$200,9,FALSE)","v":{"$error":"#N/A"}},null,null,null,{"$f":"VLOOKUP($P$1&$U$1&A19,抽出!$B$4:$O$200,10,FALSE)","v":{"$error":"#N/A"}},null,null,{"$f":"VLOOKUP($P$1&$U$1&A19,抽出!$B$4:$O$200,11,FALSE)","v":{"$error":"#N/A"}},{"$f":"VLOOKUP($P$1&$U$1&A19,抽出!$B$4:$O$200,12,FALSE)","v":{"$error":"#N/A"}},null,null,{"$f":"VLOOKUP($P$1&$U$1&A19,抽出!$B$4:$O$200,13,FALSE)","v":{"$error":"#N/A"}},{"$f":"VLOOKUP($P$1&$U$1&A19,抽出!$B$4:$O$200,14,FALSE)","v":{"$error":"#N/A"}}]
[17,{"$f":"IF(COUNTIF($K$4:N20,K20)=1,1,0)","v":0},{"$f":"IF(B20=0,\"\",SUM($B$4:B20))","v":""},{"$f":"VLOOKUP($P$1&$U$1&A20,抽出!$B$4:$O$200,6,FALSE)","v":{"$error":"#N/A"}},null,null,{"$f":"VLOOKUP($P$1&$U$1&A20,抽出!$B$4:$O$200,7,FALSE)","v":{"$error":"#N/A"}},null,{"$f":"VLOOKUP($P$1&$U$1&A20,抽出!$B$4:$O$200,8,FALSE)","v":{"$error":"#N/A"}},null,{"$f":"VLOOKUP($P$1&$U$1&A20,抽出!$B$4:$O$200,9,FALSE)","v":{"$error":"#N/A"}},null,null,null,{"$f":"VLOOKUP($P$1&$U$1&A20,抽出!$B$4:$O$200,10,FALSE)","v":{"$error":"#N/A"}},null,null,{"$f":"VLOOKUP($P$1&$U$1&A20,抽出!$B$4:$O$200,11,FALSE)","v":{"$error":"#N/A"}},{"$f":"VLOOKUP($P$1&$U$1&A20,抽出!$B$4:$O$200,12,FALSE)","v":{"$error":"#N/A"}},null,null,{"$f":"VLOOKUP($P$1&$U$1&A20,抽出!$B$4:$O$200,13,FALSE)","v":{"$error":"#N/A"}},{"$f":"VLOOKUP($P$1&$U$1&A20,抽出!$B$4:$O$200,14,FALSE)","v":{"$error":"#N/A"}}]
[18,{"$f":"IF(COUNTIF($K$4:N21,K21)=1,1,0)","v":0},{"$f":"IF(B21=0,\"\",SUM($B$4:B21))","v":""},{"$f":"VLOOKUP($P$1&$U$1&A21,抽出!$B$4:$O$200,6,FALSE)","v":{"$error":"#N/A"}},null,null,{"$f":"VLOOKUP($P$1&$U$1&A21,抽出!$B$4:$O$200,7,FALSE)","v":{"$error":"#N/A"}},null,{"$f":"VLOOKUP($P$1&$U$1&A21,抽出!$B$4:$O$200,8,FALSE)","v":{"$error":"#N/A"}},null,{"$f":"VLOOKUP($P$1&$U$1&A21,抽出!$B$4:$O$200,9,FALSE)","v":{"$error":"#N/A"}},null,null,null,{"$f":"VLOOKUP($P$1&$U$1&A21,抽出!$B$4:$O$200,10,FALSE)","v":{"$error":"#N/A"}},null,null,{"$f":"VLOOKUP($P$1&$U$1&A21,抽出!$B$4:$O$200,11,FALSE)","v":{"$error":"#N/A"}},{"$f":"VLOOKUP($P$1&$U$1&A21,抽出!$B$4:$O$200,12,FALSE)","v":{"$error":"#N/A"}},null,null,{"$f":"VLOOKUP($P$1&$U$1&A21,抽出!$B$4:$O$200,13,FALSE)","v":{"$error":"#N/A"}},{"$f":"VLOOKUP($P$1&$U$1&A21,抽出!$B$4:$O$200,14,FALSE)","v":{"$error":"#N/A"}}]
[19,{"$f":"IF(COUNTIF($K$4:N22,K22)=1,1,0)","v":0},{"$f":"IF(B22=0,\"\",SUM($B$4:B22))","v":""},{"$f":"VLOOKUP($P$1&$U$1&A22,抽出!$B$4:$O$200,6,FALSE)","v":{"$error":"#N/A"}},null,null,{"$f":"VLOOKUP($P$1&$U$1&A22,抽出!$B$4:$O$200,7,FALSE)","v":{"$error":"#N/A"}},null,{"$f":"VLOOKUP($P$1&$U$1&A22,抽出!$B$4:$O$200,8,FALSE)","v":{"$error":"#N/A"}},null,{"$f":"VLOOKUP($P$1&$U$1&A22,抽出!$B$4:$O$200,9,FALSE)","v":{"$error":"#N/A"}},null,null,null,{"$f":"VLOOKUP($P$1&$U$1&A22,抽出!$B$4:$O$200,10,FALSE)","v":{"$error":"#N/A"}},null,null,{"$f":"VLOOKUP($P$1&$U$1&A22,抽出!$B$4:$O$200,11,FALSE)","v":{"$error":"#N/A"}},{"$f":"VLOOKUP($P$1&$U$1&A22,抽出!$B$4:$O$200,12,FALSE)","v":{"$error":"#N/A"}},null,null,{"$f":"VLOOKUP($P$1&$U$1&A22,抽出!$B$4:$O$200,13,FALSE)","v":{"$error":"#N/A"}},{"$f":"VLOOKUP($P$1&$U$1&A22,抽出!$B$4:$O$200,14,FALSE)","v":{"$error":"#N/A"}}]
[20,{"$f":"IF(COUNTIF($K$4:N23,K23)=1,1,0)","v":0},{"$f":"IF(B23=0,\"\",SUM($B$4:B23))","v":""},{"$f":"VLOOKUP($P$1&$U$1&A23,抽出!$B$4:$O$200,6,FALSE)","v":{"$error":"#N/A"}},null,null,{"$f":"VLOOKUP($P$1&$U$1&A23,抽出!$B$4:$O$200,7,FALSE)","v":{"$error":"#N/A"}},null,{"$f":"VLOOKUP($P$1&$U$1&A23,抽出!$B$4:$O$200,8,FALSE)","v":{"$error":"#N/A"}},null,{"$f":"VLOOKUP($P$1&$U$1&A23,抽出!$B$4:$O$200,9,FALSE)","v":{"$error":"#N/A"}},null,null,null,{"$f":"VLOOKUP($P$1&$U$1&A23,抽出!$B$4:$O$200,10,FALSE)","v":{"$error":"#N/A"}},null,null,{"$f":"VLOOKUP($P$1&$U$1&A23,抽出!$B$4:$O$200,11,FALSE)","v":{"$error":"#N/A"}},{"$f":"VLOOKUP($P$1&$U$1&A23,抽出!$B$4:$O$200,12,FALSE)","v":{"$error":"#N/A"}},null,null,{"$f":"VLOOKUP($P$1&$U$1&A23,抽出!$B$4:$O$200,13,FALSE)","v":{"$error":"#N/A"}},{"$f":"VLOOKUP($P$1&$U$1&A23,抽出!$B$4:$O$200,14,FALSE)","v":{"$error":"#N/A"}}]
[21,{"$f":"IF(COUNTIF($K$4:N24,K24)=1,1,0)","v":0},{"$f":"IF(B24=0,\"\",SUM($B$4:B24))","v":""},{"$f":"VLOOKUP($P$1&$U$1&A24,抽出!$B$4:$O$200,6,FALSE)","v":{"$error":"#N/A"}},null,null,{"$f":"VLOOKUP($P$1&$U$1&A24,抽出!$B$4:$O$200,7,FALSE)","v":{"$error":"#N/A"}},null,{"$f":"VLOOKUP($P$1&$U$1&A24,抽出!$B$4:$O$200,8,FALSE)","v":{"$error":"#N/A"}},null,{"$f":"VLOOKUP($P$1&$U$1&A24,抽出!$B$4:$O$200,9,FALSE)","v":{"$error":"#N/A"}},null,null,null,{"$f":"VLOOKUP($P$1&$U$1&A24,抽出!$B$4:$O$200,10,FALSE)","v":{"$error":"#N/A"}},null,null,{"$f":"VLOOKUP($P$1&$U$1&A24,抽出!$B$4:$O$200,11,FALSE)","v":{"$error":"#N/A"}},{"$f":"VLOOKUP($P$1&$U$1&A24,抽出!$B$4:$O$200,12,FALSE)","v":{"$error":"#N/A"}},null,null,{"$f":"VLOOKUP($P$1&$U$1&A24,抽出!$B$4:$O$200,13,FALSE)","v":{"$error":"#N/A"}},{"$f":"VLOOKUP($P$1&$U$1&A24,抽出!$B$4:$O$200,14,FALSE)","v":{"$error":"#N/A"}}]
[22,{"$f":"IF(COUNTIF($K$4:N25,K25)=1,1,0)","v":0},{"$f":"IF(B25=0,\"\",SUM($B$4:B25))","v":""},{"$f":"VLOOKUP($P$1&$U$1&A25,抽出!$B$4:$O$200,6,FALSE)","v":{"$error":"#N/A"}},null,null,{"$f":"VLOOKUP($P$1&$U$1&A25,抽出!$B$4:$O$200,7,FALSE)","v":{"$error":"#N/A"}},null,{"$f":"VLOOKUP($P$1&$U$1&A25,抽出!$B$4:$O$200,8,FALSE)","v":{"$error":"#N/A"}},null,{"$f":"VLOOKUP($P$1&$U$1&A25,抽出!$B$4:$O$200,9,FALSE)","v":{"$error":"#N/A"}},null,null,null,{"$f":"VLOOKUP($P$1&$U$1&A25,抽出!$B$4:$O$200,10,FALSE)","v":{"$error":"#N/A"}},null,null,{"$f":"VLOOKUP($P$1&$U$1&A25,抽出!$B$4:$O$200,11,FALSE)","v":{"$error":"#N/A"}},{"$f":"VLOOKUP($P$1&$U$1&A25,抽出!$B$4:$O$200,12,FALSE)","v":{"$error":"#N/A"}},null,null,{"$f":"VLOOKUP($P$1&$U$1&A25,抽出!$B$4:$O$200,13,FALSE)","v":{"$error":"#N/A"}},{"$f":"VLOOKUP($P$1&$U$1&A25,抽出!$B$4:$O$200,14,FALSE)","v":{"$error":"#N/A"}}]
[23,{"$f":"IF(COUNTIF($K$4:N26,K26)=1,1,0)","v":0},{"$f":"IF(B26=0,\"\",SUM($B$4:B26))","v":""},{"$f":"VLOOKUP($P$1&$U$1&A26,抽出!$B$4:$O$200,6,FALSE)","v":{"$error":"#N/A"}},null,null,{"$f":"VLOOKUP($P$1&$U$1&A26,抽出!$B$4:$O$200,7,FALSE)","v":{"$error":"#N/A"}},null,{"$f":"VLOOKUP($P$1&$U$1&A26,抽出!$B$4:$O$200,8,FALSE)","v":{"$error":"#N/A"}},null,{"$f":"VLOOKUP($P$1&$U$1&A26,抽出!$B$4:$O$200,9,FALSE)","v":{"$error":"#N/A"}},null,null,null,{"$f":"VLOOKUP($P$1&$U$1&A26,抽出!$B$4:$O$200,10,FALSE)","v":{"$error":"#N/A"}},null,null,{"$f":"VLOOKUP($P$1&$U$1&A26,抽出!$B$4:$O$200,11,FALSE)","v":{"$error":"#N/A"}},{"$f":"VLOOKUP($P$1&$U$1&A26,抽出!$B$4:$O$200,12,FALSE)","v":{"$error":"#N/A"}},null,null,{"$f":"VLOOKUP($P$1&$U$1&A26,抽出!$B$4:$O$200,13,FALSE)","v":{"$error":"#N/A"}},{"$f":"VLOOKUP($P$1&$U$1&A26,抽出!$B$4:$O$200,14,FALSE)","v":{"$error":"#N/A"}}]
[24,{"$f":"IF(COUNTIF($K$4:N27,K27)=1,1,0)","v":0},{"$f":"IF(B27=0,\"\",SUM($B$4:B27))","v":""},{"$f":"VLOOKUP($P$1&$U$1&A27,抽出!$B$4:$O$200,6,FALSE)","v":{"$error":"#N/A"}},null,null,{"$f":"VLOOKUP($P$1&$U$1&A27,抽出!$B$4:$O$200,7,FALSE)","v":{"$error":"#N/A"}},null,{"$f":"VLOOKUP($P$1&$U$1&A27,抽出!$B$4:$O$200,8,FALSE)","v":{"$error":"#N/A"}},null,{"$f":"VLOOKUP($P$1&$U$1&A27,抽出!$B$4:$O$200,9,FALSE)","v":{"$error":"#N/A"}},null,null,null,{"$f":"VLOOKUP($P$1&$U$1&A27,抽出!$B$4:$O$200,10,FALSE)","v":{"$error":"#N/A"}},null,null,{"$f":"VLOOKUP($P$1&$U$1&A27,抽出!$B$4:$O$200,11,FALSE)","v":{"$error":"#N/A"}},{"$f":"VLOOKUP($P$1&$U$1&A27,抽出!$B$4:$O$200,12,FALSE)","v":{"$error":"#N/A"}},null,null,{"$f":"VLOOKUP($P$1&$U$1&A27,抽出!$B$4:$O$200,13,FALSE)","v":{"$error":"#N/A"}},{"$f":"VLOOKUP($P$1&$U$1&A27,抽出!$B$4:$O$200,14,FALSE)","v":{"$error":"#N/A"}}]
[25,{"$f":"IF(COUNTIF($K$4:N28,K28)=1,1,0)","v":0},{"$f":"IF(B28=0,\"\",SUM($B$4:B28))","v":""},{"$f":"VLOOKUP($P$1&$U$1&A28,抽出!$B$4:$O$200,6,FALSE)","v":{"$error":"#N/A"}},null,null,{"$f":"VLOOKUP($P$1&$U$1&A28,抽出!$B$4:$O$200,7,FALSE)","v":{"$error":"#N/A"}},null,{"$f":"VLOOKUP($P$1&$U$1&A28,抽出!$B$4:$O$200,8,FALSE)","v":{"$error":"#N/A"}},null,{"$f":"VLOOKUP($P$1&$U$1&A28,抽出!$B$4:$O$200,9,FALSE)","v":{"$error":"#N/A"}},null,null,null,{"$f":"VLOOKUP($P$1&$U$1&A28,抽出!$B$4:$O$200,10,FALSE)","v":{"$error":"#N/A"}},null,null,{"$f":"VLOOKUP($P$1&$U$1&A28,抽出!$B$4:$O$200,11,FALSE)","v":{"$error":"#N/A"}},{"$f":"VLOOKUP($P$1&$U$1&A28,抽出!$B$4:$O$200,12,FALSE)","v":{"$error":"#N/A"}},null,null,{"$f":"VLOOKUP($P$1&$U$1&A28,抽出!$B$4:$O$200,13,FALSE)","v":{"$error":"#N/A"}},{"$f":"VLOOKUP($P$1&$U$1&A28,抽出!$B$4:$O$200,14,FALSE)","v":{"$error":"#N/A"}}]
[26,{"$f":"IF(COUNTIF($K$4:N29,K29)=1,1,0)","v":0},{"$f":"IF(B29=0,\"\",SUM($B$4:B29))","v":""},{"$f":"VLOOKUP($P$1&$U$1&A29,抽出!$B$4:$O$200,6,FALSE)","v":{"$error":"#N/A"}},null,null,{"$f":"VLOOKUP($P$1&$U$1&A29,抽出!$B$4:$O$200,7,FALSE)","v":{"$error":"#N/A"}},null,{"$f":"VLOOKUP($P$1&$U$1&A29,抽出!$B$4:$O$200,8,FALSE)","v":{"$error":"#N/A"}},null,{"$f":"VLOOKUP($P$1&$U$1&A29,抽出!$B$4:$O$200,9,FALSE)","v":{"$error":"#N/A"}},null,null,null,{"$f":"VLOOKUP($P$1&$U$1&A29,抽出!$B$4:$O$200,10,FALSE)","v":{"$error":"#N/A"}},null,null,{"$f":"VLOOKUP($P$1&$U$1&A29,抽出!$B$4:$O$200,11,FALSE)","v":{"$error":"#N/A"}},{"$f":"VLOOKUP($P$1&$U$1&A29,抽出!$B$4:$O$200,12,FALSE)","v":{"$error":"#N/A"}},null,null,{"$f":"VLOOKUP($P$1&$U$1&A29,抽出!$B$4:$O$200,13,FALSE)","v":{"$error":"#N/A"}},{"$f":"VLOOKUP($P$1&$U$1&A29,抽出!$B$4:$O$200,14,FALSE)","v":{"$error":"#N/A"}}]
[27,{"$f":"IF(COUNTIF($K$4:N30,K30)=1,1,0)","v":0},{"$f":"IF(B30=0,\"\",SUM($B$4:B30))","v":""},{"$f":"VLOOKUP($P$1&$U$1&A30,抽出!$B$4:$O$200,6,FALSE)","v":{"$error":"#N/A"}},null,null,{"$f":"VLOOKUP($P$1&$U$1&A30,抽出!$B$4:$O$200,7,FALSE)","v":{"$error":"#N/A"}},null,{"$f":"VLOOKUP($P$1&$U$1&A30,抽出!$B$4:$O$200,8,FALSE)","v":{"$error":"#N/A"}},null,{"$f":"VLOOKUP($P$1&$U$1&A30,抽出!$B$4:$O$200,9,FALSE)","v":{"$error":"#N/A"}},null,null,null,{"$f":"VLOOKUP($P$1&$U$1&A30,抽出!$B$4:$O$200,10,FALSE)","v":{"$error":"#N/A"}},null,null,{"$f":"VLOOKUP($P$1&$U$1&A30,抽出!$B$4:$O$200,11,FALSE)","v":{"$error":"#N/A"}},{"$f":"VLOOKUP($P$1&$U$1&A30,抽出!$B$4:$O$200,12,FALSE)","v":{"$error":"#N/A"}},null,null,{"$f":"VLOOKUP($P$1&$U$1&A30,抽出!$B$4:$O$200,13,FALSE)","v":{"$error":"#N/A"}},{"$f":"VLOOKUP($P$1&$U$1&A30,抽出!$B$4:$O$200,14,FALSE)","v":{"$error":"#N/A"}}]
[28,{"$f":"IF(COUNTIF($K$4:N31,K31)=1,1,0)","v":0},{"$f":"IF(B31=0,\"\",SUM($B$4:B31))","v":""},{"$f":"VLOOKUP($P$1&$U$1&A31,抽出!$B$4:$O$200,6,FALSE)","v":{"$error":"#N/A"}},null,null,{"$f":"VLOOKUP($P$1&$U$1&A31,抽出!$B$4:$O$200,7,FALSE)","v":{"$error":"#N/A"}},null,{"$f":"VLOOKUP($P$1&$U$1&A31,抽出!$B$4:$O$200,8,FALSE)","v":{"$error":"#N/A"}},null,{"$f":"VLOOKUP($P$1&$U$1&A31,抽出!$B$4:$O$200,9,FALSE)","v":{"$error":"#N/A"}},null,null,null,{"$f":"VLOOKUP($P$1&$U$1&A31,抽出!$B$4:$O$200,10,FALSE)","v":{"$error":"#N/A"}},null,null,{"$f":"VLOOKUP($P$1&$U$1&A31,抽出!$B$4:$O$200,11,FALSE)","v":{"$error":"#N/A"}},{"$f":"VLOOKUP($P$1&$U$1&A31,抽出!$B$4:$O$200,12,FALSE)","v":{"$error":"#N/A"}},null,null,{"$f":"VLOOKUP($P$1&$U$1&A31,抽出!$B$4:$O$200,13,FALSE)","v":{"$error":"#N/A"}},{"$f":"VLOOKUP($P$1&$U$1&A31,抽出!$B$4:$O$200,14,FALSE)","v":{"$error":"#N/A"}}]
[29,{"$f":"IF(COUNTIF($K$4:N32,K32)=1,1,0)","v":0},{"$f":"IF(B32=0,\"\",SUM($B$4:B32))","v":""},{"$f":"VLOOKUP($P$1&$U$1&A32,抽出!$B$4:$O$200,6,FALSE)","v":{"$error":"#N/A"}},null,null,{"$f":"VLOOKUP($P$1&$U$1&A32,抽出!$B$4:$O$200,7,FALSE)","v":{"$error":"#N/A"}},null,{"$f":"VLOOKUP($P$1&$U$1&A32,抽出!$B$4:$O$200,8,FALSE)","v":{"$error":"#N/A"}},null,{"$f":"VLOOKUP($P$1&$U$1&A32,抽出!$B$4:$O$200,9,FALSE)","v":{"$error":"#N/A"}},null,null,null,{"$f":"VLOOKUP($P$1&$U$1&A32,抽出!$B$4:$O$200,10,FALSE)","v":{"$error":"#N/A"}},null,null,{"$f":"VLOOKUP($P$1&$U$1&A32,抽出!$B$4:$O$200,11,FALSE)","v":{"$error":"#N/A"}},{"$f":"VLOOKUP($P$1&$U$1&A32,抽出!$B$4:$O$200,12,FALSE)","v":{"$error":"#N/A"}},null,null,{"$f":"VLOOKUP($P$1&$U$1&A32,抽出!$B$4:$O$200,13,FALSE)","v":{"$error":"#N/A"}},{"$f":"VLOOKUP($P$1&$U$1&A32,抽出!$B$4:$O$200,14,FALSE)","v":{"$error":"#N/A"}}]
[30,{"$f":"IF(COUNTIF($K$4:N33,K33)=1,1,0)","v":0},{"$f":"IF(B33=0,\"\",SUM($B$4:B33))","v":""},{"$f":"VLOOKUP($P$1&$U$1&A33,抽出!$B$4:$O$200,6,FALSE)","v":{"$error":"#N/A"}},null,null,{"$f":"VLOOKUP($P$1&$U$1&A33,抽出!$B$4:$O$200,7,FALSE)","v":{"$error":"#N/A"}},null,{"$f":"VLOOKUP($P$1&$U$1&A33,抽出!$B$4:$O$200,8,FALSE)","v":{"$error":"#N/A"}},null,{"$f":"VLOOKUP($P$1&$U$1&A33,抽出!$B$4:$O$200,9,FALSE)","v":{"$error":"#N/A"}},null,null,null,{"$f":"VLOOKUP($P$1&$U$1&A33,抽出!$B$4:$O$200,10,FALSE)","v":{"$error":"#N/A"}},null,null,{"$f":"VLOOKUP($P$1&$U$1&A33,抽出!$B$4:$O$200,11,FALSE)","v":{"$error":"#N/A"}},{"$f":"VLOOKUP($P$1&$U$1&A33,抽出!$B$4:$O$200,12,FALSE)","v":{"$error":"#N/A"}},null,null,{"$f":"VLOOKUP($P$1&$U$1&A33,抽出!$B$4:$O$200,13,FALSE)","v":{"$error":"#N/A"}},{"$f":"VLOOKUP($P$1&$U$1&A33,抽出!$B$4:$O$200,14,FALSE)","v":{"$error":"#N/A"}}]
[31,{"$f":"IF(COUNTIF($K$4:N34,K34)=1,1,0)","v":0},{"$f":"IF(B34=0,\"\",SUM($B$4:B34))","v":""},{"$f":"VLOOKUP($P$1&$U$1&A34,抽出!$B$4:$O$200,6,FALSE)","v":{"$error":"#N/A"}},null,null,{"$f":"VLOOKUP($P$1&$U$1&A34,抽出!$B$4:$O$200,7,FALSE)","v":{"$error":"#N/A"}},null,{"$f":"VLOOKUP($P$1&$U$1&A34,抽出!$B$4:$O$200,8,FALSE)","v":{"$error":"#N/A"}},null,{"$f":"VLOOKUP($P$1&$U$1&A34,抽出!$B$4:$O$200,9,FALSE)","v":{"$error":"#N/A"}},null,null,null,{"$f":"VLOOKUP($P$1&$U$1&A34,抽出!$B$4:$O$200,10,FALSE)","v":{"$error":"#N/A"}},null,null,{"$f":"VLOOKUP($P$1&$U$1&A34,抽出!$B$4:$O$200,11,FALSE)","v":{"$error":"#N/A"}},{"$f":"VLOOKUP($P$1&$U$1&A34,抽出!$B$4:$O$200,12,FALSE)","v":{"$error":"#N/A"}},null,null,{"$f":"VLOOKUP($P$1&$U$1&A34,抽出!$B$4:$O$200,13,FALSE)","v":{"$error":"#N/A"}},{"$f":"VLOOKUP($P$1&$U$1&A34,抽出!$B$4:$O$200,14,FALSE)","v":{"$error":"#N/A"}}]
[32,{"$f":"IF(COUNTIF($K$4:N35,K35)=1,1,0)","v":0},{"$f":"IF(B35=0,\"\",SUM($B$4:B35))","v":""},{"$f":"VLOOKUP($P$1&$U$1&A35,抽出!$B$4:$O$200,6,FALSE)","v":{"$error":"#N/A"}},null,null,{"$f":"VLOOKUP($P$1&$U$1&A35,抽出!$B$4:$O$200,7,FALSE)","v":{"$error":"#N/A"}},null,{"$f":"VLOOKUP($P$1&$U$1&A35,抽出!$B$4:$O$200,8,FALSE)","v":{"$error":"#N/A"}},null,{"$f":"VLOOKUP($P$1&$U$1&A35,抽出!$B$4:$O$200,9,FALSE)","v":{"$error":"#N/A"}},null,null,null,{"$f":"VLOOKUP($P$1&$U$1&A35,抽出!$B$4:$O$200,10,FALSE)","v":{"$error":"#N/A"}},null,null,{"$f":"VLOOKUP($P$1&$U$1&A35,抽出!$B$4:$O$200,11,FALSE)","v":{"$error":"#N/A"}},{"$f":"VLOOKUP($P$1&$U$1&A35,抽出!$B$4:$O$200,12,FALSE)","v":{"$error":"#N/A"}},null,null,{"$f":"VLOOKUP($P$1&$U$1&A35,抽出!$B$4:$O$200,13,FALSE)","v":{"$error":"#N/A"}},{"$f":"VLOOKUP($P$1&$U$1&A35,抽出!$B$4:$O$200,14,FALSE)","v":{"$error":"#N/A"}}]
[33,{"$f":"IF(COUNTIF($K$4:N36,K36)=1,1,0)","v":0},{"$f":"IF(B36=0,\"\",SUM($B$4:B36))","v":""},{"$f":"VLOOKUP($P$1&$U$1&A36,抽出!$B$4:$O$200,6,FALSE)","v":{"$error":"#N/A"}},null,null,{"$f":"VLOOKUP($P$1&$U$1&A36,抽出!$B$4:$O$200,7,FALSE)","v":{"$error":"#N/A"}},null,{"$f":"VLOOKUP($P$1&$U$1&A36,抽出!$B$4:$O$200,8,FALSE)","v":{"$error":"#N/A"}},null,{"$f":"VLOOKUP($P$1&$U$1&A36,抽出!$B$4:$O$200,9,FALSE)","v":{"$error":"#N/A"}},null,null,null,{"$f":"VLOOKUP($P$1&$U$1&A36,抽出!$B$4:$O$200,10,FALSE)","v":{"$error":"#N/A"}},null,null,{"$f":"VLOOKUP($P$1&$U$1&A36,抽出!$B$4:$O$200,11,FALSE)","v":{"$error":"#N/A"}},{"$f":"VLOOKUP($P$1&$U$1&A36,抽出!$B$4:$O$200,12,FALSE)","v":{"$error":"#N/A"}},null,null,{"$f":"VLOOKUP($P$1&$U$1&A36,抽出!$B$4:$O$200,13,FALSE)","v":{"$error":"#N/A"}},{"$f":"VLOOKUP($P$1&$U$1&A36,抽出!$B$4:$O$200,14,FALSE)","v":{"$error":"#N/A"}}]
[34,{"$f":"IF(COUNTIF($K$4:N37,K37)=1,1,0)","v":0},{"$f":"IF(B37=0,\"\",SUM($B$4:B37))","v":""},{"$f":"VLOOKUP($P$1&$U$1&A37,抽出!$B$4:$O$200,6,FALSE)","v":{"$error":"#N/A"}},null,null,{"$f":"VLOOKUP($P$1&$U$1&A37,抽出!$B$4:$O$200,7,FALSE)","v":{"$error":"#N/A"}},null,{"$f":"VLOOKUP($P$1&$U$1&A37,抽出!$B$4:$O$200,8,FALSE)","v":{"$error":"#N/A"}},null,{"$f":"VLOOKUP($P$1&$U$1&A37,抽出!$B$4:$O$200,9,FALSE)","v":{"$error":"#N/A"}},null,null,null,{"$f":"VLOOKUP($P$1&$U$1&A37,抽出!$B$4:$O$200,10,FALSE)","v":{"$error":"#N/A"}},null,null,{"$f":"VLOOKUP($P$1&$U$1&A37,抽出!$B$4:$O$200,11,FALSE)","v":{"$error":"#N/A"}},{"$f":"VLOOKUP($P$1&$U$1&A37,抽出!$B$4:$O$200,12,FALSE)","v":{"$error":"#N/A"}},null,null,{"$f":"VLOOKUP($P$1&$U$1&A37,抽出!$B$4:$O$200,13,FALSE)","v":{"$error":"#N/A"}},{"$f":"VLOOKUP($P$1&$U$1&A37,抽出!$B$4:$O$200,14,FALSE)","v":{"$error":"#N/A"}}]
[35,{"$f":"IF(COUNTIF($K$4:N38,K38)=1,1,0)","v":0},{"$f":"IF(B38=0,\"\",SUM($B$4:B38))","v":""},{"$f":"VLOOKUP($P$1&$U$1&A38,抽出!$B$4:$O$200,6,FALSE)","v":{"$error":"#N/A"}},null,null,{"$f":"VLOOKUP($P$1&$U$1&A38,抽出!$B$4:$O$200,7,FALSE)","v":{"$error":"#N/A"}},null,{"$f":"VLOOKUP($P$1&$U$1&A38,抽出!$B$4:$O$200,8,FALSE)","v":{"$error":"#N/A"}},null,{"$f":"VLOOKUP($P$1&$U$1&A38,抽出!$B$4:$O$200,9,FALSE)","v":{"$error":"#N/A"}},null,null,null,{"$f":"VLOOKUP($P$1&$U$1&A38,抽出!$B$4:$O$200,10,FALSE)","v":{"$error":"#N/A"}},null,null,{"$f":"VLOOKUP($P$1&$U$1&A38,抽出!$B$4:$O$200,11,FALSE)","v":{"$error":"#N/A"}},{"$f":"VLOOKUP($P$1&$U$1&A38,抽出!$B$4:$O$200,12,FALSE)","v":{"$error":"#N/A"}},null,null,{"$f":"VLOOKUP($P$1&$U$1&A38,抽出!$B$4:$O$200,13,FALSE)","v":{"$error":"#N/A"}},{"$f":"VLOOKUP($P$1&$U$1&A38,抽出!$B$4:$O$200,14,FALSE)","v":{"$error":"#N/A"}}]
[36,{"$f":"IF(COUNTIF($K$4:N39,K39)=1,1,0)","v":0},{"$f":"IF(B39=0,\"\",SUM($B$4:B39))","v":""},{"$f":"VLOOKUP($P$1&$U$1&A39,抽出!$B$4:$O$200,6,FALSE)","v":{"$error":"#N/A"}},null,null,{"$f":"VLOOKUP($P$1&$U$1&A39,抽出!$B$4:$O$200,7,FALSE)","v":{"$error":"#N/A"}},null,{"$f":"VLOOKUP($P$1&$U$1&A39,抽出!$B$4:$O$200,8,FALSE)","v":{"$error":"#N/A"}},null,{"$f":"VLOOKUP($P$1&$U$1&A39,抽出!$B$4:$O$200,9,FALSE)","v":{"$error":"#N/A"}},null,null,null,{"$f":"VLOOKUP($P$1&$U$1&A39,抽出!$B$4:$O$200,10,FALSE)","v":{"$error":"#N/A"}},null,null,{"$f":"VLOOKUP($P$1&$U$1&A39,抽出!$B$4:$O$200,11,FALSE)","v":{"$error":"#N/A"}},{"$f":"VLOOKUP($P$1&$U$1&A39,抽出!$B$4:$O$200,12,FALSE)","v":{"$error":"#N/A"}},null,null,{"$f":"VLOOKUP($P$1&$U$1&A39,抽出!$B$4:$O$200,13,FALSE)","v":{"$error":"#N/A"}},{"$f":"VLOOKUP($P$1&$U$1&A39,抽出!$B$4:$O$200,14,FALSE)","v":{"$error":"#N/A"}}]
[37,{"$f":"IF(COUNTIF($K$4:N40,K40)=1,1,0)","v":0},{"$f":"IF(B40=0,\"\",SUM($B$4:B40))","v":""},{"$f":"VLOOKUP($P$1&$U$1&A40,抽出!$B$4:$O$200,6,FALSE)","v":{"$error":"#N/A"}},null,null,{"$f":"VLOOKUP($P$1&$U$1&A40,抽出!$B$4:$O$200,7,FALSE)","v":{"$error":"#N/A"}},null,{"$f":"VLOOKUP($P$1&$U$1&A40,抽出!$B$4:$O$200,8,FALSE)","v":{"$error":"#N/A"}},null,{"$f":"VLOOKUP($P$1&$U$1&A40,抽出!$B$4:$O$200,9,FALSE)","v":{"$error":"#N/A"}},null,null,null,{"$f":"VLOOKUP($P$1&$U$1&A40,抽出!$B$4:$O$200,10,FALSE)","v":{"$error":"#N/A"}},null,null,{"$f":"VLOOKUP($P$1&$U$1&A40,抽出!$B$4:$O$200,11,FALSE)","v":{"$error":"#N/A"}},{"$f":"VLOOKUP($P$1&$U$1&A40,抽出!$B$4:$O$200,12,FALSE)","v":{"$error":"#N/A"}},null,null,{"$f":"VLOOKUP($P$1&$U$1&A40,抽出!$B$4:$O$200,13,FALSE)","v":{"$error":"#N/A"}},{"$f":"VLOOKUP($P$1&$U$1&A40,抽出!$B$4:$O$200,14,FALSE)","v":{"$error":"#N/A"}}]
[38,{"$f":"IF(COUNTIF($K$4:N41,K41)=1,1,0)","v":0},{"$f":"IF(B41=0,\"\",SUM($B$4:B41))","v":""},{"$f":"VLOOKUP($P$1&$U$1&A41,抽出!$B$4:$O$200,6,FALSE)","v":{"$error":"#N/A"}},null,null,{"$f":"VLOOKUP($P$1&$U$1&A41,抽出!$B$4:$O$200,7,FALSE)","v":{"$error":"#N/A"}},null,{"$f":"VLOOKUP($P$1&$U$1&A41,抽出!$B$4:$O$200,8,FALSE)","v":{"$error":"#N/A"}},null,{"$f":"VLOOKUP($P$1&$U$1&A41,抽出!$B$4:$O$200,9,FALSE)","v":{"$error":"#N/A"}},null,null,null,{"$f":"VLOOKUP($P$1&$U$1&A41,抽出!$B$4:$O$200,10,FALSE)","v":{"$error":"#N/A"}},null,null,{"$f":"VLOOKUP($P$1&$U$1&A41,抽出!$B$4:$O$200,11,FALSE)","v":{"$error":"#N/A"}},{"$f":"VLOOKUP($P$1&$U$1&A41,抽出!$B$4:$O$200,12,FALSE)","v":{"$error":"#N/A"}},null,null,{"$f":"VLOOKUP($P$1&$U$1&A41,抽出!$B$4:$O$200,13,FALSE)","v":{"$error":"#N/A"}},{"$f":"VLOOKUP($P$1&$U$1&A41,抽出!$B$4:$O$200,14,FALSE)","v":{"$error":"#N/A"}}]
[39,{"$f":"IF(COUNTIF($K$4:N42,K42)=1,1,0)","v":0},{"$f":"IF(B42=0,\"\",SUM($B$4:B42))","v":""},{"$f":"VLOOKUP($P$1&$U$1&A42,抽出!$B$4:$O$200,6,FALSE)","v":{"$error":"#N/A"}},null,null,{"$f":"VLOOKUP($P$1&$U$1&A42,抽出!$B$4:$O$200,7,FALSE)","v":{"$error":"#N/A"}},null,{"$f":"VLOOKUP($P$1&$U$1&A42,抽出!$B$4:$O$200,8,FALSE)","v":{"$error":"#N/A"}},null,{"$f":"VLOOKUP($P$1&$U$1&A42,抽出!$B$4:$O$200,9,FALSE)","v":{"$error":"#N/A"}},null,null,null,{"$f":"VLOOKUP($P$1&$U$1&A42,抽出!$B$4:$O$200,10,FALSE)","v":{"$error":"#N/A"}},null,null,{"$f":"VLOOKUP($P$1&$U$1&A42,抽出!$B$4:$O$200,11,FALSE)","v":{"$error":"#N/A"}},{"$f":"VLOOKUP($P$1&$U$1&A42,抽出!$B$4:$O$200,12,FALSE)","v":{"$error":"#N/A"}},null,null,{"$f":"VLOOKUP($P$1&$U$1&A42,抽出!$B$4:$O$200,13,FALSE)","v":{"$error":"#N/A"}},{"$f":"VLOOKUP($P$1&$U$1&A42,抽出!$B$4:$O$200,14,FALSE)","v":{"$error":"#N/A"}}]
[40,{"$f":"IF(COUNTIF($K$4:N43,K43)=1,1,0)","v":0},{"$f":"IF(B43=0,\"\",SUM($B$4:B43))","v":""},{"$f":"VLOOKUP($P$1&$U$1&A43,抽出!$B$4:$O$200,6,FALSE)","v":{"$error":"#N/A"}},null,null,{"$f":"VLOOKUP($P$1&$U$1&A43,抽出!$B$4:$O$200,7,FALSE)","v":{"$error":"#N/A"}},null,{"$f":"VLOOKUP($P$1&$U$1&A43,抽出!$B$4:$O$200,8,FALSE)","v":{"$error":"#N/A"}},null,{"$f":"VLOOKUP($P$1&$U$1&A43,抽出!$B$4:$O$200,9,FALSE)","v":{"$error":"#N/A"}},null,null,null,{"$f":"VLOOKUP($P$1&$U$1&A43,抽出!$B$4:$O$200,10,FALSE)","v":{"$error":"#N/A"}},null,null,{"$f":"VLOOKUP($P$1&$U$1&A43,抽出!$B$4:$O$200,11,FALSE)","v":{"$error":"#N/A"}},{"$f":"VLOOKUP($P$1&$U$1&A43,抽出!$B$4:$O$200,12,FALSE)","v":{"$error":"#N/A"}},null,null,{"$f":"VLOOKUP($P$1&$U$1&A43,抽出!$B$4:$O$200,13,FALSE)","v":{"$error":"#N/A"}},{"$f":"VLOOKUP($P$1&$U$1&A43,抽出!$B$4:$O$200,14,FALSE)","v":{"$error":"#N/A"}}]
[41,{"$f":"IF(COUNTIF($K$4:N44,K44)=1,1,0)","v":0},{"$f":"IF(B44=0,\"\",SUM($B$4:B44))","v":""},{"$f":"VLOOKUP($P$1&$U$1&A44,抽出!$B$4:$O$200,6,FALSE)","v":{"$error":"#N/A"}},null,null,{"$f":"VLOOKUP($P$1&$U$1&A44,抽出!$B$4:$O$200,7,FALSE)","v":{"$error":"#N/A"}},null,{"$f":"VLOOKUP($P$1&$U$1&A44,抽出!$B$4:$O$200,8,FALSE)","v":{"$error":"#N/A"}},null,{"$f":"VLOOKUP($P$1&$U$1&A44,抽出!$B$4:$O$200,9,FALSE)","v":{"$error":"#N/A"}},null,null,null,{"$f":"VLOOKUP($P$1&$U$1&A44,抽出!$B$4:$O$200,10,FALSE)","v":{"$error":"#N/A"}},null,null,{"$f":"VLOOKUP($P$1&$U$1&A44,抽出!$B$4:$O$200,11,FALSE)","v":{"$error":"#N/A"}},{"$f":"VLOOKUP($P$1&$U$1&A44,抽出!$B$4:$O$200,12,FALSE)","v":{"$error":"#N/A"}},null,null,{"$f":"VLOOKUP($P$1&$U$1&A44,抽出!$B$4:$O$200,13,FALSE)","v":{"$error":"#N/A"}},{"$f":"VLOOKUP($P$1&$U$1&A44,抽出!$B$4:$O$200,14,FALSE)","v":{"$error":"#N/A"}}]
[42,{"$f":"IF(COUNTIF($K$4:N45,K45)=1,1,0)","v":0},{"$f":"IF(B45=0,\"\",SUM($B$4:B45))","v":""},{"$f":"VLOOKUP($P$1&$U$1&A45,抽出!$B$4:$O$200,6,FALSE)","v":{"$error":"#N/A"}},null,null,{"$f":"VLOOKUP($P$1&$U$1&A45,抽出!$B$4:$O$200,7,FALSE)","v":{"$error":"#N/A"}},null,{"$f":"VLOOKUP($P$1&$U$1&A45,抽出!$B$4:$O$200,8,FALSE)","v":{"$error":"#N/A"}},null,{"$f":"VLOOKUP($P$1&$U$1&A45,抽出!$B$4:$O$200,9,FALSE)","v":{"$error":"#N/A"}},null,null,null,{"$f":"VLOOKUP($P$1&$U$1&A45,抽出!$B$4:$O$200,10,FALSE)","v":{"$error":"#N/A"}},null,null,{"$f":"VLOOKUP($P$1&$U$1&A45,抽出!$B$4:$O$200,11,FALSE)","v":{"$error":"#N/A"}},{"$f":"VLOOKUP($P$1&$U$1&A45,抽出!$B$4:$O$200,12,FALSE)","v":{"$error":"#N/A"}},null,null,{"$f":"VLOOKUP($P$1&$U$1&A45,抽出!$B$4:$O$200,13,FALSE)","v":{"$error":"#N/A"}},{"$f":"VLOOKUP($P$1&$U$1&A45,抽出!$B$4:$O$200,14,FALSE)","v":{"$error":"#N/A"}}]
[43,{"$f":"IF(COUNTIF($K$4:N46,K46)=1,1,0)","v":0},{"$f":"IF(B46=0,\"\",SUM($B$4:B46))","v":""},{"$f":"VLOOKUP($P$1&$U$1&A46,抽出!$B$4:$O$200,6,FALSE)","v":{"$error":"#N/A"}},null,null,{"$f":"VLOOKUP($P$1&$U$1&A46,抽出!$B$4:$O$200,7,FALSE)","v":{"$error":"#N/A"}},null,{"$f":"VLOOKUP($P$1&$U$1&A46,抽出!$B$4:$O$200,8,FALSE)","v":{"$error":"#N/A"}},null,{"$f":"VLOOKUP($P$1&$U$1&A46,抽出!$B$4:$O$200,9,FALSE)","v":{"$error":"#N/A"}},null,null,null,{"$f":"VLOOKUP($P$1&$U$1&A46,抽出!$B$4:$O$200,10,FALSE)","v":{"$error":"#N/A"}},null,null,{"$f":"VLOOKUP($P$1&$U$1&A46,抽出!$B$4:$O$200,11,FALSE)","v":{"$error":"#N/A"}},{"$f":"VLOOKUP($P$1&$U$1&A46,抽出!$B$4:$O$200,12,FALSE)","v":{"$error":"#N/A"}},null,null,{"$f":"VLOOKUP($P$1&$U$1&A46,抽出!$B$4:$O$200,13,FALSE)","v":{"$error":"#N/A"}},{"$f":"VLOOKUP($P$1&$U$1&A46,抽出!$B$4:$O$200,14,FALSE)","v":{"$error":"#N/A"}}]
[44,{"$f":"IF(COUNTIF($K$4:N47,K47)=1,1,0)","v":0},{"$f":"IF(B47=0,\"\",SUM($B$4:B47))","v":""},{"$f":"VLOOKUP($P$1&$U$1&A47,抽出!$B$4:$O$200,6,FALSE)","v":{"$error":"#N/A"}},null,null,{"$f":"VLOOKUP($P$1&$U$1&A47,抽出!$B$4:$O$200,7,FALSE)","v":{"$error":"#N/A"}},null,{"$f":"VLOOKUP($P$1&$U$1&A47,抽出!$B$4:$O$200,8,FALSE)","v":{"$error":"#N/A"}},null,{"$f":"VLOOKUP($P$1&$U$1&A47,抽出!$B$4:$O$200,9,FALSE)","v":{"$error":"#N/A"}},null,null,null,{"$f":"VLOOKUP($P$1&$U$1&A47,抽出!$B$4:$O$200,10,FALSE)","v":{"$error":"#N/A"}},null,null,{"$f":"VLOOKUP($P$1&$U$1&A47,抽出!$B$4:$O$200,11,FALSE)","v":{"$error":"#N/A"}},{"$f":"VLOOKUP($P$1&$U$1&A47,抽出!$B$4:$O$200,12,FALSE)","v":{"$error":"#N/A"}},null,null,{"$f":"VLOOKUP($P$1&$U$1&A47,抽出!$B$4:$O$200,13,FALSE)","v":{"$error":"#N/A"}},{"$f":"VLOOKUP($P$1&$U$1&A47,抽出!$B$4:$O$200,14,FALSE)","v":{"$error":"#N/A"}}]
[45,{"$f":"IF(COUNTIF($K$4:N48,K48)=1,1,0)","v":0},{"$f":"IF(B48=0,\"\",SUM($B$4:B48))","v":""},{"$f":"VLOOKUP($P$1&$U$1&A48,抽出!$B$4:$O$200,6,FALSE)","v":{"$error":"#N/A"}},null,null,{"$f":"VLOOKUP($P$1&$U$1&A48,抽出!$B$4:$O$200,7,FALSE)","v":{"$error":"#N/A"}},null,{"$f":"VLOOKUP($P$1&$U$1&A48,抽出!$B$4:$O$200,8,FALSE)","v":{"$error":"#N/A"}},null,{"$f":"VLOOKUP($P$1&$U$1&A48,抽出!$B$4:$O$200,9,FALSE)","v":{"$error":"#N/A"}},null,null,null,{"$f":"VLOOKUP($P$1&$U$1&A48,抽出!$B$4:$O$200,10,FALSE)","v":{"$error":"#N/A"}},null,null,{"$f":"VLOOKUP($P$1&$U$1&A48,抽出!$B$4:$O$200,11,FALSE)","v":{"$error":"#N/A"}},{"$f":"VLOOKUP($P$1&$U$1&A48,抽出!$B$4:$O$200,12,FALSE)","v":{"$error":"#N/A"}},null,null,{"$f":"VLOOKUP($P$1&$U$1&A48,抽出!$B$4:$O$200,13,FALSE)","v":{"$error":"#N/A"}},{"$f":"VLOOKUP($P$1&$U$1&A48,抽出!$B$4:$O$200,14,FALSE)","v":{"$error":"#N/A"}}]
[46,{"$f":"IF(COUNTIF($K$4:N49,K49)=1,1,0)","v":0},{"$f":"IF(B49=0,\"\",SUM($B$4:B49))","v":""},{"$f":"VLOOKUP($P$1&$U$1&A49,抽出!$B$4:$O$200,6,FALSE)","v":{"$error":"#N/A"}},null,null,{"$f":"VLOOKUP($P$1&$U$1&A49,抽出!$B$4:$O$200,7,FALSE)","v":{"$error":"#N/A"}},null,{"$f":"VLOOKUP($P$1&$U$1&A49,抽出!$B$4:$O$200,8,FALSE)","v":{"$error":"#N/A"}},null,{"$f":"VLOOKUP($P$1&$U$1&A49,抽出!$B$4:$O$200,9,FALSE)","v":{"$error":"#N/A"}},null,null,null,{"$f":"VLOOKUP($P$1&$U$1&A49,抽出!$B$4:$O$200,10,FALSE)","v":{"$error":"#N/A"}},null,null,{"$f":"VLOOKUP($P$1&$U$1&A49,抽出!$B$4:$O$200,11,FALSE)","v":{"$error":"#N/A"}},{"$f":"VLOOKUP($P$1&$U$1&A49,抽出!$B$4:$O$200,12,FALSE)","v":{"$error":"#N/A"}},null,null,{"$f":"VLOOKUP($P$1&$U$1&A49,抽出!$B$4:$O$200,13,FALSE)","v":{"$error":"#N/A"}},{"$f":"VLOOKUP($P$1&$U$1&A49,抽出!$B$4:$O$200,14,FALSE)","v":{"$error":"#N/A"}}]
[47,{"$f":"IF(COUNTIF($K$4:N50,K50)=1,1,0)","v":0},{"$f":"IF(B50=0,\"\",SUM($B$4:B50))","v":""},{"$f":"VLOOKUP($P$1&$U$1&A50,抽出!$B$4:$O$200,6,FALSE)","v":{"$error":"#N/A"}},null,null,{"$f":"VLOOKUP($P$1&$U$1&A50,抽出!$B$4:$O$200,7,FALSE)","v":{"$error":"#N/A"}},null,{"$f":"VLOOKUP($P$1&$U$1&A50,抽出!$B$4:$O$200,8,FALSE)","v":{"$error":"#N/A"}},null,{"$f":"VLOOKUP($P$1&$U$1&A50,抽出!$B$4:$O$200,9,FALSE)","v":{"$error":"#N/A"}},null,null,null,{"$f":"VLOOKUP($P$1&$U$1&A50,抽出!$B$4:$O$200,10,FALSE)","v":{"$error":"#N/A"}},null,null,{"$f":"VLOOKUP($P$1&$U$1&A50,抽出!$B$4:$O$200,11,FALSE)","v":{"$error":"#N/A"}},{"$f":"VLOOKUP($P$1&$U$1&A50,抽出!$B$4:$O$200,12,FALSE)","v":{"$error":"#N/A"}},null,null,{"$f":"VLOOKUP($P$1&$U$1&A50,抽出!$B$4:$O$200,13,FALSE)","v":{"$error":"#N/A"}},{"$f":"VLOOKUP($P$1&$U$1&A50,抽出!$B$4:$O$200,14,FALSE)","v":{"$error":"#N/A"}}]
[48,{"$f":"IF(COUNTIF($K$4:N51,K51)=1,1,0)","v":0},{"$f":"IF(B51=0,\"\",SUM($B$4:B51))","v":""},{"$f":"VLOOKUP($P$1&$U$1&A51,抽出!$B$4:$O$200,6,FALSE)","v":{"$error":"#N/A"}},null,null,{"$f":"VLOOKUP($P$1&$U$1&A51,抽出!$B$4:$O$200,7,FALSE)","v":{"$error":"#N/A"}},null,{"$f":"VLOOKUP($P$1&$U$1&A51,抽出!$B$4:$O$200,8,FALSE)","v":{"$error":"#N/A"}},null,{"$f":"VLOOKUP($P$1&$U$1&A51,抽出!$B$4:$O$200,9,FALSE)","v":{"$error":"#N/A"}},null,null,null,{"$f":"VLOOKUP($P$1&$U$1&A51,抽出!$B$4:$O$200,10,FALSE)","v":{"$error":"#N/A"}},null,null,{"$f":"VLOOKUP($P$1&$U$1&A51,抽出!$B$4:$O$200,11,FALSE)","v":{"$error":"#N/A"}},{"$f":"VLOOKUP($P$1&$U$1&A51,抽出!$B$4:$O$200,12,FALSE)","v":{"$error":"#N/A"}},null,null,{"$f":"VLOOKUP($P$1&$U$1&A51,抽出!$B$4:$O$200,13,FALSE)","v":{"$error":"#N/A"}},{"$f":"VLOOKUP($P$1&$U$1&A51,抽出!$B$4:$O$200,14,FALSE)","v":{"$error":"#N/A"}}]
[49,{"$f":"IF(COUNTIF($K$4:N52,K52)=1,1,0)","v":0},{"$f":"IF(B52=0,\"\",SUM($B$4:B52))","v":""},{"$f":"VLOOKUP($P$1&$U$1&A52,抽出!$B$4:$O$200,6,FALSE)","v":{"$error":"#N/A"}},null,null,{"$f":"VLOOKUP($P$1&$U$1&A52,抽出!$B$4:$O$200,7,FALSE)","v":{"$error":"#N/A"}},null,{"$f":"VLOOKUP($P$1&$U$1&A52,抽出!$B$4:$O$200,8,FALSE)","v":{"$error":"#N/A"}},null,{"$f":"VLOOKUP($P$1&$U$1&A52,抽出!$B$4:$O$200,9,FALSE)","v":{"$error":"#N/A"}},null,null,null,{"$f":"VLOOKUP($P$1&$U$1&A52,抽出!$B$4:$O$200,10,FALSE)","v":{"$error":"#N/A"}},null,null,{"$f":"VLOOKUP($P$1&$U$1&A52,抽出!$B$4:$O$200,11,FALSE)","v":{"$error":"#N/A"}},{"$f":"VLOOKUP($P$1&$U$1&A52,抽出!$B$4:$O$200,12,FALSE)","v":{"$error":"#N/A"}},null,null,{"$f":"VLOOKUP($P$1&$U$1&A52,抽出!$B$4:$O$200,13,FALSE)","v":{"$error":"#N/A"}},{"$f":"VLOOKUP($P$1&$U$1&A52,抽出!$B$4:$O$200,14,FALSE)","v":{"$error":"#N/A"}}]
[50,{"$f":"IF(COUNTIF($K$4:N53,K53)=1,1,0)","v":0},{"$f":"IF(B53=0,\"\",SUM($B$4:B53))","v":""},{"$f":"VLOOKUP($P$1&$U$1&A53,抽出!$B$4:$O$200,6,FALSE)","v":{"$error":"#N/A"}},null,null,{"$f":"VLOOKUP($P$1&$U$1&A53,抽出!$B$4:$O$200,7,FALSE)","v":{"$error":"#N/A"}},null,{"$f":"VLOOKUP($P$1&$U$1&A53,抽出!$B$4:$O$200,8,FALSE)","v":{"$error":"#N/A"}},null,{"$f":"VLOOKUP($P$1&$U$1&A53,抽出!$B$4:$O$200,9,FALSE)","v":{"$error":"#N/A"}},null,null,null,{"$f":"VLOOKUP($P$1&$U$1&A53,抽出!$B$4:$O$200,10,FALSE)","v":{"$error":"#N/A"}},null,null,{"$f":"VLOOKUP($P$1&$U$1&A53,抽出!$B$4:$O$200,11,FALSE)","v":{"$error":"#N/A"}},{"$f":"VLOOKUP($P$1&$U$1&A53,抽出!$B$4:$O$200,12,FALSE)","v":{"$error":"#N/A"}},null,null,{"$f":"VLOOKUP($P$1&$U$1&A53,抽出!$B$4:$O$200,13,FALSE)","v":{"$error":"#N/A"}},{"$f":"VLOOKUP($P$1&$U$1&A53,抽出!$B$4:$O$200,14,FALSE)","v":{"$error":"#N/A"}}]

{"sheet":"抽出","index":2,"n_rows":305,"n_cols":60,"rows_kept":305,"cut":false,"hidden":true,"merged":[]}
[]
[null,1,2,3,4,5,6,7,8,9,10,11,12,13,14]
[null,"クラス＋種目名＋種目内順位",null,"クラス＋種目名","記録＋行番号","種目内順位","競技会名","競技場","実施日","選手名","記録","R","所属","学年","風"]
[1,{"$f":"D4&F4","v":"中学男子棒高跳12"},{"$f":"J4&COUNTIF($J$4:J4,J4)","v":"ｽﾉｰｼﾞｮｻｲﾔ1"},{"$f":"データ貼付!D2&データ貼付!E2","v":"中学男子棒高跳"},{"$f":"データ貼付!G2+ROW()/1000000","v":220.00000399999999},{"$f":"SUMPRODUCT(($D$4:$D$200=D4)*($E$4:$E$200>E4))+1","v":12},{"$f":"データ貼付!A2","v":"記録会４戦"},{"$f":"データ貼付!B2","v":"北見"},{"$f":"データ貼付!C2","v":43681},{"$f":"データ貼付!F2","v":"ｽﾉｰｼﾞｮｻｲﾔ"},{"$f":"データ貼付!G2","v":220},{"$f":"データ貼付!H2","v":"決"},{"$f":"データ貼付!I2","v":"網走第四中"},{"$f":"データ貼付!J2","v":1},{"$f":"データ貼付!K2","v":0}]
[2,{"$f":"D5&F5","v":"中学女子走高跳15"},{"$f":"J5&COUNTIF($J$4:J5,J5)","v":"阿部愛佳1"},{"$f":"データ貼付!D3&データ貼付!E3","v":"中学女子走高跳"},{"$f":"データ貼付!G3+ROW()/1000000","v":130.00000499999999},{"$f":"SUMPRODUCT(($D$4:$D$200=D5)*($E$4:$E$200>E5))+1","v":15},{"$f":"データ貼付!A3","v":"記録会４戦"},{"$f":"データ貼付!B3","v":"北見"},{"$f":"データ貼付!C3","v":43681},{"$f":"データ貼付!F3","v":"阿部愛佳"},{"$f":"データ貼付!G3","v":130},{"$f":"データ貼付!H3","v":"決"},{"$f":"データ貼付!I3","v":"網走第三中"},{"$f":"データ貼付!J3","v":2},{"$f":"データ貼付!K3","v":0}]
[3,"小学男子走高跳6",{"$f":"J6&COUNTIF($J$4:J6,J6)","v":"阿部空晴1"},{"$f":"データ貼付!D4&データ貼付!E4","v":"小学男子走高跳"},{"$f":"データ貼付!G4+ROW()/1000000","v":120.000006},6,{"$f":"データ貼付!A4","v":"小学生ｵﾎｰﾂｸ"},{"$f":"データ貼付!B4","v":"北見"},{"$f":"データ貼付!C4","v":43632},{"$f":"データ貼付!F4","v":"阿部空晴"},{"$f":"データ貼付!G4","v":120},{"$f":"データ貼付!H4","v":"決"},{"$f":"データ貼付!I4","v":"美幌RC"},{"$f":"データ貼付!J4","v":6},{"$f":"データ貼付!K4","v":0}]
[4,"小学男子走高跳20",{"$f":"J7&COUNTIF($J$4:J7,J7)","v":"安井徠人1"},{"$f":"データ貼付!D5&データ貼付!E5","v":"小学男子走高跳"},{"$f":"データ貼付!G5+ROW()/1000000","v":105.000007},20,{"$f":"データ貼付!A5","v":"小学生ｵﾎｰﾂｸ"},{"$f":"データ貼付!B5","v":"北見"},{"$f":"データ貼付!C5","v":43632},{"$f":"データ貼付!F5","v":"安井徠人"},{"$f":"データ貼付!G5","v":105},{"$f":"データ貼付!H5","v":"決"},{"$f":"データ貼付!I5","v":"美幌RC"},{"$f":"データ貼付!J5","v":5},{"$f":"データ貼付!K5","v":0}]
[5,"高校男子棒高跳5",{"$f":"J8&COUNTIF($J$4:J8,J8)","v":"安田留伊1"},{"$f":"データ貼付!D6&データ貼付!E6","v":"高校男子棒高跳"},{"$f":"データ貼付!G6+ROW()/1000000","v":400.00000799999998},5,{"$f":"データ貼付!A6","v":"全道高校"},{"$f":"データ貼付!B6","v":"帯広"},{"$f":"データ貼付!C6","v":" 6/19"},{"$f":"データ貼付!F6","v":"安田留伊"},{"$f":"データ貼付!G6","v":400},{"$f":"データ貼付!H6","v":"決"},{"$f":"データ貼付!I6","v":"北見緑陵高"},{"$f":"データ貼付!J6","v":2},{"$f":"データ貼付!K6","v":0}]
[6,"高校男子走高跳24",{"$f":"J9&COUNTIF($J$4:J9,J9)","v":"鞍元宏樹1"},{"$f":"データ貼付!D7&データ貼付!E7","v":"高校男子走高跳"},{"$f":"データ貼付!G7+ROW()/1000000","v":140.00000900000001},24,{"$f":"データ貼付!A7","v":"選手権"},{"$f":"データ貼付!B7","v":"北見"},{"$f":"データ貼付!C7","v":43597},{"$f":"データ貼付!F7","v":"鞍元宏樹"},{"$f":"データ貼付!G7","v":140},{"$f":"データ貼付!H7","v":"決"},{"$f":"データ貼付!I7","v":"北見工業高"},{"$f":"データ貼付!J7","v":3},{"$f":"データ貼付!K7","v":0}]
[7,"小学男子走高跳22",{"$f":"J10&COUNTIF($J$4:J10,J10)","v":"伊藤尊1"},{"$f":"データ貼付!D8&データ貼付!E8","v":"小学男子走高跳"},{"$f":"データ貼付!G8+ROW()/1000000","v":95.000010000000003},22,{"$f":"データ貼付!A8","v":"小学生記録会"},{"$f":"データ貼付!B8","v":"北見"},{"$f":"データ貼付!C8","v":43736},{"$f":"データ貼付!F8","v":"伊藤尊"},{"$f":"データ貼付!G8","v":95},{"$f":"データ貼付!H8","v":"決"},{"$f":"データ貼付!I8","v":"ｵﾎｰﾂｸACｼﾞｭﾆｱ"},{"$f":"データ貼付!J8","v":4},{"$f":"データ貼付!K8","v":0}]
[8,"中学女子走高跳3",{"$f":"J11&COUNTIF($J$4:J11,J11)","v":"伊藤来美1"},{"$f":"データ貼付!D9&データ貼付!E9","v":"中学女子走高跳"},{"$f":"データ貼付!G9+ROW()/1000000","v":143.000011},3,{"$f":"データ貼付!A9","v":"通信陸上"},{"$f":"データ貼付!B9","v":"網走"},{"$f":"データ貼付!C9","v":43645},{"$f":"データ貼付!F9","v":"伊藤来美"},{"$f":"データ貼付!G9","v":143},{"$f":"データ貼付!H9","v":"決"},{"$f":"データ貼付!I9","v":"北見南中"},{"$f":"データ貼付!J9","v":3},{"$f":"データ貼付!K9","v":0}]
[9,"中学女子走高跳5",{"$f":"J12&COUNTIF($J$4:J12,J12)","v":"伊藤凛音1"},{"$f":"データ貼付!D10&データ貼付!E10","v":"中学女子走高跳"},{"$f":"データ貼付!G10+ROW()/1000000","v":140.000012},5,{"$f":"データ貼付!A10","v":"地区中体連"},{"$f":"データ貼付!B10","v":"北見"},{"$f":"データ貼付!C10","v":43631},{"$f":"データ貼付!F10","v":"伊藤凛音"},{"$f":"データ貼付!G10","v":140},{"$f":"データ貼付!H10","v":"決"},{"$f":"データ貼付!I10","v":"北見南中"},{"$f":"データ貼付!J10","v":1},{"$f":"データ貼付!K10","v":0}]
[10,"高校男子走高跳16",{"$f":"J13&COUNTIF($J$4:J13,J13)","v":"伊奈翔大1"},{"$f":"データ貼付!D11&データ貼付!E11","v":"高校男子走高跳"},{"$f":"データ貼付!G11+ROW()/1000000","v":160.000013},16,{"$f":"データ貼付!A11","v":"記録会第２戦"},{"$f":"データ貼付!B11","v":"網走"},{"$f":"データ貼付!C11","v":43589},{"$f":"データ貼付!F11","v":"伊奈翔大"},{"$f":"データ貼付!G11","v":160},{"$f":"データ貼付!H11","v":"決"},{"$f":"データ貼付!I11","v":"北見柏陽高"},{"$f":"データ貼付!J11","v":1},{"$f":"データ貼付!K11","v":0}]
[11,"小学女子走高跳1",{"$f":"J14&COUNTIF($J$4:J14,J14)","v":"井上茜深1"},{"$f":"データ貼付!D12&データ貼付!E12","v":"小学女子走高跳"},{"$f":"データ貼付!G12+ROW()/1000000","v":125.00001399999999},1,{"$f":"データ貼付!A12","v":"小学生記録会"},{"$f":"データ貼付!B12","v":"北見"},{"$f":"データ貼付!C12","v":43736},{"$f":"データ貼付!F12","v":"井上茜深"},{"$f":"データ貼付!G12","v":125},{"$f":"データ貼付!H12","v":"決"},{"$f":"データ貼付!I12","v":"常呂陸上少年団"},{"$f":"データ貼付!J12","v":6},{"$f":"データ貼付!K12","v":0}]
[12,"中学女子走高跳18",{"$f":"J15&COUNTIF($J$4:J15,J15)","v":"井上優奈1"},{"$f":"データ貼付!D13&データ貼付!E13","v":"中学女子走高跳"},{"$f":"データ貼付!G13+ROW()/1000000","v":125.000015},18,{"$f":"データ貼付!A13","v":"記録会４戦"},{"$f":"データ貼付!B13","v":"北見"},{"$f":"データ貼付!C13","v":43681},{"$f":"データ貼付!F13","v":"井上優奈"},{"$f":"データ貼付!G13","v":125},{"$f":"データ貼付!H13","v":"決"},{"$f":"データ貼付!I13","v":"置戸中"},{"$f":"データ貼付!J13","v":3},{"$f":"データ貼付!K13","v":0}]
[13,"中学女子走高跳14",{"$f":"J16&COUNTIF($J$4:J16,J16)","v":"井尾愛美1"},{"$f":"データ貼付!D14&データ貼付!E14","v":"中学女子走高跳"},{"$f":"データ貼付!G14+ROW()/1000000","v":130.00001599999999},14,{"$f":"データ貼付!A14","v":"秋季陸上"},{"$f":"データ貼付!B14","v":"網走"},{"$f":"データ貼付!C14","v":43716},{"$f":"データ貼付!F14","v":"井尾愛美"},{"$f":"データ貼付!G14","v":130},{"$f":"データ貼付!H14","v":"決"},{"$f":"データ貼付!I14","v":"網走第一中"},{"$f":"データ貼付!J14","v":2},{"$f":"データ貼付!K14","v":0}]
[14,"中学女子走高跳17",{"$f":"J17&COUNTIF($J$4:J17,J17)","v":"一谷美穂1"},{"$f":"データ貼付!D15&データ貼付!E15","v":"中学女子走高跳"},{"$f":"データ貼付!G15+ROW()/1000000","v":125.000017},17,{"$f":"データ貼付!A15","v":"地区中体連"},{"$f":"データ貼付!B15","v":"北見"},{"$f":"データ貼付!C15","v":43631},{"$f":"データ貼付!F15","v":"一谷美穂"},{"$f":"データ貼付!G15","v":125},{"$f":"データ貼付!H15","v":"決"},{"$f":"データ貼付!I15","v":"紋別中"},{"$f":"データ貼付!J15","v":3},{"$f":"データ貼付!K15","v":0}]
[15,"高校男子走高跳10",{"$f":"J18&COUNTIF($J$4:J18,J18)","v":"臼井貴将1"},{"$f":"データ貼付!D16&データ貼付!E16","v":"高校男子走高跳"},{"$f":"データ貼付!G16+ROW()/1000000","v":168.00001800000001},10,{"$f":"データ貼付!A16","v":"高体連支部"},{"$f":"データ貼付!B16","v":"北見"},{"$f":"データ貼付!C16","v":43609},{"$f":"データ貼付!F16","v":"臼井貴将"},{"$f":"データ貼付!G16","v":168},{"$f":"データ貼付!H16","v":"決"},{"$f":"データ貼付!I16","v":"網走南ヶ丘高"},{"$f":"データ貼付!J16","v":2},{"$f":"データ貼付!K16","v":0}]
[16,"中学女子走高跳26",{"$f":"J19&COUNTIF($J$4:J19,J19)","v":"永本文香1"},{"$f":"データ貼付!D17&データ貼付!E17","v":"中学女子走高跳"},{"$f":"データ貼付!G17+ROW()/1000000","v":120.00001899999999},26,{"$f":"データ貼付!A17","v":"記録会３戦"},{"$f":"データ貼付!B17","v":"網走"},{"$f":"データ貼付!C17","v":43660},{"$f":"データ貼付!F17","v":"永本文香"},{"$f":"データ貼付!G17","v":120},{"$f":"データ貼付!H17","v":"決"},{"$f":"データ貼付!I17","v":"網走第三中"},{"$f":"データ貼付!J17","v":2},{"$f":"データ貼付!K17","v":0}]
[17,"高校女子走高跳3",{"$f":"J20&COUNTIF($J$4:J20,J20)","v":"塩田悦子1"},{"$f":"データ貼付!D18&データ貼付!E18","v":"高校女子走高跳"},{"$f":"データ貼付!G18+ROW()/1000000","v":141.00002000000001},3,{"$f":"データ貼付!A18","v":"高校新人"},{"$f":"データ貼付!B18","v":"北見"},{"$f":"データ貼付!C18","v":43700},{"$f":"データ貼付!F18","v":"塩田悦子"},{"$f":"データ貼付!G18","v":141},{"$f":"データ貼付!H18","v":"決"},{"$f":"データ貼付!I18","v":"網走南ヶ丘高"},{"$f":"データ貼付!J18","v":2},{"$f":"データ貼付!K18","v":0}]
[18,"中学女子走高跳13",{"$f":"J21&COUNTIF($J$4:J21,J21)","v":"奥河優花1"},{"$f":"データ貼付!D19&データ貼付!E19","v":"中学女子走高跳"},{"$f":"データ貼付!G19+ROW()/1000000","v":130.000021},13,{"$f":"データ貼付!A19","v":"中学新人"},{"$f":"データ貼付!B19","v":"北見"},{"$f":"データ貼付!C19","v":43701},{"$f":"データ貼付!F19","v":"奥河優花"},{"$f":"データ貼付!G19","v":130},{"$f":"データ貼付!H19","v":"決"},{"$f":"データ貼付!I19","v":"紋別中"},{"$f":"データ貼付!J19","v":2},{"$f":"データ貼付!K19","v":0}]
[19,"小学女子走高跳3",{"$f":"J22&COUNTIF($J$4:J22,J22)","v":"家藤緑茄1"},{"$f":"データ貼付!D20&データ貼付!E20","v":"小学女子走高跳"},{"$f":"データ貼付!G20+ROW()/1000000","v":120.000022},3,{"$f":"データ貼付!A20","v":"小学生記録会"},{"$f":"データ貼付!B20","v":"北見"},{"$f":"データ貼付!C20","v":43736},{"$f":"データ貼付!F20","v":"家藤緑茄"},{"$f":"データ貼付!G20","v":120},{"$f":"データ貼付!H20","v":"決"},{"$f":"データ貼付!I20","v":"網走陸上少年団"},{"$f":"データ貼付!J20","v":5},{"$f":"データ貼付!K20","v":0}]
[20,"中学男子走高跳1",{"$f":"J23&COUNTIF($J$4:J23,J23)","v":"角谷優孔1"},{"$f":"データ貼付!D21&データ貼付!E21","v":"中学男子走高跳"},{"$f":"データ貼付!G21+ROW()/1000000","v":176.000023},1,{"$f":"データ貼付!A21","v":"全道中学"},{"$f":"データ貼付!B21","v":"旭川"},{"$f":"データ貼付!C21","v":43674},{"$f":"データ貼付!F21","v":"角谷優孔"},{"$f":"データ貼付!G21","v":176},{"$f":"データ貼付!H21","v":"決"},{"$f":"データ貼付!I21","v":"斜里知床ｳﾄﾛ学校"},{"$f":"データ貼付!J21","v":3},{"$f":"データ貼付!K21","v":0}]
[21,"高校男子走高跳4",{"$f":"J24&COUNTIF($J$4:J24,J24)","v":"梶原幹太1"},{"$f":"データ貼付!D22&データ貼付!E22","v":"高校男子走高跳"},{"$f":"データ貼付!G22+ROW()/1000000","v":175.000024},4,{"$f":"データ貼付!A22","v":"記録会第２戦"},{"$f":"データ貼付!B22","v":"網走"},{"$f":"データ貼付!C22","v":43589},{"$f":"データ貼付!F22","v":"梶原幹太"},{"$f":"データ貼付!G22","v":175},{"$f":"データ貼付!H22","v":"決"},{"$f":"データ貼付!I22","v":"北見柏陽高"},{"$f":"データ貼付!J22","v":3},{"$f":"データ貼付!K22","v":0}]
[22,"小学男子走高跳15",{"$f":"J25&COUNTIF($J$4:J25,J25)","v":"岩崎鼓太郎1"},{"$f":"データ貼付!D23&データ貼付!E23","v":"小学男子走高跳"},{"$f":"データ貼付!G23+ROW()/1000000","v":110.00002499999999},15,{"$f":"データ貼付!A23","v":"フィールド記録会"},{"$f":"データ貼付!B23","v":"網走"},{"$f":"データ貼付!C23","v":43624},{"$f":"データ貼付!F23","v":"岩崎鼓太郎"},{"$f":"データ貼付!G23","v":110},{"$f":"データ貼付!H23","v":"決"},{"$f":"データ貼付!I23","v":"ｵﾎｰﾂｸｷｯｽﾞ"},{"$f":"データ貼付!J23","v":6},{"$f":"データ貼付!K23","v":0}]
[23,"高校男子走高跳22",{"$f":"J26&COUNTIF($J$4:J26,J26)","v":"岩﨑崚1"},{"$f":"データ貼付!D24&データ貼付!E24","v":"高校男子走高跳"},{"$f":"データ貼付!G24+ROW()/1000000","v":150.00002599999999},22,{"$f":"データ貼付!A24","v":"高校新人"},{"$f":"データ貼付!B24","v":"北見"},{"$f":"データ貼付!C24","v":43701},{"$f":"データ貼付!F24","v":"岩﨑崚"},{"$f":"データ貼付!G24","v":150},{"$f":"データ貼付!H24","v":"決"},{"$f":"データ貼付!I24","v":"北見緑陵高"},{"$f":"データ貼付!J24","v":1},{"$f":"データ貼付!K24","v":0}]
[24,"中学女子走高跳10",{"$f":"J27&COUNTIF($J$4:J27,J27)","v":"吉田萌花1"},{"$f":"データ貼付!D25&データ貼付!E25","v":"中学女子走高跳"},{"$f":"データ貼付!G25+ROW()/1000000","v":135.00002699999999},10,{"$f":"データ貼付!A25","v":"通信陸上"},{"$f":"データ貼付!B25","v":"網走"},{"$f":"データ貼付!C25","v":43645},{"$f":"データ貼付!F25","v":"吉田萌花"},{"$f":"データ貼付!G25","v":135},{"$f":"データ貼付!H25","v":"決"},{"$f":"データ貼付!I25","v":"北見南中"},{"$f":"データ貼付!J25","v":3},{"$f":"データ貼付!K25","v":0}]
[25,"小学女子走高跳9",{"$f":"J28&COUNTIF($J$4:J28,J28)","v":"久保田昊和1"},{"$f":"データ貼付!D26&データ貼付!E26","v":"小学女子走高跳"},{"$f":"データ貼付!G26+ROW()/1000000","v":105.000028},9,{"$f":"データ貼付!A26","v":"フィールド記録会"},{"$f":"データ貼付!B26","v":"網走"},{"$f":"データ貼付!C26","v":43624},{"$f":"データ貼付!F26","v":"久保田昊和"},{"$f":"データ貼付!G26","v":105},{"$f":"データ貼付!H26","v":"決"},{"$f":"データ貼付!I26","v":"知床斜里RC"},{"$f":"データ貼付!J26","v":6},{"$f":"データ貼付!K26","v":0}]
[26,"小学男子走高跳14",{"$f":"J29&COUNTIF($J$4:J29,J29)","v":"近藤輝空1"},{"$f":"データ貼付!D27&データ貼付!E27","v":"小学男子走高跳"},{"$f":"データ貼付!G27+ROW()/1000000","v":110.000029},14,{"$f":"データ貼付!A27","v":"選手権"},{"$f":"データ貼付!B27","v":"北見"},{"$f":"データ貼付!C27","v":43596},{"$f":"データ貼付!F27","v":"近藤輝空"},{"$f":"データ貼付!G27","v":110},{"$f":"データ貼付!H27","v":"決"},{"$f":"データ貼付!I27","v":"ｵﾎｰﾂｸｷｯｽﾞ"},{"$f":"データ貼付!J27","v":6},{"$f":"データ貼付!K27","v":0}]
[27,"中学女子走高跳25",{"$f":"J30&COUNTIF($J$4:J30,J30)","v":"熊谷彩音1"},{"$f":"データ貼付!D28&データ貼付!E28","v":"中学女子走高跳"},{"$f":"データ貼付!G28+ROW()/1000000","v":120.00003},25,{"$f":"データ貼付!A28","v":"地区中体連"},{"$f":"データ貼付!B28","v":"北見"},{"$f":"データ貼付!C28","v":43631},{"$f":"データ貼付!F28","v":"熊谷彩音"},{"$f":"データ貼付!G28","v":120},{"$f":"データ貼付!H28","v":"決"},{"$f":"データ貼付!I28","v":"北見小泉中"},{"$f":"データ貼付!J28","v":3},{"$f":"データ貼付!K28","v":0}]
[28,"中学男子棒高跳1",{"$f":"J31&COUNTIF($J$4:J31,J31)","v":"栗生朔門1"},{"$f":"データ貼付!D29&データ貼付!E29","v":"中学男子棒高跳"},{"$f":"データ貼付!G29+ROW()/1000000","v":410.00003099999998},1,{"$f":"データ貼付!A29","v":"記録会４戦"},{"$f":"データ貼付!B29","v":"北見"},{"$f":"データ貼付!C29","v":43681},{"$f":"データ貼付!F29","v":"栗生朔門"},{"$f":"データ貼付!G29","v":410},{"$f":"データ貼付!H29","v":"決"},{"$f":"データ貼付!I29","v":"網走第四中"},{"$f":"データ貼付!J29","v":3},{"$f":"データ貼付!K29","v":0}]
[29,"中学男子走高跳8",{"$f":"J32&COUNTIF($J$4:J32,J32)","v":"月嶋永遠1"},{"$f":"データ貼付!D30&データ貼付!E30","v":"中学男子走高跳"},{"$f":"データ貼付!G30+ROW()/1000000","v":150.000032},8,{"$f":"データ貼付!A30","v":"記録会４戦"},{"$f":"データ貼付!B30","v":"北見"},{"$f":"データ貼付!C30","v":43681},{"$f":"データ貼付!F30","v":"月嶋永遠"},{"$f":"データ貼付!G30","v":150},{"$f":"データ貼付!H30","v":"決"},{"$f":"データ貼付!I30","v":"北見北光中"},{"$f":"データ貼付!J30","v":3},{"$f":"データ貼付!K30","v":0}]
[30,"中学男子棒高跳10",{"$f":"J33&COUNTIF($J$4:J33,J33)","v":"古畑愛斗1"},{"$f":"データ貼付!D31&データ貼付!E31","v":"中学男子棒高跳"},{"$f":"データ貼付!G31+ROW()/1000000","v":240.000033},10,{"$f":"データ貼付!A31","v":"地区中体連"},{"$f":"データ貼付!B31","v":"北見"},{"$f":"データ貼付!C31","v":43630},{"$f":"データ貼付!F31","v":"古畑愛斗"},{"$f":"データ貼付!G31","v":240},{"$f":"データ貼付!H31","v":"決"},{"$f":"データ貼付!I31","v":"北見小泉中"},{"$f":"データ貼付!J31","v":2},{"$f":"データ貼付!K31","v":0}]
[31,"高校女子走高跳4",{"$f":"J34&COUNTIF($J$4:J34,J34)","v":"五十嵐響1"},{"$f":"データ貼付!D32&データ貼付!E32","v":"高校女子走高跳"},{"$f":"データ貼付!G32+ROW()/1000000","v":140.000034},4,{"$f":"データ貼付!A32","v":"高体連支部"},{"$f":"データ貼付!B32","v":"北見"},{"$f":"データ貼付!C32","v":43609},{"$f":"データ貼付!F32","v":"五十嵐響"},{"$f":"データ貼付!G32","v":140},{"$f":"データ貼付!H32","v":"決"},{"$f":"データ貼付!I32","v":"北見藤高"},{"$f":"データ貼付!J32","v":1},{"$f":"データ貼付!K32","v":0}]
[32,"高校女子走高跳6",{"$f":"J35&COUNTIF($J$4:J35,J35)","v":"後田千春1"},{"$f":"データ貼付!D33&データ貼付!E33","v":"高校女子走高跳"},{"$f":"データ貼付!G33+ROW()/1000000","v":125.000035},6,{"$f":"データ貼付!A33","v":"高体連支部"},{"$f":"データ貼付!B33","v":"北見"},{"$f":"データ貼付!C33","v":43609},{"$f":"データ貼付!F33","v":"後田千春"},{"$f":"データ貼付!G33","v":125},{"$f":"データ貼付!H33","v":"決"},{"$f":"データ貼付!I33","v":"網走桂陽高"},{"$f":"データ貼付!J33","v":1},{"$f":"データ貼付!K33","v":0}]
[33,"高校男子走高跳15",{"$f":"J36&COUNTIF($J$4:J36,J36)","v":"工藤夢叶1"},{"$f":"データ貼付!D34&データ貼付!E34","v":"高校男子走高跳"},{"$f":"データ貼付!G34+ROW()/1000000","v":160.00003599999999},15,{"$f":"データ貼付!A34","v":"高体連支部"},{"$f":"データ貼付!B34","v":"北見"},{"$f":"データ貼付!C34","v":43609},{"$f":"データ貼付!F34","v":"工藤夢叶"},{"$f":"データ貼付!G34","v":160},{"$f":"データ貼付!H34","v":"決"},{"$f":"データ貼付!I34","v":"北見工業高"},{"$f":"データ貼付!J34","v":2},{"$f":"データ貼付!K34","v":0}]
[34,"小学男子走高跳21",{"$f":"J37&COUNTIF($J$4:J37,J37)","v":"江添陽人1"},{"$f":"データ貼付!D35&データ貼付!E35","v":"小学男子走高跳"},{"$f":"データ貼付!G35+ROW()/1000000","v":100.00003700000001},21,{"$f":"データ貼付!A35","v":"小学生ｵﾎｰﾂｸ"},{"$f":"データ貼付!B35","v":"北見"},{"$f":"データ貼付!C35","v":43632},{"$f":"データ貼付!F35","v":"江添陽人"},{"$f":"データ貼付!G35","v":100},{"$f":"データ貼付!H35","v":"決"},{"$f":"データ貼付!I35","v":"ｵﾎｰﾂｸSS"},{"$f":"データ貼付!J35","v":6},{"$f":"データ貼付!K35","v":0}]
[35,"小学男子走高跳9",{"$f":"J38&COUNTIF($J$4:J38,J38)","v":"荒木碧巴1"},{"$f":"データ貼付!D36&データ貼付!E36","v":"小学男子走高跳"},{"$f":"データ貼付!G36+ROW()/1000000","v":115.000038},9,{"$f":"データ貼付!A36","v":"フィールド記録会"},{"$f":"データ貼付!B36","v":"網走"},{"$f":"データ貼付!C36","v":43624},{"$f":"データ貼付!F36","v":"荒木碧巴"},{"$f":"データ貼付!G36","v":115},{"$f":"データ貼付!H36","v":"決"},{"$f":"データ貼付!I36","v":"知床斜里RC"},{"$f":"データ貼付!J36","v":6},{"$f":"データ貼付!K36","v":0}]
[36,"小学女子走高跳10",{"$f":"J39&COUNTIF($J$4:J39,J39)","v":"高橋碧衣1"},{"$f":"データ貼付!D37&データ貼付!E37","v":"小学女子走高跳"},{"$f":"データ貼付!G37+ROW()/1000000","v":100.000039},10,{"$f":"データ貼付!A37","v":"小学生ｵﾎｰﾂｸ"},{"$f":"データ貼付!B37","v":"北見"},{"$f":"データ貼付!C37","v":43632},{"$f":"データ貼付!F37","v":"高橋碧衣"},{"$f":"データ貼付!G37","v":100},{"$f":"データ貼付!H37","v":"決"},{"$f":"データ貼付!I37","v":"常呂陸上少年団"},{"$f":"データ貼付!J37","v":5},{"$f":"データ貼付!K37","v":0}]
[37,"高校男子走高跳3",{"$f":"J40&COUNTIF($J$4:J40,J40)","v":"根田一光1"},{"$f":"データ貼付!D38&データ貼付!E38","v":"高校男子走高跳"},{"$f":"データ貼付!G38+ROW()/1000000","v":180.00004000000001},3,{"$f":"データ貼付!A38","v":"全道高校新人"},{"$f":"データ貼付!B38","v":"函館"},{"$f":"データ貼付!C38","v":" 9/19"},{"$f":"データ貼付!F38","v":"根田一光"},{"$f":"データ貼付!G38","v":180},{"$f":"データ貼付!H38","v":"予"},{"$f":"データ貼付!I38","v":"網走南ｹ丘高"},{"$f":"データ貼付!J38","v":1},{"$f":"データ貼付!K38","v":0}]
[38,"高校男子走高跳21",{"$f":"J41&COUNTIF($J$4:J41,J41)","v":"佐藤一希1"},{"$f":"データ貼付!D39&データ貼付!E39","v":"高校男子走高跳"},{"$f":"データ貼付!G39+ROW()/1000000","v":150.00004100000001},21,{"$f":"データ貼付!A39","v":"選手権"},{"$f":"データ貼付!B39","v":"北見"},{"$f":"データ貼付!C39","v":43597},{"$f":"データ貼付!F39","v":"佐藤一希"},{"$f":"データ貼付!G39","v":150},{"$f":"データ貼付!H39","v":"決"},{"$f":"データ貼付!I39","v":"清里高"},{"$f":"データ貼付!J39","v":2},{"$f":"データ貼付!K39","v":0}]
[39,"中学男子棒高跳9",{"$f":"J42&COUNTIF($J$4:J42,J42)","v":"佐藤大斗1"},{"$f":"データ貼付!D40&データ貼付!E40","v":"中学男子棒高跳"},{"$f":"データ貼付!G40+ROW()/1000000","v":240.00004200000001},9,{"$f":"データ貼付!A40","v":"秋季陸上"},{"$f":"データ貼付!B40","v":"網走"},{"$f":"データ貼付!C40","v":43715},{"$f":"データ貼付!F40","v":"佐藤大斗"},{"$f":"データ貼付!G40","v":240},{"$f":"データ貼付!H40","v":"決"},{"$f":"データ貼付!I40","v":"斜里中"},{"$f":"データ貼付!J40","v":1},{"$f":"データ貼付!K40","v":0}]
[40,"高校男子走高跳1",{"$f":"J43&COUNTIF($J$4:J43,J43)","v":"佐藤碧1"},{"$f":"データ貼付!D41&データ貼付!E41","v":"高校男子走高跳"},{"$f":"データ貼付!G41+ROW()/1000000","v":189.00004300000001},1,{"$f":"データ貼付!A41","v":"高体連支部"},{"$f":"データ貼付!B41","v":"北見"},{"$f":"データ貼付!C41","v":43609},{"$f":"データ貼付!F41","v":"佐藤碧"},{"$f":"データ貼付!G41","v":189},{"$f":"データ貼付!H41","v":"決"},{"$f":"データ貼付!I41","v":"北見北斗高"},{"$f":"データ貼付!J41","v":3},{"$f":"データ貼付!K41","v":0}]
[41,"高校男子走高跳6",{"$f":"J44&COUNTIF($J$4:J44,J44)","v":"佐藤琉生1"},{"$f":"データ貼付!D42&データ貼付!E42","v":"高校男子走高跳"},{"$f":"データ貼付!G42+ROW()/1000000","v":171.000044},6,{"$f":"データ貼付!A42","v":"高体連支部"},{"$f":"データ貼付!B42","v":"北見"},{"$f":"データ貼付!C42","v":43609},{"$f":"データ貼付!F42","v":"佐藤琉生"},{"$f":"データ貼付!G42","v":171},{"$f":"データ貼付!H42","v":"決"},{"$f":"データ貼付!I42","v":"北見北斗高"},{"$f":"データ貼付!J42","v":1},{"$f":"データ貼付!K42","v":0}]
[42,"高校男子走高跳2",{"$f":"J45&COUNTIF($J$4:J45,J45)","v":"佐藤涼太1"},{"$f":"データ貼付!D43&データ貼付!E43","v":"高校男子走高跳"},{"$f":"データ貼付!G43+ROW()/1000000","v":186.000045},2,{"$f":"データ貼付!A43","v":"記録会第２戦"},{"$f":"データ貼付!B43","v":"網走"},{"$f":"データ貼付!C43","v":43589},{"$f":"データ貼付!F43","v":"佐藤涼太"},{"$f":"データ貼付!G43","v":186},{"$f":"データ貼付!H43","v":"決"},{"$f":"データ貼付!I43","v":"網走桂陽高"},{"$f":"データ貼付!J43","v":3},{"$f":"データ貼付!K43","v":0}]
[43,"中学女子走高跳2",{"$f":"J46&COUNTIF($J$4:J46,J46)","v":"佐伯亜子1"},{"$f":"データ貼付!D44&データ貼付!E44","v":"中学女子走高跳"},{"$f":"データ貼付!G44+ROW()/1000000","v":144.000046},2,{"$f":"データ貼付!A44","v":"秋季陸上"},{"$f":"データ貼付!B44","v":"網走"},{"$f":"データ貼付!C44","v":43716},{"$f":"データ貼付!F44","v":"佐伯亜子"},{"$f":"データ貼付!G44","v":144},{"$f":"データ貼付!H44","v":"決"},{"$f":"データ貼付!I44","v":"北見小泉中"},{"$f":"データ貼付!J44","v":2},{"$f":"データ貼付!K44","v":0}]
[44,"高校男子走高跳13",{"$f":"J47&COUNTIF($J$4:J47,J47)","v":"佐野光1"},{"$f":"データ貼付!D45&データ貼付!E45","v":"高校男子走高跳"},{"$f":"データ貼付!G45+ROW()/1000000","v":165.000047},13,{"$f":"データ貼付!A45","v":"高校新人"},{"$f":"データ貼付!B45","v":"北見"},{"$f":"データ貼付!C45","v":43701},{"$f":"データ貼付!F45","v":"佐野光"},{"$f":"データ貼付!G45","v":165},{"$f":"データ貼付!H45","v":"決"},{"$f":"データ貼付!I45","v":"北見北斗高"},{"$f":"データ貼付!J45","v":1},{"$f":"データ貼付!K45","v":0}]
[45,"中学男子棒高跳4",{"$f":"J48&COUNTIF($J$4:J48,J48)","v":"佐野巧1"},{"$f":"データ貼付!D46&データ貼付!E46","v":"中学男子棒高跳"},{"$f":"データ貼付!G46+ROW()/1000000","v":350.00004799999999},4,{"$f":"データ貼付!A46","v":"秋季陸上"},{"$f":"データ貼付!B46","v":"網走"},{"$f":"データ貼付!C46","v":43715},{"$f":"データ貼付!F46","v":"佐野巧"},{"$f":"データ貼付!G46","v":350},{"$f":"データ貼付!H46","v":"決"},{"$f":"データ貼付!I46","v":"斜里中"},{"$f":"データ貼付!J46","v":3},{"$f":"データ貼付!K46","v":0}]
[46,"小学男子走高跳8",{"$f":"J49&COUNTIF($J$4:J49,J49)","v":"佐野氷佳流1"},{"$f":"データ貼付!D47&データ貼付!E47","v":"小学男子走高跳"},{"$f":"データ貼付!G47+ROW()/1000000","v":115.000049},8,{"$f":"データ貼付!A47","v":"小学生記録会"},{"$f":"データ貼付!B47","v":"北見"},{"$f":"データ貼付!C47","v":43736},{"$f":"データ貼付!F47","v":"佐野氷佳流"},{"$f":"データ貼付!G47","v":115},{"$f":"データ貼付!H47","v":"決"},{"$f":"データ貼付!I47","v":"知床斜里RC"},{"$f":"データ貼付!J47","v":5},{"$f":"データ貼付!K47","v":0}]
[47,"高校男子走高跳14",{"$f":"J50&COUNTIF($J$4:J50,J50)","v":"坂元恭介1"},{"$f":"データ貼付!D48&データ貼付!E48","v":"高校男子走高跳"},{"$f":"データ貼付!G48+ROW()/1000000","v":160.00004999999999},14,{"$f":"データ貼付!A48","v":"高校新人"},{"$f":"データ貼付!B48","v":"北見"},{"$f":"データ貼付!C48","v":43701},{"$f":"データ貼付!F48","v":"坂元恭介"},{"$f":"データ貼付!G48","v":160},{"$f":"データ貼付!H48","v":"決"},{"$f":"データ貼付!I48","v":"網走南ヶ丘高"},{"$f":"データ貼付!J48","v":1},{"$f":"データ貼付!K48","v":0}]
[48,"高校男子棒高跳3",{"$f":"J51&COUNTIF($J$4:J51,J51)","v":"坂元恭介2"},{"$f":"データ貼付!D49&データ貼付!E49","v":"高校男子棒高跳"},{"$f":"データ貼付!G49+ROW()/1000000","v":420.00005099999998},3,{"$f":"データ貼付!A49","v":"全道高校新人"},{"$f":"データ貼付!B49","v":"函館"},{"$f":"データ貼付!C49","v":" 9/18"},{"$f":"データ貼付!F49","v":"坂元恭介"},{"$f":"データ貼付!G49","v":420},{"$f":"データ貼付!H49","v":"決"},{"$f":"データ貼付!I49","v":"網走南ｹ丘高"},{"$f":"データ貼付!J49","v":1},{"$f":"データ貼付!K49","v":0}]
[49,"高校男子走高跳17",{"$f":"J52&COUNTIF($J$4:J52,J52)","v":"坂口直樹1"},{"$f":"データ貼付!D50&データ貼付!E50","v":"高校男子走高跳"},{"$f":"データ貼付!G50+ROW()/1000000","v":155.00005200000001},17,{"$f":"データ貼付!A50","v":"高校新人"},{"$f":"データ貼付!B50","v":"北見"},{"$f":"データ貼付!C50","v":43701},{"$f":"データ貼付!F50","v":"坂口直樹"},{"$f":"データ貼付!G50","v":155},{"$f":"データ貼付!H50","v":"決"},{"$f":"データ貼付!I50","v":"遠軽高"},{"$f":"データ貼付!J50","v":1},{"$f":"データ貼付!K50","v":0}]
[50,"中学男子走高跳2",{"$f":"J53&COUNTIF($J$4:J53,J53)","v":"山田蒼唯1"},{"$f":"データ貼付!D51&データ貼付!E51","v":"中学男子走高跳"},{"$f":"データ貼付!G51+ROW()/1000000","v":155.00005300000001},2,{"$f":"データ貼付!A51","v":"記録会４戦"},{"$f":"データ貼付!B51","v":"北見"},{"$f":"データ貼付!C51","v":43681},{"$f":"データ貼付!F51","v":"山田蒼唯"},{"$f":"データ貼付!G51","v":155},{"$f":"データ貼付!H51","v":"決"},{"$f":"データ貼付!I51","v":"北見北光中"},{"$f":"データ貼付!J51","v":3},{"$f":"データ貼付!K51","v":0}]
[51,"高校男子走高跳20",{"$f":"J54&COUNTIF($J$4:J54,J54)","v":"山田翔也1"},{"$f":"データ貼付!D52&データ貼付!E52","v":"高校男子走高跳"},{"$f":"データ貼付!G52+ROW()/1000000","v":150.00005400000001},20,{"$f":"データ貼付!A52","v":"選手権"},{"$f":"データ貼付!B52","v":"北見"},{"$f":"データ貼付!C52","v":43597},{"$f":"データ貼付!F52","v":"山田翔也"},{"$f":"データ貼付!G52","v":150},{"$f":"データ貼付!H52","v":"決"},{"$f":"データ貼付!I52","v":"紋別高"},{"$f":"データ貼付!J52","v":2},{"$f":"データ貼付!K52","v":0}]
[52,"中学男子棒高跳11",{"$f":"J55&COUNTIF($J$4:J55,J55)","v":"山本銀士郎1"},{"$f":"データ貼付!D53&データ貼付!E53","v":"中学男子棒高跳"},{"$f":"データ貼付!G53+ROW()/1000000","v":230.000055},11,{"$f":"データ貼付!A53","v":"地区中体連"},{"$f":"データ貼付!B53","v":"北見"},{"$f":"データ貼付!C53","v":43630},{"$f":"データ貼付!F53","v":"山本銀士郎"},{"$f":"データ貼付!G53","v":230},{"$f":"データ貼付!H53","v":"決"},{"$f":"データ貼付!I53","v":"網走第一中"},{"$f":"データ貼付!J53","v":2},{"$f":"データ貼付!K53","v":0}]
[53,"小学男子走高跳19",{"$f":"J56&COUNTIF($J$4:J56,J56)","v":"山本耕四朗1"},{"$f":"データ貼付!D54&データ貼付!E54","v":"小学男子走高跳"},{"$f":"データ貼付!G54+ROW()/1000000","v":105.000056},19,{"$f":"データ貼付!A54","v":"小学生ｵﾎｰﾂｸ"},{"$f":"データ貼付!B54","v":"北見"},{"$f":"データ貼付!C54","v":43632},{"$f":"データ貼付!F54","v":"山本耕四朗"},{"$f":"データ貼付!G54","v":105},{"$f":"データ貼付!H54","v":"決"},{"$f":"データ貼付!I54","v":"ｵﾎｰﾂｸACｼﾞｭﾆｱ"},{"$f":"データ貼付!J54","v":5},{"$f":"データ貼付!K54","v":0}]
[54,"小学男子走高跳13",{"$f":"J57&COUNTIF($J$4:J57,J57)","v":"山本耕四郎1"},{"$f":"データ貼付!D55&データ貼付!E55","v":"小学男子走高跳"},{"$f":"データ貼付!G55+ROW()/1000000","v":110.000057},13,{"$f":"データ貼付!A55","v":"小学生記録会"},{"$f":"データ貼付!B55","v":"北見"},{"$f":"データ貼付!C55","v":43736},{"$f":"データ貼付!F55","v":"山本耕四郎"},{"$f":"データ貼付!G55","v":110},{"$f":"データ貼付!H55","v":"決"},{"$f":"データ貼付!I55","v":"ｵﾎｰﾂｸACｼﾞｭﾆｱ"},{"$f":"データ貼付!J55","v":5},{"$f":"データ貼付!K55","v":0}]
[55,"小学男子走高跳3",{"$f":"J58&COUNTIF($J$4:J58,J58)","v":"山本大三郎1"},{"$f":"データ貼付!D56&データ貼付!E56","v":"小学男子走高跳"},{"$f":"データ貼付!G56+ROW()/1000000","v":125.000058},3,{"$f":"データ貼付!A56","v":"小学生記録会"},{"$f":"データ貼付!B56","v":"北見"},{"$f":"データ貼付!C56","v":43736},{"$f":"データ貼付!F56","v":"山本大三郎"},{"$f":"データ貼付!G56","v":125},{"$f":"データ貼付!H56","v":"決"},{"$f":"データ貼付!I56","v":"ｵﾎｰﾂｸACｼﾞｭﾆｱ"},{"$f":"データ貼付!J56","v":6},{"$f":"データ貼付!K56","v":0}]
[56,"中学男子棒高跳7",{"$f":"J59&COUNTIF($J$4:J59,J59)","v":"市村宥樹1"},{"$f":"データ貼付!D57&データ貼付!E57","v":"中学男子棒高跳"},{"$f":"データ貼付!G57+ROW()/1000000","v":280.00005900000002},7,{"$f":"データ貼付!A57","v":"フィールド記録会"},{"$f":"データ貼付!B57","v":"網走"},{"$f":"データ貼付!C57","v":43624},{"$f":"データ貼付!F57","v":"市村宥樹"},{"$f":"データ貼付!G57","v":280},{"$f":"データ貼付!H57","v":"決"},{"$f":"データ貼付!I57","v":"斜里中"},{"$f":"データ貼付!J57","v":3},{"$f":"データ貼付!K57","v":0}]
[57,"中学女子走高跳24",{"$f":"J60&COUNTIF($J$4:J60,J60)","v":"枝﨑千夏1"},{"$f":"データ貼付!D58&データ貼付!E58","v":"中学女子走高跳"},{"$f":"データ貼付!G58+ROW()/1000000","v":120.00006},24,{"$f":"データ貼付!A58","v":"通信陸上"},{"$f":"データ貼付!B58","v":"網走"},{"$f":"データ貼付!C58","v":43645},{"$f":"データ貼付!F58","v":"枝﨑千夏"},{"$f":"データ貼付!G58","v":120},{"$f":"データ貼付!H58","v":"決"},{"$f":"データ貼付!I58","v":"美幌北中"},{"$f":"データ貼付!J58","v":1},{"$f":"データ貼付!K58","v":0}]
[58,"中学女子走高跳31",{"$f":"J61&COUNTIF($J$4:J61,J61)","v":"篠原もも香1"},{"$f":"データ貼付!D59&データ貼付!E59","v":"中学女子走高跳"},{"$f":"データ貼付!G59+ROW()/1000000","v":110.000061},31,{"$f":"データ貼付!A59","v":"通信陸上"},{"$f":"データ貼付!B59","v":"網走"},{"$f":"データ貼付!C59","v":43645},{"$f":"データ貼付!F59","v":"篠原もも香"},{"$f":"データ貼付!G59","v":110},{"$f":"データ貼付!H59","v":"決"},{"$f":"データ貼付!I59","v":"北見南中"},{"$f":"データ貼付!J59","v":1},{"$f":"データ貼付!K59","v":0}]
[59,"中学女子走高跳12",{"$f":"J62&COUNTIF($J$4:J62,J62)","v":"篠原菜蓮1"},{"$f":"データ貼付!D60&データ貼付!E60","v":"中学女子走高跳"},{"$f":"データ貼付!G60+ROW()/1000000","v":130.00006200000001},12,{"$f":"データ貼付!A60","v":"中学新人"},{"$f":"データ貼付!B60","v":"北見"},{"$f":"データ貼付!C60","v":43701},{"$f":"データ貼付!F60","v":"篠原菜蓮"},{"$f":"データ貼付!G60","v":130},{"$f":"データ貼付!H60","v":"決"},{"$f":"データ貼付!I60","v":"網走第三中"},{"$f":"データ貼付!J60","v":2},{"$f":"データ貼付!K60","v":0}]
[60,"高校女子棒高跳2",{"$f":"J63&COUNTIF($J$4:J63,J63)","v":"若松亜美1"},{"$f":"データ貼付!D61&データ貼付!E61","v":"高校女子棒高跳"},{"$f":"データ貼付!G61+ROW()/1000000","v":340.00006300000001},2,{"$f":"データ貼付!A61","v":"高体連支部"},{"$f":"データ貼付!B61","v":"北見"},{"$f":"データ貼付!C61","v":43608},{"$f":"データ貼付!F61","v":"若松亜美"},{"$f":"データ貼付!G61","v":340},{"$f":"データ貼付!H61","v":"決"},{"$f":"データ貼付!I61","v":"北見緑陵高"},{"$f":"データ貼付!J61","v":3},{"$f":"データ貼付!K61","v":0}]
[61,"小学女子走高跳8",{"$f":"J64&COUNTIF($J$4:J64,J64)","v":"酒井彩吹1"},{"$f":"データ貼付!D62&データ貼付!E62","v":"小学女子走高跳"},{"$f":"データ貼付!G62+ROW()/1000000","v":105.00006399999999},8,{"$f":"データ貼付!A62","v":"小学生記録会"},{"$f":"データ貼付!B62","v":"北見"},{"$f":"データ貼付!C62","v":43736},{"$f":"データ貼付!F62","v":"酒井彩吹"},{"$f":"データ貼付!G62","v":105},{"$f":"データ貼付!H62","v":"決"},{"$f":"データ貼付!I62","v":"網走陸上少年団"},{"$f":"データ貼付!J62","v":4},{"$f":"データ貼付!K62","v":0}]
[62,"小学女子走高跳7",{"$f":"J65&COUNTIF($J$4:J65,J65)","v":"酒井寧々1"},{"$f":"データ貼付!D63&データ貼付!E63","v":"小学女子走高跳"},{"$f":"データ貼付!G63+ROW()/1000000","v":105.00006500000001},7,{"$f":"データ貼付!A63","v":"小学生ｵﾎｰﾂｸ"},{"$f":"データ貼付!B63","v":"北見"},{"$f":"データ貼付!C63","v":43632},{"$f":"データ貼付!F63","v":"酒井寧々"},{"$f":"データ貼付!G63","v":105},{"$f":"データ貼付!H63","v":"決"},{"$f":"データ貼付!I63","v":"ｵﾎｰﾂｸｷｯｽﾞ"},{"$f":"データ貼付!J63","v":5},{"$f":"データ貼付!K63","v":0}]
[63,"中学男子走高跳16",{"$f":"J66&COUNTIF($J$4:J66,J66)","v":"酒井柊優1"},{"$f":"データ貼付!D64&データ貼付!E64","v":"中学男子走高跳"},{"$f":"データ貼付!G64+ROW()/1000000","v":125.000066},16,{"$f":"データ貼付!A64","v":"選手権"},{"$f":"データ貼付!B64","v":"北見"},{"$f":"データ貼付!C64","v":43597},{"$f":"データ貼付!F64","v":"酒井柊優"},{"$f":"データ貼付!G64","v":125},{"$f":"データ貼付!H64","v":"決"},{"$f":"データ貼付!I64","v":"北見東陵中"},{"$f":"データ貼付!J64","v":1},{"$f":"データ貼付!K64","v":0}]
[64,"中学男子走高跳9",{"$f":"J67&COUNTIF($J$4:J67,J67)","v":"秋山義宗1"},{"$f":"データ貼付!D65&データ貼付!E65","v":"中学男子走高跳"},{"$f":"データ貼付!G65+ROW()/1000000","v":140.000067},9,{"$f":"データ貼付!A65","v":"通信陸上"},{"$f":"データ貼付!B65","v":"網走"},{"$f":"データ貼付!C65","v":43645},{"$f":"データ貼付!F65","v":"秋山義宗"},{"$f":"データ貼付!G65","v":140},{"$f":"データ貼付!H65","v":"決"},{"$f":"データ貼付!I65","v":"北見常呂中"},{"$f":"データ貼付!J65","v":2},{"$f":"データ貼付!K65","v":0}]
[65,"高校男子棒高跳4",{"$f":"J68&COUNTIF($J$4:J68,J68)","v":"小河大介1"},{"$f":"データ貼付!D66&データ貼付!E66","v":"高校男子棒高跳"},{"$f":"データ貼付!G66+ROW()/1000000","v":410.000068},4,{"$f":"データ貼付!A66","v":"記録会第２戦"},{"$f":"データ貼付!B66","v":"網走"},{"$f":"データ貼付!C66","v":43589},{"$f":"データ貼付!F66","v":"小河大介"},{"$f":"データ貼付!G66","v":410},{"$f":"データ貼付!H66","v":"決"},{"$f":"データ貼付!I66","v":"網走桂陽高"},{"$f":"データ貼付!J66","v":1},{"$f":"データ貼付!K66","v":0}]
[66,{"$f":"D69&F69","v":"中学男子走高跳13"},{"$f":"J69&COUNTIF($J$4:J69,J69)","v":"小原拓真1"},{"$f":"データ貼付!D67&データ貼付!E67","v":"中学男子走高跳"},{"$f":"データ貼付!G67+ROW()/1000000","v":135.000069},{"$f":"SUMPRODUCT(($D$4:$D$200=D69)*($E$4:$E$200>E69))+1","v":13},{"$f":"データ貼付!A67","v":"通信陸上"},{"$f":"データ貼付!B67","v":"網走"},{"$f":"データ貼付!C67","v":43645},{"$f":"データ貼付!F67","v":"小原拓真"},{"$f":"データ貼付!G67","v":135},{"$f":"データ貼付!H67","v":"決"},{"$f":"データ貼付!I67","v":"北見常呂中"},{"$f":"データ貼付!J67","v":2},{"$f":"データ貼付!K67","v":0}]
[67,"中学男子走高跳15",{"$f":"J70&COUNTIF($J$4:J70,J70)","v":"小助川智博1"},{"$f":"データ貼付!D68&データ貼付!E68","v":"中学男子走高跳"},{"$f":"データ貼付!G68+ROW()/1000000","v":130.00006999999999},15,{"$f":"データ貼付!A68","v":"選手権"},{"$f":"データ貼付!B68","v":"北見"},{"$f":"データ貼付!C68","v":43597},{"$f":"データ貼付!F68","v":"小助川智博"},{"$f":"データ貼付!G68","v":130},{"$f":"データ貼付!H68","v":"決"},{"$f":"データ貼付!I68","v":"紋別中"},{"$f":"データ貼付!J68","v":2},{"$f":"データ貼付!K68","v":0}]
[68,"共通女子走高跳5",{"$f":"J71&COUNTIF($J$4:J71,J71)","v":"小川遼佳1"},{"$f":"データ貼付!D69&データ貼付!E69","v":"共通女子走高跳"},{"$f":"データ貼付!G69+ROW()/1000000","v":125.00007100000001},5,{"$f":"データ貼付!A69","v":"記録会第１戦"},{"$f":"データ貼付!B69","v":"北見"},{"$f":"データ貼付!C69","v":43583},{"$f":"データ貼付!F69","v":"小川遼佳"},{"$f":"データ貼付!G69","v":125},{"$f":"データ貼付!H69","v":"決"},{"$f":"データ貼付!I69","v":"大空東藻琴中"},{"$f":"データ貼付!J69","v":3},{"$f":"データ貼付!K69","v":0}]
[69,"高校女子棒高跳1",{"$f":"J72&COUNTIF($J$4:J72,J72)","v":"小野寺萌華1"},{"$f":"データ貼付!D70&データ貼付!E70","v":"高校女子棒高跳"},{"$f":"データ貼付!G70+ROW()/1000000","v":340.00007199999999},1,{"$f":"データ貼付!A70","v":"全道高校"},{"$f":"データ貼付!B70","v":"帯広"},{"$f":"データ貼付!C70","v":" 6/18"},{"$f":"データ貼付!F70","v":"小野寺萌華"},{"$f":"データ貼付!G70","v":340},{"$f":"データ貼付!H70","v":"決"},{"$f":"データ貼付!I70","v":"網走南ヶ丘高"},{"$f":"データ貼付!J70","v":1},{"$f":"データ貼付!K70","v":0}]
[70,"中学女子走高跳9",{"$f":"J73&COUNTIF($J$4:J73,J73)","v":"小野蒼空1"},{"$f":"データ貼付!D71&データ貼付!E71","v":"中学女子走高跳"},{"$f":"データ貼付!G71+ROW()/1000000","v":135.00007299999999},9,{"$f":"データ貼付!A71","v":"選手権"},{"$f":"データ貼付!B71","v":"北見"},{"$f":"データ貼付!C71","v":43597},{"$f":"データ貼付!F71","v":"小野蒼空"},{"$f":"データ貼付!G71","v":135},{"$f":"データ貼付!H71","v":"決"},{"$f":"データ貼付!I71","v":"美幌北中"},{"$f":"データ貼付!J71","v":1},{"$f":"データ貼付!K71","v":0}]
[71,"高校男子走高跳9",{"$f":"J74&COUNTIF($J$4:J74,J74)","v":"小野拓也1"},{"$f":"データ貼付!D72&データ貼付!E72","v":"高校男子走高跳"},{"$f":"データ貼付!G72+ROW()/1000000","v":168.00007400000001},9,{"$f":"データ貼付!A72","v":"選手権"},{"$f":"データ貼付!B72","v":"北見"},{"$f":"データ貼付!C72","v":43597},{"$f":"データ貼付!F72","v":"小野拓也"},{"$f":"データ貼付!G72","v":168},{"$f":"データ貼付!H72","v":"決"},{"$f":"データ貼付!I72","v":"網走桂陽高"},{"$f":"データ貼付!J72","v":3},{"$f":"データ貼付!K72","v":0}]
[72,"高校男子走高跳5",{"$f":"J75&COUNTIF($J$4:J75,J75)","v":"庄司千祐1"},{"$f":"データ貼付!D73&データ貼付!E73","v":"高校男子走高跳"},{"$f":"データ貼付!G73+ROW()/1000000","v":171.00007500000001},5,{"$f":"データ貼付!A73","v":"高体連支部"},{"$f":"データ貼付!B73","v":"北見"},{"$f":"データ貼付!C73","v":43609},{"$f":"データ貼付!F73","v":"庄司千祐"},{"$f":"データ貼付!G73","v":171},{"$f":"データ貼付!H73","v":"決"},{"$f":"データ貼付!I73","v":"北見柏陽高"},{"$f":"データ貼付!J73","v":2},{"$f":"データ貼付!K73","v":0}]
[73,"高校女子棒高跳4",{"$f":"J76&COUNTIF($J$4:J76,J76)","v":"松原麗1"},{"$f":"データ貼付!D74&データ貼付!E74","v":"高校女子棒高跳"},{"$f":"データ貼付!G74+ROW()/1000000","v":180.00007600000001},4,{"$f":"データ貼付!A74","v":"高体連支部"},{"$f":"データ貼付!B74","v":"北見"},{"$f":"データ貼付!C74","v":43608},{"$f":"データ貼付!F74","v":"松原麗"},{"$f":"データ貼付!G74","v":180},{"$f":"データ貼付!H74","v":"決"},{"$f":"データ貼付!I74","v":"遠軽高"},{"$f":"データ貼付!J74","v":2},{"$f":"データ貼付!K74","v":0}]
[74,"中学男子棒高跳14",{"$f":"J77&COUNTIF($J$4:J77,J77)","v":"松本亮介1"},{"$f":"データ貼付!D75&データ貼付!E75","v":"中学男子棒高跳"},{"$f":"データ貼付!G75+ROW()/1000000","v":200.000077},14,{"$f":"データ貼付!A75","v":"記録会第１戦"},{"$f":"データ貼付!B75","v":"北見"},{"$f":"データ貼付!C75","v":43583},{"$f":"データ貼付!F75","v":"松本亮介"},{"$f":"データ貼付!G75","v":200},{"$f":"データ貼付!H75","v":"決"},{"$f":"データ貼付!I75","v":"北見小泉中"},{"$f":"データ貼付!J75","v":2},{"$f":"データ貼付!K75","v":0}]
[75,"高校男子走高跳8",{"$f":"J78&COUNTIF($J$4:J78,J78)","v":"沼田陵佑1"},{"$f":"データ貼付!D76&データ貼付!E76","v":"高校男子走高跳"},{"$f":"データ貼付!G76+ROW()/1000000","v":168.000078},8,{"$f":"データ貼付!A76","v":"高体連支部"},{"$f":"データ貼付!B76","v":"北見"},{"$f":"データ貼付!C76","v":43609},{"$f":"データ貼付!F76","v":"沼田陵佑"},{"$f":"データ貼付!G76","v":168},{"$f":"データ貼付!H76","v":"決"},{"$f":"データ貼付!I76","v":"北見柏陽高"},{"$f":"データ貼付!J76","v":3},{"$f":"データ貼付!K76","v":0}]
[76,"中学女子走高跳23",{"$f":"J79&COUNTIF($J$4:J79,J79)","v":"森ひなた1"},{"$f":"データ貼付!D77&データ貼付!E77","v":"中学女子走高跳"},{"$f":"データ貼付!G77+ROW()/1000000","v":120.000079},23,{"$f":"データ貼付!A77","v":"通信陸上"},{"$f":"データ貼付!B77","v":"網走"},{"$f":"データ貼付!C77","v":43645},{"$f":"データ貼付!F77","v":"森ひなた"},{"$f":"データ貼付!G77","v":120},{"$f":"データ貼付!H77","v":"決"},{"$f":"データ貼付!I77","v":"北見小泉中"},{"$f":"データ貼付!J77","v":3},{"$f":"データ貼付!K77","v":0}]
[77,"中学女子走高跳1",{"$f":"J80&COUNTIF($J$4:J80,J80)","v":"森彩夏1"},{"$f":"データ貼付!D78&データ貼付!E78","v":"中学女子走高跳"},{"$f":"データ貼付!G78+ROW()/1000000","v":151.00008},1,{"$f":"データ貼付!A78","v":"道ジュニア"},{"$f":"データ貼付!B78","v":"釧路"},{"$f":"データ貼付!C78","v":43709},{"$f":"データ貼付!F78","v":"森彩夏"},{"$f":"データ貼付!G78","v":151},{"$f":"データ貼付!H78","v":"決"},{"$f":"データ貼付!I78","v":"北見常呂中"},{"$f":"データ貼付!J78","v":3},{"$f":"データ貼付!K78","v":0}]
[78,"小学男子走高跳7",{"$f":"J81&COUNTIF($J$4:J81,J81)","v":"杉山智亮1"},{"$f":"データ貼付!D79&データ貼付!E79","v":"小学男子走高跳"},{"$f":"データ貼付!G79+ROW()/1000000","v":115.00008099999999},7,{"$f":"データ貼付!A79","v":"小学生ｵﾎｰﾂｸ"},{"$f":"データ貼付!B79","v":"北見"},{"$f":"データ貼付!C79","v":43632},{"$f":"データ貼付!F79","v":"杉山智亮"},{"$f":"データ貼付!G79","v":115},{"$f":"データ貼付!H79","v":"決"},{"$f":"データ貼付!I79","v":"ｵﾎｰﾂｸｷｯｽﾞ"},{"$f":"データ貼付!J79","v":6},{"$f":"データ貼付!K79","v":0}]
[79,"中学女子走高跳8",{"$f":"J82&COUNTIF($J$4:J82,J82)","v":"杉本玲奈1"},{"$f":"データ貼付!D80&データ貼付!E80","v":"中学女子走高跳"},{"$f":"データ貼付!G80+ROW()/1000000","v":135.00008199999999},8,{"$f":"データ貼付!A80","v":"記録会第２戦"},{"$f":"データ貼付!B80","v":"網走"},{"$f":"データ貼付!C80","v":43589},{"$f":"データ貼付!F80","v":"杉本玲奈"},{"$f":"データ貼付!G80","v":135},{"$f":"データ貼付!H80","v":"決"},{"$f":"データ貼付!I80","v":"網走第四中"},{"$f":"データ貼付!J80","v":2},{"$f":"データ貼付!K80","v":0}]
[80,"高校女子走高跳1",{"$f":"J83&COUNTIF($J$4:J83,J83)","v":"菅原玲奈1"},{"$f":"データ貼付!D81&データ貼付!E81","v":"高校女子走高跳"},{"$f":"データ貼付!G81+ROW()/1000000","v":164.00008299999999},1,{"$f":"データ貼付!A81","v":"全道高校新人"},{"$f":"データ貼付!B81","v":"函館"},{"$f":"データ貼付!C81","v":" 9/20"},{"$f":"データ貼付!F81","v":"菅原玲奈"},{"$f":"データ貼付!G81","v":164},{"$f":"データ貼付!H81","v":"決"},{"$f":"データ貼付!I81","v":"興部高"},{"$f":"データ貼付!J81","v":2},{"$f":"データ貼付!K81","v":0}]
[81,"中学男子走高跳12",{"$f":"J84&COUNTIF($J$4:J84,J84)","v":"正壽祐希1"},{"$f":"データ貼付!D82&データ貼付!E82","v":"中学男子走高跳"},{"$f":"データ貼付!G82+ROW()/1000000","v":135.00008399999999},12,{"$f":"データ貼付!A82","v":"記録会４戦"},{"$f":"データ貼付!B82","v":"北見"},{"$f":"データ貼付!C82","v":43681},{"$f":"データ貼付!F82","v":"正壽祐希"},{"$f":"データ貼付!G82","v":135},{"$f":"データ貼付!H82","v":"決"},{"$f":"データ貼付!I82","v":"北見北光中"},{"$f":"データ貼付!J82","v":3},{"$f":"データ貼付!K82","v":0}]
[82,"中学女子走高跳22",{"$f":"J85&COUNTIF($J$4:J85,J85)","v":"清川幸愛1"},{"$f":"データ貼付!D83&データ貼付!E83","v":"中学女子走高跳"},{"$f":"データ貼付!G83+ROW()/1000000","v":120.000085},22,{"$f":"データ貼付!A83","v":"記録会３戦"},{"$f":"データ貼付!B83","v":"網走"},{"$f":"データ貼付!C83","v":43660},{"$f":"データ貼付!F83","v":"清川幸愛"},{"$f":"データ貼付!G83","v":120},{"$f":"データ貼付!H83","v":"決"},{"$f":"データ貼付!I83","v":"置戸中"},{"$f":"データ貼付!J83","v":1},{"$f":"データ貼付!K83","v":0}]
[83,"小学男子走高跳2",{"$f":"J86&COUNTIF($J$4:J86,J86)","v":"西川佑吾1"},{"$f":"データ貼付!D84&データ貼付!E84","v":"小学男子走高跳"},{"$f":"データ貼付!G84+ROW()/1000000","v":125.000086},2,{"$f":"データ貼付!A84","v":"フィールド記録会"},{"$f":"データ貼付!B84","v":"網走"},{"$f":"データ貼付!C84","v":43624},{"$f":"データ貼付!F84","v":"西川佑吾"},{"$f":"データ貼付!G84","v":125},{"$f":"データ貼付!H84","v":"決"},{"$f":"データ貼付!I84","v":"知床斜里RC"},{"$f":"データ貼付!J84","v":6},{"$f":"データ貼付!K84","v":0}]
[84,"小学男子走高跳18",{"$f":"J87&COUNTIF($J$4:J87,J87)","v":"西川悠輝1"},{"$f":"データ貼付!D85&データ貼付!E85","v":"小学男子走高跳"},{"$f":"データ貼付!G85+ROW()/1000000","v":105.00008699999999},18,{"$f":"データ貼付!A85","v":"小学生記録会"},{"$f":"データ貼付!B85","v":"北見"},{"$f":"データ貼付!C85","v":43736},{"$f":"データ貼付!F85","v":"西川悠輝"},{"$f":"データ貼付!G85","v":105},{"$f":"データ貼付!H85","v":"決"},{"$f":"データ貼付!I85","v":"知床斜里RC"},{"$f":"データ貼付!J85","v":4},{"$f":"データ貼付!K85","v":0}]
[85,"中学男子走高跳7",{"$f":"J88&COUNTIF($J$4:J88,J88)","v":"西村海斗1"},{"$f":"データ貼付!D86&データ貼付!E86","v":"中学男子走高跳"},{"$f":"データ貼付!G86+ROW()/1000000","v":150.00008800000001},7,{"$f":"データ貼付!A86","v":"秋季陸上"},{"$f":"データ貼付!B86","v":"網走"},{"$f":"データ貼付!C86","v":43715},{"$f":"データ貼付!F86","v":"西村海斗"},{"$f":"データ貼付!G86","v":150},{"$f":"データ貼付!H86","v":"決"},{"$f":"データ貼付!I86","v":"北見北光中"},{"$f":"データ貼付!J86","v":2},{"$f":"データ貼付!K86","v":0}]
[86,"中学女子走高跳30",{"$f":"J89&COUNTIF($J$4:J89,J89)","v":"西多里奈1"},{"$f":"データ貼付!D87&データ貼付!E87","v":"中学女子走高跳"},{"$f":"データ貼付!G87+ROW()/1000000","v":110.000089},30,{"$f":"データ貼付!A87","v":"中学新人"},{"$f":"データ貼付!B87","v":"北見"},{"$f":"データ貼付!C87","v":43701},{"$f":"データ貼付!F87","v":"西多里奈"},{"$f":"データ貼付!G87","v":110},{"$f":"データ貼付!H87","v":"決"},{"$f":"データ貼付!I87","v":"網走第三中"},{"$f":"データ貼付!J87","v":2},{"$f":"データ貼付!K87","v":0}]
[87,"小学男子走高跳17",{"$f":"J90&COUNTIF($J$4:J90,J90)","v":"西迫知希1"},{"$f":"データ貼付!D88&データ貼付!E88","v":"小学男子走高跳"},{"$f":"データ貼付!G88+ROW()/1000000","v":105.00009},17,{"$f":"データ貼付!A88","v":"小学生ｵﾎｰﾂｸ"},{"$f":"データ貼付!B88","v":"北見"},{"$f":"データ貼付!C88","v":43632},{"$f":"データ貼付!F88","v":"西迫知希"},{"$f":"データ貼付!G88","v":105},{"$f":"データ貼付!H88","v":"決"},{"$f":"データ貼付!I88","v":"ｵﾎｰﾂｸｷｯｽﾞ"},{"$f":"データ貼付!J88","v":5},{"$f":"データ貼付!K88","v":0}]
[88,"高校男子走高跳23",{"$f":"J91&COUNTIF($J$4:J91,J91)","v":"斉藤一歩1"},{"$f":"データ貼付!D89&データ貼付!E89","v":"高校男子走高跳"},{"$f":"データ貼付!G89+ROW()/1000000","v":140.000091},23,{"$f":"データ貼付!A89","v":"高校新人"},{"$f":"データ貼付!B89","v":"北見"},{"$f":"データ貼付!C89","v":43701},{"$f":"データ貼付!F89","v":"斉藤一歩"},{"$f":"データ貼付!G89","v":140},{"$f":"データ貼付!H89","v":"決"},{"$f":"データ貼付!I89","v":"北見緑陵高"},{"$f":"データ貼付!J89","v":1},{"$f":"データ貼付!K89","v":0}]
[89,"高校男子棒高跳2",{"$f":"J92&COUNTIF($J$4:J92,J92)","v":"石井建太朗1"},{"$f":"データ貼付!D90&データ貼付!E90","v":"高校男子棒高跳"},{"$f":"データ貼付!G90+ROW()/1000000","v":420.000092},2,{"$f":"データ貼付!A90","v":"高校新人"},{"$f":"データ貼付!B90","v":"北見"},{"$f":"データ貼付!C90","v":43701},{"$f":"データ貼付!F90","v":"石井建太朗"},{"$f":"データ貼付!G90","v":420},{"$f":"データ貼付!H90","v":"決"},{"$f":"データ貼付!I90","v":"網走南ヶ丘高"},{"$f":"データ貼付!J90","v":2},{"$f":"データ貼付!K90","v":0}]
[90,"中学男子棒高跳15",{"$f":"J93&COUNTIF($J$4:J93,J93)","v":"石原遥翔1"},{"$f":"データ貼付!D91&データ貼付!E91","v":"中学男子棒高跳"},{"$f":"データ貼付!G91+ROW()/1000000","v":190.00009299999999},15,{"$f":"データ貼付!A91","v":"秋季陸上"},{"$f":"データ貼付!B91","v":"網走"},{"$f":"データ貼付!C91","v":43715},{"$f":"データ貼付!F91","v":"石原遥翔"},{"$f":"データ貼付!G91","v":190},{"$f":"データ貼付!H91","v":"決"},{"$f":"データ貼付!I91","v":"網走第四中"},{"$f":"データ貼付!J91","v":1},{"$f":"データ貼付!K91","v":0}]
[91,"共通女子走高跳2",{"$f":"J94&COUNTIF($J$4:J94,J94)","v":"石山真衣1"},{"$f":"データ貼付!D92&データ貼付!E92","v":"共通女子走高跳"},{"$f":"データ貼付!G92+ROW()/1000000","v":135.00009399999999},2,{"$f":"データ貼付!A92","v":"記録会第１戦"},{"$f":"データ貼付!B92","v":"北見"},{"$f":"データ貼付!C92","v":43583},{"$f":"データ貼付!F92","v":"石山真衣"},{"$f":"データ貼付!G92","v":135},{"$f":"データ貼付!H92","v":"決"},{"$f":"データ貼付!I92","v":"湧別高"},{"$f":"データ貼付!J92","v":3},{"$f":"データ貼付!K92","v":0}]
[92,"中学男子棒高跳3",{"$f":"J95&COUNTIF($J$4:J95,J95)","v":"石田和也1"},{"$f":"データ貼付!D93&データ貼付!E93","v":"中学男子棒高跳"},{"$f":"データ貼付!G93+ROW()/1000000","v":371.00009499999999},3,{"$f":"データ貼付!A93","v":"秋季陸上"},{"$f":"データ貼付!B93","v":"網走"},{"$f":"データ貼付!C93","v":43715},{"$f":"データ貼付!F93","v":"石田和也"},{"$f":"データ貼付!G93","v":371},{"$f":"データ貼付!H93","v":"決"},{"$f":"データ貼付!I93","v":"網走第一中"},{"$f":"データ貼付!J93","v":3},{"$f":"データ貼付!K93","v":0}]
[93,"中学男子棒高跳8",{"$f":"J96&COUNTIF($J$4:J96,J96)","v":"川上大晴1"},{"$f":"データ貼付!D94&データ貼付!E94","v":"中学男子棒高跳"},{"$f":"データ貼付!G94+ROW()/1000000","v":260.00009599999998},8,{"$f":"データ貼付!A94","v":"全道中学新人"},{"$f":"データ貼付!B94","v":"千歳"},{"$f":"データ貼付!C94","v":43729},{"$f":"データ貼付!F94","v":"川上大晴"},{"$f":"データ貼付!G94","v":260},{"$f":"データ貼付!H94","v":"決"},{"$f":"データ貼付!I94","v":"北見小泉"},{"$f":"データ貼付!J94","v":2},{"$f":"データ貼付!K94","v":0}]
[94,"小学男子走高跳16",{"$f":"J97&COUNTIF($J$4:J97,J97)","v":"川瀬智仁1"},{"$f":"データ貼付!D95&データ貼付!E95","v":"小学男子走高跳"},{"$f":"データ貼付!G95+ROW()/1000000","v":105.000097},16,{"$f":"データ貼付!A95","v":"小学生記録会"},{"$f":"データ貼付!B95","v":"北見"},{"$f":"データ貼付!C95","v":43736},{"$f":"データ貼付!F95","v":"川瀬智仁"},{"$f":"データ貼付!G95","v":105},{"$f":"データ貼付!H95","v":"決"},{"$f":"データ貼付!I95","v":"ｵﾎｰﾂｸACｼﾞｭﾆｱ"},{"$f":"データ貼付!J95","v":5},{"$f":"データ貼付!K95","v":0}]
[95,"中学男子棒高跳5",{"$f":"J98&COUNTIF($J$4:J98,J98)","v":"川島歩結夢1"},{"$f":"データ貼付!D96&データ貼付!E96","v":"中学男子棒高跳"},{"$f":"データ貼付!G96+ROW()/1000000","v":340.00009799999998},5,{"$f":"データ貼付!A96","v":"秋季陸上"},{"$f":"データ貼付!B96","v":"網走"},{"$f":"データ貼付!C96","v":43715},{"$f":"データ貼付!F96","v":"川島歩結夢"},{"$f":"データ貼付!G96","v":340},{"$f":"データ貼付!H96","v":"決"},{"$f":"データ貼付!I96","v":"斜里中"},{"$f":"データ貼付!J96","v":2},{"$f":"データ貼付!K96","v":0}]
[96,"小学女子走高跳13",{"$f":"J99&COUNTIF($J$4:J99,J99)","v":"曽根絢優愛1"},{"$f":"データ貼付!D97&データ貼付!E97","v":"小学女子走高跳"},{"$f":"データ貼付!G97+ROW()/1000000","v":95.000099000000006},13,{"$f":"データ貼付!A97","v":"小学生記録会"},{"$f":"データ貼付!B97","v":"北見"},{"$f":"データ貼付!C97","v":43736},{"$f":"データ貼付!F97","v":"曽根絢優愛"},{"$f":"データ貼付!G97","v":95},{"$f":"データ貼付!H97","v":"決"},{"$f":"データ貼付!I97","v":"美幌RC"},{"$f":"データ貼付!J97","v":5},{"$f":"データ貼付!K97","v":0}]
[97,"共通女子走高跳3",{"$f":"J100&COUNTIF($J$4:J100,J100)","v":"曽根美紅1"},{"$f":"データ貼付!D98&データ貼付!E98","v":"共通女子走高跳"},{"$f":"データ貼付!G98+ROW()/1000000","v":130.0001},3,{"$f":"データ貼付!A98","v":"選手権"},{"$f":"データ貼付!B98","v":"北見"},{"$f":"データ貼付!C98","v":43596},{"$f":"データ貼付!F98","v":"曽根美紅"},{"$f":"データ貼付!G98","v":130},{"$f":"データ貼付!H98","v":"決"},{"$f":"データ貼付!I98","v":"網走南ヶ丘高"},{"$f":"データ貼付!J98","v":1},{"$f":"データ貼付!K98","v":0}]
[98,"小学女子走高跳12",{"$f":"J101&COUNTIF($J$4:J101,J101)","v":"曽根優彩愛1"},{"$f":"データ貼付!D99&データ貼付!E99","v":"小学女子走高跳"},{"$f":"データ貼付!G99+ROW()/1000000","v":95.000101000000001},12,{"$f":"データ貼付!A99","v":"小学生記録会"},{"$f":"データ貼付!B99","v":"北見"},{"$f":"データ貼付!C99","v":43736},{"$f":"データ貼付!F99","v":"曽根優彩愛"},{"$f":"データ貼付!G99","v":95},{"$f":"データ貼付!H99","v":"決"},{"$f":"データ貼付!I99","v":"美幌RC"},{"$f":"データ貼付!J99","v":5},{"$f":"データ貼付!K99","v":0}]
[99,"中学女子走高跳28",{"$f":"J102&COUNTIF($J$4:J102,J102)","v":"相馬夏好1"},{"$f":"データ貼付!D100&データ貼付!E100","v":"中学女子走高跳"},{"$f":"データ貼付!G100+ROW()/1000000","v":115.000102},28,{"$f":"データ貼付!A100","v":"選手権"},{"$f":"データ貼付!B100","v":"北見"},{"$f":"データ貼付!C100","v":43596},{"$f":"データ貼付!F100","v":"相馬夏好"},{"$f":"データ貼付!G100","v":115},{"$f":"データ貼付!H100","v":"決"},{"$f":"データ貼付!I100","v":"北見光西中"},{"$f":"データ貼付!J100","v":1},{"$f":"データ貼付!K100","v":0}]
[100,"小学女子走高跳5",{"$f":"J103&COUNTIF($J$4:J103,J103)","v":"村上晴風1"},{"$f":"データ貼付!D101&データ貼付!E101","v":"小学女子走高跳"},{"$f":"データ貼付!G101+ROW()/1000000","v":110.000103},5,{"$f":"データ貼付!A101","v":"小学生記録会"},{"$f":"データ貼付!B101","v":"北見"},{"$f":"データ貼付!C101","v":43736},{"$f":"データ貼付!F101","v":"村上晴風"},{"$f":"データ貼付!G101","v":110},{"$f":"データ貼付!H101","v":"決"},{"$f":"データ貼付!I101","v":"網走陸上少年団"},{"$f":"データ貼付!J101","v":6},{"$f":"データ貼付!K101","v":0}]
[101,"中学男子走高跳6",{"$f":"J104&COUNTIF($J$4:J104,J104)","v":"大橋侑弥1"},{"$f":"データ貼付!D102&データ貼付!E102","v":"中学男子走高跳"},{"$f":"データ貼付!G102+ROW()/1000000","v":150.00010399999999},6,{"$f":"データ貼付!A102","v":"中学新人"},{"$f":"データ貼付!B102","v":"北見"},{"$f":"データ貼付!C102","v":43701},{"$f":"データ貼付!F102","v":"大橋侑弥"},{"$f":"データ貼付!G102","v":150},{"$f":"データ貼付!H102","v":"決"},{"$f":"データ貼付!I102","v":"網走第一中"},{"$f":"データ貼付!J102","v":2},{"$f":"データ貼付!K102","v":0}]
[102,"小学男子走高跳12",{"$f":"J105&COUNTIF($J$4:J105,J105)","v":"滝口葉1"},{"$f":"データ貼付!D103&データ貼付!E103","v":"小学男子走高跳"},{"$f":"データ貼付!G103+ROW()/1000000","v":110.000105},12,{"$f":"データ貼付!A103","v":"フィールド記録会"},{"$f":"データ貼付!B103","v":"網走"},{"$f":"データ貼付!C103","v":43624},{"$f":"データ貼付!F103","v":"滝口葉"},{"$f":"データ貼付!G103","v":110},{"$f":"データ貼付!H103","v":"決"},{"$f":"データ貼付!I103","v":"ｵﾎｰﾂｸｷｯｽﾞ"},{"$f":"データ貼付!J103","v":6},{"$f":"データ貼付!K103","v":0}]
[103,"共通女子走高跳4",{"$f":"J106&COUNTIF($J$4:J106,J106)","v":"池田葵1"},{"$f":"データ貼付!D104&データ貼付!E104","v":"共通女子走高跳"},{"$f":"データ貼付!G104+ROW()/1000000","v":125.000106},4,{"$f":"データ貼付!A104","v":"記録会第１戦"},{"$f":"データ貼付!B104","v":"北見"},{"$f":"データ貼付!C104","v":43583},{"$f":"データ貼付!F104","v":"池田葵"},{"$f":"データ貼付!G104","v":125},{"$f":"データ貼付!H104","v":"決"},{"$f":"データ貼付!I104","v":"北見小泉中"},{"$f":"データ貼付!J104","v":2},{"$f":"データ貼付!K104","v":0}]
[104,"高校女子走高跳2",{"$f":"J107&COUNTIF($J$4:J107,J107)","v":"池田美梨1"},{"$f":"データ貼付!D105&データ貼付!E105","v":"高校女子走高跳"},{"$f":"データ貼付!G105+ROW()/1000000","v":148.00010700000001},2,{"$f":"データ貼付!A105","v":"高体連支部"},{"$f":"データ貼付!B105","v":"北見"},{"$f":"データ貼付!C105","v":43609},{"$f":"データ貼付!F105","v":"池田美梨"},{"$f":"データ貼付!G105","v":148},{"$f":"データ貼付!H105","v":"決"},{"$f":"データ貼付!I105","v":"紋別高"},{"$f":"データ貼付!J105","v":2},{"$f":"データ貼付!K105","v":0}]
[105,"中学男子走高跳5",{"$f":"J108&COUNTIF($J$4:J108,J108)","v":"竹村璃玖1"},{"$f":"データ貼付!D106&データ貼付!E106","v":"中学男子走高跳"},{"$f":"データ貼付!G106+ROW()/1000000","v":150.00010800000001},5,{"$f":"データ貼付!A106","v":"中学新人"},{"$f":"データ貼付!B106","v":"北見"},{"$f":"データ貼付!C106","v":43701},{"$f":"データ貼付!F106","v":"竹村璃玖"},{"$f":"データ貼付!G106","v":150},{"$f":"データ貼付!H106","v":"決"},{"$f":"データ貼付!I106","v":"北見常呂中"},{"$f":"データ貼付!J106","v":2},{"$f":"データ貼付!K106","v":0}]
[106,"中学男子走高跳18",{"$f":"J109&COUNTIF($J$4:J109,J109)","v":"中井龍之介1"},{"$f":"データ貼付!D107&データ貼付!E107","v":"中学男子走高跳"},{"$f":"データ貼付!G107+ROW()/1000000","v":115.00010899999999},18,{"$f":"データ貼付!A107","v":"地区中体連"},{"$f":"データ貼付!B107","v":"北見"},{"$f":"データ貼付!C107","v":43631},{"$f":"データ貼付!F107","v":"中井龍之介"},{"$f":"データ貼付!G107","v":115},{"$f":"データ貼付!H107","v":"決"},{"$f":"データ貼付!I107","v":"北見高栄中"},{"$f":"データ貼付!J107","v":1},{"$f":"データ貼付!K107","v":0}]
[107,"一般男子走高跳1",{"$f":"J110&COUNTIF($J$4:J110,J110)","v":"中条聡1"},{"$f":"データ貼付!D108&データ貼付!E108","v":"一般男子走高跳"},{"$f":"データ貼付!G108+ROW()/1000000","v":190.00011000000001},1,{"$f":"データ貼付!A108","v":"記録会第１戦"},{"$f":"データ貼付!B108","v":"北見"},{"$f":"データ貼付!C108","v":43583},{"$f":"データ貼付!F108","v":"中条聡"},{"$f":"データ貼付!G108","v":190},{"$f":"データ貼付!H108","v":"決"},{"$f":"データ貼付!I108","v":"東農大ｵﾎｰﾂｸ"},{"$f":"データ貼付!J108","v":"般"},{"$f":"データ貼付!K108","v":0}]
[108,"一般男子走高跳2",{"$f":"J111&COUNTIF($J$4:J111,J111)","v":"中川崇義1"},{"$f":"データ貼付!D109&データ貼付!E109","v":"一般男子走高跳"},{"$f":"データ貼付!G109+ROW()/1000000","v":180.000111},2,{"$f":"データ貼付!A109","v":"道選手権"},{"$f":"データ貼付!B109","v":"網走"},{"$f":"データ貼付!C109","v":"08.11*"},{"$f":"データ貼付!F109","v":"中川崇義"},{"$f":"データ貼付!G109","v":180},{"$f":"データ貼付!H109","v":"決"},{"$f":"データ貼付!I109","v":"オホーツク陸協"},{"$f":"データ貼付!J109","v":0},{"$f":"データ貼付!K109","v":0}]
[109,"小学男子走高跳5",{"$f":"J112&COUNTIF($J$4:J112,J112)","v":"中田隼翔1"},{"$f":"データ貼付!D110&データ貼付!E110","v":"小学男子走高跳"},{"$f":"データ貼付!G110+ROW()/1000000","v":120.000112},5,{"$f":"データ貼付!A110","v":"小学生ｵﾎｰﾂｸ"},{"$f":"データ貼付!B110","v":"北見"},{"$f":"データ貼付!C110","v":43632},{"$f":"データ貼付!F110","v":"中田隼翔"},{"$f":"データ貼付!G110","v":120},{"$f":"データ貼付!H110","v":"決"},{"$f":"データ貼付!I110","v":"ｵﾎｰﾂｸACｼﾞｭﾆｱ"},{"$f":"データ貼付!J110","v":6},{"$f":"データ貼付!K110","v":0}]
[110,"中学男子棒高跳2",{"$f":"J113&COUNTIF($J$4:J113,J113)","v":"中田竜翔1"},{"$f":"データ貼付!D111&データ貼付!E111","v":"中学男子棒高跳"},{"$f":"データ貼付!G111+ROW()/1000000","v":380.000113},2,{"$f":"データ貼付!A111","v":"全道中学"},{"$f":"データ貼付!B111","v":"旭川"},{"$f":"データ貼付!C111","v":43672},{"$f":"データ貼付!F111","v":"中田竜翔"},{"$f":"データ貼付!G111","v":380},{"$f":"データ貼付!H111","v":"予"},{"$f":"データ貼付!I111","v":"網走第一中"},{"$f":"データ貼付!J111","v":3},{"$f":"データ貼付!K111","v":0}]
[111,"中学女子走高跳27",{"$f":"J114&COUNTIF($J$4:J114,J114)","v":"中島瑠菜1"},{"$f":"データ貼付!D112&データ貼付!E112","v":"中学女子走高跳"},{"$f":"データ貼付!G112+ROW()/1000000","v":115.000114},27,{"$f":"データ貼付!A112","v":"選手権"},{"$f":"データ貼付!B112","v":"北見"},{"$f":"データ貼付!C112","v":43597},{"$f":"データ貼付!F112","v":"中島瑠菜"},{"$f":"データ貼付!G112","v":115},{"$f":"データ貼付!H112","v":"決"},{"$f":"データ貼付!I112","v":"北見常呂中"},{"$f":"データ貼付!J112","v":1},{"$f":"データ貼付!K112","v":0}]
[112,"中学男子走高跳11",{"$f":"J115&COUNTIF($J$4:J115,J115)","v":"長島拓希1"},{"$f":"データ貼付!D113&データ貼付!E113","v":"中学男子走高跳"},{"$f":"データ貼付!G113+ROW()/1000000","v":135.00011499999999},11,{"$f":"データ貼付!A113","v":"選手権"},{"$f":"データ貼付!B113","v":"北見"},{"$f":"データ貼付!C113","v":43597},{"$f":"データ貼付!F113","v":"長島拓希"},{"$f":"データ貼付!G113","v":135},{"$f":"データ貼付!H113","v":"決"},{"$f":"データ貼付!I113","v":"美幌北中"},{"$f":"データ貼付!J113","v":2},{"$f":"データ貼付!K113","v":0}]
[113,"中学女子走高跳7",{"$f":"J116&COUNTIF($J$4:J116,J116)","v":"長尾優里愛1"},{"$f":"データ貼付!D114&データ貼付!E114","v":"中学女子走高跳"},{"$f":"データ貼付!G114+ROW()/1000000","v":135.00011599999999},7,{"$f":"データ貼付!A114","v":"中学新人"},{"$f":"データ貼付!B114","v":"北見"},{"$f":"データ貼付!C114","v":43701},{"$f":"データ貼付!F114","v":"長尾優里愛"},{"$f":"データ貼付!G114","v":135},{"$f":"データ貼付!H114","v":"決"},{"$f":"データ貼付!I114","v":"大空東藻琴中"},{"$f":"データ貼付!J114","v":2},{"$f":"データ貼付!K114","v":0}]
[114,"中学男子走高跳14",{"$f":"J117&COUNTIF($J$4:J117,J117)","v":"田村響1"},{"$f":"データ貼付!D115&データ貼付!E115","v":"中学男子走高跳"},{"$f":"データ貼付!G115+ROW()/1000000","v":130.00011699999999},14,{"$f":"データ貼付!A115","v":"秋季陸上"},{"$f":"データ貼付!B115","v":"網走"},{"$f":"データ貼付!C115","v":43715},{"$f":"データ貼付!F115","v":"田村響"},{"$f":"データ貼付!G115","v":130},{"$f":"データ貼付!H115","v":"決"},{"$f":"データ貼付!I115","v":"北見南中"},{"$f":"データ貼付!J115","v":1},{"$f":"データ貼付!K115","v":0}]
[115,"中学男子走高跳10",{"$f":"J118&COUNTIF($J$4:J118,J118)","v":"田中達也1"},{"$f":"データ貼付!D116&データ貼付!E116","v":"中学男子走高跳"},{"$f":"データ貼付!G116+ROW()/1000000","v":135.00011799999999},10,{"$f":"データ貼付!A116","v":"選手権"},{"$f":"データ貼付!B116","v":"北見"},{"$f":"データ貼付!C116","v":43597},{"$f":"データ貼付!F116","v":"田中達也"},{"$f":"データ貼付!G116","v":135},{"$f":"データ貼付!H116","v":"決"},{"$f":"データ貼付!I116","v":"網走第一中"},{"$f":"データ貼付!J116","v":3},{"$f":"データ貼付!K116","v":0}]
[116,"高校男子棒高跳6",{"$f":"J119&COUNTIF($J$4:J119,J119)","v":"渡辺颯1"},{"$f":"データ貼付!D117&データ貼付!E117","v":"高校男子棒高跳"},{"$f":"データ貼付!G117+ROW()/1000000","v":390.00011899999998},6,{"$f":"データ貼付!A117","v":"記録会第１戦"},{"$f":"データ貼付!B117","v":"北見"},{"$f":"データ貼付!C117","v":43583},{"$f":"データ貼付!F117","v":"渡辺颯"},{"$f":"データ貼付!G117","v":390},{"$f":"データ貼付!H117","v":"決"},{"$f":"データ貼付!I117","v":"北見藤高"},{"$f":"データ貼付!J117","v":1},{"$f":"データ貼付!K117","v":0}]
[117,"高校男子走高跳19",{"$f":"J120&COUNTIF($J$4:J120,J120)","v":"土山怜音1"},{"$f":"データ貼付!D118&データ貼付!E118","v":"高校男子走高跳"},{"$f":"データ貼付!G118+ROW()/1000000","v":150.00012000000001},19,{"$f":"データ貼付!A118","v":"高校新人"},{"$f":"データ貼付!B118","v":"北見"},{"$f":"データ貼付!C118","v":43701},{"$f":"データ貼付!F118","v":"土山怜音"},{"$f":"データ貼付!G118","v":150},{"$f":"データ貼付!H118","v":"決"},{"$f":"データ貼付!I118","v":"北見工業高"},{"$f":"データ貼付!J118","v":1},{"$f":"データ貼付!K118","v":0}]
[118,"中学女子走高跳21",{"$f":"J121&COUNTIF($J$4:J121,J121)","v":"嶋田結1"},{"$f":"データ貼付!D119&データ貼付!E119","v":"中学女子走高跳"},{"$f":"データ貼付!G119+ROW()/1000000","v":120.00012099999999},21,{"$f":"データ貼付!A119","v":"選手権"},{"$f":"データ貼付!B119","v":"北見"},{"$f":"データ貼付!C119","v":43596},{"$f":"データ貼付!F119","v":"嶋田結"},{"$f":"データ貼付!G119","v":120},{"$f":"データ貼付!H119","v":"決"},{"$f":"データ貼付!I119","v":"斜里知床ｳﾄﾛ学校"},{"$f":"データ貼付!J119","v":3},{"$f":"データ貼付!K119","v":0}]
[119,"中学女子走高跳29",{"$f":"J122&COUNTIF($J$4:J122,J122)","v":"日根優菜1"},{"$f":"データ貼付!D120&データ貼付!E120","v":"中学女子走高跳"},{"$f":"データ貼付!G120+ROW()/1000000","v":110.000122},29,{"$f":"データ貼付!A120","v":"選手権"},{"$f":"データ貼付!B120","v":"北見"},{"$f":"データ貼付!C120","v":43597},{"$f":"データ貼付!F120","v":"日根優菜"},{"$f":"データ貼付!G120","v":110},{"$f":"データ貼付!H120","v":"決"},{"$f":"データ貼付!I120","v":"網走第四中"},{"$f":"データ貼付!J120","v":2},{"$f":"データ貼付!K120","v":0}]
[120,"中学女子走高跳4",{"$f":"J123&COUNTIF($J$4:J123,J123)","v":"白石光1"},{"$f":"データ貼付!D121&データ貼付!E121","v":"中学女子走高跳"},{"$f":"データ貼付!G121+ROW()/1000000","v":142.000123},4,{"$f":"データ貼付!A121","v":"選手権"},{"$f":"データ貼付!B121","v":"北見"},{"$f":"データ貼付!C121","v":43596},{"$f":"データ貼付!F121","v":"白石光"},{"$f":"データ貼付!G121","v":142},{"$f":"データ貼付!H121","v":"決"},{"$f":"データ貼付!I121","v":"北見光西中"},{"$f":"データ貼付!J121","v":3},{"$f":"データ貼付!K121","v":0}]
[121,"中学男子棒高跳13",{"$f":"J124&COUNTIF($J$4:J124,J124)","v":"飯島空輝1"},{"$f":"データ貼付!D122&データ貼付!E122","v":"中学男子棒高跳"},{"$f":"データ貼付!G122+ROW()/1000000","v":200.000124},13,{"$f":"データ貼付!A122","v":"中学新人"},{"$f":"データ貼付!B122","v":"北見"},{"$f":"データ貼付!C122","v":43701},{"$f":"データ貼付!F122","v":"飯島空輝"},{"$f":"データ貼付!G122","v":200},{"$f":"データ貼付!H122","v":"決"},{"$f":"データ貼付!I122","v":"北見北中"},{"$f":"データ貼付!J122","v":1},{"$f":"データ貼付!K122","v":0}]
[122,"小学女子走高跳2",{"$f":"J125&COUNTIF($J$4:J125,J125)","v":"布目友理1"},{"$f":"データ貼付!D123&データ貼付!E123","v":"小学女子走高跳"},{"$f":"データ貼付!G123+ROW()/1000000","v":120.000125},2,{"$f":"データ貼付!A123","v":"小学生記録会"},{"$f":"データ貼付!B123","v":"北見"},{"$f":"データ貼付!C123","v":43736},{"$f":"データ貼付!F123","v":"布目友理"},{"$f":"データ貼付!G123","v":120},{"$f":"データ貼付!H123","v":"決"},{"$f":"データ貼付!I123","v":"留辺蘂JSC"},{"$f":"データ貼付!J123","v":5},{"$f":"データ貼付!K123","v":0}]
[123,"中学女子走高跳20",{"$f":"J126&COUNTIF($J$4:J126,J126)","v":"服部茜1"},{"$f":"データ貼付!D124&データ貼付!E124","v":"中学女子走高跳"},{"$f":"データ貼付!G124+ROW()/1000000","v":120.00012599999999},20,{"$f":"データ貼付!A124","v":"選手権"},{"$f":"データ貼付!B124","v":"北見"},{"$f":"データ貼付!C124","v":43597},{"$f":"データ貼付!F124","v":"服部茜"},{"$f":"データ貼付!G124","v":120},{"$f":"データ貼付!H124","v":"決"},{"$f":"データ貼付!I124","v":"大空女満別中"},{"$f":"データ貼付!J124","v":1},{"$f":"データ貼付!K124","v":0}]
[124,"小学女子走高跳11",{"$f":"J127&COUNTIF($J$4:J127,J127)","v":"福井花歩1"},{"$f":"データ貼付!D125&データ貼付!E125","v":"小学女子走高跳"},{"$f":"データ貼付!G125+ROW()/1000000","v":95.000127000000006},11,{"$f":"データ貼付!A125","v":"小学生ｵﾎｰﾂｸ"},{"$f":"データ貼付!B125","v":"北見"},{"$f":"データ貼付!C125","v":43632},{"$f":"データ貼付!F125","v":"福井花歩"},{"$f":"データ貼付!G125","v":95},{"$f":"データ貼付!H125","v":"決"},{"$f":"データ貼付!I125","v":"ｵﾎｰﾂｸｷｯｽﾞ"},{"$f":"データ貼付!J125","v":5},{"$f":"データ貼付!K125","v":0}]
[125,"中学男子棒高跳6",{"$f":"J128&COUNTIF($J$4:J128,J128)","v":"福田悠介1"},{"$f":"データ貼付!D126&データ貼付!E126","v":"中学男子棒高跳"},{"$f":"データ貼付!G126+ROW()/1000000","v":320.00012800000002},6,{"$f":"データ貼付!A126","v":"全道中学新人"},{"$f":"データ貼付!B126","v":"千歳"},{"$f":"データ貼付!C126","v":43729},{"$f":"データ貼付!F126","v":"福田悠介"},{"$f":"データ貼付!G126","v":320},{"$f":"データ貼付!H126","v":"決"},{"$f":"データ貼付!I126","v":"網走第一"},{"$f":"データ貼付!J126","v":2},{"$f":"データ貼付!K126","v":0}]
[126,"小学男子走高跳11",{"$f":"J129&COUNTIF($J$4:J129,J129)","v":"福田涼介1"},{"$f":"データ貼付!D127&データ貼付!E127","v":"小学男子走高跳"},{"$f":"データ貼付!G127+ROW()/1000000","v":110.000129},11,{"$f":"データ貼付!A127","v":"フィールド記録会"},{"$f":"データ貼付!B127","v":"網走"},{"$f":"データ貼付!C127","v":43624},{"$f":"データ貼付!F127","v":"福田涼介"},{"$f":"データ貼付!G127","v":110},{"$f":"データ貼付!H127","v":"決"},{"$f":"データ貼付!I127","v":"ｵﾎｰﾂｸACｼﾞｭﾆｱ"},{"$f":"データ貼付!J127","v":6},{"$f":"データ貼付!K127","v":0}]
[127,"高校男子走高跳12",{"$f":"J130&COUNTIF($J$4:J130,J130)","v":"平吹鷹也1"},{"$f":"データ貼付!D128&データ貼付!E128","v":"高校男子走高跳"},{"$f":"データ貼付!G128+ROW()/1000000","v":165.00013000000001},12,{"$f":"データ貼付!A128","v":"選手権"},{"$f":"データ貼付!B128","v":"北見"},{"$f":"データ貼付!C128","v":43597},{"$f":"データ貼付!F128","v":"平吹鷹也"},{"$f":"データ貼付!G128","v":165},{"$f":"データ貼付!H128","v":"決"},{"$f":"データ貼付!I128","v":"北見柏陽高"},{"$f":"データ貼付!J128","v":3},{"$f":"データ貼付!K128","v":0}]
[128,"共通女子走高跳1",{"$f":"J131&COUNTIF($J$4:J131,J131)","v":"平吹侑里1"},{"$f":"データ貼付!D129&データ貼付!E129","v":"共通女子走高跳"},{"$f":"データ貼付!G129+ROW()/1000000","v":135.00013100000001},1,{"$f":"データ貼付!A129","v":"選手権"},{"$f":"データ貼付!B129","v":"北見"},{"$f":"データ貼付!C129","v":43596},{"$f":"データ貼付!F129","v":"平吹侑里"},{"$f":"データ貼付!G129","v":135},{"$f":"データ貼付!H129","v":"決"},{"$f":"データ貼付!I129","v":"美幌高"},{"$f":"データ貼付!J129","v":1},{"$f":"データ貼付!K129","v":0}]
[129,"小学男子走高跳4",{"$f":"J132&COUNTIF($J$4:J132,J132)","v":"豊原隆介1"},{"$f":"データ貼付!D130&データ貼付!E130","v":"小学男子走高跳"},{"$f":"データ貼付!G130+ROW()/1000000","v":120.00013199999999},4,{"$f":"データ貼付!A130","v":"小学生ｵﾎｰﾂｸ"},{"$f":"データ貼付!B130","v":"北見"},{"$f":"データ貼付!C130","v":43632},{"$f":"データ貼付!F130","v":"豊原隆介"},{"$f":"データ貼付!G130","v":120},{"$f":"データ貼付!H130","v":"決"},{"$f":"データ貼付!I130","v":"ｵﾎｰﾂｸｷｯｽﾞ"},{"$f":"データ貼付!J130","v":6},{"$f":"データ貼付!K130","v":0}]
[130,{"$f":"D133&F133","v":"中学女子走高跳19"},{"$f":"J133&COUNTIF($J$4:J133,J133)","v":"北村菜絵1"},{"$f":"データ貼付!D131&データ貼付!E131","v":"中学女子走高跳"},{"$f":"データ貼付!G131+ROW()/1000000","v":120.00013300000001},{"$f":"SUMPRODUCT(($D$4:$D$200=D133)*($E$4:$E$200>E133))+1","v":19},{"$f":"データ貼付!A131","v":"記録会４戦"},{"$f":"データ貼付!B131","v":"北見"},{"$f":"データ貼付!C131","v":43681},{"$f":"データ貼付!F131","v":"北村菜絵"},{"$f":"データ貼付!G131","v":120},{"$f":"データ貼付!H131","v":"決"},{"$f":"データ貼付!I131","v":"置戸中"},{"$f":"データ貼付!J131","v":3},{"$f":"データ貼付!K131","v":0}]
[131,"小学男子走高跳10",{"$f":"J134&COUNTIF($J$4:J134,J134)","v":"堀澤仁景1"},{"$f":"データ貼付!D132&データ貼付!E132","v":"小学男子走高跳"},{"$f":"データ貼付!G132+ROW()/1000000","v":110.000134},10,{"$f":"データ貼付!A132","v":"小学生ｵﾎｰﾂｸ"},{"$f":"データ貼付!B132","v":"北見"},{"$f":"データ貼付!C132","v":43632},{"$f":"データ貼付!F132","v":"堀澤仁景"},{"$f":"データ貼付!G132","v":110},{"$f":"データ貼付!H132","v":"決"},{"$f":"データ貼付!I132","v":"ｵﾎｰﾂｸｷｯｽﾞ"},{"$f":"データ貼付!J132","v":6},{"$f":"データ貼付!K132","v":0}]
[132,"小学女子走高跳4",{"$f":"J135&COUNTIF($J$4:J135,J135)","v":"木山瑞希1"},{"$f":"データ貼付!D133&データ貼付!E133","v":"小学女子走高跳"},{"$f":"データ貼付!G133+ROW()/1000000","v":110.000135},4,{"$f":"データ貼付!A133","v":"フィールド記録会"},{"$f":"データ貼付!B133","v":"網走"},{"$f":"データ貼付!C133","v":43624},{"$f":"データ貼付!F133","v":"木山瑞希"},{"$f":"データ貼付!G133","v":110},{"$f":"データ貼付!H133","v":"決"},{"$f":"データ貼付!I133","v":"知床斜里RC"},{"$f":"データ貼付!J133","v":5},{"$f":"データ貼付!K133","v":0}]
[133,"高校女子走高跳5",{"$f":"J136&COUNTIF($J$4:J136,J136)","v":"木村美月1"},{"$f":"データ貼付!D134&データ貼付!E134","v":"高校女子走高跳"},{"$f":"データ貼付!G134+ROW()/1000000","v":135.000136},5,{"$f":"データ貼付!A134","v":"高体連支部"},{"$f":"データ貼付!B134","v":"北見"},{"$f":"データ貼付!C134","v":43609},{"$f":"データ貼付!F134","v":"木村美月"},{"$f":"データ貼付!G134","v":135},{"$f":"データ貼付!H134","v":"決"},{"$f":"データ貼付!I134","v":"北見商業高"},{"$f":"データ貼付!J134","v":3},{"$f":"データ貼付!K134","v":0}]
[134,"高校男子走高跳18",{"$f":"J137&COUNTIF($J$4:J137,J137)","v":"野崎竜矢1"},{"$f":"データ貼付!D135&データ貼付!E135","v":"高校男子走高跳"},{"$f":"データ貼付!G135+ROW()/1000000","v":150.000137},18,{"$f":"データ貼付!A135","v":"高校新人"},{"$f":"データ貼付!B135","v":"北見"},{"$f":"データ貼付!C135","v":43701},{"$f":"データ貼付!F135","v":"野崎竜矢"},{"$f":"データ貼付!G135","v":150},{"$f":"データ貼付!H135","v":"決"},{"$f":"データ貼付!I135","v":"網走南ヶ丘高"},{"$f":"データ貼付!J135","v":1},{"$f":"データ貼付!K135","v":0}]
[135,"一般男子棒高跳1",{"$f":"J138&COUNTIF($J$4:J138,J138)","v":"油屋圭吾1"},{"$f":"データ貼付!D136&データ貼付!E136","v":"一般男子棒高跳"},{"$f":"データ貼付!G136+ROW()/1000000","v":480.00013799999999},1,{"$f":"データ貼付!A136","v":"道選手権"},{"$f":"データ貼付!B136","v":"網走"},{"$f":"データ貼付!C136","v":"08.10*"},{"$f":"データ貼付!F136","v":"油屋圭吾"},{"$f":"データ貼付!G136","v":480},{"$f":"データ貼付!H136","v":"決"},{"$f":"データ貼付!I136","v":"順天堂大"},{"$f":"データ貼付!J136","v":2},{"$f":"データ貼付!K136","v":0}]
[136,"高校女子棒高跳3",{"$f":"J139&COUNTIF($J$4:J139,J139)","v":"林ちひろ1"},{"$f":"データ貼付!D137&データ貼付!E137","v":"高校女子棒高跳"},{"$f":"データ貼付!G137+ROW()/1000000","v":270.00013899999999},3,{"$f":"データ貼付!A137","v":"高校新人"},{"$f":"データ貼付!B137","v":"北見"},{"$f":"データ貼付!C137","v":43701},{"$f":"データ貼付!F137","v":"林ちひろ"},{"$f":"データ貼付!G137","v":270},{"$f":"データ貼付!H137","v":"決"},{"$f":"データ貼付!I137","v":"北見緑陵高"},{"$f":"データ貼付!J137","v":1},{"$f":"データ貼付!K137","v":0}]
[137,"中学女子走高跳16",{"$f":"J140&COUNTIF($J$4:J140,J140)","v":"林梢幸1"},{"$f":"データ貼付!D138&データ貼付!E138","v":"中学女子走高跳"},{"$f":"データ貼付!G138+ROW()/1000000","v":125.00014},16,{"$f":"データ貼付!A138","v":"フィールド記録会"},{"$f":"データ貼付!B138","v":"網走"},{"$f":"データ貼付!C138","v":43624},{"$f":"データ貼付!F138","v":"林梢幸"},{"$f":"データ貼付!G138","v":125},{"$f":"データ貼付!H138","v":"決"},{"$f":"データ貼付!I138","v":"網走第四中"},{"$f":"データ貼付!J138","v":2},{"$f":"データ貼付!K138","v":0}]
[138,"中学男子走高跳17",{"$f":"J141&COUNTIF($J$4:J141,J141)","v":"鈴木昂英1"},{"$f":"データ貼付!D139&データ貼付!E139","v":"中学男子走高跳"},{"$f":"データ貼付!G139+ROW()/1000000","v":120.000141},17,{"$f":"データ貼付!A139","v":"地区中体連"},{"$f":"データ貼付!B139","v":"北見"},{"$f":"データ貼付!C139","v":43631},{"$f":"データ貼付!F139","v":"鈴木昂英"},{"$f":"データ貼付!G139","v":120},{"$f":"データ貼付!H139","v":"決"},{"$f":"データ貼付!I139","v":"北見高栄中"},{"$f":"データ貼付!J139","v":1},{"$f":"データ貼付!K139","v":0}]
[139,"中学男子走高跳4",{"$f":"J142&COUNTIF($J$4:J142,J142)","v":"崔宰原1"},{"$f":"データ貼付!D140&データ貼付!E140","v":"中学男子走高跳"},{"$f":"データ貼付!G140+ROW()/1000000","v":150.00014200000001},4,{"$f":"データ貼付!A140","v":"中学新人"},{"$f":"データ貼付!B140","v":"北見"},{"$f":"データ貼付!C140","v":43701},{"$f":"データ貼付!F140","v":"崔宰原"},{"$f":"データ貼付!G140","v":150},{"$f":"データ貼付!H140","v":"決"},{"$f":"データ貼付!I140","v":"北見南中"},{"$f":"データ貼付!J140","v":1},{"$f":"データ貼付!K140","v":0}]
[140,"高校男子走高跳7",{"$f":"J143&COUNTIF($J$4:J143,J143)","v":"廣瀨慧来1"},{"$f":"データ貼付!D141&データ貼付!E141","v":"高校男子走高跳"},{"$f":"データ貼付!G141+ROW()/1000000","v":168.00014300000001},7,{"$f":"データ貼付!A141","v":"高体連支部"},{"$f":"データ貼付!B141","v":"北見"},{"$f":"データ貼付!C141","v":43609},{"$f":"データ貼付!F141","v":"廣瀨慧来"},{"$f":"データ貼付!G141","v":168},{"$f":"データ貼付!H141","v":"決"},{"$f":"データ貼付!I141","v":"網走南ヶ丘高"},{"$f":"データ貼付!J141","v":3},{"$f":"データ貼付!K141","v":0}]
[141,"高校男子棒高跳1",{"$f":"J144&COUNTIF($J$4:J144,J144)","v":"廣瀨慧来2"},{"$f":"データ貼付!D142&データ貼付!E142","v":"高校男子棒高跳"},{"$f":"データ貼付!G142+ROW()/1000000","v":440.00014399999998},1,{"$f":"データ貼付!A142","v":"全道高校"},{"$f":"データ貼付!B142","v":"帯広"},{"$f":"データ貼付!C142","v":" 6/19"},{"$f":"データ貼付!F142","v":"廣瀨慧来"},{"$f":"データ貼付!G142","v":440},{"$f":"データ貼付!H142","v":"決"},{"$f":"データ貼付!I142","v":"網走南ヶ丘高"},{"$f":"データ貼付!J142","v":3},{"$f":"データ貼付!K142","v":0}]
[142,"中学女子走高跳6",{"$f":"J145&COUNTIF($J$4:J145,J145)","v":"澤向美樹1"},{"$f":"データ貼付!D143&データ貼付!E143","v":"中学女子走高跳"},{"$f":"データ貼付!G143+ROW()/1000000","v":135.000145},6,{"$f":"データ貼付!A143","v":"中学新人"},{"$f":"データ貼付!B143","v":"北見"},{"$f":"データ貼付!C143","v":43701},{"$f":"データ貼付!F143","v":"澤向美樹"},{"$f":"データ貼付!G143","v":135},{"$f":"データ貼付!H143","v":"決"},{"$f":"データ貼付!I143","v":"北見常呂中"},{"$f":"データ貼付!J143","v":1},{"$f":"データ貼付!K143","v":0}]
[143,"中学男子走高跳3",{"$f":"J146&COUNTIF($J$4:J146,J146)","v":"萬龍来1"},{"$f":"データ貼付!D144&データ貼付!E144","v":"中学男子走高跳"},{"$f":"データ貼付!G144+ROW()/1000000","v":150.000146},3,{"$f":"データ貼付!A144","v":"中学新人"},{"$f":"データ貼付!B144","v":"北見"},{"$f":"データ貼付!C144","v":43701},{"$f":"データ貼付!F144","v":"萬龍来"},{"$f":"データ貼付!G144","v":150},{"$f":"データ貼付!H144","v":"決"},{"$f":"データ貼付!I144","v":"網走第一中"},{"$f":"データ貼付!J144","v":2},{"$f":"データ貼付!K144","v":0}]
[144,"中学女子走高跳11",{"$f":"J147&COUNTIF($J$4:J147,J147)","v":"髙橋愛結1"},{"$f":"データ貼付!D145&データ貼付!E145","v":"中学女子走高跳"},{"$f":"データ貼付!G145+ROW()/1000000","v":130.000147},11,{"$f":"データ貼付!A145","v":"秋季陸上"},{"$f":"データ貼付!B145","v":"網走"},{"$f":"データ貼付!C145","v":43716},{"$f":"データ貼付!F145","v":"髙橋愛結"},{"$f":"データ貼付!G145","v":130},{"$f":"データ貼付!H145","v":"決"},{"$f":"データ貼付!I145","v":"北見小泉中"},{"$f":"データ貼付!J145","v":2},{"$f":"データ貼付!K145","v":0}]
[145,"小学男子走高跳1",{"$f":"J148&COUNTIF($J$4:J148,J148)","v":"髙橋依1"},{"$f":"データ貼付!D146&データ貼付!E146","v":"小学男子走高跳"},{"$f":"データ貼付!G146+ROW()/1000000","v":125.000148},1,{"$f":"データ貼付!A146","v":"小学生ｵﾎｰﾂｸ"},{"$f":"データ貼付!B146","v":"北見"},{"$f":"データ貼付!C146","v":43632},{"$f":"データ貼付!F146","v":"髙橋依"},{"$f":"データ貼付!G146","v":125},{"$f":"データ貼付!H146","v":"決"},{"$f":"データ貼付!I146","v":"美幌RC"},{"$f":"データ貼付!J146","v":6},{"$f":"データ貼付!K146","v":0}]
[146,"小学女子走高跳6",{"$f":"J149&COUNTIF($J$4:J149,J149)","v":"髙橋碧衣1"},{"$f":"データ貼付!D147&データ貼付!E147","v":"小学女子走高跳"},{"$f":"データ貼付!G147+ROW()/1000000","v":105.00014899999999},6,{"$f":"データ貼付!A147","v":"選手権"},{"$f":"データ貼付!B147","v":"北見"},{"$f":"データ貼付!C147","v":43596},{"$f":"データ貼付!F147","v":"髙橋碧衣"},{"$f":"データ貼付!G147","v":105},{"$f":"データ貼付!H147","v":"決"},{"$f":"データ貼付!I147","v":"常呂陸上少年団"},{"$f":"データ貼付!J147","v":5},{"$f":"データ貼付!K147","v":0}]
[147,"高校男子走高跳11",{"$f":"J150&COUNTIF($J$4:J150,J150)","v":"髙橋悠希1"},{"$f":"データ貼付!D148&データ貼付!E148","v":"高校男子走高跳"},{"$f":"データ貼付!G148+ROW()/1000000","v":165.00014999999999},11,{"$f":"データ貼付!A148","v":"記録会第１戦"},{"$f":"データ貼付!B148","v":"北見"},{"$f":"データ貼付!C148","v":43583},{"$f":"データ貼付!F148","v":"髙橋悠希"},{"$f":"データ貼付!G148","v":165},{"$f":"データ貼付!H148","v":"決"},{"$f":"データ貼付!I148","v":"北見北斗高"},{"$f":"データ貼付!J148","v":2},{"$f":"データ貼付!K148","v":0}]
[148,"50",{"$f":"J151&COUNTIF($J$4:J151,J151)","v":"01"},{"$f":"データ貼付!D149&データ貼付!E149","v":""},{"$f":"データ貼付!G149+ROW()/1000000","v":1.5100000000000001E-4},50,{"$f":"データ貼付!A149","v":0},{"$f":"データ貼付!B149","v":0},{"$f":"データ貼付!C149","v":0},{"$f":"データ貼付!F149","v":0},{"$f":"データ貼付!G149","v":0},{"$f":"データ貼付!H149","v":0},{"$f":"データ貼付!I149","v":0},{"$f":"データ貼付!J149","v":0},{"$f":"データ貼付!K149","v":0}]
[149,"49",{"$f":"J152&COUNTIF($J$4:J152,J152)","v":"02"},{"$f":"データ貼付!D150&データ貼付!E150","v":""},{"$f":"データ貼付!G150+ROW()/1000000","v":1.5200000000000001E-4},49,{"$f":"データ貼付!A150","v":0},{"$f":"データ貼付!B150","v":0},{"$f":"データ貼付!C150","v":0},{"$f":"データ貼付!F150","v":0},{"$f":"データ貼付!G150","v":0},{"$f":"データ貼付!H150","v":0},{"$f":"データ貼付!I150","v":0},{"$f":"データ貼付!J150","v":0},{"$f":"データ貼付!K150","v":0}]
[150,"48",{"$f":"J153&COUNTIF($J$4:J153,J153)","v":"03"},{"$f":"データ貼付!D151&データ貼付!E151","v":""},{"$f":"データ貼付!G151+ROW()/1000000","v":1.5300000000000001E-4},48,{"$f":"データ貼付!A151","v":0},{"$f":"データ貼付!B151","v":0},{"$f":"データ貼付!C151","v":0},{"$f":"データ貼付!F151","v":0},{"$f":"データ貼付!G151","v":0},{"$f":"データ貼付!H151","v":0},{"$f":"データ貼付!I151","v":0},{"$f":"データ貼付!J151","v":0},{"$f":"データ貼付!K151","v":0}]
[151,"47",{"$f":"J154&COUNTIF($J$4:J154,J154)","v":"04"},{"$f":"データ貼付!D152&データ貼付!E152","v":""},{"$f":"データ貼付!G152+ROW()/1000000","v":1.54E-4},47,{"$f":"データ貼付!A152","v":0},{"$f":"データ貼付!B152","v":0},{"$f":"データ貼付!C152","v":0},{"$f":"データ貼付!F152","v":0},{"$f":"データ貼付!G152","v":0},{"$f":"データ貼付!H152","v":0},{"$f":"データ貼付!I152","v":0},{"$f":"データ貼付!J152","v":0},{"$f":"データ貼付!K152","v":0}]
[152,"46",{"$f":"J155&COUNTIF($J$4:J155,J155)","v":"05"},{"$f":"データ貼付!D153&データ貼付!E153","v":""},{"$f":"データ貼付!G153+ROW()/1000000","v":1.55E-4},46,{"$f":"データ貼付!A153","v":0},{"$f":"データ貼付!B153","v":0},{"$f":"データ貼付!C153","v":0},{"$f":"データ貼付!F153","v":0},{"$f":"データ貼付!G153","v":0},{"$f":"データ貼付!H153","v":0},{"$f":"データ貼付!I153","v":0},{"$f":"データ貼付!J153","v":0},{"$f":"データ貼付!K153","v":0}]
[153,"45",{"$f":"J156&COUNTIF($J$4:J156,J156)","v":"06"},{"$f":"データ貼付!D154&データ貼付!E154","v":""},{"$f":"データ貼付!G154+ROW()/1000000","v":1.56E-4},45,{"$f":"データ貼付!A154","v":0},{"$f":"データ貼付!B154","v":0},{"$f":"データ貼付!C154","v":0},{"$f":"データ貼付!F154","v":0},{"$f":"データ貼付!G154","v":0},{"$f":"データ貼付!H154","v":0},{"$f":"データ貼付!I154","v":0},{"$f":"データ貼付!J154","v":0},{"$f":"データ貼付!K154","v":0}]
[154,"44",{"$f":"J157&COUNTIF($J$4:J157,J157)","v":"07"},{"$f":"データ貼付!D155&データ貼付!E155","v":""},{"$f":"データ貼付!G155+ROW()/1000000","v":1.5699999999999999E-4},44,{"$f":"データ貼付!A155","v":0},{"$f":"データ貼付!B155","v":0},{"$f":"データ貼付!C155","v":0},{"$f":"データ貼付!F155","v":0},{"$f":"データ貼付!G155","v":0},{"$f":"データ貼付!H155","v":0},{"$f":"データ貼付!I155","v":0},{"$f":"データ貼付!J155","v":0},{"$f":"データ貼付!K155","v":0}]
[155,"43",{"$f":"J158&COUNTIF($J$4:J158,J158)","v":"08"},{"$f":"データ貼付!D156&データ貼付!E156","v":""},{"$f":"データ貼付!G156+ROW()/1000000","v":1.5799999999999999E-4},43,{"$f":"データ貼付!A156","v":0},{"$f":"データ貼付!B156","v":0},{"$f":"データ貼付!C156","v":0},{"$f":"データ貼付!F156","v":0},{"$f":"データ貼付!G156","v":0},{"$f":"データ貼付!H156","v":0},{"$f":"データ貼付!I156","v":0},{"$f":"データ貼付!J156","v":0},{"$f":"データ貼付!K156","v":0}]
[156,"42",{"$f":"J159&COUNTIF($J$4:J159,J159)","v":"09"},{"$f":"データ貼付!D157&データ貼付!E157","v":""},{"$f":"データ貼付!G157+ROW()/1000000","v":1.5899999999999999E-4},42,{"$f":"データ貼付!A157","v":0},{"$f":"データ貼付!B157","v":0},{"$f":"データ貼付!C157","v":0},{"$f":"データ貼付!F157","v":0},{"$f":"データ貼付!G157","v":0},{"$f":"データ貼付!H157","v":0},{"$f":"データ貼付!I157","v":0},{"$f":"データ貼付!J157","v":0},{"$f":"データ貼付!K157","v":0}]
[157,"41",{"$f":"J160&COUNTIF($J$4:J160,J160)","v":"010"},{"$f":"データ貼付!D158&データ貼付!E158","v":""},{"$f":"データ貼付!G158+ROW()/1000000","v":1.6000000000000001E-4},41,{"$f":"データ貼付!A158","v":0},{"$f":"データ貼付!B158","v":0},{"$f":"データ貼付!C158","v":0},{"$f":"データ貼付!F158","v":0},{"$f":"データ貼付!G158","v":0},{"$f":"データ貼付!H158","v":0},{"$f":"データ貼付!I158","v":0},{"$f":"データ貼付!J158","v":0},{"$f":"データ貼付!K158","v":0}]
[158,"40",{"$f":"J161&COUNTIF($J$4:J161,J161)","v":"011"},{"$f":"データ貼付!D159&データ貼付!E159","v":""},{"$f":"データ貼付!G159+ROW()/1000000","v":1.6100000000000001E-4},40,{"$f":"データ貼付!A159","v":0},{"$f":"データ貼付!B159","v":0},{"$f":"データ貼付!C159","v":0},{"$f":"データ貼付!F159","v":0},{"$f":"データ貼付!G159","v":0},{"$f":"データ貼付!H159","v":0},{"$f":"データ貼付!I159","v":0},{"$f":"データ貼付!J159","v":0},{"$f":"データ貼付!K159","v":0}]
[159,"39",{"$f":"J162&COUNTIF($J$4:J162,J162)","v":"012"},{"$f":"データ貼付!D160&データ貼付!E160","v":""},{"$f":"データ貼付!G160+ROW()/1000000","v":1.6200000000000001E-4},39,{"$f":"データ貼付!A160","v":0},{"$f":"データ貼付!B160","v":0},{"$f":"データ貼付!C160","v":0},{"$f":"データ貼付!F160","v":0},{"$f":"データ貼付!G160","v":0},{"$f":"データ貼付!H160","v":0},{"$f":"データ貼付!I160","v":0},{"$f":"データ貼付!J160","v":0},{"$f":"データ貼付!K160","v":0}]
[160,"38",{"$f":"J163&COUNTIF($J$4:J163,J163)","v":"013"},{"$f":"データ貼付!D161&データ貼付!E161","v":""},{"$f":"データ貼付!G161+ROW()/1000000","v":1.63E-4},38,{"$f":"データ貼付!A161","v":0},{"$f":"データ貼付!B161","v":0},{"$f":"データ貼付!C161","v":0},{"$f":"データ貼付!F161","v":0},{"$f":"データ貼付!G161","v":0},{"$f":"データ貼付!H161","v":0},{"$f":"データ貼付!I161","v":0},{"$f":"データ貼付!J161","v":0},{"$f":"データ貼付!K161","v":0}]
[161,"37",{"$f":"J164&COUNTIF($J$4:J164,J164)","v":"014"},{"$f":"データ貼付!D162&データ貼付!E162","v":""},{"$f":"データ貼付!G162+ROW()/1000000","v":1.64E-4},37,{"$f":"データ貼付!A162","v":0},{"$f":"データ貼付!B162","v":0},{"$f":"データ貼付!C162","v":0},{"$f":"データ貼付!F162","v":0},{"$f":"データ貼付!G162","v":0},{"$f":"データ貼付!H162","v":0},{"$f":"データ貼付!I162","v":0},{"$f":"データ貼付!J162","v":0},{"$f":"データ貼付!K162","v":0}]
[162,"36",{"$f":"J165&COUNTIF($J$4:J165,J165)","v":"015"},{"$f":"データ貼付!D163&データ貼付!E163","v":""},{"$f":"データ貼付!G163+ROW()/1000000","v":1.65E-4},36,{"$f":"データ貼付!A163","v":0},{"$f":"データ貼付!B163","v":0},{"$f":"データ貼付!C163","v":0},{"$f":"データ貼付!F163","v":0},{"$f":"データ貼付!G163","v":0},{"$f":"データ貼付!H163","v":0},{"$f":"データ貼付!I163","v":0},{"$f":"データ貼付!J163","v":0},{"$f":"データ貼付!K163","v":0}]
[163,"35",{"$f":"J166&COUNTIF($J$4:J166,J166)","v":"016"},{"$f":"データ貼付!D164&データ貼付!E164","v":""},{"$f":"データ貼付!G164+ROW()/1000000","v":1.66E-4},35,{"$f":"データ貼付!A164","v":0},{"$f":"データ貼付!B164","v":0},{"$f":"データ貼付!C164","v":0},{"$f":"データ貼付!F164","v":0},{"$f":"データ貼付!G164","v":0},{"$f":"データ貼付!H164","v":0},{"$f":"データ貼付!I164","v":0},{"$f":"データ貼付!J164","v":0},{"$f":"データ貼付!K164","v":0}]
[164,"34",{"$f":"J167&COUNTIF($J$4:J167,J167)","v":"017"},{"$f":"データ貼付!D165&データ貼付!E165","v":""},{"$f":"データ貼付!G165+ROW()/1000000","v":1.6699999999999999E-4},34,{"$f":"データ貼付!A165","v":0},{"$f":"データ貼付!B165","v":0},{"$f":"データ貼付!C165","v":0},{"$f":"データ貼付!F165","v":0},{"$f":"データ貼付!G165","v":0},{"$f":"データ貼付!H165","v":0},{"$f":"データ貼付!I165","v":0},{"$f":"データ貼付!J165","v":0},{"$f":"データ貼付!K165","v":0}]
[165,"33",{"$f":"J168&COUNTIF($J$4:J168,J168)","v":"018"},{"$f":"データ貼付!D166&データ貼付!E166","v":""},{"$f":"データ貼付!G166+ROW()/1000000","v":1.6799999999999999E-4},33,{"$f":"データ貼付!A166","v":0},{"$f":"データ貼付!B166","v":0},{"$f":"データ貼付!C166","v":0},{"$f":"データ貼付!F166","v":0},{"$f":"データ貼付!G166","v":0},{"$f":"データ貼付!H166","v":0},{"$f":"データ貼付!I166","v":0},{"$f":"データ貼付!J166","v":0},{"$f":"データ貼付!K166","v":0}]
[166,"32",{"$f":"J169&COUNTIF($J$4:J169,J169)","v":"019"},{"$f":"データ貼付!D167&データ貼付!E167","v":""},{"$f":"データ貼付!G167+ROW()/1000000","v":1.6899999999999999E-4},32,{"$f":"データ貼付!A167","v":0},{"$f":"データ貼付!B167","v":0},{"$f":"データ貼付!C167","v":0},{"$f":"データ貼付!F167","v":0},{"$f":"データ貼付!G167","v":0},{"$f":"データ貼付!H167","v":0},{"$f":"データ貼付!I167","v":0},{"$f":"データ貼付!J167","v":0},{"$f":"データ貼付!K167","v":0}]
[167,"31",{"$f":"J170&COUNTIF($J$4:J170,J170)","v":"020"},{"$f":"データ貼付!D168&データ貼付!E168","v":""},{"$f":"データ貼付!G168+ROW()/1000000","v":1.7000000000000001E-4},31,{"$f":"データ貼付!A168","v":0},{"$f":"データ貼付!B168","v":0},{"$f":"データ貼付!C168","v":0},{"$f":"データ貼付!F168","v":0},{"$f":"データ貼付!G168","v":0},{"$f":"データ貼付!H168","v":0},{"$f":"データ貼付!I168","v":0},{"$f":"データ貼付!J168","v":0},{"$f":"データ貼付!K168","v":0}]
[168,"30",{"$f":"J171&COUNTIF($J$4:J171,J171)","v":"021"},{"$f":"データ貼付!D169&データ貼付!E169","v":""},{"$f":"データ貼付!G169+ROW()/1000000","v":1.7100000000000001E-4},30,{"$f":"データ貼付!A169","v":0},{"$f":"データ貼付!B169","v":0},{"$f":"データ貼付!C169","v":0},{"$f":"データ貼付!F169","v":0},{"$f":"データ貼付!G169","v":0},{"$f":"データ貼付!H169","v":0},{"$f":"データ貼付!I169","v":0},{"$f":"データ貼付!J169","v":0},{"$f":"データ貼付!K169","v":0}]
[169,"29",{"$f":"J172&COUNTIF($J$4:J172,J172)","v":"022"},{"$f":"データ貼付!D170&データ貼付!E170","v":""},{"$f":"データ貼付!G170+ROW()/1000000","v":1.7200000000000001E-4},29,{"$f":"データ貼付!A170","v":0},{"$f":"データ貼付!B170","v":0},{"$f":"データ貼付!C170","v":0},{"$f":"データ貼付!F170","v":0},{"$f":"データ貼付!G170","v":0},{"$f":"データ貼付!H170","v":0},{"$f":"データ貼付!I170","v":0},{"$f":"データ貼付!J170","v":0},{"$f":"データ貼付!K170","v":0}]
[170,"28",{"$f":"J173&COUNTIF($J$4:J173,J173)","v":"023"},{"$f":"データ貼付!D171&データ貼付!E171","v":""},{"$f":"データ貼付!G171+ROW()/1000000","v":1.73E-4},28,{"$f":"データ貼付!A171","v":0},{"$f":"データ貼付!B171","v":0},{"$f":"データ貼付!C171","v":0},{"$f":"データ貼付!F171","v":0},{"$f":"データ貼付!G171","v":0},{"$f":"データ貼付!H171","v":0},{"$f":"データ貼付!I171","v":0},{"$f":"データ貼付!J171","v":0},{"$f":"データ貼付!K171","v":0}]
[171,"27",{"$f":"J174&COUNTIF($J$4:J174,J174)","v":"024"},{"$f":"データ貼付!D172&データ貼付!E172","v":""},{"$f":"データ貼付!G172+ROW()/1000000","v":1.74E-4},27,{"$f":"データ貼付!A172","v":0},{"$f":"データ貼付!B172","v":0},{"$f":"データ貼付!C172","v":0},{"$f":"データ貼付!F172","v":0},{"$f":"データ貼付!G172","v":0},{"$f":"データ貼付!H172","v":0},{"$f":"データ貼付!I172","v":0},{"$f":"データ貼付!J172","v":0},{"$f":"データ貼付!K172","v":0}]
[172,"26",{"$f":"J175&COUNTIF($J$4:J175,J175)","v":"025"},{"$f":"データ貼付!D173&データ貼付!E173","v":""},{"$f":"データ貼付!G173+ROW()/1000000","v":1.75E-4},26,{"$f":"データ貼付!A173","v":0},{"$f":"データ貼付!B173","v":0},{"$f":"データ貼付!C173","v":0},{"$f":"データ貼付!F173","v":0},{"$f":"データ貼付!G173","v":0},{"$f":"データ貼付!H173","v":0},{"$f":"データ貼付!I173","v":0},{"$f":"データ貼付!J173","v":0},{"$f":"データ貼付!K173","v":0}]
[173,"25",{"$f":"J176&COUNTIF($J$4:J176,J176)","v":"026"},{"$f":"データ貼付!D174&データ貼付!E174","v":""},{"$f":"データ貼付!G174+ROW()/1000000","v":1.76E-4},25,{"$f":"データ貼付!A174","v":0},{"$f":"データ貼付!B174","v":0},{"$f":"データ貼付!C174","v":0},{"$f":"データ貼付!F174","v":0},{"$f":"データ貼付!G174","v":0},{"$f":"データ貼付!H174","v":0},{"$f":"データ貼付!I174","v":0},{"$f":"データ貼付!J174","v":0},{"$f":"データ貼付!K174","v":0}]
[174,"24",{"$f":"J177&COUNTIF($J$4:J177,J177)","v":"027"},{"$f":"データ貼付!D175&データ貼付!E175","v":""},{"$f":"データ貼付!G175+ROW()/1000000","v":1.7699999999999999E-4},24,{"$f":"データ貼付!A175","v":0},{"$f":"データ貼付!B175","v":0},{"$f":"データ貼付!C175","v":0},{"$f":"データ貼付!F175","v":0},{"$f":"データ貼付!G175","v":0},{"$f":"データ貼付!H175","v":0},{"$f":"データ貼付!I175","v":0},{"$f":"データ貼付!J175","v":0},{"$f":"データ貼付!K175","v":0}]
[175,"23",{"$f":"J178&COUNTIF($J$4:J178,J178)","v":"028"},{"$f":"データ貼付!D176&データ貼付!E176","v":""},{"$f":"データ貼付!G176+ROW()/1000000","v":1.7799999999999999E-4},23,{"$f":"データ貼付!A176","v":0},{"$f":"データ貼付!B176","v":0},{"$f":"データ貼付!C176","v":0},{"$f":"データ貼付!F176","v":0},{"$f":"データ貼付!G176","v":0},{"$f":"データ貼付!H176","v":0},{"$f":"データ貼付!I176","v":0},{"$f":"データ貼付!J176","v":0},{"$f":"データ貼付!K176","v":0}]
[176,"22",{"$f":"J179&COUNTIF($J$4:J179,J179)","v":"029"},{"$f":"データ貼付!D177&データ貼付!E177","v":""},{"$f":"データ貼付!G177+ROW()/1000000","v":1.7899999999999999E-4},22,{"$f":"データ貼付!A177","v":0},{"$f":"データ貼付!B177","v":0},{"$f":"データ貼付!C177","v":0},{"$f":"データ貼付!F177","v":0},{"$f":"データ貼付!G177","v":0},{"$f":"データ貼付!H177","v":0},{"$f":"データ貼付!I177","v":0},{"$f":"データ貼付!J177","v":0},{"$f":"データ貼付!K177","v":0}]
[177,"21",{"$f":"J180&COUNTIF($J$4:J180,J180)","v":"030"},{"$f":"データ貼付!D178&データ貼付!E178","v":""},{"$f":"データ貼付!G178+ROW()/1000000","v":1.8000000000000001E-4},21,{"$f":"データ貼付!A178","v":0},{"$f":"データ貼付!B178","v":0},{"$f":"データ貼付!C178","v":0},{"$f":"データ貼付!F178","v":0},{"$f":"データ貼付!G178","v":0},{"$f":"データ貼付!H178","v":0},{"$f":"データ貼付!I178","v":0},{"$f":"データ貼付!J178","v":0},{"$f":"データ貼付!K178","v":0}]
[178,"20",{"$f":"J181&COUNTIF($J$4:J181,J181)","v":"031"},{"$f":"データ貼付!D179&データ貼付!E179","v":""},{"$f":"データ貼付!G179+ROW()/1000000","v":1.8100000000000001E-4},20,{"$f":"データ貼付!A179","v":0},{"$f":"データ貼付!B179","v":0},{"$f":"データ貼付!C179","v":0},{"$f":"データ貼付!F179","v":0},{"$f":"データ貼付!G179","v":0},{"$f":"データ貼付!H179","v":0},{"$f":"データ貼付!I179","v":0},{"$f":"データ貼付!J179","v":0},{"$f":"データ貼付!K179","v":0}]
[179,"19",{"$f":"J182&COUNTIF($J$4:J182,J182)","v":"032"},{"$f":"データ貼付!D180&データ貼付!E180","v":""},{"$f":"データ貼付!G180+ROW()/1000000","v":1.8200000000000001E-4},19,{"$f":"データ貼付!A180","v":0},{"$f":"データ貼付!B180","v":0},{"$f":"データ貼付!C180","v":0},{"$f":"データ貼付!F180","v":0},{"$f":"データ貼付!G180","v":0},{"$f":"データ貼付!H180","v":0},{"$f":"データ貼付!I180","v":0},{"$f":"データ貼付!J180","v":0},{"$f":"データ貼付!K180","v":0}]
[180,"18",{"$f":"J183&COUNTIF($J$4:J183,J183)","v":"033"},{"$f":"データ貼付!D181&データ貼付!E181","v":""},{"$f":"データ貼付!G181+ROW()/1000000","v":1.83E-4},18,{"$f":"データ貼付!A181","v":0},{"$f":"データ貼付!B181","v":0},{"$f":"データ貼付!C181","v":0},{"$f":"データ貼付!F181","v":0},{"$f":"データ貼付!G181","v":0},{"$f":"データ貼付!H181","v":0},{"$f":"データ貼付!I181","v":0},{"$f":"データ貼付!J181","v":0},{"$f":"データ貼付!K181","v":0}]
[181,"17",{"$f":"J184&COUNTIF($J$4:J184,J184)","v":"034"},{"$f":"データ貼付!D182&データ貼付!E182","v":""},{"$f":"データ貼付!G182+ROW()/1000000","v":1.84E-4},17,{"$f":"データ貼付!A182","v":0},{"$f":"データ貼付!B182","v":0},{"$f":"データ貼付!C182","v":0},{"$f":"データ貼付!F182","v":0},{"$f":"データ貼付!G182","v":0},{"$f":"データ貼付!H182","v":0},{"$f":"データ貼付!I182","v":0},{"$f":"データ貼付!J182","v":0},{"$f":"データ貼付!K182","v":0}]
[182,"16",{"$f":"J185&COUNTIF($J$4:J185,J185)","v":"035"},{"$f":"データ貼付!D183&データ貼付!E183","v":""},{"$f":"データ貼付!G183+ROW()/1000000","v":1.85E-4},16,{"$f":"データ貼付!A183","v":0},{"$f":"データ貼付!B183","v":0},{"$f":"データ貼付!C183","v":0},{"$f":"データ貼付!F183","v":0},{"$f":"データ貼付!G183","v":0},{"$f":"データ貼付!H183","v":0},{"$f":"データ貼付!I183","v":0},{"$f":"データ貼付!J183","v":0},{"$f":"データ貼付!K183","v":0}]
[183,"15",{"$f":"J186&COUNTIF($J$4:J186,J186)","v":"036"},{"$f":"データ貼付!D184&データ貼付!E184","v":""},{"$f":"データ貼付!G184+ROW()/1000000","v":1.8599999999999999E-4},15,{"$f":"データ貼付!A184","v":0},{"$f":"データ貼付!B184","v":0},{"$f":"データ貼付!C184","v":0},{"$f":"データ貼付!F184","v":0},{"$f":"データ貼付!G184","v":0},{"$f":"データ貼付!H184","v":0},{"$f":"データ貼付!I184","v":0},{"$f":"データ貼付!J184","v":0},{"$f":"データ貼付!K184","v":0}]
[184,"14",{"$f":"J187&COUNTIF($J$4:J187,J187)","v":"037"},{"$f":"データ貼付!D185&データ貼付!E185","v":""},{"$f":"データ貼付!G185+ROW()/1000000","v":1.8699999999999999E-4},14,{"$f":"データ貼付!A185","v":0},{"$f":"データ貼付!B185","v":0},{"$f":"データ貼付!C185","v":0},{"$f":"データ貼付!F185","v":0},{"$f":"データ貼付!G185","v":0},{"$f":"データ貼付!H185","v":0},{"$f":"データ貼付!I185","v":0},{"$f":"データ貼付!J185","v":0},{"$f":"データ貼付!K185","v":0}]
[185,"13",{"$f":"J188&COUNTIF($J$4:J188,J188)","v":"038"},{"$f":"データ貼付!D186&データ貼付!E186","v":""},{"$f":"データ貼付!G186+ROW()/1000000","v":1.8799999999999999E-4},13,{"$f":"データ貼付!A186","v":0},{"$f":"データ貼付!B186","v":0},{"$f":"データ貼付!C186","v":0},{"$f":"データ貼付!F186","v":0},{"$f":"データ貼付!G186","v":0},{"$f":"データ貼付!H186","v":0},{"$f":"データ貼付!I186","v":0},{"$f":"データ貼付!J186","v":0},{"$f":"データ貼付!K186","v":0}]
[186,"12",{"$f":"J189&COUNTIF($J$4:J189,J189)","v":"039"},{"$f":"データ貼付!D187&データ貼付!E187","v":""},{"$f":"データ貼付!G187+ROW()/1000000","v":1.8900000000000001E-4},12,{"$f":"データ貼付!A187","v":0},{"$f":"データ貼付!B187","v":0},{"$f":"データ貼付!C187","v":0},{"$f":"データ貼付!F187","v":0},{"$f":"データ貼付!G187","v":0},{"$f":"データ貼付!H187","v":0},{"$f":"データ貼付!I187","v":0},{"$f":"データ貼付!J187","v":0},{"$f":"データ貼付!K187","v":0}]
[187,"11",{"$f":"J190&COUNTIF($J$4:J190,J190)","v":"040"},{"$f":"データ貼付!D188&データ貼付!E188","v":""},{"$f":"データ貼付!G188+ROW()/1000000","v":1.9000000000000001E-4},11,{"$f":"データ貼付!A188","v":0},{"$f":"データ貼付!B188","v":0},{"$f":"データ貼付!C188","v":0},{"$f":"データ貼付!F188","v":0},{"$f":"データ貼付!G188","v":0},{"$f":"データ貼付!H188","v":0},{"$f":"データ貼付!I188","v":0},{"$f":"データ貼付!J188","v":0},{"$f":"データ貼付!K188","v":0}]
[188,"10",{"$f":"J191&COUNTIF($J$4:J191,J191)","v":"041"},{"$f":"データ貼付!D189&データ貼付!E189","v":""},{"$f":"データ貼付!G189+ROW()/1000000","v":1.9100000000000001E-4},10,{"$f":"データ貼付!A189","v":0},{"$f":"データ貼付!B189","v":0},{"$f":"データ貼付!C189","v":0},{"$f":"データ貼付!F189","v":0},{"$f":"データ貼付!G189","v":0},{"$f":"データ貼付!H189","v":0},{"$f":"データ貼付!I189","v":0},{"$f":"データ貼付!J189","v":0},{"$f":"データ貼付!K189","v":0}]
[189,"9",{"$f":"J192&COUNTIF($J$4:J192,J192)","v":"042"},{"$f":"データ貼付!D190&データ貼付!E190","v":""},{"$f":"データ貼付!G190+ROW()/1000000","v":1.92E-4},9,{"$f":"データ貼付!A190","v":0},{"$f":"データ貼付!B190","v":0},{"$f":"データ貼付!C190","v":0},{"$f":"データ貼付!F190","v":0},{"$f":"データ貼付!G190","v":0},{"$f":"データ貼付!H190","v":0},{"$f":"データ貼付!I190","v":0},{"$f":"データ貼付!J190","v":0},{"$f":"データ貼付!K190","v":0}]
[190,"8",{"$f":"J193&COUNTIF($J$4:J193,J193)","v":"043"},{"$f":"データ貼付!D191&データ貼付!E191","v":""},{"$f":"データ貼付!G191+ROW()/1000000","v":1.93E-4},8,{"$f":"データ貼付!A191","v":0},{"$f":"データ貼付!B191","v":0},{"$f":"データ貼付!C191","v":0},{"$f":"データ貼付!F191","v":0},{"$f":"データ貼付!G191","v":0},{"$f":"データ貼付!H191","v":0},{"$f":"データ貼付!I191","v":0},{"$f":"データ貼付!J191","v":0},{"$f":"データ貼付!K191","v":0}]
[191,"7",{"$f":"J194&COUNTIF($J$4:J194,J194)","v":"044"},{"$f":"データ貼付!D192&データ貼付!E192","v":""},{"$f":"データ貼付!G192+ROW()/1000000","v":1.94E-4},7,{"$f":"データ貼付!A192","v":0},{"$f":"データ貼付!B192","v":0},{"$f":"データ貼付!C192","v":0},{"$f":"データ貼付!F192","v":0},{"$f":"データ貼付!G192","v":0},{"$f":"データ貼付!H192","v":0},{"$f":"データ貼付!I192","v":0},{"$f":"データ貼付!J192","v":0},{"$f":"データ貼付!K192","v":0}]
[192,"6",{"$f":"J195&COUNTIF($J$4:J195,J195)","v":"045"},{"$f":"データ貼付!D193&データ貼付!E193","v":""},{"$f":"データ貼付!G193+ROW()/1000000","v":1.95E-4},6,{"$f":"データ貼付!A193","v":0},{"$f":"データ貼付!B193","v":0},{"$f":"データ貼付!C193","v":0},{"$f":"データ貼付!F193","v":0},{"$f":"データ貼付!G193","v":0},{"$f":"データ貼付!H193","v":0},{"$f":"データ貼付!I193","v":0},{"$f":"データ貼付!J193","v":0},{"$f":"データ貼付!K193","v":0}]
[193,"5",{"$f":"J196&COUNTIF($J$4:J196,J196)","v":"046"},{"$f":"データ貼付!D194&データ貼付!E194","v":""},{"$f":"データ貼付!G194+ROW()/1000000","v":1.9599999999999999E-4},5,{"$f":"データ貼付!A194","v":0},{"$f":"データ貼付!B194","v":0},{"$f":"データ貼付!C194","v":0},{"$f":"データ貼付!F194","v":0},{"$f":"データ貼付!G194","v":0},{"$f":"データ貼付!H194","v":0},{"$f":"データ貼付!I194","v":0},{"$f":"データ貼付!J194","v":0},{"$f":"データ貼付!K194","v":0}]
[194,{"$f":"D197&F197","v":"4"},{"$f":"J197&COUNTIF($J$4:J197,J197)","v":"047"},{"$f":"データ貼付!D195&データ貼付!E195","v":""},{"$f":"データ貼付!G195+ROW()/1000000","v":1.9699999999999999E-4},{"$f":"SUMPRODUCT(($D$4:$D$200=D197)*($E$4:$E$200>E197))+1","v":4},{"$f":"データ貼付!A195","v":0},{"$f":"データ貼付!B195","v":0},{"$f":"データ貼付!C195","v":0},{"$f":"データ貼付!F195","v":0},{"$f":"データ貼付!G195","v":0},{"$f":"データ貼付!H195","v":0},{"$f":"データ貼付!I195","v":0},{"$f":"データ貼付!J195","v":0},{"$f":"データ貼付!K195","v":0}]
[195,"3",{"$f":"J198&COUNTIF($J$4:J198,J198)","v":"048"},{"$f":"データ貼付!D196&データ貼付!E196","v":""},{"$f":"データ貼付!G196+ROW()/1000000","v":1.9799999999999999E-4},3,{"$f":"データ貼付!A196","v":0},{"$f":"データ貼付!B196","v":0},{"$f":"データ貼付!C196","v":0},{"$f":"データ貼付!F196","v":0},{"$f":"データ貼付!G196","v":0},{"$f":"データ貼付!H196","v":0},{"$f":"データ貼付!I196","v":0},{"$f":"データ貼付!J196","v":0},{"$f":"データ貼付!K196","v":0}]
[196,"2",{"$f":"J199&COUNTIF($J$4:J199,J199)","v":"049"},{"$f":"データ貼付!D197&データ貼付!E197","v":""},{"$f":"データ貼付!G197+ROW()/1000000","v":1.9900000000000001E-4},2,{"$f":"データ貼付!A197","v":0},{"$f":"データ貼付!B197","v":0},{"$f":"データ貼付!C197","v":0},{"$f":"データ貼付!F197","v":0},{"$f":"データ貼付!G197","v":0},{"$f":"データ貼付!H197","v":0},{"$f":"データ貼付!I197","v":0},{"$f":"データ貼付!J197","v":0},{"$f":"データ貼付!K197","v":0}]
[197,"1",{"$f":"J200&COUNTIF($J$4:J200,J200)","v":"050"},{"$f":"データ貼付!D198&データ貼付!E198","v":""},{"$f":"データ貼付!G198+ROW()/1000000","v":2.0000000000000001E-4},1,{"$f":"データ貼付!A198","v":0},{"$f":"データ貼付!B198","v":0},{"$f":"データ貼付!C198","v":0},{"$f":"データ貼付!F198","v":0},{"$f":"データ貼付!G198","v":0},{"$f":"データ貼付!H198","v":0},{"$f":"データ貼付!I198","v":0},{"$f":"データ貼付!J198","v":0},{"$f":"データ貼付!K198","v":0}]
["@","@","@","@","@","@","@","@",null,"@","@","@","@","@","@","@","@","@","@","@","@","@","@","@","@","@","@","@","@","@","@","@","@","@","@","@","@","@","@","@","@","@","@","@","@","@","@","@","@","@","@","@","@","@","@","@","@","@","@","@"]
[null,null,null,{"$f":"データ貼付!D19152&データ貼付!C19152","v":""}]
[null,null,null,{"$f":"データ貼付!D19153&データ貼付!C19153","v":""}]
[null,null,null,{"$f":"データ貼付!D19154&データ貼付!C19154","v":""}]
[null,null,null,{"$f":"データ貼付!D19155&データ貼付!C19155","v":""}]
[null,null,null,{"$f":"データ貼付!D19156&データ貼付!C19156","v":""}]
[null,null,null,{"$f":"データ貼付!D19157&データ貼付!C19157","v":""}]
[null,null,null,{"$f":"データ貼付!D19158&データ貼付!C19158","v":""}]
[null,null,null,{"$f":"データ貼付!D19159&データ貼付!C19159","v":""}]
[null,null,null,{"$f":"データ貼付!D19160&データ貼付!C19160","v":""}]
[null,null,null,{"$f":"データ貼付!D19161&データ貼付!C19161","v":""}]
[null,null,null,{"$f":"データ貼付!D19162&データ貼付!C19162","v":""}]
[null,null,null,{"$f":"データ貼付!D19163&データ貼付!C19163","v":""}]
[null,null,null,{"$f":"データ貼付!D19164&データ貼付!C19164","v":""}]
[null,null,null,{"$f":"データ貼付!D19165&データ貼付!C19165","v":""}]
[null,null,null,{"$f":"データ貼付!D19166&データ貼付!C19166","v":""}]
[null,null,null,{"$f":"データ貼付!D19167&データ貼付!C19167","v":""}]
[null,null,null,{"$f":"データ貼付!D19168&データ貼付!C19168","v":""}]
[null,null,null,{"$f":"データ貼付!D19169&データ貼付!C19169","v":""}]
[null,null,null,{"$f":"データ貼付!D19170&データ貼付!C19170","v":""}]
[null,null,null,{"$f":"データ貼付!D19171&データ貼付!C19171","v":""}]
[null,null,null,{"$f":"データ貼付!D19172&データ貼付!C19172","v":""}]
[null,null,null,{"$f":"データ貼付!D19173&データ貼付!C19173","v":""}]
[null,null,null,{"$f":"データ貼付!D19174&データ貼付!C19174","v":""}]
[null,null,null,{"$f":"データ貼付!D19175&データ貼付!C19175","v":""}]
[null,null,null,{"$f":"データ貼付!D19176&データ貼付!C19176","v":""}]
[null,null,null,{"$f":"データ貼付!D19177&データ貼付!C19177","v":""}]
[null,null,null,{"$f":"データ貼付!D19178&データ貼付!C19178","v":""}]
[null,null,null,{"$f":"データ貼付!D19179&データ貼付!C19179","v":""}]
[null,null,null,{"$f":"データ貼付!D19180&データ貼付!C19180","v":""}]
[null,null,null,{"$f":"データ貼付!D19181&データ貼付!C19181","v":""}]
[null,null,null,{"$f":"データ貼付!D19182&データ貼付!C19182","v":""}]
[null,null,null,{"$f":"データ貼付!D19183&データ貼付!C19183","v":""}]
[null,null,null,{"$f":"データ貼付!D19184&データ貼付!C19184","v":""}]
[null,null,null,{"$f":"データ貼付!D19185&データ貼付!C19185","v":""}]
[null,null,null,{"$f":"データ貼付!D19186&データ貼付!C19186","v":""}]
[null,null,null,{"$f":"データ貼付!D19187&データ貼付!C19187","v":""}]
[null,null,null,{"$f":"データ貼付!D19188&データ貼付!C19188","v":""}]
[null,null,null,{"$f":"データ貼付!D19189&データ貼付!C19189","v":""}]
[null,null,null,{"$f":"データ貼付!D19190&データ貼付!C19190","v":""}]
[null,null,null,{"$f":"データ貼付!D19191&データ貼付!C19191","v":""}]
[null,null,null,{"$f":"データ貼付!D19192&データ貼付!C19192","v":""}]
[null,null,null,{"$f":"データ貼付!D19193&データ貼付!C19193","v":""}]
[null,null,null,{"$f":"データ貼付!D19194&データ貼付!C19194","v":""}]
[null,null,null,{"$f":"データ貼付!D19195&データ貼付!C19195","v":""}]
[null,null,null,{"$f":"データ貼付!D19196&データ貼付!C19196","v":""}]
[null,null,null,{"$f":"データ貼付!D19197&データ貼付!C19197","v":""}]
[null,null,null,{"$f":"データ貼付!D19198&データ貼付!C19198","v":""}]
[null,null,null,{"$f":"データ貼付!D19199&データ貼付!C19199","v":""}]
[null,null,null,{"$f":"データ貼付!D19200&データ貼付!C19200","v":""}]
[null,null,null,{"$f":"データ貼付!D19201&データ貼付!C19201","v":""}]
[null,null,null,{"$f":"データ貼付!D19202&データ貼付!C19202","v":""}]
[null,null,null,{"$f":"データ貼付!D19203&データ貼付!C19203","v":""}]
[null,null,null,{"$f":"データ貼付!D19204&データ貼付!C19204","v":""}]
[null,null,null,{"$f":"データ貼付!D19205&データ貼付!C19205","v":""}]
[null,null,null,{"$f":"データ貼付!D19206&データ貼付!C19206","v":""}]
[null,null,null,{"$f":"データ貼付!D19207&データ貼付!C19207","v":""}]
[null,null,null,{"$f":"データ貼付!D19208&データ貼付!C19208","v":""}]
[null,null,null,{"$f":"データ貼付!D19209&データ貼付!C19209","v":""}]
[null,null,null,{"$f":"データ貼付!D19210&データ貼付!C19210","v":""}]
[null,null,null,{"$f":"データ貼付!D19211&データ貼付!C19211","v":""}]
[null,null,null,{"$f":"データ貼付!D19212&データ貼付!C19212","v":""}]
[null,null,null,{"$f":"データ貼付!D19213&データ貼付!C19213","v":""}]
[null,null,null,{"$f":"データ貼付!D19214&データ貼付!C19214","v":""}]
[null,null,null,{"$f":"データ貼付!D19215&データ貼付!C19215","v":""}]
[null,null,null,{"$f":"データ貼付!D19216&データ貼付!C19216","v":""}]
[null,null,null,{"$f":"データ貼付!D19217&データ貼付!C19217","v":""}]
[null,null,null,{"$f":"データ貼付!D19218&データ貼付!C19218","v":""}]
[null,null,null,{"$f":"データ貼付!D19219&データ貼付!C19219","v":""}]
[null,null,null,{"$f":"データ貼付!D19220&データ貼付!C19220","v":""}]
[null,null,null,{"$f":"データ貼付!D19221&データ貼付!C19221","v":""}]
[null,null,null,{"$f":"データ貼付!D19222&データ貼付!C19222","v":""}]
[null,null,null,{"$f":"データ貼付!D19223&データ貼付!C19223","v":""}]
[null,null,null,{"$f":"データ貼付!D19224&データ貼付!C19224","v":""}]
[null,null,null,{"$f":"データ貼付!D19225&データ貼付!C19225","v":""}]
[null,null,null,{"$f":"データ貼付!D19226&データ貼付!C19226","v":""}]
[null,null,null,{"$f":"データ貼付!D19227&データ貼付!C19227","v":""}]
[null,null,null,{"$f":"データ貼付!D19228&データ貼付!C19228","v":""}]
[null,null,null,{"$f":"データ貼付!D19229&データ貼付!C19229","v":""}]
[null,null,null,{"$f":"データ貼付!D19230&データ貼付!C19230","v":""}]
[null,null,null,{"$f":"データ貼付!D19231&データ貼付!C19231","v":""}]
[null,null,null,{"$f":"データ貼付!D19232&データ貼付!C19232","v":""}]
[null,null,null,{"$f":"データ貼付!D19233&データ貼付!C19233","v":""}]
[null,null,null,{"$f":"データ貼付!D19234&データ貼付!C19234","v":""}]
[null,null,null,{"$f":"データ貼付!D19235&データ貼付!C19235","v":""}]
[null,null,null,{"$f":"データ貼付!D19236&データ貼付!C19236","v":""}]
[null,null,null,{"$f":"データ貼付!D19237&データ貼付!C19237","v":""}]
[null,null,null,{"$f":"データ貼付!D19238&データ貼付!C19238","v":""}]
[null,null,null,{"$f":"データ貼付!D19239&データ貼付!C19239","v":""}]
[null,null,null,{"$f":"データ貼付!D19240&データ貼付!C19240","v":""}]
[null,null,null,{"$f":"データ貼付!D19241&データ貼付!C19241","v":""}]
[null,null,null,{"$f":"データ貼付!D19242&データ貼付!C19242","v":""}]
[null,null,null,{"$f":"データ貼付!D19243&データ貼付!C19243","v":""}]
[null,null,null,{"$f":"データ貼付!D19244&データ貼付!C19244","v":""}]
[null,null,null,{"$f":"データ貼付!D19245&データ貼付!C19245","v":""}]
[null,null,null,{"$f":"データ貼付!D19246&データ貼付!C19246","v":""}]
[null,null,null,{"$f":"データ貼付!D19247&データ貼付!C19247","v":""}]
[null,null,null,{"$f":"データ貼付!D19248&データ貼付!C19248","v":""}]
[null,null,null,{"$f":"データ貼付!D19249&データ貼付!C19249","v":""}]
[null,null,null,{"$f":"データ貼付!D19250&データ貼付!C19250","v":""}]
[null,null,null,{"$f":"データ貼付!D19251&データ貼付!C19251","v":""}]
[null,null,null,{"$f":"データ貼付!D19252&データ貼付!C19252","v":""}]
[null,null,null,{"$f":"データ貼付!D19253&データ貼付!C19253","v":""}]
[null,null,null,{"$f":"データ貼付!D19254&データ貼付!C19254","v":""}]
[null,null,null,{"$f":"データ貼付!D19255&データ貼付!C19255","v":""}]

{"sheet":"Sheet2","index":3,"n_rows":0,"n_cols":0,"rows_kept":0,"cut":false,"hidden":true,"merged":[]}

{"sheet":"Sheet3","index":4,"n_rows":0,"n_cols":0,"rows_kept":0,"cut":false,"hidden":true,"merged":[]}

{"sheet":"Sheet4","index":5,"n_rows":0,"n_cols":0,"rows_kept":0,"cut":false,"hidden":true,"merged":[]}

{"sheet":"Sheet5","index":6,"n_rows":0,"n_cols":0,"rows_kept":0,"cut":false,"hidden":true,"merged":[]}

{"sheet":"Sheet6","index":7,"n_rows":18,"n_cols":3,"rows_kept":18,"cut":false,"hidden":true,"merged":[]}
[null,null,"60m"]
[null,null,"100m"]
[null,null,"200m"]
[null,null,"300m"]
[null,null,"400m"]
[null,null,"800m"]
[null,null,"1000m"]
[null,null,"1500m"]
[null,null,"3000m"]
[null,null,"5000m"]
[null,null,"80mH"]
[null,null,"100mH"]
[null,null,"110mH"]
[null,null,"100mYH"]
[null,null,"110mJH"]
[null,null,"400mH"]
[null,null,"3000mSC"]
[null,null,"5000mW"]

{"sheet":"Sheet1","index":8,"n_rows":0,"n_cols":0,"rows_kept":0,"cut":false,"hidden":true,"merged":[]}