{"text_format":"1","workbook":"xlsx","n_sheets":9,"sheets":["入力表","混成様式（高男八）","混成様式（女七）","混成様式（中男四）","混成様式（中女四）","申込確認","申込確認シート","●貼付（事務局）","①初期設定"],"not_rendered":{"charts":0,"images":0,"macros":1,"external_links":1,"defined_names":208,"comments":1,"pivot_tables":0},"unopened":[],"bounds":{"document_bytes":16777216,"sheet_cells":100000,"rows_first":2000,"rows_last":500,"rows_between":2000,"halvings":0,"cell_chars":16384,"cell_head_chars":4096},"cells_cut":0,"cells_raw":0,"read":"whole","date_system":"1900"}

{"sheet":"入力表","index":0,"n_rows":64,"n_cols":144,"rows_kept":64,"cut":false,"hidden":false,"merged":[[9,36,10,39],[9,32,10,35],[9,29,10,31],[9,25,10,28],[9,45,10,57],[10,122,12,122],[10,124,12,124],[10,126,12,126],[5,54,5,57],[6,43,6,46],[6,47,6,49],[6,50,6,53],[6,54,6,57],[7,43,7,46],[7,47,7,49],[7,50,7,53],[7,54,7,57],[3,41,7,42],[3,43,4,46],[3,47,4,49],[3,50,4,53],[3,54,4,57],[5,43,5,46],[5,47,5,49],[5,50,5,53],[4,59,5,80],[7,59,7,80],[10,74,10,80],[9,74,9,80],[8,74,8,80],[10,59,10,66],[9,59,9,66],[8,59,8,66],[10,67,10,73],[9,67,9,73],[8,67,8,73],[18,7,18,8],[25,9,25,12],[24,9,24,12],[25,26,25,29],[24,26,24,29],[23,26,23,29],[22,26,22,29],[14,13,14,19],[15,13,15,19],[16,13,16,19],[18,9,18,12],[14,9,14,12],[15,9,15,12],[16,9,16,12],[17,9,17,12],[25,20,25,25],[20,13,20,19],[21,13,21,19],[18,20,18,25],[22,13,22,19],[17,13,17,19],[18,13,18,19],[22,7,22,8],[23,7,23,8],[0,0,1,23],[3,4,4,6],[3,11,4,21],[5,13,6,21],[13,7,13,8],[14,7,14,8],[15,7,15,8],[16,7,16,8],[17,7,17,8],[13,9,13,12],[3,23,7,24],[13,20,13,25],[14,20,14,25],[15,20,15,25],[16,20,16,25],[17,20,17,25],[9,2,10,6],[9,7,10,9],[9,10,10,21],[9,0,10,1],[5,0,6,3],[3,7,4,10],[3,0,4,3],[5,4,6,12],[13,26,13,29],[14,26,14,29],[15,26,15,29],[16,26,16,29],[17,26,17,29],[18,26,18,29],[0,24,1,33],[0,34,1,38],[0,59,0,80],[1,59,1,62],[1,70,1,73],[2,59,2,62],[2,70,2,73],[3,59,3,62],[3,70,3,73],[0,43,1,57],[0,39,1,42],[3,25,4,28],[3,29,4,31],[3,32,4,35],[3,36,4,39],[9,41,10,44],[13,61,13,66],[17,33,17,38],[7,0,8,3],[7,4,8,12],[7,13,8,21],[5,25,5,28],[5,29,5,31],[5,32,5,35],[5,36,5,39],[6,25,6,28],[6,29,6,31],[6,32,6,35],[6,36,6,39],[7,25,7,28],[7,29,7,31],[7,32,7,35],[7,36,7,39],[52,47,52,52],[42,47,42,52],[43,47,43,52],[44,47,44,52],[45,47,45,52],[46,47,46,52],[47,47,47,52],[36,47,36,52],[37,47,37,52],[38,47,38,52],[39,47,39,52],[40,47,40,52],[41,47,41,52],[50,47,50,52],[51,47,51,52],[49,61,49,66],[19,61,19,66],[20,61,20,66],[21,61,21,66],[22,61,22,66],[23,61,23,66],[24,61,24,66],[32,47,32,52],[33,47,33,52],[34,47,34,52],[35,47,35,52],[24,47,24,52],[25,47,25,52],[26,47,26,52],[27,47,27,52],[28,47,28,52],[29,47,29,52],[48,47,48,52],[49,47,49,52],[30,47,30,52],[31,47,31,52],[25,61,25,66],[33,61,33,66],[36,61,36,66],[52,61,52,66],[46,61,46,66],[47,61,47,66],[48,61,48,66],[50,61,50,66],[51,61,51,66],[35,61,35,66],[12,47,12,52],[13,47,13,52],[14,47,14,52],[15,47,15,52],[16,47,16,52],[17,47,17,52],[43,61,43,66],[44,61,44,66],[45,61,45,66],[37,61,37,66],[38,61,38,66],[39,61,39,66],[40,61,40,66],[41,61,41,66],[42,61,42,66],[31,61,31,66],[23,47,23,52],[18,33,18,38],[19,33,19,38],[20,33,20,38],[21,33,21,38],[22,33,22,38],[23,33,23,38],[24,33,24,38],[25,33,25,38],[34,61,34,66],[26,61,26,66],[27,61,27,66],[28,61,28,66],[29,61,29,66],[30,61,30,66],[32,61,32,66],[26,33,26,38],[27,33,27,38],[28,33,28,38],[37,33,37,38],[38,33,38,38],[39,33,39,38],[40,33,40,38],[29,33,29,38],[30,33,30,38],[31,33,31,38],[32,33,32,38],[33,33,33,38],[34,33,34,38],[35,33,35,38],[36,33,36,38],[50,33,50,38],[51,33,51,38],[52,33,52,38],[41,33,41,38],[42,33,42,38],[43,33,43,38],[44,33,44,38],[45,33,45,38],[46,33,46,38],[47,33,47,38],[48,33,48,38],[49,33,49,38],[48,30,48,32],[49,30,49,32],[50,30,50,32],[51,30,51,32],[52,30,52,32],[12,33,12,38],[13,33,13,38],[14,33,14,38],[15,33,15,38],[16,33,16,38],[40,30,40,32],[41,30,41,32],[42,30,42,32],[43,30,43,32],[44,30,44,32],[45,30,45,32],[28,30,28,32],[29,30,29,32],[30,30,30,32],[31,30,31,32],[32,30,32,32],[33,30,33,32],[19,30,19,32],[20,30,20,32],[21,30,21,32],[12,30,12,32],[46,30,46,32],[47,30,47,32],[36,30,36,32],[37,30,37,32],[38,30,38,32],[39,30,39,32],[34,30,34,32],[35,30,35,32],[26,30,26,32],[27,30,27,32],[23,30,23,32],[25,30,25,32],[24,30,24,32],[22,30,22,32],[17,30,17,32],[18,30,18,32],[13,30,13,32],[14,30,14,32],[15,30,15,32],[16,30,16,32],[49,20,49,25],[50,20,50,25],[51,20,51,25],[52,20,52,25],[43,20,43,25],[44,20,44,25],[45,20,45,25],[46,20,46,25],[47,20,47,25],[48,20,48,25],[37,20,37,25],[38,20,38,25],[39,20,39,25],[40,20,40,25],[41,20,41,25],[42,20,42,25],[31,20,31,25],[32,20,32,25],[33,20,33,25],[34,20,34,25],[35,20,35,25],[36,20,36,25],[26,20,26,25],[27,20,27,25],[28,20,28,25],[29,20,29,25],[30,20,30,25],[19,20,19,25],[20,20,20,25],[21,20,21,25],[22,20,22,25],[23,20,23,25],[24,20,24,25],[50,26,50,29],[51,26,51,29],[52,26,52,29],[12,20,12,25],[44,26,44,29],[45,26,45,29],[46,26,46,29],[47,26,47,29],[48,26,48,29],[49,26,49,29],[38,26,38,29],[39,26,39,29],[40,26,40,29],[41,26,41,29],[42,26,42,29],[43,26,43,29],[32,26,32,29],[33,26,33,29],[34,26,34,29],[35,26,35,29],[36,26,36,29],[37,26,37,29],[26,26,26,29],[27,26,27,29],[28,26,28,29],[29,26,29,29],[30,26,30,29],[31,26,31,29],[20,26,20,29],[21,26,21,29],[19,26,19,29],[12,26,12,29],[47,13,47,19],[35,13,35,19],[36,13,36,19],[37,13,37,19],[38,13,38,19],[39,13,39,19],[40,13,40,19],[29,13,29,19],[30,13,30,19],[31,13,31,19],[32,13,32,19],[33,13,33,19],[23,13,23,19],[24,13,24,19],[25,13,25,19],[26,13,26,19],[50,13,50,19],[51,13,51,19],[52,13,52,19],[41,13,41,19],[42,13,42,19],[43,13,43,19],[44,13,44,19],[45,13,45,19],[46,13,46,19],[49,9,49,12],[29,9,29,12],[48,9,48,12],[19,9,19,12],[20,9,20,12],[21,9,21,12],[22,9,22,12],[23,9,23,12],[48,13,48,19],[49,13,49,19],[32,9,32,12],[33,9,33,12],[12,13,12,19],[42,9,42,12],[43,9,43,12],[44,9,44,12],[45,9,45,12],[46,9,46,12],[47,9,47,12],[36,9,36,12],[37,9,37,12],[38,9,38,12],[39,9,39,12],[40,9,40,12],[41,9,41,12],[30,9,30,12],[31,9,31,12],[34,13,34,19],[34,9,34,12],[35,9,35,12],[26,9,26,12],[27,9,27,12],[28,9,28,12],[27,13,27,19],[28,13,28,19],[19,13,19,19],[52,7,52,8],[49,7,49,8],[50,7,50,8],[51,7,51,8],[36,7,36,8],[25,7,25,8],[26,7,26,8],[27,7,27,8],[28,7,28,8],[29,7,29,8],[30,7,30,8],[50,9,50,12],[51,9,51,12],[52,9,52,12],[12,9,12,12],[43,7,43,8],[44,7,44,8],[45,7,45,8],[46,7,46,8],[47,7,47,8],[48,7,48,8],[37,7,37,8],[38,7,38,8],[39,7,39,8],[40,7,40,8],[41,7,41,8],[42,7,42,8],[31,7,31,8],[32,7,32,8],[33,7,33,8],[34,7,34,8],[35,7,35,8],[19,7,19,8],[20,7,20,8],[21,7,21,8],[24,7,24,8],[50,2,50,6],[51,2,51,6],[52,2,52,6],[12,7,12,8],[44,2,44,6],[45,2,45,6],[46,2,46,6],[47,2,47,6],[48,2,48,6],[49,2,49,6],[38,2,38,6],[39,2,39,6],[40,2,40,6],[41,2,41,6],[42,2,42,6],[43,2,43,6],[32,2,32,6],[33,2,33,6],[34,2,34,6],[35,2,35,6],[36,2,36,6],[37,2,37,6],[26,2,26,6],[27,2,27,6],[28,2,28,6],[29,2,29,6],[30,2,30,6],[31,2,31,6],[20,2,20,6],[21,2,21,6],[22,2,22,6],[23,2,23,6],[24,2,24,6],[25,2,25,6],[51,0,51,1],[52,0,52,1],[12,2,12,6],[13,2,13,6],[14,2,14,6],[15,2,15,6],[16,2,16,6],[17,2,17,6],[18,2,18,6],[19,2,19,6],[45,0,45,1],[46,0,46,1],[47,0,47,1],[48,0,48,1],[49,0,49,1],[50,0,50,1],[39,0,39,1],[40,0,40,1],[41,0,41,1],[42,0,42,1],[43,0,43,1],[44,0,44,1],[33,0,33,1],[34,0,34,1],[35,0,35,1],[36,0,36,1],[37,0,37,1],[38,0,38,1],[27,0,27,1],[28,0,28,1],[29,0,29,1],[30,0,30,1],[31,0,31,1],[32,0,32,1],[22,0,22,1],[23,0,23,1],[24,0,24,1],[25,0,25,1],[26,0,26,1],[12,0,12,1],[13,0,13,1],[14,0,14,1],[15,0,15,1],[16,0,16,1],[17,0,17,1],[18,0,18,1],[19,0,19,1],[20,0,20,1],[50,78,50,80],[51,78,51,80],[52,78,52,80],[44,78,44,80],[45,78,45,80],[46,78,46,80],[47,78,47,80],[48,78,48,80],[49,78,49,80],[38,78,38,80],[39,78,39,80],[40,78,40,80],[41,78,41,80],[42,78,42,80],[43,78,43,80],[32,78,32,80],[33,78,33,80],[34,78,34,80],[35,78,35,80],[36,78,36,80],[37,78,37,80],[26,78,26,80],[27,78,27,80],[28,78,28,80],[29,78,29,80],[30,78,30,80],[31,78,31,80],[20,78,20,80],[21,78,21,80],[22,78,22,80],[23,78,23,80],[24,78,24,80],[25,78,25,80],[31,75,31,77],[32,75,32,77],[33,75,33,77],[34,75,34,77],[35,75,35,77],[36,75,36,77],[25,75,25,77],[26,75,26,77],[27,75,27,77],[28,75,28,77],[29,75,29,77],[30,75,30,77],[51,75,51,77],[52,75,52,77],[43,75,43,77],[44,75,44,77],[45,75,45,77],[46,75,46,77],[47,75,47,77],[48,75,48,77],[37,75,37,77],[38,75,38,77],[39,75,39,77],[40,75,40,77],[41,75,41,77],[42,75,42,77],[49,75,49,77],[50,75,50,77],[23,75,23,77],[24,75,24,77],[13,75,13,77],[14,75,14,77],[15,75,15,77],[16,75,16,77],[17,75,17,77],[18,75,18,77],[13,78,13,80],[14,78,14,80],[15,78,15,80],[16,78,16,80],[17,78,17,80],[18,78,18,80],[19,78,19,80],[19,75,19,77],[20,75,20,77],[21,75,21,77],[12,39,12,46],[12,53,12,60],[12,67,12,74],[12,78,12,80],[12,75,12,77],[12,61,12,66],[10,113,12,113],[22,75,22,77],[12,83,12,84],[10,111,12,111],[14,61,14,66],[15,61,15,66],[16,61,16,66],[17,61,17,66],[18,61,18,66],[18,47,18,52],[19,47,19,52],[20,47,20,52],[21,47,21,52],[22,47,22,52],[11,0,11,46],[11,47,11,80],[13,13,13,19],[21,0,21,1],[10,118,12,118],[10,117,12,117],[10,116,12,116],[10,115,12,115],[10,114,12,114],[10,112,12,112],[10,106,11,110],[10,105,12,105],[12,133,12,134],[10,131,12,131],[10,129,12,129],[10,127,12,127],[10,125,12,125],[10,123,12,123],[10,121,12,121],[10,120,12,120],[10,119,12,119],[10,133,11,140],[10,128,12,128],[10,130,12,130],[10,132,12,132]]}
[{"$f":"①初期設定!M1","v":"第２７回北海道陸上競技フェスティバル　兼　オホーツク陸協混成競技記録会"},null,null,null,null,null,null,null,null,null,null,null,null,null,null,null,null,null,null,null,null,null,null,null,"参加申込用紙",null,null,null,null,null,null,null,null,null,null,null,null,null,null,"〆切",null,null,null,{"$f":"CONCATENATE(①初期設定!B19,①初期設定!C19,①初期設定!D19,①初期設定!E19,①初期設定!F19,①初期設定!G19,①初期設定!H19,①初期設定!I19,①初期設定!J19,①初期設定!K19)","v":"10月9日（水）18：00"},null,null,null,null,null,null,null,null,null,null,null,null,null,null,null,"400mRベスト記録",null,null,null,null,null,null,null,null,null,null,null,null,null,null,null,null,null,null,null,null,null,null,null,"審判①",{"$f":"IF(BH10=\"\",0,1)","v":0}]
[null,null,null,null,null,null,null,null,null,null,null,null,null,null,null,null,null,null,null,null,null,null,null,null,null,null,null,null,null,null,null,null,null,null,null,null,null,null,null,null,null,null,null,null,null,null,null,null,null,null,null,null,null,null,null,null,null,null,null,"男子Ａ",null,null,null,null,"分",null,null,"秒",null,null,"女子Ａ",null,null,null,null,"分",null,null,"秒",null,null,null,null,"審判②",{"$f":"IF(BH11=\"\",0,1)","v":0},null,null,null,null,null,{"$f":"COUNTA(BO2)","v":0},{"$f":"COUNTA(BZ2)","v":0}]
[null,null,null,null,null,null,null,null,null,null,null,null,null,null,null,null,null,null,null,null,null,null,null,null,null,null,null,null,null,null,null,null,null,null,null,null,null,null,null,null,null,null,null,null,null,null,null,null,null,null,null,null,null,null,null,null,null,null,null,"男子B",null,null,null,null,"分",null,null,"秒",null,null,"女子B",null,null,null,null,"分",null,null,"秒",null,null,null,null,null,{"$f":"CG1+CG2","v":0},null,null,null,null,null,{"$f":"COUNTA(BO3)","v":0},{"$f":"COUNTA(BZ3)","v":0}]
["クラス",null,null,null,null,null,null,"団体名",null,null,null,null,null,null,null,null,null,null,null,null,null,null,null,"混成あり",null,"内訳",null,null,null,"人数",null,null,"参加料",null,null,null,"小計",null,null,null,null,"混成なし",null,"内訳",null,null,null,"人数",null,null,"参加料",null,null,null,"小計",null,null,null,null,"男子C",null,null,null,null,"分",null,null,"秒",null,null,"女子C",null,null,null,null,"分",null,null,"秒",null,null,null,null,null,null,null,null,null,null,null,{"$f":"COUNTA(BO4)","v":0},{"$f":"COUNTA(BZ4)","v":0}]
[null,null,null,null,null,null,null,null,null,null,null,null,null,null,null,null,null,null,null,null,null,null,null,null,null,null,null,null,null,null,null,null,null,null,null,null,null,null,null,null,null,null,null,null,null,null,null,null,null,null,null,null,null,null,null,null,null,null,null,"※リレーの参加料について\nベスト記録を入力しないと参加料に反映しません"]
["責任者",null,null,null,null,null,null,null,null,null,null,null,null,"所属陸協",null,null,null,null,null,null,null,null,null,null,null,"1種目",null,null,null,{"$f":"COUNTIF($CL$14:$CL$53,1)","v":0},null,null,{"$f":"VLOOKUP($E$4&Z6,①初期設定!$B$26:$G$44,4,FALSE)","v":{"$error":"#N/A"}},null,null,null,{"$f":"AD6*AG6","v":{"$error":"#N/A"}},null,null,null,null,null,null,"1種目",null,null,null,{"$f":"COUNTIF($CS$14:$CS$53,1)","v":0},null,null,{"$f":"VLOOKUP($E$4&AR6,①初期設定!$I$26:$N$44,4,FALSE)","v":{"$error":"#N/A"}},null,null,null,{"$f":"AV6*AY6","v":{"$error":"#N/A"}}]
[null,null,null,null,null,null,null,null,null,null,null,null,null,null,null,null,null,null,null,null,null,null,null,null,null,"2種目",null,null,null,{"$f":"COUNTIF($CL$14:$CL$53,2)","v":0},null,null,{"$f":"VLOOKUP($E$4&Z7,①初期設定!$B$26:$G$44,4,FALSE)","v":{"$error":"#N/A"}},null,null,null,{"$f":"AD7*AG7","v":{"$error":"#N/A"}},null,null,null,null,null,null,"2種目",null,null,null,{"$f":"COUNTIF($CS$14:$CS$53,2)","v":0},null,null,{"$f":"VLOOKUP($E$4&AR7,①初期設定!$I$26:$N$44,4,FALSE)","v":{"$error":"#N/A"}},null,null,null,{"$f":"AV7*AY7","v":{"$error":"#N/A"}}]
["携帯",null,null,null,null,null,null,null,null,null,null,null,null,null,null,null,null,null,null,null,null,null,null,null,null,"3種目",null,null,null,{"$f":"COUNTIF($CL$14:$CL$53,3)","v":0},null,null,{"$f":"VLOOKUP($E$4&Z8,①初期設定!$B$26:$G$44,4,FALSE)","v":{"$error":"#N/A"}},null,null,null,{"$f":"AD8*AG8","v":{"$error":"#N/A"}},null,null,null,null,null,null,"3種目",null,null,null,{"$f":"COUNTIF($CS$14:$CS$53,3)","v":0},null,null,{"$f":"VLOOKUP($E$4&AR8,①初期設定!$I$26:$N$44,4,FALSE)","v":{"$error":"#N/A"}},null,null,null,{"$f":"AV8*AY8","v":{"$error":"#N/A"}},null,null,null,null,"希望審判申込"]
[null,null,null,null,null,null,null,null,null,null,null,null,null,null,null,null,null,null,null,null,null,null,null,null,null,null,null,null,null,null,null,null,null,null,null,null,null,null,null,null,null,null,null,null,null,null,null,null,null,null,null,null,null,null,null,null,null,null,null,"審判員氏名",null,null,null,null,null,null,null,"希望役職①",null,null,null,null,null,null,"希望役職②"]
["〒",null,null,null,null,null,null,"住所",null,null,null,null,null,null,null,null,null,null,null,null,null,null,null,null,null,"リレー",null,null,null,{"$f":"SUM(CM2:CN11)","v":0},null,null,{"$f":"IF(ISERROR(VLOOKUP($E$4&Z10,①初期設定!$B$26:$G$44,4,FALSE)),0,VLOOKUP($E$4&Z10,①初期設定!$B$26:$G$44,4,FALSE))","v":0},null,null,null,{"$f":"AD10*AG10","v":0},null,null,null,null,"合計",null,null,null,{"$f":"SUM(AK6:AN8,BC6:BF8,AK10)","v":{"$error":"#N/A"}},null,null,null,null,null,null,null,null,null,null,null,null,null,null,null,null,null,null,null,null,null,null,null,null,null,null,null,null,null,null,null,null,null,null,null,null,null,null,null,null,null,null,null,null,null,null,null,null,null,null,null,null,null,null,null,null,null,null,null,null,null,null,null,null,null,null,null,null,null,null,null,null,null,null,null,null,null,null,null,null,null,null,null,null,null,null,null,null,null,"400R",null,"MR",null,"立五段跳"]
[null,null,null,null,null,null,null,null,null,null,null,null,null,null,null,null,null,null,null,null,null,null,null,null,null,null,null,null,null,null,null,null,null,null,null,null,null,null,null,null,null,null,null,null,null,null,null,null,null,null,null,null,null,null,null,null,null,null,null,null,null,null,null,null,null,null,null,null,null,null,null,null,null,null,null,null,null,null,null,null,null,null,null,null,null,null,null,null,null,null,null,null,null,null,null,null,null,null,null,null,null,null,null,null,null,"種別","出場団体名",null,null,null,null,"役員希望","性別","生年","陸協","年","数","幼児男","幼児女","小学男","小学女","中学男","中学男2","中学女","中学女2","高校男","高校男2","高校女","高校女2","一般男","一般男2","一般女","一般女2","リレー"]
["*上記【クラス】と下の【性別】によって種目選択リストが変更します。どちらかが未入力であれば種目選択が【エラー】となります。",null,null,null,null,null,null,null,null,null,null,null,null,null,null,null,null,null,null,null,null,null,null,null,null,null,null,null,null,null,null,null,null,null,null,null,null,null,null,null,null,null,null,null,null,null,null,"ベスト記録は、参考でも構いませんので必ず入力してください。番組編成の際に支障が出ます。"]
["数",null,"登録番号",null,null,null,null,"性",null,"ゼッケン",null,null,null,"氏名",null,null,null,null,null,null,"ﾌﾘｶﾞﾅ",null,null,null,null,null,"生年",null,null,null,"年",null,null,"種目１",null,null,null,null,null,"種目１ベスト",null,null,null,null,null,null,null,"種目２",null,null,null,null,null,"種目２ベスト",null,null,null,null,null,null,null,"種目３",null,null,null,null,null,"種目３ベスト",null,null,null,null,null,null,null,"400R",null,null,null,null,null,null,null,"Rカウント",null,null,null,null,null,"種目カウント",null,null,null,null,null,null,"種目カウント",null,null,null,null,null,null,null,null,null,"幼児","小学","中学","高校","一般",null,null,null,null,null,null,null,null,null,null,null,null,null,null,null,null,null,null,null,null,null,null,"種別",null,"男400R","女400R","男MR","女MR","男立五段跳","女立五段跳"]
[1,null,null,null,null,null,null,null,null,null,null,null,null,null,null,null,null,null,null,null,null,null,null,null,null,null,null,null,null,null,null,null,null,null,null,null,null,null,null,null,null,{"$f":"IF(AH14=\"\",\"\",IF(CN14=0,\"\",\"分\"))","v":""},null,null,{"$f":"IF(AH14=\"\",\"\",IF(CN14=0,\"m\",\"秒\"))","v":""},null,null,null,null,null,null,null,null,null,null,{"$f":"IF(AV14=\"\",\"\",IF(CO14=0,\"\",\"分\"))","v":""},null,null,{"$f":"IF(AV14=\"\",\"\",IF(CO14=0,\"m\",\"秒\"))","v":""},null,null,null,null,null,null,null,null,null,null,{"$f":"IF(BJ14=\"\",\"\",IF(CP14=0,\"\",\"分\"))","v":""},null,null,{"$f":"IF(BJ14=\"\",\"\",IF(CP14=0,\"m\",\"秒\"))","v":""},null,null,null,null,null,null,null,null,null,null,{"$f":"H14&$BX$13","v":"400R"},{"$f":"H14&$CA$13","v":""},{"$f":"COUNTIF(AH14,\"*種*\")","v":0},{"$f":"IF(CH14=1,1,0)","v":0},{"$f":"IF(CH14=1,COUNTA(AV14),0)","v":0},{"$f":"IF(CH14=1,COUNTA(BJ14),0)","v":0},{"$f":"SUM(CI14:CK14)","v":0},{"$f":"$E$4&H14&\"種目\"","v":"種目"},{"$f":"LEN(AH14)-LEN(SUBSTITUTE(AH14,\"m\",\"\"))","v":0},{"$f":"LEN(AV14)-LEN(SUBSTITUTE(AV14,\"m\",\"\"))","v":0},{"$f":"LEN(BJ14)-LEN(SUBSTITUTE(BJ14,\"m\",\"\"))","v":0},{"$f":"$E$4&COUNTA(AH14,AV14,BJ14)","v":"0"},null,{"$f":"SUM(CT14:CV14)","v":0},{"$f":"IF(CH14=0,COUNTA(AH14),0)","v":0},{"$f":"IF(CH14=0,COUNTA(AV14),0)","v":0},{"$f":"IF(CH14=0,COUNTA(BJ14),0)","v":0},{"$f":"$E$4&H14&\"種目2\"","v":"種目2"},{"$f":"LEN(AO14)-LEN(SUBSTITUTE(AO14,\"m\",\"\"))","v":0},{"$f":"LEN(BC14)-LEN(SUBSTITUTE(BC14,\"m\",\"\"))","v":0},{"$f":"LEN(BQ14)-LEN(SUBSTITUTE(BQ14,\"m\",\"\"))","v":0},{"$f":"$E$4&COUNTA(AO14,BC14,BQ14)","v":"0"},null,null,null,null,null,null,null,null,null,null,null,null,null,null,null,null,null,null,null,null,null,null,null,null,null,null,null,null,null,null,null,null,null,null,null,null,null,"小学女","小学女"]
[2,null,null,null,null,null,null,null,null,null,null,null,null,null,null,null,null,null,null,null,null,null,null,null,null,null,null,null,null,null,null,null,null,null,null,null,null,null,null,null,null,"",null,null,"",null,null,null,null,null,null,null,null,null,null,"",null,null,"",null,null,null,null,null,null,null,null,null,null,"",null,null,"",null,null,null,null,null,null,null,null,null,null,"400R","",{"$f":"COUNTIF(AH15,\"*種*\")","v":0},{"$f":"IF(CH15=1,1,0)","v":0},{"$f":"IF(CH15=1,COUNTA(AV15),0)","v":0},{"$f":"IF(CH15=1,COUNTA(BJ15),0)","v":0},{"$f":"SUM(CI15:CK15)","v":0},"種目",0,{"$f":"LEN(AV15)-LEN(SUBSTITUTE(AV15,\"m\",\"\"))","v":0},{"$f":"LEN(BJ15)-LEN(SUBSTITUTE(BJ15,\"m\",\"\"))","v":0},"0",null,{"$f":"SUM(CT15:CV15)","v":0},{"$f":"IF(CH15=0,COUNTA(AH15),0)","v":0},{"$f":"IF(CH15=0,COUNTA(AV15),0)","v":0},{"$f":"IF(CH15=0,COUNTA(BJ15),0)","v":0},{"$f":"$E$4&H15&\"種目2\"","v":"種目2"},{"$f":"LEN(AO15)-LEN(SUBSTITUTE(AO15,\"m\",\"\"))","v":0},{"$f":"LEN(BC15)-LEN(SUBSTITUTE(BC15,\"m\",\"\"))","v":0},{"$f":"LEN(BQ15)-LEN(SUBSTITUTE(BQ15,\"m\",\"\"))","v":0},"0","幼児","美幌保育園","斜里小","斜里中","北見北斗高","ｵﾎｰﾂｸ陸協(水島)","一任","男",1970,"道南","幼児",1,{"$f":"IF(ISERROR(VLOOKUP(DM15,①初期設定!$C$50:$N$97,4,FALSE)),\"*\",VLOOKUP(DM15,①初期設定!$C$50:$N$97,4,FALSE))","v":"*"},{"$f":"IF(ISERROR(VLOOKUP(DM15,①初期設定!$Q$50:$AB$97,4,FALSE)),\"*\",VLOOKUP(DM15,①初期設定!$Q$50:$AB$97,4,FALSE))","v":"*"},{"$f":"IF(ISERROR(VLOOKUP(DM15,①初期設定!$E$50:$N$97,2,FALSE)),\"*\",VLOOKUP(DM15,①初期設定!$E$50:$N$97,2,FALSE))","v":"*"},{"$f":"IF(ISERROR(VLOOKUP(DM15,①初期設定!$S$50:$AB$97,2,FALSE)),\"*\",VLOOKUP(DM15,①初期設定!$S$50:$AB$97,2,FALSE))","v":"*"},{"$f":"IF(ISERROR(VLOOKUP($DM15,①初期設定!$C$118:$Q$192,6,FALSE)),\"*\",VLOOKUP($DM15,①初期設定!$C$118:$Q$192,6,FALSE))","v":"中男100m"},{"$f":"IF(ISERROR(VLOOKUP($DM15,①初期設定!$C$118:$Q$192,6,FALSE)),\"*\",VLOOKUP($DM15,①初期設定!$C$118:$Q$192,6,FALSE))","v":"中男100m"},{"$f":"IF(ISERROR(VLOOKUP($DM15,①初期設定!$T$118:$AH$191,6,FALSE)),\"*\",VLOOKUP($DM15,①初期設定!$T$118:$AH$191,6,FALSE))","v":"中女100m"},{"$f":"IF(ISERROR(VLOOKUP($DM15,①初期設定!$T$118:$AH$191,6,FALSE)),\"*\",VLOOKUP($DM15,①初期設定!$T$118:$AH$191,6,FALSE))","v":"中女100m"},{"$f":"IF(ISERROR(VLOOKUP($DM15,①初期設定!$E$118:$Q$192,4,FALSE)),\"*\",VLOOKUP($DM15,①初期設定!$E$118:$Q$192,4,FALSE))","v":"共男300m"},{"$f":"IF(ISERROR(VLOOKUP($DM15,①初期設定!$E$118:$Q$192,4,FALSE)),\"*\",VLOOKUP($DM15,①初期設定!$E$118:$Q$192,4,FALSE))","v":"共男300m"},{"$f":"IF(ISERROR(VLOOKUP($DM15,①初期設定!$V$118:$AH$191,4,FALSE)),\"*\",VLOOKUP($DM15,①初期設定!$V$118:$AH$191,4,FALSE))","v":"共女300m"},{"$f":"IF(ISERROR(VLOOKUP($DM15,①初期設定!$V$118:$AH$191,4,FALSE)),\"*\",VLOOKUP($DM15,①初期設定!$V$118:$AH$191,4,FALSE))","v":"共女300m"},{"$f":"IF(ISERROR(VLOOKUP($DM15,①初期設定!$G$118:$Q$192,2,FALSE)),\"*\",VLOOKUP($DM15,①初期設定!$G$118:$Q$192,2,FALSE))","v":"共男300m"},{"$f":"IF(ISERROR(VLOOKUP($DM15,①初期設定!$G$118:$Q$192,2,FALSE)),\"*\",VLOOKUP($DM15,①初期設定!$G$118:$Q$192,2,FALSE))","v":"共男300m"},{"$f":"IF(ISERROR(VLOOKUP($DM15,①初期設定!$X$118:$AH$191,2,FALSE)),\"*\",VLOOKUP($DM15,①初期設定!$X$118:$AH$191,2,FALSE))","v":"共女300m"},{"$f":"IF(ISERROR(VLOOKUP($DM15,①初期設定!$X$118:$AH$191,2,FALSE)),\"*\",VLOOKUP($DM15,①初期設定!$X$118:$AH$191,2,FALSE))","v":"共女300m"},"幼児","幼児","男子A","女子A","男子A","女子A","○","○",null,"小学男","小学男"]
[3,null,null,null,null,null,null,null,null,null,null,null,null,null,null,null,null,null,null,null,null,null,null,null,null,null,null,null,null,null,null,null,null,null,null,null,null,null,null,null,null,"",null,null,"",null,null,null,null,null,null,null,null,null,null,"",null,null,"",null,null,null,null,null,null,null,null,null,null,"",null,null,"",null,null,null,null,null,null,null,null,null,null,"400R","",0,0,0,0,0,"種目",0,0,0,"0",null,0,0,0,0,"種目2",0,0,0,"0","小学","大谷幼稚園","斜里朝日小","斜里知床ｳﾄﾛ学校","北見柏陽高","ｵﾎｰﾂｸ陸協(野村)","技術総務","女",1971,"小樽後志","小1",2,{"$f":"IF(ISERROR(VLOOKUP(DM16,①初期設定!$C$50:$N$97,4,FALSE)),\"*\",VLOOKUP(DM16,①初期設定!$C$50:$N$97,4,FALSE))","v":"*"},{"$f":"IF(ISERROR(VLOOKUP(DM16,①初期設定!$Q$50:$AB$97,4,FALSE)),\"*\",VLOOKUP(DM16,①初期設定!$Q$50:$AB$97,4,FALSE))","v":"*"},{"$f":"IF(ISERROR(VLOOKUP(DM16,①初期設定!$E$50:$N$97,2,FALSE)),\"*\",VLOOKUP(DM16,①初期設定!$E$50:$N$97,2,FALSE))","v":"*"},{"$f":"IF(ISERROR(VLOOKUP(DM16,①初期設定!$S$50:$AB$97,2,FALSE)),\"*\",VLOOKUP(DM16,①初期設定!$S$50:$AB$97,2,FALSE))","v":"*"},{"$f":"IF(ISERROR(VLOOKUP(DM16,①初期設定!$C$118:$Q$192,6,FALSE)),\"*\",VLOOKUP(DM16,①初期設定!$C$118:$Q$192,6,FALSE))","v":"共男300m"},{"$f":"IF(ISERROR(VLOOKUP($DM16,①初期設定!$C$118:$Q$192,6,FALSE)),\"*\",VLOOKUP($DM16,①初期設定!$C$118:$Q$192,6,FALSE))","v":"共男300m"},{"$f":"IF(ISERROR(VLOOKUP($DM16,①初期設定!$T$118:$AH$191,6,FALSE)),\"*\",VLOOKUP($DM16,①初期設定!$T$118:$AH$191,6,FALSE))","v":"共女300m"},{"$f":"IF(ISERROR(VLOOKUP($DM16,①初期設定!$T$118:$AH$191,6,FALSE)),\"*\",VLOOKUP($DM16,①初期設定!$T$118:$AH$191,6,FALSE))","v":"共女300m"},{"$f":"IF(ISERROR(VLOOKUP(DM16,①初期設定!$E$118:$Q$192,4,FALSE)),\"*\",VLOOKUP(DM16,①初期設定!$E$118:$Q$192,4,FALSE))","v":"共男1000m"},{"$f":"IF(ISERROR(VLOOKUP($DM16,①初期設定!$E$118:$Q$192,4,FALSE)),\"*\",VLOOKUP($DM16,①初期設定!$E$118:$Q$192,4,FALSE))","v":"共男1000m"},{"$f":"IF(ISERROR(VLOOKUP(DM16,①初期設定!$V$118:$AH$191,4,FALSE)),\"*\",VLOOKUP(DM16,①初期設定!$V$118:$AH$191,4,FALSE))","v":"共女1000m"},{"$f":"IF(ISERROR(VLOOKUP($DM16,①初期設定!$V$118:$AH$191,4,FALSE)),\"*\",VLOOKUP($DM16,①初期設定!$V$118:$AH$191,4,FALSE))","v":"共女1000m"},{"$f":"IF(ISERROR(VLOOKUP(DM16,①初期設定!$G$118:$Q$192,2,FALSE)),\"*\",VLOOKUP(DM16,①初期設定!$G$118:$Q$192,2,FALSE))","v":"共男1000m"},{"$f":"IF(ISERROR(VLOOKUP($DM16,①初期設定!$G$118:$Q$192,2,FALSE)),\"*\",VLOOKUP($DM16,①初期設定!$G$118:$Q$192,2,FALSE))","v":"共男1000m"},{"$f":"IF(ISERROR(VLOOKUP(DM16,①初期設定!$X$118:$AH$191,2,FALSE)),\"*\",VLOOKUP(DM16,①初期設定!$X$118:$AH$191,2,FALSE))","v":"共女1000m"},{"$f":"IF(ISERROR(VLOOKUP($DM16,①初期設定!$X$118:$AH$191,2,FALSE)),\"*\",VLOOKUP($DM16,①初期設定!$X$118:$AH$191,2,FALSE))","v":"共女1000m"},"小1","小学","男子B","女子B","男子B","女子B",null,null,null,"中学男","中学男"]
[4,null,null,null,null,null,null,null,null,null,null,null,null,null,null,null,null,null,null,null,null,null,null,null,null,null,null,null,null,null,null,null,null,null,null,null,null,null,null,null,null,"",null,null,"",null,null,null,null,null,null,null,null,null,null,"",null,null,"",null,null,null,null,null,null,null,null,null,null,"",null,null,"",null,null,null,null,null,null,null,null,null,null,"400R","",0,0,0,0,0,"種目",0,0,0,"0",null,0,0,0,0,"種目2",0,0,0,"0","中学","くるみ幼稚園","東藻琴小","清里中","北見緑陵高","ｵﾎｰﾂｸ陸協(飯島)","番組編成",null,1972,"室蘭地方","小2",3,{"$f":"IF(ISERROR(VLOOKUP(DM17,①初期設定!$C$50:$N$97,4,FALSE)),\"*\",VLOOKUP(DM17,①初期設定!$C$50:$N$97,4,FALSE))","v":"*"},{"$f":"IF(ISERROR(VLOOKUP(DM17,①初期設定!$Q$50:$AB$97,4,FALSE)),\"*\",VLOOKUP(DM17,①初期設定!$Q$50:$AB$97,4,FALSE))","v":"*"},{"$f":"IF(ISERROR(VLOOKUP(DM17,①初期設定!$E$50:$N$97,2,FALSE)),\"*\",VLOOKUP(DM17,①初期設定!$E$50:$N$97,2,FALSE))","v":"*"},{"$f":"IF(ISERROR(VLOOKUP(DM17,①初期設定!$S$50:$AB$97,2,FALSE)),\"*\",VLOOKUP(DM17,①初期設定!$S$50:$AB$97,2,FALSE))","v":"*"},{"$f":"IF(ISERROR(VLOOKUP(DM17,①初期設定!$C$118:$Q$192,6,FALSE)),\"*\",VLOOKUP(DM17,①初期設定!$C$118:$Q$192,6,FALSE))","v":"共男1000m"},{"$f":"IF(ISERROR(VLOOKUP($DM17,①初期設定!$C$118:$Q$192,6,FALSE)),\"*\",VLOOKUP($DM17,①初期設定!$C$118:$Q$192,6,FALSE))","v":"共男1000m"},{"$f":"IF(ISERROR(VLOOKUP($DM17,①初期設定!$T$118:$AH$191,6,FALSE)),\"*\",VLOOKUP($DM17,①初期設定!$T$118:$AH$191,6,FALSE))","v":"共女1000m"},{"$f":"IF(ISERROR(VLOOKUP($DM17,①初期設定!$T$118:$AH$191,6,FALSE)),\"*\",VLOOKUP($DM17,①初期設定!$T$118:$AH$191,6,FALSE))","v":"共女1000m"},{"$f":"IF(ISERROR(VLOOKUP(DM17,①初期設定!$E$118:$Q$192,4,FALSE)),\"*\",VLOOKUP(DM17,①初期設定!$E$118:$Q$192,4,FALSE))","v":"共男400mH"},{"$f":"IF(ISERROR(VLOOKUP($DM17,①初期設定!$E$118:$Q$192,4,FALSE)),\"*\",VLOOKUP($DM17,①初期設定!$E$118:$Q$192,4,FALSE))","v":"共男400mH"},{"$f":"IF(ISERROR(VLOOKUP(DM17,①初期設定!$V$118:$AH$191,4,FALSE)),\"*\",VLOOKUP(DM17,①初期設定!$V$118:$AH$191,4,FALSE))","v":"共女400mH"},{"$f":"IF(ISERROR(VLOOKUP($DM17,①初期設定!$V$118:$AH$191,4,FALSE)),\"*\",VLOOKUP($DM17,①初期設定!$V$118:$AH$191,4,FALSE))","v":"共女400mH"},{"$f":"IF(ISERROR(VLOOKUP(DM17,①初期設定!$G$118:$Q$192,2,FALSE)),\"*\",VLOOKUP(DM17,①初期設定!$G$118:$Q$192,2,FALSE))","v":"共男400mH"},{"$f":"IF(ISERROR(VLOOKUP($DM17,①初期設定!$G$118:$Q$192,2,FALSE)),\"*\",VLOOKUP($DM17,①初期設定!$G$118:$Q$192,2,FALSE))","v":"共男400mH"},{"$f":"IF(ISERROR(VLOOKUP(DM17,①初期設定!$X$118:$AH$191,2,FALSE)),\"*\",VLOOKUP(DM17,①初期設定!$X$118:$AH$191,2,FALSE))","v":"共女400mH"},{"$f":"IF(ISERROR(VLOOKUP($DM17,①初期設定!$X$118:$AH$191,2,FALSE)),\"*\",VLOOKUP($DM17,①初期設定!$X$118:$AH$191,2,FALSE))","v":"共女400mH"},"小2","小学","男子C","女子C","男子C","女子C",null,null,null,"中学女","中学女"]
[5,null,null,null,null,null,null,null,null,null,null,null,null,null,null,null,null,null,null,null,null,null,null,null,null,null,null,null,null,null,null,null,null,null,null,null,null,null,null,null,null,"",null,null,"",null,null,null,null,null,null,null,null,null,null,"",null,null,"",null,null,null,null,null,null,null,null,null,null,"",null,null,"",null,null,null,null,null,null,null,null,null,null,"400R","",0,0,0,0,0,"種目",0,0,0,"0",null,0,0,0,0,"種目2",0,0,0,"0","高校","北見藤幼稚園","美幌小","小清水中","北見工業高","ｵﾎｰﾂｸ陸協(長谷川)","記録情報",null,1973,"苫小牧地方","小3",4,{"$f":"IF(ISERROR(VLOOKUP(DM18,①初期設定!$C$50:$N$97,4,FALSE)),\"*\",VLOOKUP(DM18,①初期設定!$C$50:$N$97,4,FALSE))","v":"*"},{"$f":"IF(ISERROR(VLOOKUP(DM18,①初期設定!$Q$50:$AB$97,4,FALSE)),\"*\",VLOOKUP(DM18,①初期設定!$Q$50:$AB$97,4,FALSE))","v":"*"},{"$f":"IF(ISERROR(VLOOKUP(DM18,①初期設定!$E$50:$N$97,2,FALSE)),\"*\",VLOOKUP(DM18,①初期設定!$E$50:$N$97,2,FALSE))","v":"*"},{"$f":"IF(ISERROR(VLOOKUP(DM18,①初期設定!$S$50:$AB$97,2,FALSE)),\"*\",VLOOKUP(DM18,①初期設定!$S$50:$AB$97,2,FALSE))","v":"*"},{"$f":"IF(ISERROR(VLOOKUP(DM18,①初期設定!$C$118:$Q$192,6,FALSE)),\"*\",VLOOKUP(DM18,①初期設定!$C$118:$Q$192,6,FALSE))","v":"共男400mH"},{"$f":"IF(ISERROR(VLOOKUP($DM18,①初期設定!$C$118:$Q$192,6,FALSE)),\"*\",VLOOKUP($DM18,①初期設定!$C$118:$Q$192,6,FALSE))","v":"共男400mH"},{"$f":"IF(ISERROR(VLOOKUP($DM18,①初期設定!$T$118:$AH$191,6,FALSE)),\"*\",VLOOKUP($DM18,①初期設定!$T$118:$AH$191,6,FALSE))","v":"共女400mH"},{"$f":"IF(ISERROR(VLOOKUP($DM18,①初期設定!$T$118:$AH$191,6,FALSE)),\"*\",VLOOKUP($DM18,①初期設定!$T$118:$AH$191,6,FALSE))","v":"共女400mH"},{"$f":"IF(ISERROR(VLOOKUP(DM18,①初期設定!$E$118:$Q$192,4,FALSE)),\"*\",VLOOKUP(DM18,①初期設定!$E$118:$Q$192,4,FALSE))","v":"共男棒高跳（19日）"},{"$f":"IF(ISERROR(VLOOKUP($DM18,①初期設定!$E$118:$Q$192,4,FALSE)),\"*\",VLOOKUP($DM18,①初期設定!$E$118:$Q$192,4,FALSE))","v":"共男棒高跳（19日）"},{"$f":"IF(ISERROR(VLOOKUP(DM18,①初期設定!$V$118:$AH$191,4,FALSE)),\"*\",VLOOKUP(DM18,①初期設定!$V$118:$AH$191,4,FALSE))","v":"共女棒高跳（19日）"},{"$f":"IF(ISERROR(VLOOKUP($DM18,①初期設定!$V$118:$AH$191,4,FALSE)),\"*\",VLOOKUP($DM18,①初期設定!$V$118:$AH$191,4,FALSE))","v":"共女棒高跳（19日）"},{"$f":"IF(ISERROR(VLOOKUP(DM18,①初期設定!$G$118:$Q$192,2,FALSE)),\"*\",VLOOKUP(DM18,①初期設定!$G$118:$Q$192,2,FALSE))","v":"共男棒高跳（19日）"},{"$f":"IF(ISERROR(VLOOKUP($DM18,①初期設定!$G$118:$Q$192,2,FALSE)),\"*\",VLOOKUP($DM18,①初期設定!$G$118:$Q$192,2,FALSE))","v":"共男棒高跳（19日）"},{"$f":"IF(ISERROR(VLOOKUP(DM18,①初期設定!$X$118:$AH$191,2,FALSE)),\"*\",VLOOKUP(DM18,①初期設定!$X$118:$AH$191,2,FALSE))","v":"共女棒高跳（19日）"},{"$f":"IF(ISERROR(VLOOKUP($DM18,①初期設定!$X$118:$AH$191,2,FALSE)),\"*\",VLOOKUP($DM18,①初期設定!$X$118:$AH$191,2,FALSE))","v":"共女棒高跳（19日）"},"小3","小学","男子D","女子D",null,null,null,null,null,"高校男","高校男"]
[6,null,null,null,null,null,null,null,null,null,null,null,null,null,null,null,null,null,null,null,null,null,null,null,null,null,null,null,null,null,null,null,null,null,null,null,null,null,null,null,null,"",null,null,"",null,null,null,null,null,null,null,null,null,null,"",null,null,"",null,null,null,null,null,null,null,null,null,null,"",null,null,"",null,null,null,null,null,null,null,null,null,null,"400R","",0,0,0,0,0,"種目",0,0,0,"0",null,0,0,0,0,"種目2",0,0,0,"0","一般","常呂保育園","訓子府小","大空東藻琴中","北見商業高","ｵﾎｰﾂｸ陸協(川内)","ｱﾅｳﾝｻｰ",null,1974,"札幌","小4",5,{"$f":"IF(ISERROR(VLOOKUP(DM19,①初期設定!$C$50:$N$97,4,FALSE)),\"*\",VLOOKUP(DM19,①初期設定!$C$50:$N$97,4,FALSE))","v":"*"},{"$f":"IF(ISERROR(VLOOKUP(DM19,①初期設定!$Q$50:$AB$97,4,FALSE)),\"*\",VLOOKUP(DM19,①初期設定!$Q$50:$AB$97,4,FALSE))","v":"*"},{"$f":"IF(ISERROR(VLOOKUP(DM19,①初期設定!$E$50:$N$97,2,FALSE)),\"*\",VLOOKUP(DM19,①初期設定!$E$50:$N$97,2,FALSE))","v":"*"},{"$f":"IF(ISERROR(VLOOKUP(DM19,①初期設定!$S$50:$AB$97,2,FALSE)),\"*\",VLOOKUP(DM19,①初期設定!$S$50:$AB$97,2,FALSE))","v":"*"},{"$f":"IF(ISERROR(VLOOKUP(DM19,①初期設定!$C$118:$Q$192,6,FALSE)),\"*\",VLOOKUP(DM19,①初期設定!$C$118:$Q$192,6,FALSE))","v":"共男棒高跳（19日）"},{"$f":"IF(ISERROR(VLOOKUP($DM19,①初期設定!$C$118:$Q$192,6,FALSE)),\"*\",VLOOKUP($DM19,①初期設定!$C$118:$Q$192,6,FALSE))","v":"共男棒高跳（19日）"},{"$f":"IF(ISERROR(VLOOKUP($DM19,①初期設定!$T$118:$AH$191,6,FALSE)),\"*\",VLOOKUP($DM19,①初期設定!$T$118:$AH$191,6,FALSE))","v":"共女棒高跳（19日）"},{"$f":"IF(ISERROR(VLOOKUP($DM19,①初期設定!$T$118:$AH$191,6,FALSE)),\"*\",VLOOKUP($DM19,①初期設定!$T$118:$AH$191,6,FALSE))","v":"共女棒高跳（19日）"},{"$f":"IF(ISERROR(VLOOKUP(DM19,①初期設定!$E$118:$Q$192,4,FALSE)),\"*\",VLOOKUP(DM19,①初期設定!$E$118:$Q$192,4,FALSE))","v":"共男棒高跳（20日）"},{"$f":"IF(ISERROR(VLOOKUP($DM19,①初期設定!$E$118:$Q$192,4,FALSE)),\"*\",VLOOKUP($DM19,①初期設定!$E$118:$Q$192,4,FALSE))","v":"共男棒高跳（20日）"},{"$f":"IF(ISERROR(VLOOKUP(DM19,①初期設定!$V$118:$AH$191,4,FALSE)),\"*\",VLOOKUP(DM19,①初期設定!$V$118:$AH$191,4,FALSE))","v":"共女棒高跳（20日）"},{"$f":"IF(ISERROR(VLOOKUP($DM19,①初期設定!$V$118:$AH$191,4,FALSE)),\"*\",VLOOKUP($DM19,①初期設定!$V$118:$AH$191,4,FALSE))","v":"共女棒高跳（20日）"},{"$f":"IF(ISERROR(VLOOKUP(DM19,①初期設定!$G$118:$Q$192,2,FALSE)),\"*\",VLOOKUP(DM19,①初期設定!$G$118:$Q$192,2,FALSE))","v":"共男棒高跳（20日）"},{"$f":"IF(ISERROR(VLOOKUP($DM19,①初期設定!$G$118:$Q$192,2,FALSE)),\"*\",VLOOKUP($DM19,①初期設定!$G$118:$Q$192,2,FALSE))","v":"共男棒高跳（20日）"},{"$f":"IF(ISERROR(VLOOKUP(DM19,①初期設定!$X$118:$AH$191,2,FALSE)),\"*\",VLOOKUP(DM19,①初期設定!$X$118:$AH$191,2,FALSE))","v":"共女棒高跳（20日）"},{"$f":"IF(ISERROR(VLOOKUP($DM19,①初期設定!$X$118:$AH$191,2,FALSE)),\"*\",VLOOKUP($DM19,①初期設定!$X$118:$AH$191,2,FALSE))","v":"共女棒高跳（20日）"},"小4","小学","男子E","女子E",null,null,null,null,null,"高校女","高校女"]
[7,null,null,null,null,null,null,null,null,null,null,null,null,null,null,null,null,null,null,null,null,null,null,null,null,null,null,null,null,null,null,null,null,null,null,null,null,null,null,null,null,"",null,null,"",null,null,null,null,null,null,null,null,null,null,"",null,null,"",null,null,null,null,null,null,null,null,null,null,"",null,null,"",null,null,null,null,null,null,null,null,null,null,{"$f":"H20&$BX$13","v":"400R"},{"$f":"H20&$CA$13","v":""},0,0,0,0,0,"種目",0,0,0,"0",null,0,0,0,0,"種目2",0,0,0,"0",null,"北光幼稚園こどもOB","訓子府居武士小","大空女満別中","網走南ヶ丘高","ｵﾎｰﾂｸ陸協(川田)","風力計測",null,1975,"道央","小5",6,{"$f":"IF(ISERROR(VLOOKUP(DM20,①初期設定!$C$50:$N$97,4,FALSE)),\"*\",VLOOKUP(DM20,①初期設定!$C$50:$N$97,4,FALSE))","v":"*"},{"$f":"IF(ISERROR(VLOOKUP(DM20,①初期設定!$Q$50:$AB$97,4,FALSE)),\"*\",VLOOKUP(DM20,①初期設定!$Q$50:$AB$97,4,FALSE))","v":"*"},{"$f":"IF(ISERROR(VLOOKUP(DM20,①初期設定!$E$50:$N$97,2,FALSE)),\"*\",VLOOKUP(DM20,①初期設定!$E$50:$N$97,2,FALSE))","v":"*"},{"$f":"IF(ISERROR(VLOOKUP(DM20,①初期設定!$S$50:$AB$97,2,FALSE)),\"*\",VLOOKUP(DM20,①初期設定!$S$50:$AB$97,2,FALSE))","v":"*"},{"$f":"IF(ISERROR(VLOOKUP(DM20,①初期設定!$C$118:$Q$192,6,FALSE)),\"*\",VLOOKUP(DM20,①初期設定!$C$118:$Q$192,6,FALSE))","v":"共男棒高跳（20日）"},{"$f":"IF(ISERROR(VLOOKUP($DM20,①初期設定!$C$118:$Q$192,6,FALSE)),\"*\",VLOOKUP($DM20,①初期設定!$C$118:$Q$192,6,FALSE))","v":"共男棒高跳（20日）"},{"$f":"IF(ISERROR(VLOOKUP($DM20,①初期設定!$T$118:$AH$191,6,FALSE)),\"*\",VLOOKUP($DM20,①初期設定!$T$118:$AH$191,6,FALSE))","v":"共女棒高跳（20日）"},{"$f":"IF(ISERROR(VLOOKUP($DM20,①初期設定!$T$118:$AH$191,6,FALSE)),\"*\",VLOOKUP($DM20,①初期設定!$T$118:$AH$191,6,FALSE))","v":"共女棒高跳（20日）"},{"$f":"IF(ISERROR(VLOOKUP(DM20,①初期設定!$E$118:$Q$192,4,FALSE)),\"*\",VLOOKUP(DM20,①初期設定!$E$118:$Q$192,4,FALSE))","v":"共男三段跳（19日）"},{"$f":"IF(ISERROR(VLOOKUP($DM20,①初期設定!$E$118:$Q$192,4,FALSE)),\"*\",VLOOKUP($DM20,①初期設定!$E$118:$Q$192,4,FALSE))","v":"共男三段跳（19日）"},{"$f":"IF(ISERROR(VLOOKUP(DM20,①初期設定!$V$118:$AH$191,4,FALSE)),\"*\",VLOOKUP(DM20,①初期設定!$V$118:$AH$191,4,FALSE))","v":"共女三段跳（19日）"},{"$f":"IF(ISERROR(VLOOKUP($DM20,①初期設定!$V$118:$AH$191,4,FALSE)),\"*\",VLOOKUP($DM20,①初期設定!$V$118:$AH$191,4,FALSE))","v":"共女三段跳（19日）"},{"$f":"IF(ISERROR(VLOOKUP(DM20,①初期設定!$G$118:$Q$192,2,FALSE)),\"*\",VLOOKUP(DM20,①初期設定!$G$118:$Q$192,2,FALSE))","v":"共男三段跳（19日）"},{"$f":"IF(ISERROR(VLOOKUP($DM20,①初期設定!$G$118:$Q$192,2,FALSE)),\"*\",VLOOKUP($DM20,①初期設定!$G$118:$Q$192,2,FALSE))","v":"共男三段跳（19日）"},{"$f":"IF(ISERROR(VLOOKUP(DM20,①初期設定!$X$118:$AH$191,2,FALSE)),\"*\",VLOOKUP(DM20,①初期設定!$X$118:$AH$191,2,FALSE))","v":"共女三段跳（19日）"},{"$f":"IF(ISERROR(VLOOKUP($DM20,①初期設定!$X$118:$AH$191,2,FALSE)),\"*\",VLOOKUP($DM20,①初期設定!$X$118:$AH$191,2,FALSE))","v":"共女三段跳（19日）"},"小5","小学","男子F","女子F",null,null,null,null,null,"一般男","一般男"]
[8,null,null,null,null,null,null,null,null,null,null,null,null,null,null,null,null,null,null,null,null,null,null,null,null,null,null,null,null,null,null,null,null,null,null,null,null,null,null,null,null,"",null,null,"",null,null,null,null,null,null,null,null,null,null,"",null,null,"",null,null,null,null,null,null,null,null,null,null,"",null,null,"",null,null,null,null,null,null,null,null,null,null,"400R","",0,0,0,0,0,"種目",0,0,0,"0",null,0,0,0,0,"種目2",0,0,0,"0",null,"北見ﾏﾘｱ幼稚園","遠軽南小","美幌中","網走桂陽高","ｵﾎｰﾂｸ陸協(沼田)","用器具",null,1976,"空知","小6",7,{"$f":"IF(ISERROR(VLOOKUP(DM21,①初期設定!$C$50:$N$97,4,FALSE)),\"*\",VLOOKUP(DM21,①初期設定!$C$50:$N$97,4,FALSE))","v":"*"},{"$f":"IF(ISERROR(VLOOKUP(DM21,①初期設定!$Q$50:$AB$97,4,FALSE)),\"*\",VLOOKUP(DM21,①初期設定!$Q$50:$AB$97,4,FALSE))","v":"*"},{"$f":"IF(ISERROR(VLOOKUP(DM21,①初期設定!$E$50:$N$97,2,FALSE)),\"*\",VLOOKUP(DM21,①初期設定!$E$50:$N$97,2,FALSE))","v":"*"},{"$f":"IF(ISERROR(VLOOKUP(DM21,①初期設定!$S$50:$AB$97,2,FALSE)),\"*\",VLOOKUP(DM21,①初期設定!$S$50:$AB$97,2,FALSE))","v":"*"},{"$f":"IF(ISERROR(VLOOKUP(DM21,①初期設定!$C$118:$Q$192,6,FALSE)),\"*\",VLOOKUP(DM21,①初期設定!$C$118:$Q$192,6,FALSE))","v":"共男三段跳（19日）"},{"$f":"IF(ISERROR(VLOOKUP($DM21,①初期設定!$C$118:$Q$192,6,FALSE)),\"*\",VLOOKUP($DM21,①初期設定!$C$118:$Q$192,6,FALSE))","v":"共男三段跳（19日）"},{"$f":"IF(ISERROR(VLOOKUP($DM21,①初期設定!$T$118:$AH$191,6,FALSE)),\"*\",VLOOKUP($DM21,①初期設定!$T$118:$AH$191,6,FALSE))","v":"共女三段跳（19日）"},{"$f":"IF(ISERROR(VLOOKUP($DM21,①初期設定!$T$118:$AH$191,6,FALSE)),\"*\",VLOOKUP($DM21,①初期設定!$T$118:$AH$191,6,FALSE))","v":"共女三段跳（19日）"},{"$f":"IF(ISERROR(VLOOKUP(DM21,①初期設定!$E$118:$Q$192,4,FALSE)),\"*\",VLOOKUP(DM21,①初期設定!$E$118:$Q$192,4,FALSE))","v":"共男三段跳（20日）"},{"$f":"IF(ISERROR(VLOOKUP($DM21,①初期設定!$E$118:$Q$192,4,FALSE)),\"*\",VLOOKUP($DM21,①初期設定!$E$118:$Q$192,4,FALSE))","v":"共男三段跳（20日）"},{"$f":"IF(ISERROR(VLOOKUP(DM21,①初期設定!$V$118:$AH$191,4,FALSE)),\"*\",VLOOKUP(DM21,①初期設定!$V$118:$AH$191,4,FALSE))","v":"共女三段跳（20日）"},{"$f":"IF(ISERROR(VLOOKUP($DM21,①初期設定!$V$118:$AH$191,4,FALSE)),\"*\",VLOOKUP($DM21,①初期設定!$V$118:$AH$191,4,FALSE))","v":"共女三段跳（20日）"},{"$f":"IF(ISERROR(VLOOKUP(DM21,①初期設定!$G$118:$Q$192,2,FALSE)),\"*\",VLOOKUP(DM21,①初期設定!$G$118:$Q$192,2,FALSE))","v":"共男三段跳（20日）"},{"$f":"IF(ISERROR(VLOOKUP($DM21,①初期設定!$G$118:$Q$192,2,FALSE)),\"*\",VLOOKUP($DM21,①初期設定!$G$118:$Q$192,2,FALSE))","v":"共男三段跳（20日）"},{"$f":"IF(ISERROR(VLOOKUP(DM21,①初期設定!$X$118:$AH$191,2,FALSE)),\"*\",VLOOKUP(DM21,①初期設定!$X$118:$AH$191,2,FALSE))","v":"共女三段跳（20日）"},{"$f":"IF(ISERROR(VLOOKUP($DM21,①初期設定!$X$118:$AH$191,2,FALSE)),\"*\",VLOOKUP($DM21,①初期設定!$X$118:$AH$191,2,FALSE))","v":"共女三段跳（20日）"},"小6","小学",null,null,null,null,null,null,null,"一般女","一般女"]
[9,null,null,null,null,null,null,null,null,null,null,null,null,null,null,null,null,null,null,null,null,null,null,null,null,null,null,null,null,null,null,null,null,null,null,null,null,null,null,null,null,"",null,null,"",null,null,null,null,null,null,null,null,null,null,"",null,null,"",null,null,null,null,null,null,null,null,null,null,"",null,null,"",null,null,null,null,null,null,null,null,null,null,"400R","",0,0,0,0,0,"種目",0,0,0,"0",null,0,0,0,0,"種目2",0,0,0,"0",null,null,"遠軽白滝小","美幌北中","紋別高","ｵﾎｰﾂｸ陸協(松田)","写真判定",null,1977,"道北","中1",8,{"$f":"IF(ISERROR(VLOOKUP(DM22,①初期設定!$C$50:$N$97,4,FALSE)),\"*\",VLOOKUP(DM22,①初期設定!$C$50:$N$97,4,FALSE))","v":"*"},{"$f":"IF(ISERROR(VLOOKUP(DM22,①初期設定!$Q$50:$AB$97,4,FALSE)),\"*\",VLOOKUP(DM22,①初期設定!$Q$50:$AB$97,4,FALSE))","v":"*"},{"$f":"IF(ISERROR(VLOOKUP(DM22,①初期設定!$E$50:$N$97,2,FALSE)),\"*\",VLOOKUP(DM22,①初期設定!$E$50:$N$97,2,FALSE))","v":"*"},{"$f":"IF(ISERROR(VLOOKUP(DM22,①初期設定!$S$50:$AB$97,2,FALSE)),\"*\",VLOOKUP(DM22,①初期設定!$S$50:$AB$97,2,FALSE))","v":"*"},{"$f":"IF(ISERROR(VLOOKUP(DM22,①初期設定!$C$118:$Q$192,6,FALSE)),\"*\",VLOOKUP(DM22,①初期設定!$C$118:$Q$192,6,FALSE))","v":"共男三段跳（20日）"},{"$f":"IF(ISERROR(VLOOKUP($DM22,①初期設定!$C$118:$Q$192,6,FALSE)),\"*\",VLOOKUP($DM22,①初期設定!$C$118:$Q$192,6,FALSE))","v":"共男三段跳（20日）"},{"$f":"IF(ISERROR(VLOOKUP($DM22,①初期設定!$T$118:$AH$191,6,FALSE)),\"*\",VLOOKUP($DM22,①初期設定!$T$118:$AH$191,6,FALSE))","v":"共女三段跳（20日）"},{"$f":"IF(ISERROR(VLOOKUP($DM22,①初期設定!$T$118:$AH$191,6,FALSE)),\"*\",VLOOKUP($DM22,①初期設定!$T$118:$AH$191,6,FALSE))","v":"共女三段跳（20日）"},{"$f":"IF(ISERROR(VLOOKUP(DM22,①初期設定!$E$118:$Q$192,4,FALSE)),\"*\",VLOOKUP(DM22,①初期設定!$E$118:$Q$192,4,FALSE))","v":"高校男円盤（19日）"},{"$f":"IF(ISERROR(VLOOKUP($DM22,①初期設定!$E$118:$Q$192,4,FALSE)),\"*\",VLOOKUP($DM22,①初期設定!$E$118:$Q$192,4,FALSE))","v":"高校男円盤（19日）"},{"$f":"IF(ISERROR(VLOOKUP(DM22,①初期設定!$V$118:$AH$191,4,FALSE)),\"*\",VLOOKUP(DM22,①初期設定!$V$118:$AH$191,4,FALSE))","v":"共女円盤（19日）"},{"$f":"IF(ISERROR(VLOOKUP($DM22,①初期設定!$V$118:$AH$191,4,FALSE)),\"*\",VLOOKUP($DM22,①初期設定!$V$118:$AH$191,4,FALSE))","v":"共女円盤（19日）"},{"$f":"IF(ISERROR(VLOOKUP(DM22,①初期設定!$G$118:$Q$192,2,FALSE)),\"*\",VLOOKUP(DM22,①初期設定!$G$118:$Q$192,2,FALSE))","v":"一般男円盤（19日）"},{"$f":"IF(ISERROR(VLOOKUP($DM22,①初期設定!$G$118:$Q$192,2,FALSE)),\"*\",VLOOKUP($DM22,①初期設定!$G$118:$Q$192,2,FALSE))","v":"一般男円盤（19日）"},{"$f":"IF(ISERROR(VLOOKUP(DM22,①初期設定!$X$118:$AH$191,2,FALSE)),\"*\",VLOOKUP(DM22,①初期設定!$X$118:$AH$191,2,FALSE))","v":"共女円盤（19日）"},{"$f":"IF(ISERROR(VLOOKUP($DM22,①初期設定!$X$118:$AH$191,2,FALSE)),\"*\",VLOOKUP($DM22,①初期設定!$X$118:$AH$191,2,FALSE))","v":"共女円盤（19日）"},"中1","中学"]
[10,null,null,null,null,null,null,null,null,null,null,null,null,null,null,null,null,null,null,null,null,null,null,null,null,null,null,null,null,null,null,null,null,null,null,null,null,null,null,null,null,"",null,null,"",null,null,null,null,null,null,null,null,null,null,"",null,null,"",null,null,null,null,null,null,null,null,null,null,"",null,null,"",null,null,null,null,null,null,null,null,null,null,{"$f":"H23&$BX$13","v":"400R"},{"$f":"H23&$CA$13","v":""},0,0,0,0,0,"種目",0,0,0,"0",null,0,0,0,0,"種目2",0,0,0,"0",null,null,"興部小","遠軽中","美幌高","ｵﾎｰﾂｸ陸協(小川)","ｽﾀｰﾀｰ・ﾘｺｰﾗｰ",null,1978,"十勝","中2",9,{"$f":"IF(ISERROR(VLOOKUP(DM23,①初期設定!$C$50:$N$97,4,FALSE)),\"*\",VLOOKUP(DM23,①初期設定!$C$50:$N$97,4,FALSE))","v":"*"},{"$f":"IF(ISERROR(VLOOKUP(DM23,①初期設定!$Q$50:$AB$97,4,FALSE)),\"*\",VLOOKUP(DM23,①初期設定!$Q$50:$AB$97,4,FALSE))","v":"*"},{"$f":"IF(ISERROR(VLOOKUP(DM23,①初期設定!$E$50:$N$97,2,FALSE)),\"*\",VLOOKUP(DM23,①初期設定!$E$50:$N$97,2,FALSE))","v":"*"},{"$f":"IF(ISERROR(VLOOKUP(DM23,①初期設定!$S$50:$AB$97,2,FALSE)),\"*\",VLOOKUP(DM23,①初期設定!$S$50:$AB$97,2,FALSE))","v":"*"},{"$f":"IF(ISERROR(VLOOKUP(DM23,①初期設定!$C$118:$Q$192,6,FALSE)),\"*\",VLOOKUP(DM23,①初期設定!$C$118:$Q$192,6,FALSE))","v":"中男円盤（19日）"},{"$f":"IF(ISERROR(VLOOKUP($DM23,①初期設定!$C$118:$Q$192,6,FALSE)),\"*\",VLOOKUP($DM23,①初期設定!$C$118:$Q$192,6,FALSE))","v":"中男円盤（19日）"},{"$f":"IF(ISERROR(VLOOKUP($DM23,①初期設定!$T$118:$AH$191,6,FALSE)),\"*\",VLOOKUP($DM23,①初期設定!$T$118:$AH$191,6,FALSE))","v":"中女円盤（19日）"},{"$f":"IF(ISERROR(VLOOKUP($DM23,①初期設定!$T$118:$AH$191,6,FALSE)),\"*\",VLOOKUP($DM23,①初期設定!$T$118:$AH$191,6,FALSE))","v":"中女円盤（19日）"},{"$f":"IF(ISERROR(VLOOKUP(DM23,①初期設定!$E$118:$Q$192,4,FALSE)),\"*\",VLOOKUP(DM23,①初期設定!$E$118:$Q$192,4,FALSE))","v":"高校男円盤（20日）"},{"$f":"IF(ISERROR(VLOOKUP($DM23,①初期設定!$E$118:$Q$192,4,FALSE)),\"*\",VLOOKUP($DM23,①初期設定!$E$118:$Q$192,4,FALSE))","v":"高校男円盤（20日）"},{"$f":"IF(ISERROR(VLOOKUP(DM23,①初期設定!$V$118:$AH$191,4,FALSE)),\"*\",VLOOKUP(DM23,①初期設定!$V$118:$AH$191,4,FALSE))","v":"共女円盤（20日）"},{"$f":"IF(ISERROR(VLOOKUP($DM23,①初期設定!$V$118:$AH$191,4,FALSE)),\"*\",VLOOKUP($DM23,①初期設定!$V$118:$AH$191,4,FALSE))","v":"共女円盤（20日）"},{"$f":"IF(ISERROR(VLOOKUP(DM23,①初期設定!$G$118:$Q$192,2,FALSE)),\"*\",VLOOKUP(DM23,①初期設定!$G$118:$Q$192,2,FALSE))","v":"一般男円盤（20日）"},{"$f":"IF(ISERROR(VLOOKUP($DM23,①初期設定!$G$118:$Q$192,2,FALSE)),\"*\",VLOOKUP($DM23,①初期設定!$G$118:$Q$192,2,FALSE))","v":"一般男円盤（20日）"},{"$f":"IF(ISERROR(VLOOKUP(DM23,①初期設定!$X$118:$AH$191,2,FALSE)),\"*\",VLOOKUP(DM23,①初期設定!$X$118:$AH$191,2,FALSE))","v":"共女円盤（20日）"},{"$f":"IF(ISERROR(VLOOKUP($DM23,①初期設定!$X$118:$AH$191,2,FALSE)),\"*\",VLOOKUP($DM23,①初期設定!$X$118:$AH$191,2,FALSE))","v":"共女円盤（20日）"},"中2","中学"]
[11,null,null,null,null,null,null,null,null,null,null,null,null,null,null,null,null,null,null,null,null,null,null,null,null,null,null,null,null,null,null,null,null,null,null,null,null,null,null,null,null,"",null,null,"",null,null,null,null,null,null,null,null,null,null,"",null,null,"",null,null,null,null,null,null,null,null,null,null,"",null,null,"",null,null,null,null,null,null,null,null,null,null,{"$f":"H24&$BX$13","v":"400R"},{"$f":"H24&$CA$13","v":""},0,0,0,0,0,"種目",0,0,0,"0",null,0,0,0,0,"種目2",0,0,0,"0",null,null,"北見中央小","遠軽南中","斜里高","ｵﾎｰﾂｸ陸協(榊)","計時・決審",null,1979,"釧路地方","中3",10,{"$f":"IF(ISERROR(VLOOKUP(DM24,①初期設定!$C$50:$N$97,4,FALSE)),\"*\",VLOOKUP(DM24,①初期設定!$C$50:$N$97,4,FALSE))","v":"*"},{"$f":"IF(ISERROR(VLOOKUP(DM24,①初期設定!$Q$50:$AB$97,4,FALSE)),\"*\",VLOOKUP(DM24,①初期設定!$Q$50:$AB$97,4,FALSE))","v":"*"},{"$f":"IF(ISERROR(VLOOKUP(DM24,①初期設定!$E$50:$N$97,2,FALSE)),\"*\",VLOOKUP(DM24,①初期設定!$E$50:$N$97,2,FALSE))","v":"*"},{"$f":"IF(ISERROR(VLOOKUP(DM24,①初期設定!$S$50:$AB$97,2,FALSE)),\"*\",VLOOKUP(DM24,①初期設定!$S$50:$AB$97,2,FALSE))","v":"*"},{"$f":"IF(ISERROR(VLOOKUP(DM24,①初期設定!$C$118:$Q$192,6,FALSE)),\"*\",VLOOKUP(DM24,①初期設定!$C$118:$Q$192,6,FALSE))","v":"中男円盤（20日）"},{"$f":"IF(ISERROR(VLOOKUP($DM24,①初期設定!$C$118:$Q$192,6,FALSE)),\"*\",VLOOKUP($DM24,①初期設定!$C$118:$Q$192,6,FALSE))","v":"中男円盤（20日）"},{"$f":"IF(ISERROR(VLOOKUP($DM24,①初期設定!$T$118:$AH$191,6,FALSE)),\"*\",VLOOKUP($DM24,①初期設定!$T$118:$AH$191,6,FALSE))","v":"中女円盤（20日）"},{"$f":"IF(ISERROR(VLOOKUP($DM24,①初期設定!$T$118:$AH$191,6,FALSE)),\"*\",VLOOKUP($DM24,①初期設定!$T$118:$AH$191,6,FALSE))","v":"中女円盤（20日）"},{"$f":"IF(ISERROR(VLOOKUP(DM24,①初期設定!$E$118:$Q$192,4,FALSE)),\"*\",VLOOKUP(DM24,①初期設定!$E$118:$Q$192,4,FALSE))","v":"高校男ハンマー（19日）"},{"$f":"IF(ISERROR(VLOOKUP($DM24,①初期設定!$E$118:$Q$192,4,FALSE)),\"*\",VLOOKUP($DM24,①初期設定!$E$118:$Q$192,4,FALSE))","v":"高校男ハンマー（19日）"},{"$f":"IF(ISERROR(VLOOKUP(DM24,①初期設定!$V$118:$AH$191,4,FALSE)),\"*\",VLOOKUP(DM24,①初期設定!$V$118:$AH$191,4,FALSE))","v":"女子七種競技"},{"$f":"IF(ISERROR(VLOOKUP($DM24,①初期設定!$V$118:$AH$191,4,FALSE)),\"*\",VLOOKUP($DM24,①初期設定!$V$118:$AH$191,4,FALSE))","v":"女子七種競技"},{"$f":"IF(ISERROR(VLOOKUP(DM24,①初期設定!$G$118:$Q$192,2,FALSE)),\"*\",VLOOKUP(DM24,①初期設定!$G$118:$Q$192,2,FALSE))","v":"一般男ハンマー（19日）"},{"$f":"IF(ISERROR(VLOOKUP($DM24,①初期設定!$G$118:$Q$192,2,FALSE)),\"*\",VLOOKUP($DM24,①初期設定!$G$118:$Q$192,2,FALSE))","v":"一般男ハンマー（19日）"},{"$f":"IF(ISERROR(VLOOKUP(DM24,①初期設定!$X$118:$AH$191,2,FALSE)),\"*\",VLOOKUP(DM24,①初期設定!$X$118:$AH$191,2,FALSE))","v":"女子七種競技"},{"$f":"IF(ISERROR(VLOOKUP($DM24,①初期設定!$X$118:$AH$191,2,FALSE)),\"*\",VLOOKUP($DM24,①初期設定!$X$118:$AH$191,2,FALSE))","v":"女子七種競技"},"中3","中学"]
[12,null,null,null,null,null,null,null,null,null,null,null,null,null,null,null,null,null,null,null,null,null,null,null,null,null,null,null,null,null,null,null,null,null,null,null,null,null,null,null,null,"",null,null,"",null,null,null,null,null,null,null,null,null,null,"",null,null,"",null,null,null,null,null,null,null,null,null,null,"",null,null,"",null,null,null,null,null,null,null,null,null,null,{"$f":"H25&$BX$13","v":"400R"},{"$f":"H25&$CA$13","v":""},0,0,0,0,0,"種目",0,0,0,"0",null,0,0,0,0,"種目2",0,0,0,"0",null,null,"北見東小","遠軽白滝中","留辺蘂高","ｵﾎｰﾂｸ陸協(佐々木)","競技者係",null,1980,"オホーツク","高1",11,{"$f":"IF(ISERROR(VLOOKUP(DM25,①初期設定!$C$50:$N$97,4,FALSE)),\"*\",VLOOKUP(DM25,①初期設定!$C$50:$N$97,4,FALSE))","v":"*"},{"$f":"IF(ISERROR(VLOOKUP(DM25,①初期設定!$Q$50:$AB$97,4,FALSE)),\"*\",VLOOKUP(DM25,①初期設定!$Q$50:$AB$97,4,FALSE))","v":"*"},{"$f":"IF(ISERROR(VLOOKUP(DM25,①初期設定!$E$50:$N$97,2,FALSE)),\"*\",VLOOKUP(DM25,①初期設定!$E$50:$N$97,2,FALSE))","v":"*"},{"$f":"IF(ISERROR(VLOOKUP(DM25,①初期設定!$S$50:$AB$97,2,FALSE)),\"*\",VLOOKUP(DM25,①初期設定!$S$50:$AB$97,2,FALSE))","v":"*"},{"$f":"IF(ISERROR(VLOOKUP(DM25,①初期設定!$C$118:$Q$192,6,FALSE)),\"*\",VLOOKUP(DM25,①初期設定!$C$118:$Q$192,6,FALSE))","v":"中男ｼﾞｬﾍﾞﾘｯｸ（19日）"},{"$f":"IF(ISERROR(VLOOKUP($DM25,①初期設定!$C$118:$Q$192,6,FALSE)),\"*\",VLOOKUP($DM25,①初期設定!$C$118:$Q$192,6,FALSE))","v":"中男ｼﾞｬﾍﾞﾘｯｸ（19日）"},{"$f":"IF(ISERROR(VLOOKUP($DM25,①初期設定!$T$118:$AH$191,6,FALSE)),\"*\",VLOOKUP($DM25,①初期設定!$T$118:$AH$191,6,FALSE))","v":"中女ｼﾞｬﾍﾞﾘｯｸ（19日）"},{"$f":"IF(ISERROR(VLOOKUP($DM25,①初期設定!$T$118:$AH$191,6,FALSE)),\"*\",VLOOKUP($DM25,①初期設定!$T$118:$AH$191,6,FALSE))","v":"中女ｼﾞｬﾍﾞﾘｯｸ（19日）"},{"$f":"IF(ISERROR(VLOOKUP(DM25,①初期設定!$E$118:$Q$192,4,FALSE)),\"*\",VLOOKUP(DM25,①初期設定!$E$118:$Q$192,4,FALSE))","v":"高校男ハンマー（20日）"},{"$f":"IF(ISERROR(VLOOKUP($DM25,①初期設定!$E$118:$Q$192,4,FALSE)),\"*\",VLOOKUP($DM25,①初期設定!$E$118:$Q$192,4,FALSE))","v":"高校男ハンマー（20日）"},{"$f":"IF(ISERROR(VLOOKUP(DM25,①初期設定!$V$118:$AH$191,4,FALSE)),\"*\",VLOOKUP(DM25,①初期設定!$V$118:$AH$191,4,FALSE))","v":"*"},{"$f":"IF(ISERROR(VLOOKUP($DM25,①初期設定!$V$118:$AH$191,4,FALSE)),\"*\",VLOOKUP($DM25,①初期設定!$V$118:$AH$191,4,FALSE))","v":"*"},{"$f":"IF(ISERROR(VLOOKUP(DM25,①初期設定!$G$118:$Q$192,2,FALSE)),\"*\",VLOOKUP(DM25,①初期設定!$G$118:$Q$192,2,FALSE))","v":"一般男ハンマー（20日）"},{"$f":"IF(ISERROR(VLOOKUP($DM25,①初期設定!$G$118:$Q$192,2,FALSE)),\"*\",VLOOKUP($DM25,①初期設定!$G$118:$Q$192,2,FALSE))","v":"一般男ハンマー（20日）"},{"$f":"IF(ISERROR(VLOOKUP(DM25,①初期設定!$X$118:$AH$191,2,FALSE)),\"*\",VLOOKUP(DM25,①初期設定!$X$118:$AH$191,2,FALSE))","v":"*"},{"$f":"IF(ISERROR(VLOOKUP($DM25,①初期設定!$X$118:$AH$191,2,FALSE)),\"*\",VLOOKUP($DM25,①初期設定!$X$118:$AH$191,2,FALSE))","v":"*"},"高1","高校"]
[13,null,null,null,null,null,null,null,null,null,null,null,null,null,null,null,null,null,null,null,null,null,null,null,null,null,null,null,null,null,null,null,null,null,null,null,null,null,null,null,null,"",null,null,"",null,null,null,null,null,null,null,null,null,null,"",null,null,"",null,null,null,null,null,null,null,null,null,null,"",null,null,"",null,null,null,null,null,null,null,null,null,null,{"$f":"H26&$BX$13","v":"400R"},{"$f":"H26&$CA$13","v":""},0,0,0,0,0,"種目",0,0,0,"0",null,0,0,0,0,"種目2",0,0,0,"0",null,null,"北見西小","遠軽丸瀬布中","常呂高","ｵﾎｰﾂｸ陸協(今枝)","出発係",null,1981,null,"高2",12,{"$f":"IF(ISERROR(VLOOKUP(DM26,①初期設定!$C$50:$N$97,4,FALSE)),\"*\",VLOOKUP(DM26,①初期設定!$C$50:$N$97,4,FALSE))","v":"*"},{"$f":"IF(ISERROR(VLOOKUP(DM26,①初期設定!$Q$50:$AB$97,4,FALSE)),\"*\",VLOOKUP(DM26,①初期設定!$Q$50:$AB$97,4,FALSE))","v":"*"},{"$f":"IF(ISERROR(VLOOKUP(DM26,①初期設定!$E$50:$N$97,2,FALSE)),\"*\",VLOOKUP(DM26,①初期設定!$E$50:$N$97,2,FALSE))","v":"*"},{"$f":"IF(ISERROR(VLOOKUP(DM26,①初期設定!$S$50:$AB$97,2,FALSE)),\"*\",VLOOKUP(DM26,①初期設定!$S$50:$AB$97,2,FALSE))","v":"*"},{"$f":"IF(ISERROR(VLOOKUP(DM26,①初期設定!$C$118:$Q$192,6,FALSE)),\"*\",VLOOKUP(DM26,①初期設定!$C$118:$Q$192,6,FALSE))","v":"中男ｼﾞｬﾍﾞﾘｯｸ（20日）"},{"$f":"IF(ISERROR(VLOOKUP($DM26,①初期設定!$C$118:$Q$192,6,FALSE)),\"*\",VLOOKUP($DM26,①初期設定!$C$118:$Q$192,6,FALSE))","v":"中男ｼﾞｬﾍﾞﾘｯｸ（20日）"},{"$f":"IF(ISERROR(VLOOKUP($DM26,①初期設定!$T$118:$AH$191,6,FALSE)),\"*\",VLOOKUP($DM26,①初期設定!$T$118:$AH$191,6,FALSE))","v":"中女ｼﾞｬﾍﾞﾘｯｸ（20日）"},{"$f":"IF(ISERROR(VLOOKUP($DM26,①初期設定!$T$118:$AH$191,6,FALSE)),\"*\",VLOOKUP($DM26,①初期設定!$T$118:$AH$191,6,FALSE))","v":"中女ｼﾞｬﾍﾞﾘｯｸ（20日）"},{"$f":"IF(ISERROR(VLOOKUP(DM26,①初期設定!$E$118:$Q$192,4,FALSE)),\"*\",VLOOKUP(DM26,①初期設定!$E$118:$Q$192,4,FALSE))","v":"男子八種競技"},{"$f":"IF(ISERROR(VLOOKUP($DM26,①初期設定!$E$118:$Q$192,4,FALSE)),\"*\",VLOOKUP($DM26,①初期設定!$E$118:$Q$192,4,FALSE))","v":"男子八種競技"},{"$f":"IF(ISERROR(VLOOKUP(DM26,①初期設定!$V$118:$AH$191,4,FALSE)),\"*\",VLOOKUP(DM26,①初期設定!$V$118:$AH$191,4,FALSE))","v":"*"},{"$f":"IF(ISERROR(VLOOKUP($DM26,①初期設定!$V$118:$AH$191,4,FALSE)),\"*\",VLOOKUP($DM26,①初期設定!$V$118:$AH$191,4,FALSE))","v":"*"},{"$f":"IF(ISERROR(VLOOKUP(DM26,①初期設定!$G$118:$Q$192,2,FALSE)),\"*\",VLOOKUP(DM26,①初期設定!$G$118:$Q$192,2,FALSE))","v":"男子八種競技"},{"$f":"IF(ISERROR(VLOOKUP($DM26,①初期設定!$G$118:$Q$192,2,FALSE)),\"*\",VLOOKUP($DM26,①初期設定!$G$118:$Q$192,2,FALSE))","v":"男子八種競技"},{"$f":"IF(ISERROR(VLOOKUP(DM26,①初期設定!$X$118:$AH$191,2,FALSE)),\"*\",VLOOKUP(DM26,①初期設定!$X$118:$AH$191,2,FALSE))","v":"*"},{"$f":"IF(ISERROR(VLOOKUP($DM26,①初期設定!$X$118:$AH$191,2,FALSE)),\"*\",VLOOKUP($DM26,①初期設定!$X$118:$AH$191,2,FALSE))","v":"*"},"高2","高校"]
[14,null,null,null,null,null,null,null,null,null,null,null,null,null,null,null,null,null,null,null,null,null,null,null,null,null,null,null,null,null,null,null,null,null,null,null,null,null,null,null,null,"",null,null,"",null,null,null,null,null,null,null,null,null,null,"",null,null,"",null,null,null,null,null,null,null,null,null,null,"",null,null,"",null,null,null,null,null,null,null,null,null,null,"400R","",0,0,0,0,0,"種目",0,0,0,"0",null,0,0,0,0,"種目2",0,0,0,"0",null,null,"北見南小","湧別中","遠軽高","ｵﾎｰﾂｸ陸協(小倉)","周回記録",null,1982,null,"高3",13,{"$f":"IF(ISERROR(VLOOKUP(DM27,①初期設定!$C$50:$N$97,4,FALSE)),\"*\",VLOOKUP(DM27,①初期設定!$C$50:$N$97,4,FALSE))","v":"*"},{"$f":"IF(ISERROR(VLOOKUP(DM27,①初期設定!$Q$50:$AB$97,4,FALSE)),\"*\",VLOOKUP(DM27,①初期設定!$Q$50:$AB$97,4,FALSE))","v":"*"},{"$f":"IF(ISERROR(VLOOKUP(DM27,①初期設定!$E$50:$N$97,2,FALSE)),\"*\",VLOOKUP(DM27,①初期設定!$E$50:$N$97,2,FALSE))","v":"*"},{"$f":"IF(ISERROR(VLOOKUP(DM27,①初期設定!$S$50:$AB$97,2,FALSE)),\"*\",VLOOKUP(DM27,①初期設定!$S$50:$AB$97,2,FALSE))","v":"*"},{"$f":"IF(ISERROR(VLOOKUP(DM27,①初期設定!$C$118:$Q$192,6,FALSE)),\"*\",VLOOKUP(DM27,①初期設定!$C$118:$Q$192,6,FALSE))","v":"中男四種競技"},{"$f":"IF(ISERROR(VLOOKUP($DM27,①初期設定!$C$118:$Q$192,6,FALSE)),\"*\",VLOOKUP($DM27,①初期設定!$C$118:$Q$192,6,FALSE))","v":"中男四種競技"},{"$f":"IF(ISERROR(VLOOKUP($DM27,①初期設定!$T$118:$AH$191,6,FALSE)),\"*\",VLOOKUP($DM27,①初期設定!$T$118:$AH$191,6,FALSE))","v":"中女四種競技"},{"$f":"IF(ISERROR(VLOOKUP($DM27,①初期設定!$T$118:$AH$191,6,FALSE)),\"*\",VLOOKUP($DM27,①初期設定!$T$118:$AH$191,6,FALSE))","v":"中女四種競技"},{"$f":"IF(ISERROR(VLOOKUP(DM27,①初期設定!$E$118:$Q$192,4,FALSE)),\"*\",VLOOKUP(DM27,①初期設定!$E$118:$Q$192,4,FALSE))","v":"*"},{"$f":"IF(ISERROR(VLOOKUP($DM27,①初期設定!$E$118:$Q$192,4,FALSE)),\"*\",VLOOKUP($DM27,①初期設定!$E$118:$Q$192,4,FALSE))","v":"*"},{"$f":"IF(ISERROR(VLOOKUP(DM27,①初期設定!$V$118:$AH$191,4,FALSE)),\"*\",VLOOKUP(DM27,①初期設定!$V$118:$AH$191,4,FALSE))","v":"*"},{"$f":"IF(ISERROR(VLOOKUP($DM27,①初期設定!$V$118:$AH$191,4,FALSE)),\"*\",VLOOKUP($DM27,①初期設定!$V$118:$AH$191,4,FALSE))","v":"*"},{"$f":"IF(ISERROR(VLOOKUP(DM27,①初期設定!$G$118:$Q$192,2,FALSE)),\"*\",VLOOKUP(DM27,①初期設定!$G$118:$Q$192,2,FALSE))","v":"*"},{"$f":"IF(ISERROR(VLOOKUP($DM27,①初期設定!$G$118:$Q$192,2,FALSE)),\"*\",VLOOKUP($DM27,①初期設定!$G$118:$Q$192,2,FALSE))","v":"*"},{"$f":"IF(ISERROR(VLOOKUP(DM27,①初期設定!$X$118:$AH$191,2,FALSE)),\"*\",VLOOKUP(DM27,①初期設定!$X$118:$AH$191,2,FALSE))","v":"*"},{"$f":"IF(ISERROR(VLOOKUP($DM27,①初期設定!$X$118:$AH$191,2,FALSE)),\"*\",VLOOKUP($DM27,①初期設定!$X$118:$AH$191,2,FALSE))","v":"*"},"高3","高校"]
[15,null,null,null,null,null,null,null,null,null,null,null,null,null,null,null,null,null,null,null,null,null,null,null,null,null,null,null,null,null,null,null,null,null,null,null,null,null,null,null,null,"",null,null,"",null,null,null,null,null,null,null,null,null,null,"",null,null,"",null,null,null,null,null,null,null,null,null,null,"",null,null,"",null,null,null,null,null,null,null,null,null,null,"400R","",0,0,0,0,0,"種目",0,0,0,"0",null,0,0,0,0,"種目2",0,0,0,"0",null,null,"北見北小","興部沙留中","湧別高","ｵﾎｰﾂｸ陸協(三浦)","役員係",null,1983,null,"一般",14,{"$f":"IF(ISERROR(VLOOKUP(DM28,①初期設定!$C$50:$N$97,4,FALSE)),\"*\",VLOOKUP(DM28,①初期設定!$C$50:$N$97,4,FALSE))","v":"*"},{"$f":"IF(ISERROR(VLOOKUP(DM28,①初期設定!$Q$50:$AB$97,4,FALSE)),\"*\",VLOOKUP(DM28,①初期設定!$Q$50:$AB$97,4,FALSE))","v":"*"},{"$f":"IF(ISERROR(VLOOKUP(DM28,①初期設定!$E$50:$N$97,2,FALSE)),\"*\",VLOOKUP(DM28,①初期設定!$E$50:$N$97,2,FALSE))","v":"*"},{"$f":"IF(ISERROR(VLOOKUP(DM28,①初期設定!$S$50:$AB$97,2,FALSE)),\"*\",VLOOKUP(DM28,①初期設定!$S$50:$AB$97,2,FALSE))","v":"*"},{"$f":"IF(ISERROR(VLOOKUP(DM28,①初期設定!$C$118:$Q$192,6,FALSE)),\"*\",VLOOKUP(DM28,①初期設定!$C$118:$Q$192,6,FALSE))","v":"*"},{"$f":"IF(ISERROR(VLOOKUP($DM28,①初期設定!$C$118:$Q$192,6,FALSE)),\"*\",VLOOKUP($DM28,①初期設定!$C$118:$Q$192,6,FALSE))","v":"*"},{"$f":"IF(ISERROR(VLOOKUP($DM28,①初期設定!$T$118:$AH$191,6,FALSE)),\"*\",VLOOKUP($DM28,①初期設定!$T$118:$AH$191,6,FALSE))","v":"*"},{"$f":"IF(ISERROR(VLOOKUP($DM28,①初期設定!$T$118:$AH$191,6,FALSE)),\"*\",VLOOKUP($DM28,①初期設定!$T$118:$AH$191,6,FALSE))","v":"*"},{"$f":"IF(ISERROR(VLOOKUP(DM28,①初期設定!$E$118:$Q$192,4,FALSE)),\"*\",VLOOKUP(DM28,①初期設定!$E$118:$Q$192,4,FALSE))","v":"*"},{"$f":"IF(ISERROR(VLOOKUP($DM28,①初期設定!$E$118:$Q$192,4,FALSE)),\"*\",VLOOKUP($DM28,①初期設定!$E$118:$Q$192,4,FALSE))","v":"*"},{"$f":"IF(ISERROR(VLOOKUP(DM28,①初期設定!$V$118:$AH$191,4,FALSE)),\"*\",VLOOKUP(DM28,①初期設定!$V$118:$AH$191,4,FALSE))","v":"*"},{"$f":"IF(ISERROR(VLOOKUP($DM28,①初期設定!$V$118:$AH$191,4,FALSE)),\"*\",VLOOKUP($DM28,①初期設定!$V$118:$AH$191,4,FALSE))","v":"*"},{"$f":"IF(ISERROR(VLOOKUP(DM28,①初期設定!$G$118:$Q$192,2,FALSE)),\"*\",VLOOKUP(DM28,①初期設定!$G$118:$Q$192,2,FALSE))","v":"*"},{"$f":"IF(ISERROR(VLOOKUP($DM28,①初期設定!$G$118:$Q$192,2,FALSE)),\"*\",VLOOKUP($DM28,①初期設定!$G$118:$Q$192,2,FALSE))","v":"*"},{"$f":"IF(ISERROR(VLOOKUP(DM28,①初期設定!$X$118:$AH$191,2,FALSE)),\"*\",VLOOKUP(DM28,①初期設定!$X$118:$AH$191,2,FALSE))","v":"*"},{"$f":"IF(ISERROR(VLOOKUP($DM28,①初期設定!$X$118:$AH$191,2,FALSE)),\"*\",VLOOKUP($DM28,①初期設定!$X$118:$AH$191,2,FALSE))","v":"*"},"一般","一般"]
[16,null,null,null,null,null,null,null,null,null,null,null,null,null,null,null,null,null,null,null,null,null,null,null,null,null,null,null,null,null,null,null,null,null,null,null,null,null,null,null,null,"",null,null,"",null,null,null,null,null,null,null,null,null,null,"",null,null,"",null,null,null,null,null,null,null,null,null,null,"",null,null,"",null,null,null,null,null,null,null,null,null,null,"400R","",0,0,0,0,0,"種目",0,0,0,"0",null,0,0,0,0,"種目2",0,0,0,"0",null,null,"北見小泉小","雄武中","興部高","ｵﾎｰﾂｸ陸協(天野)","監察員",null,1984,null,null,15,{"$f":"IF(ISERROR(VLOOKUP(DM29,①初期設定!$C$50:$N$97,4,FALSE)),\"*\",VLOOKUP(DM29,①初期設定!$C$50:$N$97,4,FALSE))","v":"*"},{"$f":"IF(ISERROR(VLOOKUP(DM29,①初期設定!$Q$50:$AB$97,4,FALSE)),\"*\",VLOOKUP(DM29,①初期設定!$Q$50:$AB$97,4,FALSE))","v":"*"},{"$f":"IF(ISERROR(VLOOKUP(DM29,①初期設定!$E$50:$N$97,2,FALSE)),\"*\",VLOOKUP(DM29,①初期設定!$E$50:$N$97,2,FALSE))","v":"*"},{"$f":"IF(ISERROR(VLOOKUP(DM29,①初期設定!$S$50:$AB$97,2,FALSE)),\"*\",VLOOKUP(DM29,①初期設定!$S$50:$AB$97,2,FALSE))","v":"*"},{"$f":"IF(ISERROR(VLOOKUP(DM29,①初期設定!$C$118:$Q$192,6,FALSE)),\"*\",VLOOKUP(DM29,①初期設定!$C$118:$Q$192,6,FALSE))","v":"*"},{"$f":"IF(ISERROR(VLOOKUP($DM29,①初期設定!$C$118:$Q$192,6,FALSE)),\"*\",VLOOKUP($DM29,①初期設定!$C$118:$Q$192,6,FALSE))","v":"*"},{"$f":"IF(ISERROR(VLOOKUP($DM29,①初期設定!$T$118:$AH$191,6,FALSE)),\"*\",VLOOKUP($DM29,①初期設定!$T$118:$AH$191,6,FALSE))","v":"*"},{"$f":"IF(ISERROR(VLOOKUP($DM29,①初期設定!$T$118:$AH$191,6,FALSE)),\"*\",VLOOKUP($DM29,①初期設定!$T$118:$AH$191,6,FALSE))","v":"*"},{"$f":"IF(ISERROR(VLOOKUP(DM29,①初期設定!$E$118:$Q$192,4,FALSE)),\"*\",VLOOKUP(DM29,①初期設定!$E$118:$Q$192,4,FALSE))","v":"*"},{"$f":"IF(ISERROR(VLOOKUP($DM29,①初期設定!$E$118:$Q$192,4,FALSE)),\"*\",VLOOKUP($DM29,①初期設定!$E$118:$Q$192,4,FALSE))","v":"*"},{"$f":"IF(ISERROR(VLOOKUP(DM29,①初期設定!$V$118:$AH$191,4,FALSE)),\"*\",VLOOKUP(DM29,①初期設定!$V$118:$AH$191,4,FALSE))","v":"*"},{"$f":"IF(ISERROR(VLOOKUP($DM29,①初期設定!$V$118:$AH$191,4,FALSE)),\"*\",VLOOKUP($DM29,①初期設定!$V$118:$AH$191,4,FALSE))","v":"*"},{"$f":"IF(ISERROR(VLOOKUP(DM29,①初期設定!$G$118:$Q$192,2,FALSE)),\"*\",VLOOKUP(DM29,①初期設定!$G$118:$Q$192,2,FALSE))","v":"*"},{"$f":"IF(ISERROR(VLOOKUP($DM29,①初期設定!$G$118:$Q$192,2,FALSE)),\"*\",VLOOKUP($DM29,①初期設定!$G$118:$Q$192,2,FALSE))","v":"*"},{"$f":"IF(ISERROR(VLOOKUP(DM29,①初期設定!$X$118:$AH$191,2,FALSE)),\"*\",VLOOKUP(DM29,①初期設定!$X$118:$AH$191,2,FALSE))","v":"*"},{"$f":"IF(ISERROR(VLOOKUP($DM29,①初期設定!$X$118:$AH$191,2,FALSE)),\"*\",VLOOKUP($DM29,①初期設定!$X$118:$AH$191,2,FALSE))","v":"*"}]
[17,null,null,null,null,null,null,null,null,null,null,null,null,null,null,null,null,null,null,null,null,null,null,null,null,null,null,null,null,null,null,null,null,null,null,null,null,null,null,null,null,"",null,null,"",null,null,null,null,null,null,null,null,null,null,"",null,null,"",null,null,null,null,null,null,null,null,null,null,"",null,null,"",null,null,null,null,null,null,null,null,null,null,"400R","",0,0,0,0,0,"種目",0,0,0,"0",null,0,0,0,0,"種目2",0,0,0,"0",null,null,"北見三輪小","北見東陵中","滝上高","ｵﾎｰﾂｸ陸協(神代)","表彰係",null,1985,null,null,16,{"$f":"IF(ISERROR(VLOOKUP(DM30,①初期設定!$C$50:$N$97,4,FALSE)),\"*\",VLOOKUP(DM30,①初期設定!$C$50:$N$97,4,FALSE))","v":"*"},{"$f":"IF(ISERROR(VLOOKUP(DM30,①初期設定!$Q$50:$AB$97,4,FALSE)),\"*\",VLOOKUP(DM30,①初期設定!$Q$50:$AB$97,4,FALSE))","v":"*"},{"$f":"IF(ISERROR(VLOOKUP(DM30,①初期設定!$E$50:$N$97,2,FALSE)),\"*\",VLOOKUP(DM30,①初期設定!$E$50:$N$97,2,FALSE))","v":"*"},{"$f":"IF(ISERROR(VLOOKUP(DM30,①初期設定!$S$50:$AB$97,2,FALSE)),\"*\",VLOOKUP(DM30,①初期設定!$S$50:$AB$97,2,FALSE))","v":"*"},{"$f":"IF(ISERROR(VLOOKUP(DM30,①初期設定!$C$118:$Q$192,6,FALSE)),\"*\",VLOOKUP(DM30,①初期設定!$C$118:$Q$192,6,FALSE))","v":"*"},{"$f":"IF(ISERROR(VLOOKUP($DM30,①初期設定!$C$118:$Q$192,6,FALSE)),\"*\",VLOOKUP($DM30,①初期設定!$C$118:$Q$192,6,FALSE))","v":"*"},{"$f":"IF(ISERROR(VLOOKUP($DM30,①初期設定!$T$118:$AH$191,6,FALSE)),\"*\",VLOOKUP($DM30,①初期設定!$T$118:$AH$191,6,FALSE))","v":"*"},{"$f":"IF(ISERROR(VLOOKUP($DM30,①初期設定!$T$118:$AH$191,6,FALSE)),\"*\",VLOOKUP($DM30,①初期設定!$T$118:$AH$191,6,FALSE))","v":"*"},{"$f":"IF(ISERROR(VLOOKUP(DM30,①初期設定!$E$118:$Q$192,4,FALSE)),\"*\",VLOOKUP(DM30,①初期設定!$E$118:$Q$192,4,FALSE))","v":"*"},{"$f":"IF(ISERROR(VLOOKUP($DM30,①初期設定!$E$118:$Q$192,4,FALSE)),\"*\",VLOOKUP($DM30,①初期設定!$E$118:$Q$192,4,FALSE))","v":"*"},{"$f":"IF(ISERROR(VLOOKUP(DM30,①初期設定!$V$118:$AH$191,4,FALSE)),\"*\",VLOOKUP(DM30,①初期設定!$V$118:$AH$191,4,FALSE))","v":"*"},{"$f":"IF(ISERROR(VLOOKUP($DM30,①初期設定!$V$118:$AH$191,4,FALSE)),\"*\",VLOOKUP($DM30,①初期設定!$V$118:$AH$191,4,FALSE))","v":"*"},{"$f":"IF(ISERROR(VLOOKUP(DM30,①初期設定!$G$118:$Q$192,2,FALSE)),\"*\",VLOOKUP(DM30,①初期設定!$G$118:$Q$192,2,FALSE))","v":"*"},{"$f":"IF(ISERROR(VLOOKUP($DM30,①初期設定!$G$118:$Q$192,2,FALSE)),\"*\",VLOOKUP($DM30,①初期設定!$G$118:$Q$192,2,FALSE))","v":"*"},{"$f":"IF(ISERROR(VLOOKUP(DM30,①初期設定!$X$118:$AH$191,2,FALSE)),\"*\",VLOOKUP(DM30,①初期設定!$X$118:$AH$191,2,FALSE))","v":"*"},{"$f":"IF(ISERROR(VLOOKUP($DM30,①初期設定!$X$118:$AH$191,2,FALSE)),\"*\",VLOOKUP($DM30,①初期設定!$X$118:$AH$191,2,FALSE))","v":"*"}]
[18,null,null,null,null,null,null,null,null,null,null,null,null,null,null,null,null,null,null,null,null,null,null,null,null,null,null,null,null,null,null,null,null,null,null,null,null,null,null,null,null,"",null,null,"",null,null,null,null,null,null,null,null,null,null,"",null,null,"",null,null,null,null,null,null,null,null,null,null,"",null,null,"",null,null,null,null,null,null,null,null,null,null,"400R","",0,0,0,0,0,"種目",0,0,0,"0",null,0,0,0,0,"種目2",0,0,0,"0",null,null,"北見緑小","北見光西中","雄武高","北見工大","跳躍審判",null,1986,null,null,17,{"$f":"IF(ISERROR(VLOOKUP(DM31,①初期設定!$C$50:$N$97,4,FALSE)),\"*\",VLOOKUP(DM31,①初期設定!$C$50:$N$97,4,FALSE))","v":"*"},{"$f":"IF(ISERROR(VLOOKUP(DM31,①初期設定!$Q$50:$AB$97,4,FALSE)),\"*\",VLOOKUP(DM31,①初期設定!$Q$50:$AB$97,4,FALSE))","v":"*"},{"$f":"IF(ISERROR(VLOOKUP(DM31,①初期設定!$E$50:$N$97,2,FALSE)),\"*\",VLOOKUP(DM31,①初期設定!$E$50:$N$97,2,FALSE))","v":"*"},{"$f":"IF(ISERROR(VLOOKUP(DM31,①初期設定!$S$50:$AB$97,2,FALSE)),\"*\",VLOOKUP(DM31,①初期設定!$S$50:$AB$97,2,FALSE))","v":"*"},{"$f":"IF(ISERROR(VLOOKUP(DM31,①初期設定!$C$118:$Q$192,6,FALSE)),\"*\",VLOOKUP(DM31,①初期設定!$C$118:$Q$192,6,FALSE))","v":"*"},{"$f":"IF(ISERROR(VLOOKUP($DM31,①初期設定!$C$118:$Q$192,6,FALSE)),\"*\",VLOOKUP($DM31,①初期設定!$C$118:$Q$192,6,FALSE))","v":"*"},{"$f":"IF(ISERROR(VLOOKUP($DM31,①初期設定!$T$118:$AH$191,6,FALSE)),\"*\",VLOOKUP($DM31,①初期設定!$T$118:$AH$191,6,FALSE))","v":"*"},{"$f":"IF(ISERROR(VLOOKUP($DM31,①初期設定!$T$118:$AH$191,6,FALSE)),\"*\",VLOOKUP($DM31,①初期設定!$T$118:$AH$191,6,FALSE))","v":"*"},{"$f":"IF(ISERROR(VLOOKUP(DM31,①初期設定!$E$118:$Q$192,4,FALSE)),\"*\",VLOOKUP(DM31,①初期設定!$E$118:$Q$192,4,FALSE))","v":"*"},{"$f":"IF(ISERROR(VLOOKUP($DM31,①初期設定!$E$118:$Q$192,4,FALSE)),\"*\",VLOOKUP($DM31,①初期設定!$E$118:$Q$192,4,FALSE))","v":"*"},{"$f":"IF(ISERROR(VLOOKUP(DM31,①初期設定!$V$118:$AH$191,4,FALSE)),\"*\",VLOOKUP(DM31,①初期設定!$V$118:$AH$191,4,FALSE))","v":"*"},{"$f":"IF(ISERROR(VLOOKUP($DM31,①初期設定!$V$118:$AH$191,4,FALSE)),\"*\",VLOOKUP($DM31,①初期設定!$V$118:$AH$191,4,FALSE))","v":"*"},{"$f":"IF(ISERROR(VLOOKUP(DM31,①初期設定!$G$118:$Q$192,2,FALSE)),\"*\",VLOOKUP(DM31,①初期設定!$G$118:$Q$192,2,FALSE))","v":"*"},{"$f":"IF(ISERROR(VLOOKUP($DM31,①初期設定!$G$118:$Q$192,2,FALSE)),\"*\",VLOOKUP($DM31,①初期設定!$G$118:$Q$192,2,FALSE))","v":"*"},{"$f":"IF(ISERROR(VLOOKUP(DM31,①初期設定!$X$118:$AH$191,2,FALSE)),\"*\",VLOOKUP(DM31,①初期設定!$X$118:$AH$191,2,FALSE))","v":"*"},{"$f":"IF(ISERROR(VLOOKUP($DM31,①初期設定!$X$118:$AH$191,2,FALSE)),\"*\",VLOOKUP($DM31,①初期設定!$X$118:$AH$191,2,FALSE))","v":"*"}]
[19,null,null,null,null,null,null,null,null,null,null,null,null,null,null,null,null,null,null,null,null,null,null,null,null,null,null,null,null,null,null,null,null,null,null,null,null,null,null,null,null,"",null,null,"",null,null,null,null,null,null,null,null,null,null,"",null,null,"",null,null,null,null,null,null,null,null,null,null,"",null,null,"",null,null,null,null,null,null,null,null,null,null,"400R","",0,0,0,0,0,"種目",0,0,0,"0",null,0,0,0,0,"種目2",0,0,0,"0",null,null,"北見緑小(福井)","北見南中","訓子府高","東京農大","投擲審判",null,1987,null,null,18,{"$f":"IF(ISERROR(VLOOKUP(DM32,①初期設定!$C$50:$N$97,4,FALSE)),\"*\",VLOOKUP(DM32,①初期設定!$C$50:$N$97,4,FALSE))","v":"*"},{"$f":"IF(ISERROR(VLOOKUP(DM32,①初期設定!$Q$50:$AB$97,4,FALSE)),\"*\",VLOOKUP(DM32,①初期設定!$Q$50:$AB$97,4,FALSE))","v":"*"},{"$f":"IF(ISERROR(VLOOKUP(DM32,①初期設定!$E$50:$N$97,2,FALSE)),\"*\",VLOOKUP(DM32,①初期設定!$E$50:$N$97,2,FALSE))","v":"*"},{"$f":"IF(ISERROR(VLOOKUP(DM32,①初期設定!$S$50:$AB$97,2,FALSE)),\"*\",VLOOKUP(DM32,①初期設定!$S$50:$AB$97,2,FALSE))","v":"*"},{"$f":"IF(ISERROR(VLOOKUP(DM32,①初期設定!$C$118:$Q$192,6,FALSE)),\"*\",VLOOKUP(DM32,①初期設定!$C$118:$Q$192,6,FALSE))","v":"*"},{"$f":"IF(ISERROR(VLOOKUP($DM32,①初期設定!$C$118:$Q$192,6,FALSE)),\"*\",VLOOKUP($DM32,①初期設定!$C$118:$Q$192,6,FALSE))","v":"*"},{"$f":"IF(ISERROR(VLOOKUP($DM32,①初期設定!$T$118:$AH$191,6,FALSE)),\"*\",VLOOKUP($DM32,①初期設定!$T$118:$AH$191,6,FALSE))","v":"*"},{"$f":"IF(ISERROR(VLOOKUP($DM32,①初期設定!$T$118:$AH$191,6,FALSE)),\"*\",VLOOKUP($DM32,①初期設定!$T$118:$AH$191,6,FALSE))","v":"*"},{"$f":"IF(ISERROR(VLOOKUP(DM32,①初期設定!$E$118:$Q$192,4,FALSE)),\"*\",VLOOKUP(DM32,①初期設定!$E$118:$Q$192,4,FALSE))","v":"*"},{"$f":"IF(ISERROR(VLOOKUP($DM32,①初期設定!$E$118:$Q$192,4,FALSE)),\"*\",VLOOKUP($DM32,①初期設定!$E$118:$Q$192,4,FALSE))","v":"*"},{"$f":"IF(ISERROR(VLOOKUP(DM32,①初期設定!$V$118:$AH$191,4,FALSE)),\"*\",VLOOKUP(DM32,①初期設定!$V$118:$AH$191,4,FALSE))","v":"*"},{"$f":"IF(ISERROR(VLOOKUP($DM32,①初期設定!$V$118:$AH$191,4,FALSE)),\"*\",VLOOKUP($DM32,①初期設定!$V$118:$AH$191,4,FALSE))","v":"*"},{"$f":"IF(ISERROR(VLOOKUP(DM32,①初期設定!$G$118:$Q$192,2,FALSE)),\"*\",VLOOKUP(DM32,①初期設定!$G$118:$Q$192,2,FALSE))","v":"*"},{"$f":"IF(ISERROR(VLOOKUP($DM32,①初期設定!$G$118:$Q$192,2,FALSE)),\"*\",VLOOKUP($DM32,①初期設定!$G$118:$Q$192,2,FALSE))","v":"*"},{"$f":"IF(ISERROR(VLOOKUP(DM32,①初期設定!$X$118:$AH$191,2,FALSE)),\"*\",VLOOKUP(DM32,①初期設定!$X$118:$AH$191,2,FALSE))","v":"*"},{"$f":"IF(ISERROR(VLOOKUP($DM32,①初期設定!$X$118:$AH$191,2,FALSE)),\"*\",VLOOKUP($DM32,①初期設定!$X$118:$AH$191,2,FALSE))","v":"*"}]
[20,null,null,null,null,null,null,null,null,null,null,null,null,null,null,null,null,null,null,null,null,null,null,null,null,null,null,null,null,null,null,null,null,null,null,null,null,null,null,null,null,"",null,null,"",null,null,null,null,null,null,null,null,null,null,"",null,null,"",null,null,null,null,null,null,null,null,null,null,"",null,null,"",null,null,null,null,null,null,null,null,null,null,"400R","",0,0,0,0,0,"種目",0,0,0,"0",null,0,0,0,0,"種目2",0,0,0,"0",null,null,"北見緑小(高橋)","北見北中","女満別高","ｵﾎｰﾂｸAC",null,null,1988,null,null,19,{"$f":"IF(ISERROR(VLOOKUP(DM33,①初期設定!$C$50:$N$97,4,FALSE)),\"*\",VLOOKUP(DM33,①初期設定!$C$50:$N$97,4,FALSE))","v":"*"},{"$f":"IF(ISERROR(VLOOKUP(DM33,①初期設定!$Q$50:$AB$97,4,FALSE)),\"*\",VLOOKUP(DM33,①初期設定!$Q$50:$AB$97,4,FALSE))","v":"*"},{"$f":"IF(ISERROR(VLOOKUP(DM33,①初期設定!$E$50:$N$97,2,FALSE)),\"*\",VLOOKUP(DM33,①初期設定!$E$50:$N$97,2,FALSE))","v":"*"},{"$f":"IF(ISERROR(VLOOKUP(DM33,①初期設定!$S$50:$AB$97,2,FALSE)),\"*\",VLOOKUP(DM33,①初期設定!$S$50:$AB$97,2,FALSE))","v":"*"},{"$f":"IF(ISERROR(VLOOKUP(DM33,①初期設定!$C$118:$Q$192,6,FALSE)),\"*\",VLOOKUP(DM33,①初期設定!$C$118:$Q$192,6,FALSE))","v":"*"},{"$f":"IF(ISERROR(VLOOKUP($DM33,①初期設定!$C$118:$Q$192,6,FALSE)),\"*\",VLOOKUP($DM33,①初期設定!$C$118:$Q$192,6,FALSE))","v":"*"},{"$f":"IF(ISERROR(VLOOKUP($DM33,①初期設定!$T$118:$AH$191,6,FALSE)),\"*\",VLOOKUP($DM33,①初期設定!$T$118:$AH$191,6,FALSE))","v":"*"},{"$f":"IF(ISERROR(VLOOKUP($DM33,①初期設定!$T$118:$AH$191,6,FALSE)),\"*\",VLOOKUP($DM33,①初期設定!$T$118:$AH$191,6,FALSE))","v":"*"},{"$f":"IF(ISERROR(VLOOKUP(DM33,①初期設定!$E$118:$Q$192,4,FALSE)),\"*\",VLOOKUP(DM33,①初期設定!$E$118:$Q$192,4,FALSE))","v":"*"},{"$f":"IF(ISERROR(VLOOKUP($DM33,①初期設定!$E$118:$Q$192,4,FALSE)),\"*\",VLOOKUP($DM33,①初期設定!$E$118:$Q$192,4,FALSE))","v":"*"},{"$f":"IF(ISERROR(VLOOKUP(DM33,①初期設定!$V$118:$AH$191,4,FALSE)),\"*\",VLOOKUP(DM33,①初期設定!$V$118:$AH$191,4,FALSE))","v":"*"},{"$f":"IF(ISERROR(VLOOKUP($DM33,①初期設定!$V$118:$AH$191,4,FALSE)),\"*\",VLOOKUP($DM33,①初期設定!$V$118:$AH$191,4,FALSE))","v":"*"},{"$f":"IF(ISERROR(VLOOKUP(DM33,①初期設定!$G$118:$Q$192,2,FALSE)),\"*\",VLOOKUP(DM33,①初期設定!$G$118:$Q$192,2,FALSE))","v":"*"},{"$f":"IF(ISERROR(VLOOKUP($DM33,①初期設定!$G$118:$Q$192,2,FALSE)),\"*\",VLOOKUP($DM33,①初期設定!$G$118:$Q$192,2,FALSE))","v":"*"},{"$f":"IF(ISERROR(VLOOKUP(DM33,①初期設定!$X$118:$AH$191,2,FALSE)),\"*\",VLOOKUP(DM33,①初期設定!$X$118:$AH$191,2,FALSE))","v":"*"},{"$f":"IF(ISERROR(VLOOKUP($DM33,①初期設定!$X$118:$AH$191,2,FALSE)),\"*\",VLOOKUP($DM33,①初期設定!$X$118:$AH$191,2,FALSE))","v":"*"}]
[21,null,null,null,null,null,null,null,null,null,null,null,null,null,null,null,null,null,null,null,null,null,null,null,null,null,null,null,null,null,null,null,null,null,null,null,null,null,null,null,null,"",null,null,"",null,null,null,null,null,null,null,null,null,null,"",null,null,"",null,null,null,null,null,null,null,null,null,null,"",null,null,"",null,null,null,null,null,null,null,null,null,null,"400R","",0,0,0,0,0,"種目",0,0,0,"0",null,0,0,0,0,"種目2",0,0,0,"0",null,null,"北見北光小","北見高栄中","東藻琴高","札幌大(佐藤)",null,null,1989,null,null,20,{"$f":"IF(ISERROR(VLOOKUP(DM34,①初期設定!$C$50:$N$97,4,FALSE)),\"*\",VLOOKUP(DM34,①初期設定!$C$50:$N$97,4,FALSE))","v":"*"},{"$f":"IF(ISERROR(VLOOKUP(DM34,①初期設定!$Q$50:$AB$97,4,FALSE)),\"*\",VLOOKUP(DM34,①初期設定!$Q$50:$AB$97,4,FALSE))","v":"*"},{"$f":"IF(ISERROR(VLOOKUP(DM34,①初期設定!$E$50:$N$97,2,FALSE)),\"*\",VLOOKUP(DM34,①初期設定!$E$50:$N$97,2,FALSE))","v":"*"},{"$f":"IF(ISERROR(VLOOKUP(DM34,①初期設定!$S$50:$AB$97,2,FALSE)),\"*\",VLOOKUP(DM34,①初期設定!$S$50:$AB$97,2,FALSE))","v":"*"},{"$f":"IF(ISERROR(VLOOKUP(DM34,①初期設定!$C$118:$Q$192,6,FALSE)),\"*\",VLOOKUP(DM34,①初期設定!$C$118:$Q$192,6,FALSE))","v":"*"},{"$f":"IF(ISERROR(VLOOKUP($DM34,①初期設定!$C$118:$Q$192,6,FALSE)),\"*\",VLOOKUP($DM34,①初期設定!$C$118:$Q$192,6,FALSE))","v":"*"},{"$f":"IF(ISERROR(VLOOKUP($DM34,①初期設定!$T$118:$AH$191,6,FALSE)),\"*\",VLOOKUP($DM34,①初期設定!$T$118:$AH$191,6,FALSE))","v":"*"},{"$f":"IF(ISERROR(VLOOKUP($DM34,①初期設定!$T$118:$AH$191,6,FALSE)),\"*\",VLOOKUP($DM34,①初期設定!$T$118:$AH$191,6,FALSE))","v":"*"},{"$f":"IF(ISERROR(VLOOKUP(DM34,①初期設定!$E$118:$Q$192,4,FALSE)),\"*\",VLOOKUP(DM34,①初期設定!$E$118:$Q$192,4,FALSE))","v":"*"},{"$f":"IF(ISERROR(VLOOKUP($DM34,①初期設定!$E$118:$Q$192,4,FALSE)),\"*\",VLOOKUP($DM34,①初期設定!$E$118:$Q$192,4,FALSE))","v":"*"},{"$f":"IF(ISERROR(VLOOKUP(DM34,①初期設定!$V$118:$AH$191,4,FALSE)),\"*\",VLOOKUP(DM34,①初期設定!$V$118:$AH$191,4,FALSE))","v":"*"},{"$f":"IF(ISERROR(VLOOKUP($DM34,①初期設定!$V$118:$AH$191,4,FALSE)),\"*\",VLOOKUP($DM34,①初期設定!$V$118:$AH$191,4,FALSE))","v":"*"},{"$f":"IF(ISERROR(VLOOKUP(DM34,①初期設定!$G$118:$Q$192,2,FALSE)),\"*\",VLOOKUP(DM34,①初期設定!$G$118:$Q$192,2,FALSE))","v":"*"},{"$f":"IF(ISERROR(VLOOKUP($DM34,①初期設定!$G$118:$Q$192,2,FALSE)),\"*\",VLOOKUP($DM34,①初期設定!$G$118:$Q$192,2,FALSE))","v":"*"},{"$f":"IF(ISERROR(VLOOKUP(DM34,①初期設定!$X$118:$AH$191,2,FALSE)),\"*\",VLOOKUP(DM34,①初期設定!$X$118:$AH$191,2,FALSE))","v":"*"},{"$f":"IF(ISERROR(VLOOKUP($DM34,①初期設定!$X$118:$AH$191,2,FALSE)),\"*\",VLOOKUP($DM34,①初期設定!$X$118:$AH$191,2,FALSE))","v":"*"}]
[22,null,null,null,null,null,null,null,null,null,null,null,null,null,null,null,null,null,null,null,null,null,null,null,null,null,null,null,null,null,null,null,null,null,null,null,null,null,null,null,null,"",null,null,"",null,null,null,null,null,null,null,null,null,null,"",null,null,"",null,null,null,null,null,null,null,null,null,null,"",null,null,"",null,null,null,null,null,null,null,null,null,null,"400R","",0,0,0,0,0,"種目",0,0,0,"0",null,0,0,0,0,"種目2",0,0,0,"0",null,null,"北見美山小","北見小泉中","北見藤女子高","北翔大",null,null,1990,null,null,21,{"$f":"IF(ISERROR(VLOOKUP(DM35,①初期設定!$C$50:$N$97,4,FALSE)),\"*\",VLOOKUP(DM35,①初期設定!$C$50:$N$97,4,FALSE))","v":"*"},{"$f":"IF(ISERROR(VLOOKUP(DM35,①初期設定!$Q$50:$AB$97,4,FALSE)),\"*\",VLOOKUP(DM35,①初期設定!$Q$50:$AB$97,4,FALSE))","v":"*"},{"$f":"IF(ISERROR(VLOOKUP(DM35,①初期設定!$E$50:$N$97,2,FALSE)),\"*\",VLOOKUP(DM35,①初期設定!$E$50:$N$97,2,FALSE))","v":"*"},{"$f":"IF(ISERROR(VLOOKUP(DM35,①初期設定!$S$50:$AB$97,2,FALSE)),\"*\",VLOOKUP(DM35,①初期設定!$S$50:$AB$97,2,FALSE))","v":"*"},{"$f":"IF(ISERROR(VLOOKUP(DM35,①初期設定!$C$118:$Q$192,6,FALSE)),\"*\",VLOOKUP(DM35,①初期設定!$C$118:$Q$192,6,FALSE))","v":"*"},{"$f":"IF(ISERROR(VLOOKUP($DM35,①初期設定!$C$118:$Q$192,6,FALSE)),\"*\",VLOOKUP($DM35,①初期設定!$C$118:$Q$192,6,FALSE))","v":"*"},{"$f":"IF(ISERROR(VLOOKUP($DM35,①初期設定!$T$118:$AH$191,6,FALSE)),\"*\",VLOOKUP($DM35,①初期設定!$T$118:$AH$191,6,FALSE))","v":"*"},{"$f":"IF(ISERROR(VLOOKUP($DM35,①初期設定!$T$118:$AH$191,6,FALSE)),\"*\",VLOOKUP($DM35,①初期設定!$T$118:$AH$191,6,FALSE))","v":"*"},{"$f":"IF(ISERROR(VLOOKUP(DM35,①初期設定!$E$118:$Q$192,4,FALSE)),\"*\",VLOOKUP(DM35,①初期設定!$E$118:$Q$192,4,FALSE))","v":"*"},{"$f":"IF(ISERROR(VLOOKUP($DM35,①初期設定!$E$118:$Q$192,4,FALSE)),\"*\",VLOOKUP($DM35,①初期設定!$E$118:$Q$192,4,FALSE))","v":"*"},{"$f":"IF(ISERROR(VLOOKUP(DM35,①初期設定!$V$118:$AH$191,4,FALSE)),\"*\",VLOOKUP(DM35,①初期設定!$V$118:$AH$191,4,FALSE))","v":"*"},{"$f":"IF(ISERROR(VLOOKUP($DM35,①初期設定!$V$118:$AH$191,4,FALSE)),\"*\",VLOOKUP($DM35,①初期設定!$V$118:$AH$191,4,FALSE))","v":"*"},{"$f":"IF(ISERROR(VLOOKUP(DM35,①初期設定!$G$118:$Q$192,2,FALSE)),\"*\",VLOOKUP(DM35,①初期設定!$G$118:$Q$192,2,FALSE))","v":"*"},{"$f":"IF(ISERROR(VLOOKUP($DM35,①初期設定!$G$118:$Q$192,2,FALSE)),\"*\",VLOOKUP($DM35,①初期設定!$G$118:$Q$192,2,FALSE))","v":"*"},{"$f":"IF(ISERROR(VLOOKUP(DM35,①初期設定!$X$118:$AH$191,2,FALSE)),\"*\",VLOOKUP(DM35,①初期設定!$X$118:$AH$191,2,FALSE))","v":"*"},{"$f":"IF(ISERROR(VLOOKUP($DM35,①初期設定!$X$118:$AH$191,2,FALSE)),\"*\",VLOOKUP($DM35,①初期設定!$X$118:$AH$191,2,FALSE))","v":"*"}]
[23,null,null,null,null,null,null,null,null,null,null,null,null,null,null,null,null,null,null,null,null,null,null,null,null,null,null,null,null,null,null,null,null,null,null,null,null,null,null,null,null,"",null,null,"",null,null,null,null,null,null,null,null,null,null,"",null,null,"",null,null,null,null,null,null,null,null,null,null,"",null,null,"",null,null,null,null,null,null,null,null,null,null,"400R","",0,0,0,0,0,"種目",0,0,0,"0",null,0,0,0,0,"種目2",0,0,0,"0",null,null,"北見美山小(成々澤)","北見北光中","清里高","北海道教育大",null,null,1991,null,null,22,{"$f":"IF(ISERROR(VLOOKUP(DM36,①初期設定!$C$50:$N$97,4,FALSE)),\"*\",VLOOKUP(DM36,①初期設定!$C$50:$N$97,4,FALSE))","v":"*"},{"$f":"IF(ISERROR(VLOOKUP(DM36,①初期設定!$Q$50:$AB$97,4,FALSE)),\"*\",VLOOKUP(DM36,①初期設定!$Q$50:$AB$97,4,FALSE))","v":"*"},{"$f":"IF(ISERROR(VLOOKUP(DM36,①初期設定!$E$50:$N$97,2,FALSE)),\"*\",VLOOKUP(DM36,①初期設定!$E$50:$N$97,2,FALSE))","v":"*"},{"$f":"IF(ISERROR(VLOOKUP(DM36,①初期設定!$S$50:$AB$97,2,FALSE)),\"*\",VLOOKUP(DM36,①初期設定!$S$50:$AB$97,2,FALSE))","v":"*"},{"$f":"IF(ISERROR(VLOOKUP(DM36,①初期設定!$C$118:$Q$192,6,FALSE)),\"*\",VLOOKUP(DM36,①初期設定!$C$118:$Q$192,6,FALSE))","v":"*"},{"$f":"IF(ISERROR(VLOOKUP($DM36,①初期設定!$C$118:$Q$192,6,FALSE)),\"*\",VLOOKUP($DM36,①初期設定!$C$118:$Q$192,6,FALSE))","v":"*"},{"$f":"IF(ISERROR(VLOOKUP($DM36,①初期設定!$T$118:$AH$191,6,FALSE)),\"*\",VLOOKUP($DM36,①初期設定!$T$118:$AH$191,6,FALSE))","v":"*"},{"$f":"IF(ISERROR(VLOOKUP($DM36,①初期設定!$T$118:$AH$191,6,FALSE)),\"*\",VLOOKUP($DM36,①初期設定!$T$118:$AH$191,6,FALSE))","v":"*"},{"$f":"IF(ISERROR(VLOOKUP(DM36,①初期設定!$E$118:$Q$192,4,FALSE)),\"*\",VLOOKUP(DM36,①初期設定!$E$118:$Q$192,4,FALSE))","v":"*"},{"$f":"IF(ISERROR(VLOOKUP($DM36,①初期設定!$E$118:$Q$192,4,FALSE)),\"*\",VLOOKUP($DM36,①初期設定!$E$118:$Q$192,4,FALSE))","v":"*"},{"$f":"IF(ISERROR(VLOOKUP(DM36,①初期設定!$V$118:$AH$191,4,FALSE)),\"*\",VLOOKUP(DM36,①初期設定!$V$118:$AH$191,4,FALSE))","v":"*"},{"$f":"IF(ISERROR(VLOOKUP($DM36,①初期設定!$V$118:$AH$191,4,FALSE)),\"*\",VLOOKUP($DM36,①初期設定!$V$118:$AH$191,4,FALSE))","v":"*"},{"$f":"IF(ISERROR(VLOOKUP(DM36,①初期設定!$G$118:$Q$192,2,FALSE)),\"*\",VLOOKUP(DM36,①初期設定!$G$118:$Q$192,2,FALSE))","v":"*"},{"$f":"IF(ISERROR(VLOOKUP($DM36,①初期設定!$G$118:$Q$192,2,FALSE)),\"*\",VLOOKUP($DM36,①初期設定!$G$118:$Q$192,2,FALSE))","v":"*"},{"$f":"IF(ISERROR(VLOOKUP(DM36,①初期設定!$X$118:$AH$191,2,FALSE)),\"*\",VLOOKUP(DM36,①初期設定!$X$118:$AH$191,2,FALSE))","v":"*"},{"$f":"IF(ISERROR(VLOOKUP($DM36,①初期設定!$X$118:$AH$191,2,FALSE)),\"*\",VLOOKUP($DM36,①初期設定!$X$118:$AH$191,2,FALSE))","v":"*"}]
[24,null,null,null,null,null,null,null,null,null,null,null,null,null,null,null,null,null,null,null,null,null,null,null,null,null,null,null,null,null,null,null,null,null,null,null,null,null,null,null,null,"",null,null,"",null,null,null,null,null,null,null,null,null,null,"",null,null,"",null,null,null,null,null,null,null,null,null,null,"",null,null,"",null,null,null,null,null,null,null,null,null,null,"400R","",0,0,0,0,0,"種目",0,0,0,"0",null,0,0,0,0,"種目2",0,0,0,"0",null,null,"北見美山小(須藤)","北見相内中","釧路明輝高","北教大岩見沢",null,null,1992,null,null,23,{"$f":"IF(ISERROR(VLOOKUP(DM37,①初期設定!$C$50:$N$97,4,FALSE)),\"*\",VLOOKUP(DM37,①初期設定!$C$50:$N$97,4,FALSE))","v":"*"},{"$f":"IF(ISERROR(VLOOKUP(DM37,①初期設定!$Q$50:$AB$97,4,FALSE)),\"*\",VLOOKUP(DM37,①初期設定!$Q$50:$AB$97,4,FALSE))","v":"*"},{"$f":"IF(ISERROR(VLOOKUP(DM37,①初期設定!$E$50:$N$97,2,FALSE)),\"*\",VLOOKUP(DM37,①初期設定!$E$50:$N$97,2,FALSE))","v":"*"},{"$f":"IF(ISERROR(VLOOKUP(DM37,①初期設定!$S$50:$AB$97,2,FALSE)),\"*\",VLOOKUP(DM37,①初期設定!$S$50:$AB$97,2,FALSE))","v":"*"},{"$f":"IF(ISERROR(VLOOKUP(DM37,①初期設定!$C$118:$Q$192,6,FALSE)),\"*\",VLOOKUP(DM37,①初期設定!$C$118:$Q$192,6,FALSE))","v":"*"},{"$f":"IF(ISERROR(VLOOKUP($DM37,①初期設定!$C$118:$Q$192,6,FALSE)),\"*\",VLOOKUP($DM37,①初期設定!$C$118:$Q$192,6,FALSE))","v":"*"},{"$f":"IF(ISERROR(VLOOKUP($DM37,①初期設定!$T$118:$AH$191,6,FALSE)),\"*\",VLOOKUP($DM37,①初期設定!$T$118:$AH$191,6,FALSE))","v":"*"},{"$f":"IF(ISERROR(VLOOKUP($DM37,①初期設定!$T$118:$AH$191,6,FALSE)),\"*\",VLOOKUP($DM37,①初期設定!$T$118:$AH$191,6,FALSE))","v":"*"},{"$f":"IF(ISERROR(VLOOKUP(DM37,①初期設定!$E$118:$Q$192,4,FALSE)),\"*\",VLOOKUP(DM37,①初期設定!$E$118:$Q$192,4,FALSE))","v":"*"},{"$f":"IF(ISERROR(VLOOKUP($DM37,①初期設定!$E$118:$Q$192,4,FALSE)),\"*\",VLOOKUP($DM37,①初期設定!$E$118:$Q$192,4,FALSE))","v":"*"},{"$f":"IF(ISERROR(VLOOKUP(DM37,①初期設定!$V$118:$AH$191,4,FALSE)),\"*\",VLOOKUP(DM37,①初期設定!$V$118:$AH$191,4,FALSE))","v":"*"},{"$f":"IF(ISERROR(VLOOKUP($DM37,①初期設定!$V$118:$AH$191,4,FALSE)),\"*\",VLOOKUP($DM37,①初期設定!$V$118:$AH$191,4,FALSE))","v":"*"},{"$f":"IF(ISERROR(VLOOKUP(DM37,①初期設定!$G$118:$Q$192,2,FALSE)),\"*\",VLOOKUP(DM37,①初期設定!$G$118:$Q$192,2,FALSE))","v":"*"},{"$f":"IF(ISERROR(VLOOKUP($DM37,①初期設定!$G$118:$Q$192,2,FALSE)),\"*\",VLOOKUP($DM37,①初期設定!$G$118:$Q$192,2,FALSE))","v":"*"},{"$f":"IF(ISERROR(VLOOKUP(DM37,①初期設定!$X$118:$AH$191,2,FALSE)),\"*\",VLOOKUP(DM37,①初期設定!$X$118:$AH$191,2,FALSE))","v":"*"},{"$f":"IF(ISERROR(VLOOKUP($DM37,①初期設定!$X$118:$AH$191,2,FALSE)),\"*\",VLOOKUP($DM37,①初期設定!$X$118:$AH$191,2,FALSE))","v":"*"}]
[25,null,null,null,null,null,null,null,null,null,null,null,null,null,null,null,null,null,null,null,null,null,null,null,null,null,null,null,null,null,null,null,null,null,null,null,null,null,null,null,null,"",null,null,"",null,null,null,null,null,null,null,null,null,null,"",null,null,"",null,null,null,null,null,null,null,null,null,null,"",null,null,"",null,null,null,null,null,null,null,null,null,null,"400R","",0,0,0,0,0,"種目",0,0,0,"0",null,0,0,0,0,"種目2",0,0,0,"0",null,null,"北見美山小(五藤)","北見東相内中","弟子屈高","釧路地方(川端)",null,null,1993,null,null,24,{"$f":"IF(ISERROR(VLOOKUP(DM38,①初期設定!$C$50:$N$97,4,FALSE)),\"*\",VLOOKUP(DM38,①初期設定!$C$50:$N$97,4,FALSE))","v":"*"},{"$f":"IF(ISERROR(VLOOKUP(DM38,①初期設定!$Q$50:$AB$97,4,FALSE)),\"*\",VLOOKUP(DM38,①初期設定!$Q$50:$AB$97,4,FALSE))","v":"*"},{"$f":"IF(ISERROR(VLOOKUP(DM38,①初期設定!$E$50:$N$97,2,FALSE)),\"*\",VLOOKUP(DM38,①初期設定!$E$50:$N$97,2,FALSE))","v":"*"},{"$f":"IF(ISERROR(VLOOKUP(DM38,①初期設定!$S$50:$AB$97,2,FALSE)),\"*\",VLOOKUP(DM38,①初期設定!$S$50:$AB$97,2,FALSE))","v":"*"},{"$f":"IF(ISERROR(VLOOKUP(DM38,①初期設定!$C$118:$Q$192,6,FALSE)),\"*\",VLOOKUP(DM38,①初期設定!$C$118:$Q$192,6,FALSE))","v":"*"},{"$f":"IF(ISERROR(VLOOKUP($DM38,①初期設定!$C$118:$Q$192,6,FALSE)),\"*\",VLOOKUP($DM38,①初期設定!$C$118:$Q$192,6,FALSE))","v":"*"},{"$f":"IF(ISERROR(VLOOKUP($DM38,①初期設定!$T$118:$AH$191,6,FALSE)),\"*\",VLOOKUP($DM38,①初期設定!$T$118:$AH$191,6,FALSE))","v":"*"},{"$f":"IF(ISERROR(VLOOKUP($DM38,①初期設定!$T$118:$AH$191,6,FALSE)),\"*\",VLOOKUP($DM38,①初期設定!$T$118:$AH$191,6,FALSE))","v":"*"},{"$f":"IF(ISERROR(VLOOKUP(DM38,①初期設定!$E$118:$Q$192,4,FALSE)),\"*\",VLOOKUP(DM38,①初期設定!$E$118:$Q$192,4,FALSE))","v":"*"},{"$f":"IF(ISERROR(VLOOKUP($DM38,①初期設定!$E$118:$Q$192,4,FALSE)),\"*\",VLOOKUP($DM38,①初期設定!$E$118:$Q$192,4,FALSE))","v":"*"},{"$f":"IF(ISERROR(VLOOKUP(DM38,①初期設定!$V$118:$AH$191,4,FALSE)),\"*\",VLOOKUP(DM38,①初期設定!$V$118:$AH$191,4,FALSE))","v":"*"},{"$f":"IF(ISERROR(VLOOKUP($DM38,①初期設定!$V$118:$AH$191,4,FALSE)),\"*\",VLOOKUP($DM38,①初期設定!$V$118:$AH$191,4,FALSE))","v":"*"},{"$f":"IF(ISERROR(VLOOKUP(DM38,①初期設定!$G$118:$Q$192,2,FALSE)),\"*\",VLOOKUP(DM38,①初期設定!$G$118:$Q$192,2,FALSE))","v":"*"},{"$f":"IF(ISERROR(VLOOKUP($DM38,①初期設定!$G$118:$Q$192,2,FALSE)),\"*\",VLOOKUP($DM38,①初期設定!$G$118:$Q$192,2,FALSE))","v":"*"},{"$f":"IF(ISERROR(VLOOKUP(DM38,①初期設定!$X$118:$AH$191,2,FALSE)),\"*\",VLOOKUP(DM38,①初期設定!$X$118:$AH$191,2,FALSE))","v":"*"},{"$f":"IF(ISERROR(VLOOKUP($DM38,①初期設定!$X$118:$AH$191,2,FALSE)),\"*\",VLOOKUP($DM38,①初期設定!$X$118:$AH$191,2,FALSE))","v":"*"}]
[26,null,null,null,null,null,null,null,null,null,null,null,null,null,null,null,null,null,null,null,null,null,null,null,null,null,null,null,null,null,null,null,null,null,null,null,null,null,null,null,null,"",null,null,"",null,null,null,null,null,null,null,null,null,null,"",null,null,"",null,null,null,null,null,null,null,null,null,null,"",null,null,"",null,null,null,null,null,null,null,null,null,null,"400R","",0,0,0,0,0,"種目",0,0,0,"0",null,0,0,0,0,"種目2",0,0,0,"0",null,null,"北見常呂小","北見常呂中","旭川北高","釧路地方(井上)",null,null,1994,null,null,25,{"$f":"IF(ISERROR(VLOOKUP(DM39,①初期設定!$C$50:$N$97,4,FALSE)),\"*\",VLOOKUP(DM39,①初期設定!$C$50:$N$97,4,FALSE))","v":"*"},{"$f":"IF(ISERROR(VLOOKUP(DM39,①初期設定!$Q$50:$AB$97,4,FALSE)),\"*\",VLOOKUP(DM39,①初期設定!$Q$50:$AB$97,4,FALSE))","v":"*"},{"$f":"IF(ISERROR(VLOOKUP(DM39,①初期設定!$E$50:$N$97,2,FALSE)),\"*\",VLOOKUP(DM39,①初期設定!$E$50:$N$97,2,FALSE))","v":"*"},{"$f":"IF(ISERROR(VLOOKUP(DM39,①初期設定!$S$50:$AB$97,2,FALSE)),\"*\",VLOOKUP(DM39,①初期設定!$S$50:$AB$97,2,FALSE))","v":"*"},{"$f":"IF(ISERROR(VLOOKUP(DM39,①初期設定!$C$118:$Q$192,6,FALSE)),\"*\",VLOOKUP(DM39,①初期設定!$C$118:$Q$192,6,FALSE))","v":"*"},{"$f":"IF(ISERROR(VLOOKUP($DM39,①初期設定!$C$118:$Q$192,6,FALSE)),\"*\",VLOOKUP($DM39,①初期設定!$C$118:$Q$192,6,FALSE))","v":"*"},{"$f":"IF(ISERROR(VLOOKUP($DM39,①初期設定!$T$118:$AH$191,6,FALSE)),\"*\",VLOOKUP($DM39,①初期設定!$T$118:$AH$191,6,FALSE))","v":"*"},{"$f":"IF(ISERROR(VLOOKUP($DM39,①初期設定!$T$118:$AH$191,6,FALSE)),\"*\",VLOOKUP($DM39,①初期設定!$T$118:$AH$191,6,FALSE))","v":"*"},{"$f":"IF(ISERROR(VLOOKUP(DM39,①初期設定!$E$118:$Q$192,4,FALSE)),\"*\",VLOOKUP(DM39,①初期設定!$E$118:$Q$192,4,FALSE))","v":"*"},{"$f":"IF(ISERROR(VLOOKUP($DM39,①初期設定!$E$118:$Q$192,4,FALSE)),\"*\",VLOOKUP($DM39,①初期設定!$E$118:$Q$192,4,FALSE))","v":"*"},{"$f":"IF(ISERROR(VLOOKUP(DM39,①初期設定!$V$118:$AH$191,4,FALSE)),\"*\",VLOOKUP(DM39,①初期設定!$V$118:$AH$191,4,FALSE))","v":"*"},{"$f":"IF(ISERROR(VLOOKUP($DM39,①初期設定!$V$118:$AH$191,4,FALSE)),\"*\",VLOOKUP($DM39,①初期設定!$V$118:$AH$191,4,FALSE))","v":"*"},{"$f":"IF(ISERROR(VLOOKUP(DM39,①初期設定!$G$118:$Q$192,2,FALSE)),\"*\",VLOOKUP(DM39,①初期設定!$G$118:$Q$192,2,FALSE))","v":"*"},{"$f":"IF(ISERROR(VLOOKUP($DM39,①初期設定!$G$118:$Q$192,2,FALSE)),\"*\",VLOOKUP($DM39,①初期設定!$G$118:$Q$192,2,FALSE))","v":"*"},{"$f":"IF(ISERROR(VLOOKUP(DM39,①初期設定!$X$118:$AH$191,2,FALSE)),\"*\",VLOOKUP(DM39,①初期設定!$X$118:$AH$191,2,FALSE))","v":"*"},{"$f":"IF(ISERROR(VLOOKUP($DM39,①初期設定!$X$118:$AH$191,2,FALSE)),\"*\",VLOOKUP($DM39,①初期設定!$X$118:$AH$191,2,FALSE))","v":"*"}]
[27,null,null,null,null,null,null,null,null,null,null,null,null,null,null,null,null,null,null,null,null,null,null,null,null,null,null,null,null,null,null,null,null,null,null,null,null,null,null,null,null,"",null,null,"",null,null,null,null,null,null,null,null,null,null,"",null,null,"",null,null,null,null,null,null,null,null,null,null,"",null,null,"",null,null,null,null,null,null,null,null,null,null,"400R","",0,0,0,0,0,"種目",0,0,0,"0",null,0,0,0,0,"種目2",0,0,0,"0",null,null,"北見川沿小","網走第一中","北海道栄高","釧路高専",null,null,1995,null,null,26,{"$f":"IF(ISERROR(VLOOKUP(DM40,①初期設定!$C$50:$N$97,4,FALSE)),\"*\",VLOOKUP(DM40,①初期設定!$C$50:$N$97,4,FALSE))","v":"*"},{"$f":"IF(ISERROR(VLOOKUP(DM40,①初期設定!$Q$50:$AB$97,4,FALSE)),\"*\",VLOOKUP(DM40,①初期設定!$Q$50:$AB$97,4,FALSE))","v":"*"},{"$f":"IF(ISERROR(VLOOKUP(DM40,①初期設定!$E$50:$N$97,2,FALSE)),\"*\",VLOOKUP(DM40,①初期設定!$E$50:$N$97,2,FALSE))","v":"*"},{"$f":"IF(ISERROR(VLOOKUP(DM40,①初期設定!$S$50:$AB$97,2,FALSE)),\"*\",VLOOKUP(DM40,①初期設定!$S$50:$AB$97,2,FALSE))","v":"*"},{"$f":"IF(ISERROR(VLOOKUP(DM40,①初期設定!$C$118:$Q$192,6,FALSE)),\"*\",VLOOKUP(DM40,①初期設定!$C$118:$Q$192,6,FALSE))","v":"*"},{"$f":"IF(ISERROR(VLOOKUP($DM40,①初期設定!$C$118:$Q$192,6,FALSE)),\"*\",VLOOKUP($DM40,①初期設定!$C$118:$Q$192,6,FALSE))","v":"*"},{"$f":"IF(ISERROR(VLOOKUP($DM40,①初期設定!$T$118:$AH$191,6,FALSE)),\"*\",VLOOKUP($DM40,①初期設定!$T$118:$AH$191,6,FALSE))","v":"*"},{"$f":"IF(ISERROR(VLOOKUP($DM40,①初期設定!$T$118:$AH$191,6,FALSE)),\"*\",VLOOKUP($DM40,①初期設定!$T$118:$AH$191,6,FALSE))","v":"*"},{"$f":"IF(ISERROR(VLOOKUP(DM40,①初期設定!$E$118:$Q$192,4,FALSE)),\"*\",VLOOKUP(DM40,①初期設定!$E$118:$Q$192,4,FALSE))","v":"*"},{"$f":"IF(ISERROR(VLOOKUP($DM40,①初期設定!$E$118:$Q$192,4,FALSE)),\"*\",VLOOKUP($DM40,①初期設定!$E$118:$Q$192,4,FALSE))","v":"*"},{"$f":"IF(ISERROR(VLOOKUP(DM40,①初期設定!$V$118:$AH$191,4,FALSE)),\"*\",VLOOKUP(DM40,①初期設定!$V$118:$AH$191,4,FALSE))","v":"*"},{"$f":"IF(ISERROR(VLOOKUP($DM40,①初期設定!$V$118:$AH$191,4,FALSE)),\"*\",VLOOKUP($DM40,①初期設定!$V$118:$AH$191,4,FALSE))","v":"*"},{"$f":"IF(ISERROR(VLOOKUP(DM40,①初期設定!$G$118:$Q$192,2,FALSE)),\"*\",VLOOKUP(DM40,①初期設定!$G$118:$Q$192,2,FALSE))","v":"*"},{"$f":"IF(ISERROR(VLOOKUP($DM40,①初期設定!$G$118:$Q$192,2,FALSE)),\"*\",VLOOKUP($DM40,①初期設定!$G$118:$Q$192,2,FALSE))","v":"*"},{"$f":"IF(ISERROR(VLOOKUP(DM40,①初期設定!$X$118:$AH$191,2,FALSE)),\"*\",VLOOKUP(DM40,①初期設定!$X$118:$AH$191,2,FALSE))","v":"*"},{"$f":"IF(ISERROR(VLOOKUP($DM40,①初期設定!$X$118:$AH$191,2,FALSE)),\"*\",VLOOKUP($DM40,①初期設定!$X$118:$AH$191,2,FALSE))","v":"*"}]
[28,null,null,null,null,null,null,null,null,null,null,null,null,null,null,null,null,null,null,null,null,null,null,null,null,null,null,null,null,null,null,null,null,null,null,null,null,null,null,null,null,"",null,null,"",null,null,null,null,null,null,null,null,null,null,"",null,null,"",null,null,null,null,null,null,null,null,null,null,"",null,null,"",null,null,null,null,null,null,null,null,null,null,"400R","",0,0,0,0,0,"種目",0,0,0,"0",null,0,0,0,0,"種目2",0,0,0,"0",null,null,"北見留辺蘂小","網走第二中","富良野緑峰高","釧路公立大(伊藤)",null,null,1996,null,null,27,{"$f":"IF(ISERROR(VLOOKUP(DM41,①初期設定!$C$50:$N$97,4,FALSE)),\"*\",VLOOKUP(DM41,①初期設定!$C$50:$N$97,4,FALSE))","v":"*"},{"$f":"IF(ISERROR(VLOOKUP(DM41,①初期設定!$Q$50:$AB$97,4,FALSE)),\"*\",VLOOKUP(DM41,①初期設定!$Q$50:$AB$97,4,FALSE))","v":"*"},{"$f":"IF(ISERROR(VLOOKUP(DM41,①初期設定!$E$50:$N$97,2,FALSE)),\"*\",VLOOKUP(DM41,①初期設定!$E$50:$N$97,2,FALSE))","v":"*"},{"$f":"IF(ISERROR(VLOOKUP(DM41,①初期設定!$S$50:$AB$97,2,FALSE)),\"*\",VLOOKUP(DM41,①初期設定!$S$50:$AB$97,2,FALSE))","v":"*"},{"$f":"IF(ISERROR(VLOOKUP(DM41,①初期設定!$C$118:$Q$192,6,FALSE)),\"*\",VLOOKUP(DM41,①初期設定!$C$118:$Q$192,6,FALSE))","v":"*"},{"$f":"IF(ISERROR(VLOOKUP($DM41,①初期設定!$C$118:$Q$192,6,FALSE)),\"*\",VLOOKUP($DM41,①初期設定!$C$118:$Q$192,6,FALSE))","v":"*"},{"$f":"IF(ISERROR(VLOOKUP($DM41,①初期設定!$T$118:$AH$191,6,FALSE)),\"*\",VLOOKUP($DM41,①初期設定!$T$118:$AH$191,6,FALSE))","v":"*"},{"$f":"IF(ISERROR(VLOOKUP($DM41,①初期設定!$T$118:$AH$191,6,FALSE)),\"*\",VLOOKUP($DM41,①初期設定!$T$118:$AH$191,6,FALSE))","v":"*"},{"$f":"IF(ISERROR(VLOOKUP(DM41,①初期設定!$E$118:$Q$192,4,FALSE)),\"*\",VLOOKUP(DM41,①初期設定!$E$118:$Q$192,4,FALSE))","v":"*"},{"$f":"IF(ISERROR(VLOOKUP($DM41,①初期設定!$E$118:$Q$192,4,FALSE)),\"*\",VLOOKUP($DM41,①初期設定!$E$118:$Q$192,4,FALSE))","v":"*"},{"$f":"IF(ISERROR(VLOOKUP(DM41,①初期設定!$V$118:$AH$191,4,FALSE)),\"*\",VLOOKUP(DM41,①初期設定!$V$118:$AH$191,4,FALSE))","v":"*"},{"$f":"IF(ISERROR(VLOOKUP($DM41,①初期設定!$V$118:$AH$191,4,FALSE)),\"*\",VLOOKUP($DM41,①初期設定!$V$118:$AH$191,4,FALSE))","v":"*"},{"$f":"IF(ISERROR(VLOOKUP(DM41,①初期設定!$G$118:$Q$192,2,FALSE)),\"*\",VLOOKUP(DM41,①初期設定!$G$118:$Q$192,2,FALSE))","v":"*"},{"$f":"IF(ISERROR(VLOOKUP($DM41,①初期設定!$G$118:$Q$192,2,FALSE)),\"*\",VLOOKUP($DM41,①初期設定!$G$118:$Q$192,2,FALSE))","v":"*"},{"$f":"IF(ISERROR(VLOOKUP(DM41,①初期設定!$X$118:$AH$191,2,FALSE)),\"*\",VLOOKUP(DM41,①初期設定!$X$118:$AH$191,2,FALSE))","v":"*"},{"$f":"IF(ISERROR(VLOOKUP($DM41,①初期設定!$X$118:$AH$191,2,FALSE)),\"*\",VLOOKUP($DM41,①初期設定!$X$118:$AH$191,2,FALSE))","v":"*"}]
[29,null,null,null,null,null,null,null,null,null,null,null,null,null,null,null,null,null,null,null,null,null,null,null,null,null,null,null,null,null,null,null,null,null,null,null,null,null,null,null,null,"",null,null,"",null,null,null,null,null,null,null,null,null,null,"",null,null,"",null,null,null,null,null,null,null,null,null,null,"",null,null,"",null,null,null,null,null,null,null,null,null,null,"400R","",0,0,0,0,0,"種目",0,0,0,"0",null,0,0,0,0,"種目2",0,0,0,"0",null,null,"紋別潮見小","網走第三中","早稲田実業高","北見消防",null,null,1997,null,null,28,{"$f":"IF(ISERROR(VLOOKUP(DM42,①初期設定!$C$50:$N$97,4,FALSE)),\"*\",VLOOKUP(DM42,①初期設定!$C$50:$N$97,4,FALSE))","v":"*"},{"$f":"IF(ISERROR(VLOOKUP(DM42,①初期設定!$Q$50:$AB$97,4,FALSE)),\"*\",VLOOKUP(DM42,①初期設定!$Q$50:$AB$97,4,FALSE))","v":"*"},{"$f":"IF(ISERROR(VLOOKUP(DM42,①初期設定!$E$50:$N$97,2,FALSE)),\"*\",VLOOKUP(DM42,①初期設定!$E$50:$N$97,2,FALSE))","v":"*"},{"$f":"IF(ISERROR(VLOOKUP(DM42,①初期設定!$S$50:$AB$97,2,FALSE)),\"*\",VLOOKUP(DM42,①初期設定!$S$50:$AB$97,2,FALSE))","v":"*"},{"$f":"IF(ISERROR(VLOOKUP(DM42,①初期設定!$C$118:$Q$192,6,FALSE)),\"*\",VLOOKUP(DM42,①初期設定!$C$118:$Q$192,6,FALSE))","v":"*"},{"$f":"IF(ISERROR(VLOOKUP($DM42,①初期設定!$C$118:$Q$192,6,FALSE)),\"*\",VLOOKUP($DM42,①初期設定!$C$118:$Q$192,6,FALSE))","v":"*"},{"$f":"IF(ISERROR(VLOOKUP($DM42,①初期設定!$T$118:$AH$191,6,FALSE)),\"*\",VLOOKUP($DM42,①初期設定!$T$118:$AH$191,6,FALSE))","v":"*"},{"$f":"IF(ISERROR(VLOOKUP($DM42,①初期設定!$T$118:$AH$191,6,FALSE)),\"*\",VLOOKUP($DM42,①初期設定!$T$118:$AH$191,6,FALSE))","v":"*"},{"$f":"IF(ISERROR(VLOOKUP(DM42,①初期設定!$E$118:$Q$192,4,FALSE)),\"*\",VLOOKUP(DM42,①初期設定!$E$118:$Q$192,4,FALSE))","v":"*"},{"$f":"IF(ISERROR(VLOOKUP($DM42,①初期設定!$E$118:$Q$192,4,FALSE)),\"*\",VLOOKUP($DM42,①初期設定!$E$118:$Q$192,4,FALSE))","v":"*"},{"$f":"IF(ISERROR(VLOOKUP(DM42,①初期設定!$V$118:$AH$191,4,FALSE)),\"*\",VLOOKUP(DM42,①初期設定!$V$118:$AH$191,4,FALSE))","v":"*"},{"$f":"IF(ISERROR(VLOOKUP($DM42,①初期設定!$V$118:$AH$191,4,FALSE)),\"*\",VLOOKUP($DM42,①初期設定!$V$118:$AH$191,4,FALSE))","v":"*"},{"$f":"IF(ISERROR(VLOOKUP(DM42,①初期設定!$G$118:$Q$192,2,FALSE)),\"*\",VLOOKUP(DM42,①初期設定!$G$118:$Q$192,2,FALSE))","v":"*"},{"$f":"IF(ISERROR(VLOOKUP($DM42,①初期設定!$G$118:$Q$192,2,FALSE)),\"*\",VLOOKUP($DM42,①初期設定!$G$118:$Q$192,2,FALSE))","v":"*"},{"$f":"IF(ISERROR(VLOOKUP(DM42,①初期設定!$X$118:$AH$191,2,FALSE)),\"*\",VLOOKUP(DM42,①初期設定!$X$118:$AH$191,2,FALSE))","v":"*"},{"$f":"IF(ISERROR(VLOOKUP($DM42,①初期設定!$X$118:$AH$191,2,FALSE)),\"*\",VLOOKUP($DM42,①初期設定!$X$118:$AH$191,2,FALSE))","v":"*"}]
[30,null,null,null,null,null,null,null,null,null,null,null,null,null,null,null,null,null,null,null,null,null,null,null,null,null,null,null,null,null,null,null,null,null,null,null,null,null,null,null,null,"",null,null,"",null,null,null,null,null,null,null,null,null,null,"",null,null,"",null,null,null,null,null,null,null,null,null,null,"",null,null,"",null,null,null,null,null,null,null,null,null,null,"400R","",0,0,0,0,0,"種目",0,0,0,"0",null,0,0,0,0,"種目2",0,0,0,"0",null,null,"網走白鳥台小","網走第四中","標茶高","小樽後志陸協（野宮）",null,null,1998,null,null,29,{"$f":"IF(ISERROR(VLOOKUP(DM43,①初期設定!$C$50:$N$97,4,FALSE)),\"*\",VLOOKUP(DM43,①初期設定!$C$50:$N$97,4,FALSE))","v":"*"},{"$f":"IF(ISERROR(VLOOKUP(DM43,①初期設定!$Q$50:$AB$97,4,FALSE)),\"*\",VLOOKUP(DM43,①初期設定!$Q$50:$AB$97,4,FALSE))","v":"*"},{"$f":"IF(ISERROR(VLOOKUP(DM43,①初期設定!$E$50:$N$97,2,FALSE)),\"*\",VLOOKUP(DM43,①初期設定!$E$50:$N$97,2,FALSE))","v":"*"},{"$f":"IF(ISERROR(VLOOKUP(DM43,①初期設定!$S$50:$AB$97,2,FALSE)),\"*\",VLOOKUP(DM43,①初期設定!$S$50:$AB$97,2,FALSE))","v":"*"},{"$f":"IF(ISERROR(VLOOKUP(DM43,①初期設定!$C$118:$Q$192,6,FALSE)),\"*\",VLOOKUP(DM43,①初期設定!$C$118:$Q$192,6,FALSE))","v":"*"},{"$f":"IF(ISERROR(VLOOKUP($DM43,①初期設定!$C$118:$Q$192,6,FALSE)),\"*\",VLOOKUP($DM43,①初期設定!$C$118:$Q$192,6,FALSE))","v":"*"},{"$f":"IF(ISERROR(VLOOKUP($DM43,①初期設定!$T$118:$AH$191,6,FALSE)),\"*\",VLOOKUP($DM43,①初期設定!$T$118:$AH$191,6,FALSE))","v":"*"},{"$f":"IF(ISERROR(VLOOKUP($DM43,①初期設定!$T$118:$AH$191,6,FALSE)),\"*\",VLOOKUP($DM43,①初期設定!$T$118:$AH$191,6,FALSE))","v":"*"},{"$f":"IF(ISERROR(VLOOKUP(DM43,①初期設定!$E$118:$Q$192,4,FALSE)),\"*\",VLOOKUP(DM43,①初期設定!$E$118:$Q$192,4,FALSE))","v":"*"},{"$f":"IF(ISERROR(VLOOKUP($DM43,①初期設定!$E$118:$Q$192,4,FALSE)),\"*\",VLOOKUP($DM43,①初期設定!$E$118:$Q$192,4,FALSE))","v":"*"},{"$f":"IF(ISERROR(VLOOKUP(DM43,①初期設定!$V$118:$AH$191,4,FALSE)),\"*\",VLOOKUP(DM43,①初期設定!$V$118:$AH$191,4,FALSE))","v":"*"},{"$f":"IF(ISERROR(VLOOKUP($DM43,①初期設定!$V$118:$AH$191,4,FALSE)),\"*\",VLOOKUP($DM43,①初期設定!$V$118:$AH$191,4,FALSE))","v":"*"},{"$f":"IF(ISERROR(VLOOKUP(DM43,①初期設定!$G$118:$Q$192,2,FALSE)),\"*\",VLOOKUP(DM43,①初期設定!$G$118:$Q$192,2,FALSE))","v":"*"},{"$f":"IF(ISERROR(VLOOKUP($DM43,①初期設定!$G$118:$Q$192,2,FALSE)),\"*\",VLOOKUP($DM43,①初期設定!$G$118:$Q$192,2,FALSE))","v":"*"},{"$f":"IF(ISERROR(VLOOKUP(DM43,①初期設定!$X$118:$AH$191,2,FALSE)),\"*\",VLOOKUP(DM43,①初期設定!$X$118:$AH$191,2,FALSE))","v":"*"},{"$f":"IF(ISERROR(VLOOKUP($DM43,①初期設定!$X$118:$AH$191,2,FALSE)),\"*\",VLOOKUP($DM43,①初期設定!$X$118:$AH$191,2,FALSE))","v":"*"}]
[31,null,null,null,null,null,null,null,null,null,null,null,null,null,null,null,null,null,null,null,null,null,null,null,null,null,null,null,null,null,null,null,null,null,null,null,null,null,null,null,null,"",null,null,"",null,null,null,null,null,null,null,null,null,null,"",null,null,"",null,null,null,null,null,null,null,null,null,null,"",null,null,"",null,null,null,null,null,null,null,null,null,null,"400R","",0,0,0,0,0,"種目",0,0,0,"0",null,0,0,0,0,"種目2",0,0,0,"0",null,null,"網走東小","紋別中","帯広農業高","作．AC札幌",null,null,1999,null,null,30,{"$f":"IF(ISERROR(VLOOKUP(DM44,①初期設定!$C$50:$N$97,4,FALSE)),\"*\",VLOOKUP(DM44,①初期設定!$C$50:$N$97,4,FALSE))","v":"*"},{"$f":"IF(ISERROR(VLOOKUP(DM44,①初期設定!$Q$50:$AB$97,4,FALSE)),\"*\",VLOOKUP(DM44,①初期設定!$Q$50:$AB$97,4,FALSE))","v":"*"},{"$f":"IF(ISERROR(VLOOKUP(DM44,①初期設定!$E$50:$N$97,2,FALSE)),\"*\",VLOOKUP(DM44,①初期設定!$E$50:$N$97,2,FALSE))","v":"*"},{"$f":"IF(ISERROR(VLOOKUP(DM44,①初期設定!$S$50:$AB$97,2,FALSE)),\"*\",VLOOKUP(DM44,①初期設定!$S$50:$AB$97,2,FALSE))","v":"*"},{"$f":"IF(ISERROR(VLOOKUP(DM44,①初期設定!$C$118:$Q$192,6,FALSE)),\"*\",VLOOKUP(DM44,①初期設定!$C$118:$Q$192,6,FALSE))","v":"*"},{"$f":"IF(ISERROR(VLOOKUP($DM44,①初期設定!$C$118:$Q$192,6,FALSE)),\"*\",VLOOKUP($DM44,①初期設定!$C$118:$Q$192,6,FALSE))","v":"*"},{"$f":"IF(ISERROR(VLOOKUP($DM44,①初期設定!$T$118:$AH$191,6,FALSE)),\"*\",VLOOKUP($DM44,①初期設定!$T$118:$AH$191,6,FALSE))","v":"*"},{"$f":"IF(ISERROR(VLOOKUP($DM44,①初期設定!$T$118:$AH$191,6,FALSE)),\"*\",VLOOKUP($DM44,①初期設定!$T$118:$AH$191,6,FALSE))","v":"*"},{"$f":"IF(ISERROR(VLOOKUP(DM44,①初期設定!$E$118:$Q$192,4,FALSE)),\"*\",VLOOKUP(DM44,①初期設定!$E$118:$Q$192,4,FALSE))","v":"*"},{"$f":"IF(ISERROR(VLOOKUP($DM44,①初期設定!$E$118:$Q$192,4,FALSE)),\"*\",VLOOKUP($DM44,①初期設定!$E$118:$Q$192,4,FALSE))","v":"*"},{"$f":"IF(ISERROR(VLOOKUP(DM44,①初期設定!$V$118:$AH$191,4,FALSE)),\"*\",VLOOKUP(DM44,①初期設定!$V$118:$AH$191,4,FALSE))","v":"*"},{"$f":"IF(ISERROR(VLOOKUP($DM44,①初期設定!$V$118:$AH$191,4,FALSE)),\"*\",VLOOKUP($DM44,①初期設定!$V$118:$AH$191,4,FALSE))","v":"*"},{"$f":"IF(ISERROR(VLOOKUP(DM44,①初期設定!$G$118:$Q$192,2,FALSE)),\"*\",VLOOKUP(DM44,①初期設定!$G$118:$Q$192,2,FALSE))","v":"*"},{"$f":"IF(ISERROR(VLOOKUP($DM44,①初期設定!$G$118:$Q$192,2,FALSE)),\"*\",VLOOKUP($DM44,①初期設定!$G$118:$Q$192,2,FALSE))","v":"*"},{"$f":"IF(ISERROR(VLOOKUP(DM44,①初期設定!$X$118:$AH$191,2,FALSE)),\"*\",VLOOKUP(DM44,①初期設定!$X$118:$AH$191,2,FALSE))","v":"*"},{"$f":"IF(ISERROR(VLOOKUP($DM44,①初期設定!$X$118:$AH$191,2,FALSE)),\"*\",VLOOKUP($DM44,①初期設定!$X$118:$AH$191,2,FALSE))","v":"*"}]
[32,null,null,null,null,null,null,null,null,null,null,null,null,null,null,null,null,null,null,null,null,null,null,null,null,null,null,null,null,null,null,null,null,null,null,null,null,null,null,null,null,"",null,null,"",null,null,null,null,null,null,null,null,null,null,"",null,null,"",null,null,null,null,null,null,null,null,null,null,"",null,null,"",null,null,null,null,null,null,null,null,null,null,"400R","",0,0,0,0,0,"種目",0,0,0,"0",null,0,0,0,0,"種目2",0,0,0,"0",null,null,"網走中央小","紋別潮見中",null,"佐藤農場T&F",null,null,2000,null,null,31,{"$f":"IF(ISERROR(VLOOKUP(DM45,①初期設定!$C$50:$N$97,4,FALSE)),\"*\",VLOOKUP(DM45,①初期設定!$C$50:$N$97,4,FALSE))","v":"*"},{"$f":"IF(ISERROR(VLOOKUP(DM45,①初期設定!$Q$50:$AB$97,4,FALSE)),\"*\",VLOOKUP(DM45,①初期設定!$Q$50:$AB$97,4,FALSE))","v":"*"},{"$f":"IF(ISERROR(VLOOKUP(DM45,①初期設定!$E$50:$N$97,2,FALSE)),\"*\",VLOOKUP(DM45,①初期設定!$E$50:$N$97,2,FALSE))","v":"*"},{"$f":"IF(ISERROR(VLOOKUP(DM45,①初期設定!$S$50:$AB$97,2,FALSE)),\"*\",VLOOKUP(DM45,①初期設定!$S$50:$AB$97,2,FALSE))","v":"*"},{"$f":"IF(ISERROR(VLOOKUP(DM45,①初期設定!$C$118:$Q$192,6,FALSE)),\"*\",VLOOKUP(DM45,①初期設定!$C$118:$Q$192,6,FALSE))","v":"*"},{"$f":"IF(ISERROR(VLOOKUP($DM45,①初期設定!$C$118:$Q$192,6,FALSE)),\"*\",VLOOKUP($DM45,①初期設定!$C$118:$Q$192,6,FALSE))","v":"*"},{"$f":"IF(ISERROR(VLOOKUP($DM45,①初期設定!$T$118:$AH$191,6,FALSE)),\"*\",VLOOKUP($DM45,①初期設定!$T$118:$AH$191,6,FALSE))","v":"*"},{"$f":"IF(ISERROR(VLOOKUP($DM45,①初期設定!$T$118:$AH$191,6,FALSE)),\"*\",VLOOKUP($DM45,①初期設定!$T$118:$AH$191,6,FALSE))","v":"*"},{"$f":"IF(ISERROR(VLOOKUP(DM45,①初期設定!$E$118:$Q$192,4,FALSE)),\"*\",VLOOKUP(DM45,①初期設定!$E$118:$Q$192,4,FALSE))","v":"*"},{"$f":"IF(ISERROR(VLOOKUP($DM45,①初期設定!$E$118:$Q$192,4,FALSE)),\"*\",VLOOKUP($DM45,①初期設定!$E$118:$Q$192,4,FALSE))","v":"*"},{"$f":"IF(ISERROR(VLOOKUP(DM45,①初期設定!$V$118:$AH$191,4,FALSE)),\"*\",VLOOKUP(DM45,①初期設定!$V$118:$AH$191,4,FALSE))","v":"*"},{"$f":"IF(ISERROR(VLOOKUP($DM45,①初期設定!$V$118:$AH$191,4,FALSE)),\"*\",VLOOKUP($DM45,①初期設定!$V$118:$AH$191,4,FALSE))","v":"*"},{"$f":"IF(ISERROR(VLOOKUP(DM45,①初期設定!$G$118:$Q$192,2,FALSE)),\"*\",VLOOKUP(DM45,①初期設定!$G$118:$Q$192,2,FALSE))","v":"*"},{"$f":"IF(ISERROR(VLOOKUP($DM45,①初期設定!$G$118:$Q$192,2,FALSE)),\"*\",VLOOKUP($DM45,①初期設定!$G$118:$Q$192,2,FALSE))","v":"*"},{"$f":"IF(ISERROR(VLOOKUP(DM45,①初期設定!$X$118:$AH$191,2,FALSE)),\"*\",VLOOKUP(DM45,①初期設定!$X$118:$AH$191,2,FALSE))","v":"*"},{"$f":"IF(ISERROR(VLOOKUP($DM45,①初期設定!$X$118:$AH$191,2,FALSE)),\"*\",VLOOKUP($DM45,①初期設定!$X$118:$AH$191,2,FALSE))","v":"*"}]
[33,null,null,null,null,null,null,null,null,null,null,null,null,null,null,null,null,null,null,null,null,null,null,null,null,null,null,null,null,null,null,null,null,null,null,null,null,null,null,null,null,"",null,null,"",null,null,null,null,null,null,null,null,null,null,"",null,null,"",null,null,null,null,null,null,null,null,null,null,"",null,null,"",null,null,null,null,null,null,null,null,null,null,"400R","",0,0,0,0,0,"種目",0,0,0,"0",null,0,0,0,0,"種目2",0,0,0,"0",null,null,"美幌RCｷｯｽﾞ","紋別上渚滑中",null,"立教大",null,null,2001,null,null,32,{"$f":"IF(ISERROR(VLOOKUP(DM46,①初期設定!$C$50:$N$97,4,FALSE)),\"*\",VLOOKUP(DM46,①初期設定!$C$50:$N$97,4,FALSE))","v":"*"},{"$f":"IF(ISERROR(VLOOKUP(DM46,①初期設定!$Q$50:$AB$97,4,FALSE)),\"*\",VLOOKUP(DM46,①初期設定!$Q$50:$AB$97,4,FALSE))","v":"*"},{"$f":"IF(ISERROR(VLOOKUP(DM46,①初期設定!$E$50:$N$97,2,FALSE)),\"*\",VLOOKUP(DM46,①初期設定!$E$50:$N$97,2,FALSE))","v":"*"},{"$f":"IF(ISERROR(VLOOKUP(DM46,①初期設定!$S$50:$AB$97,2,FALSE)),\"*\",VLOOKUP(DM46,①初期設定!$S$50:$AB$97,2,FALSE))","v":"*"},{"$f":"IF(ISERROR(VLOOKUP(DM46,①初期設定!$C$118:$Q$192,6,FALSE)),\"*\",VLOOKUP(DM46,①初期設定!$C$118:$Q$192,6,FALSE))","v":"*"},{"$f":"IF(ISERROR(VLOOKUP($DM46,①初期設定!$C$118:$Q$192,6,FALSE)),\"*\",VLOOKUP($DM46,①初期設定!$C$118:$Q$192,6,FALSE))","v":"*"},{"$f":"IF(ISERROR(VLOOKUP($DM46,①初期設定!$T$118:$AH$191,6,FALSE)),\"*\",VLOOKUP($DM46,①初期設定!$T$118:$AH$191,6,FALSE))","v":"*"},{"$f":"IF(ISERROR(VLOOKUP($DM46,①初期設定!$T$118:$AH$191,6,FALSE)),\"*\",VLOOKUP($DM46,①初期設定!$T$118:$AH$191,6,FALSE))","v":"*"},{"$f":"IF(ISERROR(VLOOKUP(DM46,①初期設定!$E$118:$Q$192,4,FALSE)),\"*\",VLOOKUP(DM46,①初期設定!$E$118:$Q$192,4,FALSE))","v":"*"},{"$f":"IF(ISERROR(VLOOKUP($DM46,①初期設定!$E$118:$Q$192,4,FALSE)),\"*\",VLOOKUP($DM46,①初期設定!$E$118:$Q$192,4,FALSE))","v":"*"},{"$f":"IF(ISERROR(VLOOKUP(DM46,①初期設定!$V$118:$AH$191,4,FALSE)),\"*\",VLOOKUP(DM46,①初期設定!$V$118:$AH$191,4,FALSE))","v":"*"},{"$f":"IF(ISERROR(VLOOKUP($DM46,①初期設定!$V$118:$AH$191,4,FALSE)),\"*\",VLOOKUP($DM46,①初期設定!$V$118:$AH$191,4,FALSE))","v":"*"},{"$f":"IF(ISERROR(VLOOKUP(DM46,①初期設定!$G$118:$Q$192,2,FALSE)),\"*\",VLOOKUP(DM46,①初期設定!$G$118:$Q$192,2,FALSE))","v":"*"},{"$f":"IF(ISERROR(VLOOKUP($DM46,①初期設定!$G$118:$Q$192,2,FALSE)),\"*\",VLOOKUP($DM46,①初期設定!$G$118:$Q$192,2,FALSE))","v":"*"},{"$f":"IF(ISERROR(VLOOKUP(DM46,①初期設定!$X$118:$AH$191,2,FALSE)),\"*\",VLOOKUP(DM46,①初期設定!$X$118:$AH$191,2,FALSE))","v":"*"},{"$f":"IF(ISERROR(VLOOKUP($DM46,①初期設定!$X$118:$AH$191,2,FALSE)),\"*\",VLOOKUP($DM46,①初期設定!$X$118:$AH$191,2,FALSE))","v":"*"}]
[34,null,null,null,null,null,null,null,null,null,null,null,null,null,null,null,null,null,null,null,null,null,null,null,null,null,null,null,null,null,null,null,null,null,null,null,null,null,null,null,null,"",null,null,"",null,null,null,null,null,null,null,null,null,null,"",null,null,"",null,null,null,null,null,null,null,null,null,null,"",null,null,"",null,null,null,null,null,null,null,null,null,null,"400R","",0,0,0,0,0,"種目",0,0,0,"0",null,0,0,0,0,"種目2",0,0,0,"0",null,null,"美幌XC少年団","北見温根湯中",null,"トヨタＬ＆Ｆ旭川",null,null,2002,null,null,33,{"$f":"IF(ISERROR(VLOOKUP(DM47,①初期設定!$C$50:$N$97,4,FALSE)),\"*\",VLOOKUP(DM47,①初期設定!$C$50:$N$97,4,FALSE))","v":"*"},{"$f":"IF(ISERROR(VLOOKUP(DM47,①初期設定!$Q$50:$AB$97,4,FALSE)),\"*\",VLOOKUP(DM47,①初期設定!$Q$50:$AB$97,4,FALSE))","v":"*"},{"$f":"IF(ISERROR(VLOOKUP(DM47,①初期設定!$E$50:$N$97,2,FALSE)),\"*\",VLOOKUP(DM47,①初期設定!$E$50:$N$97,2,FALSE))","v":"*"},{"$f":"IF(ISERROR(VLOOKUP(DM47,①初期設定!$S$50:$AB$97,2,FALSE)),\"*\",VLOOKUP(DM47,①初期設定!$S$50:$AB$97,2,FALSE))","v":"*"},{"$f":"IF(ISERROR(VLOOKUP(DM47,①初期設定!$C$118:$Q$192,6,FALSE)),\"*\",VLOOKUP(DM47,①初期設定!$C$118:$Q$192,6,FALSE))","v":"*"},{"$f":"IF(ISERROR(VLOOKUP($DM47,①初期設定!$C$118:$Q$192,6,FALSE)),\"*\",VLOOKUP($DM47,①初期設定!$C$118:$Q$192,6,FALSE))","v":"*"},{"$f":"IF(ISERROR(VLOOKUP($DM47,①初期設定!$T$118:$AH$191,6,FALSE)),\"*\",VLOOKUP($DM47,①初期設定!$T$118:$AH$191,6,FALSE))","v":"*"},{"$f":"IF(ISERROR(VLOOKUP($DM47,①初期設定!$T$118:$AH$191,6,FALSE)),\"*\",VLOOKUP($DM47,①初期設定!$T$118:$AH$191,6,FALSE))","v":"*"},{"$f":"IF(ISERROR(VLOOKUP(DM47,①初期設定!$E$118:$Q$192,4,FALSE)),\"*\",VLOOKUP(DM47,①初期設定!$E$118:$Q$192,4,FALSE))","v":"*"},{"$f":"IF(ISERROR(VLOOKUP($DM47,①初期設定!$E$118:$Q$192,4,FALSE)),\"*\",VLOOKUP($DM47,①初期設定!$E$118:$Q$192,4,FALSE))","v":"*"},{"$f":"IF(ISERROR(VLOOKUP(DM47,①初期設定!$V$118:$AH$191,4,FALSE)),\"*\",VLOOKUP(DM47,①初期設定!$V$118:$AH$191,4,FALSE))","v":"*"},{"$f":"IF(ISERROR(VLOOKUP($DM47,①初期設定!$V$118:$AH$191,4,FALSE)),\"*\",VLOOKUP($DM47,①初期設定!$V$118:$AH$191,4,FALSE))","v":"*"},{"$f":"IF(ISERROR(VLOOKUP(DM47,①初期設定!$G$118:$Q$192,2,FALSE)),\"*\",VLOOKUP(DM47,①初期設定!$G$118:$Q$192,2,FALSE))","v":"*"},{"$f":"IF(ISERROR(VLOOKUP($DM47,①初期設定!$G$118:$Q$192,2,FALSE)),\"*\",VLOOKUP($DM47,①初期設定!$G$118:$Q$192,2,FALSE))","v":"*"},{"$f":"IF(ISERROR(VLOOKUP(DM47,①初期設定!$X$118:$AH$191,2,FALSE)),\"*\",VLOOKUP(DM47,①初期設定!$X$118:$AH$191,2,FALSE))","v":"*"},{"$f":"IF(ISERROR(VLOOKUP($DM47,①初期設定!$X$118:$AH$191,2,FALSE)),\"*\",VLOOKUP($DM47,①初期設定!$X$118:$AH$191,2,FALSE))","v":"*"}]
[35,null,null,null,null,null,null,null,null,null,null,null,null,null,null,null,null,null,null,null,null,null,null,null,null,null,null,null,null,null,null,null,null,null,null,null,null,null,null,null,null,"",null,null,"",null,null,null,null,null,null,null,null,null,null,"",null,null,"",null,null,null,null,null,null,null,null,null,null,"",null,null,"",null,null,null,null,null,null,null,null,null,null,"400R","",0,0,0,0,0,"種目",0,0,0,"0",null,0,0,0,0,"種目2",0,0,0,"0",null,null,"美幌SSS","ｵﾎｰﾂｸAC(中学)",null,"中京大",null,null,2003,null,null,34,{"$f":"IF(ISERROR(VLOOKUP(DM48,①初期設定!$C$50:$N$97,4,FALSE)),\"*\",VLOOKUP(DM48,①初期設定!$C$50:$N$97,4,FALSE))","v":"*"},{"$f":"IF(ISERROR(VLOOKUP(DM48,①初期設定!$Q$50:$AB$97,4,FALSE)),\"*\",VLOOKUP(DM48,①初期設定!$Q$50:$AB$97,4,FALSE))","v":"*"},{"$f":"IF(ISERROR(VLOOKUP(DM48,①初期設定!$E$50:$N$97,2,FALSE)),\"*\",VLOOKUP(DM48,①初期設定!$E$50:$N$97,2,FALSE))","v":"*"},{"$f":"IF(ISERROR(VLOOKUP(DM48,①初期設定!$S$50:$AB$97,2,FALSE)),\"*\",VLOOKUP(DM48,①初期設定!$S$50:$AB$97,2,FALSE))","v":"*"},{"$f":"IF(ISERROR(VLOOKUP(DM48,①初期設定!$C$118:$Q$192,6,FALSE)),\"*\",VLOOKUP(DM48,①初期設定!$C$118:$Q$192,6,FALSE))","v":"*"},{"$f":"IF(ISERROR(VLOOKUP($DM48,①初期設定!$C$118:$Q$192,6,FALSE)),\"*\",VLOOKUP($DM48,①初期設定!$C$118:$Q$192,6,FALSE))","v":"*"},{"$f":"IF(ISERROR(VLOOKUP($DM48,①初期設定!$T$118:$AH$191,6,FALSE)),\"*\",VLOOKUP($DM48,①初期設定!$T$118:$AH$191,6,FALSE))","v":"*"},{"$f":"IF(ISERROR(VLOOKUP($DM48,①初期設定!$T$118:$AH$191,6,FALSE)),\"*\",VLOOKUP($DM48,①初期設定!$T$118:$AH$191,6,FALSE))","v":"*"},{"$f":"IF(ISERROR(VLOOKUP(DM48,①初期設定!$E$118:$Q$192,4,FALSE)),\"*\",VLOOKUP(DM48,①初期設定!$E$118:$Q$192,4,FALSE))","v":"*"},{"$f":"IF(ISERROR(VLOOKUP($DM48,①初期設定!$E$118:$Q$192,4,FALSE)),\"*\",VLOOKUP($DM48,①初期設定!$E$118:$Q$192,4,FALSE))","v":"*"},{"$f":"IF(ISERROR(VLOOKUP(DM48,①初期設定!$V$118:$AH$191,4,FALSE)),\"*\",VLOOKUP(DM48,①初期設定!$V$118:$AH$191,4,FALSE))","v":"*"},{"$f":"IF(ISERROR(VLOOKUP($DM48,①初期設定!$V$118:$AH$191,4,FALSE)),\"*\",VLOOKUP($DM48,①初期設定!$V$118:$AH$191,4,FALSE))","v":"*"},{"$f":"IF(ISERROR(VLOOKUP(DM48,①初期設定!$G$118:$Q$192,2,FALSE)),\"*\",VLOOKUP(DM48,①初期設定!$G$118:$Q$192,2,FALSE))","v":"*"},{"$f":"IF(ISERROR(VLOOKUP($DM48,①初期設定!$G$118:$Q$192,2,FALSE)),\"*\",VLOOKUP($DM48,①初期設定!$G$118:$Q$192,2,FALSE))","v":"*"},{"$f":"IF(ISERROR(VLOOKUP(DM48,①初期設定!$X$118:$AH$191,2,FALSE)),\"*\",VLOOKUP(DM48,①初期設定!$X$118:$AH$191,2,FALSE))","v":"*"},{"$f":"IF(ISERROR(VLOOKUP($DM48,①初期設定!$X$118:$AH$191,2,FALSE)),\"*\",VLOOKUP($DM48,①初期設定!$X$118:$AH$191,2,FALSE))","v":"*"}]
[36,null,null,null,null,null,null,null,null,null,null,null,null,null,null,null,null,null,null,null,null,null,null,null,null,null,null,null,null,null,null,null,null,null,null,null,null,null,null,null,null,"",null,null,"",null,null,null,null,null,null,null,null,null,null,"",null,null,"",null,null,null,null,null,null,null,null,null,null,"",null,null,"",null,null,null,null,null,null,null,null,null,null,"400R","",0,0,0,0,0,"種目",0,0,0,"0",null,0,0,0,0,"種目2",0,0,0,"0",null,null,"美幌RC",null,null,"JR東海",null,null,2004,null,null,35,{"$f":"IF(ISERROR(VLOOKUP(DM49,①初期設定!$C$50:$N$97,4,FALSE)),\"*\",VLOOKUP(DM49,①初期設定!$C$50:$N$97,4,FALSE))","v":"*"},{"$f":"IF(ISERROR(VLOOKUP(DM49,①初期設定!$Q$50:$AB$97,4,FALSE)),\"*\",VLOOKUP(DM49,①初期設定!$Q$50:$AB$97,4,FALSE))","v":"*"},{"$f":"IF(ISERROR(VLOOKUP(DM49,①初期設定!$E$50:$N$97,2,FALSE)),\"*\",VLOOKUP(DM49,①初期設定!$E$50:$N$97,2,FALSE))","v":"*"},{"$f":"IF(ISERROR(VLOOKUP(DM49,①初期設定!$S$50:$AB$97,2,FALSE)),\"*\",VLOOKUP(DM49,①初期設定!$S$50:$AB$97,2,FALSE))","v":"*"},{"$f":"IF(ISERROR(VLOOKUP(DM49,①初期設定!$C$118:$Q$192,6,FALSE)),\"*\",VLOOKUP(DM49,①初期設定!$C$118:$Q$192,6,FALSE))","v":"*"},{"$f":"IF(ISERROR(VLOOKUP($DM49,①初期設定!$C$118:$Q$192,6,FALSE)),\"*\",VLOOKUP($DM49,①初期設定!$C$118:$Q$192,6,FALSE))","v":"*"},{"$f":"IF(ISERROR(VLOOKUP($DM49,①初期設定!$T$118:$AH$191,6,FALSE)),\"*\",VLOOKUP($DM49,①初期設定!$T$118:$AH$191,6,FALSE))","v":"*"},{"$f":"IF(ISERROR(VLOOKUP($DM49,①初期設定!$T$118:$AH$191,6,FALSE)),\"*\",VLOOKUP($DM49,①初期設定!$T$118:$AH$191,6,FALSE))","v":"*"},{"$f":"IF(ISERROR(VLOOKUP(DM49,①初期設定!$E$118:$Q$192,4,FALSE)),\"*\",VLOOKUP(DM49,①初期設定!$E$118:$Q$192,4,FALSE))","v":"*"},{"$f":"IF(ISERROR(VLOOKUP($DM49,①初期設定!$E$118:$Q$192,4,FALSE)),\"*\",VLOOKUP($DM49,①初期設定!$E$118:$Q$192,4,FALSE))","v":"*"},{"$f":"IF(ISERROR(VLOOKUP(DM49,①初期設定!$V$118:$AH$191,4,FALSE)),\"*\",VLOOKUP(DM49,①初期設定!$V$118:$AH$191,4,FALSE))","v":"*"},{"$f":"IF(ISERROR(VLOOKUP($DM49,①初期設定!$V$118:$AH$191,4,FALSE)),\"*\",VLOOKUP($DM49,①初期設定!$V$118:$AH$191,4,FALSE))","v":"*"},{"$f":"IF(ISERROR(VLOOKUP(DM49,①初期設定!$G$118:$Q$192,2,FALSE)),\"*\",VLOOKUP(DM49,①初期設定!$G$118:$Q$192,2,FALSE))","v":"*"},{"$f":"IF(ISERROR(VLOOKUP($DM49,①初期設定!$G$118:$Q$192,2,FALSE)),\"*\",VLOOKUP($DM49,①初期設定!$G$118:$Q$192,2,FALSE))","v":"*"},{"$f":"IF(ISERROR(VLOOKUP(DM49,①初期設定!$X$118:$AH$191,2,FALSE)),\"*\",VLOOKUP(DM49,①初期設定!$X$118:$AH$191,2,FALSE))","v":"*"},{"$f":"IF(ISERROR(VLOOKUP($DM49,①初期設定!$X$118:$AH$191,2,FALSE)),\"*\",VLOOKUP($DM49,①初期設定!$X$118:$AH$191,2,FALSE))","v":"*"}]
[37,null,null,null,null,null,null,null,null,null,null,null,null,null,null,null,null,null,null,null,null,null,null,null,null,null,null,null,null,null,null,null,null,null,null,null,null,null,null,null,null,"",null,null,"",null,null,null,null,null,null,null,null,null,null,"",null,null,"",null,null,null,null,null,null,null,null,null,null,"",null,null,"",null,null,null,null,null,null,null,null,null,null,"400R","",0,0,0,0,0,"種目",0,0,0,"0",null,0,0,0,0,"種目2",0,0,0,"0",null,null,"遠軽陸上ｸﾗﾌﾞ",null,null,"道央(佐々木)",null,null,2005,null,null,36,{"$f":"IF(ISERROR(VLOOKUP(DM50,①初期設定!$C$50:$N$97,4,FALSE)),\"*\",VLOOKUP(DM50,①初期設定!$C$50:$N$97,4,FALSE))","v":"*"},{"$f":"IF(ISERROR(VLOOKUP(DM50,①初期設定!$Q$50:$AB$97,4,FALSE)),\"*\",VLOOKUP(DM50,①初期設定!$Q$50:$AB$97,4,FALSE))","v":"*"},{"$f":"IF(ISERROR(VLOOKUP(DM50,①初期設定!$E$50:$N$97,2,FALSE)),\"*\",VLOOKUP(DM50,①初期設定!$E$50:$N$97,2,FALSE))","v":"*"},{"$f":"IF(ISERROR(VLOOKUP(DM50,①初期設定!$S$50:$AB$97,2,FALSE)),\"*\",VLOOKUP(DM50,①初期設定!$S$50:$AB$97,2,FALSE))","v":"*"},{"$f":"IF(ISERROR(VLOOKUP(DM50,①初期設定!$C$118:$Q$192,6,FALSE)),\"*\",VLOOKUP(DM50,①初期設定!$C$118:$Q$192,6,FALSE))","v":"*"},{"$f":"IF(ISERROR(VLOOKUP($DM50,①初期設定!$C$118:$Q$192,6,FALSE)),\"*\",VLOOKUP($DM50,①初期設定!$C$118:$Q$192,6,FALSE))","v":"*"},{"$f":"IF(ISERROR(VLOOKUP($DM50,①初期設定!$T$118:$AH$191,6,FALSE)),\"*\",VLOOKUP($DM50,①初期設定!$T$118:$AH$191,6,FALSE))","v":"*"},{"$f":"IF(ISERROR(VLOOKUP($DM50,①初期設定!$T$118:$AH$191,6,FALSE)),\"*\",VLOOKUP($DM50,①初期設定!$T$118:$AH$191,6,FALSE))","v":"*"},{"$f":"IF(ISERROR(VLOOKUP(DM50,①初期設定!$E$118:$Q$192,4,FALSE)),\"*\",VLOOKUP(DM50,①初期設定!$E$118:$Q$192,4,FALSE))","v":"*"},{"$f":"IF(ISERROR(VLOOKUP($DM50,①初期設定!$E$118:$Q$192,4,FALSE)),\"*\",VLOOKUP($DM50,①初期設定!$E$118:$Q$192,4,FALSE))","v":"*"},{"$f":"IF(ISERROR(VLOOKUP(DM50,①初期設定!$V$118:$AH$191,4,FALSE)),\"*\",VLOOKUP(DM50,①初期設定!$V$118:$AH$191,4,FALSE))","v":"*"},{"$f":"IF(ISERROR(VLOOKUP($DM50,①初期設定!$V$118:$AH$191,4,FALSE)),\"*\",VLOOKUP($DM50,①初期設定!$V$118:$AH$191,4,FALSE))","v":"*"},{"$f":"IF(ISERROR(VLOOKUP(DM50,①初期設定!$G$118:$Q$192,2,FALSE)),\"*\",VLOOKUP(DM50,①初期設定!$G$118:$Q$192,2,FALSE))","v":"*"},{"$f":"IF(ISERROR(VLOOKUP($DM50,①初期設定!$G$118:$Q$192,2,FALSE)),\"*\",VLOOKUP($DM50,①初期設定!$G$118:$Q$192,2,FALSE))","v":"*"},{"$f":"IF(ISERROR(VLOOKUP(DM50,①初期設定!$X$118:$AH$191,2,FALSE)),\"*\",VLOOKUP(DM50,①初期設定!$X$118:$AH$191,2,FALSE))","v":"*"},{"$f":"IF(ISERROR(VLOOKUP($DM50,①初期設定!$X$118:$AH$191,2,FALSE)),\"*\",VLOOKUP($DM50,①初期設定!$X$118:$AH$191,2,FALSE))","v":"*"}]
[38,null,null,null,null,null,null,null,null,null,null,null,null,null,null,null,null,null,null,null,null,null,null,null,null,null,null,null,null,null,null,null,null,null,null,null,null,null,null,null,null,"",null,null,"",null,null,null,null,null,null,null,null,null,null,"",null,null,"",null,null,null,null,null,null,null,null,null,null,"",null,null,"",null,null,null,null,null,null,null,null,null,null,"400R","",0,0,0,0,0,"種目",0,0,0,"0",null,0,0,0,0,"種目2",0,0,0,"0",null,null,"遠軽陸上少年団",null,null,"弘前大",null,null,2006]
[39,null,null,null,null,null,null,null,null,null,null,null,null,null,null,null,null,null,null,null,null,null,null,null,null,null,null,null,null,null,null,null,null,null,null,null,null,null,null,null,null,"",null,null,"",null,null,null,null,null,null,null,null,null,null,"",null,null,"",null,null,null,null,null,null,null,null,null,null,"",null,null,"",null,null,null,null,null,null,null,null,null,null,"400R","",0,0,0,0,0,"種目",0,0,0,"0",null,0,0,0,0,"種目2",0,0,0,"0",null,null,"ｵﾎｰﾂｸｷｯｽﾞ",null,null,"別海AC",null,null,2007]
[40,null,null,null,null,null,null,null,null,null,null,null,null,null,null,null,null,null,null,null,null,null,null,null,null,null,null,null,null,null,null,null,null,null,null,null,null,null,null,null,null,"",null,null,"",null,null,null,null,null,null,null,null,null,null,"",null,null,"",null,null,null,null,null,null,null,null,null,null,"",null,null,"",null,null,null,null,null,null,null,null,null,null,"400R","",0,0,0,0,0,"種目",0,0,0,"0",null,0,0,0,0,"種目2",0,0,0,"0",null,null,"QP-JSRC",null,null,"メディカルスポーツ専門学校",null,null,2008]
[null,null,null,null,null,null,null,null,null,null,null,null,null,null,null,null,null,null,null,null,null,null,null,null,null,null,null,null,null,null,null,null,null,null,null,null,null,null,null,null,null,null,null,null,null,null,null,null,null,null,null,null,null,null,null,null,null,null,null,null,null,null,null,null,null,null,null,null,null,null,null,null,null,null,null,null,null,null,null,null,null,null,null,null,null,null,null,null,null,null,null,null,null,null,null,null,null,null,null,null,null,null,null,null,null,null,null,"網走陸上少年団",null,null,"星槎道都大",null,null,2009]
[null,null,null,null,null,null,null,null,null,null,null,null,null,null,null,null,null,null,null,null,null,null,null,null,null,null,null,null,null,null,null,null,null,null,null,null,null,null,null,null,null,null,null,null,null,null,null,null,null,null,null,null,null,null,null,null,null,null,null,null,null,null,null,null,null,null,null,null,null,null,null,null,null,null,null,null,null,null,null,null,null,null,null,null,null,null,null,null,null,null,null,null,null,null,null,null,null,null,null,null,null,null,null,null,null,null,null,"清里陸上少年団",null,null,"ｵﾎｰﾂｸ陸協(古城)",null,null,2010]
[null,null,null,null,null,null,null,null,null,null,null,null,null,null,null,null,null,null,null,null,null,null,null,null,null,null,null,null,null,null,null,null,null,null,null,null,null,null,null,null,null,null,null,null,null,null,null,null,null,null,null,null,null,null,null,null,null,null,null,null,null,null,null,null,null,null,null,null,null,null,null,null,null,null,null,null,null,null,null,null,null,null,null,null,null,null,null,null,null,null,null,null,null,null,null,null,null,null,null,null,null,null,null,null,null,null,null,"常呂陸上少年団",null,null,"ｵﾎｰﾂｸ陸協(清水)",null,null,2011]
[null,null,null,null,null,null,null,null,null,null,null,null,null,null,null,null,null,null,null,null,null,null,null,null,null,null,null,null,null,null,null,null,null,null,null,null,null,null,null,null,null,null,null,null,null,null,null,null,null,null,null,null,null,null,null,null,null,null,null,null,null,null,null,null,null,null,null,null,null,null,null,null,null,null,null,null,null,null,null,null,null,null,null,null,null,null,null,null,null,null,null,null,null,null,null,null,null,null,null,null,null,null,null,null,null,null,null,"訓子府陸上少年団",null,null,null,null,null,2012]
[null,null,null,null,null,null,null,null,null,null,null,null,null,null,null,null,null,null,null,null,null,null,null,null,null,null,null,null,null,null,null,null,null,null,null,null,null,null,null,null,null,null,null,null,null,null,null,null,null,null,null,null,null,null,null,null,null,null,null,null,null,null,null,null,null,null,null,null,null,null,null,null,null,null,null,null,null,null,null,null,null,null,null,null,null,null,null,null,null,null,null,null,null,null,null,null,null,null,null,null,null,null,null,null,null,null,null,"ｵﾎｰﾂｸACｼﾞｭﾆｱ"]
[null,null,null,null,null,null,null,null,null,null,null,null,null,null,null,null,null,null,null,null,null,null,null,null,null,null,null,null,null,null,null,null,null,null,null,null,null,null,null,null,null,null,null,null,null,null,null,null,null,null,null,null,null,null,null,null,null,null,null,null,null,null,null,null,null,null,null,null,null,null,null,null,null,null,null,null,null,null,null,null,null,null,null,null,null,null,null,null,null,null,null,null,null,null,null,null,null,null,null,null,null,null,null,null,null,null,null,"ｵﾎｰﾂｸSS"]
[null,null,null,null,null,null,null,null,null,null,null,null,null,null,null,null,null,null,null,null,null,null,null,null,null,null,null,null,null,null,null,null,null,null,null,null,null,null,null,null,null,null,null,null,null,null,null,null,null,null,null,null,null,null,null,null,null,null,null,null,null,null,null,null,null,null,null,null,null,null,null,null,null,null,null,null,null,null,null,null,null,null,null,null,null,null,null,null,null,null,null,null,null,null,null,null,null,null,null,null,null,null,null,null,null,null,null,"知床斜里RC"]
[null,null,null,null,null,null,null,null,null,null,null,null,null,null,null,null,null,null,null,null,null,null,null,null,null,null,null,null,null,null,null,null,null,null,null,null,null,null,null,null,null,null,null,null,null,null,null,null,null,null,null,null,null,null,null,null,null,null,null,null,null,null,null,null,null,null,null,null,null,null,null,null,null,null,null,null,null,null,null,null,null,null,null,null,null,null,null,null,null,null,null,null,null,null,null,null,null,null,null,null,null,null,null,null,null,null,null,"標茶陸上少年団"]
[null,null,null,null,null,null,null,null,null,null,null,null,null,null,null,null,null,null,null,null,null,null,null,null,null,null,null,null,null,null,null,null,null,null,null,null,null,null,null,null,null,null,null,null,null,null,null,null,null,null,null,null,null,null,null,null,null,null,null,null,null,null,null,null,null,null,null,null,null,null,null,null,null,null,null,null,null,null,null,null,null,null,null,null,null,null,null,null,null,null,null,null,null,null,null,null,null,null,null,null,null,null,null,null,null,null,null,"共栄陸上ｸﾗﾌﾞ"]
[null,null,null,null,null,null,null,null,null,null,null,null,null,null,null,null,null,null,null,null,null,null,null,null,null,null,null,null,null,null,null,null,null,null,null,null,null,null,null,null,null,null,null,null,null,null,null,null,null,null,null,null,null,null,null,null,null,null,null,null,null,null,null,null,null,null,null,null,null,null,null,null,null,null,null,null,null,null,null,null,null,null,null,null,null,null,null,null,null,null,null,null,null,null,null,null,null,null,null,null,null,null,null,null,null,null,null,"弟子屈陸少"]
[null,null,null,null,null,null,null,null,null,null,null,null,null,null,null,null,null,null,null,null,null,null,null,null,null,null,null,null,null,null,null,null,null,null,null,null,null,null,null,null,null,null,null,null,null,null,null,null,null,null,null,null,null,null,null,null,null,null,null,null,null,null,null,null,null,null,null,null,null,null,null,null,null,null,null,null,null,null,null,null,null,null,null,null,null,null,null,null,null,null,null,null,null,null,null,null,null,null,null,null,null,null,null,null,null,null,null,"弟子屈RC"]

{"sheet":"混成様式（高男八）","index":1,"n_rows":511,"n_cols":31,"rows_kept":511,"cut":false,"hidden":false,"merged":[[508,0,509,3],[508,4,509,7],[508,8,509,11],[508,12,509,15],[508,18,509,21],[508,22,509,25],[508,26,509,29],[508,30,509,33],[510,0,511,11],[510,12,511,15],[510,18,511,29],[510,30,511,33],[504,0,505,3],[504,4,505,7],[504,8,505,11],[504,12,505,15],[504,18,505,21],[504,22,505,25],[504,26,505,29],[504,30,505,33],[506,0,507,3],[506,4,507,7],[506,8,507,11],[506,12,507,15],[506,18,507,21],[506,22,507,25],[506,26,507,29],[506,30,507,33],[500,0,501,3],[500,4,501,7],[500,8,501,11],[500,12,501,15],[500,18,501,21],[500,22,501,25],[500,26,501,29],[500,30,501,33],[502,0,503,3],[502,4,503,7],[502,8,503,11],[502,12,503,15],[502,18,503,21],[502,22,503,25],[502,26,503,29],[502,30,503,33],[496,0,497,3],[496,4,497,7],[496,8,497,11],[496,12,497,15],[496,18,497,21],[496,22,497,25],[496,26,497,29],[496,30,497,33],[498,0,499,3],[498,4,499,7],[498,8,499,11],[498,12,499,15],[498,18,499,21],[498,22,499,25],[498,26,499,29],[498,30,499,33],[492,0,493,3],[492,4,493,7],[492,8,493,11],[492,12,493,15],[492,18,493,21],[492,22,493,25],[492,26,493,29],[492,30,493,33],[494,0,495,3],[494,4,495,7],[494,8,495,11],[494,12,495,15],[494,18,495,21],[494,22,495,25],[494,26,495,29],[494,30,495,33],[488,0,489,2],[488,3,489,11],[488,12,491,13],[488,14,491,15],[488,18,489,20],[488,21,489,29],[488,30,491,31],[488,32,491,33],[490,0,491,2],[490,3,491,11],[490,18,491,20],[490,21,491,29],[481,0,482,3],[481,4,482,7],[481,8,482,11],[481,12,482,15],[481,18,482,21],[481,22,482,25],[481,26,482,29],[481,30,482,33],[483,0,484,11],[483,12,484,15],[483,18,484,29],[483,30,484,33],[477,0,478,3],[477,4,478,7],[477,8,478,11],[477,12,478,15],[477,18,478,21],[477,22,478,25],[477,26,478,29],[477,30,478,33],[479,0,480,3],[479,4,480,7],[479,8,480,11],[479,12,480,15],[479,18,480,21],[479,22,480,25],[479,26,480,29],[479,30,480,33],[473,0,474,3],[473,4,474,7],[473,8,474,11],[473,12,474,15],[473,18,474,21],[473,22,474,25],[473,26,474,29],[473,30,474,33],[475,0,476,3],[475,4,476,7],[475,8,476,11],[475,12,476,15],[475,18,476,21],[475,22,476,25],[475,26,476,29],[475,30,476,33],[469,0,470,3],[469,4,470,7],[469,8,470,11],[469,12,470,15],[469,18,470,21],[469,22,470,25],[469,26,470,29],[469,30,470,33],[471,0,472,3],[471,4,472,7],[471,8,472,11],[471,12,472,15],[471,18,472,21],[471,22,472,25],[471,26,472,29],[471,30,472,33],[465,0,466,3],[465,4,466,7],[465,8,466,11],[465,12,466,15],[465,18,466,21],[465,22,466,25],[465,26,466,29],[465,30,466,33],[467,0,468,3],[467,4,468,7],[467,8,468,11],[467,12,468,15],[467,18,468,21],[467,22,468,25],[467,26,468,29],[467,30,468,33],[459,0,460,33],[461,0,462,2],[461,3,462,11],[461,12,464,13],[461,14,464,15],[461,18,462,20],[461,21,462,29],[461,30,464,31],[461,32,464,33],[463,0,464,2],[463,3,464,11],[463,18,464,20],[463,21,464,29],[448,0,450,6],[448,7,450,33],[451,0,453,6],[451,7,453,33],[454,0,457,4],[454,5,457,11],[454,12,455,16],[454,17,455,21],[454,22,457,25],[454,26,457,33],[456,12,457,16],[456,17,457,21],[444,0,445,3],[444,4,445,7],[444,8,445,11],[444,12,445,15],[444,18,445,21],[444,22,445,25],[444,26,445,29],[444,30,445,33],[446,0,447,11],[446,12,447,15],[446,18,447,29],[446,30,447,33],[440,0,441,3],[440,4,441,7],[440,8,441,11],[440,12,441,15],[440,18,441,21],[440,22,441,25],[440,26,441,29],[440,30,441,33],[442,0,443,3],[442,4,443,7],[442,8,443,11],[442,12,443,15],[442,18,443,21],[442,22,443,25],[442,26,443,29],[442,30,443,33],[436,0,437,3],[436,4,437,7],[436,8,437,11],[436,12,437,15],[436,18,437,21],[436,22,437,25],[436,26,437,29],[436,30,437,33],[438,0,439,3],[438,4,439,7],[438,8,439,11],[438,12,439,15],[438,18,439,21],[438,22,439,25],[438,26,439,29],[438,30,439,33],[432,0,433,3],[432,4,433,7],[432,8,433,11],[432,12,433,15],[432,18,433,21],[432,22,433,25],[432,26,433,29],[432,30,433,33],[434,0,435,3],[434,4,435,7],[434,8,435,11],[434,12,435,15],[434,18,435,21],[434,22,435,25],[434,26,435,29],[434,30,435,33],[428,0,429,3],[428,4,429,7],[428,8,429,11],[428,12,429,15],[428,18,429,21],[428,22,429,25],[428,26,429,29],[428,30,429,33],[430,0,431,3],[430,4,431,7],[430,8,431,11],[430,12,431,15],[430,18,431,21],[430,22,431,25],[430,26,431,29],[430,30,431,33],[424,0,425,2],[424,3,425,11],[424,12,427,13],[424,14,427,15],[424,18,425,20],[424,21,425,29],[424,30,427,31],[424,32,427,33],[426,0,427,2],[426,3,427,11],[426,18,427,20],[426,21,427,29],[417,0,418,3],[417,4,418,7],[417,8,418,11],[417,12,418,15],[417,18,418,21],[417,22,418,25],[417,26,418,29],[417,30,418,33],[419,0,420,11],[419,12,420,15],[419,18,420,29],[419,30,420,33],[413,0,414,3],[413,4,414,7],[413,8,414,11],[413,12,414,15],[413,18,414,21],[413,22,414,25],[413,26,414,29],[413,30,414,33],[415,0,416,3],[415,4,416,7],[415,8,416,11],[415,12,416,15],[415,18,416,21],[415,22,416,25],[415,26,416,29],[415,30,416,33],[409,0,410,3],[409,4,410,7],[409,8,410,11],[409,12,410,15],[409,18,410,21],[409,22,410,25],[409,26,410,29],[409,30,410,33],[411,0,412,3],[411,4,412,7],[411,8,412,11],[411,12,412,15],[411,18,412,21],[411,22,412,25],[411,26,412,29],[411,30,412,33],[405,0,406,3],[405,4,406,7],[405,8,406,11],[405,12,406,15],[405,18,406,21],[405,22,406,25],[405,26,406,29],[405,30,406,33],[407,0,408,3],[407,4,408,7],[407,8,408,11],[407,12,408,15],[407,18,408,21],[407,22,408,25],[407,26,408,29],[407,30,408,33],[401,0,402,3],[401,4,402,7],[401,8,402,11],[401,12,402,15],[401,18,402,21],[401,22,402,25],[401,26,402,29],[401,30,402,33],[403,0,404,3],[403,4,404,7],[403,8,404,11],[403,12,404,15],[403,18,404,21],[403,22,404,25],[403,26,404,29],[403,30,404,33],[395,0,396,33],[397,0,398,2],[397,3,398,11],[397,12,400,13],[397,14,400,15],[397,18,398,20],[397,21,398,29],[397,30,400,31],[397,32,400,33],[399,0,400,2],[399,3,400,11],[399,18,400,20],[399,21,400,29],[384,0,386,6],[384,7,386,33],[387,0,389,6],[387,7,389,33],[390,0,393,4],[390,5,393,11],[390,12,391,16],[390,17,391,21],[390,22,393,25],[390,26,393,33],[392,12,393,16],[392,17,393,21],[380,0,381,3],[380,4,381,7],[380,8,381,11],[380,12,381,15],[380,18,381,21],[380,22,381,25],[380,26,381,29],[380,30,381,33],[382,0,383,11],[382,12,383,15],[382,18,383,29],[382,30,383,33],[376,0,377,3],[376,4,377,7],[376,8,377,11],[376,12,377,15],[376,18,377,21],[376,22,377,25],[376,26,377,29],[376,30,377,33],[378,0,379,3],[378,4,379,7],[378,8,379,11],[378,12,379,15],[378,18,379,21],[378,22,379,25],[378,26,379,29],[378,30,379,33],[372,0,373,3],[372,4,373,7],[372,8,373,11],[372,12,373,15],[372,18,373,21],[372,22,373,25],[372,26,373,29],[372,30,373,33],[374,0,375,3],[374,4,375,7],[374,8,375,11],[374,12,375,15],[374,18,375,21],[374,22,375,25],[374,26,375,29],[374,30,375,33],[368,0,369,3],[368,4,369,7],[368,8,369,11],[368,12,369,15],[368,18,369,21],[368,22,369,25],[368,26,369,29],[368,30,369,33],[370,0,371,3],[370,4,371,7],[370,8,371,11],[370,12,371,15],[370,18,371,21],[370,22,371,25],[370,26,371,29],[370,30,371,33],[364,0,365,3],[364,4,365,7],[364,8,365,11],[364,12,365,15],[364,18,365,21],[364,22,365,25],[364,26,365,29],[364,30,365,33],[366,0,367,3],[366,4,367,7],[366,8,367,11],[366,12,367,15],[366,18,367,21],[366,22,367,25],[366,26,367,29],[366,30,367,33],[360,0,361,2],[360,3,361,11],[360,12,363,13],[360,14,363,15],[360,18,361,20],[360,21,361,29],[360,30,363,31],[360,32,363,33],[362,0,363,2],[362,3,363,11],[362,18,363,20],[362,21,363,29],[353,0,354,3],[353,4,354,7],[353,8,354,11],[353,12,354,15],[353,18,354,21],[353,22,354,25],[353,26,354,29],[353,30,354,33],[355,0,356,11],[355,12,356,15],[355,18,356,29],[355,30,356,33],[349,0,350,3],[349,4,350,7],[349,8,350,11],[349,12,350,15],[349,18,350,21],[349,22,350,25],[349,26,350,29],[349,30,350,33],[351,0,352,3],[351,4,352,7],[351,8,352,11],[351,12,352,15],[351,18,352,21],[351,22,352,25],[351,26,352,29],[351,30,352,33],[345,0,346,3],[345,4,346,7],[345,8,346,11],[345,12,346,15],[345,18,346,21],[345,22,346,25],[345,26,346,29],[345,30,346,33],[347,0,348,3],[347,4,348,7],[347,8,348,11],[347,12,348,15],[347,18,348,21],[347,22,348,25],[347,26,348,29],[347,30,348,33],[341,0,342,3],[341,4,342,7],[341,8,342,11],[341,12,342,15],[341,18,342,21],[341,22,342,25],[341,26,342,29],[341,30,342,33],[343,0,344,3],[343,4,344,7],[343,8,344,11],[343,12,344,15],[343,18,344,21],[343,22,344,25],[343,26,344,29],[343,30,344,33],[337,0,338,3],[337,4,338,7],[337,8,338,11],[337,12,338,15],[337,18,338,21],[337,22,338,25],[337,26,338,29],[337,30,338,33],[339,0,340,3],[339,4,340,7],[339,8,340,11],[339,12,340,15],[339,18,340,21],[339,22,340,25],[339,26,340,29],[339,30,340,33],[331,0,332,33],[333,0,334,2],[333,3,334,11],[333,12,336,13],[333,14,336,15],[333,18,334,20],[333,21,334,29],[333,30,336,31],[333,32,336,33],[335,0,336,2],[335,3,336,11],[335,18,336,20],[335,21,336,29],[320,0,322,6],[320,7,322,33],[323,0,325,6],[323,7,325,33],[326,0,329,4],[326,5,329,11],[326,12,327,16],[326,17,327,21],[326,22,329,25],[326,26,329,33],[328,12,329,16],[328,17,329,21],[316,0,317,3],[316,4,317,7],[316,8,317,11],[316,12,317,15],[316,18,317,21],[316,22,317,25],[316,26,317,29],[316,30,317,33],[318,0,319,11],[318,12,319,15],[318,18,319,29],[318,30,319,33],[312,0,313,3],[312,4,313,7],[312,8,313,11],[312,12,313,15],[312,18,313,21],[312,22,313,25],[312,26,313,29],[312,30,313,33],[314,0,315,3],[314,4,315,7],[314,8,315,11],[314,12,315,15],[314,18,315,21],[314,22,315,25],[314,26,315,29],[314,30,315,33],[308,0,309,3],[308,4,309,7],[308,8,309,11],[308,12,309,15],[308,18,309,21],[308,22,309,25],[308,26,309,29],[308,30,309,33],[310,0,311,3],[310,4,311,7],[310,8,311,11],[310,12,311,15],[310,18,311,21],[310,22,311,25],[310,26,311,29],[310,30,311,33],[304,0,305,3],[304,4,305,7],[304,8,305,11],[304,12,305,15],[304,18,305,21],[304,22,305,25],[304,26,305,29],[304,30,305,33],[306,0,307,3],[306,4,307,7],[306,8,307,11],[306,12,307,15],[306,18,307,21],[306,22,307,25],[306,26,307,29],[306,30,307,33],[300,0,301,3],[300,4,301,7],[300,8,301,11],[300,12,301,15],[300,18,301,21],[300,22,301,25],[300,26,301,29],[300,30,301,33],[302,0,303,3],[302,4,303,7],[302,8,303,11],[302,12,303,15],[302,18,303,21],[302,22,303,25],[302,26,303,29],[302,30,303,33],[296,0,297,2],[296,3,297,11],[296,12,299,13],[296,14,299,15],[296,18,297,20],[296,21,297,29],[296,30,299,31],[296,32,299,33],[298,0,299,2],[298,3,299,11],[298,18,299,20],[298,21,299,29],[289,0,290,3],[289,4,290,7],[289,8,290,11],[289,12,290,15],[289,18,290,21],[289,22,290,25],[289,26,290,29],[289,30,290,33],[291,0,292,11],[291,12,292,15],[291,18,292,29],[291,30,292,33],[285,0,286,3],[285,4,286,7],[285,8,286,11],[285,12,286,15],[285,18,286,21],[285,22,286,25],[285,26,286,29],[285,30,286,33],[287,0,288,3],[287,4,288,7],[287,8,288,11],[287,12,288,15],[287,18,288,21],[287,22,288,25],[287,26,288,29],[287,30,288,33],[281,0,282,3],[281,4,282,7],[281,8,282,11],[281,12,282,15],[281,18,282,21],[281,22,282,25],[281,26,282,29],[281,30,282,33],[283,0,284,3],[283,4,284,7],[283,8,284,11],[283,12,284,15],[283,18,284,21],[283,22,284,25],[283,26,284,29],[283,30,284,33],[277,0,278,3],[277,4,278,7],[277,8,278,11],[277,12,278,15],[277,18,278,21],[277,22,278,25],[277,26,278,29],[277,30,278,33],[279,0,280,3],[279,4,280,7],[279,8,280,11],[279,12,280,15],[279,18,280,21],[279,22,280,25],[279,26,280,29],[279,30,280,33],[273,0,274,3],[273,4,274,7],[273,8,274,11],[273,12,274,15],[273,18,274,21],[273,22,274,25],[273,26,274,29],[273,30,274,33],[275,0,276,3],[275,4,276,7],[275,8,276,11],[275,12,276,15],[275,18,276,21],[275,22,276,25],[275,26,276,29],[275,30,276,33],[267,0,268,33],[269,0,270,2],[269,3,270,11],[269,12,272,13],[269,14,272,15],[269,18,270,20],[269,21,270,29],[269,30,272,31],[269,32,272,33],[271,0,272,2],[271,3,272,11],[271,18,272,20],[271,21,272,29],[256,0,258,6],[256,7,258,33],[259,0,261,6],[259,7,261,33],[262,0,265,4],[262,5,265,11],[262,12,263,16],[262,17,263,21],[262,22,265,25],[262,26,265,33],[264,12,265,16],[264,17,265,21],[252,0,253,3],[252,4,253,7],[252,8,253,11],[252,12,253,15],[252,18,253,21],[252,22,253,25],[252,26,253,29],[252,30,253,33],[254,0,255,11],[254,12,255,15],[254,18,255,29],[254,30,255,33],[248,0,249,3],[248,4,249,7],[248,8,249,11],[248,12,249,15],[248,18,249,21],[248,22,249,25],[248,26,249,29],[248,30,249,33],[250,0,251,3],[250,4,251,7],[250,8,251,11],[250,12,251,15],[250,18,251,21],[250,22,251,25],[250,26,251,29],[250,30,251,33],[244,0,245,3],[244,4,245,7],[244,8,245,11],[244,12,245,15],[244,18,245,21],[244,22,245,25],[244,26,245,29],[244,30,245,33],[246,0,247,3],[246,4,247,7],[246,8,247,11],[246,12,247,15],[246,18,247,21],[246,22,247,25],[246,26,247,29],[246,30,247,33],[240,0,241,3],[240,4,241,7],[240,8,241,11],[240,12,241,15],[240,18,241,21],[240,22,241,25],[240,26,241,29],[240,30,241,33],[242,0,243,3],[242,4,243,7],[242,8,243,11],[242,12,243,15],[242,18,243,21],[242,22,243,25],[242,26,243,29],[242,30,243,33],[236,0,237,3],[236,4,237,7],[236,8,237,11],[236,12,237,15],[236,18,237,21],[236,22,237,25],[236,26,237,29],[236,30,237,33],[238,0,239,3],[238,4,239,7],[238,8,239,11],[238,12,239,15],[238,18,239,21],[238,22,239,25],[238,26,239,29],[238,30,239,33],[232,0,233,2],[232,3,233,11],[232,12,235,13],[232,14,235,15],[232,18,233,20],[232,21,233,29],[232,30,235,31],[232,32,235,33],[234,0,235,2],[234,3,235,11],[234,18,235,20],[234,21,235,29],[225,0,226,3],[225,4,226,7],[225,8,226,11],[225,12,226,15],[225,18,226,21],[225,22,226,25],[225,26,226,29],[225,30,226,33],[227,0,228,11],[227,12,228,15],[227,18,228,29],[227,30,228,33],[221,0,222,3],[221,4,222,7],[221,8,222,11],[221,12,222,15],[221,18,222,21],[221,22,222,25],[221,26,222,29],[221,30,222,33],[223,0,224,3],[223,4,224,7],[223,8,224,11],[223,12,224,15],[223,18,224,21],[223,22,224,25],[223,26,224,29],[223,30,224,33],[217,0,218,3],[217,4,218,7],[217,8,218,11],[217,12,218,15],[217,18,218,21],[217,22,218,25],[217,26,218,29],[217,30,218,33],[219,0,220,3],[219,4,220,7],[219,8,220,11],[219,12,220,15],[219,18,220,21],[219,22,220,25],[219,26,220,29],[219,30,220,33],[213,0,214,3],[213,4,214,7],[213,8,214,11],[213,12,214,15],[213,18,214,21],[213,22,214,25],[213,26,214,29],[213,30,214,33],[215,0,216,3],[215,4,216,7],[215,8,216,11],[215,12,216,15],[215,18,216,21],[215,22,216,25],[215,26,216,29],[215,30,216,33],[209,0,210,3],[209,4,210,7],[209,8,210,11],[209,12,210,15],[209,18,210,21],[209,22,210,25],[209,26,210,29],[209,30,210,33],[211,0,212,3],[211,4,212,7],[211,8,212,11],[211,12,212,15],[211,18,212,21],[211,22,212,25],[211,26,212,29],[211,30,212,33],[203,0,204,33],[205,0,206,2],[205,3,206,11],[205,12,208,13],[205,14,208,15],[205,18,206,20],[205,21,206,29],[205,30,208,31],[205,32,208,33],[207,0,208,2],[207,3,208,11],[207,18,208,20],[207,21,208,29],[192,0,194,6],[192,7,194,33],[195,0,197,6],[195,7,197,33],[198,0,201,4],[198,5,201,11],[198,12,199,16],[198,17,199,21],[198,22,201,25],[198,26,201,33],[200,12,201,16],[200,17,201,21],[188,0,189,3],[188,4,189,7],[188,8,189,11],[188,12,189,15],[188,18,189,21],[188,22,189,25],[188,26,189,29],[188,30,189,33],[190,0,191,11],[190,12,191,15],[190,18,191,29],[190,30,191,33],[184,0,185,3],[184,4,185,7],[184,8,185,11],[184,12,185,15],[184,18,185,21],[184,22,185,25],[184,26,185,29],[184,30,185,33],[186,0,187,3],[186,4,187,7],[186,8,187,11],[186,12,187,15],[186,18,187,21],[186,22,187,25],[186,26,187,29],[186,30,187,33],[180,0,181,3],[180,4,181,7],[180,8,181,11],[180,12,181,15],[180,18,181,21],[180,22,181,25],[180,26,181,29],[180,30,181,33],[182,0,183,3],[182,4,183,7],[182,8,183,11],[182,12,183,15],[182,18,183,21],[182,22,183,25],[182,26,183,29],[182,30,183,33],[176,0,177,3],[176,4,177,7],[176,8,177,11],[176,12,177,15],[176,18,177,21],[176,22,177,25],[176,26,177,29],[176,30,177,33],[178,0,179,3],[178,4,179,7],[178,8,179,11]],"merged_total":1512,"flags":["merged_cut"]}
["様式１",null,null,null,null,null,null,{"$f":"入力表!$A$1","v":"第２７回北海道陸上競技フェスティバル　兼　オホーツク陸協混成競技記録会"}]
[]
[]
["高男八種",null,null,null,null,null,null,"混成競技参加者　種目別記録表"]
[]
[]
["所属名",null,null,null,null,{"$f":"IF(入力表!$L$4=\"\",\"\",入力表!$L$4)","v":""},null,null,null,null,null,null,"所属陸協名",null,null,null,null,{"$f":"IF(入力表!$N$8=\"\",\"\",入力表!$N$8)","v":""},null,null,null,null,"連絡先℡",null,null,null,{"$f":"IF(入力表!$E$8=\"\",\"\",入力表!$E$8)","v":""}]
[]
[null,null,null,null,null,null,null,null,null,null,null,null,"申込責任者",null,null,null,null,{"$f":"IF(入力表!$E$6=\"\",\"\",入力表!$E$6)","v":""}]
[]
[]
["八種競技ベスト記録（プログラム編成上の資料になります。）"]
[]
["氏名",null,null,null,null,null,null,null,null,null,null,null,"学\n年",null,null,null,null,null,"氏名",null,null,null,null,null,null,null,null,null,null,null,"学\n年"]
[]
["ﾌﾘｶﾞﾅ",null,null,null,null,null,null,null,null,null,null,null,null,null,null,null,null,null,"ﾌﾘｶﾞﾅ"]
[]
[null,null,null,null,"記録",null,null,null,"風",null,null,null,"得点",null,null,null,null,null,null,null,null,null,"記録",null,null,null,"風",null,null,null,"得点"]
[]
["100m",null,null,null,null,null,null,null,null,null,null,null,null,null,null,null,null,null,"100m"]
[]
["走幅跳",null,null,null,null,null,null,null,null,null,null,null,null,null,null,null,null,null,"走幅跳"]
[]
["砲丸投",null,null,null,null,null,null,null,null,null,null,null,null,null,null,null,null,null,"砲丸投"]
[]
["400m",null,null,null,null,null,null,null,null,null,null,null,null,null,null,null,null,null,"400m"]
[]
["110mH",null,null,null,null,null,null,null,null,null,null,null,null,null,null,null,null,null,"110mH"]
[]
["やり投",null,null,null,null,null,null,null,null,null,null,null,null,null,null,null,null,null,"やり投"]
[]
["走高跳",null,null,null,null,null,null,null,null,null,null,null,null,null,null,null,null,null,"走高跳"]
[]
["1500m",null,null,null,null,null,null,null,null,null,null,null,null,null,null,null,null,null,"1500m"]
[]
["合計得点",null,null,null,null,null,null,null,null,null,null,null,{"$f":"IF(M20=\"\",\"\",SUM(M20:P35))","v":""},null,null,null,null,null,"合計得点",null,null,null,null,null,null,null,null,null,null,null,{"$f":"IF(AE20=\"\",\"\",SUM(AE20:AH35))","v":""}]
[]
[]
[]
[]
["氏名",null,null,null,null,null,null,null,null,null,null,null,"学\n年",null,null,null,null,null,"氏名",null,null,null,null,null,null,null,null,null,null,null,"学\n年"]
[]
["ﾌﾘｶﾞﾅ",null,null,null,null,null,null,null,null,null,null,null,null,null,null,null,null,null,"ﾌﾘｶﾞﾅ"]
[]
[null,null,null,null,"記録",null,null,null,"風",null,null,null,"得点",null,null,null,null,null,null,null,null,null,"記録",null,null,null,"風",null,null,null,"得点"]
[]
["100m",null,null,null,null,null,null,null,null,null,null,null,null,null,null,null,null,null,"100m"]
[]
["走幅跳",null,null,null,null,null,null,null,null,null,null,null,null,null,null,null,null,null,"走幅跳"]
[]
["砲丸投",null,null,null,null,null,null,null,null,null,null,null,null,null,null,null,null,null,"砲丸投"]
[]
["400m",null,null,null,null,null,null,null,null,null,null,null,null,null,null,null,null,null,"400m"]
[]
["110mH",null,null,null,null,null,null,null,null,null,null,null,null,null,null,null,null,null,"110mH"]
[]
["やり投",null,null,null,null,null,null,null,null,null,null,null,null,null,null,null,null,null,"やり投"]
[]
["走高跳",null,null,null,null,null,null,null,null,null,null,null,null,null,null,null,null,null,"走高跳"]
[]
["1500m",null,null,null,null,null,null,null,null,null,null,null,null,null,null,null,null,null,"1500m"]
[]
["合計得点",null,null,null,null,null,null,null,null,null,null,null,{"$f":"IF(M47=\"\",\"\",SUM(M47:P62))","v":""},null,null,null,null,null,"合計得点",null,null,null,null,null,null,null,null,null,null,null,{"$f":"IF(AE47=\"\",\"\",SUM(AE47:AH62))","v":""}]
[]
["様式１",null,null,null,null,null,null,{"$f":"入力表!$A$1","v":"第２７回北海道陸上競技フェスティバル　兼　オホーツク陸協混成競技記録会"}]
[]
[]
["高男八種",null,null,null,null,null,null,"混成競技参加者　種目別記録表"]
[]
[]
["所属名",null,null,null,null,{"$f":"IF(入力表!$L$4=\"\",\"\",入力表!$L$4)","v":""},null,null,null,null,null,null,"所属陸協名",null,null,null,null,{"$f":"IF(入力表!$N$8=\"\",\"\",入力表!$N$8)","v":""},null,null,null,null,"連絡先℡",null,null,null,{"$f":"IF(入力表!$E$8=\"\",\"\",入力表!$E$8)","v":""}]
[]
[null,null,null,null,null,null,null,null,null,null,null,null,"申込責任者",null,null,null,null,{"$f":"IF(入力表!$E$6=\"\",\"\",入力表!$E$6)","v":""}]
[]
[]
["八種競技ベスト記録（プログラム編成上の資料になります。）"]
[]
["氏名",null,null,null,null,null,null,null,null,null,null,null,"学\n年",null,null,null,null,null,"氏名",null,null,null,null,null,null,null,null,null,null,null,"学\n年"]
[]
["ﾌﾘｶﾞﾅ",null,null,null,null,null,null,null,null,null,null,null,null,null,null,null,null,null,"ﾌﾘｶﾞﾅ"]
[]
[null,null,null,null,"記録",null,null,null,"風",null,null,null,"得点",null,null,null,null,null,null,null,null,null,"記録",null,null,null,"風",null,null,null,"得点"]
[]
["100m",null,null,null,null,null,null,null,null,null,null,null,null,null,null,null,null,null,"100m"]
[]
["走幅跳",null,null,null,null,null,null,null,null,null,null,null,null,null,null,null,null,null,"走幅跳"]
[]
["砲丸投",null,null,null,null,null,null,null,null,null,null,null,null,null,null,null,null,null,"砲丸投"]
[]
["400m",null,null,null,null,null,null,null,null,null,null,null,null,null,null,null,null,null,"400m"]
[]
["110mH",null,null,null,null,null,null,null,null,null,null,null,null,null,null,null,null,null,"110mH"]
[]
["やり投",null,null,null,null,null,null,null,null,null,null,null,null,null,null,null,null,null,"やり投"]
[]
["走高跳",null,null,null,null,null,null,null,null,null,null,null,null,null,null,null,null,null,"走高跳"]
[]
["1500m",null,null,null,null,null,null,null,null,null,null,null,null,null,null,null,null,null,"1500m"]
[]
["合計得点",null,null,null,null,null,null,null,null,null,null,null,{"$f":"IF(M84=\"\",\"\",SUM(M84:P99))","v":""},null,null,null,null,null,"合計得点",null,null,null,null,null,null,null,null,null,null,null,{"$f":"IF(AE84=\"\",\"\",SUM(AE84:AH99))","v":""}]
[]
[]
[]
[]
["氏名",null,null,null,null,null,null,null,null,null,null,null,"学\n年",null,null,null,null,null,"氏名",null,null,null,null,null,null,null,null,null,null,null,"学\n年"]
[]
["ﾌﾘｶﾞﾅ",null,null,null,null,null,null,null,null,null,null,null,null,null,null,null,null,null,"ﾌﾘｶﾞﾅ"]
[]
[null,null,null,null,"記録",null,null,null,"風",null,null,null,"得点",null,null,null,null,null,null,null,null,null,"記録",null,null,null,"風",null,null,null,"得点"]
[]
["100m",null,null,null,null,null,null,null,null,null,null,null,null,null,null,null,null,null,"100m"]
[]
["走幅跳",null,null,null,null,null,null,null,null,null,null,null,null,null,null,null,null,null,"走幅跳"]
[]
["砲丸投",null,null,null,null,null,null,null,null,null,null,null,null,null,null,null,null,null,"砲丸投"]
[]
["400m",null,null,null,null,null,null,null,null,null,null,null,null,null,null,null,null,null,"400m"]
[]
["110mH",null,null,null,null,null,null,null,null,null,null,null,null,null,null,null,null,null,"110mH"]
[]
["やり投",null,null,null,null,null,null,null,null,null,null,null,null,null,null,null,null,null,"やり投"]
[]
["走高跳",null,null,null,null,null,null,null,null,null,null,null,null,null,null,null,null,null,"走高跳"]
[]
["1500m",null,null,null,null,null,null,null,null,null,null,null,null,null,null,null,null,null,"1500m"]
[]
["合計得点",null,null,null,null,null,null,null,null,null,null,null,{"$f":"IF(M111=\"\",\"\",SUM(M111:P126))","v":""},null,null,null,null,null,"合計得点",null,null,null,null,null,null,null,null,null,null,null,{"$f":"IF(AE111=\"\",\"\",SUM(AE111:AH126))","v":""}]
[]
["様式１",null,null,null,null,null,null,{"$f":"入力表!$A$1","v":"第２７回北海道陸上競技フェスティバル　兼　オホーツク陸協混成競技記録会"}]
[]
[]
["高男八種",null,null,null,null,null,null,"混成競技参加者　種目別記録表"]
[]
[]
["所属名",null,null,null,null,{"$f":"IF(入力表!$L$4=\"\",\"\",入力表!$L$4)","v":""},null,null,null,null,null,null,"所属陸協名",null,null,null,null,{"$f":"IF(入力表!$N$8=\"\",\"\",入力表!$N$8)","v":""},null,null,null,null,"連絡先℡",null,null,null,{"$f":"IF(入力表!$E$8=\"\",\"\",入力表!$E$8)","v":""}]
[]
[null,null,null,null,null,null,null,null,null,null,null,null,"申込責任者",null,null,null,null,{"$f":"IF(入力表!$E$6=\"\",\"\",入力表!$E$6)","v":""}]
[]
[]
["八種競技ベスト記録（プログラム編成上の資料になります。）"]
[]
["氏名",null,null,null,null,null,null,null,null,null,null,null,"学\n年",null,null,null,null,null,"氏名",null,null,null,null,null,null,null,null,null,null,null,"学\n年"]
[]
["ﾌﾘｶﾞﾅ",null,null,null,null,null,null,null,null,null,null,null,null,null,null,null,null,null,"ﾌﾘｶﾞﾅ"]
[]
[null,null,null,null,"記録",null,null,null,"風",null,null,null,"得点",null,null,null,null,null,null,null,null,null,"記録",null,null,null,"風",null,null,null,"得点"]
[]
["100m",null,null,null,null,null,null,null,null,null,null,null,null,null,null,null,null,null,"100m"]
[]
["走幅跳",null,null,null,null,null,null,null,null,null,null,null,null,null,null,null,null,null,"走幅跳"]
[]
["砲丸投",null,null,null,null,null,null,null,null,null,null,null,null,null,null,null,null,null,"砲丸投"]
[]
["400m",null,null,null,null,null,null,null,null,null,null,null,null,null,null,null,null,null,"400m"]
[]
["110mH",null,null,null,null,null,null,null,null,null,null,null,null,null,null,null,null,null,"110mH"]
[]
["やり投",null,null,null,null,null,null,null,null,null,null,null,null,null,null,null,null,null,"やり投"]
[]
["走高跳",null,null,null,null,null,null,null,null,null,null,null,null,null,null,null,null,null,"走高跳"]
[]
["1500m",null,null,null,null,null,null,null,null,null,null,null,null,null,null,null,null,null,"1500m"]
[]
["合計得点",null,null,null,null,null,null,null,null,null,null,null,{"$f":"IF(M148=\"\",\"\",SUM(M148:P163))","v":""},null,null,null,null,null,"合計得点",null,null,null,null,null,null,null,null,null,null,null,{"$f":"IF(AE148=\"\",\"\",SUM(AE148:AH163))","v":""}]
[]
[]
[]
[]
["氏名",null,null,null,null,null,null,null,null,null,null,null,"学\n年",null,null,null,null,null,"氏名",null,null,null,null,null,null,null,null,null,null,null,"学\n年"]
[]
["ﾌﾘｶﾞﾅ",null,null,null,null,null,null,null,null,null,null,null,null,null,null,null,null,null,"ﾌﾘｶﾞﾅ"]
[]
[null,null,null,null,"記録",null,null,null,"風",null,null,null,"得点",null,null,null,null,null,null,null,null,null,"記録",null,null,null,"風",null,null,null,"得点"]
[]
["100m",null,null,null,null,null,null,null,null,null,null,null,null,null,null,null,null,null,"100m"]
[]
["走幅跳",null,null,null,null,null,null,null,null,null,null,null,null,null,null,null,null,null,"走幅跳"]
[]
["砲丸投",null,null,null,null,null,null,null,null,null,null,null,null,null,null,null,null,null,"砲丸投"]
[]
["400m",null,null,null,null,null,null,null,null,null,null,null,null,null,null,null,null,null,"400m"]
[]
["110mH",null,null,null,null,null,null,null,null,null,null,null,null,null,null,null,null,null,"110mH"]
[]
["やり投",null,null,null,null,null,null,null,null,null,null,null,null,null,null,null,null,null,"やり投"]
[]
["走高跳",null,null,null,null,null,null,null,null,null,null,null,null,null,null,null,null,null,"走高跳"]
[]
["1500m",null,null,null,null,null,null,null,null,null,null,null,null,null,null,null,null,null,"1500m"]
[]
["合計得点",null,null,null,null,null,null,null,null,null,null,null,{"$f":"IF(M175=\"\",\"\",SUM(M175:P190))","v":""},null,null,null,null,null,"合計得点",null,null,null,null,null,null,null,null,null,null,null,{"$f":"IF(AE175=\"\",\"\",SUM(AE175:AH190))","v":""}]
[]
["様式１",null,null,null,null,null,null,{"$f":"入力表!$A$1","v":"第２７回北海道陸上競技フェスティバル　兼　オホーツク陸協混成競技記録会"}]
[]
[]
["高男八種",null,null,null,null,null,null,"混成競技参加者　種目別記録表"]
[]
[]
["所属名",null,null,null,null,{"$f":"IF(入力表!$L$4=\"\",\"\",入力表!$L$4)","v":""},null,null,null,null,null,null,"所属陸協名",null,null,null,null,{"$f":"IF(入力表!$N$8=\"\",\"\",入力表!$N$8)","v":""},null,null,null,null,"連絡先℡",null,null,null,{"$f":"IF(入力表!$E$8=\"\",\"\",入力表!$E$8)","v":""}]
[]
[null,null,null,null,null,null,null,null,null,null,null,null,"申込責任者",null,null,null,null,{"$f":"IF(入力表!$E$6=\"\",\"\",入力表!$E$6)","v":""}]
[]
[]
["八種競技ベスト記録（プログラム編成上の資料になります。）"]
[]
["氏名",null,null,null,null,null,null,null,null,null,null,null,"学\n年",null,null,null,null,null,"氏名",null,null,null,null,null,null,null,null,null,null,null,"学\n年"]
[]
["ﾌﾘｶﾞﾅ",null,null,null,null,null,null,null,null,null,null,null,null,null,null,null,null,null,"ﾌﾘｶﾞﾅ"]
[]
[null,null,null,null,"記録",null,null,null,"風",null,null,null,"得点",null,null,null,null,null,null,null,null,null,"記録",null,null,null,"風",null,null,null,"得点"]
[]
["100m",null,null,null,null,null,null,null,null,null,null,null,null,null,null,null,null,null,"100m"]
[]
["走幅跳",null,null,null,null,null,null,null,null,null,null,null,null,null,null,null,null,null,"走幅跳"]
[]
["砲丸投",null,null,null,null,null,null,null,null,null,null,null,null,null,null,null,null,null,"砲丸投"]
[]
["400m",null,null,null,null,null,null,null,null,null,null,null,null,null,null,null,null,null,"400m"]
[]
["110mH",null,null,null,null,null,null,null,null,null,null,null,null,null,null,null,null,null,"110mH"]
[]
["やり投",null,null,null,null,null,null,null,null,null,null,null,null,null,null,null,null,null,"やり投"]
[]
["走高跳",null,null,null,null,null,null,null,null,null,null,null,null,null,null,null,null,null,"走高跳"]
[]
["1500m",null,null,null,null,null,null,null,null,null,null,null,null,null,null,null,null,null,"1500m"]
[]
["合計得点",null,null,null,null,null,null,null,null,null,null,null,{"$f":"IF(M212=\"\",\"\",SUM(M212:P227))","v":""},null,null,null,null,null,"合計得点",null,null,null,null,null,null,null,null,null,null,null,{"$f":"IF(AE212=\"\",\"\",SUM(AE212:AH227))","v":""}]
[]
[]
[]
[]
["氏名",null,null,null,null,null,null,null,null,null,null,null,"学\n年",null,null,null,null,null,"氏名",null,null,null,null,null,null,null,null,null,null,null,"学\n年"]
[]
["ﾌﾘｶﾞﾅ",null,null,null,null,null,null,null,null,null,null,null,null,null,null,null,null,null,"ﾌﾘｶﾞﾅ"]
[]
[null,null,null,null,"記録",null,null,null,"風",null,null,null,"得点",null,null,null,null,null,null,null,null,null,"記録",null,null,null,"風",null,null,null,"得点"]
[]
["100m",null,null,null,null,null,null,null,null,null,null,null,null,null,null,null,null,null,"100m"]
[]
["走幅跳",null,null,null,null,null,null,null,null,null,null,null,null,null,null,null,null,null,"走幅跳"]
[]
["砲丸投",null,null,null,null,null,null,null,null,null,null,null,null,null,null,null,null,null,"砲丸投"]
[]
["400m",null,null,null,null,null,null,null,null,null,null,null,null,null,null,null,null,null,"400m"]
[]
["110mH",null,null,null,null,null,null,null,null,null,null,null,null,null,null,null,null,null,"110mH"]
[]
["やり投",null,null,null,null,null,null,null,null,null,null,null,null,null,null,null,null,null,"やり投"]
[]
["走高跳",null,null,null,null,null,null,null,null,null,null,null,null,null,null,null,null,null,"走高跳"]
[]
["1500m",null,null,null,null,null,null,null,null,null,null,null,null,null,null,null,null,null,"1500m"]
[]
["合計得点",null,null,null,null,null,null,null,null,null,null,null,{"$f":"IF(M239=\"\",\"\",SUM(M239:P254))","v":""},null,null,null,null,null,"合計得点",null,null,null,null,null,null,null,null,null,null,null,{"$f":"IF(AE239=\"\",\"\",SUM(AE239:AH254))","v":""}]
[]
["様式１",null,null,null,null,null,null,{"$f":"入力表!$A$1","v":"第２７回北海道陸上競技フェスティバル　兼　オホーツク陸協混成競技記録会"}]
[]
[]
["高男八種",null,null,null,null,null,null,"混成競技参加者　種目別記録表"]
[]
[]
["所属名",null,null,null,null,{"$f":"IF(入力表!$L$4=\"\",\"\",入力表!$L$4)","v":""},null,null,null,null,null,null,"所属陸協名",null,null,null,null,{"$f":"IF(入力表!$N$8=\"\",\"\",入力表!$N$8)","v":""},null,null,null,null,"連絡先℡",null,null,null,{"$f":"IF(入力表!$E$8=\"\",\"\",入力表!$E$8)","v":""}]
[]
[null,null,null,null,null,null,null,null,null,null,null,null,"申込責任者",null,null,null,null,{"$f":"IF(入力表!$E$6=\"\",\"\",入力表!$E$6)","v":""}]
[]
[]
["八種競技ベスト記録（プログラム編成上の資料になります。）"]
[]
["氏名",null,null,null,null,null,null,null,null,null,null,null,"学\n年",null,null,null,null,null,"氏名",null,null,null,null,null,null,null,null,null,null,null,"学\n年"]
[]
["ﾌﾘｶﾞﾅ",null,null,null,null,null,null,null,null,null,null,null,null,null,null,null,null,null,"ﾌﾘｶﾞﾅ"]
[]
[null,null,null,null,"記録",null,null,null,"風",null,null,null,"得点",null,null,null,null,null,null,null,null,null,"記録",null,null,null,"風",null,null,null,"得点"]
[]
["100m",null,null,null,null,null,null,null,null,null,null,null,null,null,null,null,null,null,"100m"]
[]
["走幅跳",null,null,null,null,null,null,null,null,null,null,null,null,null,null,null,null,null,"走幅跳"]
[]
["砲丸投",null,null,null,null,null,null,null,null,null,null,null,null,null,null,null,null,null,"砲丸投"]
[]
["400m",null,null,null,null,null,null,null,null,null,null,null,null,null,null,null,null,null,"400m"]
[]
["110mH",null,null,null,null,null,null,null,null,null,null,null,null,null,null,null,null,null,"110mH"]
[]
["やり投",null,null,null,null,null,null,null,null,null,null,null,null,null,null,null,null,null,"やり投"]
[]
["走高跳",null,null,null,null,null,null,null,null,null,null,null,null,null,null,null,null,null,"走高跳"]
[]
["1500m",null,null,null,null,null,null,null,null,null,null,null,null,null,null,null,null,null,"1500m"]
[]
["合計得点",null,null,null,null,null,null,null,null,null,null,null,{"$f":"IF(M276=\"\",\"\",SUM(M276:P291))","v":""},null,null,null,null,null,"合計得点",null,null,null,null,null,null,null,null,null,null,null,{"$f":"IF(AE276=\"\",\"\",SUM(AE276:AH291))","v":""}]
[]
[]
[]
[]
["氏名",null,null,null,null,null,null,null,null,null,null,null,"学\n年",null,null,null,null,null,"氏名",null,null,null,null,null,null,null,null,null,null,null,"学\n年"]
[]
["ﾌﾘｶﾞﾅ",null,null,null,null,null,null,null,null,null,null,null,null,null,null,null,null,null,"ﾌﾘｶﾞﾅ"]
[]
[null,null,null,null,"記録",null,null,null,"風",null,null,null,"得点",null,null,null,null,null,null,null,null,null,"記録",null,null,null,"風",null,null,null,"得点"]
[]
["100m",null,null,null,null,null,null,null,null,null,null,null,null,null,null,null,null,null,"100m"]
[]
["走幅跳",null,null,null,null,null,null,null,null,null,null,null,null,null,null,null,null,null,"走幅跳"]
[]
["砲丸投",null,null,null,null,null,null,null,null,null,null,null,null,null,null,null,null,null,"砲丸投"]
[]
["400m",null,null,null,null,null,null,null,null,null,null,null,null,null,null,null,null,null,"400m"]
[]
["110mH",null,null,null,null,null,null,null,null,null,null,null,null,null,null,null,null,null,"110mH"]
[]
["やり投",null,null,null,null,null,null,null,null,null,null,null,null,null,null,null,null,null,"やり投"]
[]
["走高跳",null,null,null,null,null,null,null,null,null,null,null,null,null,null,null,null,null,"走高跳"]
[]
["1500m",null,null,null,null,null,null,null,null,null,null,null,null,null,null,null,null,null,"1500m"]
[]
["合計得点",null,null,null,null,null,null,null,null,null,null,null,{"$f":"IF(M303=\"\",\"\",SUM(M303:P318))","v":""},null,null,null,null,null,"合計得点",null,null,null,null,null,null,null,null,null,null,null,{"$f":"IF(AE303=\"\",\"\",SUM(AE303:AH318))","v":""}]
[]
["様式１",null,null,null,null,null,null,{"$f":"入力表!$A$1","v":"第２７回北海道陸上競技フェスティバル　兼　オホーツク陸協混成競技記録会"}]
[]
[]
["高男八種",null,null,null,null,null,null,"混成競技参加者　種目別記録表"]
[]
[]
["所属名",null,null,null,null,{"$f":"IF(入力表!$L$4=\"\",\"\",入力表!$L$4)","v":""},null,null,null,null,null,null,"所属陸協名",null,null,null,null,{"$f":"IF(入力表!$N$8=\"\",\"\",入力表!$N$8)","v":""},null,null,null,null,"連絡先℡",null,null,null,{"$f":"IF(入力表!$E$8=\"\",\"\",入力表!$E$8)","v":""}]
[]
[null,null,null,null,null,null,null,null,null,null,null,null,"申込責任者",null,null,null,null,{"$f":"IF(入力表!$E$6=\"\",\"\",入力表!$E$6)","v":""}]
[]
[]
["八種競技ベスト記録（プログラム編成上の資料になります。）"]
[]
["氏名",null,null,null,null,null,null,null,null,null,null,null,"学\n年",null,null,null,null,null,"氏名",null,null,null,null,null,null,null,null,null,null,null,"学\n年"]
[]
["ﾌﾘｶﾞﾅ",null,null,null,null,null,null,null,null,null,null,null,null,null,null,null,null,null,"ﾌﾘｶﾞﾅ"]
[]
[null,null,null,null,"記録",null,null,null,"風",null,null,null,"得点",null,null,null,null,null,null,null,null,null,"記録",null,null,null,"風",null,null,null,"得点"]
[]
["100m",null,null,null,null,null,null,null,null,null,null,null,null,null,null,null,null,null,"100m"]
[]
["走幅跳",null,null,null,null,null,null,null,null,null,null,null,null,null,null,null,null,null,"走幅跳"]
[]
["砲丸投",null,null,null,null,null,null,null,null,null,null,null,null,null,null,null,null,null,"砲丸投"]
[]
["400m",null,null,null,null,null,null,null,null,null,null,null,null,null,null,null,null,null,"400m"]
[]
["110mH",null,null,null,null,null,null,null,null,null,null,null,null,null,null,null,null,null,"110mH"]
[]
["やり投",null,null,null,null,null,null,null,null,null,null,null,null,null,null,null,null,null,"やり投"]
[]
["走高跳",null,null,null,null,null,null,null,null,null,null,null,null,null,null,null,null,null,"走高跳"]
[]
["1500m",null,null,null,null,null,null,null,null,null,null,null,null,null,null,null,null,null,"1500m"]
[]
["合計得点",null,null,null,null,null,null,null,null,null,null,null,{"$f":"IF(M340=\"\",\"\",SUM(M340:P355))","v":""},null,null,null,null,null,"合計得点",null,null,null,null,null,null,null,null,null,null,null,{"$f":"IF(AE340=\"\",\"\",SUM(AE340:AH355))","v":""}]
[]
[]
[]
[]
["氏名",null,null,null,null,null,null,null,null,null,null,null,"学\n年",null,null,null,null,null,"氏名",null,null,null,null,null,null,null,null,null,null,null,"学\n年"]
[]
["ﾌﾘｶﾞﾅ",null,null,null,null,null,null,null,null,null,null,null,null,null,null,null,null,null,"ﾌﾘｶﾞﾅ"]
[]
[null,null,null,null,"記録",null,null,null,"風",null,null,null,"得点",null,null,null,null,null,null,null,null,null,"記録",null,null,null,"風",null,null,null,"得点"]
[]
["100m",null,null,null,null,null,null,null,null,null,null,null,null,null,null,null,null,null,"100m"]
[]
["走幅跳",null,null,null,null,null,null,null,null,null,null,null,null,null,null,null,null,null,"走幅跳"]
[]
["砲丸投",null,null,null,null,null,null,null,null,null,null,null,null,null,null,null,null,null,"砲丸投"]
[]
["400m",null,null,null,null,null,null,null,null,null,null,null,null,null,null,null,null,null,"400m"]
[]
["110mH",null,null,null,null,null,null,null,null,null,null,null,null,null,null,null,null,null,"110mH"]
[]
["やり投",null,null,null,null,null,null,null,null,null,null,null,null,null,null,null,null,null,"やり投"]
[]
["走高跳",null,null,null,null,null,null,null,null,null,null,null,null,null,null,null,null,null,"走高跳"]
[]
["1500m",null,null,null,null,null,null,null,null,null,null,null,null,null,null,null,null,null,"1500m"]
[]
["合計得点",null,null,null,null,null,null,null,null,null,null,null,{"$f":"IF(M367=\"\",\"\",SUM(M367:P382))","v":""},null,null,null,null,null,"合計得点",null,null,null,null,null,null,null,null,null,null,null,{"$f":"IF(AE367=\"\",\"\",SUM(AE367:AH382))","v":""}]
[]
["様式１",null,null,null,null,null,null,{"$f":"入力表!$A$1","v":"第２７回北海道陸上競技フェスティバル　兼　オホーツク陸協混成競技記録会"}]
[]
[]
["高男八種",null,null,null,null,null,null,"混成競技参加者　種目別記録表"]
[]
[]
["所属名",null,null,null,null,{"$f":"IF(入力表!$L$4=\"\",\"\",入力表!$L$4)","v":""},null,null,null,null,null,null,"所属陸協名",null,null,null,null,{"$f":"IF(入力表!$N$8=\"\",\"\",入力表!$N$8)","v":""},null,null,null,null,"連絡先℡",null,null,null,{"$f":"IF(入力表!$E$8=\"\",\"\",入力表!$E$8)","v":""}]
[]
[null,null,null,null,null,null,null,null,null,null,null,null,"申込責任者",null,null,null,null,{"$f":"IF(入力表!$E$6=\"\",\"\",入力表!$E$6)","v":""}]
[]
[]
["八種競技ベスト記録（プログラム編成上の資料になります。）"]
[]
["氏名",null,null,null,null,null,null,null,null,null,null,null,"学\n年",null,null,null,null,null,"氏名",null,null,null,null,null,null,null,null,null,null,null,"学\n年"]
[]
["ﾌﾘｶﾞﾅ",null,null,null,null,null,null,null,null,null,null,null,null,null,null,null,null,null,"ﾌﾘｶﾞﾅ"]
[]
[null,null,null,null,"記録",null,null,null,"風",null,null,null,"得点",null,null,null,null,null,null,null,null,null,"記録",null,null,null,"風",null,null,null,"得点"]
[]
["100m",null,null,null,null,null,null,null,null,null,null,null,null,null,null,null,null,null,"100m"]
[]
["走幅跳",null,null,null,null,null,null,null,null,null,null,null,null,null,null,null,null,null,"走幅跳"]
[]
["砲丸投",null,null,null,null,null,null,null,null,null,null,null,null,null,null,null,null,null,"砲丸投"]
[]
["400m",null,null,null,null,null,null,null,null,null,null,null,null,null,null,null,null,null,"400m"]
[]
["110mH",null,null,null,null,null,null,null,null,null,null,null,null,null,null,null,null,null,"110mH"]
[]
["やり投",null,null,null,null,null,null,null,null,null,null,null,null,null,null,null,null,null,"やり投"]
[]
["走高跳",null,null,null,null,null,null,null,null,null,null,null,null,null,null,null,null,null,"走高跳"]
[]
["1500m",null,null,null,null,null,null,null,null,null,null,null,null,null,null,null,null,null,"1500m"]
[]
["合計得点",null,null,null,null,null,null,null,null,null,null,null,{"$f":"IF(M404=\"\",\"\",SUM(M404:P419))","v":""},null,null,null,null,null,"合計得点",null,null,null,null,null,null,null,null,null,null,null,{"$f":"IF(AE404=\"\",\"\",SUM(AE404:AH419))","v":""}]
[]
[]
[]
[]
["氏名",null,null,null,null,null,null,null,null,null,null,null,"学\n年",null,null,null,null,null,"氏名",null,null,null,null,null,null,null,null,null,null,null,"学\n年"]
[]
["ﾌﾘｶﾞﾅ",null,null,null,null,null,null,null,null,null,null,null,null,null,null,null,null,null,"ﾌﾘｶﾞﾅ"]
[]
[null,null,null,null,"記録",null,null,null,"風",null,null,null,"得点",null,null,null,null,null,null,null,null,null,"記録",null,null,null,"風",null,null,null,"得点"]
[]
["100m",null,null,null,null,null,null,null,null,null,null,null,null,null,null,null,null,null,"100m"]
[]
["走幅跳",null,null,null,null,null,null,null,null,null,null,null,null,null,null,null,null,null,"走幅跳"]
[]
["砲丸投",null,null,null,null,null,null,null,null,null,null,null,null,null,null,null,null,null,"砲丸投"]
[]
["400m",null,null,null,null,null,null,null,null,null,null,null,null,null,null,null,null,null,"400m"]
[]
["110mH",null,null,null,null,null,null,null,null,null,null,null,null,null,null,null,null,null,"110mH"]
[]
["やり投",null,null,null,null,null,null,null,null,null,null,null,null,null,null,null,null,null,"やり投"]
[]
["走高跳",null,null,null,null,null,null,null,null,null,null,null,null,null,null,null,null,null,"走高跳"]
[]
["1500m",null,null,null,null,null,null,null,null,null,null,null,null,null,null,null,null,null,"1500m"]
[]
["合計得点",null,null,null,null,null,null,null,null,null,null,null,{"$f":"IF(M431=\"\",\"\",SUM(M431:P446))","v":""},null,null,null,null,null,"合計得点",null,null,null,null,null,null,null,null,null,null,null,{"$f":"IF(AE431=\"\",\"\",SUM(AE431:AH446))","v":""}]
[]
["様式１",null,null,null,null,null,null,{"$f":"入力表!$A$1","v":"第２７回北海道陸上競技フェスティバル　兼　オホーツク陸協混成競技記録会"}]
[]
[]
["高男八種",null,null,null,null,null,null,"混成競技参加者　種目別記録表"]
[]
[]
["所属名",null,null,null,null,{"$f":"IF(入力表!$L$4=\"\",\"\",入力表!$L$4)","v":""},null,null,null,null,null,null,"所属陸協名",null,null,null,null,{"$f":"IF(入力表!$N$8=\"\",\"\",入力表!$N$8)","v":""},null,null,null,null,"連絡先℡",null,null,null,{"$f":"IF(入力表!$E$8=\"\",\"\",入力表!$E$8)","v":""}]
[]
[null,null,null,null,null,null,null,null,null,null,null,null,"申込責任者",null,null,null,null,{"$f":"IF(入力表!$E$6=\"\",\"\",入力表!$E$6)","v":""}]
[]
[]
["八種競技ベスト記録（プログラム編成上の資料になります。）"]
[]
["氏名",null,null,null,null,null,null,null,null,null,null,null,"学\n年",null,null,null,null,null,"氏名",null,null,null,null,null,null,null,null,null,null,null,"学\n年"]
[]
["ﾌﾘｶﾞﾅ",null,null,null,null,null,null,null,null,null,null,null,null,null,null,null,null,null,"ﾌﾘｶﾞﾅ"]
[]
[null,null,null,null,"記録",null,null,null,"風",null,null,null,"得点",null,null,null,null,null,null,null,null,null,"記録",null,null,null,"風",null,null,null,"得点"]
[]
["100m",null,null,null,null,null,null,null,null,null,null,null,null,null,null,null,null,null,"100m"]
[]
["走幅跳",null,null,null,null,null,null,null,null,null,null,null,null,null,null,null,null,null,"走幅跳"]
[]
["砲丸投",null,null,null,null,null,null,null,null,null,null,null,null,null,null,null,null,null,"砲丸投"]
[]
["400m",null,null,null,null,null,null,null,null,null,null,null,null,null,null,null,null,null,"400m"]
[]
["110mH",null,null,null,null,null,null,null,null,null,null,null,null,null,null,null,null,null,"110mH"]
[]
["やり投",null,null,null,null,null,null,null,null,null,null,null,null,null,null,null,null,null,"やり投"]
[]
["走高跳",null,null,null,null,null,null,null,null,null,null,null,null,null,null,null,null,null,"走高跳"]
[]
["1500m",null,null,null,null,null,null,null,null,null,null,null,null,null,null,null,null,null,"1500m"]
[]
["合計得点",null,null,null,null,null,null,null,null,null,null,null,{"$f":"IF(M468=\"\",\"\",SUM(M468:P483))","v":""},null,null,null,null,null,"合計得点",null,null,null,null,null,null,null,null,null,null,null,{"$f":"IF(AE468=\"\",\"\",SUM(AE468:AH483))","v":""}]
[]
[]
[]
[]
["氏名",null,null,null,null,null,null,null,null,null,null,null,"学\n年",null,null,null,null,null,"氏名",null,null,null,null,null,null,null,null,null,null,null,"学\n年"]
[]
["ﾌﾘｶﾞﾅ",null,null,null,null,null,null,null,null,null,null,null,null,null,null,null,null,null,"ﾌﾘｶﾞﾅ"]
[]
[null,null,null,null,"記録",null,null,null,"風",null,null,null,"得点",null,null,null,null,null,null,null,null,null,"記録",null,null,null,"風",null,null,null,"得点"]
[]
["100m",null,null,null,null,null,null,null,null,null,null,null,null,null,null,null,null,null,"100m"]
[]
["走幅跳",null,null,null,null,null,null,null,null,null,null,null,null,null,null,null,null,null,"走幅跳"]
[]
["砲丸投",null,null,null,null,null,null,null,null,null,null,null,null,null,null,null,null,null,"砲丸投"]
[]
["400m",null,null,null,null,null,null,null,null,null,null,null,null,null,null,null,null,null,"400m"]
[]
["110mH",null,null,null,null,null,null,null,null,null,null,null,null,null,null,null,null,null,"110mH"]
[]
["やり投",null,null,null,null,null,null,null,null,null,null,null,null,null,null,null,null,null,"やり投"]
[]
["走高跳",null,null,null,null,null,null,null,null,null,null,null,null,null,null,null,null,null,"走高跳"]
[]
["1500m",null,null,null,null,null,null,null,null,null,null,null,null,null,null,null,null,null,"1500m"]
[]
["合計得点",null,null,null,null,null,null,null,null,null,null,null,{"$f":"IF(M495=\"\",\"\",SUM(M495:P510))","v":""},null,null,null,null,null,"合計得点",null,null,null,null,null,null,null,null,null,null,null,{"$f":"IF(AE495=\"\",\"\",SUM(AE495:AH510))","v":""}]

{"sheet":"混成様式（女七）","index":2,"n_rows":485,"n_cols":31,"rows_kept":485,"cut":false,"hidden":false,"merged":[[484,0,485,11],[484,12,485,15],[484,18,485,29],[484,30,485,33],[480,0,481,3],[480,4,481,7],[480,8,481,11],[480,12,481,15],[480,18,481,21],[480,22,481,25],[480,26,481,29],[480,30,481,33],[482,0,483,3],[482,4,483,7],[482,8,483,11],[482,12,483,15],[482,18,483,21],[482,22,483,25],[482,26,483,29],[482,30,483,33],[476,0,477,3],[476,4,477,7],[476,8,477,11],[476,12,477,15],[476,18,477,21],[476,22,477,25],[476,26,477,29],[476,30,477,33],[478,0,479,3],[478,4,479,7],[478,8,479,11],[478,12,479,15],[478,18,479,21],[478,22,479,25],[478,26,479,29],[478,30,479,33],[472,0,473,3],[472,4,473,7],[472,8,473,11],[472,12,473,15],[472,18,473,21],[472,22,473,25],[472,26,473,29],[472,30,473,33],[474,0,475,3],[474,4,475,7],[474,8,475,11],[474,12,475,15],[474,18,475,21],[474,22,475,25],[474,26,475,29],[474,30,475,33],[468,0,469,3],[468,4,469,7],[468,8,469,11],[468,12,469,15],[468,18,469,21],[468,22,469,25],[468,26,469,29],[468,30,469,33],[470,0,471,3],[470,4,471,7],[470,8,471,11],[470,12,471,15],[470,18,471,21],[470,22,471,25],[470,26,471,29],[470,30,471,33],[461,0,462,11],[461,12,462,15],[461,18,462,29],[461,30,462,33],[464,0,465,2],[464,3,465,11],[464,12,467,13],[464,14,467,15],[464,18,465,20],[464,21,465,29],[464,30,467,31],[464,32,467,33],[466,0,467,2],[466,3,467,11],[466,18,467,20],[466,21,467,29],[457,0,458,3],[457,4,458,7],[457,8,458,11],[457,12,458,15],[457,18,458,21],[457,22,458,25],[457,26,458,29],[457,30,458,33],[459,0,460,3],[459,4,460,7],[459,8,460,11],[459,12,460,15],[459,18,460,21],[459,22,460,25],[459,26,460,29],[459,30,460,33],[453,0,454,3],[453,4,454,7],[453,8,454,11],[453,12,454,15],[453,18,454,21],[453,22,454,25],[453,26,454,29],[453,30,454,33],[455,0,456,3],[455,4,456,7],[455,8,456,11],[455,12,456,15],[455,18,456,21],[455,22,456,25],[455,26,456,29],[455,30,456,33],[449,0,450,3],[449,4,450,7],[449,8,450,11],[449,12,450,15],[449,18,450,21],[449,22,450,25],[449,26,450,29],[449,30,450,33],[451,0,452,3],[451,4,452,7],[451,8,452,11],[451,12,452,15],[451,18,452,21],[451,22,452,25],[451,26,452,29],[451,30,452,33],[445,0,446,3],[445,4,446,7],[445,8,446,11],[445,12,446,15],[445,18,446,21],[445,22,446,25],[445,26,446,29],[445,30,446,33],[447,0,448,3],[447,4,448,7],[447,8,448,11],[447,12,448,15],[447,18,448,21],[447,22,448,25],[447,26,448,29],[447,30,448,33],[438,0,439,11],[438,12,439,15],[438,18,439,29],[438,30,439,33],[441,0,442,2],[441,3,442,11],[441,12,444,13],[441,14,444,15],[441,18,442,20],[441,21,442,29],[441,30,444,31],[441,32,444,33],[443,0,444,2],[443,3,444,11],[443,18,444,20],[443,21,444,29],[434,0,435,3],[434,4,435,7],[434,8,435,11],[434,12,435,15],[434,18,435,21],[434,22,435,25],[434,26,435,29],[434,30,435,33],[436,0,437,3],[436,4,437,7],[436,8,437,11],[436,12,437,15],[436,18,437,21],[436,22,437,25],[436,26,437,29],[436,30,437,33],[430,0,431,3],[430,4,431,7],[430,8,431,11],[430,12,431,15],[430,18,431,21],[430,22,431,25],[430,26,431,29],[430,30,431,33],[432,0,433,3],[432,4,433,7],[432,8,433,11],[432,12,433,15],[432,18,433,21],[432,22,433,25],[432,26,433,29],[432,30,433,33],[426,0,427,3],[426,4,427,7],[426,8,427,11],[426,12,427,15],[426,18,427,21],[426,22,427,25],[426,26,427,29],[426,30,427,33],[428,0,429,3],[428,4,429,7],[428,8,429,11],[428,12,429,15],[428,18,429,21],[428,22,429,25],[428,26,429,29],[428,30,429,33],[422,0,423,3],[422,4,423,7],[422,8,423,11],[422,12,423,15],[422,18,423,21],[422,22,423,25],[422,26,423,29],[422,30,423,33],[424,0,425,3],[424,4,425,7],[424,8,425,11],[424,12,425,15],[424,18,425,21],[424,22,425,25],[424,26,425,29],[424,30,425,33],[416,0,417,33],[418,0,419,2],[418,3,419,11],[418,12,421,13],[418,14,421,15],[418,18,419,20],[418,21,419,29],[418,30,421,31],[418,32,421,33],[420,0,421,2],[420,3,421,11],[420,18,421,20],[420,21,421,29],[403,0,404,11],[403,12,404,15],[403,18,404,29],[403,30,404,33],[405,0,407,6],[405,7,407,33],[408,0,410,6],[408,7,410,33],[411,0,414,4],[411,5,414,11],[411,12,412,16],[411,17,412,21],[411,22,414,25],[411,26,414,33],[413,12,414,16],[413,17,414,21],[399,0,400,3],[399,4,400,7],[399,8,400,11],[399,12,400,15],[399,18,400,21],[399,22,400,25],[399,26,400,29],[399,30,400,33],[401,0,402,3],[401,4,402,7],[401,8,402,11],[401,12,402,15],[401,18,402,21],[401,22,402,25],[401,26,402,29],[401,30,402,33],[395,0,396,3],[395,4,396,7],[395,8,396,11],[395,12,396,15],[395,18,396,21],[395,22,396,25],[395,26,396,29],[395,30,396,33],[397,0,398,3],[397,4,398,7],[397,8,398,11],[397,12,398,15],[397,18,398,21],[397,22,398,25],[397,26,398,29],[397,30,398,33],[391,0,392,3],[391,4,392,7],[391,8,392,11],[391,12,392,15],[391,18,392,21],[391,22,392,25],[391,26,392,29],[391,30,392,33],[393,0,394,3],[393,4,394,7],[393,8,394,11],[393,12,394,15],[393,18,394,21],[393,22,394,25],[393,26,394,29],[393,30,394,33],[387,0,388,3],[387,4,388,7],[387,8,388,11],[387,12,388,15],[387,18,388,21],[387,22,388,25],[387,26,388,29],[387,30,388,33],[389,0,390,3],[389,4,390,7],[389,8,390,11],[389,12,390,15],[389,18,390,21],[389,22,390,25],[389,26,390,29],[389,30,390,33],[380,0,381,11],[380,12,381,15],[380,18,381,29],[380,30,381,33],[383,0,384,2],[383,3,384,11],[383,12,386,13],[383,14,386,15],[383,18,384,20],[383,21,384,29],[383,30,386,31],[383,32,386,33],[385,0,386,2],[385,3,386,11],[385,18,386,20],[385,21,386,29],[376,0,377,3],[376,4,377,7],[376,8,377,11],[376,12,377,15],[376,18,377,21],[376,22,377,25],[376,26,377,29],[376,30,377,33],[378,0,379,3],[378,4,379,7],[378,8,379,11],[378,12,379,15],[378,18,379,21],[378,22,379,25],[378,26,379,29],[378,30,379,33],[372,0,373,3],[372,4,373,7],[372,8,373,11],[372,12,373,15],[372,18,373,21],[372,22,373,25],[372,26,373,29],[372,30,373,33],[374,0,375,3],[374,4,375,7],[374,8,375,11],[374,12,375,15],[374,18,375,21],[374,22,375,25],[374,26,375,29],[374,30,375,33],[368,0,369,3],[368,4,369,7],[368,8,369,11],[368,12,369,15],[368,18,369,21],[368,22,369,25],[368,26,369,29],[368,30,369,33],[370,0,371,3],[370,4,371,7],[370,8,371,11],[370,12,371,15],[370,18,371,21],[370,22,371,25],[370,26,371,29],[370,30,371,33],[364,0,365,3],[364,4,365,7],[364,8,365,11],[364,12,365,15],[364,18,365,21],[364,22,365,25],[364,26,365,29],[364,30,365,33],[366,0,367,3],[366,4,367,7],[366,8,367,11],[366,12,367,15],[366,18,367,21],[366,22,367,25],[366,26,367,29],[366,30,367,33],[357,0,358,11],[357,12,358,15],[357,18,358,29],[357,30,358,33],[360,0,361,2],[360,3,361,11],[360,12,363,13],[360,14,363,15],[360,18,361,20],[360,21,361,29],[360,30,363,31],[360,32,363,33],[362,0,363,2],[362,3,363,11],[362,18,363,20],[362,21,363,29],[353,0,354,3],[353,4,354,7],[353,8,354,11],[353,12,354,15],[353,18,354,21],[353,22,354,25],[353,26,354,29],[353,30,354,33],[355,0,356,3],[355,4,356,7],[355,8,356,11],[355,12,356,15],[355,18,356,21],[355,22,356,25],[355,26,356,29],[355,30,356,33],[349,0,350,3],[349,4,350,7],[349,8,350,11],[349,12,350,15],[349,18,350,21],[349,22,350,25],[349,26,350,29],[349,30,350,33],[351,0,352,3],[351,4,352,7],[351,8,352,11],[351,12,352,15],[351,18,352,21],[351,22,352,25],[351,26,352,29],[351,30,352,33],[345,0,346,3],[345,4,346,7],[345,8,346,11],[345,12,346,15],[345,18,346,21],[345,22,346,25],[345,26,346,29],[345,30,346,33],[347,0,348,3],[347,4,348,7],[347,8,348,11],[347,12,348,15],[347,18,348,21],[347,22,348,25],[347,26,348,29],[347,30,348,33],[341,0,342,3],[341,4,342,7],[341,8,342,11],[341,12,342,15],[341,18,342,21],[341,22,342,25],[341,26,342,29],[341,30,342,33],[343,0,344,3],[343,4,344,7],[343,8,344,11],[343,12,344,15],[343,18,344,21],[343,22,344,25],[343,26,344,29],[343,30,344,33],[335,0,336,33],[337,0,338,2],[337,3,338,11],[337,12,340,13],[337,14,340,15],[337,18,338,20],[337,21,338,29],[337,30,340,31],[337,32,340,33],[339,0,340,2],[339,3,340,11],[339,18,340,20],[339,21,340,29],[322,0,323,11],[322,12,323,15],[322,18,323,29],[322,30,323,33],[324,0,326,6],[324,7,326,33],[327,0,329,6],[327,7,329,33],[330,0,333,4],[330,5,333,11],[330,12,331,16],[330,17,331,21],[330,22,333,25],[330,26,333,33],[332,12,333,16],[332,17,333,21],[318,0,319,3],[318,4,319,7],[318,8,319,11],[318,12,319,15],[318,18,319,21],[318,22,319,25],[318,26,319,29],[318,30,319,33],[320,0,321,3],[320,4,321,7],[320,8,321,11],[320,12,321,15],[320,18,321,21],[320,22,321,25],[320,26,321,29],[320,30,321,33],[314,0,315,3],[314,4,315,7],[314,8,315,11],[314,12,315,15],[314,18,315,21],[314,22,315,25],[314,26,315,29],[314,30,315,33],[316,0,317,3],[316,4,317,7],[316,8,317,11],[316,12,317,15],[316,18,317,21],[316,22,317,25],[316,26,317,29],[316,30,317,33],[310,0,311,3],[310,4,311,7],[310,8,311,11],[310,12,311,15],[310,18,311,21],[310,22,311,25],[310,26,311,29],[310,30,311,33],[312,0,313,3],[312,4,313,7],[312,8,313,11],[312,12,313,15],[312,18,313,21],[312,22,313,25],[312,26,313,29],[312,30,313,33],[306,0,307,3],[306,4,307,7],[306,8,307,11],[306,12,307,15],[306,18,307,21],[306,22,307,25],[306,26,307,29],[306,30,307,33],[308,0,309,3],[308,4,309,7],[308,8,309,11],[308,12,309,15],[308,18,309,21],[308,22,309,25],[308,26,309,29],[308,30,309,33],[299,0,300,11],[299,12,300,15],[299,18,300,29],[299,30,300,33],[302,0,303,2],[302,3,303,11],[302,12,305,13],[302,14,305,15],[302,18,303,20],[302,21,303,29],[302,30,305,31],[302,32,305,33],[304,0,305,2],[304,3,305,11],[304,18,305,20],[304,21,305,29],[295,0,296,3],[295,4,296,7],[295,8,296,11],[295,12,296,15],[295,18,296,21],[295,22,296,25],[295,26,296,29],[295,30,296,33],[297,0,298,3],[297,4,298,7],[297,8,298,11],[297,12,298,15],[297,18,298,21],[297,22,298,25],[297,26,298,29],[297,30,298,33],[291,0,292,3],[291,4,292,7],[291,8,292,11],[291,12,292,15],[291,18,292,21],[291,22,292,25],[291,26,292,29],[291,30,292,33],[293,0,294,3],[293,4,294,7],[293,8,294,11],[293,12,294,15],[293,18,294,21],[293,22,294,25],[293,26,294,29],[293,30,294,33],[287,0,288,3],[287,4,288,7],[287,8,288,11],[287,12,288,15],[287,18,288,21],[287,22,288,25],[287,26,288,29],[287,30,288,33],[289,0,290,3],[289,4,290,7],[289,8,290,11],[289,12,290,15],[289,18,290,21],[289,22,290,25],[289,26,290,29],[289,30,290,33],[283,0,284,3],[283,4,284,7],[283,8,284,11],[283,12,284,15],[283,18,284,21],[283,22,284,25],[283,26,284,29],[283,30,284,33],[285,0,286,3],[285,4,286,7],[285,8,286,11],[285,12,286,15],[285,18,286,21],[285,22,286,25],[285,26,286,29],[285,30,286,33],[276,0,277,11],[276,12,277,15],[276,18,277,29],[276,30,277,33],[279,0,280,2],[279,3,280,11],[279,12,282,13],[279,14,282,15],[279,18,280,20],[279,21,280,29],[279,30,282,31],[279,32,282,33],[281,0,282,2],[281,3,282,11],[281,18,282,20],[281,21,282,29],[272,0,273,3],[272,4,273,7],[272,8,273,11],[272,12,273,15],[272,18,273,21],[272,22,273,25],[272,26,273,29],[272,30,273,33],[274,0,275,3],[274,4,275,7],[274,8,275,11],[274,12,275,15],[274,18,275,21],[274,22,275,25],[274,26,275,29],[274,30,275,33],[268,0,269,3],[268,4,269,7],[268,8,269,11],[268,12,269,15],[268,18,269,21],[268,22,269,25],[268,26,269,29],[268,30,269,33],[270,0,271,3],[270,4,271,7],[270,8,271,11],[270,12,271,15],[270,18,271,21],[270,22,271,25],[270,26,271,29],[270,30,271,33],[264,0,265,3],[264,4,265,7],[264,8,265,11],[264,12,265,15],[264,18,265,21],[264,22,265,25],[264,26,265,29],[264,30,265,33],[266,0,267,3],[266,4,267,7],[266,8,267,11],[266,12,267,15],[266,18,267,21],[266,22,267,25],[266,26,267,29],[266,30,267,33],[260,0,261,3],[260,4,261,7],[260,8,261,11],[260,12,261,15],[260,18,261,21],[260,22,261,25],[260,26,261,29],[260,30,261,33],[262,0,263,3],[262,4,263,7],[262,8,263,11],[262,12,263,15],[262,18,263,21],[262,22,263,25],[262,26,263,29],[262,30,263,33],[254,0,255,33],[256,0,257,2],[256,3,257,11],[256,12,259,13],[256,14,259,15],[256,18,257,20],[256,21,257,29],[256,30,259,31],[256,32,259,33],[258,0,259,2],[258,3,259,11],[258,18,259,20],[258,21,259,29],[241,0,242,11],[241,12,242,15],[241,18,242,29],[241,30,242,33],[243,0,245,6],[243,7,245,33],[246,0,248,6],[246,7,248,33],[249,0,252,4],[249,5,252,11],[249,12,250,16],[249,17,250,21],[249,22,252,25],[249,26,252,33],[251,12,252,16],[251,17,252,21],[237,0,238,3],[237,4,238,7],[237,8,238,11],[237,12,238,15],[237,18,238,21],[237,22,238,25],[237,26,238,29],[237,30,238,33],[239,0,240,3],[239,4,240,7],[239,8,240,11],[239,12,240,15],[239,18,240,21],[239,22,240,25],[239,26,240,29],[239,30,240,33],[233,0,234,3],[233,4,234,7],[233,8,234,11],[233,12,234,15],[233,18,234,21],[233,22,234,25],[233,26,234,29],[233,30,234,33],[235,0,236,3],[235,4,236,7],[235,8,236,11],[235,12,236,15],[235,18,236,21],[235,22,236,25],[235,26,236,29],[235,30,236,33],[229,0,230,3],[229,4,230,7],[229,8,230,11],[229,12,230,15],[229,18,230,21],[229,22,230,25],[229,26,230,29],[229,30,230,33],[231,0,232,3],[231,4,232,7],[231,8,232,11],[231,12,232,15],[231,18,232,21],[231,22,232,25],[231,26,232,29],[231,30,232,33],[225,0,226,3],[225,4,226,7],[225,8,226,11],[225,12,226,15],[225,18,226,21],[225,22,226,25],[225,26,226,29],[225,30,226,33],[227,0,228,3],[227,4,228,7],[227,8,228,11],[227,12,228,15],[227,18,228,21],[227,22,228,25],[227,26,228,29],[227,30,228,33],[218,0,219,11],[218,12,219,15],[218,18,219,29],[218,30,219,33],[221,0,222,2],[221,3,222,11],[221,12,224,13],[221,14,224,15],[221,18,222,20],[221,21,222,29],[221,30,224,31],[221,32,224,33],[223,0,224,2],[223,3,224,11],[223,18,224,20],[223,21,224,29],[214,0,215,3],[214,4,215,7],[214,8,215,11],[214,12,215,15],[214,18,215,21],[214,22,215,25],[214,26,215,29],[214,30,215,33],[216,0,217,3],[216,4,217,7],[216,8,217,11],[216,12,217,15],[216,18,217,21],[216,22,217,25],[216,26,217,29],[216,30,217,33],[210,0,211,3],[210,4,211,7],[210,8,211,11],[210,12,211,15],[210,18,211,21],[210,22,211,25],[210,26,211,29],[210,30,211,33],[212,0,213,3],[212,4,213,7],[212,8,213,11],[212,12,213,15],[212,18,213,21],[212,22,213,25],[212,26,213,29],[212,30,213,33],[206,0,207,3],[206,4,207,7],[206,8,207,11],[206,12,207,15],[206,18,207,21],[206,22,207,25],[206,26,207,29],[206,30,207,33],[208,0,209,3],[208,4,209,7],[208,8,209,11],[208,12,209,15],[208,18,209,21],[208,22,209,25],[208,26,209,29],[208,30,209,33],[202,0,203,3],[202,4,203,7],[202,8,203,11],[202,12,203,15],[202,18,203,21],[202,22,203,25],[202,26,203,29],[202,30,203,33],[204,0,205,3],[204,4,205,7],[204,8,205,11],[204,12,205,15],[204,18,205,21],[204,22,205,25],[204,26,205,29],[204,30,205,33],[195,0,196,11],[195,12,196,15],[195,18,196,29],[195,30,196,33],[198,0,199,2],[198,3,199,11],[198,12,201,13],[198,14,201,15],[198,18,199,20],[198,21,199,29],[198,30,201,31],[198,32,201,33],[200,0,201,2],[200,3,201,11],[200,18,201,20],[200,21,201,29],[191,0,192,3],[191,4,192,7],[191,8,192,11],[191,12,192,15],[191,18,192,21],[191,22,192,25],[191,26,192,29],[191,30,192,33],[193,0,194,3],[193,4,194,7],[193,8,194,11],[193,12,194,15],[193,18,194,21],[193,22,194,25],[193,26,194,29],[193,30,194,33],[187,0,188,3],[187,4,188,7],[187,8,188,11],[187,12,188,15],[187,18,188,21],[187,22,188,25],[187,26,188,29],[187,30,188,33],[189,0,190,3],[189,4,190,7],[189,8,190,11],[189,12,190,15],[189,18,190,21],[189,22,190,25],[189,26,190,29],[189,30,190,33],[183,0,184,3],[183,4,184,7],[183,8,184,11],[183,12,184,15],[183,18,184,21],[183,22,184,25],[183,26,184,29],[183,30,184,33],[185,0,186,3],[185,4,186,7],[185,8,186,11],[185,12,186,15],[185,18,186,21],[185,22,186,25],[185,26,186,29],[185,30,186,33],[179,0,180,3],[179,4,180,7],[179,8,180,11],[179,12,180,15],[179,18,180,21],[179,22,180,25],[179,26,180,29],[179,30,180,33],[181,0,182,3],[181,4,182,7],[181,8,182,11],[181,12,182,15],[181,18,182,21],[181,22,182,25],[181,26,182,29],[181,30,182,33],[173,0,174,33],[175,0,176,2],[175,3,176,11],[175,12,178,13],[175,14,178,15],[175,18,176,20],[175,21,176,29],[175,30,178,31],[175,32,178,33],[177,0,178,2],[177,3,178,11],[177,18,178,20],[177,21,178,29]],"merged_total":1518,"flags":["merged_cut"]}
["様式２",null,null,null,null,null,null,{"$f":"入力表!$A$1","v":"第２７回北海道陸上競技フェスティバル　兼　オホーツク陸協混成競技記録会"}]
[]
[]
["女子七種",null,null,null,null,null,null,"混成競技参加者　種目別記録表"]
[]
[]
["所属名",null,null,null,null,{"$f":"IF(入力表!$L$4=\"\",\"\",入力表!$L$4)","v":""},null,null,null,null,null,null,"所属陸協名",null,null,null,null,{"$f":"IF(入力表!$N$8=\"\",\"\",入力表!$N$8)","v":""},null,null,null,null,"連絡先℡",null,null,null,{"$f":"IF(入力表!$E$8=\"\",\"\",入力表!$E$8)","v":""}]
[]
[null,null,null,null,null,null,null,null,null,null,null,null,"申込責任者",null,null,null,null,{"$f":"IF(入力表!$E$6=\"\",\"\",入力表!$E$6)","v":""}]
[]
[]
["七種競技ベスト記録（プログラム編成上の資料になります。）"]
[]
["氏名",null,null,null,null,null,null,null,null,null,null,null,"学\n年",null,null,null,null,null,"氏名",null,null,null,null,null,null,null,null,null,null,null,"学\n年"]
[]
["ﾌﾘｶﾞﾅ",null,null,null,null,null,null,null,null,null,null,null,null,null,null,null,null,null,"ﾌﾘｶﾞﾅ"]
[]
[null,null,null,null,"記録",null,null,null,"風",null,null,null,"得点",null,null,null,null,null,null,null,null,null,"記録",null,null,null,"風",null,null,null,"得点"]
[]
["100mH",null,null,null,null,null,null,null,null,null,null,null,null,null,null,null,null,null,"100mH"]
[]
["走高跳",null,null,null,null,null,null,null,null,null,null,null,null,null,null,null,null,null,"走高跳"]
[]
["砲丸投",null,null,null,null,null,null,null,null,null,null,null,null,null,null,null,null,null,"砲丸投"]
[]
["200m",null,null,null,null,null,null,null,null,null,null,null,null,null,null,null,null,null,"200m"]
[]
["走幅跳",null,null,null,null,null,null,null,null,null,null,null,null,null,null,null,null,null,"走幅跳"]
[]
["やり投",null,null,null,null,null,null,null,null,null,null,null,null,null,null,null,null,null,"やり投"]
[]
["800m",null,null,null,null,null,null,null,null,null,null,null,null,null,null,null,null,null,"800m"]
[]
["合計得点",null,null,null,null,null,null,null,null,null,null,null,{"$f":"IF(M20=\"\",\"\",SUM(M20:P33))","v":""},null,null,null,null,null,"合計得点",null,null,null,null,null,null,null,null,null,null,null,{"$f":"IF(AE20=\"\",\"\",SUM(AE20:AH33))","v":""}]
[]
[]
["氏名",null,null,null,null,null,null,null,null,null,null,null,"学\n年",null,null,null,null,null,"氏名",null,null,null,null,null,null,null,null,null,null,null,"学\n年"]
[]
["ﾌﾘｶﾞﾅ",null,null,null,null,null,null,null,null,null,null,null,null,null,null,null,null,null,"ﾌﾘｶﾞﾅ"]
[]
[null,null,null,null,"記録",null,null,null,"風",null,null,null,"得点",null,null,null,null,null,null,null,null,null,"記録",null,null,null,"風",null,null,null,"得点"]
[]
["100mH",null,null,null,null,null,null,null,null,null,null,null,null,null,null,null,null,null,"100mH"]
[]
["走高跳",null,null,null,null,null,null,null,null,null,null,null,null,null,null,null,null,null,"走高跳"]
[]
["砲丸投",null,null,null,null,null,null,null,null,null,null,null,null,null,null,null,null,null,"砲丸投"]
[]
["200m",null,null,null,null,null,null,null,null,null,null,null,null,null,null,null,null,null,"200m"]
[]
["走幅跳",null,null,null,null,null,null,null,null,null,null,null,null,null,null,null,null,null,"走幅跳"]
[]
["やり投",null,null,null,null,null,null,null,null,null,null,null,null,null,null,null,null,null,"やり投"]
[]
["800m",null,null,null,null,null,null,null,null,null,null,null,null,null,null,null,null,null,"800m"]
[]
["合計得点",null,null,null,null,null,null,null,null,null,null,null,{"$f":"IF(M43=\"\",\"\",SUM(M43:P56))","v":""},null,null,null,null,null,"合計得点",null,null,null,null,null,null,null,null,null,null,null,{"$f":"IF(AE43=\"\",\"\",SUM(AE43:AH56))","v":""}]
[]
[]
["氏名",null,null,null,null,null,null,null,null,null,null,null,"学\n年",null,null,null,null,null,"氏名",null,null,null,null,null,null,null,null,null,null,null,"学\n年"]
[]
["ﾌﾘｶﾞﾅ",null,null,null,null,null,null,null,null,null,null,null,null,null,null,null,null,null,"ﾌﾘｶﾞﾅ"]
[]
[null,null,null,null,"記録",null,null,null,"風",null,null,null,"得点",null,null,null,null,null,null,null,null,null,"記録",null,null,null,"風",null,null,null,"得点"]
[]
["100mH",null,null,null,null,null,null,null,null,null,null,null,null,null,null,null,null,null,"100mH"]
[]
["走高跳",null,null,null,null,null,null,null,null,null,null,null,null,null,null,null,null,null,"走高跳"]
[]
["砲丸投",null,null,null,null,null,null,null,null,null,null,null,null,null,null,null,null,null,"砲丸投"]
[]
["200m",null,null,null,null,null,null,null,null,null,null,null,null,null,null,null,null,null,"200m"]
[]
["走幅跳",null,null,null,null,null,null,null,null,null,null,null,null,null,null,null,null,null,"走幅跳"]
[]
["やり投",null,null,null,null,null,null,null,null,null,null,null,null,null,null,null,null,null,"やり投"]
[]
["800m",null,null,null,null,null,null,null,null,null,null,null,null,null,null,null,null,null,"800m"]
[]
["合計得点",null,null,null,null,null,null,null,null,null,null,null,{"$f":"IF(M66=\"\",\"\",SUM(M66:P79))","v":""},null,null,null,null,null,"合計得点",null,null,null,null,null,null,null,null,null,null,null,{"$f":"IF(AE66=\"\",\"\",SUM(AE66:AH79))","v":""}]
[]
["様式２",null,null,null,null,null,null,{"$f":"入力表!$A$1","v":"第２７回北海道陸上競技フェスティバル　兼　オホーツク陸協混成競技記録会"}]
[]
[]
["女子七種",null,null,null,null,null,null,"混成競技参加者　種目別記録表"]
[]
[]
["所属名",null,null,null,null,{"$f":"IF(入力表!$L$4=\"\",\"\",入力表!$L$4)","v":""},null,null,null,null,null,null,"所属陸協名",null,null,null,null,{"$f":"IF(入力表!$N$8=\"\",\"\",入力表!$N$8)","v":""},null,null,null,null,"連絡先℡",null,null,null,{"$f":"IF(入力表!$E$8=\"\",\"\",入力表!$E$8)","v":""}]
[]
[null,null,null,null,null,null,null,null,null,null,null,null,"申込責任者",null,null,null,null,{"$f":"IF(入力表!$E$6=\"\",\"\",入力表!$E$6)","v":""}]
[]
[]
["七種競技ベスト記録（プログラム編成上の資料になります。）"]
[]
["氏名",null,null,null,null,null,null,null,null,null,null,null,"学\n年",null,null,null,null,null,"氏名",null,null,null,null,null,null,null,null,null,null,null,"学\n年"]
[]
["ﾌﾘｶﾞﾅ",null,null,null,null,null,null,null,null,null,null,null,null,null,null,null,null,null,"ﾌﾘｶﾞﾅ"]
[]
[null,null,null,null,"記録",null,null,null,"風",null,null,null,"得点",null,null,null,null,null,null,null,null,null,"記録",null,null,null,"風",null,null,null,"得点"]
[]
["100mH",null,null,null,null,null,null,null,null,null,null,null,null,null,null,null,null,null,"100mH"]
[]
["走高跳",null,null,null,null,null,null,null,null,null,null,null,null,null,null,null,null,null,"走高跳"]
[]
["砲丸投",null,null,null,null,null,null,null,null,null,null,null,null,null,null,null,null,null,"砲丸投"]
[]
["200m",null,null,null,null,null,null,null,null,null,null,null,null,null,null,null,null,null,"200m"]
[]
["走幅跳",null,null,null,null,null,null,null,null,null,null,null,null,null,null,null,null,null,"走幅跳"]
[]
["やり投",null,null,null,null,null,null,null,null,null,null,null,null,null,null,null,null,null,"やり投"]
[]
["800m",null,null,null,null,null,null,null,null,null,null,null,null,null,null,null,null,null,"800m"]
[]
["合計得点",null,null,null,null,null,null,null,null,null,null,null,{"$f":"IF(M101=\"\",\"\",SUM(M101:P114))","v":""},null,null,null,null,null,"合計得点",null,null,null,null,null,null,null,null,null,null,null,{"$f":"IF(AE101=\"\",\"\",SUM(AE101:AH114))","v":""}]
[]
[]
["氏名",null,null,null,null,null,null,null,null,null,null,null,"学\n年",null,null,null,null,null,"氏名",null,null,null,null,null,null,null,null,null,null,null,"学\n年"]
[]
["ﾌﾘｶﾞﾅ",null,null,null,null,null,null,null,null,null,null,null,null,null,null,null,null,null,"ﾌﾘｶﾞﾅ"]
[]
[null,null,null,null,"記録",null,null,null,"風",null,null,null,"得点",null,null,null,null,null,null,null,null,null,"記録",null,null,null,"風",null,null,null,"得点"]
[]
["100mH",null,null,null,null,null,null,null,null,null,null,null,null,null,null,null,null,null,"100mH"]
[]
["走高跳",null,null,null,null,null,null,null,null,null,null,null,null,null,null,null,null,null,"走高跳"]
[]
["砲丸投",null,null,null,null,null,null,null,null,null,null,null,null,null,null,null,null,null,"砲丸投"]
[]
["200m",null,null,null,null,null,null,null,null,null,null,null,null,null,null,null,null,null,"200m"]
[]
["走幅跳",null,null,null,null,null,null,null,null,null,null,null,null,null,null,null,null,null,"走幅跳"]
[]
["やり投",null,null,null,null,null,null,null,null,null,null,null,null,null,null,null,null,null,"やり投"]
[]
["800m",null,null,null,null,null,null,null,null,null,null,null,null,null,null,null,null,null,"800m"]
[]
["合計得点",null,null,null,null,null,null,null,null,null,null,null,{"$f":"IF(M124=\"\",\"\",SUM(M124:P137))","v":""},null,null,null,null,null,"合計得点",null,null,null,null,null,null,null,null,null,null,null,{"$f":"IF(AE124=\"\",\"\",SUM(AE124:AH137))","v":""}]
[]
[]
["氏名",null,null,null,null,null,null,null,null,null,null,null,"学\n年",null,null,null,null,null,"氏名",null,null,null,null,null,null,null,null,null,null,null,"学\n年"]
[]
["ﾌﾘｶﾞﾅ",null,null,null,null,null,null,null,null,null,null,null,null,null,null,null,null,null,"ﾌﾘｶﾞﾅ"]
[]
[null,null,null,null,"記録",null,null,null,"風",null,null,null,"得点",null,null,null,null,null,null,null,null,null,"記録",null,null,null,"風",null,null,null,"得点"]
[]
["100mH",null,null,null,null,null,null,null,null,null,null,null,null,null,null,null,null,null,"100mH"]
[]
["走高跳",null,null,null,null,null,null,null,null,null,null,null,null,null,null,null,null,null,"走高跳"]
[]
["砲丸投",null,null,null,null,null,null,null,null,null,null,null,null,null,null,null,null,null,"砲丸投"]
[]
["200m",null,null,null,null,null,null,null,null,null,null,null,null,null,null,null,null,null,"200m"]
[]
["走幅跳",null,null,null,null,null,null,null,null,null,null,null,null,null,null,null,null,null,"走幅跳"]
[]
["やり投",null,null,null,null,null,null,null,null,null,null,null,null,null,null,null,null,null,"やり投"]
[]
["800m",null,null,null,null,null,null,null,null,null,null,null,null,null,null,null,null,null,"800m"]
[]
["合計得点",null,null,null,null,null,null,null,null,null,null,null,{"$f":"IF(M147=\"\",\"\",SUM(M147:P160))","v":""},null,null,null,null,null,"合計得点",null,null,null,null,null,null,null,null,null,null,null,{"$f":"IF(AE147=\"\",\"\",SUM(AE147:AH160))","v":""}]
[]
["様式２",null,null,null,null,null,null,{"$f":"入力表!$A$1","v":"第２７回北海道陸上競技フェスティバル　兼　オホーツク陸協混成競技記録会"}]
[]
[]
["女子七種",null,null,null,null,null,null,"混成競技参加者　種目別記録表"]
[]
[]
["所属名",null,null,null,null,{"$f":"IF(入力表!$L$4=\"\",\"\",入力表!$L$4)","v":""},null,null,null,null,null,null,"所属陸協名",null,null,null,null,{"$f":"IF(入力表!$N$8=\"\",\"\",入力表!$N$8)","v":""},null,null,null,null,"連絡先℡",null,null,null,{"$f":"IF(入力表!$E$8=\"\",\"\",入力表!$E$8)","v":""}]
[]
[null,null,null,null,null,null,null,null,null,null,null,null,"申込責任者",null,null,null,null,{"$f":"IF(入力表!$E$6=\"\",\"\",入力表!$E$6)","v":""}]
[]
[]
["七種競技ベスト記録（プログラム編成上の資料になります。）"]
[]
["氏名",null,null,null,null,null,null,null,null,null,null,null,"学\n年",null,null,null,null,null,"氏名",null,null,null,null,null,null,null,null,null,null,null,"学\n年"]
[]
["ﾌﾘｶﾞﾅ",null,null,null,null,null,null,null,null,null,null,null,null,null,null,null,null,null,"ﾌﾘｶﾞﾅ"]
[]
[null,null,null,null,"記録",null,null,null,"風",null,null,null,"得点",null,null,null,null,null,null,null,null,null,"記録",null,null,null,"風",null,null,null,"得点"]
[]
["100mH",null,null,null,null,null,null,null,null,null,null,null,null,null,null,null,null,null,"100mH"]
[]
["走高跳",null,null,null,null,null,null,null,null,null,null,null,null,null,null,null,null,null,"走高跳"]
[]
["砲丸投",null,null,null,null,null,null,null,null,null,null,null,null,null,null,null,null,null,"砲丸投"]
[]
["200m",null,null,null,null,null,null,null,null,null,null,null,null,null,null,null,null,null,"200m"]
[]
["走幅跳",null,null,null,null,null,null,null,null,null,null,null,null,null,null,null,null,null,"走幅跳"]
[]
["やり投",null,null,null,null,null,null,null,null,null,null,null,null,null,null,null,null,null,"やり投"]
[]
["800m",null,null,null,null,null,null,null,null,null,null,null,null,null,null,null,null,null,"800m"]
[]
["合計得点",null,null,null,null,null,null,null,null,null,null,null,{"$f":"IF(M182=\"\",\"\",SUM(M182:P195))","v":""},null,null,null,null,null,"合計得点",null,null,null,null,null,null,null,null,null,null,null,{"$f":"IF(AE182=\"\",\"\",SUM(AE182:AH195))","v":""}]
[]
[]
["氏名",null,null,null,null,null,null,null,null,null,null,null,"学\n年",null,null,null,null,null,"氏名",null,null,null,null,null,null,null,null,null,null,null,"学\n年"]
[]
["ﾌﾘｶﾞﾅ",null,null,null,null,null,null,null,null,null,null,null,null,null,null,null,null,null,"ﾌﾘｶﾞﾅ"]
[]
[null,null,null,null,"記録",null,null,null,"風",null,null,null,"得点",null,null,null,null,null,null,null,null,null,"記録",null,null,null,"風",null,null,null,"得点"]
[]
["100mH",null,null,null,null,null,null,null,null,null,null,null,null,null,null,null,null,null,"100mH"]
[]
["走高跳",null,null,null,null,null,null,null,null,null,null,null,null,null,null,null,null,null,"走高跳"]
[]
["砲丸投",null,null,null,null,null,null,null,null,null,null,null,null,null,null,null,null,null,"砲丸投"]
[]
["200m",null,null,null,null,null,null,null,null,null,null,null,null,null,null,null,null,null,"200m"]
[]
["走幅跳",null,null,null,null,null,null,null,null,null,null,null,null,null,null,null,null,null,"走幅跳"]
[]
["やり投",null,null,null,null,null,null,null,null,null,null,null,null,null,null,null,null,null,"やり投"]
[]
["800m",null,null,null,null,null,null,null,null,null,null,null,null,null,null,null,null,null,"800m"]
[]
["合計得点",null,null,null,null,null,null,null,null,null,null,null,{"$f":"IF(M205=\"\",\"\",SUM(M205:P218))","v":""},null,null,null,null,null,"合計得点",null,null,null,null,null,null,null,null,null,null,null,{"$f":"IF(AE205=\"\",\"\",SUM(AE205:AH218))","v":""}]
[]
[]
["氏名",null,null,null,null,null,null,null,null,null,null,null,"学\n年",null,null,null,null,null,"氏名",null,null,null,null,null,null,null,null,null,null,null,"学\n年"]
[]
["ﾌﾘｶﾞﾅ",null,null,null,null,null,null,null,null,null,null,null,null,null,null,null,null,null,"ﾌﾘｶﾞﾅ"]
[]
[null,null,null,null,"記録",null,null,null,"風",null,null,null,"得点",null,null,null,null,null,null,null,null,null,"記録",null,null,null,"風",null,null,null,"得点"]
[]
["100mH",null,null,null,null,null,null,null,null,null,null,null,null,null,null,null,null,null,"100mH"]
[]
["走高跳",null,null,null,null,null,null,null,null,null,null,null,null,null,null,null,null,null,"走高跳"]
[]
["砲丸投",null,null,null,null,null,null,null,null,null,null,null,null,null,null,null,null,null,"砲丸投"]
[]
["200m",null,null,null,null,null,null,null,null,null,null,null,null,null,null,null,null,null,"200m"]
[]
["走幅跳",null,null,null,null,null,null,null,null,null,null,null,null,null,null,null,null,null,"走幅跳"]
[]
["やり投",null,null,null,null,null,null,null,null,null,null,null,null,null,null,null,null,null,"やり投"]
[]
["800m",null,null,null,null,null,null,null,null,null,null,null,null,null,null,null,null,null,"800m"]
[]
["合計得点",null,null,null,null,null,null,null,null,null,null,null,{"$f":"IF(M228=\"\",\"\",SUM(M228:P241))","v":""},null,null,null,null,null,"合計得点",null,null,null,null,null,null,null,null,null,null,null,{"$f":"IF(AE228=\"\",\"\",SUM(AE228:AH241))","v":""}]
[]
["様式２",null,null,null,null,null,null,{"$f":"入力表!$A$1","v":"第２７回北海道陸上競技フェスティバル　兼　オホーツク陸協混成競技記録会"}]
[]
[]
["女子七種",null,null,null,null,null,null,"混成競技参加者　種目別記録表"]
[]
[]
["所属名",null,null,null,null,{"$f":"IF(入力表!$L$4=\"\",\"\",入力表!$L$4)","v":""},null,null,null,null,null,null,"所属陸協名",null,null,null,null,{"$f":"IF(入力表!$N$8=\"\",\"\",入力表!$N$8)","v":""},null,null,null,null,"連絡先℡",null,null,null,{"$f":"IF(入力表!$E$8=\"\",\"\",入力表!$E$8)","v":""}]
[]
[null,null,null,null,null,null,null,null,null,null,null,null,"申込責任者",null,null,null,null,{"$f":"IF(入力表!$E$6=\"\",\"\",入力表!$E$6)","v":""}]
[]
[]
["七種競技ベスト記録（プログラム編成上の資料になります。）"]
[]
["氏名",null,null,null,null,null,null,null,null,null,null,null,"学\n年",null,null,null,null,null,"氏名",null,null,null,null,null,null,null,null,null,null,null,"学\n年"]
[]
["ﾌﾘｶﾞﾅ",null,null,null,null,null,null,null,null,null,null,null,null,null,null,null,null,null,"ﾌﾘｶﾞﾅ"]
[]
[null,null,null,null,"記録",null,null,null,"風",null,null,null,"得点",null,null,null,null,null,null,null,null,null,"記録",null,null,null,"風",null,null,null,"得点"]
[]
["100mH",null,null,null,null,null,null,null,null,null,null,null,null,null,null,null,null,null,"100mH"]
[]
["走高跳",null,null,null,null,null,null,null,null,null,null,null,null,null,null,null,null,null,"走高跳"]
[]
["砲丸投",null,null,null,null,null,null,null,null,null,null,null,null,null,null,null,null,null,"砲丸投"]
[]
["200m",null,null,null,null,null,null,null,null,null,null,null,null,null,null,null,null,null,"200m"]
[]
["走幅跳",null,null,null,null,null,null,null,null,null,null,null,null,null,null,null,null,null,"走幅跳"]
[]
["やり投",null,null,null,null,null,null,null,null,null,null,null,null,null,null,null,null,null,"やり投"]
[]
["800m",null,null,null,null,null,null,null,null,null,null,null,null,null,null,null,null,null,"800m"]
[]
["合計得点",null,null,null,null,null,null,null,null,null,null,null,{"$f":"IF(M263=\"\",\"\",SUM(M263:P276))","v":""},null,null,null,null,null,"合計得点",null,null,null,null,null,null,null,null,null,null,null,{"$f":"IF(AE263=\"\",\"\",SUM(AE263:AH276))","v":""}]
[]
[]
["氏名",null,null,null,null,null,null,null,null,null,null,null,"学\n年",null,null,null,null,null,"氏名",null,null,null,null,null,null,null,null,null,null,null,"学\n年"]
[]
["ﾌﾘｶﾞﾅ",null,null,null,null,null,null,null,null,null,null,null,null,null,null,null,null,null,"ﾌﾘｶﾞﾅ"]
[]
[null,null,null,null,"記録",null,null,null,"風",null,null,null,"得点",null,null,null,null,null,null,null,null,null,"記録",null,null,null,"風",null,null,null,"得点"]
[]
["100mH",null,null,null,null,null,null,null,null,null,null,null,null,null,null,null,null,null,"100mH"]
[]
["走高跳",null,null,null,null,null,null,null,null,null,null,null,null,null,null,null,null,null,"走高跳"]
[]
["砲丸投",null,null,null,null,null,null,null,null,null,null,null,null,null,null,null,null,null,"砲丸投"]
[]
["200m",null,null,null,null,null,null,null,null,null,null,null,null,null,null,null,null,null,"200m"]
[]
["走幅跳",null,null,null,null,null,null,null,null,null,null,null,null,null,null,null,null,null,"走幅跳"]
[]
["やり投",null,null,null,null,null,null,null,null,null,null,null,null,null,null,null,null,null,"やり投"]
[]
["800m",null,null,null,null,null,null,null,null,null,null,null,null,null,null,null,null,null,"800m"]
[]
["合計得点",null,null,null,null,null,null,null,null,null,null,null,{"$f":"IF(M286=\"\",\"\",SUM(M286:P299))","v":""},null,null,null,null,null,"合計得点",null,null,null,null,null,null,null,null,null,null,null,{"$f":"IF(AE286=\"\",\"\",SUM(AE286:AH299))","v":""}]
[]
[]
["氏名",null,null,null,null,null,null,null,null,null,null,null,"学\n年",null,null,null,null,null,"氏名",null,null,null,null,null,null,null,null,null,null,null,"学\n年"]
[]
["ﾌﾘｶﾞﾅ",null,null,null,null,null,null,null,null,null,null,null,null,null,null,null,null,null,"ﾌﾘｶﾞﾅ"]
[]
[null,null,null,null,"記録",null,null,null,"風",null,null,null,"得点",null,null,null,null,null,null,null,null,null,"記録",null,null,null,"風",null,null,null,"得点"]
[]
["100mH",null,null,null,null,null,null,null,null,null,null,null,null,null,null,null,null,null,"100mH"]
[]
["走高跳",null,null,null,null,null,null,null,null,null,null,null,null,null,null,null,null,null,"走高跳"]
[]
["砲丸投",null,null,null,null,null,null,null,null,null,null,null,null,null,null,null,null,null,"砲丸投"]
[]
["200m",null,null,null,null,null,null,null,null,null,null,null,null,null,null,null,null,null,"200m"]
[]
["走幅跳",null,null,null,null,null,null,null,null,null,null,null,null,null,null,null,null,null,"走幅跳"]
[]
["やり投",null,null,null,null,null,null,null,null,null,null,null,null,null,null,null,null,null,"やり投"]
[]
["800m",null,null,null,null,null,null,null,null,null,null,null,null,null,null,null,null,null,"800m"]
[]
["合計得点",null,null,null,null,null,null,null,null,null,null,null,{"$f":"IF(M309=\"\",\"\",SUM(M309:P322))","v":""},null,null,null,null,null,"合計得点",null,null,null,null,null,null,null,null,null,null,null,{"$f":"IF(AE309=\"\",\"\",SUM(AE309:AH322))","v":""}]
[]
["様式２",null,null,null,null,null,null,{"$f":"入力表!$A$1","v":"第２７回北海道陸上競技フェスティバル　兼　オホーツク陸協混成競技記録会"}]
[]
[]
["女子七種",null,null,null,null,null,null,"混成競技参加者　種目別記録表"]
[]
[]
["所属名",null,null,null,null,{"$f":"IF(入力表!$L$4=\"\",\"\",入力表!$L$4)","v":""},null,null,null,null,null,null,"所属陸協名",null,null,null,null,{"$f":"IF(入力表!$N$8=\"\",\"\",入力表!$N$8)","v":""},null,null,null,null,"連絡先℡",null,null,null,{"$f":"IF(入力表!$E$8=\"\",\"\",入力表!$E$8)","v":""}]
[]
[null,null,null,null,null,null,null,null,null,null,null,null,"申込責任者",null,null,null,null,{"$f":"IF(入力表!$E$6=\"\",\"\",入力表!$E$6)","v":""}]
[]
[]
["七種競技ベスト記録（プログラム編成上の資料になります。）"]
[]
["氏名",null,null,null,null,null,null,null,null,null,null,null,"学\n年",null,null,null,null,null,"氏名",null,null,null,null,null,null,null,null,null,null,null,"学\n年"]
[]
["ﾌﾘｶﾞﾅ",null,null,null,null,null,null,null,null,null,null,null,null,null,null,null,null,null,"ﾌﾘｶﾞﾅ"]
[]
[null,null,null,null,"記録",null,null,null,"風",null,null,null,"得点",null,null,null,null,null,null,null,null,null,"記録",null,null,null,"風",null,null,null,"得点"]
[]
["100mH",null,null,null,null,null,null,null,null,null,null,null,null,null,null,null,null,null,"100mH"]
[]
["走高跳",null,null,null,null,null,null,null,null,null,null,null,null,null,null,null,null,null,"走高跳"]
[]
["砲丸投",null,null,null,null,null,null,null,null,null,null,null,null,null,null,null,null,null,"砲丸投"]
[]
["200m",null,null,null,null,null,null,null,null,null,null,null,null,null,null,null,null,null,"200m"]
[]
["走幅跳",null,null,null,null,null,null,null,null,null,null,null,null,null,null,null,null,null,"走幅跳"]
[]
["やり投",null,null,null,null,null,null,null,null,null,null,null,null,null,null,null,null,null,"やり投"]
[]
["800m",null,null,null,null,null,null,null,null,null,null,null,null,null,null,null,null,null,"800m"]
[]
["合計得点",null,null,null,null,null,null,null,null,null,null,null,{"$f":"IF(M344=\"\",\"\",SUM(M344:P357))","v":""},null,null,null,null,null,"合計得点",null,null,null,null,null,null,null,null,null,null,null,{"$f":"IF(AE344=\"\",\"\",SUM(AE344:AH357))","v":""}]
[]
[]
["氏名",null,null,null,null,null,null,null,null,null,null,null,"学\n年",null,null,null,null,null,"氏名",null,null,null,null,null,null,null,null,null,null,null,"学\n年"]
[]
["ﾌﾘｶﾞﾅ",null,null,null,null,null,null,null,null,null,null,null,null,null,null,null,null,null,"ﾌﾘｶﾞﾅ"]
[]
[null,null,null,null,"記録",null,null,null,"風",null,null,null,"得点",null,null,null,null,null,null,null,null,null,"記録",null,null,null,"風",null,null,null,"得点"]
[]
["100mH",null,null,null,null,null,null,null,null,null,null,null,null,null,null,null,null,null,"100mH"]
[]
["走高跳",null,null,null,null,null,null,null,null,null,null,null,null,null,null,null,null,null,"走高跳"]
[]
["砲丸投",null,null,null,null,null,null,null,null,null,null,null,null,null,null,null,null,null,"砲丸投"]
[]
["200m",null,null,null,null,null,null,null,null,null,null,null,null,null,null,null,null,null,"200m"]
[]
["走幅跳",null,null,null,null,null,null,null,null,null,null,null,null,null,null,null,null,null,"走幅跳"]
[]
["やり投",null,null,null,null,null,null,null,null,null,null,null,null,null,null,null,null,null,"やり投"]
[]
["800m",null,null,null,null,null,null,null,null,null,null,null,null,null,null,null,null,null,"800m"]
[]
["合計得点",null,null,null,null,null,null,null,null,null,null,null,{"$f":"IF(M367=\"\",\"\",SUM(M367:P380))","v":""},null,null,null,null,null,"合計得点",null,null,null,null,null,null,null,null,null,null,null,{"$f":"IF(AE367=\"\",\"\",SUM(AE367:AH380))","v":""}]
[]
[]
["氏名",null,null,null,null,null,null,null,null,null,null,null,"学\n年",null,null,null,null,null,"氏名",null,null,null,null,null,null,null,null,null,null,null,"学\n年"]
[]
["ﾌﾘｶﾞﾅ",null,null,null,null,null,null,null,null,null,null,null,null,null,null,null,null,null,"ﾌﾘｶﾞﾅ"]
[]
[null,null,null,null,"記録",null,null,null,"風",null,null,null,"得点",null,null,null,null,null,null,null,null,null,"記録",null,null,null,"風",null,null,null,"得点"]
[]
["100mH",null,null,null,null,null,null,null,null,null,null,null,null,null,null,null,null,null,"100mH"]
[]
["走高跳",null,null,null,null,null,null,null,null,null,null,null,null,null,null,null,null,null,"走高跳"]
[]
["砲丸投",null,null,null,null,null,null,null,null,null,null,null,null,null,null,null,null,null,"砲丸投"]
[]
["200m",null,null,null,null,null,null,null,null,null,null,null,null,null,null,null,null,null,"200m"]
[]
["走幅跳",null,null,null,null,null,null,null,null,null,null,null,null,null,null,null,null,null,"走幅跳"]
[]
["やり投",null,null,null,null,null,null,null,null,null,null,null,null,null,null,null,null,null,"やり投"]
[]
["800m",null,null,null,null,null,null,null,null,null,null,null,null,null,null,null,null,null,"800m"]
[]
["合計得点",null,null,null,null,null,null,null,null,null,null,null,{"$f":"IF(M390=\"\",\"\",SUM(M390:P403))","v":""},null,null,null,null,null,"合計得点",null,null,null,null,null,null,null,null,null,null,null,{"$f":"IF(AE390=\"\",\"\",SUM(AE390:AH403))","v":""}]
[]
["様式２",null,null,null,null,null,null,{"$f":"入力表!$A$1","v":"第２７回北海道陸上競技フェスティバル　兼　オホーツク陸協混成競技記録会"}]
[]
[]
["女子七種",null,null,null,null,null,null,"混成競技参加者　種目別記録表"]
[]
[]
["所属名",null,null,null,null,{"$f":"IF(入力表!$L$4=\"\",\"\",入力表!$L$4)","v":""},null,null,null,null,null,null,"所属陸協名",null,null,null,null,{"$f":"IF(入力表!$N$8=\"\",\"\",入力表!$N$8)","v":""},null,null,null,null,"連絡先℡",null,null,null,{"$f":"IF(入力表!$E$8=\"\",\"\",入力表!$E$8)","v":""}]
[]
[null,null,null,null,null,null,null,null,null,null,null,null,"申込責任者",null,null,null,null,{"$f":"IF(入力表!$E$6=\"\",\"\",入力表!$E$6)","v":""}]
[]
[]
["七種競技ベスト記録（プログラム編成上の資料になります。）"]
[]
["氏名",null,null,null,null,null,null,null,null,null,null,null,"学\n年",null,null,null,null,null,"氏名",null,null,null,null,null,null,null,null,null,null,null,"学\n年"]
[]
["ﾌﾘｶﾞﾅ",null,null,null,null,null,null,null,null,null,null,null,null,null,null,null,null,null,"ﾌﾘｶﾞﾅ"]
[]
[null,null,null,null,"記録",null,null,null,"風",null,null,null,"得点",null,null,null,null,null,null,null,null,null,"記録",null,null,null,"風",null,null,null,"得点"]
[]
["100mH",null,null,null,null,null,null,null,null,null,null,null,null,null,null,null,null,null,"100mH"]
[]
["走高跳",null,null,null,null,null,null,null,null,null,null,null,null,null,null,null,null,null,"走高跳"]
[]
["砲丸投",null,null,null,null,null,null,null,null,null,null,null,null,null,null,null,null,null,"砲丸投"]
[]
["200m",null,null,null,null,null,null,null,null,null,null,null,null,null,null,null,null,null,"200m"]
[]
["走幅跳",null,null,null,null,null,null,null,null,null,null,null,null,null,null,null,null,null,"走幅跳"]
[]
["やり投",null,null,null,null,null,null,null,null,null,null,null,null,null,null,null,null,null,"やり投"]
[]
["800m",null,null,null,null,null,null,null,null,null,null,null,null,null,null,null,null,null,"800m"]
[]
["合計得点",null,null,null,null,null,null,null,null,null,null,null,{"$f":"IF(M425=\"\",\"\",SUM(M425:P438))","v":""},null,null,null,null,null,"合計得点",null,null,null,null,null,null,null,null,null,null,null,{"$f":"IF(AE425=\"\",\"\",SUM(AE425:AH438))","v":""}]
[]
[]
["氏名",null,null,null,null,null,null,null,null,null,null,null,"学\n年",null,null,null,null,null,"氏名",null,null,null,null,null,null,null,null,null,null,null,"学\n年"]
[]
["ﾌﾘｶﾞﾅ",null,null,null,null,null,null,null,null,null,null,null,null,null,null,null,null,null,"ﾌﾘｶﾞﾅ"]
[]
[null,null,null,null,"記録",null,null,null,"風",null,null,null,"得点",null,null,null,null,null,null,null,null,null,"記録",null,null,null,"風",null,null,null,"得点"]
[]
["100mH",null,null,null,null,null,null,null,null,null,null,null,null,null,null,null,null,null,"100mH"]
[]
["走高跳",null,null,null,null,null,null,null,null,null,null,null,null,null,null,null,null,null,"走高跳"]
[]
["砲丸投",null,null,null,null,null,null,null,null,null,null,null,null,null,null,null,null,null,"砲丸投"]
[]
["200m",null,null,null,null,null,null,null,null,null,null,null,null,null,null,null,null,null,"200m"]
[]
["走幅跳",null,null,null,null,null,null,null,null,null,null,null,null,null,null,null,null,null,"走幅跳"]
[]
["やり投",null,null,null,null,null,null,null,null,null,null,null,null,null,null,null,null,null,"やり投"]
[]
["800m",null,null,null,null,null,null,null,null,null,null,null,null,null,null,null,null,null,"800m"]
[]
["合計得点",null,null,null,null,null,null,null,null,null,null,null,{"$f":"IF(M448=\"\",\"\",SUM(M448:P461))","v":""},null,null,null,null,null,"合計得点",null,null,null,null,null,null,null,null,null,null,null,{"$f":"IF(AE448=\"\",\"\",SUM(AE448:AH461))","v":""}]
[]
[]
["氏名",null,null,null,null,null,null,null,null,null,null,null,"学\n年",null,null,null,null,null,"氏名",null,null,null,null,null,null,null,null,null,null,null,"学\n年"]
[]
["ﾌﾘｶﾞﾅ",null,null,null,null,null,null,null,null,null,null,null,null,null,null,null,null,null,"ﾌﾘｶﾞﾅ"]
[]
[null,null,null,null,"記録",null,null,null,"風",null,null,null,"得点",null,null,null,null,null,null,null,null,null,"記録",null,null,null,"風",null,null,null,"得点"]
[]
["100mH",null,null,null,null,null,null,null,null,null,null,null,null,null,null,null,null,null,"100mH"]
[]
["走高跳",null,null,null,null,null,null,null,null,null,null,null,null,null,null,null,null,null,"走高跳"]
[]
["砲丸投",null,null,null,null,null,null,null,null,null,null,null,null,null,null,null,null,null,"砲丸投"]
[]
["200m",null,null,null,null,null,null,null,null,null,null,null,null,null,null,null,null,null,"200m"]
[]
["走幅跳",null,null,null,null,null,null,null,null,null,null,null,null,null,null,null,null,null,"走幅跳"]
[]
["やり投",null,null,null,null,null,null,null,null,null,null,null,null,null,null,null,null,null,"やり投"]
[]
["800m",null,null,null,null,null,null,null,null,null,null,null,null,null,null,null,null,null,"800m"]
[]
["合計得点",null,null,null,null,null,null,null,null,null,null,null,{"$f":"IF(M471=\"\",\"\",SUM(M471:P484))","v":""},null,null,null,null,null,"合計得点",null,null,null,null,null,null,null,null,null,null,null,{"$f":"IF(AE471=\"\",\"\",SUM(AE471:AH484))","v":""}]

{"sheet":"混成様式（中男四）","index":3,"n_rows":79,"n_cols":31,"rows_kept":79,"cut":false,"hidden":false,"merged":[[0,0,2,6],[0,7,2,33],[6,0,9,4],[6,5,9,11],[6,12,7,16],[6,17,7,21],[6,22,9,25],[6,26,9,33],[8,12,9,16],[8,17,9,21],[3,0,5,6],[3,7,5,33],[11,0,12,33],[13,0,14,2],[13,3,14,11],[13,12,16,13],[13,14,16,15],[13,18,14,20],[13,21,14,29],[13,30,16,31],[13,32,16,33],[15,0,16,2],[15,3,16,11],[15,18,16,20],[15,21,16,29],[17,0,18,3],[17,4,18,7],[17,8,18,11],[17,12,18,15],[17,18,18,21],[17,22,18,25],[17,26,18,29],[17,30,18,33],[19,0,20,3],[19,4,20,7],[19,8,20,11],[19,12,20,15],[19,18,20,21],[19,22,20,25],[19,26,20,29],[19,30,20,33],[21,26,22,29],[21,30,22,33],[21,0,22,3],[23,4,24,7],[23,8,24,11],[23,12,24,15],[23,18,24,21],[23,22,24,25],[23,26,24,29],[23,30,24,33],[21,4,22,7],[21,8,22,11],[21,12,22,15],[21,18,22,21],[21,22,22,25],[27,0,28,11],[27,12,28,15],[27,18,28,29],[27,30,28,33],[23,0,24,3],[25,26,26,29],[25,30,26,33],[25,0,26,3],[25,4,26,7],[25,8,26,11],[25,12,26,15],[25,18,26,21],[25,22,26,25],[30,0,31,2],[30,3,31,11],[30,12,33,13],[30,14,33,15],[30,18,31,20],[30,21,31,29],[30,30,33,31],[30,32,33,33],[32,0,33,2],[32,3,33,11],[32,18,33,20],[32,21,33,29],[34,30,35,33],[36,0,37,3],[36,4,37,7],[36,8,37,11],[36,12,37,15],[36,18,37,21],[36,22,37,25],[36,26,37,29],[36,30,37,33],[34,0,35,3],[34,4,35,7],[34,8,35,11],[34,12,35,15],[34,18,35,21],[34,22,35,25],[34,26,35,29],[42,26,43,29],[42,30,43,33],[44,12,45,15],[44,30,45,33],[42,0,43,3],[42,4,43,7],[42,8,43,11],[42,12,43,15],[42,18,43,21],[42,22,43,25],[38,30,39,33],[40,0,41,3],[40,4,41,7],[40,8,41,11],[40,12,41,15],[40,18,41,21],[40,22,41,25],[40,26,41,29],[40,30,41,33],[38,0,39,3],[38,4,39,7],[38,8,39,11],[38,12,39,15],[38,18,39,21],[38,22,39,25],[38,26,39,29],[47,30,50,31],[47,32,50,33],[49,0,50,2],[49,3,50,11],[49,18,50,20],[49,21,50,29],[44,0,45,11],[44,18,45,29],[47,0,48,2],[47,3,48,11],[47,12,50,13],[47,14,50,15],[47,18,48,20],[47,21,48,29],[51,26,52,29],[51,30,52,33],[53,0,54,3],[53,4,54,7],[53,8,54,11],[53,12,54,15],[53,18,54,21],[53,22,54,25],[53,26,54,29],[53,30,54,33],[51,0,52,3],[51,4,52,7],[51,8,52,11],[51,12,52,15],[51,18,52,21],[51,22,52,25],[55,26,56,29],[55,30,56,33],[57,0,58,3],[57,4,58,7],[57,8,58,11],[57,12,58,15],[57,18,58,21],[57,22,58,25],[57,26,58,29],[57,30,58,33],[55,0,56,3],[55,4,56,7],[55,8,56,11],[55,12,56,15],[55,18,56,21],[55,22,56,25],[59,26,60,29],[59,30,60,33],[61,0,62,11],[61,12,62,15],[61,18,62,29],[61,30,62,33],[59,0,60,3],[59,4,60,7],[59,8,60,11],[59,12,60,15],[59,18,60,21],[59,22,60,25],[64,30,67,31],[64,32,67,33],[66,0,67,2],[66,3,67,11],[66,18,67,20],[66,21,67,29],[64,0,65,2],[64,3,65,11],[64,12,67,13],[64,14,67,15],[64,18,65,20],[64,21,65,29],[68,26,69,29],[68,30,69,33],[70,0,71,3],[70,4,71,7],[70,8,71,11],[70,12,71,15],[70,18,71,21],[70,22,71,25],[70,26,71,29],[70,30,71,33],[68,0,69,3],[68,4,69,7],[68,8,69,11],[68,12,69,15],[68,18,69,21],[68,22,69,25],[72,26,73,29],[72,30,73,33],[74,0,75,3],[74,4,75,7],[74,8,75,11],[74,12,75,15],[74,18,75,21],[74,22,75,25],[74,26,75,29],[74,30,75,33],[72,0,73,3],[72,4,73,7],[72,8,73,11],[72,12,73,15],[72,18,73,21],[72,22,73,25],[76,26,77,29],[76,30,77,33],[78,0,79,11],[78,12,79,15],[78,18,79,29],[78,30,79,33],[76,0,77,3],[76,4,77,7],[76,8,77,11],[76,12,77,15],[76,18,77,21],[76,22,77,25]]}
["様式３",null,null,null,null,null,null,{"$f":"入力表!$A$1","v":"第２７回北海道陸上競技フェスティバル　兼　オホーツク陸協混成競技記録会"}]
[]
[]
["中男四種",null,null,null,null,null,null,"混成競技参加者　種目別記録表"]
[]
[]
["所属名",null,null,null,null,{"$f":"IF(入力表!$L$4=\"\",\"\",入力表!$L$4)","v":""},null,null,null,null,null,null,"所属陸協名",null,null,null,null,{"$f":"IF(入力表!$N$8=\"\",\"\",入力表!$N$8)","v":""},null,null,null,null,"連絡先℡",null,null,null,{"$f":"IF(入力表!$E$8=\"\",\"\",入力表!$E$8)","v":""}]
[]
[null,null,null,null,null,null,null,null,null,null,null,null,"申込責任者",null,null,null,null,{"$f":"IF(入力表!$E$6=\"\",\"\",入力表!$E$6)","v":""}]
[]
[]
["四種競技ベスト記録（プログラム編成上の資料になります。）"]
[]
["氏名",null,null,null,null,null,null,null,null,null,null,null,"学\n年",null,null,null,null,null,"氏名",null,null,null,null,null,null,null,null,null,null,null,"学\n年"]
[]
["ﾌﾘｶﾞﾅ",null,null,null,null,null,null,null,null,null,null,null,null,null,null,null,null,null,"ﾌﾘｶﾞﾅ"]
[]
[null,null,null,null,"記録",null,null,null,"風",null,null,null,"得点",null,null,null,null,null,null,null,null,null,"記録",null,null,null,"風",null,null,null,"得点"]
[]
["110mH",null,null,null,null,null,null,null,null,null,null,null,null,null,null,null,null,null,"110mH"]
[]
["砲丸投",null,null,null,null,null,null,null,null,null,null,null,null,null,null,null,null,null,"砲丸投"]
[]
["走高跳",null,null,null,null,null,null,null,null,null,null,null,null,null,null,null,null,null,"走高跳"]
[]
["400m",null,null,null,null,null,null,null,null,null,null,null,null,null,null,null,null,null,"400m"]
[]
["合計得点",null,null,null,null,null,null,null,null,null,null,null,{"$f":"IF(M20=\"\",\"\",SUM(M20:P27))","v":""},null,null,null,null,null,"合計得点",null,null,null,null,null,null,null,null,null,null,null,{"$f":"IF(AE20=\"\",\"\",SUM(AE20:AH27))","v":""}]
[]
[]
["氏名",null,null,null,null,null,null,null,null,null,null,null,"学\n年",null,null,null,null,null,"氏名",null,null,null,null,null,null,null,null,null,null,null,"学\n年"]
[]
["ﾌﾘｶﾞﾅ",null,null,null,null,null,null,null,null,null,null,null,null,null,null,null,null,null,"ﾌﾘｶﾞﾅ"]
[]
[null,null,null,null,"記録",null,null,null,"風",null,null,null,"得点",null,null,null,null,null,null,null,null,null,"記録",null,null,null,"風",null,null,null,"得点"]
[]
["110mH",null,null,null,null,null,null,null,null,null,null,null,null,null,null,null,null,null,"110mH"]
[]
["砲丸投",null,null,null,null,null,null,null,null,null,null,null,null,null,null,null,null,null,"砲丸投"]
[]
["走高跳",null,null,null,null,null,null,null,null,null,null,null,null,null,null,null,null,null,"走高跳"]
[]
["400m",null,null,null,null,null,null,null,null,null,null,null,null,null,null,null,null,null,"400m"]
[]
["合計得点",null,null,null,null,null,null,null,null,null,null,null,{"$f":"IF(M37=\"\",\"\",SUM(M37:P44))","v":""},null,null,null,null,null,"合計得点",null,null,null,null,null,null,null,null,null,null,null,{"$f":"IF(AE37=\"\",\"\",SUM(AE37:AH44))","v":""}]
[]
[]
["氏名",null,null,null,null,null,null,null,null,null,null,null,"学\n年",null,null,null,null,null,"氏名",null,null,null,null,null,null,null,null,null,null,null,"学\n年"]
[]
["ﾌﾘｶﾞﾅ",null,null,null,null,null,null,null,null,null,null,null,null,null,null,null,null,null,"ﾌﾘｶﾞﾅ"]
[]
[null,null,null,null,"記録",null,null,null,"風",null,null,null,"得点",null,null,null,null,null,null,null,null,null,"記録",null,null,null,"風",null,null,null,"得点"]
[]
["110mH",null,null,null,null,null,null,null,null,null,null,null,null,null,null,null,null,null,"110mH"]
[]
["砲丸投",null,null,null,null,null,null,null,null,null,null,null,null,null,null,null,null,null,"砲丸投"]
[]
["走高跳",null,null,null,null,null,null,null,null,null,null,null,null,null,null,null,null,null,"走高跳"]
[]
["400m",null,null,null,null,null,null,null,null,null,null,null,null,null,null,null,null,null,"400m"]
[]
["合計得点",null,null,null,null,null,null,null,null,null,null,null,{"$f":"IF(M54=\"\",\"\",SUM(M54:P61))","v":""},null,null,null,null,null,"合計得点",null,null,null,null,null,null,null,null,null,null,null,{"$f":"IF(AE54=\"\",\"\",SUM(AE54:AH61))","v":""}]
[]
[]
["氏名",null,null,null,null,null,null,null,null,null,null,null,"学\n年",null,null,null,null,null,"氏名",null,null,null,null,null,null,null,null,null,null,null,"学\n年"]
[]
["ﾌﾘｶﾞﾅ",null,null,null,null,null,null,null,null,null,null,null,null,null,null,null,null,null,"ﾌﾘｶﾞﾅ"]
[]
[null,null,null,null,"記録",null,null,null,"風",null,null,null,"得点",null,null,null,null,null,null,null,null,null,"記録",null,null,null,"風",null,null,null,"得点"]
[]
["110mH",null,null,null,null,null,null,null,null,null,null,null,null,null,null,null,null,null,"110mH"]
[]
["砲丸投",null,null,null,null,null,null,null,null,null,null,null,null,null,null,null,null,null,"砲丸投"]
[]
["走高跳",null,null,null,null,null,null,null,null,null,null,null,null,null,null,null,null,null,"走高跳"]
[]
["400m",null,null,null,null,null,null,null,null,null,null,null,null,null,null,null,null,null,"400m"]
[]
["合計得点",null,null,null,null,null,null,null,null,null,null,null,{"$f":"IF(M71=\"\",\"\",SUM(M71:P78))","v":""},null,null,null,null,null,"合計得点",null,null,null,null,null,null,null,null,null,null,null,{"$f":"IF(AE71=\"\",\"\",SUM(AE71:AH78))","v":""}]

{"sheet":"混成様式（中女四）","index":4,"n_rows":79,"n_cols":31,"rows_kept":79,"cut":false,"hidden":false,"merged":[[8,17,9,21],[0,0,2,6],[0,7,2,33],[6,0,9,4],[6,5,9,11],[6,12,7,16],[6,17,7,21],[6,22,9,25],[6,26,9,33],[8,12,9,16],[3,0,5,6],[3,7,5,33],[11,0,12,33],[13,0,14,2],[13,3,14,11],[13,12,16,13],[13,14,16,15],[13,18,14,20],[13,21,14,29],[13,30,16,31],[13,32,16,33],[15,0,16,2],[15,3,16,11],[15,18,16,20],[15,21,16,29],[25,26,26,29],[25,30,26,33],[25,0,26,3],[25,4,26,7],[25,8,26,11],[25,12,26,15],[25,18,26,21],[25,22,26,25],[17,30,18,33],[19,0,20,3],[19,4,20,7],[19,8,20,11],[19,12,20,15],[19,18,20,21],[19,22,20,25],[19,26,20,29],[19,30,20,33],[17,0,18,3],[17,4,18,7],[17,8,18,11],[17,12,18,15],[17,18,18,21],[17,22,18,25],[17,26,18,29],[21,30,22,33],[23,0,24,3],[23,4,24,7],[23,8,24,11],[23,12,24,15],[23,18,24,21],[23,22,24,25],[23,26,24,29],[23,30,24,33],[21,0,22,3],[21,4,22,7],[21,8,22,11],[21,12,22,15],[21,18,22,21],[21,22,22,25],[21,26,22,29],[34,8,35,11],[34,12,35,15],[34,18,35,21],[34,22,35,25],[34,26,35,29],[34,30,35,33],[27,0,28,11],[27,12,28,15],[27,18,28,29],[27,30,28,33],[30,30,33,31],[30,32,33,33],[32,0,33,2],[32,3,33,11],[32,18,33,20],[32,21,33,29],[34,0,35,3],[34,4,35,7],[30,18,31,20],[30,21,31,29],[30,0,31,2],[30,3,31,11],[30,12,33,13],[30,14,33,15],[36,26,37,29],[36,30,37,33],[38,0,39,3],[38,4,39,7],[38,8,39,11],[38,12,39,15],[38,18,39,21],[38,22,39,25],[38,26,39,29],[38,30,39,33],[36,0,37,3],[36,4,37,7],[36,8,37,11],[36,12,37,15],[36,18,37,21],[36,22,37,25],[40,26,41,29],[40,30,41,33],[42,0,43,3],[42,4,43,7],[42,8,43,11],[42,12,43,15],[42,18,43,21],[42,22,43,25],[42,26,43,29],[42,30,43,33],[40,0,41,3],[40,4,41,7],[40,8,41,11],[40,12,41,15],[40,18,41,21],[40,22,41,25],[47,30,50,31],[47,32,50,33],[49,0,50,2],[49,3,50,11],[49,18,50,20],[49,21,50,29],[44,0,45,11],[44,12,45,15],[44,18,45,29],[44,30,45,33],[47,0,48,2],[47,3,48,11],[47,12,50,13],[47,14,50,15],[47,18,48,20],[47,21,48,29],[51,26,52,29],[51,30,52,33],[53,0,54,3],[53,4,54,7],[53,8,54,11],[53,12,54,15],[53,18,54,21],[53,22,54,25],[53,26,54,29],[53,30,54,33],[51,0,52,3],[51,4,52,7],[51,8,52,11],[51,12,52,15],[51,18,52,21],[51,22,52,25],[55,26,56,29],[55,30,56,33],[57,0,58,3],[57,4,58,7],[57,8,58,11],[57,12,58,15],[57,18,58,21],[57,22,58,25],[57,26,58,29],[57,30,58,33],[55,0,56,3],[55,4,56,7],[55,8,56,11],[55,12,56,15],[55,18,56,21],[55,22,56,25],[59,26,60,29],[59,30,60,33],[61,0,62,11],[61,12,62,15],[61,18,62,29],[61,30,62,33],[59,0,60,3],[59,4,60,7],[59,8,60,11],[59,12,60,15],[59,18,60,21],[59,22,60,25],[64,30,67,31],[64,32,67,33],[66,0,67,2],[66,3,67,11],[66,18,67,20],[66,21,67,29],[64,0,65,2],[64,3,65,11],[64,12,67,13],[64,14,67,15],[64,18,65,20],[64,21,65,29],[68,26,69,29],[68,30,69,33],[70,0,71,3],[70,4,71,7],[70,8,71,11],[70,12,71,15],[70,18,71,21],[70,22,71,25],[70,26,71,29],[70,30,71,33],[68,0,69,3],[68,4,69,7],[68,8,69,11],[68,12,69,15],[68,18,69,21],[68,22,69,25],[72,26,73,29],[72,30,73,33],[74,0,75,3],[74,4,75,7],[74,8,75,11],[74,12,75,15],[74,18,75,21],[74,22,75,25],[74,26,75,29],[74,30,75,33],[72,0,73,3],[72,4,73,7],[72,8,73,11],[72,12,73,15],[72,18,73,21],[72,22,73,25],[76,26,77,29],[76,30,77,33],[78,0,79,11],[78,12,79,15],[78,18,79,29],[78,30,79,33],[76,0,77,3],[76,4,77,7],[76,8,77,11],[76,12,77,15],[76,18,77,21],[76,22,77,25]]}
["様式４",null,null,null,null,null,null,{"$f":"入力表!$A$1","v":"第２７回北海道陸上競技フェスティバル　兼　オホーツク陸協混成競技記録会"}]
[]
[]
["中女四種",null,null,null,null,null,null,"混成競技参加者　種目別記録表"]
[]
[]
["所属名",null,null,null,null,{"$f":"IF(入力表!$L$4=\"\",\"\",入力表!$L$4)","v":""},null,null,null,null,null,null,"所属陸協名",null,null,null,null,{"$f":"IF(入力表!$N$8=\"\",\"\",入力表!$N$8)","v":""},null,null,null,null,"連絡先℡",null,null,null,{"$f":"IF(入力表!$E$8=\"\",\"\",入力表!$E$8)","v":""}]
[]
[null,null,null,null,null,null,null,null,null,null,null,null,"申込責任者",null,null,null,null,{"$f":"IF(入力表!$E$6=\"\",\"\",入力表!$E$6)","v":""}]
[]
[]
["四種競技ベスト記録（プログラム編成上の資料になります。）"]
[]
["氏名",null,null,null,null,null,null,null,null,null,null,null,"学\n年",null,null,null,null,null,"氏名",null,null,null,null,null,null,null,null,null,null,null,"学\n年"]
[]
["ﾌﾘｶﾞﾅ",null,null,null,null,null,null,null,null,null,null,null,null,null,null,null,null,null,"ﾌﾘｶﾞﾅ"]
[]
[null,null,null,null,"記録",null,null,null,"風",null,null,null,"得点",null,null,null,null,null,null,null,null,null,"記録",null,null,null,"風",null,null,null,"得点"]
[]
["100mH",null,null,null,null,null,null,null,null,null,null,null,null,null,null,null,null,null,"100mH"]
[]
["走高跳",null,null,null,null,null,null,null,null,null,null,null,null,null,null,null,null,null,"走高跳"]
[]
["砲丸投",null,null,null,null,null,null,null,null,null,null,null,null,null,null,null,null,null,"砲丸投"]
[]
["200m",null,null,null,null,null,null,null,null,null,null,null,null,null,null,null,null,null,"200m"]
[]
["合計得点",null,null,null,null,null,null,null,null,null,null,null,{"$f":"IF(M20=\"\",\"\",SUM(M20:P27))","v":""},null,null,null,null,null,"合計得点",null,null,null,null,null,null,null,null,null,null,null,{"$f":"IF(AE20=\"\",\"\",SUM(AE20:AH27))","v":""}]
[]
[]
["氏名",null,null,null,null,null,null,null,null,null,null,null,"学\n年",null,null,null,null,null,"氏名",null,null,null,null,null,null,null,null,null,null,null,"学\n年"]
[]
["ﾌﾘｶﾞﾅ",null,null,null,null,null,null,null,null,null,null,null,null,null,null,null,null,null,"ﾌﾘｶﾞﾅ"]
[]
[null,null,null,null,"記録",null,null,null,"風",null,null,null,"得点",null,null,null,null,null,null,null,null,null,"記録",null,null,null,"風",null,null,null,"得点"]
[]
["100mH",null,null,null,null,null,null,null,null,null,null,null,null,null,null,null,null,null,"100mH"]
[]
["走高跳",null,null,null,null,null,null,null,null,null,null,null,null,null,null,null,null,null,"走高跳"]
[]
["砲丸投",null,null,null,null,null,null,null,null,null,null,null,null,null,null,null,null,null,"砲丸投"]
[]
["200m",null,null,null,null,null,null,null,null,null,null,null,null,null,null,null,null,null,"200m"]
[]
["合計得点",null,null,null,null,null,null,null,null,null,null,null,{"$f":"IF(M37=\"\",\"\",SUM(M37:P44))","v":""},null,null,null,null,null,"合計得点",null,null,null,null,null,null,null,null,null,null,null,{"$f":"IF(AE37=\"\",\"\",SUM(AE37:AH44))","v":""}]
[]
[]
["氏名",null,null,null,null,null,null,null,null,null,null,null,"学\n年",null,null,null,null,null,"氏名",null,null,null,null,null,null,null,null,null,null,null,"学\n年"]
[]
["ﾌﾘｶﾞﾅ",null,null,null,null,null,null,null,null,null,null,null,null,null,null,null,null,null,"ﾌﾘｶﾞﾅ"]
[]
[null,null,null,null,"記録",null,null,null,"風",null,null,null,"得点",null,null,null,null,null,null,null,null,null,"記録",null,null,null,"風",null,null,null,"得点"]
[]
["100mH",null,null,null,null,null,null,null,null,null,null,null,null,null,null,null,null,null,"100mH"]
[]
["走高跳",null,null,null,null,null,null,null,null,null,null,null,null,null,null,null,null,null,"走高跳"]
[]
["砲丸投",null,null,null,null,null,null,null,null,null,null,null,null,null,null,null,null,null,"砲丸投"]
[]
["200m",null,null,null,null,null,null,null,null,null,null,null,null,null,null,null,null,null,"200m"]
[]
["合計得点",null,null,null,null,null,null,null,null,null,null,null,{"$f":"IF(M54=\"\",\"\",SUM(M54:P61))","v":""},null,null,null,null,null,"合計得点",null,null,null,null,null,null,null,null,null,null,null,{"$f":"IF(AE54=\"\",\"\",SUM(AE54:AH61))","v":""}]
[]
[]
["氏名",null,null,null,null,null,null,null,null,null,null,null,"学\n年",null,null,null,null,null,"氏名",null,null,null,null,null,null,null,null,null,null,null,"学\n年"]
[]
["ﾌﾘｶﾞﾅ",null,null,null,null,null,null,null,null,null,null,null,null,null,null,null,null,null,"ﾌﾘｶﾞﾅ"]
[]
[null,null,null,null,"記録",null,null,null,"風",null,null,null,"得点",null,null,null,null,null,null,null,null,null,"記録",null,null,null,"風",null,null,null,"得点"]
[]
["100mH",null,null,null,null,null,null,null,null,null,null,null,null,null,null,null,null,null,"100mH"]
[]
["走高跳",null,null,null,null,null,null,null,null,null,null,null,null,null,null,null,null,null,"走高跳"]
[]
["砲丸投",null,null,null,null,null,null,null,null,null,null,null,null,null,null,null,null,null,"砲丸投"]
[]
["200m",null,null,null,null,null,null,null,null,null,null,null,null,null,null,null,null,null,"200m"]
[]
["合計得点",null,null,null,null,null,null,null,null,null,null,null,{"$f":"IF(M71=\"\",\"\",SUM(M71:P78))","v":""},null,null,null,null,null,"合計得点",null,null,null,null,null,null,null,null,null,null,null,{"$f":"IF(AE71=\"\",\"\",SUM(AE71:AH78))","v":""}]

{"sheet":"申込確認","index":5,"n_rows":56,"n_cols":50,"rows_kept":56,"cut":false,"hidden":false,"merged":[[46,49,46,50],[3,49,3,50],[50,0,50,3],[51,0,51,3],[52,0,52,3],[53,0,53,3],[54,0,54,3],[55,0,55,3],[37,49,37,50],[38,49,38,50],[39,49,39,50],[40,49,40,50],[41,49,41,50],[42,49,42,50],[43,49,43,50],[44,49,44,50],[45,49,45,50],[28,49,28,50],[29,49,29,50],[30,49,30,50],[31,49,31,50],[32,49,32,50],[33,49,33,50],[34,49,34,50],[35,49,35,50],[36,49,36,50],[19,49,19,50],[20,49,20,50],[21,49,21,50],[22,49,22,50],[23,49,23,50],[24,49,24,50],[25,49,25,50],[26,49,26,50],[27,49,27,50],[47,34,47,36],[47,37,47,39],[47,40,47,42],[47,43,47,45],[47,46,47,48],[47,49,47,50],[4,49,4,50],[5,49,5,50],[6,49,6,50],[7,49,7,50],[8,49,8,50],[9,49,9,50],[10,49,10,50],[11,49,11,50],[12,49,12,50],[13,49,13,50],[14,49,14,50],[15,49,15,50],[16,49,16,50],[17,49,17,50],[18,49,18,50],[45,34,45,36],[45,37,45,39],[45,40,45,42],[42,34,42,36],[42,37,42,39],[42,40,42,42],[42,43,42,45],[42,46,42,48],[45,43,45,45],[45,46,45,48],[46,34,46,36],[46,37,46,39],[46,40,46,42],[46,43,46,45],[46,46,46,48],[43,34,43,36],[43,37,43,39],[43,40,43,42],[43,43,43,45],[43,46,43,48],[44,34,44,36],[44,37,44,39],[44,40,44,42],[44,43,44,45],[44,46,44,48],[40,34,40,36],[40,37,40,39],[40,40,40,42],[40,43,40,45],[40,46,40,48],[41,34,41,36],[41,37,41,39],[41,40,41,42],[41,43,41,45],[41,46,41,48],[38,34,38,36],[38,37,38,39],[38,40,38,42],[38,43,38,45],[38,46,38,48],[39,34,39,36],[39,37,39,39],[39,40,39,42],[39,43,39,45],[39,46,39,48],[36,34,36,36],[36,37,36,39],[36,40,36,42],[36,43,36,45],[36,46,36,48],[37,34,37,36],[37,37,37,39],[37,40,37,42],[37,43,37,45],[37,46,37,48],[34,34,34,36],[34,37,34,39],[34,40,34,42],[34,43,34,45],[34,46,34,48],[35,34,35,36],[35,37,35,39],[35,40,35,42],[35,43,35,45],[35,46,35,48],[32,34,32,36],[32,37,32,39],[32,40,32,42],[32,43,32,45],[32,46,32,48],[33,34,33,36],[33,37,33,39],[33,40,33,42],[33,43,33,45],[33,46,33,48],[30,34,30,36],[30,37,30,39],[30,40,30,42],[30,43,30,45],[30,46,30,48],[31,34,31,36],[31,37,31,39],[31,40,31,42],[31,43,31,45],[31,46,31,48],[28,34,28,36],[28,37,28,39],[28,40,28,42],[28,43,28,45],[28,46,28,48],[29,34,29,36],[29,37,29,39],[29,40,29,42],[29,43,29,45],[29,46,29,48],[26,34,26,36],[26,37,26,39],[26,40,26,42],[26,43,26,45],[26,46,26,48],[27,34,27,36],[27,37,27,39],[27,40,27,42],[27,43,27,45],[27,46,27,48],[21,34,21,36],[21,37,21,39],[21,40,21,42],[21,43,21,45],[21,46,21,48],[24,46,24,48],[25,34,25,36],[25,37,25,39],[25,40,25,42],[25,43,25,45],[25,46,25,48],[19,34,19,36],[19,37,19,39],[19,40,19,42],[19,43,19,45],[19,46,19,48],[20,34,20,36],[20,37,20,39],[20,40,20,42],[20,43,20,45],[20,46,20,48],[17,34,17,36],[17,37,17,39],[17,40,17,42],[17,43,17,45],[17,46,17,48],[18,34,18,36],[18,37,18,39],[18,40,18,42],[18,43,18,45],[18,46,18,48],[15,34,15,36],[15,37,15,39],[15,40,15,42],[15,43,15,45],[15,46,15,48],[16,34,16,36],[16,37,16,39],[16,40,16,42],[16,43,16,45],[16,46,16,48],[12,46,12,48],[13,34,13,36],[13,37,13,39],[13,40,13,42],[13,43,13,45],[13,46,13,48],[12,34,12,36],[14,34,14,36],[14,37,14,39],[14,40,14,42],[14,43,14,45],[14,46,14,48],[6,40,6,42],[6,43,6,45],[6,46,6,48],[10,37,10,39],[10,40,10,42],[10,43,10,45],[10,46,10,48],[11,34,11,36],[11,37,11,39],[11,40,11,42],[11,43,11,45],[11,46,11,48],[9,34,9,36],[7,43,7,45],[7,46,7,48],[8,34,8,36],[8,37,8,39],[8,40,8,42],[8,43,8,45],[8,46,8,48],[7,34,7,36],[9,37,9,39],[9,40,9,42],[9,43,9,45],[55,48,55,50],[49,45,49,47],[49,48,49,50],[53,36,53,38],[53,39,53,41],[53,42,53,44],[53,45,53,47],[50,36,50,38],[50,39,50,41],[50,42,50,44],[50,45,50,47],[50,48,50,50],[51,36,51,38],[51,39,51,41],[51,42,51,44],[51,45,51,47],[51,48,51,50],[52,36,52,38],[52,39,52,41],[52,42,52,44],[52,45,52,47],[52,48,52,50],[53,48,53,50],[49,36,49,38],[53,18,53,20],[53,21,53,23],[54,12,54,14],[54,15,54,17],[54,18,54,20],[54,21,54,23],[54,28,54,32],[55,45,55,47],[55,24,55,26],[55,28,55,32],[55,33,55,35],[55,36,55,38],[55,39,55,41],[55,42,55,44],[53,28,53,32],[53,33,53,35],[54,33,54,35],[54,36,54,38],[54,39,54,41],[54,42,54,44],[54,45,54,47],[54,48,54,50],[55,12,55,14],[55,15,55,17],[55,18,55,20],[55,21,55,23],[50,12,50,14],[50,15,50,17],[50,18,50,20],[50,21,50,23],[51,12,51,14],[51,15,51,17],[51,18,51,20],[51,21,51,23],[52,12,52,14],[52,15,52,17],[52,18,52,20],[52,21,52,23],[50,24,50,26],[51,24,51,26],[52,24,52,26],[53,24,53,26],[54,24,54,26],[53,12,53,14],[53,15,53,17],[53,4,53,8],[54,4,54,8],[55,4,55,8],[49,4,49,8],[50,9,50,11],[51,9,51,11],[52,9,52,11],[53,9,53,11],[54,9,54,11],[55,9,55,11],[49,9,49,11],[50,28,50,32],[50,33,50,35],[49,28,49,32],[41,31,41,33],[41,28,41,30],[51,4,51,8],[52,4,52,8],[49,21,49,23],[49,24,49,26],[49,33,49,35],[46,31,46,33],[46,28,46,30],[44,31,44,33],[44,28,44,30],[45,28,45,30],[47,10,47,12],[47,13,47,15],[47,16,47,18],[47,19,47,21],[45,10,45,12],[43,22,43,24],[43,25,43,27],[43,28,43,30],[46,4,46,6],[49,39,49,41],[49,42,49,44],[51,28,51,32],[51,33,51,35],[52,28,52,32],[52,33,52,35],[43,31,43,33],[42,28,42,30],[42,31,42,33],[48,0,48,33],[50,4,50,8],[49,12,49,14],[49,15,49,17],[49,18,49,20],[46,22,46,24],[46,25,46,27],[47,22,47,24],[44,22,44,24],[44,25,44,27],[45,22,45,24],[47,25,47,27],[45,25,45,27],[47,28,47,30],[47,31,47,33],[0,14,1,17],[46,19,46,21],[33,13,33,15],[33,16,33,18],[40,13,40,15],[40,16,40,18],[40,19,40,21],[40,22,40,24],[36,31,36,33],[35,19,35,21],[35,22,35,24],[35,25,35,27],[35,28,35,30],[37,31,37,33],[29,31,29,33],[29,19,29,21],[45,31,45,33],[44,19,44,21],[44,13,44,15],[44,16,44,18],[45,13,45,15],[45,16,45,18],[42,16,42,18],[41,16,41,18],[37,22,37,24],[37,16,37,18],[34,19,34,21],[34,22,34,24],[32,19,32,21],[32,22,32,24],[28,10,28,12],[28,13,28,15],[28,16,28,18],[30,16,30,18],[30,19,30,21],[30,22,30,24],[29,10,29,12],[29,13,29,15],[29,16,29,18],[28,22,28,24],[37,25,37,27],[37,28,37,30],[34,25,34,27],[41,4,41,6],[42,4,42,6],[42,7,42,9],[42,10,42,12],[42,13,42,15],[34,10,34,12],[34,13,34,15],[34,16,34,18],[35,10,35,12],[35,13,35,15],[35,16,35,18],[41,25,41,27],[42,25,42,27],[37,4,37,6],[37,7,37,9],[40,4,40,6],[40,7,40,9],[40,10,40,12],[41,19,41,21],[39,4,39,6],[38,4,38,6],[46,7,46,9],[46,10,46,12],[46,13,46,15],[46,16,46,18],[43,13,43,15],[43,16,43,18],[43,19,43,21],[44,4,44,6],[44,7,44,9],[44,10,44,12],[45,4,45,6],[45,7,45,9],[43,4,43,6],[43,7,43,9],[43,10,43,12],[41,22,41,24],[42,19,42,21],[42,22,42,24],[33,19,33,21],[33,22,33,24],[32,7,32,9],[32,10,32,12],[32,13,32,15],[32,16,32,18],[37,19,37,21],[39,7,39,9],[39,10,39,12],[39,13,39,15],[39,16,39,18],[38,7,38,9],[38,10,38,12],[38,13,38,15],[38,16,38,18],[37,10,37,12],[37,13,37,15],[41,7,41,9],[41,10,41,12],[41,13,41,15],[33,10,33,12],[38,31,38,33],[40,28,40,30],[40,31,40,33],[39,19,39,21],[39,22,39,24],[39,25,39,27],[39,28,39,30],[40,25,40,27],[39,31,39,33],[38,19,38,21],[38,22,38,24],[38,25,38,27],[32,4,32,6],[33,4,33,6],[35,4,35,6],[31,4,31,6],[30,4,30,6],[34,4,34,6],[34,7,34,9],[33,7,33,9],[38,28,38,30],[36,4,36,6],[36,7,36,9],[36,10,36,12],[36,13,36,15],[36,16,36,18],[36,19,36,21],[36,22,36,24],[36,25,36,27],[36,28,36,30],[35,7,35,9],[31,19,31,21],[31,22,31,24],[30,7,30,9],[30,10,30,12],[30,13,30,15],[31,7,31,9],[31,10,31,12],[31,13,31,15],[31,16,31,18],[35,31,35,33],[34,28,34,30],[34,31,34,33],[33,31,33,33],[30,28,30,30],[30,31,30,33],[31,28,31,30],[31,31,31,33],[31,25,31,27],[33,25,33,27],[33,28,33,30],[32,25,32,27],[32,28,32,30],[30,25,30,27],[32,31,32,33],[29,25,29,27],[21,19,21,21],[20,19,20,21],[22,4,22,6],[22,7,22,9],[22,10,22,12],[22,13,22,15],[22,16,22,18],[21,7,21,9],[21,10,21,12],[21,13,21,15],[21,16,21,18],[22,19,22,21],[29,4,29,6],[22,25,22,27],[27,25,27,27],[26,25,26,27],[25,10,25,12],[25,13,25,15],[25,16,25,18],[25,19,25,21],[25,22,25,24],[25,25,25,27],[29,22,29,24],[6,13,6,15],[6,16,6,18],[6,31,6,33],[6,22,6,24],[6,25,6,27],[19,16,19,18],[20,7,20,9],[20,10,20,12],[20,13,20,15],[20,16,20,18],[11,19,11,21],[11,22,11,24],[11,25,11,27],[10,22,10,24],[10,25,10,27],[17,28,17,30],[7,31,7,33],[20,25,20,27],[14,31,14,33],[15,25,15,27],[16,25,16,27],[15,16,15,18],[15,19,15,21],[13,19,13,21],[3,7,3,9],[3,10,3,12],[3,13,3,15],[3,16,3,18],[3,19,3,21],[4,22,4,24],[9,13,9,15],[9,16,9,18],[9,19,9,21],[5,19,5,21],[7,7,7,9],[7,10,7,12],[7,13,7,15],[7,16,7,18],[7,19,7,21],[6,19,6,21],[5,22,5,24],[7,22,7,24],[3,22,3,24],[8,19,8,21],[8,7,8,9],[8,10,8,12],[8,13,8,15],[8,16,8,18],[4,4,4,6],[4,7,4,9],[4,10,4,12],[4,13,4,15],[10,19,10,21],[8,25,8,27],[4,16,4,18],[4,19,4,21],[7,4,7,6],[8,4,8,6],[9,4,9,6],[9,7,9,9],[5,25,5,27],[5,4,5,6],[5,7,5,9],[5,10,5,12],[5,13,5,15],[5,16,5,18],[10,7,10,9],[10,10,10,12],[10,16,10,18],[6,4,6,6],[6,7,6,9],[6,10,6,12],[0,0,1,6],[0,7,1,12],[3,4,3,6],[47,4,47,6],[47,7,47,9],[13,4,13,6],[45,19,45,21],[20,4,20,6],[0,13,1,13],[0,18,1,28],[27,22,27,24],[21,22,21,24],[20,22,20,24],[23,28,23,30],[24,25,24,27],[23,4,23,6],[23,7,23,9],[23,10,23,12],[23,13,23,15],[23,16,23,18],[23,19,23,21],[23,22,23,24],[23,25,23,27],[28,7,28,9],[9,22,9,24],[9,25,9,27],[9,28,9,30],[9,31,9,33],[28,28,28,30],[28,31,28,33],[12,28,12,30],[12,31,12,33],[3,28,3,30],[3,31,3,33],[4,28,4,30],[4,31,4,33],[6,28,6,30],[11,28,11,30],[11,31,11,33],[10,31,10,33],[8,28,8,30],[8,31,8,33],[8,22,8,24],[3,25,3,27],[13,28,13,30],[13,31,13,33],[7,28,7,30],[7,25,7,27],[4,25,4,27],[5,28,5,30],[5,31,5,33],[3,34,3,36],[5,34,5,36],[10,34,10,36],[0,30,1,50],[3,37,3,39],[3,40,3,42],[3,43,3,45],[3,46,3,48],[4,34,4,36],[4,37,4,39],[4,40,4,42],[4,43,4,45],[4,46,4,48],[5,37,5,39],[5,40,5,42],[5,43,5,45],[5,46,5,48],[6,34,6,36],[6,37,6,39],[7,37,7,39],[7,40,7,42],[9,46,9,48],[24,28,24,30],[24,31,24,33],[25,28,25,30],[25,31,25,33],[26,28,26,30],[10,28,10,30],[22,34,22,36],[22,37,22,39],[22,40,22,42],[22,43,22,45],[22,46,22,48],[23,34,23,36],[23,37,23,39],[23,40,23,42],[23,43,23,45],[23,46,23,48],[24,34,24,36],[24,37,24,39],[24,40,24,42],[24,43,24,45],[12,37,12,39],[12,40,12,42],[12,43,12,45],[27,28,27,30],[22,28,22,30],[26,31,26,33],[22,31,22,33],[15,28,15,30],[15,31,15,33],[18,28,18,30],[18,31,18,33],[17,31,17,33],[27,31,27,33],[23,31,23,33],[21,28,21,30],[20,31,20,33],[16,31,16,33],[20,28,20,30],[19,31,19,33],[19,28,19,30],[21,31,21,33],[4,0,27,0],[28,0,47,0],[26,4,26,6],[26,7,26,9],[26,10,26,12],[26,13,26,15],[26,16,26,18],[26,19,26,21],[26,22,26,24],[24,4,24,6],[24,7,24,9],[24,10,24,12],[24,13,24,15],[24,16,24,18],[24,19,24,21],[24,22,24,24],[29,7,29,9],[12,4,12,6],[22,22,22,24],[27,19,27,21],[21,4,21,6],[11,13,11,15],[11,16,11,18],[10,4,10,6],[9,10,9,12],[10,13,10,15],[11,10,11,12],[12,10,12,12],[12,13,12,15],[25,4,25,6],[19,4,19,6],[14,4,14,6],[17,4,17,6],[18,4,18,6],[18,7,18,9],[11,4,11,6],[14,10,14,12],[14,13,14,15],[15,10,15,12],[15,13,15,15],[29,28,29,30],[14,28,14,30],[11,7,11,9],[13,7,13,9],[14,25,14,27],[16,28,16,30],[12,7,12,9],[15,7,15,9],[25,7,25,9],[15,22,15,24],[17,19,17,21],[17,22,17,24],[17,25,17,27],[18,25,18,27],[17,7,17,9],[17,10,17,12],[17,13,17,15],[17,16,17,18],[21,25,21,27],[14,16,14,18],[14,19,14,21],[14,22,14,24],[16,10,16,12],[16,13,16,15],[28,4,28,6],[12,25,12,27],[13,10,13,12],[13,13,13,15],[13,16,13,18],[16,16,16,18],[16,19,16,21],[16,4,16,6],[16,7,16,9],[13,25,13,27],[18,10,18,12],[18,13,18,15],[18,16,18,18],[18,19,18,21],[18,22,18,24],[19,19,19,21],[19,22,19,24],[19,25,19,27],[28,19,28,21],[15,4,15,6],[14,7,14,9],[27,4,27,6],[27,7,27,9],[27,10,27,12],[28,25,28,27],[19,7,19,9],[19,10,19,12],[19,13,19,15],[13,22,13,24],[12,16,12,18],[12,19,12,21],[12,22,12,24],[16,22,16,24],[27,13,27,15],[27,16,27,18]]}
[{"$f":"①初期設定!M1","v":"第２７回北海道陸上競技フェスティバル　兼　オホーツク陸協混成競技記録会"},null,null,null,null,null,null,"確認書",null,null,null,null,null,null,"団体名",null,null,null,{"$f":"入力表!L4","v":0},null,null,null,null,null,null,null,null,null,null,null,"１６人以上同一種目に参加した場合、１６人目からは氏名が出ませんので、別途確認して下さい。"]
[]
[]
[null,null,"数","種目",1,null,null,2,null,null,3,null,null,4,null,null,5,null,null,6,null,null,7,null,null,8,null,null,9,null,null,10,null,null,11,null,null,12,null,null,13,null,null,14,null,null,15,null,null,"実人数"]
["男子",1,{"$f":"IF(15-COUNTIF(E5:AW5,\"@\")=0,\"\",15-COUNTIF(E5:AW5,\"@\"))","v":""},{"$f":"IF(HLOOKUP(入力表!$E$4&\"男\",入力表!$DO$11:$EB$50,B5+4,FALSE)=\"*\",\"\",HLOOKUP(入力表!$E$4&\"男\",入力表!$DO$11:$EB$50,B5+4,FALSE))","v":{"$error":"#N/A"}},{"$f":"IF(ISERROR(VLOOKUP($D5&E$4,申込確認シート!$E$1:$F$120,2,FALSE)),\"@\",VLOOKUP($D5&E$4,申込確認シート!$E$1:$F$120,2,FALSE))","v":"@"},null,null,{"$f":"IF(ISERROR(VLOOKUP($D5&H$4,申込確認シート!$E$1:$F$120,2,FALSE)),\"@\",VLOOKUP($D5&H$4,申込確認シート!$E$1:$F$120,2,FALSE))","v":"@"},null,null,{"$f":"IF(ISERROR(VLOOKUP($D5&K$4,申込確認シート!$E$1:$F$120,2,FALSE)),\"@\",VLOOKUP($D5&K$4,申込確認シート!$E$1:$F$120,2,FALSE))","v":"@"},null,null,{"$f":"IF(ISERROR(VLOOKUP($D5&N$4,申込確認シート!$E$1:$F$120,2,FALSE)),\"@\",VLOOKUP($D5&N$4,申込確認シート!$E$1:$F$120,2,FALSE))","v":"@"},null,null,{"$f":"IF(ISERROR(VLOOKUP($D5&Q$4,申込確認シート!$E$1:$F$120,2,FALSE)),\"@\",VLOOKUP($D5&Q$4,申込確認シート!$E$1:$F$120,2,FALSE))","v":"@"},null,null,{"$f":"IF(ISERROR(VLOOKUP($D5&T$4,申込確認シート!$E$1:$F$120,2,FALSE)),\"@\",VLOOKUP($D5&T$4,申込確認シート!$E$1:$F$120,2,FALSE))","v":"@"},null,null,{"$f":"IF(ISERROR(VLOOKUP($D5&W$4,申込確認シート!$E$1:$F$120,2,FALSE)),\"@\",VLOOKUP($D5&W$4,申込確認シート!$E$1:$F$120,2,FALSE))","v":"@"},null,null,{"$f":"IF(ISERROR(VLOOKUP($D5&Z$4,申込確認シート!$E$1:$F$120,2,FALSE)),\"@\",VLOOKUP($D5&Z$4,申込確認シート!$E$1:$F$120,2,FALSE))","v":"@"},null,null,{"$f":"IF(ISERROR(VLOOKUP($D5&AC$4,申込確認シート!$E$1:$F$120,2,FALSE)),\"@\",VLOOKUP($D5&AC$4,申込確認シート!$E$1:$F$120,2,FALSE))","v":"@"},null,null,{"$f":"IF(ISERROR(VLOOKUP($D5&AF$4,申込確認シート!$E$1:$F$120,2,FALSE)),\"@\",VLOOKUP($D5&AF$4,申込確認シート!$E$1:$F$120,2,FALSE))","v":"@"},null,null,{"$f":"IF(ISERROR(VLOOKUP($D5&AI$4,申込確認シート!$E$1:$F$120,2,FALSE)),\"@\",VLOOKUP($D5&AI$4,申込確認シート!$E$1:$F$120,2,FALSE))","v":"@"},null,null,{"$f":"IF(ISERROR(VLOOKUP($D5&AL$4,申込確認シート!$E$1:$F$120,2,FALSE)),\"@\",VLOOKUP($D5&AL$4,申込確認シート!$E$1:$F$120,2,FALSE))","v":"@"},null,null,{"$f":"IF(ISERROR(VLOOKUP($D5&AO$4,申込確認シート!$E$1:$F$120,2,FALSE)),\"@\",VLOOKUP($D5&AO$4,申込確認シート!$E$1:$F$120,2,FALSE))","v":"@"},null,null,{"$f":"IF(ISERROR(VLOOKUP($D5&AR$4,申込確認シート!$E$1:$F$120,2,FALSE)),\"@\",VLOOKUP($D5&AR$4,申込確認シート!$E$1:$F$120,2,FALSE))","v":"@"},null,null,{"$f":"IF(ISERROR(VLOOKUP($D5&AU$4,申込確認シート!$E$1:$F$120,2,FALSE)),\"@\",VLOOKUP($D5&AU$4,申込確認シート!$E$1:$F$120,2,FALSE))","v":"@"},null,null,{"$f":"COUNTIF(申込確認シート!$C$1:$C$120,D5)","v":0}]
[null,2,{"$f":"IF(15-COUNTIF(E6:AW6,\"@\")=0,\"\",15-COUNTIF(E6:AW6,\"@\"))","v":""},{"$f":"IF(HLOOKUP(入力表!$E$4&\"男\",入力表!$DO$11:$EB$50,B6+4,FALSE)=\"*\",\"\",HLOOKUP(入力表!$E$4&\"男\",入力表!$DO$11:$EB$50,B6+4,FALSE))","v":{"$error":"#N/A"}},{"$f":"IF(ISERROR(VLOOKUP($D6&E$4,申込確認シート!$E$1:$F$120,2,FALSE)),\"@\",VLOOKUP($D6&E$4,申込確認シート!$E$1:$F$120,2,FALSE))","v":"@"},null,null,{"$f":"IF(ISERROR(VLOOKUP($D6&H$4,申込確認シート!$E$1:$F$120,2,FALSE)),\"@\",VLOOKUP($D6&H$4,申込確認シート!$E$1:$F$120,2,FALSE))","v":"@"},null,null,{"$f":"IF(ISERROR(VLOOKUP($D6&K$4,申込確認シート!$E$1:$F$120,2,FALSE)),\"@\",VLOOKUP($D6&K$4,申込確認シート!$E$1:$F$120,2,FALSE))","v":"@"},null,null,{"$f":"IF(ISERROR(VLOOKUP($D6&N$4,申込確認シート!$E$1:$F$120,2,FALSE)),\"@\",VLOOKUP($D6&N$4,申込確認シート!$E$1:$F$120,2,FALSE))","v":"@"},null,null,{"$f":"IF(ISERROR(VLOOKUP($D6&Q$4,申込確認シート!$E$1:$F$120,2,FALSE)),\"@\",VLOOKUP($D6&Q$4,申込確認シート!$E$1:$F$120,2,FALSE))","v":"@"},null,null,{"$f":"IF(ISERROR(VLOOKUP($D6&T$4,申込確認シート!$E$1:$F$120,2,FALSE)),\"@\",VLOOKUP($D6&T$4,申込確認シート!$E$1:$F$120,2,FALSE))","v":"@"},null,null,{"$f":"IF(ISERROR(VLOOKUP($D6&W$4,申込確認シート!$E$1:$F$120,2,FALSE)),\"@\",VLOOKUP($D6&W$4,申込確認シート!$E$1:$F$120,2,FALSE))","v":"@"},null,null,{"$f":"IF(ISERROR(VLOOKUP($D6&Z$4,申込確認シート!$E$1:$F$120,2,FALSE)),\"@\",VLOOKUP($D6&Z$4,申込確認シート!$E$1:$F$120,2,FALSE))","v":"@"},null,null,{"$f":"IF(ISERROR(VLOOKUP($D6&AC$4,申込確認シート!$E$1:$F$120,2,FALSE)),\"@\",VLOOKUP($D6&AC$4,申込確認シート!$E$1:$F$120,2,FALSE))","v":"@"},null,null,{"$f":"IF(ISERROR(VLOOKUP($D6&AF$4,申込確認シート!$E$1:$F$120,2,FALSE)),\"@\",VLOOKUP($D6&AF$4,申込確認シート!$E$1:$F$120,2,FALSE))","v":"@"},null,null,{"$f":"IF(ISERROR(VLOOKUP($D6&AI$4,申込確認シート!$E$1:$F$120,2,FALSE)),\"@\",VLOOKUP($D6&AI$4,申込確認シート!$E$1:$F$120,2,FALSE))","v":"@"},null,null,{"$f":"IF(ISERROR(VLOOKUP($D6&AL$4,申込確認シート!$E$1:$F$120,2,FALSE)),\"@\",VLOOKUP($D6&AL$4,申込確認シート!$E$1:$F$120,2,FALSE))","v":"@"},null,null,{"$f":"IF(ISERROR(VLOOKUP($D6&AO$4,申込確認シート!$E$1:$F$120,2,FALSE)),\"@\",VLOOKUP($D6&AO$4,申込確認シート!$E$1:$F$120,2,FALSE))","v":"@"},null,null,{"$f":"IF(ISERROR(VLOOKUP($D6&AR$4,申込確認シート!$E$1:$F$120,2,FALSE)),\"@\",VLOOKUP($D6&AR$4,申込確認シート!$E$1:$F$120,2,FALSE))","v":"@"},null,null,{"$f":"IF(ISERROR(VLOOKUP($D6&AU$4,申込確認シート!$E$1:$F$120,2,FALSE)),\"@\",VLOOKUP($D6&AU$4,申込確認シート!$E$1:$F$120,2,FALSE))","v":"@"},null,null,{"$f":"COUNTIF(申込確認シート!$C$1:$C$120,D6)","v":0}]
[null,3,"",{"$f":"IF(HLOOKUP(入力表!$E$4&\"男\",入力表!$DO$11:$EB$50,B7+4,FALSE)=\"*\",\"\",HLOOKUP(入力表!$E$4&\"男\",入力表!$DO$11:$EB$50,B7+4,FALSE))","v":{"$error":"#N/A"}},{"$f":"IF(ISERROR(VLOOKUP($D7&E$4,申込確認シート!$E$1:$F$120,2,FALSE)),\"@\",VLOOKUP($D7&E$4,申込確認シート!$E$1:$F$120,2,FALSE))","v":"@"},null,null,{"$f":"IF(ISERROR(VLOOKUP($D7&H$4,申込確認シート!$E$1:$F$120,2,FALSE)),\"@\",VLOOKUP($D7&H$4,申込確認シート!$E$1:$F$120,2,FALSE))","v":"@"},null,null,{"$f":"IF(ISERROR(VLOOKUP($D7&K$4,申込確認シート!$E$1:$F$120,2,FALSE)),\"@\",VLOOKUP($D7&K$4,申込確認シート!$E$1:$F$120,2,FALSE))","v":"@"},null,null,{"$f":"IF(ISERROR(VLOOKUP($D7&N$4,申込確認シート!$E$1:$F$120,2,FALSE)),\"@\",VLOOKUP($D7&N$4,申込確認シート!$E$1:$F$120,2,FALSE))","v":"@"},null,null,{"$f":"IF(ISERROR(VLOOKUP($D7&Q$4,申込確認シート!$E$1:$F$120,2,FALSE)),\"@\",VLOOKUP($D7&Q$4,申込確認シート!$E$1:$F$120,2,FALSE))","v":"@"},null,null,{"$f":"IF(ISERROR(VLOOKUP($D7&T$4,申込確認シート!$E$1:$F$120,2,FALSE)),\"@\",VLOOKUP($D7&T$4,申込確認シート!$E$1:$F$120,2,FALSE))","v":"@"},null,null,{"$f":"IF(ISERROR(VLOOKUP($D7&W$4,申込確認シート!$E$1:$F$120,2,FALSE)),\"@\",VLOOKUP($D7&W$4,申込確認シート!$E$1:$F$120,2,FALSE))","v":"@"},null,null,{"$f":"IF(ISERROR(VLOOKUP($D7&Z$4,申込確認シート!$E$1:$F$120,2,FALSE)),\"@\",VLOOKUP($D7&Z$4,申込確認シート!$E$1:$F$120,2,FALSE))","v":"@"},null,null,{"$f":"IF(ISERROR(VLOOKUP($D7&AC$4,申込確認シート!$E$1:$F$120,2,FALSE)),\"@\",VLOOKUP($D7&AC$4,申込確認シート!$E$1:$F$120,2,FALSE))","v":"@"},null,null,{"$f":"IF(ISERROR(VLOOKUP($D7&AF$4,申込確認シート!$E$1:$F$120,2,FALSE)),\"@\",VLOOKUP($D7&AF$4,申込確認シート!$E$1:$F$120,2,FALSE))","v":"@"},null,null,{"$f":"IF(ISERROR(VLOOKUP($D7&AI$4,申込確認シート!$E$1:$F$120,2,FALSE)),\"@\",VLOOKUP($D7&AI$4,申込確認シート!$E$1:$F$120,2,FALSE))","v":"@"},null,null,{"$f":"IF(ISERROR(VLOOKUP($D7&AL$4,申込確認シート!$E$1:$F$120,2,FALSE)),\"@\",VLOOKUP($D7&AL$4,申込確認シート!$E$1:$F$120,2,FALSE))","v":"@"},null,null,{"$f":"IF(ISERROR(VLOOKUP($D7&AO$4,申込確認シート!$E$1:$F$120,2,FALSE)),\"@\",VLOOKUP($D7&AO$4,申込確認シート!$E$1:$F$120,2,FALSE))","v":"@"},null,null,{"$f":"IF(ISERROR(VLOOKUP($D7&AR$4,申込確認シート!$E$1:$F$120,2,FALSE)),\"@\",VLOOKUP($D7&AR$4,申込確認シート!$E$1:$F$120,2,FALSE))","v":"@"},null,null,{"$f":"IF(ISERROR(VLOOKUP($D7&AU$4,申込確認シート!$E$1:$F$120,2,FALSE)),\"@\",VLOOKUP($D7&AU$4,申込確認シート!$E$1:$F$120,2,FALSE))","v":"@"},null,null,{"$f":"COUNTIF(申込確認シート!$C$1:$C$120,D7)","v":0}]
[null,4,"",{"$f":"IF(HLOOKUP(入力表!$E$4&\"男\",入力表!$DO$11:$EB$50,B8+4,FALSE)=\"*\",\"\",HLOOKUP(入力表!$E$4&\"男\",入力表!$DO$11:$EB$50,B8+4,FALSE))","v":{"$error":"#N/A"}},{"$f":"IF(ISERROR(VLOOKUP($D8&E$4,申込確認シート!$E$1:$F$120,2,FALSE)),\"@\",VLOOKUP($D8&E$4,申込確認シート!$E$1:$F$120,2,FALSE))","v":"@"},null,null,{"$f":"IF(ISERROR(VLOOKUP($D8&H$4,申込確認シート!$E$1:$F$120,2,FALSE)),\"@\",VLOOKUP($D8&H$4,申込確認シート!$E$1:$F$120,2,FALSE))","v":"@"},null,null,{"$f":"IF(ISERROR(VLOOKUP($D8&K$4,申込確認シート!$E$1:$F$120,2,FALSE)),\"@\",VLOOKUP($D8&K$4,申込確認シート!$E$1:$F$120,2,FALSE))","v":"@"},null,null,{"$f":"IF(ISERROR(VLOOKUP($D8&N$4,申込確認シート!$E$1:$F$120,2,FALSE)),\"@\",VLOOKUP($D8&N$4,申込確認シート!$E$1:$F$120,2,FALSE))","v":"@"},null,null,{"$f":"IF(ISERROR(VLOOKUP($D8&Q$4,申込確認シート!$E$1:$F$120,2,FALSE)),\"@\",VLOOKUP($D8&Q$4,申込確認シート!$E$1:$F$120,2,FALSE))","v":"@"},null,null,{"$f":"IF(ISERROR(VLOOKUP($D8&T$4,申込確認シート!$E$1:$F$120,2,FALSE)),\"@\",VLOOKUP($D8&T$4,申込確認シート!$E$1:$F$120,2,FALSE))","v":"@"},null,null,{"$f":"IF(ISERROR(VLOOKUP($D8&W$4,申込確認シート!$E$1:$F$120,2,FALSE)),\"@\",VLOOKUP($D8&W$4,申込確認シート!$E$1:$F$120,2,FALSE))","v":"@"},null,null,{"$f":"IF(ISERROR(VLOOKUP($D8&Z$4,申込確認シート!$E$1:$F$120,2,FALSE)),\"@\",VLOOKUP($D8&Z$4,申込確認シート!$E$1:$F$120,2,FALSE))","v":"@"},null,null,{"$f":"IF(ISERROR(VLOOKUP($D8&AC$4,申込確認シート!$E$1:$F$120,2,FALSE)),\"@\",VLOOKUP($D8&AC$4,申込確認シート!$E$1:$F$120,2,FALSE))","v":"@"},null,null,{"$f":"IF(ISERROR(VLOOKUP($D8&AF$4,申込確認シート!$E$1:$F$120,2,FALSE)),\"@\",VLOOKUP($D8&AF$4,申込確認シート!$E$1:$F$120,2,FALSE))","v":"@"},null,null,{"$f":"IF(ISERROR(VLOOKUP($D8&AI$4,申込確認シート!$E$1:$F$120,2,FALSE)),\"@\",VLOOKUP($D8&AI$4,申込確認シート!$E$1:$F$120,2,FALSE))","v":"@"},null,null,{"$f":"IF(ISERROR(VLOOKUP($D8&AL$4,申込確認シート!$E$1:$F$120,2,FALSE)),\"@\",VLOOKUP($D8&AL$4,申込確認シート!$E$1:$F$120,2,FALSE))","v":"@"},null,null,{"$f":"IF(ISERROR(VLOOKUP($D8&AO$4,申込確認シート!$E$1:$F$120,2,FALSE)),\"@\",VLOOKUP($D8&AO$4,申込確認シート!$E$1:$F$120,2,FALSE))","v":"@"},null,null,{"$f":"IF(ISERROR(VLOOKUP($D8&AR$4,申込確認シート!$E$1:$F$120,2,FALSE)),\"@\",VLOOKUP($D8&AR$4,申込確認シート!$E$1:$F$120,2,FALSE))","v":"@"},null,null,{"$f":"IF(ISERROR(VLOOKUP($D8&AU$4,申込確認シート!$E$1:$F$120,2,FALSE)),\"@\",VLOOKUP($D8&AU$4,申込確認シート!$E$1:$F$120,2,FALSE))","v":"@"},null,null,{"$f":"COUNTIF(申込確認シート!$C$1:$C$120,D8)","v":0}]
[null,5,"",{"$f":"IF(HLOOKUP(入力表!$E$4&\"男\",入力表!$DO$11:$EB$50,B9+4,FALSE)=\"*\",\"\",HLOOKUP(入力表!$E$4&\"男\",入力表!$DO$11:$EB$50,B9+4,FALSE))","v":{"$error":"#N/A"}},{"$f":"IF(ISERROR(VLOOKUP($D9&E$4,申込確認シート!$E$1:$F$120,2,FALSE)),\"@\",VLOOKUP($D9&E$4,申込確認シート!$E$1:$F$120,2,FALSE))","v":"@"},null,null,{"$f":"IF(ISERROR(VLOOKUP($D9&H$4,申込確認シート!$E$1:$F$120,2,FALSE)),\"@\",VLOOKUP($D9&H$4,申込確認シート!$E$1:$F$120,2,FALSE))","v":"@"},null,null,{"$f":"IF(ISERROR(VLOOKUP($D9&K$4,申込確認シート!$E$1:$F$120,2,FALSE)),\"@\",VLOOKUP($D9&K$4,申込確認シート!$E$1:$F$120,2,FALSE))","v":"@"},null,null,{"$f":"IF(ISERROR(VLOOKUP($D9&N$4,申込確認シート!$E$1:$F$120,2,FALSE)),\"@\",VLOOKUP($D9&N$4,申込確認シート!$E$1:$F$120,2,FALSE))","v":"@"},null,null,{"$f":"IF(ISERROR(VLOOKUP($D9&Q$4,申込確認シート!$E$1:$F$120,2,FALSE)),\"@\",VLOOKUP($D9&Q$4,申込確認シート!$E$1:$F$120,2,FALSE))","v":"@"},null,null,{"$f":"IF(ISERROR(VLOOKUP($D9&T$4,申込確認シート!$E$1:$F$120,2,FALSE)),\"@\",VLOOKUP($D9&T$4,申込確認シート!$E$1:$F$120,2,FALSE))","v":"@"},null,null,{"$f":"IF(ISERROR(VLOOKUP($D9&W$4,申込確認シート!$E$1:$F$120,2,FALSE)),\"@\",VLOOKUP($D9&W$4,申込確認シート!$E$1:$F$120,2,FALSE))","v":"@"},null,null,{"$f":"IF(ISERROR(VLOOKUP($D9&Z$4,申込確認シート!$E$1:$F$120,2,FALSE)),\"@\",VLOOKUP($D9&Z$4,申込確認シート!$E$1:$F$120,2,FALSE))","v":"@"},null,null,{"$f":"IF(ISERROR(VLOOKUP($D9&AC$4,申込確認シート!$E$1:$F$120,2,FALSE)),\"@\",VLOOKUP($D9&AC$4,申込確認シート!$E$1:$F$120,2,FALSE))","v":"@"},null,null,{"$f":"IF(ISERROR(VLOOKUP($D9&AF$4,申込確認シート!$E$1:$F$120,2,FALSE)),\"@\",VLOOKUP($D9&AF$4,申込確認シート!$E$1:$F$120,2,FALSE))","v":"@"},null,null,{"$f":"IF(ISERROR(VLOOKUP($D9&AI$4,申込確認シート!$E$1:$F$120,2,FALSE)),\"@\",VLOOKUP($D9&AI$4,申込確認シート!$E$1:$F$120,2,FALSE))","v":"@"},null,null,{"$f":"IF(ISERROR(VLOOKUP($D9&AL$4,申込確認シート!$E$1:$F$120,2,FALSE)),\"@\",VLOOKUP($D9&AL$4,申込確認シート!$E$1:$F$120,2,FALSE))","v":"@"},null,null,{"$f":"IF(ISERROR(VLOOKUP($D9&AO$4,申込確認シート!$E$1:$F$120,2,FALSE)),\"@\",VLOOKUP($D9&AO$4,申込確認シート!$E$1:$F$120,2,FALSE))","v":"@"},null,null,{"$f":"IF(ISERROR(VLOOKUP($D9&AR$4,申込確認シート!$E$1:$F$120,2,FALSE)),\"@\",VLOOKUP($D9&AR$4,申込確認シート!$E$1:$F$120,2,FALSE))","v":"@"},null,null,{"$f":"IF(ISERROR(VLOOKUP($D9&AU$4,申込確認シート!$E$1:$F$120,2,FALSE)),\"@\",VLOOKUP($D9&AU$4,申込確認シート!$E$1:$F$120,2,FALSE))","v":"@"},null,null,{"$f":"COUNTIF(申込確認シート!$C$1:$C$120,D9)","v":0}]
[null,6,"",{"$f":"IF(HLOOKUP(入力表!$E$4&\"男\",入力表!$DO$11:$EB$50,B10+4,FALSE)=\"*\",\"\",HLOOKUP(入力表!$E$4&\"男\",入力表!$DO$11:$EB$50,B10+4,FALSE))","v":{"$error":"#N/A"}},{"$f":"IF(ISERROR(VLOOKUP($D10&E$4,申込確認シート!$E$1:$F$120,2,FALSE)),\"@\",VLOOKUP($D10&E$4,申込確認シート!$E$1:$F$120,2,FALSE))","v":"@"},null,null,{"$f":"IF(ISERROR(VLOOKUP($D10&H$4,申込確認シート!$E$1:$F$120,2,FALSE)),\"@\",VLOOKUP($D10&H$4,申込確認シート!$E$1:$F$120,2,FALSE))","v":"@"},null,null,{"$f":"IF(ISERROR(VLOOKUP($D10&K$4,申込確認シート!$E$1:$F$120,2,FALSE)),\"@\",VLOOKUP($D10&K$4,申込確認シート!$E$1:$F$120,2,FALSE))","v":"@"},null,null,{"$f":"IF(ISERROR(VLOOKUP($D10&N$4,申込確認シート!$E$1:$F$120,2,FALSE)),\"@\",VLOOKUP($D10&N$4,申込確認シート!$E$1:$F$120,2,FALSE))","v":"@"},null,null,{"$f":"IF(ISERROR(VLOOKUP($D10&Q$4,申込確認シート!$E$1:$F$120,2,FALSE)),\"@\",VLOOKUP($D10&Q$4,申込確認シート!$E$1:$F$120,2,FALSE))","v":"@"},null,null,{"$f":"IF(ISERROR(VLOOKUP($D10&T$4,申込確認シート!$E$1:$F$120,2,FALSE)),\"@\",VLOOKUP($D10&T$4,申込確認シート!$E$1:$F$120,2,FALSE))","v":"@"},null,null,{"$f":"IF(ISERROR(VLOOKUP($D10&W$4,申込確認シート!$E$1:$F$120,2,FALSE)),\"@\",VLOOKUP($D10&W$4,申込確認シート!$E$1:$F$120,2,FALSE))","v":"@"},null,null,{"$f":"IF(ISERROR(VLOOKUP($D10&Z$4,申込確認シート!$E$1:$F$120,2,FALSE)),\"@\",VLOOKUP($D10&Z$4,申込確認シート!$E$1:$F$120,2,FALSE))","v":"@"},null,null,{"$f":"IF(ISERROR(VLOOKUP($D10&AC$4,申込確認シート!$E$1:$F$120,2,FALSE)),\"@\",VLOOKUP($D10&AC$4,申込確認シート!$E$1:$F$120,2,FALSE))","v":"@"},null,null,{"$f":"IF(ISERROR(VLOOKUP($D10&AF$4,申込確認シート!$E$1:$F$120,2,FALSE)),\"@\",VLOOKUP($D10&AF$4,申込確認シート!$E$1:$F$120,2,FALSE))","v":"@"},null,null,{"$f":"IF(ISERROR(VLOOKUP($D10&AI$4,申込確認シート!$E$1:$F$120,2,FALSE)),\"@\",VLOOKUP($D10&AI$4,申込確認シート!$E$1:$F$120,2,FALSE))","v":"@"},null,null,{"$f":"IF(ISERROR(VLOOKUP($D10&AL$4,申込確認シート!$E$1:$F$120,2,FALSE)),\"@\",VLOOKUP($D10&AL$4,申込確認シート!$E$1:$F$120,2,FALSE))","v":"@"},null,null,{"$f":"IF(ISERROR(VLOOKUP($D10&AO$4,申込確認シート!$E$1:$F$120,2,FALSE)),\"@\",VLOOKUP($D10&AO$4,申込確認シート!$E$1:$F$120,2,FALSE))","v":"@"},null,null,{"$f":"IF(ISERROR(VLOOKUP($D10&AR$4,申込確認シート!$E$1:$F$120,2,FALSE)),\"@\",VLOOKUP($D10&AR$4,申込確認シート!$E$1:$F$120,2,FALSE))","v":"@"},null,null,{"$f":"IF(ISERROR(VLOOKUP($D10&AU$4,申込確認シート!$E$1:$F$120,2,FALSE)),\"@\",VLOOKUP($D10&AU$4,申込確認シート!$E$1:$F$120,2,FALSE))","v":"@"},null,null,{"$f":"COUNTIF(申込確認シート!$C$1:$C$120,D10)","v":0}]
[null,7,"",{"$f":"IF(HLOOKUP(入力表!$E$4&\"男\",入力表!$DO$11:$EB$50,B11+4,FALSE)=\"*\",\"\",HLOOKUP(入力表!$E$4&\"男\",入力表!$DO$11:$EB$50,B11+4,FALSE))","v":{"$error":"#N/A"}},{"$f":"IF(ISERROR(VLOOKUP($D11&E$4,申込確認シート!$E$1:$F$120,2,FALSE)),\"@\",VLOOKUP($D11&E$4,申込確認シート!$E$1:$F$120,2,FALSE))","v":"@"},null,null,{"$f":"IF(ISERROR(VLOOKUP($D11&H$4,申込確認シート!$E$1:$F$120,2,FALSE)),\"@\",VLOOKUP($D11&H$4,申込確認シート!$E$1:$F$120,2,FALSE))","v":"@"},null,null,{"$f":"IF(ISERROR(VLOOKUP($D11&K$4,申込確認シート!$E$1:$F$120,2,FALSE)),\"@\",VLOOKUP($D11&K$4,申込確認シート!$E$1:$F$120,2,FALSE))","v":"@"},null,null,{"$f":"IF(ISERROR(VLOOKUP($D11&N$4,申込確認シート!$E$1:$F$120,2,FALSE)),\"@\",VLOOKUP($D11&N$4,申込確認シート!$E$1:$F$120,2,FALSE))","v":"@"},null,null,{"$f":"IF(ISERROR(VLOOKUP($D11&Q$4,申込確認シート!$E$1:$F$120,2,FALSE)),\"@\",VLOOKUP($D11&Q$4,申込確認シート!$E$1:$F$120,2,FALSE))","v":"@"},null,null,{"$f":"IF(ISERROR(VLOOKUP($D11&T$4,申込確認シート!$E$1:$F$120,2,FALSE)),\"@\",VLOOKUP($D11&T$4,申込確認シート!$E$1:$F$120,2,FALSE))","v":"@"},null,null,{"$f":"IF(ISERROR(VLOOKUP($D11&W$4,申込確認シート!$E$1:$F$120,2,FALSE)),\"@\",VLOOKUP($D11&W$4,申込確認シート!$E$1:$F$120,2,FALSE))","v":"@"},null,null,{"$f":"IF(ISERROR(VLOOKUP($D11&Z$4,申込確認シート!$E$1:$F$120,2,FALSE)),\"@\",VLOOKUP($D11&Z$4,申込確認シート!$E$1:$F$120,2,FALSE))","v":"@"},null,null,{"$f":"IF(ISERROR(VLOOKUP($D11&AC$4,申込確認シート!$E$1:$F$120,2,FALSE)),\"@\",VLOOKUP($D11&AC$4,申込確認シート!$E$1:$F$120,2,FALSE))","v":"@"},null,null,{"$f":"IF(ISERROR(VLOOKUP($D11&AF$4,申込確認シート!$E$1:$F$120,2,FALSE)),\"@\",VLOOKUP($D11&AF$4,申込確認シート!$E$1:$F$120,2,FALSE))","v":"@"},null,null,{"$f":"IF(ISERROR(VLOOKUP($D11&AI$4,申込確認シート!$E$1:$F$120,2,FALSE)),\"@\",VLOOKUP($D11&AI$4,申込確認シート!$E$1:$F$120,2,FALSE))","v":"@"},null,null,{"$f":"IF(ISERROR(VLOOKUP($D11&AL$4,申込確認シート!$E$1:$F$120,2,FALSE)),\"@\",VLOOKUP($D11&AL$4,申込確認シート!$E$1:$F$120,2,FALSE))","v":"@"},null,null,{"$f":"IF(ISERROR(VLOOKUP($D11&AO$4,申込確認シート!$E$1:$F$120,2,FALSE)),\"@\",VLOOKUP($D11&AO$4,申込確認シート!$E$1:$F$120,2,FALSE))","v":"@"},null,null,{"$f":"IF(ISERROR(VLOOKUP($D11&AR$4,申込確認シート!$E$1:$F$120,2,FALSE)),\"@\",VLOOKUP($D11&AR$4,申込確認シート!$E$1:$F$120,2,FALSE))","v":"@"},null,null,{"$f":"IF(ISERROR(VLOOKUP($D11&AU$4,申込確認シート!$E$1:$F$120,2,FALSE)),\"@\",VLOOKUP($D11&AU$4,申込確認シート!$E$1:$F$120,2,FALSE))","v":"@"},null,null,{"$f":"COUNTIF(申込確認シート!$C$1:$C$120,D11)","v":0}]
[null,8,"",{"$f":"IF(HLOOKUP(入力表!$E$4&\"男\",入力表!$DO$11:$EB$50,B12+4,FALSE)=\"*\",\"\",HLOOKUP(入力表!$E$4&\"男\",入力表!$DO$11:$EB$50,B12+4,FALSE))","v":{"$error":"#N/A"}},{"$f":"IF(ISERROR(VLOOKUP($D12&E$4,申込確認シート!$E$1:$F$120,2,FALSE)),\"@\",VLOOKUP($D12&E$4,申込確認シート!$E$1:$F$120,2,FALSE))","v":"@"},null,null,{"$f":"IF(ISERROR(VLOOKUP($D12&H$4,申込確認シート!$E$1:$F$120,2,FALSE)),\"@\",VLOOKUP($D12&H$4,申込確認シート!$E$1:$F$120,2,FALSE))","v":"@"},null,null,{"$f":"IF(ISERROR(VLOOKUP($D12&K$4,申込確認シート!$E$1:$F$120,2,FALSE)),\"@\",VLOOKUP($D12&K$4,申込確認シート!$E$1:$F$120,2,FALSE))","v":"@"},null,null,{"$f":"IF(ISERROR(VLOOKUP($D12&N$4,申込確認シート!$E$1:$F$120,2,FALSE)),\"@\",VLOOKUP($D12&N$4,申込確認シート!$E$1:$F$120,2,FALSE))","v":"@"},null,null,{"$f":"IF(ISERROR(VLOOKUP($D12&Q$4,申込確認シート!$E$1:$F$120,2,FALSE)),\"@\",VLOOKUP($D12&Q$4,申込確認シート!$E$1:$F$120,2,FALSE))","v":"@"},null,null,{"$f":"IF(ISERROR(VLOOKUP($D12&T$4,申込確認シート!$E$1:$F$120,2,FALSE)),\"@\",VLOOKUP($D12&T$4,申込確認シート!$E$1:$F$120,2,FALSE))","v":"@"},null,null,{"$f":"IF(ISERROR(VLOOKUP($D12&W$4,申込確認シート!$E$1:$F$120,2,FALSE)),\"@\",VLOOKUP($D12&W$4,申込確認シート!$E$1:$F$120,2,FALSE))","v":"@"},null,null,{"$f":"IF(ISERROR(VLOOKUP($D12&Z$4,申込確認シート!$E$1:$F$120,2,FALSE)),\"@\",VLOOKUP($D12&Z$4,申込確認シート!$E$1:$F$120,2,FALSE))","v":"@"},null,null,{"$f":"IF(ISERROR(VLOOKUP($D12&AC$4,申込確認シート!$E$1:$F$120,2,FALSE)),\"@\",VLOOKUP($D12&AC$4,申込確認シート!$E$1:$F$120,2,FALSE))","v":"@"},null,null,{"$f":"IF(ISERROR(VLOOKUP($D12&AF$4,申込確認シート!$E$1:$F$120,2,FALSE)),\"@\",VLOOKUP($D12&AF$4,申込確認シート!$E$1:$F$120,2,FALSE))","v":"@"},null,null,{"$f":"IF(ISERROR(VLOOKUP($D12&AI$4,申込確認シート!$E$1:$F$120,2,FALSE)),\"@\",VLOOKUP($D12&AI$4,申込確認シート!$E$1:$F$120,2,FALSE))","v":"@"},null,null,{"$f":"IF(ISERROR(VLOOKUP($D12&AL$4,申込確認シート!$E$1:$F$120,2,FALSE)),\"@\",VLOOKUP($D12&AL$4,申込確認シート!$E$1:$F$120,2,FALSE))","v":"@"},null,null,{"$f":"IF(ISERROR(VLOOKUP($D12&AO$4,申込確認シート!$E$1:$F$120,2,FALSE)),\"@\",VLOOKUP($D12&AO$4,申込確認シート!$E$1:$F$120,2,FALSE))","v":"@"},null,null,{"$f":"IF(ISERROR(VLOOKUP($D12&AR$4,申込確認シート!$E$1:$F$120,2,FALSE)),\"@\",VLOOKUP($D12&AR$4,申込確認シート!$E$1:$F$120,2,FALSE))","v":"@"},null,null,{"$f":"IF(ISERROR(VLOOKUP($D12&AU$4,申込確認シート!$E$1:$F$120,2,FALSE)),\"@\",VLOOKUP($D12&AU$4,申込確認シート!$E$1:$F$120,2,FALSE))","v":"@"},null,null,{"$f":"COUNTIF(申込確認シート!$C$1:$C$120,D12)","v":0}]
[null,9,"",{"$f":"IF(HLOOKUP(入力表!$E$4&\"男\",入力表!$DO$11:$EB$50,B13+4,FALSE)=\"*\",\"\",HLOOKUP(入力表!$E$4&\"男\",入力表!$DO$11:$EB$50,B13+4,FALSE))","v":{"$error":"#N/A"}},{"$f":"IF(ISERROR(VLOOKUP($D13&E$4,申込確認シート!$E$1:$F$120,2,FALSE)),\"@\",VLOOKUP($D13&E$4,申込確認シート!$E$1:$F$120,2,FALSE))","v":"@"},null,null,{"$f":"IF(ISERROR(VLOOKUP($D13&H$4,申込確認シート!$E$1:$F$120,2,FALSE)),\"@\",VLOOKUP($D13&H$4,申込確認シート!$E$1:$F$120,2,FALSE))","v":"@"},null,null,{"$f":"IF(ISERROR(VLOOKUP($D13&K$4,申込確認シート!$E$1:$F$120,2,FALSE)),\"@\",VLOOKUP($D13&K$4,申込確認シート!$E$1:$F$120,2,FALSE))","v":"@"},null,null,{"$f":"IF(ISERROR(VLOOKUP($D13&N$4,申込確認シート!$E$1:$F$120,2,FALSE)),\"@\",VLOOKUP($D13&N$4,申込確認シート!$E$1:$F$120,2,FALSE))","v":"@"},null,null,{"$f":"IF(ISERROR(VLOOKUP($D13&Q$4,申込確認シート!$E$1:$F$120,2,FALSE)),\"@\",VLOOKUP($D13&Q$4,申込確認シート!$E$1:$F$120,2,FALSE))","v":"@"},null,null,{"$f":"IF(ISERROR(VLOOKUP($D13&T$4,申込確認シート!$E$1:$F$120,2,FALSE)),\"@\",VLOOKUP($D13&T$4,申込確認シート!$E$1:$F$120,2,FALSE))","v":"@"},null,null,{"$f":"IF(ISERROR(VLOOKUP($D13&W$4,申込確認シート!$E$1:$F$120,2,FALSE)),\"@\",VLOOKUP($D13&W$4,申込確認シート!$E$1:$F$120,2,FALSE))","v":"@"},null,null,{"$f":"IF(ISERROR(VLOOKUP($D13&Z$4,申込確認シート!$E$1:$F$120,2,FALSE)),\"@\",VLOOKUP($D13&Z$4,申込確認シート!$E$1:$F$120,2,FALSE))","v":"@"},null,null,{"$f":"IF(ISERROR(VLOOKUP($D13&AC$4,申込確認シート!$E$1:$F$120,2,FALSE)),\"@\",VLOOKUP($D13&AC$4,申込確認シート!$E$1:$F$120,2,FALSE))","v":"@"},null,null,{"$f":"IF(ISERROR(VLOOKUP($D13&AF$4,申込確認シート!$E$1:$F$120,2,FALSE)),\"@\",VLOOKUP($D13&AF$4,申込確認シート!$E$1:$F$120,2,FALSE))","v":"@"},null,null,{"$f":"IF(ISERROR(VLOOKUP($D13&AI$4,申込確認シート!$E$1:$F$120,2,FALSE)),\"@\",VLOOKUP($D13&AI$4,申込確認シート!$E$1:$F$120,2,FALSE))","v":"@"},null,null,{"$f":"IF(ISERROR(VLOOKUP($D13&AL$4,申込確認シート!$E$1:$F$120,2,FALSE)),\"@\",VLOOKUP($D13&AL$4,申込確認シート!$E$1:$F$120,2,FALSE))","v":"@"},null,null,{"$f":"IF(ISERROR(VLOOKUP($D13&AO$4,申込確認シート!$E$1:$F$120,2,FALSE)),\"@\",VLOOKUP($D13&AO$4,申込確認シート!$E$1:$F$120,2,FALSE))","v":"@"},null,null,{"$f":"IF(ISERROR(VLOOKUP($D13&AR$4,申込確認シート!$E$1:$F$120,2,FALSE)),\"@\",VLOOKUP($D13&AR$4,申込確認シート!$E$1:$F$120,2,FALSE))","v":"@"},null,null,{"$f":"IF(ISERROR(VLOOKUP($D13&AU$4,申込確認シート!$E$1:$F$120,2,FALSE)),\"@\",VLOOKUP($D13&AU$4,申込確認シート!$E$1:$F$120,2,FALSE))","v":"@"},null,null,{"$f":"COUNTIF(申込確認シート!$C$1:$C$120,D13)","v":0}]
[null,10,"",{"$f":"IF(HLOOKUP(入力表!$E$4&\"男\",入力表!$DO$11:$EB$50,B14+4,FALSE)=\"*\",\"\",HLOOKUP(入力表!$E$4&\"男\",入力表!$DO$11:$EB$50,B14+4,FALSE))","v":{"$error":"#N/A"}},{"$f":"IF(ISERROR(VLOOKUP($D14&E$4,申込確認シート!$E$1:$F$120,2,FALSE)),\"@\",VLOOKUP($D14&E$4,申込確認シート!$E$1:$F$120,2,FALSE))","v":"@"},null,null,{"$f":"IF(ISERROR(VLOOKUP($D14&H$4,申込確認シート!$E$1:$F$120,2,FALSE)),\"@\",VLOOKUP($D14&H$4,申込確認シート!$E$1:$F$120,2,FALSE))","v":"@"},null,null,{"$f":"IF(ISERROR(VLOOKUP($D14&K$4,申込確認シート!$E$1:$F$120,2,FALSE)),\"@\",VLOOKUP($D14&K$4,申込確認シート!$E$1:$F$120,2,FALSE))","v":"@"},null,null,{"$f":"IF(ISERROR(VLOOKUP($D14&N$4,申込確認シート!$E$1:$F$120,2,FALSE)),\"@\",VLOOKUP($D14&N$4,申込確認シート!$E$1:$F$120,2,FALSE))","v":"@"},null,null,{"$f":"IF(ISERROR(VLOOKUP($D14&Q$4,申込確認シート!$E$1:$F$120,2,FALSE)),\"@\",VLOOKUP($D14&Q$4,申込確認シート!$E$1:$F$120,2,FALSE))","v":"@"},null,null,{"$f":"IF(ISERROR(VLOOKUP($D14&T$4,申込確認シート!$E$1:$F$120,2,FALSE)),\"@\",VLOOKUP($D14&T$4,申込確認シート!$E$1:$F$120,2,FALSE))","v":"@"},null,null,{"$f":"IF(ISERROR(VLOOKUP($D14&W$4,申込確認シート!$E$1:$F$120,2,FALSE)),\"@\",VLOOKUP($D14&W$4,申込確認シート!$E$1:$F$120,2,FALSE))","v":"@"},null,null,{"$f":"IF(ISERROR(VLOOKUP($D14&Z$4,申込確認シート!$E$1:$F$120,2,FALSE)),\"@\",VLOOKUP($D14&Z$4,申込確認シート!$E$1:$F$120,2,FALSE))","v":"@"},null,null,{"$f":"IF(ISERROR(VLOOKUP($D14&AC$4,申込確認シート!$E$1:$F$120,2,FALSE)),\"@\",VLOOKUP($D14&AC$4,申込確認シート!$E$1:$F$120,2,FALSE))","v":"@"},null,null,{"$f":"IF(ISERROR(VLOOKUP($D14&AF$4,申込確認シート!$E$1:$F$120,2,FALSE)),\"@\",VLOOKUP($D14&AF$4,申込確認シート!$E$1:$F$120,2,FALSE))","v":"@"},null,null,{"$f":"IF(ISERROR(VLOOKUP($D14&AI$4,申込確認シート!$E$1:$F$120,2,FALSE)),\"@\",VLOOKUP($D14&AI$4,申込確認シート!$E$1:$F$120,2,FALSE))","v":"@"},null,null,{"$f":"IF(ISERROR(VLOOKUP($D14&AL$4,申込確認シート!$E$1:$F$120,2,FALSE)),\"@\",VLOOKUP($D14&AL$4,申込確認シート!$E$1:$F$120,2,FALSE))","v":"@"},null,null,{"$f":"IF(ISERROR(VLOOKUP($D14&AO$4,申込確認シート!$E$1:$F$120,2,FALSE)),\"@\",VLOOKUP($D14&AO$4,申込確認シート!$E$1:$F$120,2,FALSE))","v":"@"},null,null,{"$f":"IF(ISERROR(VLOOKUP($D14&AR$4,申込確認シート!$E$1:$F$120,2,FALSE)),\"@\",VLOOKUP($D14&AR$4,申込確認シート!$E$1:$F$120,2,FALSE))","v":"@"},null,null,{"$f":"IF(ISERROR(VLOOKUP($D14&AU$4,申込確認シート!$E$1:$F$120,2,FALSE)),\"@\",VLOOKUP($D14&AU$4,申込確認シート!$E$1:$F$120,2,FALSE))","v":"@"},null,null,{"$f":"COUNTIF(申込確認シート!$C$1:$C$120,D14)","v":0}]
[null,11,"",{"$f":"IF(HLOOKUP(入力表!$E$4&\"男\",入力表!$DO$11:$EB$50,B15+4,FALSE)=\"*\",\"\",HLOOKUP(入力表!$E$4&\"男\",入力表!$DO$11:$EB$50,B15+4,FALSE))","v":{"$error":"#N/A"}},{"$f":"IF(ISERROR(VLOOKUP($D15&E$4,申込確認シート!$E$1:$F$120,2,FALSE)),\"@\",VLOOKUP($D15&E$4,申込確認シート!$E$1:$F$120,2,FALSE))","v":"@"},null,null,{"$f":"IF(ISERROR(VLOOKUP($D15&H$4,申込確認シート!$E$1:$F$120,2,FALSE)),\"@\",VLOOKUP($D15&H$4,申込確認シート!$E$1:$F$120,2,FALSE))","v":"@"},null,null,{"$f":"IF(ISERROR(VLOOKUP($D15&K$4,申込確認シート!$E$1:$F$120,2,FALSE)),\"@\",VLOOKUP($D15&K$4,申込確認シート!$E$1:$F$120,2,FALSE))","v":"@"},null,null,{"$f":"IF(ISERROR(VLOOKUP($D15&N$4,申込確認シート!$E$1:$F$120,2,FALSE)),\"@\",VLOOKUP($D15&N$4,申込確認シート!$E$1:$F$120,2,FALSE))","v":"@"},null,null,{"$f":"IF(ISERROR(VLOOKUP($D15&Q$4,申込確認シート!$E$1:$F$120,2,FALSE)),\"@\",VLOOKUP($D15&Q$4,申込確認シート!$E$1:$F$120,2,FALSE))","v":"@"},null,null,{"$f":"IF(ISERROR(VLOOKUP($D15&T$4,申込確認シート!$E$1:$F$120,2,FALSE)),\"@\",VLOOKUP($D15&T$4,申込確認シート!$E$1:$F$120,2,FALSE))","v":"@"},null,null,{"$f":"IF(ISERROR(VLOOKUP($D15&W$4,申込確認シート!$E$1:$F$120,2,FALSE)),\"@\",VLOOKUP($D15&W$4,申込確認シート!$E$1:$F$120,2,FALSE))","v":"@"},null,null,{"$f":"IF(ISERROR(VLOOKUP($D15&Z$4,申込確認シート!$E$1:$F$120,2,FALSE)),\"@\",VLOOKUP($D15&Z$4,申込確認シート!$E$1:$F$120,2,FALSE))","v":"@"},null,null,{"$f":"IF(ISERROR(VLOOKUP($D15&AC$4,申込確認シート!$E$1:$F$120,2,FALSE)),\"@\",VLOOKUP($D15&AC$4,申込確認シート!$E$1:$F$120,2,FALSE))","v":"@"},null,null,{"$f":"IF(ISERROR(VLOOKUP($D15&AF$4,申込確認シート!$E$1:$F$120,2,FALSE)),\"@\",VLOOKUP($D15&AF$4,申込確認シート!$E$1:$F$120,2,FALSE))","v":"@"},null,null,{"$f":"IF(ISERROR(VLOOKUP($D15&AI$4,申込確認シート!$E$1:$F$120,2,FALSE)),\"@\",VLOOKUP($D15&AI$4,申込確認シート!$E$1:$F$120,2,FALSE))","v":"@"},null,null,{"$f":"IF(ISERROR(VLOOKUP($D15&AL$4,申込確認シート!$E$1:$F$120,2,FALSE)),\"@\",VLOOKUP($D15&AL$4,申込確認シート!$E$1:$F$120,2,FALSE))","v":"@"},null,null,{"$f":"IF(ISERROR(VLOOKUP($D15&AO$4,申込確認シート!$E$1:$F$120,2,FALSE)),\"@\",VLOOKUP($D15&AO$4,申込確認シート!$E$1:$F$120,2,FALSE))","v":"@"},null,null,{"$f":"IF(ISERROR(VLOOKUP($D15&AR$4,申込確認シート!$E$1:$F$120,2,FALSE)),\"@\",VLOOKUP($D15&AR$4,申込確認シート!$E$1:$F$120,2,FALSE))","v":"@"},null,null,{"$f":"IF(ISERROR(VLOOKUP($D15&AU$4,申込確認シート!$E$1:$F$120,2,FALSE)),\"@\",VLOOKUP($D15&AU$4,申込確認シート!$E$1:$F$120,2,FALSE))","v":"@"},null,null,{"$f":"COUNTIF(申込確認シート!$C$1:$C$120,D15)","v":0}]
[null,12,"",{"$f":"IF(HLOOKUP(入力表!$E$4&\"男\",入力表!$DO$11:$EB$50,B16+4,FALSE)=\"*\",\"\",HLOOKUP(入力表!$E$4&\"男\",入力表!$DO$11:$EB$50,B16+4,FALSE))","v":{"$error":"#N/A"}},{"$f":"IF(ISERROR(VLOOKUP($D16&E$4,申込確認シート!$E$1:$F$120,2,FALSE)),\"@\",VLOOKUP($D16&E$4,申込確認シート!$E$1:$F$120,2,FALSE))","v":"@"},null,null,{"$f":"IF(ISERROR(VLOOKUP($D16&H$4,申込確認シート!$E$1:$F$120,2,FALSE)),\"@\",VLOOKUP($D16&H$4,申込確認シート!$E$1:$F$120,2,FALSE))","v":"@"},null,null,{"$f":"IF(ISERROR(VLOOKUP($D16&K$4,申込確認シート!$E$1:$F$120,2,FALSE)),\"@\",VLOOKUP($D16&K$4,申込確認シート!$E$1:$F$120,2,FALSE))","v":"@"},null,null,{"$f":"IF(ISERROR(VLOOKUP($D16&N$4,申込確認シート!$E$1:$F$120,2,FALSE)),\"@\",VLOOKUP($D16&N$4,申込確認シート!$E$1:$F$120,2,FALSE))","v":"@"},null,null,{"$f":"IF(ISERROR(VLOOKUP($D16&Q$4,申込確認シート!$E$1:$F$120,2,FALSE)),\"@\",VLOOKUP($D16&Q$4,申込確認シート!$E$1:$F$120,2,FALSE))","v":"@"},null,null,{"$f":"IF(ISERROR(VLOOKUP($D16&T$4,申込確認シート!$E$1:$F$120,2,FALSE)),\"@\",VLOOKUP($D16&T$4,申込確認シート!$E$1:$F$120,2,FALSE))","v":"@"},null,null,{"$f":"IF(ISERROR(VLOOKUP($D16&W$4,申込確認シート!$E$1:$F$120,2,FALSE)),\"@\",VLOOKUP($D16&W$4,申込確認シート!$E$1:$F$120,2,FALSE))","v":"@"},null,null,{"$f":"IF(ISERROR(VLOOKUP($D16&Z$4,申込確認シート!$E$1:$F$120,2,FALSE)),\"@\",VLOOKUP($D16&Z$4,申込確認シート!$E$1:$F$120,2,FALSE))","v":"@"},null,null,{"$f":"IF(ISERROR(VLOOKUP($D16&AC$4,申込確認シート!$E$1:$F$120,2,FALSE)),\"@\",VLOOKUP($D16&AC$4,申込確認シート!$E$1:$F$120,2,FALSE))","v":"@"},null,null,{"$f":"IF(ISERROR(VLOOKUP($D16&AF$4,申込確認シート!$E$1:$F$120,2,FALSE)),\"@\",VLOOKUP($D16&AF$4,申込確認シート!$E$1:$F$120,2,FALSE))","v":"@"},null,null,{"$f":"IF(ISERROR(VLOOKUP($D16&AI$4,申込確認シート!$E$1:$F$120,2,FALSE)),\"@\",VLOOKUP($D16&AI$4,申込確認シート!$E$1:$F$120,2,FALSE))","v":"@"},null,null,{"$f":"IF(ISERROR(VLOOKUP($D16&AL$4,申込確認シート!$E$1:$F$120,2,FALSE)),\"@\",VLOOKUP($D16&AL$4,申込確認シート!$E$1:$F$120,2,FALSE))","v":"@"},null,null,{"$f":"IF(ISERROR(VLOOKUP($D16&AO$4,申込確認シート!$E$1:$F$120,2,FALSE)),\"@\",VLOOKUP($D16&AO$4,申込確認シート!$E$1:$F$120,2,FALSE))","v":"@"},null,null,{"$f":"IF(ISERROR(VLOOKUP($D16&AR$4,申込確認シート!$E$1:$F$120,2,FALSE)),\"@\",VLOOKUP($D16&AR$4,申込確認シート!$E$1:$F$120,2,FALSE))","v":"@"},null,null,{"$f":"IF(ISERROR(VLOOKUP($D16&AU$4,申込確認シート!$E$1:$F$120,2,FALSE)),\"@\",VLOOKUP($D16&AU$4,申込確認シート!$E$1:$F$120,2,FALSE))","v":"@"},null,null,{"$f":"COUNTIF(申込確認シート!$C$1:$C$120,D16)","v":0}]
[null,13,"",{"$f":"IF(HLOOKUP(入力表!$E$4&\"男\",入力表!$DO$11:$EB$50,B17+4,FALSE)=\"*\",\"\",HLOOKUP(入力表!$E$4&\"男\",入力表!$DO$11:$EB$50,B17+4,FALSE))","v":{"$error":"#N/A"}},{"$f":"IF(ISERROR(VLOOKUP($D17&E$4,申込確認シート!$E$1:$F$120,2,FALSE)),\"@\",VLOOKUP($D17&E$4,申込確認シート!$E$1:$F$120,2,FALSE))","v":"@"},null,null,{"$f":"IF(ISERROR(VLOOKUP($D17&H$4,申込確認シート!$E$1:$F$120,2,FALSE)),\"@\",VLOOKUP($D17&H$4,申込確認シート!$E$1:$F$120,2,FALSE))","v":"@"},null,null,{"$f":"IF(ISERROR(VLOOKUP($D17&K$4,申込確認シート!$E$1:$F$120,2,FALSE)),\"@\",VLOOKUP($D17&K$4,申込確認シート!$E$1:$F$120,2,FALSE))","v":"@"},null,null,{"$f":"IF(ISERROR(VLOOKUP($D17&N$4,申込確認シート!$E$1:$F$120,2,FALSE)),\"@\",VLOOKUP($D17&N$4,申込確認シート!$E$1:$F$120,2,FALSE))","v":"@"},null,null,{"$f":"IF(ISERROR(VLOOKUP($D17&Q$4,申込確認シート!$E$1:$F$120,2,FALSE)),\"@\",VLOOKUP($D17&Q$4,申込確認シート!$E$1:$F$120,2,FALSE))","v":"@"},null,null,{"$f":"IF(ISERROR(VLOOKUP($D17&T$4,申込確認シート!$E$1:$F$120,2,FALSE)),\"@\",VLOOKUP($D17&T$4,申込確認シート!$E$1:$F$120,2,FALSE))","v":"@"},null,null,{"$f":"IF(ISERROR(VLOOKUP($D17&W$4,申込確認シート!$E$1:$F$120,2,FALSE)),\"@\",VLOOKUP($D17&W$4,申込確認シート!$E$1:$F$120,2,FALSE))","v":"@"},null,null,{"$f":"IF(ISERROR(VLOOKUP($D17&Z$4,申込確認シート!$E$1:$F$120,2,FALSE)),\"@\",VLOOKUP($D17&Z$4,申込確認シート!$E$1:$F$120,2,FALSE))","v":"@"},null,null,{"$f":"IF(ISERROR(VLOOKUP($D17&AC$4,申込確認シート!$E$1:$F$120,2,FALSE)),\"@\",VLOOKUP($D17&AC$4,申込確認シート!$E$1:$F$120,2,FALSE))","v":"@"},null,null,{"$f":"IF(ISERROR(VLOOKUP($D17&AF$4,申込確認シート!$E$1:$F$120,2,FALSE)),\"@\",VLOOKUP($D17&AF$4,申込確認シート!$E$1:$F$120,2,FALSE))","v":"@"},null,null,{"$f":"IF(ISERROR(VLOOKUP($D17&AI$4,申込確認シート!$E$1:$F$120,2,FALSE)),\"@\",VLOOKUP($D17&AI$4,申込確認シート!$E$1:$F$120,2,FALSE))","v":"@"},null,null,{"$f":"IF(ISERROR(VLOOKUP($D17&AL$4,申込確認シート!$E$1:$F$120,2,FALSE)),\"@\",VLOOKUP($D17&AL$4,申込確認シート!$E$1:$F$120,2,FALSE))","v":"@"},null,null,{"$f":"IF(ISERROR(VLOOKUP($D17&AO$4,申込確認シート!$E$1:$F$120,2,FALSE)),\"@\",VLOOKUP($D17&AO$4,申込確認シート!$E$1:$F$120,2,FALSE))","v":"@"},null,null,{"$f":"IF(ISERROR(VLOOKUP($D17&AR$4,申込確認シート!$E$1:$F$120,2,FALSE)),\"@\",VLOOKUP($D17&AR$4,申込確認シート!$E$1:$F$120,2,FALSE))","v":"@"},null,null,{"$f":"IF(ISERROR(VLOOKUP($D17&AU$4,申込確認シート!$E$1:$F$120,2,FALSE)),\"@\",VLOOKUP($D17&AU$4,申込確認シート!$E$1:$F$120,2,FALSE))","v":"@"},null,null,{"$f":"COUNTIF(申込確認シート!$C$1:$C$120,D17)","v":0}]
[null,14,"",{"$f":"IF(HLOOKUP(入力表!$E$4&\"男\",入力表!$DO$11:$EB$50,B18+4,FALSE)=\"*\",\"\",HLOOKUP(入力表!$E$4&\"男\",入力表!$DO$11:$EB$50,B18+4,FALSE))","v":{"$error":"#N/A"}},{"$f":"IF(ISERROR(VLOOKUP($D18&E$4,申込確認シート!$E$1:$F$120,2,FALSE)),\"@\",VLOOKUP($D18&E$4,申込確認シート!$E$1:$F$120,2,FALSE))","v":"@"},null,null,{"$f":"IF(ISERROR(VLOOKUP($D18&H$4,申込確認シート!$E$1:$F$120,2,FALSE)),\"@\",VLOOKUP($D18&H$4,申込確認シート!$E$1:$F$120,2,FALSE))","v":"@"},null,null,{"$f":"IF(ISERROR(VLOOKUP($D18&K$4,申込確認シート!$E$1:$F$120,2,FALSE)),\"@\",VLOOKUP($D18&K$4,申込確認シート!$E$1:$F$120,2,FALSE))","v":"@"},null,null,{"$f":"IF(ISERROR(VLOOKUP($D18&N$4,申込確認シート!$E$1:$F$120,2,FALSE)),\"@\",VLOOKUP($D18&N$4,申込確認シート!$E$1:$F$120,2,FALSE))","v":"@"},null,null,{"$f":"IF(ISERROR(VLOOKUP($D18&Q$4,申込確認シート!$E$1:$F$120,2,FALSE)),\"@\",VLOOKUP($D18&Q$4,申込確認シート!$E$1:$F$120,2,FALSE))","v":"@"},null,null,{"$f":"IF(ISERROR(VLOOKUP($D18&T$4,申込確認シート!$E$1:$F$120,2,FALSE)),\"@\",VLOOKUP($D18&T$4,申込確認シート!$E$1:$F$120,2,FALSE))","v":"@"},null,null,{"$f":"IF(ISERROR(VLOOKUP($D18&W$4,申込確認シート!$E$1:$F$120,2,FALSE)),\"@\",VLOOKUP($D18&W$4,申込確認シート!$E$1:$F$120,2,FALSE))","v":"@"},null,null,{"$f":"IF(ISERROR(VLOOKUP($D18&Z$4,申込確認シート!$E$1:$F$120,2,FALSE)),\"@\",VLOOKUP($D18&Z$4,申込確認シート!$E$1:$F$120,2,FALSE))","v":"@"},null,null,{"$f":"IF(ISERROR(VLOOKUP($D18&AC$4,申込確認シート!$E$1:$F$120,2,FALSE)),\"@\",VLOOKUP($D18&AC$4,申込確認シート!$E$1:$F$120,2,FALSE))","v":"@"},null,null,{"$f":"IF(ISERROR(VLOOKUP($D18&AF$4,申込確認シート!$E$1:$F$120,2,FALSE)),\"@\",VLOOKUP($D18&AF$4,申込確認シート!$E$1:$F$120,2,FALSE))","v":"@"},null,null,{"$f":"IF(ISERROR(VLOOKUP($D18&AI$4,申込確認シート!$E$1:$F$120,2,FALSE)),\"@\",VLOOKUP($D18&AI$4,申込確認シート!$E$1:$F$120,2,FALSE))","v":"@"},null,null,{"$f":"IF(ISERROR(VLOOKUP($D18&AL$4,申込確認シート!$E$1:$F$120,2,FALSE)),\"@\",VLOOKUP($D18&AL$4,申込確認シート!$E$1:$F$120,2,FALSE))","v":"@"},null,null,{"$f":"IF(ISERROR(VLOOKUP($D18&AO$4,申込確認シート!$E$1:$F$120,2,FALSE)),\"@\",VLOOKUP($D18&AO$4,申込確認シート!$E$1:$F$120,2,FALSE))","v":"@"},null,null,{"$f":"IF(ISERROR(VLOOKUP($D18&AR$4,申込確認シート!$E$1:$F$120,2,FALSE)),\"@\",VLOOKUP($D18&AR$4,申込確認シート!$E$1:$F$120,2,FALSE))","v":"@"},null,null,{"$f":"IF(ISERROR(VLOOKUP($D18&AU$4,申込確認シート!$E$1:$F$120,2,FALSE)),\"@\",VLOOKUP($D18&AU$4,申込確認シート!$E$1:$F$120,2,FALSE))","v":"@"},null,null,{"$f":"COUNTIF(申込確認シート!$C$1:$C$120,D18)","v":0}]
[null,15,"",{"$f":"IF(HLOOKUP(入力表!$E$4&\"男\",入力表!$DO$11:$EB$50,B19+4,FALSE)=\"*\",\"\",HLOOKUP(入力表!$E$4&\"男\",入力表!$DO$11:$EB$50,B19+4,FALSE))","v":{"$error":"#N/A"}},{"$f":"IF(ISERROR(VLOOKUP($D19&E$4,申込確認シート!$E$1:$F$120,2,FALSE)),\"@\",VLOOKUP($D19&E$4,申込確認シート!$E$1:$F$120,2,FALSE))","v":"@"},null,null,{"$f":"IF(ISERROR(VLOOKUP($D19&H$4,申込確認シート!$E$1:$F$120,2,FALSE)),\"@\",VLOOKUP($D19&H$4,申込確認シート!$E$1:$F$120,2,FALSE))","v":"@"},null,null,{"$f":"IF(ISERROR(VLOOKUP($D19&K$4,申込確認シート!$E$1:$F$120,2,FALSE)),\"@\",VLOOKUP($D19&K$4,申込確認シート!$E$1:$F$120,2,FALSE))","v":"@"},null,null,{"$f":"IF(ISERROR(VLOOKUP($D19&N$4,申込確認シート!$E$1:$F$120,2,FALSE)),\"@\",VLOOKUP($D19&N$4,申込確認シート!$E$1:$F$120,2,FALSE))","v":"@"},null,null,{"$f":"IF(ISERROR(VLOOKUP($D19&Q$4,申込確認シート!$E$1:$F$120,2,FALSE)),\"@\",VLOOKUP($D19&Q$4,申込確認シート!$E$1:$F$120,2,FALSE))","v":"@"},null,null,{"$f":"IF(ISERROR(VLOOKUP($D19&T$4,申込確認シート!$E$1:$F$120,2,FALSE)),\"@\",VLOOKUP($D19&T$4,申込確認シート!$E$1:$F$120,2,FALSE))","v":"@"},null,null,{"$f":"IF(ISERROR(VLOOKUP($D19&W$4,申込確認シート!$E$1:$F$120,2,FALSE)),\"@\",VLOOKUP($D19&W$4,申込確認シート!$E$1:$F$120,2,FALSE))","v":"@"},null,null,{"$f":"IF(ISERROR(VLOOKUP($D19&Z$4,申込確認シート!$E$1:$F$120,2,FALSE)),\"@\",VLOOKUP($D19&Z$4,申込確認シート!$E$1:$F$120,2,FALSE))","v":"@"},null,null,{"$f":"IF(ISERROR(VLOOKUP($D19&AC$4,申込確認シート!$E$1:$F$120,2,FALSE)),\"@\",VLOOKUP($D19&AC$4,申込確認シート!$E$1:$F$120,2,FALSE))","v":"@"},null,null,{"$f":"IF(ISERROR(VLOOKUP($D19&AF$4,申込確認シート!$E$1:$F$120,2,FALSE)),\"@\",VLOOKUP($D19&AF$4,申込確認シート!$E$1:$F$120,2,FALSE))","v":"@"},null,null,{"$f":"IF(ISERROR(VLOOKUP($D19&AI$4,申込確認シート!$E$1:$F$120,2,FALSE)),\"@\",VLOOKUP($D19&AI$4,申込確認シート!$E$1:$F$120,2,FALSE))","v":"@"},null,null,{"$f":"IF(ISERROR(VLOOKUP($D19&AL$4,申込確認シート!$E$1:$F$120,2,FALSE)),\"@\",VLOOKUP($D19&AL$4,申込確認シート!$E$1:$F$120,2,FALSE))","v":"@"},null,null,{"$f":"IF(ISERROR(VLOOKUP($D19&AO$4,申込確認シート!$E$1:$F$120,2,FALSE)),\"@\",VLOOKUP($D19&AO$4,申込確認シート!$E$1:$F$120,2,FALSE))","v":"@"},null,null,{"$f":"IF(ISERROR(VLOOKUP($D19&AR$4,申込確認シート!$E$1:$F$120,2,FALSE)),\"@\",VLOOKUP($D19&AR$4,申込確認シート!$E$1:$F$120,2,FALSE))","v":"@"},null,null,{"$f":"IF(ISERROR(VLOOKUP($D19&AU$4,申込確認シート!$E$1:$F$120,2,FALSE)),\"@\",VLOOKUP($D19&AU$4,申込確認シート!$E$1:$F$120,2,FALSE))","v":"@"},null,null,{"$f":"COUNTIF(申込確認シート!$C$1:$C$120,D19)","v":0}]
[null,16,"",{"$f":"IF(HLOOKUP(入力表!$E$4&\"男\",入力表!$DO$11:$EB$50,B20+4,FALSE)=\"*\",\"\",HLOOKUP(入力表!$E$4&\"男\",入力表!$DO$11:$EB$50,B20+4,FALSE))","v":{"$error":"#N/A"}},{"$f":"IF(ISERROR(VLOOKUP($D20&E$4,申込確認シート!$E$1:$F$120,2,FALSE)),\"@\",VLOOKUP($D20&E$4,申込確認シート!$E$1:$F$120,2,FALSE))","v":"@"},null,null,{"$f":"IF(ISERROR(VLOOKUP($D20&H$4,申込確認シート!$E$1:$F$120,2,FALSE)),\"@\",VLOOKUP($D20&H$4,申込確認シート!$E$1:$F$120,2,FALSE))","v":"@"},null,null,{"$f":"IF(ISERROR(VLOOKUP($D20&K$4,申込確認シート!$E$1:$F$120,2,FALSE)),\"@\",VLOOKUP($D20&K$4,申込確認シート!$E$1:$F$120,2,FALSE))","v":"@"},null,null,{"$f":"IF(ISERROR(VLOOKUP($D20&N$4,申込確認シート!$E$1:$F$120,2,FALSE)),\"@\",VLOOKUP($D20&N$4,申込確認シート!$E$1:$F$120,2,FALSE))","v":"@"},null,null,{"$f":"IF(ISERROR(VLOOKUP($D20&Q$4,申込確認シート!$E$1:$F$120,2,FALSE)),\"@\",VLOOKUP($D20&Q$4,申込確認シート!$E$1:$F$120,2,FALSE))","v":"@"},null,null,{"$f":"IF(ISERROR(VLOOKUP($D20&T$4,申込確認シート!$E$1:$F$120,2,FALSE)),\"@\",VLOOKUP($D20&T$4,申込確認シート!$E$1:$F$120,2,FALSE))","v":"@"},null,null,{"$f":"IF(ISERROR(VLOOKUP($D20&W$4,申込確認シート!$E$1:$F$120,2,FALSE)),\"@\",VLOOKUP($D20&W$4,申込確認シート!$E$1:$F$120,2,FALSE))","v":"@"},null,null,{"$f":"IF(ISERROR(VLOOKUP($D20&Z$4,申込確認シート!$E$1:$F$120,2,FALSE)),\"@\",VLOOKUP($D20&Z$4,申込確認シート!$E$1:$F$120,2,FALSE))","v":"@"},null,null,{"$f":"IF(ISERROR(VLOOKUP($D20&AC$4,申込確認シート!$E$1:$F$120,2,FALSE)),\"@\",VLOOKUP($D20&AC$4,申込確認シート!$E$1:$F$120,2,FALSE))","v":"@"},null,null,{"$f":"IF(ISERROR(VLOOKUP($D20&AF$4,申込確認シート!$E$1:$F$120,2,FALSE)),\"@\",VLOOKUP($D20&AF$4,申込確認シート!$E$1:$F$120,2,FALSE))","v":"@"},null,null,{"$f":"IF(ISERROR(VLOOKUP($D20&AI$4,申込確認シート!$E$1:$F$120,2,FALSE)),\"@\",VLOOKUP($D20&AI$4,申込確認シート!$E$1:$F$120,2,FALSE))","v":"@"},null,null,{"$f":"IF(ISERROR(VLOOKUP($D20&AL$4,申込確認シート!$E$1:$F$120,2,FALSE)),\"@\",VLOOKUP($D20&AL$4,申込確認シート!$E$1:$F$120,2,FALSE))","v":"@"},null,null,{"$f":"IF(ISERROR(VLOOKUP($D20&AO$4,申込確認シート!$E$1:$F$120,2,FALSE)),\"@\",VLOOKUP($D20&AO$4,申込確認シート!$E$1:$F$120,2,FALSE))","v":"@"},null,null,{"$f":"IF(ISERROR(VLOOKUP($D20&AR$4,申込確認シート!$E$1:$F$120,2,FALSE)),\"@\",VLOOKUP($D20&AR$4,申込確認シート!$E$1:$F$120,2,FALSE))","v":"@"},null,null,{"$f":"IF(ISERROR(VLOOKUP($D20&AU$4,申込確認シート!$E$1:$F$120,2,FALSE)),\"@\",VLOOKUP($D20&AU$4,申込確認シート!$E$1:$F$120,2,FALSE))","v":"@"},null,null,{"$f":"COUNTIF(申込確認シート!$C$1:$C$120,D20)","v":0}]
[null,17,"",{"$f":"IF(HLOOKUP(入力表!$E$4&\"男\",入力表!$DO$11:$EB$50,B21+4,FALSE)=\"*\",\"\",HLOOKUP(入力表!$E$4&\"男\",入力表!$DO$11:$EB$50,B21+4,FALSE))","v":{"$error":"#N/A"}},{"$f":"IF(ISERROR(VLOOKUP($D21&E$4,申込確認シート!$E$1:$F$120,2,FALSE)),\"@\",VLOOKUP($D21&E$4,申込確認シート!$E$1:$F$120,2,FALSE))","v":"@"},null,null,{"$f":"IF(ISERROR(VLOOKUP($D21&H$4,申込確認シート!$E$1:$F$120,2,FALSE)),\"@\",VLOOKUP($D21&H$4,申込確認シート!$E$1:$F$120,2,FALSE))","v":"@"},null,null,{"$f":"IF(ISERROR(VLOOKUP($D21&K$4,申込確認シート!$E$1:$F$120,2,FALSE)),\"@\",VLOOKUP($D21&K$4,申込確認シート!$E$1:$F$120,2,FALSE))","v":"@"},null,null,{"$f":"IF(ISERROR(VLOOKUP($D21&N$4,申込確認シート!$E$1:$F$120,2,FALSE)),\"@\",VLOOKUP($D21&N$4,申込確認シート!$E$1:$F$120,2,FALSE))","v":"@"},null,null,{"$f":"IF(ISERROR(VLOOKUP($D21&Q$4,申込確認シート!$E$1:$F$120,2,FALSE)),\"@\",VLOOKUP($D21&Q$4,申込確認シート!$E$1:$F$120,2,FALSE))","v":"@"},null,null,{"$f":"IF(ISERROR(VLOOKUP($D21&T$4,申込確認シート!$E$1:$F$120,2,FALSE)),\"@\",VLOOKUP($D21&T$4,申込確認シート!$E$1:$F$120,2,FALSE))","v":"@"},null,null,{"$f":"IF(ISERROR(VLOOKUP($D21&W$4,申込確認シート!$E$1:$F$120,2,FALSE)),\"@\",VLOOKUP($D21&W$4,申込確認シート!$E$1:$F$120,2,FALSE))","v":"@"},null,null,{"$f":"IF(ISERROR(VLOOKUP($D21&Z$4,申込確認シート!$E$1:$F$120,2,FALSE)),\"@\",VLOOKUP($D21&Z$4,申込確認シート!$E$1:$F$120,2,FALSE))","v":"@"},null,null,{"$f":"IF(ISERROR(VLOOKUP($D21&AC$4,申込確認シート!$E$1:$F$120,2,FALSE)),\"@\",VLOOKUP($D21&AC$4,申込確認シート!$E$1:$F$120,2,FALSE))","v":"@"},null,null,{"$f":"IF(ISERROR(VLOOKUP($D21&AF$4,申込確認シート!$E$1:$F$120,2,FALSE)),\"@\",VLOOKUP($D21&AF$4,申込確認シート!$E$1:$F$120,2,FALSE))","v":"@"},null,null,{"$f":"IF(ISERROR(VLOOKUP($D21&AI$4,申込確認シート!$E$1:$F$120,2,FALSE)),\"@\",VLOOKUP($D21&AI$4,申込確認シート!$E$1:$F$120,2,FALSE))","v":"@"},null,null,{"$f":"IF(ISERROR(VLOOKUP($D21&AL$4,申込確認シート!$E$1:$F$120,2,FALSE)),\"@\",VLOOKUP($D21&AL$4,申込確認シート!$E$1:$F$120,2,FALSE))","v":"@"},null,null,{"$f":"IF(ISERROR(VLOOKUP($D21&AO$4,申込確認シート!$E$1:$F$120,2,FALSE)),\"@\",VLOOKUP($D21&AO$4,申込確認シート!$E$1:$F$120,2,FALSE))","v":"@"},null,null,{"$f":"IF(ISERROR(VLOOKUP($D21&AR$4,申込確認シート!$E$1:$F$120,2,FALSE)),\"@\",VLOOKUP($D21&AR$4,申込確認シート!$E$1:$F$120,2,FALSE))","v":"@"},null,null,{"$f":"IF(ISERROR(VLOOKUP($D21&AU$4,申込確認シート!$E$1:$F$120,2,FALSE)),\"@\",VLOOKUP($D21&AU$4,申込確認シート!$E$1:$F$120,2,FALSE))","v":"@"},null,null,{"$f":"COUNTIF(申込確認シート!$C$1:$C$120,D21)","v":0}]
[null,18,"",{"$f":"IF(HLOOKUP(入力表!$E$4&\"男\",入力表!$DO$11:$EB$50,B22+4,FALSE)=\"*\",\"\",HLOOKUP(入力表!$E$4&\"男\",入力表!$DO$11:$EB$50,B22+4,FALSE))","v":{"$error":"#N/A"}},{"$f":"IF(ISERROR(VLOOKUP($D22&E$4,申込確認シート!$E$1:$F$120,2,FALSE)),\"@\",VLOOKUP($D22&E$4,申込確認シート!$E$1:$F$120,2,FALSE))","v":"@"},null,null,{"$f":"IF(ISERROR(VLOOKUP($D22&H$4,申込確認シート!$E$1:$F$120,2,FALSE)),\"@\",VLOOKUP($D22&H$4,申込確認シート!$E$1:$F$120,2,FALSE))","v":"@"},null,null,{"$f":"IF(ISERROR(VLOOKUP($D22&K$4,申込確認シート!$E$1:$F$120,2,FALSE)),\"@\",VLOOKUP($D22&K$4,申込確認シート!$E$1:$F$120,2,FALSE))","v":"@"},null,null,{"$f":"IF(ISERROR(VLOOKUP($D22&N$4,申込確認シート!$E$1:$F$120,2,FALSE)),\"@\",VLOOKUP($D22&N$4,申込確認シート!$E$1:$F$120,2,FALSE))","v":"@"},null,null,{"$f":"IF(ISERROR(VLOOKUP($D22&Q$4,申込確認シート!$E$1:$F$120,2,FALSE)),\"@\",VLOOKUP($D22&Q$4,申込確認シート!$E$1:$F$120,2,FALSE))","v":"@"},null,null,{"$f":"IF(ISERROR(VLOOKUP($D22&T$4,申込確認シート!$E$1:$F$120,2,FALSE)),\"@\",VLOOKUP($D22&T$4,申込確認シート!$E$1:$F$120,2,FALSE))","v":"@"},null,null,{"$f":"IF(ISERROR(VLOOKUP($D22&W$4,申込確認シート!$E$1:$F$120,2,FALSE)),\"@\",VLOOKUP($D22&W$4,申込確認シート!$E$1:$F$120,2,FALSE))","v":"@"},null,null,{"$f":"IF(ISERROR(VLOOKUP($D22&Z$4,申込確認シート!$E$1:$F$120,2,FALSE)),\"@\",VLOOKUP($D22&Z$4,申込確認シート!$E$1:$F$120,2,FALSE))","v":"@"},null,null,{"$f":"IF(ISERROR(VLOOKUP($D22&AC$4,申込確認シート!$E$1:$F$120,2,FALSE)),\"@\",VLOOKUP($D22&AC$4,申込確認シート!$E$1:$F$120,2,FALSE))","v":"@"},null,null,{"$f":"IF(ISERROR(VLOOKUP($D22&AF$4,申込確認シート!$E$1:$F$120,2,FALSE)),\"@\",VLOOKUP($D22&AF$4,申込確認シート!$E$1:$F$120,2,FALSE))","v":"@"},null,null,{"$f":"IF(ISERROR(VLOOKUP($D22&AI$4,申込確認シート!$E$1:$F$120,2,FALSE)),\"@\",VLOOKUP($D22&AI$4,申込確認シート!$E$1:$F$120,2,FALSE))","v":"@"},null,null,{"$f":"IF(ISERROR(VLOOKUP($D22&AL$4,申込確認シート!$E$1:$F$120,2,FALSE)),\"@\",VLOOKUP($D22&AL$4,申込確認シート!$E$1:$F$120,2,FALSE))","v":"@"},null,null,{"$f":"IF(ISERROR(VLOOKUP($D22&AO$4,申込確認シート!$E$1:$F$120,2,FALSE)),\"@\",VLOOKUP($D22&AO$4,申込確認シート!$E$1:$F$120,2,FALSE))","v":"@"},null,null,{"$f":"IF(ISERROR(VLOOKUP($D22&AR$4,申込確認シート!$E$1:$F$120,2,FALSE)),\"@\",VLOOKUP($D22&AR$4,申込確認シート!$E$1:$F$120,2,FALSE))","v":"@"},null,null,{"$f":"IF(ISERROR(VLOOKUP($D22&AU$4,申込確認シート!$E$1:$F$120,2,FALSE)),\"@\",VLOOKUP($D22&AU$4,申込確認シート!$E$1:$F$120,2,FALSE))","v":"@"},null,null,{"$f":"COUNTIF(申込確認シート!$C$1:$C$120,D22)","v":0}]
[null,19,"",{"$f":"IF(HLOOKUP(入力表!$E$4&\"男\",入力表!$DO$11:$EB$50,B23+4,FALSE)=\"*\",\"\",HLOOKUP(入力表!$E$4&\"男\",入力表!$DO$11:$EB$50,B23+4,FALSE))","v":{"$error":"#N/A"}},{"$f":"IF(ISERROR(VLOOKUP($D23&E$4,申込確認シート!$E$1:$F$120,2,FALSE)),\"@\",VLOOKUP($D23&E$4,申込確認シート!$E$1:$F$120,2,FALSE))","v":"@"},null,null,{"$f":"IF(ISERROR(VLOOKUP($D23&H$4,申込確認シート!$E$1:$F$120,2,FALSE)),\"@\",VLOOKUP($D23&H$4,申込確認シート!$E$1:$F$120,2,FALSE))","v":"@"},null,null,{"$f":"IF(ISERROR(VLOOKUP($D23&K$4,申込確認シート!$E$1:$F$120,2,FALSE)),\"@\",VLOOKUP($D23&K$4,申込確認シート!$E$1:$F$120,2,FALSE))","v":"@"},null,null,{"$f":"IF(ISERROR(VLOOKUP($D23&N$4,申込確認シート!$E$1:$F$120,2,FALSE)),\"@\",VLOOKUP($D23&N$4,申込確認シート!$E$1:$F$120,2,FALSE))","v":"@"},null,null,{"$f":"IF(ISERROR(VLOOKUP($D23&Q$4,申込確認シート!$E$1:$F$120,2,FALSE)),\"@\",VLOOKUP($D23&Q$4,申込確認シート!$E$1:$F$120,2,FALSE))","v":"@"},null,null,{"$f":"IF(ISERROR(VLOOKUP($D23&T$4,申込確認シート!$E$1:$F$120,2,FALSE)),\"@\",VLOOKUP($D23&T$4,申込確認シート!$E$1:$F$120,2,FALSE))","v":"@"},null,null,{"$f":"IF(ISERROR(VLOOKUP($D23&W$4,申込確認シート!$E$1:$F$120,2,FALSE)),\"@\",VLOOKUP($D23&W$4,申込確認シート!$E$1:$F$120,2,FALSE))","v":"@"},null,null,{"$f":"IF(ISERROR(VLOOKUP($D23&Z$4,申込確認シート!$E$1:$F$120,2,FALSE)),\"@\",VLOOKUP($D23&Z$4,申込確認シート!$E$1:$F$120,2,FALSE))","v":"@"},null,null,{"$f":"IF(ISERROR(VLOOKUP($D23&AC$4,申込確認シート!$E$1:$F$120,2,FALSE)),\"@\",VLOOKUP($D23&AC$4,申込確認シート!$E$1:$F$120,2,FALSE))","v":"@"},null,null,{"$f":"IF(ISERROR(VLOOKUP($D23&AF$4,申込確認シート!$E$1:$F$120,2,FALSE)),\"@\",VLOOKUP($D23&AF$4,申込確認シート!$E$1:$F$120,2,FALSE))","v":"@"},null,null,{"$f":"IF(ISERROR(VLOOKUP($D23&AI$4,申込確認シート!$E$1:$F$120,2,FALSE)),\"@\",VLOOKUP($D23&AI$4,申込確認シート!$E$1:$F$120,2,FALSE))","v":"@"},null,null,{"$f":"IF(ISERROR(VLOOKUP($D23&AL$4,申込確認シート!$E$1:$F$120,2,FALSE)),\"@\",VLOOKUP($D23&AL$4,申込確認シート!$E$1:$F$120,2,FALSE))","v":"@"},null,null,{"$f":"IF(ISERROR(VLOOKUP($D23&AO$4,申込確認シート!$E$1:$F$120,2,FALSE)),\"@\",VLOOKUP($D23&AO$4,申込確認シート!$E$1:$F$120,2,FALSE))","v":"@"},null,null,{"$f":"IF(ISERROR(VLOOKUP($D23&AR$4,申込確認シート!$E$1:$F$120,2,FALSE)),\"@\",VLOOKUP($D23&AR$4,申込確認シート!$E$1:$F$120,2,FALSE))","v":"@"},null,null,{"$f":"IF(ISERROR(VLOOKUP($D23&AU$4,申込確認シート!$E$1:$F$120,2,FALSE)),\"@\",VLOOKUP($D23&AU$4,申込確認シート!$E$1:$F$120,2,FALSE))","v":"@"},null,null,{"$f":"COUNTIF(申込確認シート!$C$1:$C$120,D23)","v":0}]
[null,20,"",{"$f":"IF(HLOOKUP(入力表!$E$4&\"男\",入力表!$DO$11:$EB$50,B24+4,FALSE)=\"*\",\"\",HLOOKUP(入力表!$E$4&\"男\",入力表!$DO$11:$EB$50,B24+4,FALSE))","v":{"$error":"#N/A"}},{"$f":"IF(ISERROR(VLOOKUP($D24&E$4,申込確認シート!$E$1:$F$120,2,FALSE)),\"@\",VLOOKUP($D24&E$4,申込確認シート!$E$1:$F$120,2,FALSE))","v":"@"},null,null,{"$f":"IF(ISERROR(VLOOKUP($D24&H$4,申込確認シート!$E$1:$F$120,2,FALSE)),\"@\",VLOOKUP($D24&H$4,申込確認シート!$E$1:$F$120,2,FALSE))","v":"@"},null,null,{"$f":"IF(ISERROR(VLOOKUP($D24&K$4,申込確認シート!$E$1:$F$120,2,FALSE)),\"@\",VLOOKUP($D24&K$4,申込確認シート!$E$1:$F$120,2,FALSE))","v":"@"},null,null,{"$f":"IF(ISERROR(VLOOKUP($D24&N$4,申込確認シート!$E$1:$F$120,2,FALSE)),\"@\",VLOOKUP($D24&N$4,申込確認シート!$E$1:$F$120,2,FALSE))","v":"@"},null,null,{"$f":"IF(ISERROR(VLOOKUP($D24&Q$4,申込確認シート!$E$1:$F$120,2,FALSE)),\"@\",VLOOKUP($D24&Q$4,申込確認シート!$E$1:$F$120,2,FALSE))","v":"@"},null,null,{"$f":"IF(ISERROR(VLOOKUP($D24&T$4,申込確認シート!$E$1:$F$120,2,FALSE)),\"@\",VLOOKUP($D24&T$4,申込確認シート!$E$1:$F$120,2,FALSE))","v":"@"},null,null,{"$f":"IF(ISERROR(VLOOKUP($D24&W$4,申込確認シート!$E$1:$F$120,2,FALSE)),\"@\",VLOOKUP($D24&W$4,申込確認シート!$E$1:$F$120,2,FALSE))","v":"@"},null,null,{"$f":"IF(ISERROR(VLOOKUP($D24&Z$4,申込確認シート!$E$1:$F$120,2,FALSE)),\"@\",VLOOKUP($D24&Z$4,申込確認シート!$E$1:$F$120,2,FALSE))","v":"@"},null,null,{"$f":"IF(ISERROR(VLOOKUP($D24&AC$4,申込確認シート!$E$1:$F$120,2,FALSE)),\"@\",VLOOKUP($D24&AC$4,申込確認シート!$E$1:$F$120,2,FALSE))","v":"@"},null,null,{"$f":"IF(ISERROR(VLOOKUP($D24&AF$4,申込確認シート!$E$1:$F$120,2,FALSE)),\"@\",VLOOKUP($D24&AF$4,申込確認シート!$E$1:$F$120,2,FALSE))","v":"@"},null,null,{"$f":"IF(ISERROR(VLOOKUP($D24&AI$4,申込確認シート!$E$1:$F$120,2,FALSE)),\"@\",VLOOKUP($D24&AI$4,申込確認シート!$E$1:$F$120,2,FALSE))","v":"@"},null,null,{"$f":"IF(ISERROR(VLOOKUP($D24&AL$4,申込確認シート!$E$1:$F$120,2,FALSE)),\"@\",VLOOKUP($D24&AL$4,申込確認シート!$E$1:$F$120,2,FALSE))","v":"@"},null,null,{"$f":"IF(ISERROR(VLOOKUP($D24&AO$4,申込確認シート!$E$1:$F$120,2,FALSE)),\"@\",VLOOKUP($D24&AO$4,申込確認シート!$E$1:$F$120,2,FALSE))","v":"@"},null,null,{"$f":"IF(ISERROR(VLOOKUP($D24&AR$4,申込確認シート!$E$1:$F$120,2,FALSE)),\"@\",VLOOKUP($D24&AR$4,申込確認シート!$E$1:$F$120,2,FALSE))","v":"@"},null,null,{"$f":"IF(ISERROR(VLOOKUP($D24&AU$4,申込確認シート!$E$1:$F$120,2,FALSE)),\"@\",VLOOKUP($D24&AU$4,申込確認シート!$E$1:$F$120,2,FALSE))","v":"@"},null,null,{"$f":"COUNTIF(申込確認シート!$C$1:$C$120,D24)","v":0}]
[null,21,"",{"$f":"IF(HLOOKUP(入力表!$E$4&\"男\",入力表!$DO$11:$EB$50,B25+4,FALSE)=\"*\",\"\",HLOOKUP(入力表!$E$4&\"男\",入力表!$DO$11:$EB$50,B25+4,FALSE))","v":{"$error":"#N/A"}},{"$f":"IF(ISERROR(VLOOKUP($D25&E$4,申込確認シート!$E$1:$F$120,2,FALSE)),\"@\",VLOOKUP($D25&E$4,申込確認シート!$E$1:$F$120,2,FALSE))","v":"@"},null,null,{"$f":"IF(ISERROR(VLOOKUP($D25&H$4,申込確認シート!$E$1:$F$120,2,FALSE)),\"@\",VLOOKUP($D25&H$4,申込確認シート!$E$1:$F$120,2,FALSE))","v":"@"},null,null,{"$f":"IF(ISERROR(VLOOKUP($D25&K$4,申込確認シート!$E$1:$F$120,2,FALSE)),\"@\",VLOOKUP($D25&K$4,申込確認シート!$E$1:$F$120,2,FALSE))","v":"@"},null,null,{"$f":"IF(ISERROR(VLOOKUP($D25&N$4,申込確認シート!$E$1:$F$120,2,FALSE)),\"@\",VLOOKUP($D25&N$4,申込確認シート!$E$1:$F$120,2,FALSE))","v":"@"},null,null,{"$f":"IF(ISERROR(VLOOKUP($D25&Q$4,申込確認シート!$E$1:$F$120,2,FALSE)),\"@\",VLOOKUP($D25&Q$4,申込確認シート!$E$1:$F$120,2,FALSE))","v":"@"},null,null,{"$f":"IF(ISERROR(VLOOKUP($D25&T$4,申込確認シート!$E$1:$F$120,2,FALSE)),\"@\",VLOOKUP($D25&T$4,申込確認シート!$E$1:$F$120,2,FALSE))","v":"@"},null,null,{"$f":"IF(ISERROR(VLOOKUP($D25&W$4,申込確認シート!$E$1:$F$120,2,FALSE)),\"@\",VLOOKUP($D25&W$4,申込確認シート!$E$1:$F$120,2,FALSE))","v":"@"},null,null,{"$f":"IF(ISERROR(VLOOKUP($D25&Z$4,申込確認シート!$E$1:$F$120,2,FALSE)),\"@\",VLOOKUP($D25&Z$4,申込確認シート!$E$1:$F$120,2,FALSE))","v":"@"},null,null,{"$f":"IF(ISERROR(VLOOKUP($D25&AC$4,申込確認シート!$E$1:$F$120,2,FALSE)),\"@\",VLOOKUP($D25&AC$4,申込確認シート!$E$1:$F$120,2,FALSE))","v":"@"},null,null,{"$f":"IF(ISERROR(VLOOKUP($D25&AF$4,申込確認シート!$E$1:$F$120,2,FALSE)),\"@\",VLOOKUP($D25&AF$4,申込確認シート!$E$1:$F$120,2,FALSE))","v":"@"},null,null,{"$f":"IF(ISERROR(VLOOKUP($D25&AI$4,申込確認シート!$E$1:$F$120,2,FALSE)),\"@\",VLOOKUP($D25&AI$4,申込確認シート!$E$1:$F$120,2,FALSE))","v":"@"},null,null,{"$f":"IF(ISERROR(VLOOKUP($D25&AL$4,申込確認シート!$E$1:$F$120,2,FALSE)),\"@\",VLOOKUP($D25&AL$4,申込確認シート!$E$1:$F$120,2,FALSE))","v":"@"},null,null,{"$f":"IF(ISERROR(VLOOKUP($D25&AO$4,申込確認シート!$E$1:$F$120,2,FALSE)),\"@\",VLOOKUP($D25&AO$4,申込確認シート!$E$1:$F$120,2,FALSE))","v":"@"},null,null,{"$f":"IF(ISERROR(VLOOKUP($D25&AR$4,申込確認シート!$E$1:$F$120,2,FALSE)),\"@\",VLOOKUP($D25&AR$4,申込確認シート!$E$1:$F$120,2,FALSE))","v":"@"},null,null,{"$f":"IF(ISERROR(VLOOKUP($D25&AU$4,申込確認シート!$E$1:$F$120,2,FALSE)),\"@\",VLOOKUP($D25&AU$4,申込確認シート!$E$1:$F$120,2,FALSE))","v":"@"},null,null,{"$f":"COUNTIF(申込確認シート!$C$1:$C$120,D25)","v":0}]
[null,22,"",{"$f":"IF(HLOOKUP(入力表!$E$4&\"男\",入力表!$DO$11:$EB$50,B26+4,FALSE)=\"*\",\"\",HLOOKUP(入力表!$E$4&\"男\",入力表!$DO$11:$EB$50,B26+4,FALSE))","v":{"$error":"#N/A"}},{"$f":"IF(ISERROR(VLOOKUP($D26&E$4,申込確認シート!$E$1:$F$120,2,FALSE)),\"@\",VLOOKUP($D26&E$4,申込確認シート!$E$1:$F$120,2,FALSE))","v":"@"},null,null,{"$f":"IF(ISERROR(VLOOKUP($D26&H$4,申込確認シート!$E$1:$F$120,2,FALSE)),\"@\",VLOOKUP($D26&H$4,申込確認シート!$E$1:$F$120,2,FALSE))","v":"@"},null,null,{"$f":"IF(ISERROR(VLOOKUP($D26&K$4,申込確認シート!$E$1:$F$120,2,FALSE)),\"@\",VLOOKUP($D26&K$4,申込確認シート!$E$1:$F$120,2,FALSE))","v":"@"},null,null,{"$f":"IF(ISERROR(VLOOKUP($D26&N$4,申込確認シート!$E$1:$F$120,2,FALSE)),\"@\",VLOOKUP($D26&N$4,申込確認シート!$E$1:$F$120,2,FALSE))","v":"@"},null,null,{"$f":"IF(ISERROR(VLOOKUP($D26&Q$4,申込確認シート!$E$1:$F$120,2,FALSE)),\"@\",VLOOKUP($D26&Q$4,申込確認シート!$E$1:$F$120,2,FALSE))","v":"@"},null,null,{"$f":"IF(ISERROR(VLOOKUP($D26&T$4,申込確認シート!$E$1:$F$120,2,FALSE)),\"@\",VLOOKUP($D26&T$4,申込確認シート!$E$1:$F$120,2,FALSE))","v":"@"},null,null,{"$f":"IF(ISERROR(VLOOKUP($D26&W$4,申込確認シート!$E$1:$F$120,2,FALSE)),\"@\",VLOOKUP($D26&W$4,申込確認シート!$E$1:$F$120,2,FALSE))","v":"@"},null,null,{"$f":"IF(ISERROR(VLOOKUP($D26&Z$4,申込確認シート!$E$1:$F$120,2,FALSE)),\"@\",VLOOKUP($D26&Z$4,申込確認シート!$E$1:$F$120,2,FALSE))","v":"@"},null,null,{"$f":"IF(ISERROR(VLOOKUP($D26&AC$4,申込確認シート!$E$1:$F$120,2,FALSE)),\"@\",VLOOKUP($D26&AC$4,申込確認シート!$E$1:$F$120,2,FALSE))","v":"@"},null,null,{"$f":"IF(ISERROR(VLOOKUP($D26&AF$4,申込確認シート!$E$1:$F$120,2,FALSE)),\"@\",VLOOKUP($D26&AF$4,申込確認シート!$E$1:$F$120,2,FALSE))","v":"@"},null,null,{"$f":"IF(ISERROR(VLOOKUP($D26&AI$4,申込確認シート!$E$1:$F$120,2,FALSE)),\"@\",VLOOKUP($D26&AI$4,申込確認シート!$E$1:$F$120,2,FALSE))","v":"@"},null,null,{"$f":"IF(ISERROR(VLOOKUP($D26&AL$4,申込確認シート!$E$1:$F$120,2,FALSE)),\"@\",VLOOKUP($D26&AL$4,申込確認シート!$E$1:$F$120,2,FALSE))","v":"@"},null,null,{"$f":"IF(ISERROR(VLOOKUP($D26&AO$4,申込確認シート!$E$1:$F$120,2,FALSE)),\"@\",VLOOKUP($D26&AO$4,申込確認シート!$E$1:$F$120,2,FALSE))","v":"@"},null,null,{"$f":"IF(ISERROR(VLOOKUP($D26&AR$4,申込確認シート!$E$1:$F$120,2,FALSE)),\"@\",VLOOKUP($D26&AR$4,申込確認シート!$E$1:$F$120,2,FALSE))","v":"@"},null,null,{"$f":"IF(ISERROR(VLOOKUP($D26&AU$4,申込確認シート!$E$1:$F$120,2,FALSE)),\"@\",VLOOKUP($D26&AU$4,申込確認シート!$E$1:$F$120,2,FALSE))","v":"@"},null,null,{"$f":"COUNTIF(申込確認シート!$C$1:$C$120,D26)","v":0}]
[null,23,"",{"$f":"IF(HLOOKUP(入力表!$E$4&\"男\",入力表!$DO$11:$EB$50,B27+4,FALSE)=\"*\",\"\",HLOOKUP(入力表!$E$4&\"男\",入力表!$DO$11:$EB$50,B27+4,FALSE))","v":{"$error":"#N/A"}},{"$f":"IF(ISERROR(VLOOKUP($D27&E$4,申込確認シート!$E$1:$F$120,2,FALSE)),\"@\",VLOOKUP($D27&E$4,申込確認シート!$E$1:$F$120,2,FALSE))","v":"@"},null,null,{"$f":"IF(ISERROR(VLOOKUP($D27&H$4,申込確認シート!$E$1:$F$120,2,FALSE)),\"@\",VLOOKUP($D27&H$4,申込確認シート!$E$1:$F$120,2,FALSE))","v":"@"},null,null,{"$f":"IF(ISERROR(VLOOKUP($D27&K$4,申込確認シート!$E$1:$F$120,2,FALSE)),\"@\",VLOOKUP($D27&K$4,申込確認シート!$E$1:$F$120,2,FALSE))","v":"@"},null,null,{"$f":"IF(ISERROR(VLOOKUP($D27&N$4,申込確認シート!$E$1:$F$120,2,FALSE)),\"@\",VLOOKUP($D27&N$4,申込確認シート!$E$1:$F$120,2,FALSE))","v":"@"},null,null,{"$f":"IF(ISERROR(VLOOKUP($D27&Q$4,申込確認シート!$E$1:$F$120,2,FALSE)),\"@\",VLOOKUP($D27&Q$4,申込確認シート!$E$1:$F$120,2,FALSE))","v":"@"},null,null,{"$f":"IF(ISERROR(VLOOKUP($D27&T$4,申込確認シート!$E$1:$F$120,2,FALSE)),\"@\",VLOOKUP($D27&T$4,申込確認シート!$E$1:$F$120,2,FALSE))","v":"@"},null,null,{"$f":"IF(ISERROR(VLOOKUP($D27&W$4,申込確認シート!$E$1:$F$120,2,FALSE)),\"@\",VLOOKUP($D27&W$4,申込確認シート!$E$1:$F$120,2,FALSE))","v":"@"},null,null,{"$f":"IF(ISERROR(VLOOKUP($D27&Z$4,申込確認シート!$E$1:$F$120,2,FALSE)),\"@\",VLOOKUP($D27&Z$4,申込確認シート!$E$1:$F$120,2,FALSE))","v":"@"},null,null,{"$f":"IF(ISERROR(VLOOKUP($D27&AC$4,申込確認シート!$E$1:$F$120,2,FALSE)),\"@\",VLOOKUP($D27&AC$4,申込確認シート!$E$1:$F$120,2,FALSE))","v":"@"},null,null,{"$f":"IF(ISERROR(VLOOKUP($D27&AF$4,申込確認シート!$E$1:$F$120,2,FALSE)),\"@\",VLOOKUP($D27&AF$4,申込確認シート!$E$1:$F$120,2,FALSE))","v":"@"},null,null,{"$f":"IF(ISERROR(VLOOKUP($D27&AI$4,申込確認シート!$E$1:$F$120,2,FALSE)),\"@\",VLOOKUP($D27&AI$4,申込確認シート!$E$1:$F$120,2,FALSE))","v":"@"},null,null,{"$f":"IF(ISERROR(VLOOKUP($D27&AL$4,申込確認シート!$E$1:$F$120,2,FALSE)),\"@\",VLOOKUP($D27&AL$4,申込確認シート!$E$1:$F$120,2,FALSE))","v":"@"},null,null,{"$f":"IF(ISERROR(VLOOKUP($D27&AO$4,申込確認シート!$E$1:$F$120,2,FALSE)),\"@\",VLOOKUP($D27&AO$4,申込確認シート!$E$1:$F$120,2,FALSE))","v":"@"},null,null,{"$f":"IF(ISERROR(VLOOKUP($D27&AR$4,申込確認シート!$E$1:$F$120,2,FALSE)),\"@\",VLOOKUP($D27&AR$4,申込確認シート!$E$1:$F$120,2,FALSE))","v":"@"},null,null,{"$f":"IF(ISERROR(VLOOKUP($D27&AU$4,申込確認シート!$E$1:$F$120,2,FALSE)),\"@\",VLOOKUP($D27&AU$4,申込確認シート!$E$1:$F$120,2,FALSE))","v":"@"},null,null,{"$f":"COUNTIF(申込確認シート!$C$1:$C$120,D27)","v":0}]
[null,24,"",{"$f":"IF(HLOOKUP(入力表!$E$4&\"男\",入力表!$DO$11:$EB$50,B28+4,FALSE)=\"*\",\"\",HLOOKUP(入力表!$E$4&\"男\",入力表!$DO$11:$EB$50,B28+4,FALSE))","v":{"$error":"#N/A"}},{"$f":"IF(ISERROR(VLOOKUP($D28&E$4,申込確認シート!$E$1:$F$120,2,FALSE)),\"@\",VLOOKUP($D28&E$4,申込確認シート!$E$1:$F$120,2,FALSE))","v":"@"},null,null,{"$f":"IF(ISERROR(VLOOKUP($D28&H$4,申込確認シート!$E$1:$F$120,2,FALSE)),\"@\",VLOOKUP($D28&H$4,申込確認シート!$E$1:$F$120,2,FALSE))","v":"@"},null,null,{"$f":"IF(ISERROR(VLOOKUP($D28&K$4,申込確認シート!$E$1:$F$120,2,FALSE)),\"@\",VLOOKUP($D28&K$4,申込確認シート!$E$1:$F$120,2,FALSE))","v":"@"},null,null,{"$f":"IF(ISERROR(VLOOKUP($D28&N$4,申込確認シート!$E$1:$F$120,2,FALSE)),\"@\",VLOOKUP($D28&N$4,申込確認シート!$E$1:$F$120,2,FALSE))","v":"@"},null,null,{"$f":"IF(ISERROR(VLOOKUP($D28&Q$4,申込確認シート!$E$1:$F$120,2,FALSE)),\"@\",VLOOKUP($D28&Q$4,申込確認シート!$E$1:$F$120,2,FALSE))","v":"@"},null,null,{"$f":"IF(ISERROR(VLOOKUP($D28&T$4,申込確認シート!$E$1:$F$120,2,FALSE)),\"@\",VLOOKUP($D28&T$4,申込確認シート!$E$1:$F$120,2,FALSE))","v":"@"},null,null,{"$f":"IF(ISERROR(VLOOKUP($D28&W$4,申込確認シート!$E$1:$F$120,2,FALSE)),\"@\",VLOOKUP($D28&W$4,申込確認シート!$E$1:$F$120,2,FALSE))","v":"@"},null,null,{"$f":"IF(ISERROR(VLOOKUP($D28&Z$4,申込確認シート!$E$1:$F$120,2,FALSE)),\"@\",VLOOKUP($D28&Z$4,申込確認シート!$E$1:$F$120,2,FALSE))","v":"@"},null,null,{"$f":"IF(ISERROR(VLOOKUP($D28&AC$4,申込確認シート!$E$1:$F$120,2,FALSE)),\"@\",VLOOKUP($D28&AC$4,申込確認シート!$E$1:$F$120,2,FALSE))","v":"@"},null,null,{"$f":"IF(ISERROR(VLOOKUP($D28&AF$4,申込確認シート!$E$1:$F$120,2,FALSE)),\"@\",VLOOKUP($D28&AF$4,申込確認シート!$E$1:$F$120,2,FALSE))","v":"@"},null,null,{"$f":"IF(ISERROR(VLOOKUP($D28&AI$4,申込確認シート!$E$1:$F$120,2,FALSE)),\"@\",VLOOKUP($D28&AI$4,申込確認シート!$E$1:$F$120,2,FALSE))","v":"@"},null,null,{"$f":"IF(ISERROR(VLOOKUP($D28&AL$4,申込確認シート!$E$1:$F$120,2,FALSE)),\"@\",VLOOKUP($D28&AL$4,申込確認シート!$E$1:$F$120,2,FALSE))","v":"@"},null,null,{"$f":"IF(ISERROR(VLOOKUP($D28&AO$4,申込確認シート!$E$1:$F$120,2,FALSE)),\"@\",VLOOKUP($D28&AO$4,申込確認シート!$E$1:$F$120,2,FALSE))","v":"@"},null,null,{"$f":"IF(ISERROR(VLOOKUP($D28&AR$4,申込確認シート!$E$1:$F$120,2,FALSE)),\"@\",VLOOKUP($D28&AR$4,申込確認シート!$E$1:$F$120,2,FALSE))","v":"@"},null,null,{"$f":"IF(ISERROR(VLOOKUP($D28&AU$4,申込確認シート!$E$1:$F$120,2,FALSE)),\"@\",VLOOKUP($D28&AU$4,申込確認シート!$E$1:$F$120,2,FALSE))","v":"@"},null,null,{"$f":"COUNTIF(申込確認シート!$C$1:$C$120,D28)","v":0}]
["女子",1,"",{"$f":"IF(HLOOKUP(入力表!$E$4&\"女\",入力表!$DO$11:$EB$50,B5+4,FALSE)=\"*\",\"\",HLOOKUP(入力表!$E$4&\"女\",入力表!$DO$11:$EB$50,B5+4,FALSE))","v":{"$error":"#N/A"}},{"$f":"IF(ISERROR(VLOOKUP($D29&E$4,申込確認シート!$E$1:$F$120,2,FALSE)),\"@\",VLOOKUP($D29&E$4,申込確認シート!$E$1:$F$120,2,FALSE))","v":"@"},null,null,{"$f":"IF(ISERROR(VLOOKUP($D29&H$4,申込確認シート!$E$1:$F$120,2,FALSE)),\"@\",VLOOKUP($D29&H$4,申込確認シート!$E$1:$F$120,2,FALSE))","v":"@"},null,null,{"$f":"IF(ISERROR(VLOOKUP($D29&K$4,申込確認シート!$E$1:$F$120,2,FALSE)),\"@\",VLOOKUP($D29&K$4,申込確認シート!$E$1:$F$120,2,FALSE))","v":"@"},null,null,{"$f":"IF(ISERROR(VLOOKUP($D29&N$4,申込確認シート!$E$1:$F$120,2,FALSE)),\"@\",VLOOKUP($D29&N$4,申込確認シート!$E$1:$F$120,2,FALSE))","v":"@"},null,null,{"$f":"IF(ISERROR(VLOOKUP($D29&Q$4,申込確認シート!$E$1:$F$120,2,FALSE)),\"@\",VLOOKUP($D29&Q$4,申込確認シート!$E$1:$F$120,2,FALSE))","v":"@"},null,null,{"$f":"IF(ISERROR(VLOOKUP($D29&T$4,申込確認シート!$E$1:$F$120,2,FALSE)),\"@\",VLOOKUP($D29&T$4,申込確認シート!$E$1:$F$120,2,FALSE))","v":"@"},null,null,{"$f":"IF(ISERROR(VLOOKUP($D29&W$4,申込確認シート!$E$1:$F$120,2,FALSE)),\"@\",VLOOKUP($D29&W$4,申込確認シート!$E$1:$F$120,2,FALSE))","v":"@"},null,null,{"$f":"IF(ISERROR(VLOOKUP($D29&Z$4,申込確認シート!$E$1:$F$120,2,FALSE)),\"@\",VLOOKUP($D29&Z$4,申込確認シート!$E$1:$F$120,2,FALSE))","v":"@"},null,null,{"$f":"IF(ISERROR(VLOOKUP($D29&AC$4,申込確認シート!$E$1:$F$120,2,FALSE)),\"@\",VLOOKUP($D29&AC$4,申込確認シート!$E$1:$F$120,2,FALSE))","v":"@"},null,null,{"$f":"IF(ISERROR(VLOOKUP($D29&AF$4,申込確認シート!$E$1:$F$120,2,FALSE)),\"@\",VLOOKUP($D29&AF$4,申込確認シート!$E$1:$F$120,2,FALSE))","v":"@"},null,null,{"$f":"IF(ISERROR(VLOOKUP($D29&AI$4,申込確認シート!$E$1:$F$120,2,FALSE)),\"@\",VLOOKUP($D29&AI$4,申込確認シート!$E$1:$F$120,2,FALSE))","v":"@"},null,null,{"$f":"IF(ISERROR(VLOOKUP($D29&AL$4,申込確認シート!$E$1:$F$120,2,FALSE)),\"@\",VLOOKUP($D29&AL$4,申込確認シート!$E$1:$F$120,2,FALSE))","v":"@"},null,null,{"$f":"IF(ISERROR(VLOOKUP($D29&AO$4,申込確認シート!$E$1:$F$120,2,FALSE)),\"@\",VLOOKUP($D29&AO$4,申込確認シート!$E$1:$F$120,2,FALSE))","v":"@"},null,null,{"$f":"IF(ISERROR(VLOOKUP($D29&AR$4,申込確認シート!$E$1:$F$120,2,FALSE)),\"@\",VLOOKUP($D29&AR$4,申込確認シート!$E$1:$F$120,2,FALSE))","v":"@"},null,null,{"$f":"IF(ISERROR(VLOOKUP($D29&AU$4,申込確認シート!$E$1:$F$120,2,FALSE)),\"@\",VLOOKUP($D29&AU$4,申込確認シート!$E$1:$F$120,2,FALSE))","v":"@"},null,null,{"$f":"COUNTIF(申込確認シート!$C$1:$C$120,D29)","v":0}]
[null,2,"",{"$f":"IF(HLOOKUP(入力表!$E$4&\"女\",入力表!$DO$11:$EB$50,B6+4,FALSE)=\"*\",\"\",HLOOKUP(入力表!$E$4&\"女\",入力表!$DO$11:$EB$50,B6+4,FALSE))","v":{"$error":"#N/A"}},{"$f":"IF(ISERROR(VLOOKUP($D30&E$4,申込確認シート!$E$1:$F$120,2,FALSE)),\"@\",VLOOKUP($D30&E$4,申込確認シート!$E$1:$F$120,2,FALSE))","v":"@"},null,null,{"$f":"IF(ISERROR(VLOOKUP($D30&H$4,申込確認シート!$E$1:$F$120,2,FALSE)),\"@\",VLOOKUP($D30&H$4,申込確認シート!$E$1:$F$120,2,FALSE))","v":"@"},null,null,{"$f":"IF(ISERROR(VLOOKUP($D30&K$4,申込確認シート!$E$1:$F$120,2,FALSE)),\"@\",VLOOKUP($D30&K$4,申込確認シート!$E$1:$F$120,2,FALSE))","v":"@"},null,null,{"$f":"IF(ISERROR(VLOOKUP($D30&N$4,申込確認シート!$E$1:$F$120,2,FALSE)),\"@\",VLOOKUP($D30&N$4,申込確認シート!$E$1:$F$120,2,FALSE))","v":"@"},null,null,{"$f":"IF(ISERROR(VLOOKUP($D30&Q$4,申込確認シート!$E$1:$F$120,2,FALSE)),\"@\",VLOOKUP($D30&Q$4,申込確認シート!$E$1:$F$120,2,FALSE))","v":"@"},null,null,{"$f":"IF(ISERROR(VLOOKUP($D30&T$4,申込確認シート!$E$1:$F$120,2,FALSE)),\"@\",VLOOKUP($D30&T$4,申込確認シート!$E$1:$F$120,2,FALSE))","v":"@"},null,null,{"$f":"IF(ISERROR(VLOOKUP($D30&W$4,申込確認シート!$E$1:$F$120,2,FALSE)),\"@\",VLOOKUP($D30&W$4,申込確認シート!$E$1:$F$120,2,FALSE))","v":"@"},null,null,{"$f":"IF(ISERROR(VLOOKUP($D30&Z$4,申込確認シート!$E$1:$F$120,2,FALSE)),\"@\",VLOOKUP($D30&Z$4,申込確認シート!$E$1:$F$120,2,FALSE))","v":"@"},null,null,{"$f":"IF(ISERROR(VLOOKUP($D30&AC$4,申込確認シート!$E$1:$F$120,2,FALSE)),\"@\",VLOOKUP($D30&AC$4,申込確認シート!$E$1:$F$120,2,FALSE))","v":"@"},null,null,{"$f":"IF(ISERROR(VLOOKUP($D30&AF$4,申込確認シート!$E$1:$F$120,2,FALSE)),\"@\",VLOOKUP($D30&AF$4,申込確認シート!$E$1:$F$120,2,FALSE))","v":"@"},null,null,{"$f":"IF(ISERROR(VLOOKUP($D30&AI$4,申込確認シート!$E$1:$F$120,2,FALSE)),\"@\",VLOOKUP($D30&AI$4,申込確認シート!$E$1:$F$120,2,FALSE))","v":"@"},null,null,{"$f":"IF(ISERROR(VLOOKUP($D30&AL$4,申込確認シート!$E$1:$F$120,2,FALSE)),\"@\",VLOOKUP($D30&AL$4,申込確認シート!$E$1:$F$120,2,FALSE))","v":"@"},null,null,{"$f":"IF(ISERROR(VLOOKUP($D30&AO$4,申込確認シート!$E$1:$F$120,2,FALSE)),\"@\",VLOOKUP($D30&AO$4,申込確認シート!$E$1:$F$120,2,FALSE))","v":"@"},null,null,{"$f":"IF(ISERROR(VLOOKUP($D30&AR$4,申込確認シート!$E$1:$F$120,2,FALSE)),\"@\",VLOOKUP($D30&AR$4,申込確認シート!$E$1:$F$120,2,FALSE))","v":"@"},null,null,{"$f":"IF(ISERROR(VLOOKUP($D30&AU$4,申込確認シート!$E$1:$F$120,2,FALSE)),\"@\",VLOOKUP($D30&AU$4,申込確認シート!$E$1:$F$120,2,FALSE))","v":"@"},null,null,{"$f":"COUNTIF(申込確認シート!$C$1:$C$120,D30)","v":0}]
[null,3,"",{"$f":"IF(HLOOKUP(入力表!$E$4&\"女\",入力表!$DO$11:$EB$50,B7+4,FALSE)=\"*\",\"\",HLOOKUP(入力表!$E$4&\"女\",入力表!$DO$11:$EB$50,B7+4,FALSE))","v":{"$error":"#N/A"}},{"$f":"IF(ISERROR(VLOOKUP($D31&E$4,申込確認シート!$E$1:$F$120,2,FALSE)),\"@\",VLOOKUP($D31&E$4,申込確認シート!$E$1:$F$120,2,FALSE))","v":"@"},null,null,{"$f":"IF(ISERROR(VLOOKUP($D31&H$4,申込確認シート!$E$1:$F$120,2,FALSE)),\"@\",VLOOKUP($D31&H$4,申込確認シート!$E$1:$F$120,2,FALSE))","v":"@"},null,null,{"$f":"IF(ISERROR(VLOOKUP($D31&K$4,申込確認シート!$E$1:$F$120,2,FALSE)),\"@\",VLOOKUP($D31&K$4,申込確認シート!$E$1:$F$120,2,FALSE))","v":"@"},null,null,{"$f":"IF(ISERROR(VLOOKUP($D31&N$4,申込確認シート!$E$1:$F$120,2,FALSE)),\"@\",VLOOKUP($D31&N$4,申込確認シート!$E$1:$F$120,2,FALSE))","v":"@"},null,null,{"$f":"IF(ISERROR(VLOOKUP($D31&Q$4,申込確認シート!$E$1:$F$120,2,FALSE)),\"@\",VLOOKUP($D31&Q$4,申込確認シート!$E$1:$F$120,2,FALSE))","v":"@"},null,null,{"$f":"IF(ISERROR(VLOOKUP($D31&T$4,申込確認シート!$E$1:$F$120,2,FALSE)),\"@\",VLOOKUP($D31&T$4,申込確認シート!$E$1:$F$120,2,FALSE))","v":"@"},null,null,{"$f":"IF(ISERROR(VLOOKUP($D31&W$4,申込確認シート!$E$1:$F$120,2,FALSE)),\"@\",VLOOKUP($D31&W$4,申込確認シート!$E$1:$F$120,2,FALSE))","v":"@"},null,null,{"$f":"IF(ISERROR(VLOOKUP($D31&Z$4,申込確認シート!$E$1:$F$120,2,FALSE)),\"@\",VLOOKUP($D31&Z$4,申込確認シート!$E$1:$F$120,2,FALSE))","v":"@"},null,null,{"$f":"IF(ISERROR(VLOOKUP($D31&AC$4,申込確認シート!$E$1:$F$120,2,FALSE)),\"@\",VLOOKUP($D31&AC$4,申込確認シート!$E$1:$F$120,2,FALSE))","v":"@"},null,null,{"$f":"IF(ISERROR(VLOOKUP($D31&AF$4,申込確認シート!$E$1:$F$120,2,FALSE)),\"@\",VLOOKUP($D31&AF$4,申込確認シート!$E$1:$F$120,2,FALSE))","v":"@"},null,null,{"$f":"IF(ISERROR(VLOOKUP($D31&AI$4,申込確認シート!$E$1:$F$120,2,FALSE)),\"@\",VLOOKUP($D31&AI$4,申込確認シート!$E$1:$F$120,2,FALSE))","v":"@"},null,null,{"$f":"IF(ISERROR(VLOOKUP($D31&AL$4,申込確認シート!$E$1:$F$120,2,FALSE)),\"@\",VLOOKUP($D31&AL$4,申込確認シート!$E$1:$F$120,2,FALSE))","v":"@"},null,null,{"$f":"IF(ISERROR(VLOOKUP($D31&AO$4,申込確認シート!$E$1:$F$120,2,FALSE)),\"@\",VLOOKUP($D31&AO$4,申込確認シート!$E$1:$F$120,2,FALSE))","v":"@"},null,null,{"$f":"IF(ISERROR(VLOOKUP($D31&AR$4,申込確認シート!$E$1:$F$120,2,FALSE)),\"@\",VLOOKUP($D31&AR$4,申込確認シート!$E$1:$F$120,2,FALSE))","v":"@"},null,null,{"$f":"IF(ISERROR(VLOOKUP($D31&AU$4,申込確認シート!$E$1:$F$120,2,FALSE)),\"@\",VLOOKUP($D31&AU$4,申込確認シート!$E$1:$F$120,2,FALSE))","v":"@"},null,null,{"$f":"COUNTIF(申込確認シート!$C$1:$C$120,D31)","v":0}]
[null,4,"",{"$f":"IF(HLOOKUP(入力表!$E$4&\"女\",入力表!$DO$11:$EB$50,B8+4,FALSE)=\"*\",\"\",HLOOKUP(入力表!$E$4&\"女\",入力表!$DO$11:$EB$50,B8+4,FALSE))","v":{"$error":"#N/A"}},{"$f":"IF(ISERROR(VLOOKUP($D32&E$4,申込確認シート!$E$1:$F$120,2,FALSE)),\"@\",VLOOKUP($D32&E$4,申込確認シート!$E$1:$F$120,2,FALSE))","v":"@"},null,null,{"$f":"IF(ISERROR(VLOOKUP($D32&H$4,申込確認シート!$E$1:$F$120,2,FALSE)),\"@\",VLOOKUP($D32&H$4,申込確認シート!$E$1:$F$120,2,FALSE))","v":"@"},null,null,{"$f":"IF(ISERROR(VLOOKUP($D32&K$4,申込確認シート!$E$1:$F$120,2,FALSE)),\"@\",VLOOKUP($D32&K$4,申込確認シート!$E$1:$F$120,2,FALSE))","v":"@"},null,null,{"$f":"IF(ISERROR(VLOOKUP($D32&N$4,申込確認シート!$E$1:$F$120,2,FALSE)),\"@\",VLOOKUP($D32&N$4,申込確認シート!$E$1:$F$120,2,FALSE))","v":"@"},null,null,{"$f":"IF(ISERROR(VLOOKUP($D32&Q$4,申込確認シート!$E$1:$F$120,2,FALSE)),\"@\",VLOOKUP($D32&Q$4,申込確認シート!$E$1:$F$120,2,FALSE))","v":"@"},null,null,{"$f":"IF(ISERROR(VLOOKUP($D32&T$4,申込確認シート!$E$1:$F$120,2,FALSE)),\"@\",VLOOKUP($D32&T$4,申込確認シート!$E$1:$F$120,2,FALSE))","v":"@"},null,null,{"$f":"IF(ISERROR(VLOOKUP($D32&W$4,申込確認シート!$E$1:$F$120,2,FALSE)),\"@\",VLOOKUP($D32&W$4,申込確認シート!$E$1:$F$120,2,FALSE))","v":"@"},null,null,{"$f":"IF(ISERROR(VLOOKUP($D32&Z$4,申込確認シート!$E$1:$F$120,2,FALSE)),\"@\",VLOOKUP($D32&Z$4,申込確認シート!$E$1:$F$120,2,FALSE))","v":"@"},null,null,{"$f":"IF(ISERROR(VLOOKUP($D32&AC$4,申込確認シート!$E$1:$F$120,2,FALSE)),\"@\",VLOOKUP($D32&AC$4,申込確認シート!$E$1:$F$120,2,FALSE))","v":"@"},null,null,{"$f":"IF(ISERROR(VLOOKUP($D32&AF$4,申込確認シート!$E$1:$F$120,2,FALSE)),\"@\",VLOOKUP($D32&AF$4,申込確認シート!$E$1:$F$120,2,FALSE))","v":"@"},null,null,{"$f":"IF(ISERROR(VLOOKUP($D32&AI$4,申込確認シート!$E$1:$F$120,2,FALSE)),\"@\",VLOOKUP($D32&AI$4,申込確認シート!$E$1:$F$120,2,FALSE))","v":"@"},null,null,{"$f":"IF(ISERROR(VLOOKUP($D32&AL$4,申込確認シート!$E$1:$F$120,2,FALSE)),\"@\",VLOOKUP($D32&AL$4,申込確認シート!$E$1:$F$120,2,FALSE))","v":"@"},null,null,{"$f":"IF(ISERROR(VLOOKUP($D32&AO$4,申込確認シート!$E$1:$F$120,2,FALSE)),\"@\",VLOOKUP($D32&AO$4,申込確認シート!$E$1:$F$120,2,FALSE))","v":"@"},null,null,{"$f":"IF(ISERROR(VLOOKUP($D32&AR$4,申込確認シート!$E$1:$F$120,2,FALSE)),\"@\",VLOOKUP($D32&AR$4,申込確認シート!$E$1:$F$120,2,FALSE))","v":"@"},null,null,{"$f":"IF(ISERROR(VLOOKUP($D32&AU$4,申込確認シート!$E$1:$F$120,2,FALSE)),\"@\",VLOOKUP($D32&AU$4,申込確認シート!$E$1:$F$120,2,FALSE))","v":"@"},null,null,{"$f":"COUNTIF(申込確認シート!$C$1:$C$120,D32)","v":0}]
[null,5,"",{"$f":"IF(HLOOKUP(入力表!$E$4&\"女\",入力表!$DO$11:$EB$50,B9+4,FALSE)=\"*\",\"\",HLOOKUP(入力表!$E$4&\"女\",入力表!$DO$11:$EB$50,B9+4,FALSE))","v":{"$error":"#N/A"}},{"$f":"IF(ISERROR(VLOOKUP($D33&E$4,申込確認シート!$E$1:$F$120,2,FALSE)),\"@\",VLOOKUP($D33&E$4,申込確認シート!$E$1:$F$120,2,FALSE))","v":"@"},null,null,{"$f":"IF(ISERROR(VLOOKUP($D33&H$4,申込確認シート!$E$1:$F$120,2,FALSE)),\"@\",VLOOKUP($D33&H$4,申込確認シート!$E$1:$F$120,2,FALSE))","v":"@"},null,null,{"$f":"IF(ISERROR(VLOOKUP($D33&K$4,申込確認シート!$E$1:$F$120,2,FALSE)),\"@\",VLOOKUP($D33&K$4,申込確認シート!$E$1:$F$120,2,FALSE))","v":"@"},null,null,{"$f":"IF(ISERROR(VLOOKUP($D33&N$4,申込確認シート!$E$1:$F$120,2,FALSE)),\"@\",VLOOKUP($D33&N$4,申込確認シート!$E$1:$F$120,2,FALSE))","v":"@"},null,null,{"$f":"IF(ISERROR(VLOOKUP($D33&Q$4,申込確認シート!$E$1:$F$120,2,FALSE)),\"@\",VLOOKUP($D33&Q$4,申込確認シート!$E$1:$F$120,2,FALSE))","v":"@"},null,null,{"$f":"IF(ISERROR(VLOOKUP($D33&T$4,申込確認シート!$E$1:$F$120,2,FALSE)),\"@\",VLOOKUP($D33&T$4,申込確認シート!$E$1:$F$120,2,FALSE))","v":"@"},null,null,{"$f":"IF(ISERROR(VLOOKUP($D33&W$4,申込確認シート!$E$1:$F$120,2,FALSE)),\"@\",VLOOKUP($D33&W$4,申込確認シート!$E$1:$F$120,2,FALSE))","v":"@"},null,null,{"$f":"IF(ISERROR(VLOOKUP($D33&Z$4,申込確認シート!$E$1:$F$120,2,FALSE)),\"@\",VLOOKUP($D33&Z$4,申込確認シート!$E$1:$F$120,2,FALSE))","v":"@"},null,null,{"$f":"IF(ISERROR(VLOOKUP($D33&AC$4,申込確認シート!$E$1:$F$120,2,FALSE)),\"@\",VLOOKUP($D33&AC$4,申込確認シート!$E$1:$F$120,2,FALSE))","v":"@"},null,null,{"$f":"IF(ISERROR(VLOOKUP($D33&AF$4,申込確認シート!$E$1:$F$120,2,FALSE)),\"@\",VLOOKUP($D33&AF$4,申込確認シート!$E$1:$F$120,2,FALSE))","v":"@"},null,null,{"$f":"IF(ISERROR(VLOOKUP($D33&AI$4,申込確認シート!$E$1:$F$120,2,FALSE)),\"@\",VLOOKUP($D33&AI$4,申込確認シート!$E$1:$F$120,2,FALSE))","v":"@"},null,null,{"$f":"IF(ISERROR(VLOOKUP($D33&AL$4,申込確認シート!$E$1:$F$120,2,FALSE)),\"@\",VLOOKUP($D33&AL$4,申込確認シート!$E$1:$F$120,2,FALSE))","v":"@"},null,null,{"$f":"IF(ISERROR(VLOOKUP($D33&AO$4,申込確認シート!$E$1:$F$120,2,FALSE)),\"@\",VLOOKUP($D33&AO$4,申込確認シート!$E$1:$F$120,2,FALSE))","v":"@"},null,null,{"$f":"IF(ISERROR(VLOOKUP($D33&AR$4,申込確認シート!$E$1:$F$120,2,FALSE)),\"@\",VLOOKUP($D33&AR$4,申込確認シート!$E$1:$F$120,2,FALSE))","v":"@"},null,null,{"$f":"IF(ISERROR(VLOOKUP($D33&AU$4,申込確認シート!$E$1:$F$120,2,FALSE)),\"@\",VLOOKUP($D33&AU$4,申込確認シート!$E$1:$F$120,2,FALSE))","v":"@"},null,null,{"$f":"COUNTIF(申込確認シート!$C$1:$C$120,D33)","v":0}]
[null,6,"",{"$f":"IF(HLOOKUP(入力表!$E$4&\"女\",入力表!$DO$11:$EB$50,B10+4,FALSE)=\"*\",\"\",HLOOKUP(入力表!$E$4&\"女\",入力表!$DO$11:$EB$50,B10+4,FALSE))","v":{"$error":"#N/A"}},{"$f":"IF(ISERROR(VLOOKUP($D34&E$4,申込確認シート!$E$1:$F$120,2,FALSE)),\"@\",VLOOKUP($D34&E$4,申込確認シート!$E$1:$F$120,2,FALSE))","v":"@"},null,null,{"$f":"IF(ISERROR(VLOOKUP($D34&H$4,申込確認シート!$E$1:$F$120,2,FALSE)),\"@\",VLOOKUP($D34&H$4,申込確認シート!$E$1:$F$120,2,FALSE))","v":"@"},null,null,{"$f":"IF(ISERROR(VLOOKUP($D34&K$4,申込確認シート!$E$1:$F$120,2,FALSE)),\"@\",VLOOKUP($D34&K$4,申込確認シート!$E$1:$F$120,2,FALSE))","v":"@"},null,null,{"$f":"IF(ISERROR(VLOOKUP($D34&N$4,申込確認シート!$E$1:$F$120,2,FALSE)),\"@\",VLOOKUP($D34&N$4,申込確認シート!$E$1:$F$120,2,FALSE))","v":"@"},null,null,{"$f":"IF(ISERROR(VLOOKUP($D34&Q$4,申込確認シート!$E$1:$F$120,2,FALSE)),\"@\",VLOOKUP($D34&Q$4,申込確認シート!$E$1:$F$120,2,FALSE))","v":"@"},null,null,{"$f":"IF(ISERROR(VLOOKUP($D34&T$4,申込確認シート!$E$1:$F$120,2,FALSE)),\"@\",VLOOKUP($D34&T$4,申込確認シート!$E$1:$F$120,2,FALSE))","v":"@"},null,null,{"$f":"IF(ISERROR(VLOOKUP($D34&W$4,申込確認シート!$E$1:$F$120,2,FALSE)),\"@\",VLOOKUP($D34&W$4,申込確認シート!$E$1:$F$120,2,FALSE))","v":"@"},null,null,{"$f":"IF(ISERROR(VLOOKUP($D34&Z$4,申込確認シート!$E$1:$F$120,2,FALSE)),\"@\",VLOOKUP($D34&Z$4,申込確認シート!$E$1:$F$120,2,FALSE))","v":"@"},null,null,{"$f":"IF(ISERROR(VLOOKUP($D34&AC$4,申込確認シート!$E$1:$F$120,2,FALSE)),\"@\",VLOOKUP($D34&AC$4,申込確認シート!$E$1:$F$120,2,FALSE))","v":"@"},null,null,{"$f":"IF(ISERROR(VLOOKUP($D34&AF$4,申込確認シート!$E$1:$F$120,2,FALSE)),\"@\",VLOOKUP($D34&AF$4,申込確認シート!$E$1:$F$120,2,FALSE))","v":"@"},null,null,{"$f":"IF(ISERROR(VLOOKUP($D34&AI$4,申込確認シート!$E$1:$F$120,2,FALSE)),\"@\",VLOOKUP($D34&AI$4,申込確認シート!$E$1:$F$120,2,FALSE))","v":"@"},null,null,{"$f":"IF(ISERROR(VLOOKUP($D34&AL$4,申込確認シート!$E$1:$F$120,2,FALSE)),\"@\",VLOOKUP($D34&AL$4,申込確認シート!$E$1:$F$120,2,FALSE))","v":"@"},null,null,{"$f":"IF(ISERROR(VLOOKUP($D34&AO$4,申込確認シート!$E$1:$F$120,2,FALSE)),\"@\",VLOOKUP($D34&AO$4,申込確認シート!$E$1:$F$120,2,FALSE))","v":"@"},null,null,{"$f":"IF(ISERROR(VLOOKUP($D34&AR$4,申込確認シート!$E$1:$F$120,2,FALSE)),\"@\",VLOOKUP($D34&AR$4,申込確認シート!$E$1:$F$120,2,FALSE))","v":"@"},null,null,{"$f":"IF(ISERROR(VLOOKUP($D34&AU$4,申込確認シート!$E$1:$F$120,2,FALSE)),\"@\",VLOOKUP($D34&AU$4,申込確認シート!$E$1:$F$120,2,FALSE))","v":"@"},null,null,{"$f":"COUNTIF(申込確認シート!$C$1:$C$120,D34)","v":0}]
[null,7,"",{"$f":"IF(HLOOKUP(入力表!$E$4&\"女\",入力表!$DO$11:$EB$50,B11+4,FALSE)=\"*\",\"\",HLOOKUP(入力表!$E$4&\"女\",入力表!$DO$11:$EB$50,B11+4,FALSE))","v":{"$error":"#N/A"}},{"$f":"IF(ISERROR(VLOOKUP($D35&E$4,申込確認シート!$E$1:$F$120,2,FALSE)),\"@\",VLOOKUP($D35&E$4,申込確認シート!$E$1:$F$120,2,FALSE))","v":"@"},null,null,{"$f":"IF(ISERROR(VLOOKUP($D35&H$4,申込確認シート!$E$1:$F$120,2,FALSE)),\"@\",VLOOKUP($D35&H$4,申込確認シート!$E$1:$F$120,2,FALSE))","v":"@"},null,null,{"$f":"IF(ISERROR(VLOOKUP($D35&K$4,申込確認シート!$E$1:$F$120,2,FALSE)),\"@\",VLOOKUP($D35&K$4,申込確認シート!$E$1:$F$120,2,FALSE))","v":"@"},null,null,{"$f":"IF(ISERROR(VLOOKUP($D35&N$4,申込確認シート!$E$1:$F$120,2,FALSE)),\"@\",VLOOKUP($D35&N$4,申込確認シート!$E$1:$F$120,2,FALSE))","v":"@"},null,null,{"$f":"IF(ISERROR(VLOOKUP($D35&Q$4,申込確認シート!$E$1:$F$120,2,FALSE)),\"@\",VLOOKUP($D35&Q$4,申込確認シート!$E$1:$F$120,2,FALSE))","v":"@"},null,null,{"$f":"IF(ISERROR(VLOOKUP($D35&T$4,申込確認シート!$E$1:$F$120,2,FALSE)),\"@\",VLOOKUP($D35&T$4,申込確認シート!$E$1:$F$120,2,FALSE))","v":"@"},null,null,{"$f":"IF(ISERROR(VLOOKUP($D35&W$4,申込確認シート!$E$1:$F$120,2,FALSE)),\"@\",VLOOKUP($D35&W$4,申込確認シート!$E$1:$F$120,2,FALSE))","v":"@"},null,null,{"$f":"IF(ISERROR(VLOOKUP($D35&Z$4,申込確認シート!$E$1:$F$120,2,FALSE)),\"@\",VLOOKUP($D35&Z$4,申込確認シート!$E$1:$F$120,2,FALSE))","v":"@"},null,null,{"$f":"IF(ISERROR(VLOOKUP($D35&AC$4,申込確認シート!$E$1:$F$120,2,FALSE)),\"@\",VLOOKUP($D35&AC$4,申込確認シート!$E$1:$F$120,2,FALSE))","v":"@"},null,null,{"$f":"IF(ISERROR(VLOOKUP($D35&AF$4,申込確認シート!$E$1:$F$120,2,FALSE)),\"@\",VLOOKUP($D35&AF$4,申込確認シート!$E$1:$F$120,2,FALSE))","v":"@"},null,null,{"$f":"IF(ISERROR(VLOOKUP($D35&AI$4,申込確認シート!$E$1:$F$120,2,FALSE)),\"@\",VLOOKUP($D35&AI$4,申込確認シート!$E$1:$F$120,2,FALSE))","v":"@"},null,null,{"$f":"IF(ISERROR(VLOOKUP($D35&AL$4,申込確認シート!$E$1:$F$120,2,FALSE)),\"@\",VLOOKUP($D35&AL$4,申込確認シート!$E$1:$F$120,2,FALSE))","v":"@"},null,null,{"$f":"IF(ISERROR(VLOOKUP($D35&AO$4,申込確認シート!$E$1:$F$120,2,FALSE)),\"@\",VLOOKUP($D35&AO$4,申込確認シート!$E$1:$F$120,2,FALSE))","v":"@"},null,null,{"$f":"IF(ISERROR(VLOOKUP($D35&AR$4,申込確認シート!$E$1:$F$120,2,FALSE)),\"@\",VLOOKUP($D35&AR$4,申込確認シート!$E$1:$F$120,2,FALSE))","v":"@"},null,null,{"$f":"IF(ISERROR(VLOOKUP($D35&AU$4,申込確認シート!$E$1:$F$120,2,FALSE)),\"@\",VLOOKUP($D35&AU$4,申込確認シート!$E$1:$F$120,2,FALSE))","v":"@"},null,null,{"$f":"COUNTIF(申込確認シート!$C$1:$C$120,D35)","v":0}]
[null,8,"",{"$f":"IF(HLOOKUP(入力表!$E$4&\"女\",入力表!$DO$11:$EB$50,B12+4,FALSE)=\"*\",\"\",HLOOKUP(入力表!$E$4&\"女\",入力表!$DO$11:$EB$50,B12+4,FALSE))","v":{"$error":"#N/A"}},{"$f":"IF(ISERROR(VLOOKUP($D36&E$4,申込確認シート!$E$1:$F$120,2,FALSE)),\"@\",VLOOKUP($D36&E$4,申込確認シート!$E$1:$F$120,2,FALSE))","v":"@"},null,null,{"$f":"IF(ISERROR(VLOOKUP($D36&H$4,申込確認シート!$E$1:$F$120,2,FALSE)),\"@\",VLOOKUP($D36&H$4,申込確認シート!$E$1:$F$120,2,FALSE))","v":"@"},null,null,{"$f":"IF(ISERROR(VLOOKUP($D36&K$4,申込確認シート!$E$1:$F$120,2,FALSE)),\"@\",VLOOKUP($D36&K$4,申込確認シート!$E$1:$F$120,2,FALSE))","v":"@"},null,null,{"$f":"IF(ISERROR(VLOOKUP($D36&N$4,申込確認シート!$E$1:$F$120,2,FALSE)),\"@\",VLOOKUP($D36&N$4,申込確認シート!$E$1:$F$120,2,FALSE))","v":"@"},null,null,{"$f":"IF(ISERROR(VLOOKUP($D36&Q$4,申込確認シート!$E$1:$F$120,2,FALSE)),\"@\",VLOOKUP($D36&Q$4,申込確認シート!$E$1:$F$120,2,FALSE))","v":"@"},null,null,{"$f":"IF(ISERROR(VLOOKUP($D36&T$4,申込確認シート!$E$1:$F$120,2,FALSE)),\"@\",VLOOKUP($D36&T$4,申込確認シート!$E$1:$F$120,2,FALSE))","v":"@"},null,null,{"$f":"IF(ISERROR(VLOOKUP($D36&W$4,申込確認シート!$E$1:$F$120,2,FALSE)),\"@\",VLOOKUP($D36&W$4,申込確認シート!$E$1:$F$120,2,FALSE))","v":"@"},null,null,{"$f":"IF(ISERROR(VLOOKUP($D36&Z$4,申込確認シート!$E$1:$F$120,2,FALSE)),\"@\",VLOOKUP($D36&Z$4,申込確認シート!$E$1:$F$120,2,FALSE))","v":"@"},null,null,{"$f":"IF(ISERROR(VLOOKUP($D36&AC$4,申込確認シート!$E$1:$F$120,2,FALSE)),\"@\",VLOOKUP($D36&AC$4,申込確認シート!$E$1:$F$120,2,FALSE))","v":"@"},null,null,{"$f":"IF(ISERROR(VLOOKUP($D36&AF$4,申込確認シート!$E$1:$F$120,2,FALSE)),\"@\",VLOOKUP($D36&AF$4,申込確認シート!$E$1:$F$120,2,FALSE))","v":"@"},null,null,{"$f":"IF(ISERROR(VLOOKUP($D36&AI$4,申込確認シート!$E$1:$F$120,2,FALSE)),\"@\",VLOOKUP($D36&AI$4,申込確認シート!$E$1:$F$120,2,FALSE))","v":"@"},null,null,{"$f":"IF(ISERROR(VLOOKUP($D36&AL$4,申込確認シート!$E$1:$F$120,2,FALSE)),\"@\",VLOOKUP($D36&AL$4,申込確認シート!$E$1:$F$120,2,FALSE))","v":"@"},null,null,{"$f":"IF(ISERROR(VLOOKUP($D36&AO$4,申込確認シート!$E$1:$F$120,2,FALSE)),\"@\",VLOOKUP($D36&AO$4,申込確認シート!$E$1:$F$120,2,FALSE))","v":"@"},null,null,{"$f":"IF(ISERROR(VLOOKUP($D36&AR$4,申込確認シート!$E$1:$F$120,2,FALSE)),\"@\",VLOOKUP($D36&AR$4,申込確認シート!$E$1:$F$120,2,FALSE))","v":"@"},null,null,{"$f":"IF(ISERROR(VLOOKUP($D36&AU$4,申込確認シート!$E$1:$F$120,2,FALSE)),\"@\",VLOOKUP($D36&AU$4,申込確認シート!$E$1:$F$120,2,FALSE))","v":"@"},null,null,{"$f":"COUNTIF(申込確認シート!$C$1:$C$120,D36)","v":0}]
[null,9,"",{"$f":"IF(HLOOKUP(入力表!$E$4&\"女\",入力表!$DO$11:$EB$50,B13+4,FALSE)=\"*\",\"\",HLOOKUP(入力表!$E$4&\"女\",入力表!$DO$11:$EB$50,B13+4,FALSE))","v":{"$error":"#N/A"}},{"$f":"IF(ISERROR(VLOOKUP($D37&E$4,申込確認シート!$E$1:$F$120,2,FALSE)),\"@\",VLOOKUP($D37&E$4,申込確認シート!$E$1:$F$120,2,FALSE))","v":"@"},null,null,{"$f":"IF(ISERROR(VLOOKUP($D37&H$4,申込確認シート!$E$1:$F$120,2,FALSE)),\"@\",VLOOKUP($D37&H$4,申込確認シート!$E$1:$F$120,2,FALSE))","v":"@"},null,null,{"$f":"IF(ISERROR(VLOOKUP($D37&K$4,申込確認シート!$E$1:$F$120,2,FALSE)),\"@\",VLOOKUP($D37&K$4,申込確認シート!$E$1:$F$120,2,FALSE))","v":"@"},null,null,{"$f":"IF(ISERROR(VLOOKUP($D37&N$4,申込確認シート!$E$1:$F$120,2,FALSE)),\"@\",VLOOKUP($D37&N$4,申込確認シート!$E$1:$F$120,2,FALSE))","v":"@"},null,null,{"$f":"IF(ISERROR(VLOOKUP($D37&Q$4,申込確認シート!$E$1:$F$120,2,FALSE)),\"@\",VLOOKUP($D37&Q$4,申込確認シート!$E$1:$F$120,2,FALSE))","v":"@"},null,null,{"$f":"IF(ISERROR(VLOOKUP($D37&T$4,申込確認シート!$E$1:$F$120,2,FALSE)),\"@\",VLOOKUP($D37&T$4,申込確認シート!$E$1:$F$120,2,FALSE))","v":"@"},null,null,{"$f":"IF(ISERROR(VLOOKUP($D37&W$4,申込確認シート!$E$1:$F$120,2,FALSE)),\"@\",VLOOKUP($D37&W$4,申込確認シート!$E$1:$F$120,2,FALSE))","v":"@"},null,null,{"$f":"IF(ISERROR(VLOOKUP($D37&Z$4,申込確認シート!$E$1:$F$120,2,FALSE)),\"@\",VLOOKUP($D37&Z$4,申込確認シート!$E$1:$F$120,2,FALSE))","v":"@"},null,null,{"$f":"IF(ISERROR(VLOOKUP($D37&AC$4,申込確認シート!$E$1:$F$120,2,FALSE)),\"@\",VLOOKUP($D37&AC$4,申込確認シート!$E$1:$F$120,2,FALSE))","v":"@"},null,null,{"$f":"IF(ISERROR(VLOOKUP($D37&AF$4,申込確認シート!$E$1:$F$120,2,FALSE)),\"@\",VLOOKUP($D37&AF$4,申込確認シート!$E$1:$F$120,2,FALSE))","v":"@"},null,null,{"$f":"IF(ISERROR(VLOOKUP($D37&AI$4,申込確認シート!$E$1:$F$120,2,FALSE)),\"@\",VLOOKUP($D37&AI$4,申込確認シート!$E$1:$F$120,2,FALSE))","v":"@"},null,null,{"$f":"IF(ISERROR(VLOOKUP($D37&AL$4,申込確認シート!$E$1:$F$120,2,FALSE)),\"@\",VLOOKUP($D37&AL$4,申込確認シート!$E$1:$F$120,2,FALSE))","v":"@"},null,null,{"$f":"IF(ISERROR(VLOOKUP($D37&AO$4,申込確認シート!$E$1:$F$120,2,FALSE)),\"@\",VLOOKUP($D37&AO$4,申込確認シート!$E$1:$F$120,2,FALSE))","v":"@"},null,null,{"$f":"IF(ISERROR(VLOOKUP($D37&AR$4,申込確認シート!$E$1:$F$120,2,FALSE)),\"@\",VLOOKUP($D37&AR$4,申込確認シート!$E$1:$F$120,2,FALSE))","v":"@"},null,null,{"$f":"IF(ISERROR(VLOOKUP($D37&AU$4,申込確認シート!$E$1:$F$120,2,FALSE)),\"@\",VLOOKUP($D37&AU$4,申込確認シート!$E$1:$F$120,2,FALSE))","v":"@"},null,null,{"$f":"COUNTIF(申込確認シート!$C$1:$C$120,D37)","v":0}]
[null,10,"",{"$f":"IF(HLOOKUP(入力表!$E$4&\"女\",入力表!$DO$11:$EB$50,B14+4,FALSE)=\"*\",\"\",HLOOKUP(入力表!$E$4&\"女\",入力表!$DO$11:$EB$50,B14+4,FALSE))","v":{"$error":"#N/A"}},{"$f":"IF(ISERROR(VLOOKUP($D38&E$4,申込確認シート!$E$1:$F$120,2,FALSE)),\"@\",VLOOKUP($D38&E$4,申込確認シート!$E$1:$F$120,2,FALSE))","v":"@"},null,null,{"$f":"IF(ISERROR(VLOOKUP($D38&H$4,申込確認シート!$E$1:$F$120,2,FALSE)),\"@\",VLOOKUP($D38&H$4,申込確認シート!$E$1:$F$120,2,FALSE))","v":"@"},null,null,{"$f":"IF(ISERROR(VLOOKUP($D38&K$4,申込確認シート!$E$1:$F$120,2,FALSE)),\"@\",VLOOKUP($D38&K$4,申込確認シート!$E$1:$F$120,2,FALSE))","v":"@"},null,null,{"$f":"IF(ISERROR(VLOOKUP($D38&N$4,申込確認シート!$E$1:$F$120,2,FALSE)),\"@\",VLOOKUP($D38&N$4,申込確認シート!$E$1:$F$120,2,FALSE))","v":"@"},null,null,{"$f":"IF(ISERROR(VLOOKUP($D38&Q$4,申込確認シート!$E$1:$F$120,2,FALSE)),\"@\",VLOOKUP($D38&Q$4,申込確認シート!$E$1:$F$120,2,FALSE))","v":"@"},null,null,{"$f":"IF(ISERROR(VLOOKUP($D38&T$4,申込確認シート!$E$1:$F$120,2,FALSE)),\"@\",VLOOKUP($D38&T$4,申込確認シート!$E$1:$F$120,2,FALSE))","v":"@"},null,null,{"$f":"IF(ISERROR(VLOOKUP($D38&W$4,申込確認シート!$E$1:$F$120,2,FALSE)),\"@\",VLOOKUP($D38&W$4,申込確認シート!$E$1:$F$120,2,FALSE))","v":"@"},null,null,{"$f":"IF(ISERROR(VLOOKUP($D38&Z$4,申込確認シート!$E$1:$F$120,2,FALSE)),\"@\",VLOOKUP($D38&Z$4,申込確認シート!$E$1:$F$120,2,FALSE))","v":"@"},null,null,{"$f":"IF(ISERROR(VLOOKUP($D38&AC$4,申込確認シート!$E$1:$F$120,2,FALSE)),\"@\",VLOOKUP($D38&AC$4,申込確認シート!$E$1:$F$120,2,FALSE))","v":"@"},null,null,{"$f":"IF(ISERROR(VLOOKUP($D38&AF$4,申込確認シート!$E$1:$F$120,2,FALSE)),\"@\",VLOOKUP($D38&AF$4,申込確認シート!$E$1:$F$120,2,FALSE))","v":"@"},null,null,{"$f":"IF(ISERROR(VLOOKUP($D38&AI$4,申込確認シート!$E$1:$F$120,2,FALSE)),\"@\",VLOOKUP($D38&AI$4,申込確認シート!$E$1:$F$120,2,FALSE))","v":"@"},null,null,{"$f":"IF(ISERROR(VLOOKUP($D38&AL$4,申込確認シート!$E$1:$F$120,2,FALSE)),\"@\",VLOOKUP($D38&AL$4,申込確認シート!$E$1:$F$120,2,FALSE))","v":"@"},null,null,{"$f":"IF(ISERROR(VLOOKUP($D38&AO$4,申込確認シート!$E$1:$F$120,2,FALSE)),\"@\",VLOOKUP($D38&AO$4,申込確認シート!$E$1:$F$120,2,FALSE))","v":"@"},null,null,{"$f":"IF(ISERROR(VLOOKUP($D38&AR$4,申込確認シート!$E$1:$F$120,2,FALSE)),\"@\",VLOOKUP($D38&AR$4,申込確認シート!$E$1:$F$120,2,FALSE))","v":"@"},null,null,{"$f":"IF(ISERROR(VLOOKUP($D38&AU$4,申込確認シート!$E$1:$F$120,2,FALSE)),\"@\",VLOOKUP($D38&AU$4,申込確認シート!$E$1:$F$120,2,FALSE))","v":"@"},null,null,{"$f":"COUNTIF(申込確認シート!$C$1:$C$120,D38)","v":0}]
[null,11,"",{"$f":"IF(HLOOKUP(入力表!$E$4&\"女\",入力表!$DO$11:$EB$50,B15+4,FALSE)=\"*\",\"\",HLOOKUP(入力表!$E$4&\"女\",入力表!$DO$11:$EB$50,B15+4,FALSE))","v":{"$error":"#N/A"}},{"$f":"IF(ISERROR(VLOOKUP($D39&E$4,申込確認シート!$E$1:$F$120,2,FALSE)),\"@\",VLOOKUP($D39&E$4,申込確認シート!$E$1:$F$120,2,FALSE))","v":"@"},null,null,{"$f":"IF(ISERROR(VLOOKUP($D39&H$4,申込確認シート!$E$1:$F$120,2,FALSE)),\"@\",VLOOKUP($D39&H$4,申込確認シート!$E$1:$F$120,2,FALSE))","v":"@"},null,null,{"$f":"IF(ISERROR(VLOOKUP($D39&K$4,申込確認シート!$E$1:$F$120,2,FALSE)),\"@\",VLOOKUP($D39&K$4,申込確認シート!$E$1:$F$120,2,FALSE))","v":"@"},null,null,{"$f":"IF(ISERROR(VLOOKUP($D39&N$4,申込確認シート!$E$1:$F$120,2,FALSE)),\"@\",VLOOKUP($D39&N$4,申込確認シート!$E$1:$F$120,2,FALSE))","v":"@"},null,null,{"$f":"IF(ISERROR(VLOOKUP($D39&Q$4,申込確認シート!$E$1:$F$120,2,FALSE)),\"@\",VLOOKUP($D39&Q$4,申込確認シート!$E$1:$F$120,2,FALSE))","v":"@"},null,null,{"$f":"IF(ISERROR(VLOOKUP($D39&T$4,申込確認シート!$E$1:$F$120,2,FALSE)),\"@\",VLOOKUP($D39&T$4,申込確認シート!$E$1:$F$120,2,FALSE))","v":"@"},null,null,{"$f":"IF(ISERROR(VLOOKUP($D39&W$4,申込確認シート!$E$1:$F$120,2,FALSE)),\"@\",VLOOKUP($D39&W$4,申込確認シート!$E$1:$F$120,2,FALSE))","v":"@"},null,null,{"$f":"IF(ISERROR(VLOOKUP($D39&Z$4,申込確認シート!$E$1:$F$120,2,FALSE)),\"@\",VLOOKUP($D39&Z$4,申込確認シート!$E$1:$F$120,2,FALSE))","v":"@"},null,null,{"$f":"IF(ISERROR(VLOOKUP($D39&AC$4,申込確認シート!$E$1:$F$120,2,FALSE)),\"@\",VLOOKUP($D39&AC$4,申込確認シート!$E$1:$F$120,2,FALSE))","v":"@"},null,null,{"$f":"IF(ISERROR(VLOOKUP($D39&AF$4,申込確認シート!$E$1:$F$120,2,FALSE)),\"@\",VLOOKUP($D39&AF$4,申込確認シート!$E$1:$F$120,2,FALSE))","v":"@"},null,null,{"$f":"IF(ISERROR(VLOOKUP($D39&AI$4,申込確認シート!$E$1:$F$120,2,FALSE)),\"@\",VLOOKUP($D39&AI$4,申込確認シート!$E$1:$F$120,2,FALSE))","v":"@"},null,null,{"$f":"IF(ISERROR(VLOOKUP($D39&AL$4,申込確認シート!$E$1:$F$120,2,FALSE)),\"@\",VLOOKUP($D39&AL$4,申込確認シート!$E$1:$F$120,2,FALSE))","v":"@"},null,null,{"$f":"IF(ISERROR(VLOOKUP($D39&AO$4,申込確認シート!$E$1:$F$120,2,FALSE)),\"@\",VLOOKUP($D39&AO$4,申込確認シート!$E$1:$F$120,2,FALSE))","v":"@"},null,null,{"$f":"IF(ISERROR(VLOOKUP($D39&AR$4,申込確認シート!$E$1:$F$120,2,FALSE)),\"@\",VLOOKUP($D39&AR$4,申込確認シート!$E$1:$F$120,2,FALSE))","v":"@"},null,null,{"$f":"IF(ISERROR(VLOOKUP($D39&AU$4,申込確認シート!$E$1:$F$120,2,FALSE)),\"@\",VLOOKUP($D39&AU$4,申込確認シート!$E$1:$F$120,2,FALSE))","v":"@"},null,null,{"$f":"COUNTIF(申込確認シート!$C$1:$C$120,D39)","v":0}]
[null,12,"",{"$f":"IF(HLOOKUP(入力表!$E$4&\"女\",入力表!$DO$11:$EB$50,B16+4,FALSE)=\"*\",\"\",HLOOKUP(入力表!$E$4&\"女\",入力表!$DO$11:$EB$50,B16+4,FALSE))","v":{"$error":"#N/A"}},{"$f":"IF(ISERROR(VLOOKUP($D40&E$4,申込確認シート!$E$1:$F$120,2,FALSE)),\"@\",VLOOKUP($D40&E$4,申込確認シート!$E$1:$F$120,2,FALSE))","v":"@"},null,null,{"$f":"IF(ISERROR(VLOOKUP($D40&H$4,申込確認シート!$E$1:$F$120,2,FALSE)),\"@\",VLOOKUP($D40&H$4,申込確認シート!$E$1:$F$120,2,FALSE))","v":"@"},null,null,{"$f":"IF(ISERROR(VLOOKUP($D40&K$4,申込確認シート!$E$1:$F$120,2,FALSE)),\"@\",VLOOKUP($D40&K$4,申込確認シート!$E$1:$F$120,2,FALSE))","v":"@"},null,null,{"$f":"IF(ISERROR(VLOOKUP($D40&N$4,申込確認シート!$E$1:$F$120,2,FALSE)),\"@\",VLOOKUP($D40&N$4,申込確認シート!$E$1:$F$120,2,FALSE))","v":"@"},null,null,{"$f":"IF(ISERROR(VLOOKUP($D40&Q$4,申込確認シート!$E$1:$F$120,2,FALSE)),\"@\",VLOOKUP($D40&Q$4,申込確認シート!$E$1:$F$120,2,FALSE))","v":"@"},null,null,{"$f":"IF(ISERROR(VLOOKUP($D40&T$4,申込確認シート!$E$1:$F$120,2,FALSE)),\"@\",VLOOKUP($D40&T$4,申込確認シート!$E$1:$F$120,2,FALSE))","v":"@"},null,null,{"$f":"IF(ISERROR(VLOOKUP($D40&W$4,申込確認シート!$E$1:$F$120,2,FALSE)),\"@\",VLOOKUP($D40&W$4,申込確認シート!$E$1:$F$120,2,FALSE))","v":"@"},null,null,{"$f":"IF(ISERROR(VLOOKUP($D40&Z$4,申込確認シート!$E$1:$F$120,2,FALSE)),\"@\",VLOOKUP($D40&Z$4,申込確認シート!$E$1:$F$120,2,FALSE))","v":"@"},null,null,{"$f":"IF(ISERROR(VLOOKUP($D40&AC$4,申込確認シート!$E$1:$F$120,2,FALSE)),\"@\",VLOOKUP($D40&AC$4,申込確認シート!$E$1:$F$120,2,FALSE))","v":"@"},null,null,{"$f":"IF(ISERROR(VLOOKUP($D40&AF$4,申込確認シート!$E$1:$F$120,2,FALSE)),\"@\",VLOOKUP($D40&AF$4,申込確認シート!$E$1:$F$120,2,FALSE))","v":"@"},null,null,{"$f":"IF(ISERROR(VLOOKUP($D40&AI$4,申込確認シート!$E$1:$F$120,2,FALSE)),\"@\",VLOOKUP($D40&AI$4,申込確認シート!$E$1:$F$120,2,FALSE))","v":"@"},null,null,{"$f":"IF(ISERROR(VLOOKUP($D40&AL$4,申込確認シート!$E$1:$F$120,2,FALSE)),\"@\",VLOOKUP($D40&AL$4,申込確認シート!$E$1:$F$120,2,FALSE))","v":"@"},null,null,{"$f":"IF(ISERROR(VLOOKUP($D40&AO$4,申込確認シート!$E$1:$F$120,2,FALSE)),\"@\",VLOOKUP($D40&AO$4,申込確認シート!$E$1:$F$120,2,FALSE))","v":"@"},null,null,{"$f":"IF(ISERROR(VLOOKUP($D40&AR$4,申込確認シート!$E$1:$F$120,2,FALSE)),\"@\",VLOOKUP($D40&AR$4,申込確認シート!$E$1:$F$120,2,FALSE))","v":"@"},null,null,{"$f":"IF(ISERROR(VLOOKUP($D40&AU$4,申込確認シート!$E$1:$F$120,2,FALSE)),\"@\",VLOOKUP($D40&AU$4,申込確認シート!$E$1:$F$120,2,FALSE))","v":"@"},null,null,{"$f":"COUNTIF(申込確認シート!$C$1:$C$120,D40)","v":0}]
[null,13,"",{"$f":"IF(HLOOKUP(入力表!$E$4&\"女\",入力表!$DO$11:$EB$50,B17+4,FALSE)=\"*\",\"\",HLOOKUP(入力表!$E$4&\"女\",入力表!$DO$11:$EB$50,B17+4,FALSE))","v":{"$error":"#N/A"}},{"$f":"IF(ISERROR(VLOOKUP($D41&E$4,申込確認シート!$E$1:$F$120,2,FALSE)),\"@\",VLOOKUP($D41&E$4,申込確認シート!$E$1:$F$120,2,FALSE))","v":"@"},null,null,{"$f":"IF(ISERROR(VLOOKUP($D41&H$4,申込確認シート!$E$1:$F$120,2,FALSE)),\"@\",VLOOKUP($D41&H$4,申込確認シート!$E$1:$F$120,2,FALSE))","v":"@"},null,null,{"$f":"IF(ISERROR(VLOOKUP($D41&K$4,申込確認シート!$E$1:$F$120,2,FALSE)),\"@\",VLOOKUP($D41&K$4,申込確認シート!$E$1:$F$120,2,FALSE))","v":"@"},null,null,{"$f":"IF(ISERROR(VLOOKUP($D41&N$4,申込確認シート!$E$1:$F$120,2,FALSE)),\"@\",VLOOKUP($D41&N$4,申込確認シート!$E$1:$F$120,2,FALSE))","v":"@"},null,null,{"$f":"IF(ISERROR(VLOOKUP($D41&Q$4,申込確認シート!$E$1:$F$120,2,FALSE)),\"@\",VLOOKUP($D41&Q$4,申込確認シート!$E$1:$F$120,2,FALSE))","v":"@"},null,null,{"$f":"IF(ISERROR(VLOOKUP($D41&T$4,申込確認シート!$E$1:$F$120,2,FALSE)),\"@\",VLOOKUP($D41&T$4,申込確認シート!$E$1:$F$120,2,FALSE))","v":"@"},null,null,{"$f":"IF(ISERROR(VLOOKUP($D41&W$4,申込確認シート!$E$1:$F$120,2,FALSE)),\"@\",VLOOKUP($D41&W$4,申込確認シート!$E$1:$F$120,2,FALSE))","v":"@"},null,null,{"$f":"IF(ISERROR(VLOOKUP($D41&Z$4,申込確認シート!$E$1:$F$120,2,FALSE)),\"@\",VLOOKUP($D41&Z$4,申込確認シート!$E$1:$F$120,2,FALSE))","v":"@"},null,null,{"$f":"IF(ISERROR(VLOOKUP($D41&AC$4,申込確認シート!$E$1:$F$120,2,FALSE)),\"@\",VLOOKUP($D41&AC$4,申込確認シート!$E$1:$F$120,2,FALSE))","v":"@"},null,null,{"$f":"IF(ISERROR(VLOOKUP($D41&AF$4,申込確認シート!$E$1:$F$120,2,FALSE)),\"@\",VLOOKUP($D41&AF$4,申込確認シート!$E$1:$F$120,2,FALSE))","v":"@"},null,null,{"$f":"IF(ISERROR(VLOOKUP($D41&AI$4,申込確認シート!$E$1:$F$120,2,FALSE)),\"@\",VLOOKUP($D41&AI$4,申込確認シート!$E$1:$F$120,2,FALSE))","v":"@"},null,null,{"$f":"IF(ISERROR(VLOOKUP($D41&AL$4,申込確認シート!$E$1:$F$120,2,FALSE)),\"@\",VLOOKUP($D41&AL$4,申込確認シート!$E$1:$F$120,2,FALSE))","v":"@"},null,null,{"$f":"IF(ISERROR(VLOOKUP($D41&AO$4,申込確認シート!$E$1:$F$120,2,FALSE)),\"@\",VLOOKUP($D41&AO$4,申込確認シート!$E$1:$F$120,2,FALSE))","v":"@"},null,null,{"$f":"IF(ISERROR(VLOOKUP($D41&AR$4,申込確認シート!$E$1:$F$120,2,FALSE)),\"@\",VLOOKUP($D41&AR$4,申込確認シート!$E$1:$F$120,2,FALSE))","v":"@"},null,null,{"$f":"IF(ISERROR(VLOOKUP($D41&AU$4,申込確認シート!$E$1:$F$120,2,FALSE)),\"@\",VLOOKUP($D41&AU$4,申込確認シート!$E$1:$F$120,2,FALSE))","v":"@"},null,null,{"$f":"COUNTIF(申込確認シート!$C$1:$C$120,D41)","v":0}]
[null,14,"",{"$f":"IF(HLOOKUP(入力表!$E$4&\"女\",入力表!$DO$11:$EB$50,B18+4,FALSE)=\"*\",\"\",HLOOKUP(入力表!$E$4&\"女\",入力表!$DO$11:$EB$50,B18+4,FALSE))","v":{"$error":"#N/A"}},{"$f":"IF(ISERROR(VLOOKUP($D42&E$4,申込確認シート!$E$1:$F$120,2,FALSE)),\"@\",VLOOKUP($D42&E$4,申込確認シート!$E$1:$F$120,2,FALSE))","v":"@"},null,null,{"$f":"IF(ISERROR(VLOOKUP($D42&H$4,申込確認シート!$E$1:$F$120,2,FALSE)),\"@\",VLOOKUP($D42&H$4,申込確認シート!$E$1:$F$120,2,FALSE))","v":"@"},null,null,{"$f":"IF(ISERROR(VLOOKUP($D42&K$4,申込確認シート!$E$1:$F$120,2,FALSE)),\"@\",VLOOKUP($D42&K$4,申込確認シート!$E$1:$F$120,2,FALSE))","v":"@"},null,null,{"$f":"IF(ISERROR(VLOOKUP($D42&N$4,申込確認シート!$E$1:$F$120,2,FALSE)),\"@\",VLOOKUP($D42&N$4,申込確認シート!$E$1:$F$120,2,FALSE))","v":"@"},null,null,{"$f":"IF(ISERROR(VLOOKUP($D42&Q$4,申込確認シート!$E$1:$F$120,2,FALSE)),\"@\",VLOOKUP($D42&Q$4,申込確認シート!$E$1:$F$120,2,FALSE))","v":"@"},null,null,{"$f":"IF(ISERROR(VLOOKUP($D42&T$4,申込確認シート!$E$1:$F$120,2,FALSE)),\"@\",VLOOKUP($D42&T$4,申込確認シート!$E$1:$F$120,2,FALSE))","v":"@"},null,null,{"$f":"IF(ISERROR(VLOOKUP($D42&W$4,申込確認シート!$E$1:$F$120,2,FALSE)),\"@\",VLOOKUP($D42&W$4,申込確認シート!$E$1:$F$120,2,FALSE))","v":"@"},null,null,{"$f":"IF(ISERROR(VLOOKUP($D42&Z$4,申込確認シート!$E$1:$F$120,2,FALSE)),\"@\",VLOOKUP($D42&Z$4,申込確認シート!$E$1:$F$120,2,FALSE))","v":"@"},null,null,{"$f":"IF(ISERROR(VLOOKUP($D42&AC$4,申込確認シート!$E$1:$F$120,2,FALSE)),\"@\",VLOOKUP($D42&AC$4,申込確認シート!$E$1:$F$120,2,FALSE))","v":"@"},null,null,{"$f":"IF(ISERROR(VLOOKUP($D42&AF$4,申込確認シート!$E$1:$F$120,2,FALSE)),\"@\",VLOOKUP($D42&AF$4,申込確認シート!$E$1:$F$120,2,FALSE))","v":"@"},null,null,{"$f":"IF(ISERROR(VLOOKUP($D42&AI$4,申込確認シート!$E$1:$F$120,2,FALSE)),\"@\",VLOOKUP($D42&AI$4,申込確認シート!$E$1:$F$120,2,FALSE))","v":"@"},null,null,{"$f":"IF(ISERROR(VLOOKUP($D42&AL$4,申込確認シート!$E$1:$F$120,2,FALSE)),\"@\",VLOOKUP($D42&AL$4,申込確認シート!$E$1:$F$120,2,FALSE))","v":"@"},null,null,{"$f":"IF(ISERROR(VLOOKUP($D42&AO$4,申込確認シート!$E$1:$F$120,2,FALSE)),\"@\",VLOOKUP($D42&AO$4,申込確認シート!$E$1:$F$120,2,FALSE))","v":"@"},null,null,{"$f":"IF(ISERROR(VLOOKUP($D42&AR$4,申込確認シート!$E$1:$F$120,2,FALSE)),\"@\",VLOOKUP($D42&AR$4,申込確認シート!$E$1:$F$120,2,FALSE))","v":"@"},null,null,{"$f":"IF(ISERROR(VLOOKUP($D42&AU$4,申込確認シート!$E$1:$F$120,2,FALSE)),\"@\",VLOOKUP($D42&AU$4,申込確認シート!$E$1:$F$120,2,FALSE))","v":"@"},null,null,{"$f":"COUNTIF(申込確認シート!$C$1:$C$120,D42)","v":0}]
[null,15,"",{"$f":"IF(HLOOKUP(入力表!$E$4&\"女\",入力表!$DO$11:$EB$50,B19+4,FALSE)=\"*\",\"\",HLOOKUP(入力表!$E$4&\"女\",入力表!$DO$11:$EB$50,B19+4,FALSE))","v":{"$error":"#N/A"}},{"$f":"IF(ISERROR(VLOOKUP($D43&E$4,申込確認シート!$E$1:$F$120,2,FALSE)),\"@\",VLOOKUP($D43&E$4,申込確認シート!$E$1:$F$120,2,FALSE))","v":"@"},null,null,{"$f":"IF(ISERROR(VLOOKUP($D43&H$4,申込確認シート!$E$1:$F$120,2,FALSE)),\"@\",VLOOKUP($D43&H$4,申込確認シート!$E$1:$F$120,2,FALSE))","v":"@"},null,null,{"$f":"IF(ISERROR(VLOOKUP($D43&K$4,申込確認シート!$E$1:$F$120,2,FALSE)),\"@\",VLOOKUP($D43&K$4,申込確認シート!$E$1:$F$120,2,FALSE))","v":"@"},null,null,{"$f":"IF(ISERROR(VLOOKUP($D43&N$4,申込確認シート!$E$1:$F$120,2,FALSE)),\"@\",VLOOKUP($D43&N$4,申込確認シート!$E$1:$F$120,2,FALSE))","v":"@"},null,null,{"$f":"IF(ISERROR(VLOOKUP($D43&Q$4,申込確認シート!$E$1:$F$120,2,FALSE)),\"@\",VLOOKUP($D43&Q$4,申込確認シート!$E$1:$F$120,2,FALSE))","v":"@"},null,null,{"$f":"IF(ISERROR(VLOOKUP($D43&T$4,申込確認シート!$E$1:$F$120,2,FALSE)),\"@\",VLOOKUP($D43&T$4,申込確認シート!$E$1:$F$120,2,FALSE))","v":"@"},null,null,{"$f":"IF(ISERROR(VLOOKUP($D43&W$4,申込確認シート!$E$1:$F$120,2,FALSE)),\"@\",VLOOKUP($D43&W$4,申込確認シート!$E$1:$F$120,2,FALSE))","v":"@"},null,null,{"$f":"IF(ISERROR(VLOOKUP($D43&Z$4,申込確認シート!$E$1:$F$120,2,FALSE)),\"@\",VLOOKUP($D43&Z$4,申込確認シート!$E$1:$F$120,2,FALSE))","v":"@"},null,null,{"$f":"IF(ISERROR(VLOOKUP($D43&AC$4,申込確認シート!$E$1:$F$120,2,FALSE)),\"@\",VLOOKUP($D43&AC$4,申込確認シート!$E$1:$F$120,2,FALSE))","v":"@"},null,null,{"$f":"IF(ISERROR(VLOOKUP($D43&AF$4,申込確認シート!$E$1:$F$120,2,FALSE)),\"@\",VLOOKUP($D43&AF$4,申込確認シート!$E$1:$F$120,2,FALSE))","v":"@"},null,null,{"$f":"IF(ISERROR(VLOOKUP($D43&AI$4,申込確認シート!$E$1:$F$120,2,FALSE)),\"@\",VLOOKUP($D43&AI$4,申込確認シート!$E$1:$F$120,2,FALSE))","v":"@"},null,null,{"$f":"IF(ISERROR(VLOOKUP($D43&AL$4,申込確認シート!$E$1:$F$120,2,FALSE)),\"@\",VLOOKUP($D43&AL$4,申込確認シート!$E$1:$F$120,2,FALSE))","v":"@"},null,null,{"$f":"IF(ISERROR(VLOOKUP($D43&AO$4,申込確認シート!$E$1:$F$120,2,FALSE)),\"@\",VLOOKUP($D43&AO$4,申込確認シート!$E$1:$F$120,2,FALSE))","v":"@"},null,null,{"$f":"IF(ISERROR(VLOOKUP($D43&AR$4,申込確認シート!$E$1:$F$120,2,FALSE)),\"@\",VLOOKUP($D43&AR$4,申込確認シート!$E$1:$F$120,2,FALSE))","v":"@"},null,null,{"$f":"IF(ISERROR(VLOOKUP($D43&AU$4,申込確認シート!$E$1:$F$120,2,FALSE)),\"@\",VLOOKUP($D43&AU$4,申込確認シート!$E$1:$F$120,2,FALSE))","v":"@"},null,null,{"$f":"COUNTIF(申込確認シート!$C$1:$C$120,D43)","v":0}]
[null,16,"",{"$f":"IF(HLOOKUP(入力表!$E$4&\"女\",入力表!$DO$11:$EB$50,B20+4,FALSE)=\"*\",\"\",HLOOKUP(入力表!$E$4&\"女\",入力表!$DO$11:$EB$50,B20+4,FALSE))","v":{"$error":"#N/A"}},{"$f":"IF(ISERROR(VLOOKUP($D44&E$4,申込確認シート!$E$1:$F$120,2,FALSE)),\"@\",VLOOKUP($D44&E$4,申込確認シート!$E$1:$F$120,2,FALSE))","v":"@"},null,null,{"$f":"IF(ISERROR(VLOOKUP($D44&H$4,申込確認シート!$E$1:$F$120,2,FALSE)),\"@\",VLOOKUP($D44&H$4,申込確認シート!$E$1:$F$120,2,FALSE))","v":"@"},null,null,{"$f":"IF(ISERROR(VLOOKUP($D44&K$4,申込確認シート!$E$1:$F$120,2,FALSE)),\"@\",VLOOKUP($D44&K$4,申込確認シート!$E$1:$F$120,2,FALSE))","v":"@"},null,null,{"$f":"IF(ISERROR(VLOOKUP($D44&N$4,申込確認シート!$E$1:$F$120,2,FALSE)),\"@\",VLOOKUP($D44&N$4,申込確認シート!$E$1:$F$120,2,FALSE))","v":"@"},null,null,{"$f":"IF(ISERROR(VLOOKUP($D44&Q$4,申込確認シート!$E$1:$F$120,2,FALSE)),\"@\",VLOOKUP($D44&Q$4,申込確認シート!$E$1:$F$120,2,FALSE))","v":"@"},null,null,{"$f":"IF(ISERROR(VLOOKUP($D44&T$4,申込確認シート!$E$1:$F$120,2,FALSE)),\"@\",VLOOKUP($D44&T$4,申込確認シート!$E$1:$F$120,2,FALSE))","v":"@"},null,null,{"$f":"IF(ISERROR(VLOOKUP($D44&W$4,申込確認シート!$E$1:$F$120,2,FALSE)),\"@\",VLOOKUP($D44&W$4,申込確認シート!$E$1:$F$120,2,FALSE))","v":"@"},null,null,{"$f":"IF(ISERROR(VLOOKUP($D44&Z$4,申込確認シート!$E$1:$F$120,2,FALSE)),\"@\",VLOOKUP($D44&Z$4,申込確認シート!$E$1:$F$120,2,FALSE))","v":"@"},null,null,{"$f":"IF(ISERROR(VLOOKUP($D44&AC$4,申込確認シート!$E$1:$F$120,2,FALSE)),\"@\",VLOOKUP($D44&AC$4,申込確認シート!$E$1:$F$120,2,FALSE))","v":"@"},null,null,{"$f":"IF(ISERROR(VLOOKUP($D44&AF$4,申込確認シート!$E$1:$F$120,2,FALSE)),\"@\",VLOOKUP($D44&AF$4,申込確認シート!$E$1:$F$120,2,FALSE))","v":"@"},null,null,{"$f":"IF(ISERROR(VLOOKUP($D44&AI$4,申込確認シート!$E$1:$F$120,2,FALSE)),\"@\",VLOOKUP($D44&AI$4,申込確認シート!$E$1:$F$120,2,FALSE))","v":"@"},null,null,{"$f":"IF(ISERROR(VLOOKUP($D44&AL$4,申込確認シート!$E$1:$F$120,2,FALSE)),\"@\",VLOOKUP($D44&AL$4,申込確認シート!$E$1:$F$120,2,FALSE))","v":"@"},null,null,{"$f":"IF(ISERROR(VLOOKUP($D44&AO$4,申込確認シート!$E$1:$F$120,2,FALSE)),\"@\",VLOOKUP($D44&AO$4,申込確認シート!$E$1:$F$120,2,FALSE))","v":"@"},null,null,{"$f":"IF(ISERROR(VLOOKUP($D44&AR$4,申込確認シート!$E$1:$F$120,2,FALSE)),\"@\",VLOOKUP($D44&AR$4,申込確認シート!$E$1:$F$120,2,FALSE))","v":"@"},null,null,{"$f":"IF(ISERROR(VLOOKUP($D44&AU$4,申込確認シート!$E$1:$F$120,2,FALSE)),\"@\",VLOOKUP($D44&AU$4,申込確認シート!$E$1:$F$120,2,FALSE))","v":"@"},null,null,{"$f":"COUNTIF(申込確認シート!$C$1:$C$120,D44)","v":0}]
[null,17,"",{"$f":"IF(HLOOKUP(入力表!$E$4&\"女\",入力表!$DO$11:$EB$50,B21+4,FALSE)=\"*\",\"\",HLOOKUP(入力表!$E$4&\"女\",入力表!$DO$11:$EB$50,B21+4,FALSE))","v":{"$error":"#N/A"}},{"$f":"IF(ISERROR(VLOOKUP($D45&E$4,申込確認シート!$E$1:$F$120,2,FALSE)),\"@\",VLOOKUP($D45&E$4,申込確認シート!$E$1:$F$120,2,FALSE))","v":"@"},null,null,{"$f":"IF(ISERROR(VLOOKUP($D45&H$4,申込確認シート!$E$1:$F$120,2,FALSE)),\"@\",VLOOKUP($D45&H$4,申込確認シート!$E$1:$F$120,2,FALSE))","v":"@"},null,null,{"$f":"IF(ISERROR(VLOOKUP($D45&K$4,申込確認シート!$E$1:$F$120,2,FALSE)),\"@\",VLOOKUP($D45&K$4,申込確認シート!$E$1:$F$120,2,FALSE))","v":"@"},null,null,{"$f":"IF(ISERROR(VLOOKUP($D45&N$4,申込確認シート!$E$1:$F$120,2,FALSE)),\"@\",VLOOKUP($D45&N$4,申込確認シート!$E$1:$F$120,2,FALSE))","v":"@"},null,null,{"$f":"IF(ISERROR(VLOOKUP($D45&Q$4,申込確認シート!$E$1:$F$120,2,FALSE)),\"@\",VLOOKUP($D45&Q$4,申込確認シート!$E$1:$F$120,2,FALSE))","v":"@"},null,null,{"$f":"IF(ISERROR(VLOOKUP($D45&T$4,申込確認シート!$E$1:$F$120,2,FALSE)),\"@\",VLOOKUP($D45&T$4,申込確認シート!$E$1:$F$120,2,FALSE))","v":"@"},null,null,{"$f":"IF(ISERROR(VLOOKUP($D45&W$4,申込確認シート!$E$1:$F$120,2,FALSE)),\"@\",VLOOKUP($D45&W$4,申込確認シート!$E$1:$F$120,2,FALSE))","v":"@"},null,null,{"$f":"IF(ISERROR(VLOOKUP($D45&Z$4,申込確認シート!$E$1:$F$120,2,FALSE)),\"@\",VLOOKUP($D45&Z$4,申込確認シート!$E$1:$F$120,2,FALSE))","v":"@"},null,null,{"$f":"IF(ISERROR(VLOOKUP($D45&AC$4,申込確認シート!$E$1:$F$120,2,FALSE)),\"@\",VLOOKUP($D45&AC$4,申込確認シート!$E$1:$F$120,2,FALSE))","v":"@"},null,null,{"$f":"IF(ISERROR(VLOOKUP($D45&AF$4,申込確認シート!$E$1:$F$120,2,FALSE)),\"@\",VLOOKUP($D45&AF$4,申込確認シート!$E$1:$F$120,2,FALSE))","v":"@"},null,null,{"$f":"IF(ISERROR(VLOOKUP($D45&AI$4,申込確認シート!$E$1:$F$120,2,FALSE)),\"@\",VLOOKUP($D45&AI$4,申込確認シート!$E$1:$F$120,2,FALSE))","v":"@"},null,null,{"$f":"IF(ISERROR(VLOOKUP($D45&AL$4,申込確認シート!$E$1:$F$120,2,FALSE)),\"@\",VLOOKUP($D45&AL$4,申込確認シート!$E$1:$F$120,2,FALSE))","v":"@"},null,null,{"$f":"IF(ISERROR(VLOOKUP($D45&AO$4,申込確認シート!$E$1:$F$120,2,FALSE)),\"@\",VLOOKUP($D45&AO$4,申込確認シート!$E$1:$F$120,2,FALSE))","v":"@"},null,null,{"$f":"IF(ISERROR(VLOOKUP($D45&AR$4,申込確認シート!$E$1:$F$120,2,FALSE)),\"@\",VLOOKUP($D45&AR$4,申込確認シート!$E$1:$F$120,2,FALSE))","v":"@"},null,null,{"$f":"IF(ISERROR(VLOOKUP($D45&AU$4,申込確認シート!$E$1:$F$120,2,FALSE)),\"@\",VLOOKUP($D45&AU$4,申込確認シート!$E$1:$F$120,2,FALSE))","v":"@"},null,null,{"$f":"COUNTIF(申込確認シート!$C$1:$C$120,D45)","v":0}]
[null,18,"",{"$f":"IF(HLOOKUP(入力表!$E$4&\"女\",入力表!$DO$11:$EB$50,B22+4,FALSE)=\"*\",\"\",HLOOKUP(入力表!$E$4&\"女\",入力表!$DO$11:$EB$50,B22+4,FALSE))","v":{"$error":"#N/A"}},{"$f":"IF(ISERROR(VLOOKUP($D46&E$4,申込確認シート!$E$1:$F$120,2,FALSE)),\"@\",VLOOKUP($D46&E$4,申込確認シート!$E$1:$F$120,2,FALSE))","v":"@"},null,null,{"$f":"IF(ISERROR(VLOOKUP($D46&H$4,申込確認シート!$E$1:$F$120,2,FALSE)),\"@\",VLOOKUP($D46&H$4,申込確認シート!$E$1:$F$120,2,FALSE))","v":"@"},null,null,{"$f":"IF(ISERROR(VLOOKUP($D46&K$4,申込確認シート!$E$1:$F$120,2,FALSE)),\"@\",VLOOKUP($D46&K$4,申込確認シート!$E$1:$F$120,2,FALSE))","v":"@"},null,null,{"$f":"IF(ISERROR(VLOOKUP($D46&N$4,申込確認シート!$E$1:$F$120,2,FALSE)),\"@\",VLOOKUP($D46&N$4,申込確認シート!$E$1:$F$120,2,FALSE))","v":"@"},null,null,{"$f":"IF(ISERROR(VLOOKUP($D46&Q$4,申込確認シート!$E$1:$F$120,2,FALSE)),\"@\",VLOOKUP($D46&Q$4,申込確認シート!$E$1:$F$120,2,FALSE))","v":"@"},null,null,{"$f":"IF(ISERROR(VLOOKUP($D46&T$4,申込確認シート!$E$1:$F$120,2,FALSE)),\"@\",VLOOKUP($D46&T$4,申込確認シート!$E$1:$F$120,2,FALSE))","v":"@"},null,null,{"$f":"IF(ISERROR(VLOOKUP($D46&W$4,申込確認シート!$E$1:$F$120,2,FALSE)),\"@\",VLOOKUP($D46&W$4,申込確認シート!$E$1:$F$120,2,FALSE))","v":"@"},null,null,{"$f":"IF(ISERROR(VLOOKUP($D46&Z$4,申込確認シート!$E$1:$F$120,2,FALSE)),\"@\",VLOOKUP($D46&Z$4,申込確認シート!$E$1:$F$120,2,FALSE))","v":"@"},null,null,{"$f":"IF(ISERROR(VLOOKUP($D46&AC$4,申込確認シート!$E$1:$F$120,2,FALSE)),\"@\",VLOOKUP($D46&AC$4,申込確認シート!$E$1:$F$120,2,FALSE))","v":"@"},null,null,{"$f":"IF(ISERROR(VLOOKUP($D46&AF$4,申込確認シート!$E$1:$F$120,2,FALSE)),\"@\",VLOOKUP($D46&AF$4,申込確認シート!$E$1:$F$120,2,FALSE))","v":"@"},null,null,{"$f":"IF(ISERROR(VLOOKUP($D46&AI$4,申込確認シート!$E$1:$F$120,2,FALSE)),\"@\",VLOOKUP($D46&AI$4,申込確認シート!$E$1:$F$120,2,FALSE))","v":"@"},null,null,{"$f":"IF(ISERROR(VLOOKUP($D46&AL$4,申込確認シート!$E$1:$F$120,2,FALSE)),\"@\",VLOOKUP($D46&AL$4,申込確認シート!$E$1:$F$120,2,FALSE))","v":"@"},null,null,{"$f":"IF(ISERROR(VLOOKUP($D46&AO$4,申込確認シート!$E$1:$F$120,2,FALSE)),\"@\",VLOOKUP($D46&AO$4,申込確認シート!$E$1:$F$120,2,FALSE))","v":"@"},null,null,{"$f":"IF(ISERROR(VLOOKUP($D46&AR$4,申込確認シート!$E$1:$F$120,2,FALSE)),\"@\",VLOOKUP($D46&AR$4,申込確認シート!$E$1:$F$120,2,FALSE))","v":"@"},null,null,{"$f":"IF(ISERROR(VLOOKUP($D46&AU$4,申込確認シート!$E$1:$F$120,2,FALSE)),\"@\",VLOOKUP($D46&AU$4,申込確認シート!$E$1:$F$120,2,FALSE))","v":"@"},null,null,{"$f":"COUNTIF(申込確認シート!$C$1:$C$120,D46)","v":0}]
[null,19,"",{"$f":"IF(HLOOKUP(入力表!$E$4&\"女\",入力表!$DO$11:$EB$50,B23+4,FALSE)=\"*\",\"\",HLOOKUP(入力表!$E$4&\"女\",入力表!$DO$11:$EB$50,B23+4,FALSE))","v":{"$error":"#N/A"}},{"$f":"IF(ISERROR(VLOOKUP($D47&E$4,申込確認シート!$E$1:$F$120,2,FALSE)),\"@\",VLOOKUP($D47&E$4,申込確認シート!$E$1:$F$120,2,FALSE))","v":"@"},null,null,{"$f":"IF(ISERROR(VLOOKUP($D47&H$4,申込確認シート!$E$1:$F$120,2,FALSE)),\"@\",VLOOKUP($D47&H$4,申込確認シート!$E$1:$F$120,2,FALSE))","v":"@"},null,null,{"$f":"IF(ISERROR(VLOOKUP($D47&K$4,申込確認シート!$E$1:$F$120,2,FALSE)),\"@\",VLOOKUP($D47&K$4,申込確認シート!$E$1:$F$120,2,FALSE))","v":"@"},null,null,{"$f":"IF(ISERROR(VLOOKUP($D47&N$4,申込確認シート!$E$1:$F$120,2,FALSE)),\"@\",VLOOKUP($D47&N$4,申込確認シート!$E$1:$F$120,2,FALSE))","v":"@"},null,null,{"$f":"IF(ISERROR(VLOOKUP($D47&Q$4,申込確認シート!$E$1:$F$120,2,FALSE)),\"@\",VLOOKUP($D47&Q$4,申込確認シート!$E$1:$F$120,2,FALSE))","v":"@"},null,null,{"$f":"IF(ISERROR(VLOOKUP($D47&T$4,申込確認シート!$E$1:$F$120,2,FALSE)),\"@\",VLOOKUP($D47&T$4,申込確認シート!$E$1:$F$120,2,FALSE))","v":"@"},null,null,{"$f":"IF(ISERROR(VLOOKUP($D47&W$4,申込確認シート!$E$1:$F$120,2,FALSE)),\"@\",VLOOKUP($D47&W$4,申込確認シート!$E$1:$F$120,2,FALSE))","v":"@"},null,null,{"$f":"IF(ISERROR(VLOOKUP($D47&Z$4,申込確認シート!$E$1:$F$120,2,FALSE)),\"@\",VLOOKUP($D47&Z$4,申込確認シート!$E$1:$F$120,2,FALSE))","v":"@"},null,null,{"$f":"IF(ISERROR(VLOOKUP($D47&AC$4,申込確認シート!$E$1:$F$120,2,FALSE)),\"@\",VLOOKUP($D47&AC$4,申込確認シート!$E$1:$F$120,2,FALSE))","v":"@"},null,null,{"$f":"IF(ISERROR(VLOOKUP($D47&AF$4,申込確認シート!$E$1:$F$120,2,FALSE)),\"@\",VLOOKUP($D47&AF$4,申込確認シート!$E$1:$F$120,2,FALSE))","v":"@"},null,null,{"$f":"IF(ISERROR(VLOOKUP($D47&AI$4,申込確認シート!$E$1:$F$120,2,FALSE)),\"@\",VLOOKUP($D47&AI$4,申込確認シート!$E$1:$F$120,2,FALSE))","v":"@"},null,null,{"$f":"IF(ISERROR(VLOOKUP($D47&AL$4,申込確認シート!$E$1:$F$120,2,FALSE)),\"@\",VLOOKUP($D47&AL$4,申込確認シート!$E$1:$F$120,2,FALSE))","v":"@"},null,null,{"$f":"IF(ISERROR(VLOOKUP($D47&AO$4,申込確認シート!$E$1:$F$120,2,FALSE)),\"@\",VLOOKUP($D47&AO$4,申込確認シート!$E$1:$F$120,2,FALSE))","v":"@"},null,null,{"$f":"IF(ISERROR(VLOOKUP($D47&AR$4,申込確認シート!$E$1:$F$120,2,FALSE)),\"@\",VLOOKUP($D47&AR$4,申込確認シート!$E$1:$F$120,2,FALSE))","v":"@"},null,null,{"$f":"IF(ISERROR(VLOOKUP($D47&AU$4,申込確認シート!$E$1:$F$120,2,FALSE)),\"@\",VLOOKUP($D47&AU$4,申込確認シート!$E$1:$F$120,2,FALSE))","v":"@"},null,null,{"$f":"COUNTIF(申込確認シート!$C$1:$C$120,D47)","v":0}]
[null,20,"",{"$f":"IF(HLOOKUP(入力表!$E$4&\"女\",入力表!$DO$11:$EB$50,B24+4,FALSE)=\"*\",\"\",HLOOKUP(入力表!$E$4&\"女\",入力表!$DO$11:$EB$50,B24+4,FALSE))","v":{"$error":"#N/A"}},{"$f":"IF(ISERROR(VLOOKUP($D48&E$4,申込確認シート!$E$1:$F$120,2,FALSE)),\"@\",VLOOKUP($D48&E$4,申込確認シート!$E$1:$F$120,2,FALSE))","v":"@"},null,null,{"$f":"IF(ISERROR(VLOOKUP($D48&H$4,申込確認シート!$E$1:$F$120,2,FALSE)),\"@\",VLOOKUP($D48&H$4,申込確認シート!$E$1:$F$120,2,FALSE))","v":"@"},null,null,{"$f":"IF(ISERROR(VLOOKUP($D48&K$4,申込確認シート!$E$1:$F$120,2,FALSE)),\"@\",VLOOKUP($D48&K$4,申込確認シート!$E$1:$F$120,2,FALSE))","v":"@"},null,null,{"$f":"IF(ISERROR(VLOOKUP($D48&N$4,申込確認シート!$E$1:$F$120,2,FALSE)),\"@\",VLOOKUP($D48&N$4,申込確認シート!$E$1:$F$120,2,FALSE))","v":"@"},null,null,{"$f":"IF(ISERROR(VLOOKUP($D48&Q$4,申込確認シート!$E$1:$F$120,2,FALSE)),\"@\",VLOOKUP($D48&Q$4,申込確認シート!$E$1:$F$120,2,FALSE))","v":"@"},null,null,{"$f":"IF(ISERROR(VLOOKUP($D48&T$4,申込確認シート!$E$1:$F$120,2,FALSE)),\"@\",VLOOKUP($D48&T$4,申込確認シート!$E$1:$F$120,2,FALSE))","v":"@"},null,null,{"$f":"IF(ISERROR(VLOOKUP($D48&W$4,申込確認シート!$E$1:$F$120,2,FALSE)),\"@\",VLOOKUP($D48&W$4,申込確認シート!$E$1:$F$120,2,FALSE))","v":"@"},null,null,{"$f":"IF(ISERROR(VLOOKUP($D48&Z$4,申込確認シート!$E$1:$F$120,2,FALSE)),\"@\",VLOOKUP($D48&Z$4,申込確認シート!$E$1:$F$120,2,FALSE))","v":"@"},null,null,{"$f":"IF(ISERROR(VLOOKUP($D48&AC$4,申込確認シート!$E$1:$F$120,2,FALSE)),\"@\",VLOOKUP($D48&AC$4,申込確認シート!$E$1:$F$120,2,FALSE))","v":"@"},null,null,{"$f":"IF(ISERROR(VLOOKUP($D48&AF$4,申込確認シート!$E$1:$F$120,2,FALSE)),\"@\",VLOOKUP($D48&AF$4,申込確認シート!$E$1:$F$120,2,FALSE))","v":"@"},null,null,{"$f":"IF(ISERROR(VLOOKUP($D48&AI$4,申込確認シート!$E$1:$F$120,2,FALSE)),\"@\",VLOOKUP($D48&AI$4,申込確認シート!$E$1:$F$120,2,FALSE))","v":"@"},null,null,{"$f":"IF(ISERROR(VLOOKUP($D48&AL$4,申込確認シート!$E$1:$F$120,2,FALSE)),\"@\",VLOOKUP($D48&AL$4,申込確認シート!$E$1:$F$120,2,FALSE))","v":"@"},null,null,{"$f":"IF(ISERROR(VLOOKUP($D48&AO$4,申込確認シート!$E$1:$F$120,2,FALSE)),\"@\",VLOOKUP($D48&AO$4,申込確認シート!$E$1:$F$120,2,FALSE))","v":"@"},null,null,{"$f":"IF(ISERROR(VLOOKUP($D48&AR$4,申込確認シート!$E$1:$F$120,2,FALSE)),\"@\",VLOOKUP($D48&AR$4,申込確認シート!$E$1:$F$120,2,FALSE))","v":"@"},null,null,{"$f":"IF(ISERROR(VLOOKUP($D48&AU$4,申込確認シート!$E$1:$F$120,2,FALSE)),\"@\",VLOOKUP($D48&AU$4,申込確認シート!$E$1:$F$120,2,FALSE))","v":"@"},null,null,{"$f":"COUNTIF(申込確認シート!$C$1:$C$120,D48)","v":0}]
[]
[null,null,null,null,"◆４００ｍR◆",null,null,null,null,1,null,null,2,null,null,3,null,null,4,null,null,5,null,null,6,null,null,null,"◆１６００ｍR◆",null,null,null,null,1,null,null,2,null,null,3,null,null,4,null,null,5,null,null,6]
["不明な点は・・・",null,null,null,"男子A",null,null,null,null,{"$f":"IF(ISERROR(VLOOKUP($E51&J$50,申込確認シート!$E$121:$F$160,2,FALSE)),\"@\",VLOOKUP($E51&J$50,申込確認シート!$E$121:$F$160,2,FALSE))","v":"@"},null,null,{"$f":"IF(ISERROR(VLOOKUP($E51&M$50,申込確認シート!$E$121:$F$160,2,FALSE)),\"@\",VLOOKUP($E51&M$50,申込確認シート!$E$121:$F$160,2,FALSE))","v":"@"},null,null,{"$f":"IF(ISERROR(VLOOKUP($E51&P$50,申込確認シート!$E$121:$F$160,2,FALSE)),\"@\",VLOOKUP($E51&P$50,申込確認シート!$E$121:$F$160,2,FALSE))","v":"@"},null,null,{"$f":"IF(ISERROR(VLOOKUP($E51&S$50,申込確認シート!$E$121:$F$160,2,FALSE)),\"@\",VLOOKUP($E51&S$50,申込確認シート!$E$121:$F$160,2,FALSE))","v":"@"},null,null,{"$f":"IF(ISERROR(VLOOKUP($E51&V$50,申込確認シート!$E$121:$F$160,2,FALSE)),\"@\",VLOOKUP($E51&V$50,申込確認シート!$E$121:$F$160,2,FALSE))","v":"@"},null,null,{"$f":"IF(ISERROR(VLOOKUP($E51&Y$50,申込確認シート!$E$121:$F$160,2,FALSE)),\"@\",VLOOKUP($E51&Y$50,申込確認シート!$E$121:$F$160,2,FALSE))","v":"@"},null,null,null,"男子A",null,null,null,null,{"$f":"IF(ISERROR(VLOOKUP($AC51&AH$50,申込確認シート!$E$161:$F$200,2,FALSE)),\"@\",VLOOKUP($AC51&AH$50,申込確認シート!$E$161:$F$200,2,FALSE))","v":"@"},null,null,{"$f":"IF(ISERROR(VLOOKUP($AC51&AK$50,申込確認シート!$E$161:$F$200,2,FALSE)),\"@\",VLOOKUP($AC51&AK$50,申込確認シート!$E$161:$F$200,2,FALSE))","v":"@"},null,null,{"$f":"IF(ISERROR(VLOOKUP($AC51&AN$50,申込確認シート!$E$161:$F$200,2,FALSE)),\"@\",VLOOKUP($AC51&AN$50,申込確認シート!$E$161:$F$200,2,FALSE))","v":"@"},null,null,{"$f":"IF(ISERROR(VLOOKUP($AC51&AQ$50,申込確認シート!$E$161:$F$200,2,FALSE)),\"@\",VLOOKUP($AC51&AQ$50,申込確認シート!$E$161:$F$200,2,FALSE))","v":"@"},null,null,{"$f":"IF(ISERROR(VLOOKUP($AC51&AT$50,申込確認シート!$E$161:$F$200,2,FALSE)),\"@\",VLOOKUP($AC51&AT$50,申込確認シート!$E$161:$F$200,2,FALSE))","v":"@"},null,null,{"$f":"IF(ISERROR(VLOOKUP($AC51&AW$50,申込確認シート!$E$161:$F$200,2,FALSE)),\"@\",VLOOKUP($AC51&AW$50,申込確認シート!$E$161:$F$200,2,FALSE))","v":"@"}]
["　オホーツク陸協",null,null,null,"男子B",null,null,null,null,{"$f":"IF(ISERROR(VLOOKUP($E52&J$50,申込確認シート!$E$121:$F$160,2,FALSE)),\"@\",VLOOKUP($E52&J$50,申込確認シート!$E$121:$F$160,2,FALSE))","v":"@"},null,null,{"$f":"IF(ISERROR(VLOOKUP($E52&M$50,申込確認シート!$E$121:$F$160,2,FALSE)),\"@\",VLOOKUP($E52&M$50,申込確認シート!$E$121:$F$160,2,FALSE))","v":"@"},null,null,{"$f":"IF(ISERROR(VLOOKUP($E52&P$50,申込確認シート!$E$121:$F$160,2,FALSE)),\"@\",VLOOKUP($E52&P$50,申込確認シート!$E$121:$F$160,2,FALSE))","v":"@"},null,null,{"$f":"IF(ISERROR(VLOOKUP($E52&S$50,申込確認シート!$E$121:$F$160,2,FALSE)),\"@\",VLOOKUP($E52&S$50,申込確認シート!$E$121:$F$160,2,FALSE))","v":"@"},null,null,{"$f":"IF(ISERROR(VLOOKUP($E52&V$50,申込確認シート!$E$121:$F$160,2,FALSE)),\"@\",VLOOKUP($E52&V$50,申込確認シート!$E$121:$F$160,2,FALSE))","v":"@"},null,null,{"$f":"IF(ISERROR(VLOOKUP($E52&Y$50,申込確認シート!$E$121:$F$160,2,FALSE)),\"@\",VLOOKUP($E52&Y$50,申込確認シート!$E$121:$F$160,2,FALSE))","v":"@"},null,null,null,"男子B",null,null,null,null,{"$f":"IF(ISERROR(VLOOKUP($AC52&AH$50,申込確認シート!$E$161:$F$200,2,FALSE)),\"@\",VLOOKUP($AC52&AH$50,申込確認シート!$E$161:$F$200,2,FALSE))","v":"@"},null,null,{"$f":"IF(ISERROR(VLOOKUP($AC52&AK$50,申込確認シート!$E$161:$F$200,2,FALSE)),\"@\",VLOOKUP($AC52&AK$50,申込確認シート!$E$161:$F$200,2,FALSE))","v":"@"},null,null,{"$f":"IF(ISERROR(VLOOKUP($AC52&AN$50,申込確認シート!$E$161:$F$200,2,FALSE)),\"@\",VLOOKUP($AC52&AN$50,申込確認シート!$E$161:$F$200,2,FALSE))","v":"@"},null,null,{"$f":"IF(ISERROR(VLOOKUP($AC52&AQ$50,申込確認シート!$E$161:$F$200,2,FALSE)),\"@\",VLOOKUP($AC52&AQ$50,申込確認シート!$E$161:$F$200,2,FALSE))","v":"@"},null,null,{"$f":"IF(ISERROR(VLOOKUP($AC52&AT$50,申込確認シート!$E$161:$F$200,2,FALSE)),\"@\",VLOOKUP($AC52&AT$50,申込確認シート!$E$161:$F$200,2,FALSE))","v":"@"},null,null,{"$f":"IF(ISERROR(VLOOKUP($AC52&AW$50,申込確認シート!$E$161:$F$200,2,FALSE)),\"@\",VLOOKUP($AC52&AW$50,申込確認シート!$E$161:$F$200,2,FALSE))","v":"@"}]
["　　記録委員長",null,null,null,"男子C",null,null,null,null,{"$f":"IF(ISERROR(VLOOKUP($E53&J$50,申込確認シート!$E$121:$F$160,2,FALSE)),\"@\",VLOOKUP($E53&J$50,申込確認シート!$E$121:$F$160,2,FALSE))","v":"@"},null,null,{"$f":"IF(ISERROR(VLOOKUP($E53&M$50,申込確認シート!$E$121:$F$160,2,FALSE)),\"@\",VLOOKUP($E53&M$50,申込確認シート!$E$121:$F$160,2,FALSE))","v":"@"},null,null,{"$f":"IF(ISERROR(VLOOKUP($E53&P$50,申込確認シート!$E$121:$F$160,2,FALSE)),\"@\",VLOOKUP($E53&P$50,申込確認シート!$E$121:$F$160,2,FALSE))","v":"@"},null,null,{"$f":"IF(ISERROR(VLOOKUP($E53&S$50,申込確認シート!$E$121:$F$160,2,FALSE)),\"@\",VLOOKUP($E53&S$50,申込確認シート!$E$121:$F$160,2,FALSE))","v":"@"},null,null,{"$f":"IF(ISERROR(VLOOKUP($E53&V$50,申込確認シート!$E$121:$F$160,2,FALSE)),\"@\",VLOOKUP($E53&V$50,申込確認シート!$E$121:$F$160,2,FALSE))","v":"@"},null,null,{"$f":"IF(ISERROR(VLOOKUP($E53&Y$50,申込確認シート!$E$121:$F$160,2,FALSE)),\"@\",VLOOKUP($E53&Y$50,申込確認シート!$E$121:$F$160,2,FALSE))","v":"@"},null,null,null,"男子C",null,null,null,null,{"$f":"IF(ISERROR(VLOOKUP($AC53&AH$50,申込確認シート!$E$161:$F$200,2,FALSE)),\"@\",VLOOKUP($AC53&AH$50,申込確認シート!$E$161:$F$200,2,FALSE))","v":"@"},null,null,{"$f":"IF(ISERROR(VLOOKUP($AC53&AK$50,申込確認シート!$E$161:$F$200,2,FALSE)),\"@\",VLOOKUP($AC53&AK$50,申込確認シート!$E$161:$F$200,2,FALSE))","v":"@"},null,null,{"$f":"IF(ISERROR(VLOOKUP($AC53&AN$50,申込確認シート!$E$161:$F$200,2,FALSE)),\"@\",VLOOKUP($AC53&AN$50,申込確認シート!$E$161:$F$200,2,FALSE))","v":"@"},null,null,{"$f":"IF(ISERROR(VLOOKUP($AC53&AQ$50,申込確認シート!$E$161:$F$200,2,FALSE)),\"@\",VLOOKUP($AC53&AQ$50,申込確認シート!$E$161:$F$200,2,FALSE))","v":"@"},null,null,{"$f":"IF(ISERROR(VLOOKUP($AC53&AT$50,申込確認シート!$E$161:$F$200,2,FALSE)),\"@\",VLOOKUP($AC53&AT$50,申込確認シート!$E$161:$F$200,2,FALSE))","v":"@"},null,null,{"$f":"IF(ISERROR(VLOOKUP($AC53&AW$50,申込確認シート!$E$161:$F$200,2,FALSE)),\"@\",VLOOKUP($AC53&AW$50,申込確認シート!$E$161:$F$200,2,FALSE))","v":"@"}]
["　　　豊原　隆之まで",null,null,null,"女子A",null,null,null,null,{"$f":"IF(ISERROR(VLOOKUP($E54&J$50,申込確認シート!$E$121:$F$160,2,FALSE)),\"@\",VLOOKUP($E54&J$50,申込確認シート!$E$121:$F$160,2,FALSE))","v":"@"},null,null,{"$f":"IF(ISERROR(VLOOKUP($E54&M$50,申込確認シート!$E$121:$F$160,2,FALSE)),\"@\",VLOOKUP($E54&M$50,申込確認シート!$E$121:$F$160,2,FALSE))","v":"@"},null,null,{"$f":"IF(ISERROR(VLOOKUP($E54&P$50,申込確認シート!$E$121:$F$160,2,FALSE)),\"@\",VLOOKUP($E54&P$50,申込確認シート!$E$121:$F$160,2,FALSE))","v":"@"},null,null,{"$f":"IF(ISERROR(VLOOKUP($E54&S$50,申込確認シート!$E$121:$F$160,2,FALSE)),\"@\",VLOOKUP($E54&S$50,申込確認シート!$E$121:$F$160,2,FALSE))","v":"@"},null,null,{"$f":"IF(ISERROR(VLOOKUP($E54&V$50,申込確認シート!$E$121:$F$160,2,FALSE)),\"@\",VLOOKUP($E54&V$50,申込確認シート!$E$121:$F$160,2,FALSE))","v":"@"},null,null,{"$f":"IF(ISERROR(VLOOKUP($E54&Y$50,申込確認シート!$E$121:$F$160,2,FALSE)),\"@\",VLOOKUP($E54&Y$50,申込確認シート!$E$121:$F$160,2,FALSE))","v":"@"},null,null,null,"女子A",null,null,null,null,{"$f":"IF(ISERROR(VLOOKUP($AC54&AH$50,申込確認シート!$E$161:$F$200,2,FALSE)),\"@\",VLOOKUP($AC54&AH$50,申込確認シート!$E$161:$F$200,2,FALSE))","v":"@"},null,null,{"$f":"IF(ISERROR(VLOOKUP($AC54&AK$50,申込確認シート!$E$161:$F$200,2,FALSE)),\"@\",VLOOKUP($AC54&AK$50,申込確認シート!$E$161:$F$200,2,FALSE))","v":"@"},null,null,{"$f":"IF(ISERROR(VLOOKUP($AC54&AN$50,申込確認シート!$E$161:$F$200,2,FALSE)),\"@\",VLOOKUP($AC54&AN$50,申込確認シート!$E$161:$F$200,2,FALSE))","v":"@"},null,null,{"$f":"IF(ISERROR(VLOOKUP($AC54&AQ$50,申込確認シート!$E$161:$F$200,2,FALSE)),\"@\",VLOOKUP($AC54&AQ$50,申込確認シート!$E$161:$F$200,2,FALSE))","v":"@"},null,null,{"$f":"IF(ISERROR(VLOOKUP($AC54&AT$50,申込確認シート!$E$161:$F$200,2,FALSE)),\"@\",VLOOKUP($AC54&AT$50,申込確認シート!$E$161:$F$200,2,FALSE))","v":"@"},null,null,{"$f":"IF(ISERROR(VLOOKUP($AC54&AW$50,申込確認シート!$E$161:$F$200,2,FALSE)),\"@\",VLOOKUP($AC54&AW$50,申込確認シート!$E$161:$F$200,2,FALSE))","v":"@"}]
["　　　　　連絡をください！",null,null,null,"女子B",null,null,null,null,{"$f":"IF(ISERROR(VLOOKUP($E55&J$50,申込確認シート!$E$121:$F$160,2,FALSE)),\"@\",VLOOKUP($E55&J$50,申込確認シート!$E$121:$F$160,2,FALSE))","v":"@"},null,null,{"$f":"IF(ISERROR(VLOOKUP($E55&M$50,申込確認シート!$E$121:$F$160,2,FALSE)),\"@\",VLOOKUP($E55&M$50,申込確認シート!$E$121:$F$160,2,FALSE))","v":"@"},null,null,{"$f":"IF(ISERROR(VLOOKUP($E55&P$50,申込確認シート!$E$121:$F$160,2,FALSE)),\"@\",VLOOKUP($E55&P$50,申込確認シート!$E$121:$F$160,2,FALSE))","v":"@"},null,null,{"$f":"IF(ISERROR(VLOOKUP($E55&S$50,申込確認シート!$E$121:$F$160,2,FALSE)),\"@\",VLOOKUP($E55&S$50,申込確認シート!$E$121:$F$160,2,FALSE))","v":"@"},null,null,{"$f":"IF(ISERROR(VLOOKUP($E55&V$50,申込確認シート!$E$121:$F$160,2,FALSE)),\"@\",VLOOKUP($E55&V$50,申込確認シート!$E$121:$F$160,2,FALSE))","v":"@"},null,null,{"$f":"IF(ISERROR(VLOOKUP($E55&Y$50,申込確認シート!$E$121:$F$160,2,FALSE)),\"@\",VLOOKUP($E55&Y$50,申込確認シート!$E$121:$F$160,2,FALSE))","v":"@"},null,null,null,"女子B",null,null,null,null,{"$f":"IF(ISERROR(VLOOKUP($AC55&AH$50,申込確認シート!$E$161:$F$200,2,FALSE)),\"@\",VLOOKUP($AC55&AH$50,申込確認シート!$E$161:$F$200,2,FALSE))","v":"@"},null,null,{"$f":"IF(ISERROR(VLOOKUP($AC55&AK$50,申込確認シート!$E$161:$F$200,2,FALSE)),\"@\",VLOOKUP($AC55&AK$50,申込確認シート!$E$161:$F$200,2,FALSE))","v":"@"},null,null,{"$f":"IF(ISERROR(VLOOKUP($AC55&AN$50,申込確認シート!$E$161:$F$200,2,FALSE)),\"@\",VLOOKUP($AC55&AN$50,申込確認シート!$E$161:$F$200,2,FALSE))","v":"@"},null,null,{"$f":"IF(ISERROR(VLOOKUP($AC55&AQ$50,申込確認シート!$E$161:$F$200,2,FALSE)),\"@\",VLOOKUP($AC55&AQ$50,申込確認シート!$E$161:$F$200,2,FALSE))","v":"@"},null,null,{"$f":"IF(ISERROR(VLOOKUP($AC55&AT$50,申込確認シート!$E$161:$F$200,2,FALSE)),\"@\",VLOOKUP($AC55&AT$50,申込確認シート!$E$161:$F$200,2,FALSE))","v":"@"},null,null,{"$f":"IF(ISERROR(VLOOKUP($AC55&AW$50,申込確認シート!$E$161:$F$200,2,FALSE)),\"@\",VLOOKUP($AC55&AW$50,申込確認シート!$E$161:$F$200,2,FALSE))","v":"@"}]
["　　　　　　　090-2074-5692",null,null,null,"女子C",null,null,null,null,{"$f":"IF(ISERROR(VLOOKUP($E56&J$50,申込確認シート!$E$121:$F$160,2,FALSE)),\"@\",VLOOKUP($E56&J$50,申込確認シート!$E$121:$F$160,2,FALSE))","v":"@"},null,null,{"$f":"IF(ISERROR(VLOOKUP($E56&M$50,申込確認シート!$E$121:$F$160,2,FALSE)),\"@\",VLOOKUP($E56&M$50,申込確認シート!$E$121:$F$160,2,FALSE))","v":"@"},null,null,{"$f":"IF(ISERROR(VLOOKUP($E56&P$50,申込確認シート!$E$121:$F$160,2,FALSE)),\"@\",VLOOKUP($E56&P$50,申込確認シート!$E$121:$F$160,2,FALSE))","v":"@"},null,null,{"$f":"IF(ISERROR(VLOOKUP($E56&S$50,申込確認シート!$E$121:$F$160,2,FALSE)),\"@\",VLOOKUP($E56&S$50,申込確認シート!$E$121:$F$160,2,FALSE))","v":"@"},null,null,{"$f":"IF(ISERROR(VLOOKUP($E56&V$50,申込確認シート!$E$121:$F$160,2,FALSE)),\"@\",VLOOKUP($E56&V$50,申込確認シート!$E$121:$F$160,2,FALSE))","v":"@"},null,null,{"$f":"IF(ISERROR(VLOOKUP($E56&Y$50,申込確認シート!$E$121:$F$160,2,FALSE)),\"@\",VLOOKUP($E56&Y$50,申込確認シート!$E$121:$F$160,2,FALSE))","v":"@"},null,null,null,"女子C",null,null,null,null,{"$f":"IF(ISERROR(VLOOKUP($AC56&AH$50,申込確認シート!$E$161:$F$200,2,FALSE)),\"@\",VLOOKUP($AC56&AH$50,申込確認シート!$E$161:$F$200,2,FALSE))","v":"@"},null,null,{"$f":"IF(ISERROR(VLOOKUP($AC56&AK$50,申込確認シート!$E$161:$F$200,2,FALSE)),\"@\",VLOOKUP($AC56&AK$50,申込確認シート!$E$161:$F$200,2,FALSE))","v":"@"},null,null,{"$f":"IF(ISERROR(VLOOKUP($AC56&AN$50,申込確認シート!$E$161:$F$200,2,FALSE)),\"@\",VLOOKUP($AC56&AN$50,申込確認シート!$E$161:$F$200,2,FALSE))","v":"@"},null,null,{"$f":"IF(ISERROR(VLOOKUP($AC56&AQ$50,申込確認シート!$E$161:$F$200,2,FALSE)),\"@\",VLOOKUP($AC56&AQ$50,申込確認シート!$E$161:$F$200,2,FALSE))","v":"@"},null,null,{"$f":"IF(ISERROR(VLOOKUP($AC56&AT$50,申込確認シート!$E$161:$F$200,2,FALSE)),\"@\",VLOOKUP($AC56&AT$50,申込確認シート!$E$161:$F$200,2,FALSE))","v":"@"},null,null,{"$f":"IF(ISERROR(VLOOKUP($AC56&AW$50,申込確認シート!$E$161:$F$200,2,FALSE)),\"@\",VLOOKUP($AC56&AW$50,申込確認シート!$E$161:$F$200,2,FALSE))","v":"@"}]

{"sheet":"申込確認シート","index":6,"n_rows":200,"n_cols":7,"rows_kept":200,"cut":false,"hidden":true,"merged":[]}
["1種目",1,{"$f":"IF(入力表!AH14=\"\",\"@\",入力表!AH14)","v":"@"},{"$f":"COUNTIF($C$1:C1,C1)","v":1},{"$f":"C1&D1","v":"@1"},{"$f":"SUBSTITUTE(入力表!N14,\"　\",\"\")","v":""},{"$f":"SUBSTITUTE(IF(#REF!=\"\",\"\",#REF!),\"　\",\"\")","v":{"$error":"#REF!"}}]
["1種目",2,{"$f":"IF(入力表!AH15=\"\",\"@\",入力表!AH15)","v":"@"},{"$f":"COUNTIF($C$1:C2,C2)","v":2},{"$f":"C2&D2","v":"@2"},{"$f":"SUBSTITUTE(入力表!N15,\"　\",\"\")","v":""},{"$f":"SUBSTITUTE(IF(#REF!=\"\",\"\",#REF!),\"　\",\"\")","v":{"$error":"#REF!"}}]
["1種目",3,{"$f":"IF(入力表!AH16=\"\",\"@\",入力表!AH16)","v":"@"},{"$f":"COUNTIF($C$1:C3,C3)","v":3},"@3",{"$f":"SUBSTITUTE(入力表!N16,\"　\",\"\")","v":""},{"$f":"SUBSTITUTE(IF(#REF!=\"\",\"\",#REF!),\"　\",\"\")","v":{"$error":"#REF!"}}]
["1種目",4,{"$f":"IF(入力表!AH17=\"\",\"@\",入力表!AH17)","v":"@"},{"$f":"COUNTIF($C$1:C4,C4)","v":4},"@4",{"$f":"SUBSTITUTE(入力表!N17,\"　\",\"\")","v":""},{"$f":"SUBSTITUTE(IF(#REF!=\"\",\"\",#REF!),\"　\",\"\")","v":{"$error":"#REF!"}}]
["1種目",5,{"$f":"IF(入力表!AH18=\"\",\"@\",入力表!AH18)","v":"@"},{"$f":"COUNTIF($C$1:C5,C5)","v":5},"@5",{"$f":"SUBSTITUTE(入力表!N18,\"　\",\"\")","v":""},{"$f":"SUBSTITUTE(IF(#REF!=\"\",\"\",#REF!),\"　\",\"\")","v":{"$error":"#REF!"}}]
["1種目",6,{"$f":"IF(入力表!AH19=\"\",\"@\",入力表!AH19)","v":"@"},{"$f":"COUNTIF($C$1:C6,C6)","v":6},"@6",{"$f":"SUBSTITUTE(入力表!N19,\"　\",\"\")","v":""},{"$f":"SUBSTITUTE(IF(#REF!=\"\",\"\",#REF!),\"　\",\"\")","v":{"$error":"#REF!"}}]
["1種目",7,{"$f":"IF(入力表!AH20=\"\",\"@\",入力表!AH20)","v":"@"},{"$f":"COUNTIF($C$1:C7,C7)","v":7},"@7",{"$f":"SUBSTITUTE(入力表!N20,\"　\",\"\")","v":""},{"$f":"SUBSTITUTE(IF(#REF!=\"\",\"\",#REF!),\"　\",\"\")","v":{"$error":"#REF!"}}]
["1種目",8,{"$f":"IF(入力表!AH21=\"\",\"@\",入力表!AH21)","v":"@"},{"$f":"COUNTIF($C$1:C8,C8)","v":8},"@8",{"$f":"SUBSTITUTE(入力表!N21,\"　\",\"\")","v":""},{"$f":"SUBSTITUTE(IF(#REF!=\"\",\"\",#REF!),\"　\",\"\")","v":{"$error":"#REF!"}}]
["1種目",9,{"$f":"IF(入力表!AH22=\"\",\"@\",入力表!AH22)","v":"@"},{"$f":"COUNTIF($C$1:C9,C9)","v":9},"@9",{"$f":"SUBSTITUTE(入力表!N22,\"　\",\"\")","v":""},{"$f":"SUBSTITUTE(IF(#REF!=\"\",\"\",#REF!),\"　\",\"\")","v":{"$error":"#REF!"}}]
["1種目",10,{"$f":"IF(入力表!AH23=\"\",\"@\",入力表!AH23)","v":"@"},{"$f":"COUNTIF($C$1:C10,C10)","v":10},"@10",{"$f":"SUBSTITUTE(入力表!N23,\"　\",\"\")","v":""},{"$f":"SUBSTITUTE(IF(#REF!=\"\",\"\",#REF!),\"　\",\"\")","v":{"$error":"#REF!"}}]
["1種目",11,{"$f":"IF(入力表!AH24=\"\",\"@\",入力表!AH24)","v":"@"},{"$f":"COUNTIF($C$1:C11,C11)","v":11},"@11",{"$f":"SUBSTITUTE(入力表!N24,\"　\",\"\")","v":""},{"$f":"SUBSTITUTE(IF(#REF!=\"\",\"\",#REF!),\"　\",\"\")","v":{"$error":"#REF!"}}]
["1種目",12,{"$f":"IF(入力表!AH25=\"\",\"@\",入力表!AH25)","v":"@"},{"$f":"COUNTIF($C$1:C12,C12)","v":12},"@12",{"$f":"SUBSTITUTE(入力表!N25,\"　\",\"\")","v":""},{"$f":"SUBSTITUTE(IF(#REF!=\"\",\"\",#REF!),\"　\",\"\")","v":{"$error":"#REF!"}}]
["1種目",13,{"$f":"IF(入力表!AH26=\"\",\"@\",入力表!AH26)","v":"@"},{"$f":"COUNTIF($C$1:C13,C13)","v":13},"@13",{"$f":"SUBSTITUTE(入力表!N26,\"　\",\"\")","v":""},{"$f":"SUBSTITUTE(IF(#REF!=\"\",\"\",#REF!),\"　\",\"\")","v":{"$error":"#REF!"}}]
["1種目",14,{"$f":"IF(入力表!AH27=\"\",\"@\",入力表!AH27)","v":"@"},{"$f":"COUNTIF($C$1:C14,C14)","v":14},"@14",{"$f":"SUBSTITUTE(入力表!N27,\"　\",\"\")","v":""},{"$f":"SUBSTITUTE(IF(#REF!=\"\",\"\",#REF!),\"　\",\"\")","v":{"$error":"#REF!"}}]
["1種目",15,{"$f":"IF(入力表!AH28=\"\",\"@\",入力表!AH28)","v":"@"},{"$f":"COUNTIF($C$1:C15,C15)","v":15},"@15",{"$f":"SUBSTITUTE(入力表!N28,\"　\",\"\")","v":""},{"$f":"SUBSTITUTE(IF(#REF!=\"\",\"\",#REF!),\"　\",\"\")","v":{"$error":"#REF!"}}]
["1種目",16,{"$f":"IF(入力表!AH29=\"\",\"@\",入力表!AH29)","v":"@"},{"$f":"COUNTIF($C$1:C16,C16)","v":16},"@16",{"$f":"SUBSTITUTE(入力表!N29,\"　\",\"\")","v":""},{"$f":"SUBSTITUTE(IF(#REF!=\"\",\"\",#REF!),\"　\",\"\")","v":{"$error":"#REF!"}}]
["1種目",17,{"$f":"IF(入力表!AH30=\"\",\"@\",入力表!AH30)","v":"@"},{"$f":"COUNTIF($C$1:C17,C17)","v":17},"@17",{"$f":"SUBSTITUTE(入力表!N30,\"　\",\"\")","v":""},{"$f":"SUBSTITUTE(IF(#REF!=\"\",\"\",#REF!),\"　\",\"\")","v":{"$error":"#REF!"}}]
["1種目",18,{"$f":"IF(入力表!AH31=\"\",\"@\",入力表!AH31)","v":"@"},{"$f":"COUNTIF($C$1:C18,C18)","v":18},"@18",{"$f":"SUBSTITUTE(入力表!N31,\"　\",\"\")","v":""},{"$f":"SUBSTITUTE(IF(#REF!=\"\",\"\",#REF!),\"　\",\"\")","v":{"$error":"#REF!"}}]
["1種目",19,{"$f":"IF(入力表!AH32=\"\",\"@\",入力表!AH32)","v":"@"},{"$f":"COUNTIF($C$1:C19,C19)","v":19},"@19",{"$f":"SUBSTITUTE(入力表!N32,\"　\",\"\")","v":""},{"$f":"SUBSTITUTE(IF(#REF!=\"\",\"\",#REF!),\"　\",\"\")","v":{"$error":"#REF!"}}]
["1種目",20,{"$f":"IF(入力表!AH33=\"\",\"@\",入力表!AH33)","v":"@"},{"$f":"COUNTIF($C$1:C20,C20)","v":20},"@20",{"$f":"SUBSTITUTE(入力表!N33,\"　\",\"\")","v":""},{"$f":"SUBSTITUTE(IF(#REF!=\"\",\"\",#REF!),\"　\",\"\")","v":{"$error":"#REF!"}}]
["1種目",21,{"$f":"IF(入力表!AH34=\"\",\"@\",入力表!AH34)","v":"@"},{"$f":"COUNTIF($C$1:C21,C21)","v":21},"@21",{"$f":"SUBSTITUTE(入力表!N34,\"　\",\"\")","v":""},{"$f":"SUBSTITUTE(IF(#REF!=\"\",\"\",#REF!),\"　\",\"\")","v":{"$error":"#REF!"}}]
["1種目",22,{"$f":"IF(入力表!AH35=\"\",\"@\",入力表!AH35)","v":"@"},{"$f":"COUNTIF($C$1:C22,C22)","v":22},"@22",{"$f":"SUBSTITUTE(入力表!N35,\"　\",\"\")","v":""},{"$f":"SUBSTITUTE(IF(#REF!=\"\",\"\",#REF!),\"　\",\"\")","v":{"$error":"#REF!"}}]
["1種目",23,{"$f":"IF(入力表!AH36=\"\",\"@\",入力表!AH36)","v":"@"},{"$f":"COUNTIF($C$1:C23,C23)","v":23},"@23",{"$f":"SUBSTITUTE(入力表!N36,\"　\",\"\")","v":""},{"$f":"SUBSTITUTE(IF(#REF!=\"\",\"\",#REF!),\"　\",\"\")","v":{"$error":"#REF!"}}]
["1種目",24,{"$f":"IF(入力表!AH37=\"\",\"@\",入力表!AH37)","v":"@"},{"$f":"COUNTIF($C$1:C24,C24)","v":24},"@24",{"$f":"SUBSTITUTE(入力表!N37,\"　\",\"\")","v":""},{"$f":"SUBSTITUTE(IF(#REF!=\"\",\"\",#REF!),\"　\",\"\")","v":{"$error":"#REF!"}}]
["1種目",25,{"$f":"IF(入力表!AH38=\"\",\"@\",入力表!AH38)","v":"@"},{"$f":"COUNTIF($C$1:C25,C25)","v":25},"@25",{"$f":"SUBSTITUTE(入力表!N38,\"　\",\"\")","v":""},{"$f":"SUBSTITUTE(IF(#REF!=\"\",\"\",#REF!),\"　\",\"\")","v":{"$error":"#REF!"}}]
["1種目",26,{"$f":"IF(入力表!AH39=\"\",\"@\",入力表!AH39)","v":"@"},{"$f":"COUNTIF($C$1:C26,C26)","v":26},"@26",{"$f":"SUBSTITUTE(入力表!N39,\"　\",\"\")","v":""},{"$f":"SUBSTITUTE(IF(#REF!=\"\",\"\",#REF!),\"　\",\"\")","v":{"$error":"#REF!"}}]
["1種目",27,{"$f":"IF(入力表!AH40=\"\",\"@\",入力表!AH40)","v":"@"},{"$f":"COUNTIF($C$1:C27,C27)","v":27},"@27",{"$f":"SUBSTITUTE(入力表!N40,\"　\",\"\")","v":""},{"$f":"SUBSTITUTE(IF(#REF!=\"\",\"\",#REF!),\"　\",\"\")","v":{"$error":"#REF!"}}]
["1種目",28,{"$f":"IF(入力表!AH41=\"\",\"@\",入力表!AH41)","v":"@"},{"$f":"COUNTIF($C$1:C28,C28)","v":28},"@28",{"$f":"SUBSTITUTE(入力表!N41,\"　\",\"\")","v":""},{"$f":"SUBSTITUTE(IF(#REF!=\"\",\"\",#REF!),\"　\",\"\")","v":{"$error":"#REF!"}}]
["1種目",29,{"$f":"IF(入力表!AH42=\"\",\"@\",入力表!AH42)","v":"@"},{"$f":"COUNTIF($C$1:C29,C29)","v":29},"@29",{"$f":"SUBSTITUTE(入力表!N42,\"　\",\"\")","v":""},{"$f":"SUBSTITUTE(IF(#REF!=\"\",\"\",#REF!),\"　\",\"\")","v":{"$error":"#REF!"}}]
["1種目",30,{"$f":"IF(入力表!AH43=\"\",\"@\",入力表!AH43)","v":"@"},{"$f":"COUNTIF($C$1:C30,C30)","v":30},"@30",{"$f":"SUBSTITUTE(入力表!N43,\"　\",\"\")","v":""},{"$f":"SUBSTITUTE(IF(#REF!=\"\",\"\",#REF!),\"　\",\"\")","v":{"$error":"#REF!"}}]
["1種目",31,{"$f":"IF(入力表!AH44=\"\",\"@\",入力表!AH44)","v":"@"},{"$f":"COUNTIF($C$1:C31,C31)","v":31},"@31",{"$f":"SUBSTITUTE(入力表!N44,\"　\",\"\")","v":""},{"$f":"SUBSTITUTE(IF(#REF!=\"\",\"\",#REF!),\"　\",\"\")","v":{"$error":"#REF!"}}]
["1種目",32,{"$f":"IF(入力表!AH45=\"\",\"@\",入力表!AH45)","v":"@"},{"$f":"COUNTIF($C$1:C32,C32)","v":32},"@32",{"$f":"SUBSTITUTE(入力表!N45,\"　\",\"\")","v":""},{"$f":"SUBSTITUTE(IF(#REF!=\"\",\"\",#REF!),\"　\",\"\")","v":{"$error":"#REF!"}}]
["1種目",33,{"$f":"IF(入力表!AH46=\"\",\"@\",入力表!AH46)","v":"@"},{"$f":"COUNTIF($C$1:C33,C33)","v":33},"@33",{"$f":"SUBSTITUTE(入力表!N46,\"　\",\"\")","v":""},{"$f":"SUBSTITUTE(IF(#REF!=\"\",\"\",#REF!),\"　\",\"\")","v":{"$error":"#REF!"}}]
["1種目",34,{"$f":"IF(入力表!AH47=\"\",\"@\",入力表!AH47)","v":"@"},{"$f":"COUNTIF($C$1:C34,C34)","v":34},"@34",{"$f":"SUBSTITUTE(入力表!N47,\"　\",\"\")","v":""},{"$f":"SUBSTITUTE(IF(#REF!=\"\",\"\",#REF!),\"　\",\"\")","v":{"$error":"#REF!"}}]
["1種目",35,{"$f":"IF(入力表!AH48=\"\",\"@\",入力表!AH48)","v":"@"},{"$f":"COUNTIF($C$1:C35,C35)","v":35},"@35",{"$f":"SUBSTITUTE(入力表!N48,\"　\",\"\")","v":""},{"$f":"SUBSTITUTE(IF(#REF!=\"\",\"\",#REF!),\"　\",\"\")","v":{"$error":"#REF!"}}]
["1種目",36,{"$f":"IF(入力表!AH49=\"\",\"@\",入力表!AH49)","v":"@"},{"$f":"COUNTIF($C$1:C36,C36)","v":36},"@36",{"$f":"SUBSTITUTE(入力表!N49,\"　\",\"\")","v":""},{"$f":"SUBSTITUTE(IF(#REF!=\"\",\"\",#REF!),\"　\",\"\")","v":{"$error":"#REF!"}}]
["1種目",37,{"$f":"IF(入力表!AH50=\"\",\"@\",入力表!AH50)","v":"@"},{"$f":"COUNTIF($C$1:C37,C37)","v":37},"@37",{"$f":"SUBSTITUTE(入力表!N50,\"　\",\"\")","v":""},{"$f":"SUBSTITUTE(IF(#REF!=\"\",\"\",#REF!),\"　\",\"\")","v":{"$error":"#REF!"}}]
["1種目",38,{"$f":"IF(入力表!AH51=\"\",\"@\",入力表!AH51)","v":"@"},{"$f":"COUNTIF($C$1:C38,C38)","v":38},"@38",{"$f":"SUBSTITUTE(入力表!N51,\"　\",\"\")","v":""},{"$f":"SUBSTITUTE(IF(#REF!=\"\",\"\",#REF!),\"　\",\"\")","v":{"$error":"#REF!"}}]
["1種目",39,{"$f":"IF(入力表!AH52=\"\",\"@\",入力表!AH52)","v":"@"},{"$f":"COUNTIF($C$1:C39,C39)","v":39},"@39",{"$f":"SUBSTITUTE(入力表!N52,\"　\",\"\")","v":""},{"$f":"SUBSTITUTE(IF(#REF!=\"\",\"\",#REF!),\"　\",\"\")","v":{"$error":"#REF!"}}]
["1種目",40,{"$f":"IF(入力表!AH53=\"\",\"@\",入力表!AH53)","v":"@"},{"$f":"COUNTIF($C$1:C40,C40)","v":40},"@40",{"$f":"SUBSTITUTE(入力表!N53,\"　\",\"\")","v":""},{"$f":"SUBSTITUTE(IF(#REF!=\"\",\"\",#REF!),\"　\",\"\")","v":{"$error":"#REF!"}}]
["2種目",1,{"$f":"IF(入力表!AV14=\"\",\"@\",入力表!AV14)","v":"@"},{"$f":"COUNTIF($C$1:C41,C41)","v":41},"@41",{"$f":"F1","v":""},{"$f":"SUBSTITUTE(IF(#REF!=\"\",\"\",#REF!),\"　\",\"\")","v":{"$error":"#REF!"}}]
["2種目",2,{"$f":"IF(入力表!AV15=\"\",\"@\",入力表!AV15)","v":"@"},{"$f":"COUNTIF($C$1:C42,C42)","v":42},"@42",{"$f":"F2","v":""},{"$f":"SUBSTITUTE(IF(#REF!=\"\",\"\",#REF!),\"　\",\"\")","v":{"$error":"#REF!"}}]
["2種目",3,{"$f":"IF(入力表!AV16=\"\",\"@\",入力表!AV16)","v":"@"},{"$f":"COUNTIF($C$1:C43,C43)","v":43},"@43","",{"$f":"SUBSTITUTE(IF(#REF!=\"\",\"\",#REF!),\"　\",\"\")","v":{"$error":"#REF!"}}]
["2種目",4,{"$f":"IF(入力表!AV17=\"\",\"@\",入力表!AV17)","v":"@"},{"$f":"COUNTIF($C$1:C44,C44)","v":44},"@44","",{"$f":"SUBSTITUTE(IF(#REF!=\"\",\"\",#REF!),\"　\",\"\")","v":{"$error":"#REF!"}}]
["2種目",5,{"$f":"IF(入力表!AV18=\"\",\"@\",入力表!AV18)","v":"@"},{"$f":"COUNTIF($C$1:C45,C45)","v":45},"@45","",{"$f":"SUBSTITUTE(IF(#REF!=\"\",\"\",#REF!),\"　\",\"\")","v":{"$error":"#REF!"}}]
["2種目",6,{"$f":"IF(入力表!AV19=\"\",\"@\",入力表!AV19)","v":"@"},{"$f":"COUNTIF($C$1:C46,C46)","v":46},"@46","",{"$f":"SUBSTITUTE(IF(#REF!=\"\",\"\",#REF!),\"　\",\"\")","v":{"$error":"#REF!"}}]
["2種目",7,{"$f":"IF(入力表!AV20=\"\",\"@\",入力表!AV20)","v":"@"},{"$f":"COUNTIF($C$1:C47,C47)","v":47},"@47","",{"$f":"SUBSTITUTE(IF(#REF!=\"\",\"\",#REF!),\"　\",\"\")","v":{"$error":"#REF!"}}]
["2種目",8,{"$f":"IF(入力表!AV21=\"\",\"@\",入力表!AV21)","v":"@"},{"$f":"COUNTIF($C$1:C48,C48)","v":48},"@48","",{"$f":"SUBSTITUTE(IF(#REF!=\"\",\"\",#REF!),\"　\",\"\")","v":{"$error":"#REF!"}}]
["2種目",9,{"$f":"IF(入力表!AV22=\"\",\"@\",入力表!AV22)","v":"@"},{"$f":"COUNTIF($C$1:C49,C49)","v":49},"@49","",{"$f":"SUBSTITUTE(IF(#REF!=\"\",\"\",#REF!),\"　\",\"\")","v":{"$error":"#REF!"}}]
["2種目",10,{"$f":"IF(入力表!AV23=\"\",\"@\",入力表!AV23)","v":"@"},{"$f":"COUNTIF($C$1:C50,C50)","v":50},"@50","",{"$f":"SUBSTITUTE(IF(#REF!=\"\",\"\",#REF!),\"　\",\"\")","v":{"$error":"#REF!"}}]
["2種目",11,{"$f":"IF(入力表!AV24=\"\",\"@\",入力表!AV24)","v":"@"},{"$f":"COUNTIF($C$1:C51,C51)","v":51},"@51","",{"$f":"SUBSTITUTE(IF(#REF!=\"\",\"\",#REF!),\"　\",\"\")","v":{"$error":"#REF!"}}]
["2種目",12,{"$f":"IF(入力表!AV25=\"\",\"@\",入力表!AV25)","v":"@"},{"$f":"COUNTIF($C$1:C52,C52)","v":52},"@52","",{"$f":"SUBSTITUTE(IF(#REF!=\"\",\"\",#REF!),\"　\",\"\")","v":{"$error":"#REF!"}}]
["2種目",13,{"$f":"IF(入力表!AV26=\"\",\"@\",入力表!AV26)","v":"@"},{"$f":"COUNTIF($C$1:C53,C53)","v":53},"@53","",{"$f":"SUBSTITUTE(IF(#REF!=\"\",\"\",#REF!),\"　\",\"\")","v":{"$error":"#REF!"}}]
["2種目",14,{"$f":"IF(入力表!AV27=\"\",\"@\",入力表!AV27)","v":"@"},{"$f":"COUNTIF($C$1:C54,C54)","v":54},"@54","",{"$f":"SUBSTITUTE(IF(#REF!=\"\",\"\",#REF!),\"　\",\"\")","v":{"$error":"#REF!"}}]
["2種目",15,{"$f":"IF(入力表!AV28=\"\",\"@\",入力表!AV28)","v":"@"},{"$f":"COUNTIF($C$1:C55,C55)","v":55},"@55","",{"$f":"SUBSTITUTE(IF(#REF!=\"\",\"\",#REF!),\"　\",\"\")","v":{"$error":"#REF!"}}]
["2種目",16,{"$f":"IF(入力表!AV29=\"\",\"@\",入力表!AV29)","v":"@"},{"$f":"COUNTIF($C$1:C56,C56)","v":56},"@56","",{"$f":"SUBSTITUTE(IF(#REF!=\"\",\"\",#REF!),\"　\",\"\")","v":{"$error":"#REF!"}}]
["2種目",17,{"$f":"IF(入力表!AV30=\"\",\"@\",入力表!AV30)","v":"@"},{"$f":"COUNTIF($C$1:C57,C57)","v":57},"@57","",{"$f":"SUBSTITUTE(IF(#REF!=\"\",\"\",#REF!),\"　\",\"\")","v":{"$error":"#REF!"}}]
["2種目",18,{"$f":"IF(入力表!AV31=\"\",\"@\",入力表!AV31)","v":"@"},{"$f":"COUNTIF($C$1:C58,C58)","v":58},"@58","",{"$f":"SUBSTITUTE(IF(#REF!=\"\",\"\",#REF!),\"　\",\"\")","v":{"$error":"#REF!"}}]
["2種目",19,{"$f":"IF(入力表!AV32=\"\",\"@\",入力表!AV32)","v":"@"},{"$f":"COUNTIF($C$1:C59,C59)","v":59},"@59","",{"$f":"SUBSTITUTE(IF(#REF!=\"\",\"\",#REF!),\"　\",\"\")","v":{"$error":"#REF!"}}]
["2種目",20,{"$f":"IF(入力表!AV33=\"\",\"@\",入力表!AV33)","v":"@"},{"$f":"COUNTIF($C$1:C60,C60)","v":60},"@60","",{"$f":"SUBSTITUTE(IF(#REF!=\"\",\"\",#REF!),\"　\",\"\")","v":{"$error":"#REF!"}}]
["2種目",21,{"$f":"IF(入力表!AV34=\"\",\"@\",入力表!AV34)","v":"@"},{"$f":"COUNTIF($C$1:C61,C61)","v":61},"@61","",{"$f":"SUBSTITUTE(IF(#REF!=\"\",\"\",#REF!),\"　\",\"\")","v":{"$error":"#REF!"}}]
["2種目",22,{"$f":"IF(入力表!AV35=\"\",\"@\",入力表!AV35)","v":"@"},{"$f":"COUNTIF($C$1:C62,C62)","v":62},"@62","",{"$f":"SUBSTITUTE(IF(#REF!=\"\",\"\",#REF!),\"　\",\"\")","v":{"$error":"#REF!"}}]
["2種目",23,{"$f":"IF(入力表!AV36=\"\",\"@\",入力表!AV36)","v":"@"},{"$f":"COUNTIF($C$1:C63,C63)","v":63},"@63","",{"$f":"SUBSTITUTE(IF(#REF!=\"\",\"\",#REF!),\"　\",\"\")","v":{"$error":"#REF!"}}]
["2種目",24,{"$f":"IF(入力表!AV37=\"\",\"@\",入力表!AV37)","v":"@"},{"$f":"COUNTIF($C$1:C64,C64)","v":64},"@64","",{"$f":"SUBSTITUTE(IF(#REF!=\"\",\"\",#REF!),\"　\",\"\")","v":{"$error":"#REF!"}}]
["2種目",25,{"$f":"IF(入力表!AV38=\"\",\"@\",入力表!AV38)","v":"@"},{"$f":"COUNTIF($C$1:C65,C65)","v":65},"@65","",{"$f":"SUBSTITUTE(IF(#REF!=\"\",\"\",#REF!),\"　\",\"\")","v":{"$error":"#REF!"}}]
["2種目",26,{"$f":"IF(入力表!AV39=\"\",\"@\",入力表!AV39)","v":"@"},{"$f":"COUNTIF($C$1:C66,C66)","v":66},{"$f":"C66&D66","v":"@66"},"",{"$f":"SUBSTITUTE(IF(#REF!=\"\",\"\",#REF!),\"　\",\"\")","v":{"$error":"#REF!"}}]
["2種目",27,{"$f":"IF(入力表!AV40=\"\",\"@\",入力表!AV40)","v":"@"},{"$f":"COUNTIF($C$1:C67,C67)","v":67},"@67","",{"$f":"SUBSTITUTE(IF(#REF!=\"\",\"\",#REF!),\"　\",\"\")","v":{"$error":"#REF!"}}]
["2種目",28,{"$f":"IF(入力表!AV41=\"\",\"@\",入力表!AV41)","v":"@"},{"$f":"COUNTIF($C$1:C68,C68)","v":68},"@68","",{"$f":"SUBSTITUTE(IF(#REF!=\"\",\"\",#REF!),\"　\",\"\")","v":{"$error":"#REF!"}}]
["2種目",29,{"$f":"IF(入力表!AV42=\"\",\"@\",入力表!AV42)","v":"@"},{"$f":"COUNTIF($C$1:C69,C69)","v":69},"@69","",{"$f":"SUBSTITUTE(IF(#REF!=\"\",\"\",#REF!),\"　\",\"\")","v":{"$error":"#REF!"}}]
["2種目",30,{"$f":"IF(入力表!AV43=\"\",\"@\",入力表!AV43)","v":"@"},{"$f":"COUNTIF($C$1:C70,C70)","v":70},"@70","",{"$f":"SUBSTITUTE(IF(#REF!=\"\",\"\",#REF!),\"　\",\"\")","v":{"$error":"#REF!"}}]
["2種目",31,{"$f":"IF(入力表!AV44=\"\",\"@\",入力表!AV44)","v":"@"},{"$f":"COUNTIF($C$1:C71,C71)","v":71},"@71","",{"$f":"SUBSTITUTE(IF(#REF!=\"\",\"\",#REF!),\"　\",\"\")","v":{"$error":"#REF!"}}]
["2種目",32,{"$f":"IF(入力表!AV45=\"\",\"@\",入力表!AV45)","v":"@"},{"$f":"COUNTIF($C$1:C72,C72)","v":72},"@72","",{"$f":"SUBSTITUTE(IF(#REF!=\"\",\"\",#REF!),\"　\",\"\")","v":{"$error":"#REF!"}}]
["2種目",33,{"$f":"IF(入力表!AV46=\"\",\"@\",入力表!AV46)","v":"@"},{"$f":"COUNTIF($C$1:C73,C73)","v":73},"@73","",{"$f":"SUBSTITUTE(IF(#REF!=\"\",\"\",#REF!),\"　\",\"\")","v":{"$error":"#REF!"}}]
["2種目",34,{"$f":"IF(入力表!AV47=\"\",\"@\",入力表!AV47)","v":"@"},{"$f":"COUNTIF($C$1:C74,C74)","v":74},"@74","",{"$f":"SUBSTITUTE(IF(#REF!=\"\",\"\",#REF!),\"　\",\"\")","v":{"$error":"#REF!"}}]
["2種目",35,{"$f":"IF(入力表!AV48=\"\",\"@\",入力表!AV48)","v":"@"},{"$f":"COUNTIF($C$1:C75,C75)","v":75},"@75","",{"$f":"SUBSTITUTE(IF(#REF!=\"\",\"\",#REF!),\"　\",\"\")","v":{"$error":"#REF!"}}]
["2種目",36,{"$f":"IF(入力表!AV49=\"\",\"@\",入力表!AV49)","v":"@"},{"$f":"COUNTIF($C$1:C76,C76)","v":76},"@76","",{"$f":"SUBSTITUTE(IF(#REF!=\"\",\"\",#REF!),\"　\",\"\")","v":{"$error":"#REF!"}}]
["2種目",37,{"$f":"IF(入力表!AV50=\"\",\"@\",入力表!AV50)","v":"@"},{"$f":"COUNTIF($C$1:C77,C77)","v":77},"@77","",{"$f":"SUBSTITUTE(IF(#REF!=\"\",\"\",#REF!),\"　\",\"\")","v":{"$error":"#REF!"}}]
["2種目",38,{"$f":"IF(入力表!AV51=\"\",\"@\",入力表!AV51)","v":"@"},{"$f":"COUNTIF($C$1:C78,C78)","v":78},"@78","",{"$f":"SUBSTITUTE(IF(#REF!=\"\",\"\",#REF!),\"　\",\"\")","v":{"$error":"#REF!"}}]
["2種目",39,{"$f":"IF(入力表!AV52=\"\",\"@\",入力表!AV52)","v":"@"},{"$f":"COUNTIF($C$1:C79,C79)","v":79},"@79","",{"$f":"SUBSTITUTE(IF(#REF!=\"\",\"\",#REF!),\"　\",\"\")","v":{"$error":"#REF!"}}]
["2種目",40,{"$f":"IF(入力表!AV53=\"\",\"@\",入力表!AV53)","v":"@"},{"$f":"COUNTIF($C$1:C80,C80)","v":80},"@80","",{"$f":"SUBSTITUTE(IF(#REF!=\"\",\"\",#REF!),\"　\",\"\")","v":{"$error":"#REF!"}}]
["3種目",1,{"$f":"IF(入力表!BJ14=\"\",\"@\",入力表!BJ14)","v":"@"},{"$f":"COUNTIF($C$1:C81,C81)","v":81},"@81",{"$f":"F1","v":""},{"$f":"SUBSTITUTE(IF(#REF!=\"\",\"\",#REF!),\"　\",\"\")","v":{"$error":"#REF!"}}]
["3種目",2,{"$f":"IF(入力表!BJ15=\"\",\"@\",入力表!BJ15)","v":"@"},{"$f":"COUNTIF($C$1:C82,C82)","v":82},"@82",{"$f":"F2","v":""},{"$f":"SUBSTITUTE(IF(#REF!=\"\",\"\",#REF!),\"　\",\"\")","v":{"$error":"#REF!"}}]
["3種目",3,{"$f":"IF(入力表!BJ16=\"\",\"@\",入力表!BJ16)","v":"@"},{"$f":"COUNTIF($C$1:C83,C83)","v":83},"@83","",{"$f":"SUBSTITUTE(IF(#REF!=\"\",\"\",#REF!),\"　\",\"\")","v":{"$error":"#REF!"}}]
["3種目",4,{"$f":"IF(入力表!BJ17=\"\",\"@\",入力表!BJ17)","v":"@"},{"$f":"COUNTIF($C$1:C84,C84)","v":84},"@84","",{"$f":"SUBSTITUTE(IF(#REF!=\"\",\"\",#REF!),\"　\",\"\")","v":{"$error":"#REF!"}}]
["3種目",5,{"$f":"IF(入力表!BJ18=\"\",\"@\",入力表!BJ18)","v":"@"},{"$f":"COUNTIF($C$1:C85,C85)","v":85},"@85","",{"$f":"SUBSTITUTE(IF(#REF!=\"\",\"\",#REF!),\"　\",\"\")","v":{"$error":"#REF!"}}]
["3種目",6,{"$f":"IF(入力表!BJ19=\"\",\"@\",入力表!BJ19)","v":"@"},{"$f":"COUNTIF($C$1:C86,C86)","v":86},"@86","",{"$f":"SUBSTITUTE(IF(#REF!=\"\",\"\",#REF!),\"　\",\"\")","v":{"$error":"#REF!"}}]
["3種目",7,{"$f":"IF(入力表!BJ20=\"\",\"@\",入力表!BJ20)","v":"@"},{"$f":"COUNTIF($C$1:C87,C87)","v":87},"@87","",{"$f":"SUBSTITUTE(IF(#REF!=\"\",\"\",#REF!),\"　\",\"\")","v":{"$error":"#REF!"}}]
["3種目",8,{"$f":"IF(入力表!BJ21=\"\",\"@\",入力表!BJ21)","v":"@"},{"$f":"COUNTIF($C$1:C88,C88)","v":88},"@88","",{"$f":"SUBSTITUTE(IF(#REF!=\"\",\"\",#REF!),\"　\",\"\")","v":{"$error":"#REF!"}}]
["3種目",9,{"$f":"IF(入力表!BJ22=\"\",\"@\",入力表!BJ22)","v":"@"},{"$f":"COUNTIF($C$1:C89,C89)","v":89},"@89","",{"$f":"SUBSTITUTE(IF(#REF!=\"\",\"\",#REF!),\"　\",\"\")","v":{"$error":"#REF!"}}]
["3種目",10,{"$f":"IF(入力表!BJ23=\"\",\"@\",入力表!BJ23)","v":"@"},{"$f":"COUNTIF($C$1:C90,C90)","v":90},"@90","",{"$f":"SUBSTITUTE(IF(#REF!=\"\",\"\",#REF!),\"　\",\"\")","v":{"$error":"#REF!"}}]
["3種目",11,{"$f":"IF(入力表!BJ24=\"\",\"@\",入力表!BJ24)","v":"@"},{"$f":"COUNTIF($C$1:C91,C91)","v":91},"@91","",{"$f":"SUBSTITUTE(IF(#REF!=\"\",\"\",#REF!),\"　\",\"\")","v":{"$error":"#REF!"}}]
["3種目",12,{"$f":"IF(入力表!BJ25=\"\",\"@\",入力表!BJ25)","v":"@"},{"$f":"COUNTIF($C$1:C92,C92)","v":92},"@92","",{"$f":"SUBSTITUTE(IF(#REF!=\"\",\"\",#REF!),\"　\",\"\")","v":{"$error":"#REF!"}}]
["3種目",13,{"$f":"IF(入力表!BJ26=\"\",\"@\",入力表!BJ26)","v":"@"},{"$f":"COUNTIF($C$1:C93,C93)","v":93},"@93","",{"$f":"SUBSTITUTE(IF(#REF!=\"\",\"\",#REF!),\"　\",\"\")","v":{"$error":"#REF!"}}]
["3種目",14,{"$f":"IF(入力表!BJ27=\"\",\"@\",入力表!BJ27)","v":"@"},{"$f":"COUNTIF($C$1:C94,C94)","v":94},"@94","",{"$f":"SUBSTITUTE(IF(#REF!=\"\",\"\",#REF!),\"　\",\"\")","v":{"$error":"#REF!"}}]
["3種目",15,{"$f":"IF(入力表!BJ28=\"\",\"@\",入力表!BJ28)","v":"@"},{"$f":"COUNTIF($C$1:C95,C95)","v":95},"@95","",{"$f":"SUBSTITUTE(IF(#REF!=\"\",\"\",#REF!),\"　\",\"\")","v":{"$error":"#REF!"}}]
["3種目",16,{"$f":"IF(入力表!BJ29=\"\",\"@\",入力表!BJ29)","v":"@"},{"$f":"COUNTIF($C$1:C96,C96)","v":96},"@96","",{"$f":"SUBSTITUTE(IF(#REF!=\"\",\"\",#REF!),\"　\",\"\")","v":{"$error":"#REF!"}}]
["3種目",17,{"$f":"IF(入力表!BJ30=\"\",\"@\",入力表!BJ30)","v":"@"},{"$f":"COUNTIF($C$1:C97,C97)","v":97},"@97","",{"$f":"SUBSTITUTE(IF(#REF!=\"\",\"\",#REF!),\"　\",\"\")","v":{"$error":"#REF!"}}]
["3種目",18,{"$f":"IF(入力表!BJ31=\"\",\"@\",入力表!BJ31)","v":"@"},{"$f":"COUNTIF($C$1:C98,C98)","v":98},"@98","",{"$f":"SUBSTITUTE(IF(#REF!=\"\",\"\",#REF!),\"　\",\"\")","v":{"$error":"#REF!"}}]
["3種目",19,{"$f":"IF(入力表!BJ32=\"\",\"@\",入力表!BJ32)","v":"@"},{"$f":"COUNTIF($C$1:C99,C99)","v":99},"@99","",{"$f":"SUBSTITUTE(IF(#REF!=\"\",\"\",#REF!),\"　\",\"\")","v":{"$error":"#REF!"}}]
["3種目",20,{"$f":"IF(入力表!BJ33=\"\",\"@\",入力表!BJ33)","v":"@"},{"$f":"COUNTIF($C$1:C100,C100)","v":100},"@100","",{"$f":"SUBSTITUTE(IF(#REF!=\"\",\"\",#REF!),\"　\",\"\")","v":{"$error":"#REF!"}}]
["3種目",21,{"$f":"IF(入力表!BJ34=\"\",\"@\",入力表!BJ34)","v":"@"},{"$f":"COUNTIF($C$1:C101,C101)","v":101},"@101","",{"$f":"SUBSTITUTE(IF(#REF!=\"\",\"\",#REF!),\"　\",\"\")","v":{"$error":"#REF!"}}]
["3種目",22,{"$f":"IF(入力表!BJ35=\"\",\"@\",入力表!BJ35)","v":"@"},{"$f":"COUNTIF($C$1:C102,C102)","v":102},"@102","",{"$f":"SUBSTITUTE(IF(#REF!=\"\",\"\",#REF!),\"　\",\"\")","v":{"$error":"#REF!"}}]
["3種目",23,{"$f":"IF(入力表!BJ36=\"\",\"@\",入力表!BJ36)","v":"@"},{"$f":"COUNTIF($C$1:C103,C103)","v":103},"@103","",{"$f":"SUBSTITUTE(IF(#REF!=\"\",\"\",#REF!),\"　\",\"\")","v":{"$error":"#REF!"}}]
["3種目",24,{"$f":"IF(入力表!BJ37=\"\",\"@\",入力表!BJ37)","v":"@"},{"$f":"COUNTIF($C$1:C104,C104)","v":104},"@104","",{"$f":"SUBSTITUTE(IF(#REF!=\"\",\"\",#REF!),\"　\",\"\")","v":{"$error":"#REF!"}}]
["3種目",25,{"$f":"IF(入力表!BJ38=\"\",\"@\",入力表!BJ38)","v":"@"},{"$f":"COUNTIF($C$1:C105,C105)","v":105},"@105","",{"$f":"SUBSTITUTE(IF(#REF!=\"\",\"\",#REF!),\"　\",\"\")","v":{"$error":"#REF!"}}]
["3種目",26,{"$f":"IF(入力表!BJ39=\"\",\"@\",入力表!BJ39)","v":"@"},{"$f":"COUNTIF($C$1:C106,C106)","v":106},"@106","",{"$f":"SUBSTITUTE(IF(#REF!=\"\",\"\",#REF!),\"　\",\"\")","v":{"$error":"#REF!"}}]
["3種目",27,{"$f":"IF(入力表!BJ40=\"\",\"@\",入力表!BJ40)","v":"@"},{"$f":"COUNTIF($C$1:C107,C107)","v":107},"@107","",{"$f":"SUBSTITUTE(IF(#REF!=\"\",\"\",#REF!),\"　\",\"\")","v":{"$error":"#REF!"}}]
["3種目",28,{"$f":"IF(入力表!BJ41=\"\",\"@\",入力表!BJ41)","v":"@"},{"$f":"COUNTIF($C$1:C108,C108)","v":108},"@108","",{"$f":"SUBSTITUTE(IF(#REF!=\"\",\"\",#REF!),\"　\",\"\")","v":{"$error":"#REF!"}}]
["3種目",29,{"$f":"IF(入力表!BJ42=\"\",\"@\",入力表!BJ42)","v":"@"},{"$f":"COUNTIF($C$1:C109,C109)","v":109},"@109","",{"$f":"SUBSTITUTE(IF(#REF!=\"\",\"\",#REF!),\"　\",\"\")","v":{"$error":"#REF!"}}]
["3種目",30,{"$f":"IF(入力表!BJ43=\"\",\"@\",入力表!BJ43)","v":"@"},{"$f":"COUNTIF($C$1:C110,C110)","v":110},"@110","",{"$f":"SUBSTITUTE(IF(#REF!=\"\",\"\",#REF!),\"　\",\"\")","v":{"$error":"#REF!"}}]
["3種目",31,{"$f":"IF(入力表!BJ44=\"\",\"@\",入力表!BJ44)","v":"@"},{"$f":"COUNTIF($C$1:C111,C111)","v":111},"@111","",{"$f":"SUBSTITUTE(IF(#REF!=\"\",\"\",#REF!),\"　\",\"\")","v":{"$error":"#REF!"}}]
["3種目",32,{"$f":"IF(入力表!BJ45=\"\",\"@\",入力表!BJ45)","v":"@"},{"$f":"COUNTIF($C$1:C112,C112)","v":112},"@112","",{"$f":"SUBSTITUTE(IF(#REF!=\"\",\"\",#REF!),\"　\",\"\")","v":{"$error":"#REF!"}}]
["3種目",33,{"$f":"IF(入力表!BJ46=\"\",\"@\",入力表!BJ46)","v":"@"},{"$f":"COUNTIF($C$1:C113,C113)","v":113},"@113","",{"$f":"SUBSTITUTE(IF(#REF!=\"\",\"\",#REF!),\"　\",\"\")","v":{"$error":"#REF!"}}]
["3種目",34,{"$f":"IF(入力表!BJ47=\"\",\"@\",入力表!BJ47)","v":"@"},{"$f":"COUNTIF($C$1:C114,C114)","v":114},"@114","",{"$f":"SUBSTITUTE(IF(#REF!=\"\",\"\",#REF!),\"　\",\"\")","v":{"$error":"#REF!"}}]
["3種目",35,{"$f":"IF(入力表!BJ48=\"\",\"@\",入力表!BJ48)","v":"@"},{"$f":"COUNTIF($C$1:C115,C115)","v":115},"@115","",{"$f":"SUBSTITUTE(IF(#REF!=\"\",\"\",#REF!),\"　\",\"\")","v":{"$error":"#REF!"}}]
["3種目",36,{"$f":"IF(入力表!BJ49=\"\",\"@\",入力表!BJ49)","v":"@"},{"$f":"COUNTIF($C$1:C116,C116)","v":116},"@116","",{"$f":"SUBSTITUTE(IF(#REF!=\"\",\"\",#REF!),\"　\",\"\")","v":{"$error":"#REF!"}}]
["3種目",37,{"$f":"IF(入力表!BJ50=\"\",\"@\",入力表!BJ50)","v":"@"},{"$f":"COUNTIF($C$1:C117,C117)","v":117},"@117","",{"$f":"SUBSTITUTE(IF(#REF!=\"\",\"\",#REF!),\"　\",\"\")","v":{"$error":"#REF!"}}]
["3種目",38,{"$f":"IF(入力表!BJ51=\"\",\"@\",入力表!BJ51)","v":"@"},{"$f":"COUNTIF($C$1:C118,C118)","v":118},"@118","",{"$f":"SUBSTITUTE(IF(#REF!=\"\",\"\",#REF!),\"　\",\"\")","v":{"$error":"#REF!"}}]
["3種目",39,{"$f":"IF(入力表!BJ52=\"\",\"@\",入力表!BJ52)","v":"@"},{"$f":"COUNTIF($C$1:C119,C119)","v":119},"@119","",{"$f":"SUBSTITUTE(IF(#REF!=\"\",\"\",#REF!),\"　\",\"\")","v":{"$error":"#REF!"}}]
["3種目",40,{"$f":"IF(入力表!BJ53=\"\",\"@\",入力表!BJ53)","v":"@"},{"$f":"COUNTIF($C$1:C120,C120)","v":120},"@120","",{"$f":"SUBSTITUTE(IF(#REF!=\"\",\"\",#REF!),\"　\",\"\")","v":{"$error":"#REF!"}}]
["400mR",1,{"$f":"IF(入力表!BX14=\"\",\"@\",入力表!BX14)","v":"@"},{"$f":"COUNTIF($C$121:C121,C121)","v":1},"@1",{"$f":"F81","v":""},{"$f":"#REF!","v":{"$error":"#REF!"}}]
["400mR",2,{"$f":"IF(入力表!BX15=\"\",\"@\",入力表!BX15)","v":"@"},{"$f":"COUNTIF($C$121:C122,C122)","v":2},"@2",{"$f":"F82","v":""},{"$f":"#REF!","v":{"$error":"#REF!"}}]
["400mR",3,{"$f":"IF(入力表!BX16=\"\",\"@\",入力表!BX16)","v":"@"},{"$f":"COUNTIF($C$121:C123,C123)","v":3},"@3","",{"$f":"#REF!","v":{"$error":"#REF!"}}]
["400mR",4,{"$f":"IF(入力表!BX17=\"\",\"@\",入力表!BX17)","v":"@"},{"$f":"COUNTIF($C$121:C124,C124)","v":4},"@4","",{"$f":"#REF!","v":{"$error":"#REF!"}}]
["400mR",5,{"$f":"IF(入力表!BX18=\"\",\"@\",入力表!BX18)","v":"@"},{"$f":"COUNTIF($C$121:C125,C125)","v":5},"@5","",{"$f":"#REF!","v":{"$error":"#REF!"}}]
["400mR",6,{"$f":"IF(入力表!BX19=\"\",\"@\",入力表!BX19)","v":"@"},{"$f":"COUNTIF($C$121:C126,C126)","v":6},"@6","",{"$f":"#REF!","v":{"$error":"#REF!"}}]
["400mR",7,{"$f":"IF(入力表!BX20=\"\",\"@\",入力表!BX20)","v":"@"},{"$f":"COUNTIF($C$121:C127,C127)","v":7},"@7","",{"$f":"#REF!","v":{"$error":"#REF!"}}]
["400mR",8,{"$f":"IF(入力表!BX21=\"\",\"@\",入力表!BX21)","v":"@"},{"$f":"COUNTIF($C$121:C128,C128)","v":8},"@8","",{"$f":"#REF!","v":{"$error":"#REF!"}}]
["400mR",9,{"$f":"IF(入力表!BX22=\"\",\"@\",入力表!BX22)","v":"@"},{"$f":"COUNTIF($C$121:C129,C129)","v":9},"@9","",{"$f":"#REF!","v":{"$error":"#REF!"}}]
["400mR",10,{"$f":"IF(入力表!BX23=\"\",\"@\",入力表!BX23)","v":"@"},{"$f":"COUNTIF($C$121:C130,C130)","v":10},{"$f":"C130&D130","v":"@10"},"",{"$f":"#REF!","v":{"$error":"#REF!"}}]
["400mR",11,{"$f":"IF(入力表!BX24=\"\",\"@\",入力表!BX24)","v":"@"},{"$f":"COUNTIF($C$121:C131,C131)","v":11},"@11","",{"$f":"#REF!","v":{"$error":"#REF!"}}]
["400mR",12,{"$f":"IF(入力表!BX25=\"\",\"@\",入力表!BX25)","v":"@"},{"$f":"COUNTIF($C$121:C132,C132)","v":12},"@12","",{"$f":"#REF!","v":{"$error":"#REF!"}}]
["400mR",13,{"$f":"IF(入力表!BX26=\"\",\"@\",入力表!BX26)","v":"@"},{"$f":"COUNTIF($C$121:C133,C133)","v":13},"@13","",{"$f":"#REF!","v":{"$error":"#REF!"}}]
["400mR",14,{"$f":"IF(入力表!BX27=\"\",\"@\",入力表!BX27)","v":"@"},{"$f":"COUNTIF($C$121:C134,C134)","v":14},"@14","",{"$f":"#REF!","v":{"$error":"#REF!"}}]
["400mR",15,{"$f":"IF(入力表!BX28=\"\",\"@\",入力表!BX28)","v":"@"},{"$f":"COUNTIF($C$121:C135,C135)","v":15},"@15","",{"$f":"#REF!","v":{"$error":"#REF!"}}]
["400mR",16,{"$f":"IF(入力表!BX29=\"\",\"@\",入力表!BX29)","v":"@"},{"$f":"COUNTIF($C$121:C136,C136)","v":16},"@16","",{"$f":"#REF!","v":{"$error":"#REF!"}}]
["400mR",17,{"$f":"IF(入力表!BX30=\"\",\"@\",入力表!BX30)","v":"@"},{"$f":"COUNTIF($C$121:C137,C137)","v":17},"@17","",{"$f":"#REF!","v":{"$error":"#REF!"}}]
["400mR",18,{"$f":"IF(入力表!BX31=\"\",\"@\",入力表!BX31)","v":"@"},{"$f":"COUNTIF($C$121:C138,C138)","v":18},"@18","",{"$f":"#REF!","v":{"$error":"#REF!"}}]
["400mR",19,{"$f":"IF(入力表!BX32=\"\",\"@\",入力表!BX32)","v":"@"},{"$f":"COUNTIF($C$121:C139,C139)","v":19},"@19","",{"$f":"#REF!","v":{"$error":"#REF!"}}]
["400mR",20,{"$f":"IF(入力表!BX33=\"\",\"@\",入力表!BX33)","v":"@"},{"$f":"COUNTIF($C$121:C140,C140)","v":20},"@20","",{"$f":"#REF!","v":{"$error":"#REF!"}}]
["400mR",21,{"$f":"IF(入力表!BX34=\"\",\"@\",入力表!BX34)","v":"@"},{"$f":"COUNTIF($C$121:C141,C141)","v":21},"@21","",{"$f":"#REF!","v":{"$error":"#REF!"}}]
["400mR",22,{"$f":"IF(入力表!BX35=\"\",\"@\",入力表!BX35)","v":"@"},{"$f":"COUNTIF($C$121:C142,C142)","v":22},"@22","",{"$f":"#REF!","v":{"$error":"#REF!"}}]
["400mR",23,{"$f":"IF(入力表!BX36=\"\",\"@\",入力表!BX36)","v":"@"},{"$f":"COUNTIF($C$121:C143,C143)","v":23},"@23","",{"$f":"#REF!","v":{"$error":"#REF!"}}]
["400mR",24,{"$f":"IF(入力表!BX37=\"\",\"@\",入力表!BX37)","v":"@"},{"$f":"COUNTIF($C$121:C144,C144)","v":24},"@24","",{"$f":"#REF!","v":{"$error":"#REF!"}}]
["400mR",25,{"$f":"IF(入力表!BX38=\"\",\"@\",入力表!BX38)","v":"@"},{"$f":"COUNTIF($C$121:C145,C145)","v":25},"@25","",{"$f":"#REF!","v":{"$error":"#REF!"}}]
["400mR",26,{"$f":"IF(入力表!BX39=\"\",\"@\",入力表!BX39)","v":"@"},{"$f":"COUNTIF($C$121:C146,C146)","v":26},"@26","",{"$f":"#REF!","v":{"$error":"#REF!"}}]
["400mR",27,{"$f":"IF(入力表!BX40=\"\",\"@\",入力表!BX40)","v":"@"},{"$f":"COUNTIF($C$121:C147,C147)","v":27},"@27","",{"$f":"#REF!","v":{"$error":"#REF!"}}]
["400mR",28,{"$f":"IF(入力表!BX41=\"\",\"@\",入力表!BX41)","v":"@"},{"$f":"COUNTIF($C$121:C148,C148)","v":28},"@28","",{"$f":"#REF!","v":{"$error":"#REF!"}}]
["400mR",29,{"$f":"IF(入力表!BX42=\"\",\"@\",入力表!BX42)","v":"@"},{"$f":"COUNTIF($C$121:C149,C149)","v":29},"@29","",{"$f":"#REF!","v":{"$error":"#REF!"}}]
["400mR",30,{"$f":"IF(入力表!BX43=\"\",\"@\",入力表!BX43)","v":"@"},{"$f":"COUNTIF($C$121:C150,C150)","v":30},"@30","",{"$f":"#REF!","v":{"$error":"#REF!"}}]
["400mR",31,{"$f":"IF(入力表!BX44=\"\",\"@\",入力表!BX44)","v":"@"},{"$f":"COUNTIF($C$121:C151,C151)","v":31},"@31","",{"$f":"#REF!","v":{"$error":"#REF!"}}]
["400mR",32,{"$f":"IF(入力表!BX45=\"\",\"@\",入力表!BX45)","v":"@"},{"$f":"COUNTIF($C$121:C152,C152)","v":32},"@32","",{"$f":"#REF!","v":{"$error":"#REF!"}}]
["400mR",33,{"$f":"IF(入力表!BX46=\"\",\"@\",入力表!BX46)","v":"@"},{"$f":"COUNTIF($C$121:C153,C153)","v":33},"@33","",{"$f":"#REF!","v":{"$error":"#REF!"}}]
["400mR",34,{"$f":"IF(入力表!BX47=\"\",\"@\",入力表!BX47)","v":"@"},{"$f":"COUNTIF($C$121:C154,C154)","v":34},"@34","",{"$f":"#REF!","v":{"$error":"#REF!"}}]
["400mR",35,{"$f":"IF(入力表!BX48=\"\",\"@\",入力表!BX48)","v":"@"},{"$f":"COUNTIF($C$121:C155,C155)","v":35},"@35","",{"$f":"#REF!","v":{"$error":"#REF!"}}]
["400mR",36,{"$f":"IF(入力表!BX49=\"\",\"@\",入力表!BX49)","v":"@"},{"$f":"COUNTIF($C$121:C156,C156)","v":36},"@36","",{"$f":"#REF!","v":{"$error":"#REF!"}}]
["400mR",37,{"$f":"IF(入力表!BX50=\"\",\"@\",入力表!BX50)","v":"@"},{"$f":"COUNTIF($C$121:C157,C157)","v":37},"@37","",{"$f":"#REF!","v":{"$error":"#REF!"}}]
["400mR",38,{"$f":"IF(入力表!BX51=\"\",\"@\",入力表!BX51)","v":"@"},{"$f":"COUNTIF($C$121:C158,C158)","v":38},"@38","",{"$f":"#REF!","v":{"$error":"#REF!"}}]
["400mR",39,{"$f":"IF(入力表!BX52=\"\",\"@\",入力表!BX52)","v":"@"},{"$f":"COUNTIF($C$121:C159,C159)","v":39},"@39","",{"$f":"#REF!","v":{"$error":"#REF!"}}]
["400mR",40,{"$f":"IF(入力表!BX53=\"\",\"@\",入力表!BX53)","v":"@"},{"$f":"COUNTIF($C$121:C160,C160)","v":40},"@40","",{"$f":"#REF!","v":{"$error":"#REF!"}}]
["1600mR",1,{"$f":"IF(入力表!CA14=\"\",\"@\",入力表!CA14)","v":"@"},{"$f":"COUNTIF($C$161:C161,C161)","v":1},"@1",{"$f":"F1","v":""},{"$f":"#REF!","v":{"$error":"#REF!"}}]
["1600mR",2,{"$f":"IF(入力表!CA15=\"\",\"@\",入力表!CA15)","v":"@"},{"$f":"COUNTIF($C$161:C162,C162)","v":2},"@2",{"$f":"F2","v":""},{"$f":"#REF!","v":{"$error":"#REF!"}}]
["1600mR",3,{"$f":"IF(入力表!CA16=\"\",\"@\",入力表!CA16)","v":"@"},{"$f":"COUNTIF($C$161:C163,C163)","v":3},"@3","",{"$f":"#REF!","v":{"$error":"#REF!"}}]
["1600mR",4,{"$f":"IF(入力表!CA17=\"\",\"@\",入力表!CA17)","v":"@"},{"$f":"COUNTIF($C$161:C164,C164)","v":4},"@4","",{"$f":"#REF!","v":{"$error":"#REF!"}}]
["1600mR",5,{"$f":"IF(入力表!CA18=\"\",\"@\",入力表!CA18)","v":"@"},{"$f":"COUNTIF($C$161:C165,C165)","v":5},"@5","",{"$f":"#REF!","v":{"$error":"#REF!"}}]
["1600mR",6,{"$f":"IF(入力表!CA19=\"\",\"@\",入力表!CA19)","v":"@"},{"$f":"COUNTIF($C$161:C166,C166)","v":6},"@6","",{"$f":"#REF!","v":{"$error":"#REF!"}}]
["1600mR",7,{"$f":"IF(入力表!CA20=\"\",\"@\",入力表!CA20)","v":"@"},{"$f":"COUNTIF($C$161:C167,C167)","v":7},"@7","",{"$f":"#REF!","v":{"$error":"#REF!"}}]
["1600mR",8,{"$f":"IF(入力表!CA21=\"\",\"@\",入力表!CA21)","v":"@"},{"$f":"COUNTIF($C$161:C168,C168)","v":8},"@8","",{"$f":"#REF!","v":{"$error":"#REF!"}}]
["1600mR",9,{"$f":"IF(入力表!CA22=\"\",\"@\",入力表!CA22)","v":"@"},{"$f":"COUNTIF($C$161:C169,C169)","v":9},"@9","",{"$f":"#REF!","v":{"$error":"#REF!"}}]
["1600mR",10,{"$f":"IF(入力表!CA23=\"\",\"@\",入力表!CA23)","v":"@"},{"$f":"COUNTIF($C$161:C170,C170)","v":10},"@10","",{"$f":"#REF!","v":{"$error":"#REF!"}}]
["1600mR",11,{"$f":"IF(入力表!CA24=\"\",\"@\",入力表!CA24)","v":"@"},{"$f":"COUNTIF($C$161:C171,C171)","v":11},"@11","",{"$f":"#REF!","v":{"$error":"#REF!"}}]
["1600mR",12,{"$f":"IF(入力表!CA25=\"\",\"@\",入力表!CA25)","v":"@"},{"$f":"COUNTIF($C$161:C172,C172)","v":12},"@12","",{"$f":"#REF!","v":{"$error":"#REF!"}}]
["1600mR",13,{"$f":"IF(入力表!CA26=\"\",\"@\",入力表!CA26)","v":"@"},{"$f":"COUNTIF($C$161:C173,C173)","v":13},"@13","",{"$f":"#REF!","v":{"$error":"#REF!"}}]
["1600mR",14,{"$f":"IF(入力表!CA27=\"\",\"@\",入力表!CA27)","v":"@"},{"$f":"COUNTIF($C$161:C174,C174)","v":14},"@14","",{"$f":"#REF!","v":{"$error":"#REF!"}}]
["1600mR",15,{"$f":"IF(入力表!CA28=\"\",\"@\",入力表!CA28)","v":"@"},{"$f":"COUNTIF($C$161:C175,C175)","v":15},"@15","",{"$f":"#REF!","v":{"$error":"#REF!"}}]
["1600mR",16,{"$f":"IF(入力表!CA29=\"\",\"@\",入力表!CA29)","v":"@"},{"$f":"COUNTIF($C$161:C176,C176)","v":16},"@16","",{"$f":"#REF!","v":{"$error":"#REF!"}}]
["1600mR",17,{"$f":"IF(入力表!CA30=\"\",\"@\",入力表!CA30)","v":"@"},{"$f":"COUNTIF($C$161:C177,C177)","v":17},"@17","",{"$f":"#REF!","v":{"$error":"#REF!"}}]
["1600mR",18,{"$f":"IF(入力表!CA31=\"\",\"@\",入力表!CA31)","v":"@"},{"$f":"COUNTIF($C$161:C178,C178)","v":18},"@18","",{"$f":"#REF!","v":{"$error":"#REF!"}}]
["1600mR",19,{"$f":"IF(入力表!CA32=\"\",\"@\",入力表!CA32)","v":"@"},{"$f":"COUNTIF($C$161:C179,C179)","v":19},"@19","",{"$f":"#REF!","v":{"$error":"#REF!"}}]
["1600mR",20,{"$f":"IF(入力表!CA33=\"\",\"@\",入力表!CA33)","v":"@"},{"$f":"COUNTIF($C$161:C180,C180)","v":20},"@20","",{"$f":"#REF!","v":{"$error":"#REF!"}}]
["1600mR",21,{"$f":"IF(入力表!CA34=\"\",\"@\",入力表!CA34)","v":"@"},{"$f":"COUNTIF($C$161:C181,C181)","v":21},"@21","",{"$f":"#REF!","v":{"$error":"#REF!"}}]
["1600mR",22,{"$f":"IF(入力表!CA35=\"\",\"@\",入力表!CA35)","v":"@"},{"$f":"COUNTIF($C$161:C182,C182)","v":22},"@22","",{"$f":"#REF!","v":{"$error":"#REF!"}}]
["1600mR",23,{"$f":"IF(入力表!CA36=\"\",\"@\",入力表!CA36)","v":"@"},{"$f":"COUNTIF($C$161:C183,C183)","v":23},"@23","",{"$f":"#REF!","v":{"$error":"#REF!"}}]
["1600mR",24,{"$f":"IF(入力表!CA37=\"\",\"@\",入力表!CA37)","v":"@"},{"$f":"COUNTIF($C$161:C184,C184)","v":24},"@24","",{"$f":"#REF!","v":{"$error":"#REF!"}}]
["1600mR",25,{"$f":"IF(入力表!CA38=\"\",\"@\",入力表!CA38)","v":"@"},{"$f":"COUNTIF($C$161:C185,C185)","v":25},"@25","",{"$f":"#REF!","v":{"$error":"#REF!"}}]
["1600mR",26,{"$f":"IF(入力表!CA39=\"\",\"@\",入力表!CA39)","v":"@"},{"$f":"COUNTIF($C$161:C186,C186)","v":26},"@26","",{"$f":"#REF!","v":{"$error":"#REF!"}}]
["1600mR",27,{"$f":"IF(入力表!CA40=\"\",\"@\",入力表!CA40)","v":"@"},{"$f":"COUNTIF($C$161:C187,C187)","v":27},"@27","",{"$f":"#REF!","v":{"$error":"#REF!"}}]
["1600mR",28,{"$f":"IF(入力表!CA41=\"\",\"@\",入力表!CA41)","v":"@"},{"$f":"COUNTIF($C$161:C188,C188)","v":28},"@28","",{"$f":"#REF!","v":{"$error":"#REF!"}}]
["1600mR",29,{"$f":"IF(入力表!CA42=\"\",\"@\",入力表!CA42)","v":"@"},{"$f":"COUNTIF($C$161:C189,C189)","v":29},"@29","",{"$f":"#REF!","v":{"$error":"#REF!"}}]
["1600mR",30,{"$f":"IF(入力表!CA43=\"\",\"@\",入力表!CA43)","v":"@"},{"$f":"COUNTIF($C$161:C190,C190)","v":30},"@30","",{"$f":"#REF!","v":{"$error":"#REF!"}}]
["1600mR",31,{"$f":"IF(入力表!CA44=\"\",\"@\",入力表!CA44)","v":"@"},{"$f":"COUNTIF($C$161:C191,C191)","v":31},"@31","",{"$f":"#REF!","v":{"$error":"#REF!"}}]
["1600mR",32,{"$f":"IF(入力表!CA45=\"\",\"@\",入力表!CA45)","v":"@"},{"$f":"COUNTIF($C$161:C192,C192)","v":32},"@32","",{"$f":"#REF!","v":{"$error":"#REF!"}}]
["1600mR",33,{"$f":"IF(入力表!CA46=\"\",\"@\",入力表!CA46)","v":"@"},{"$f":"COUNTIF($C$161:C193,C193)","v":33},"@33","",{"$f":"#REF!","v":{"$error":"#REF!"}}]
["1600mR",34,{"$f":"IF(入力表!CA47=\"\",\"@\",入力表!CA47)","v":"@"},{"$f":"COUNTIF($C$161:C194,C194)","v":34},{"$f":"C194&D194","v":"@34"},"",{"$f":"#REF!","v":{"$error":"#REF!"}}]
["1600mR",35,{"$f":"IF(入力表!CA48=\"\",\"@\",入力表!CA48)","v":"@"},{"$f":"COUNTIF($C$161:C195,C195)","v":35},"@35","",{"$f":"#REF!","v":{"$error":"#REF!"}}]
["1600mR",36,{"$f":"IF(入力表!CA49=\"\",\"@\",入力表!CA49)","v":"@"},{"$f":"COUNTIF($C$161:C196,C196)","v":36},"@36","",{"$f":"#REF!","v":{"$error":"#REF!"}}]
["1600mR",37,{"$f":"IF(入力表!CA50=\"\",\"@\",入力表!CA50)","v":"@"},{"$f":"COUNTIF($C$161:C197,C197)","v":37},"@37","",{"$f":"#REF!","v":{"$error":"#REF!"}}]
["1600mR",38,{"$f":"IF(入力表!CA51=\"\",\"@\",入力表!CA51)","v":"@"},{"$f":"COUNTIF($C$161:C198,C198)","v":38},"@38","",{"$f":"#REF!","v":{"$error":"#REF!"}}]
["1600mR",39,{"$f":"IF(入力表!CA52=\"\",\"@\",入力表!CA52)","v":"@"},{"$f":"COUNTIF($C$161:C199,C199)","v":39},"@39","",{"$f":"#REF!","v":{"$error":"#REF!"}}]
["1600mR",40,{"$f":"IF(入力表!CA53=\"\",\"@\",入力表!CA53)","v":"@"},{"$f":"COUNTIF($C$161:C200,C200)","v":40},"@40","",{"$f":"#REF!","v":{"$error":"#REF!"}}]

{"sheet":"●貼付（事務局）","index":7,"n_rows":41,"n_cols":51,"rows_kept":41,"cut":false,"hidden":true,"merged":[[0,21,0,28],[0,29,0,36],[0,37,0,44]]}
["数","性","NC","氏名","誕生年","ﾌﾘｶﾞﾅ","所属陸協","団体名","年","種目１","ベスト","種目２","ベスト","種目３","ベスト","8R","記録","16R","記録",null,null,"種目1ベスト",null,null,null,null,null,null,null,"種目2ベスト",null,null,null,null,null,null,null,"種目3ベスト"]
[1,{"$f":"IF(入力表!H14=0,\"\",入力表!H14)","v":""},{"$f":"IF(入力表!J14=0,\"\",入力表!J14)","v":""},{"$f":"IF(入力表!N14=0,\"\",入力表!N14)","v":""},{"$f":"RIGHT(入力表!AA14,2)","v":""},{"$f":"IF(入力表!U14=0,\"\",入力表!U14)","v":""},{"$f":"IF(B2=\"\",\"\",入力表!$N$8)","v":""},{"$f":"IF(B2=\"\",\"\",入力表!$L$4)","v":""},{"$f":"IF(B2=\"\",\"\",入力表!AE14)","v":""},{"$f":"IF(入力表!AH14=\"\",\"\",入力表!AH14)","v":""},{"$f":"CONCATENATE(V2,W2,X2,Y2,Z2,AA2,AB2,AC2)","v":""},{"$f":"IF(入力表!AV14=\"\",\"\",入力表!AV14)","v":""},{"$f":"CONCATENATE(AD2,AE2,AF2,AG2,AH2,AI2,AJ2,AK2)","v":""},{"$f":"IF(入力表!BJ14=\"\",\"\",入力表!BJ14)","v":""},{"$f":"CONCATENATE(AL2,AM2,AN2,AO2,AP2,AQ2,AR2,AS2)","v":""},{"$f":"IF(入力表!BX14=\"\",\"\",入力表!BX14)","v":""},{"$f":"IF(ISERROR(VLOOKUP(P2,$AX$3:$AY$14,2,FALSE)),\"\",VLOOKUP(P2,$AX$3:$AY$14,2,FALSE))","v":""},{"$f":"IF(入力表!CA14=\"\",\"\",入力表!CA14)","v":""},{"$f":"IF(ISERROR(VLOOKUP(R2,$AX$16:$AY$21,2,FALSE)),\"\",VLOOKUP(R2,$AX$16:$AY$21,2,FALSE))","v":""},{"$f":"入力表!E6","v":0},null,{"$f":"IF(入力表!AN14=\"\",\"\",入力表!AN14)","v":""},{"$f":"IF(入力表!AO14=\"\",\"\",入力表!AO14)","v":""},{"$f":"IF(ISERROR(VLOOKUP(IF(W2=\"\",\"\",入力表!AP14),$AU$2:$AV$5,2,FALSE)),\"\",VLOOKUP(IF(W2=\"\",\"\",入力表!AS14),$AU$2:$AV$5,2,FALSE))","v":""},{"$f":"IF(入力表!AQ14=\"\",\"\",入力表!AQ14)","v":""},{"$f":"IF(入力表!AR14=\"\",\"\",入力表!AR14)","v":""},{"$f":"IF(ISERROR(VLOOKUP(入力表!AS14,$AU$2:$AV$5,2,FALSE)),\"\",VLOOKUP(入力表!AS14,$AU$2:$AV$5,2,FALSE))","v":""},{"$f":"IF(入力表!AT14=\"\",\"\",入力表!AT14)","v":""},{"$f":"IF(入力表!AU14=\"\",\"\",入力表!AU14)","v":""},{"$f":"IF(入力表!BB14=\"\",\"\",入力表!BB14)","v":""},{"$f":"IF(入力表!BC14=\"\",\"\",入力表!BC14)","v":""},{"$f":"IF(ISERROR(VLOOKUP(IF(AE2=\"\",\"\",入力表!BD14),$AU$2:$AV$5,2,FALSE)),\"\",VLOOKUP(IF(AE2=\"\",\"\",入力表!BD14),$AU$2:$AV$5,2,FALSE))","v":""},{"$f":"IF(入力表!BE14=\"\",\"\",入力表!BE14)","v":""},{"$f":"IF(入力表!BF14=\"\",\"\",入力表!BF14)","v":""},{"$f":"IF(ISERROR(VLOOKUP(入力表!BG14,$AU$2:$AV$5,2,FALSE)),\"\",VLOOKUP(入力表!BG14,$AU$2:$AV$5,2,FALSE))","v":""},{"$f":"IF(入力表!BH14=\"\",\"\",入力表!BH14)","v":""},{"$f":"IF(入力表!BI14=\"\",\"\",入力表!BI14)","v":""},{"$f":"IF(入力表!BP14=\"\",\"\",入力表!BP14)","v":""},{"$f":"IF(入力表!BQ14=\"\",\"\",入力表!BQ14)","v":""},{"$f":"IF(ISERROR(VLOOKUP(IF(AM2=\"\",\"\",入力表!BR14),$AU$2:$AV$5,2,FALSE)),\"\",VLOOKUP(IF(AM2=\"\",\"\",入力表!BR14),$AU$2:$AV$5,2,FALSE))","v":""},{"$f":"IF(入力表!BS14=\"\",\"\",入力表!BS14)","v":""},{"$f":"IF(入力表!BT14=\"\",\"\",入力表!BT14)","v":""},{"$f":"IF(ISERROR(VLOOKUP(入力表!BU14,$AU$2:$AV$5,2,FALSE)),\"\",VLOOKUP(入力表!BU14,$AU$2:$AV$5,2,FALSE))","v":""},{"$f":"IF(入力表!BV14=\"\",\"\",入力表!BV14)","v":""},{"$f":"IF(入力表!BW14=\"\",\"\",入力表!BW14)","v":""},null,"分",".",null,"400mR"]
[2,{"$f":"IF(入力表!H15=0,\"\",入力表!H15)","v":""},{"$f":"IF(入力表!J15=0,\"\",入力表!J15)","v":""},{"$f":"IF(入力表!N15=0,\"\",入力表!N15)","v":""},{"$f":"RIGHT(入力表!AA15,2)","v":""},{"$f":"IF(入力表!U15=0,\"\",入力表!U15)","v":""},{"$f":"IF(B3=\"\",\"\",入力表!$N$8)","v":""},{"$f":"IF(B3=\"\",\"\",入力表!$L$4)","v":""},{"$f":"IF(B3=\"\",\"\",入力表!AE15)","v":""},{"$f":"IF(入力表!AH15=\"\",\"\",入力表!AH15)","v":""},"",{"$f":"IF(入力表!AV15=\"\",\"\",入力表!AV15)","v":""},"",{"$f":"IF(入力表!BJ15=\"\",\"\",入力表!BJ15)","v":""},"",{"$f":"IF(入力表!BX15=\"\",\"\",入力表!BX15)","v":""},{"$f":"IF(ISERROR(VLOOKUP(P3,$AX$3:$AY$14,2,FALSE)),\"\",VLOOKUP(P3,$AX$3:$AY$14,2,FALSE))","v":""},{"$f":"IF(入力表!CA15=\"\",\"\",入力表!CA15)","v":""},{"$f":"IF(ISERROR(VLOOKUP(R3,$AX$16:$AY$21,2,FALSE)),\"\",VLOOKUP(R3,$AX$16:$AY$21,2,FALSE))","v":""},null,null,{"$f":"IF(入力表!AN15=\"\",\"\",入力表!AN15)","v":""},{"$f":"IF(入力表!AO15=\"\",\"\",入力表!AO15)","v":""},{"$f":"IF(ISERROR(VLOOKUP(IF(W3=\"\",\"\",入力表!AP15),$AU$2:$AV$5,2,FALSE)),\"\",VLOOKUP(IF(W3=\"\",\"\",入力表!AS15),$AU$2:$AV$5,2,FALSE))","v":""},{"$f":"IF(入力表!AQ15=\"\",\"\",入力表!AQ15)","v":""},{"$f":"IF(入力表!AR15=\"\",\"\",入力表!AR15)","v":""},{"$f":"IF(ISERROR(VLOOKUP(入力表!AS15,$AU$2:$AV$5,2,FALSE)),\"\",VLOOKUP(入力表!AS15,$AU$2:$AV$5,2,FALSE))","v":""},{"$f":"IF(入力表!AT15=\"\",\"\",入力表!AT15)","v":""},{"$f":"IF(入力表!AU15=\"\",\"\",入力表!AU15)","v":""},{"$f":"IF(入力表!BB15=\"\",\"\",入力表!BB15)","v":""},{"$f":"IF(入力表!BC15=\"\",\"\",入力表!BC15)","v":""},{"$f":"IF(ISERROR(VLOOKUP(IF(AE3=\"\",\"\",入力表!BD15),$AU$2:$AV$5,2,FALSE)),\"\",VLOOKUP(IF(AE3=\"\",\"\",入力表!BD15),$AU$2:$AV$5,2,FALSE))","v":""},{"$f":"IF(入力表!BE15=\"\",\"\",入力表!BE15)","v":""},{"$f":"IF(入力表!BF15=\"\",\"\",入力表!BF15)","v":""},{"$f":"IF(ISERROR(VLOOKUP(入力表!BG15,$AU$2:$AV$5,2,FALSE)),\"\",VLOOKUP(入力表!BG15,$AU$2:$AV$5,2,FALSE))","v":""},{"$f":"IF(入力表!BH15=\"\",\"\",入力表!BH15)","v":""},{"$f":"IF(入力表!BI15=\"\",\"\",入力表!BI15)","v":""},{"$f":"IF(入力表!BP15=\"\",\"\",入力表!BP15)","v":""},{"$f":"IF(入力表!BQ15=\"\",\"\",入力表!BQ15)","v":""},{"$f":"IF(ISERROR(VLOOKUP(IF(AM3=\"\",\"\",入力表!BR15),$AU$2:$AV$5,2,FALSE)),\"\",VLOOKUP(IF(AM3=\"\",\"\",入力表!BR15),$AU$2:$AV$5,2,FALSE))","v":""},{"$f":"IF(入力表!BS15=\"\",\"\",入力表!BS15)","v":""},{"$f":"IF(入力表!BT15=\"\",\"\",入力表!BT15)","v":""},{"$f":"IF(ISERROR(VLOOKUP(入力表!BU15,$AU$2:$AV$5,2,FALSE)),\"\",VLOOKUP(入力表!BU15,$AU$2:$AV$5,2,FALSE))","v":""},{"$f":"IF(入力表!BV15=\"\",\"\",入力表!BV15)","v":""},{"$f":"IF(入力表!BW15=\"\",\"\",入力表!BW15)","v":""},null,"秒",".",null,"男子A",{"$f":"CONCATENATE(入力表!BL2,\".\",入力表!BN2,入力表!BO2,\".\",入力表!BQ2,入力表!BR2)","v":".."}]
[3,{"$f":"IF(入力表!H16=0,\"\",入力表!H16)","v":""},{"$f":"IF(入力表!J16=0,\"\",入力表!J16)","v":""},{"$f":"IF(入力表!N16=0,\"\",入力表!N16)","v":""},{"$f":"RIGHT(入力表!AA16,2)","v":""},{"$f":"IF(入力表!U16=0,\"\",入力表!U16)","v":""},{"$f":"IF(B4=\"\",\"\",入力表!$N$8)","v":""},{"$f":"IF(B4=\"\",\"\",入力表!$L$4)","v":""},{"$f":"IF(B4=\"\",\"\",入力表!AE16)","v":""},{"$f":"IF(入力表!AH16=\"\",\"\",入力表!AH16)","v":""},"",{"$f":"IF(入力表!AV16=\"\",\"\",入力表!AV16)","v":""},"",{"$f":"IF(入力表!BJ16=\"\",\"\",入力表!BJ16)","v":""},"",{"$f":"IF(入力表!BX16=\"\",\"\",入力表!BX16)","v":""},"",{"$f":"IF(入力表!CA16=\"\",\"\",入力表!CA16)","v":""},"",null,null,{"$f":"IF(入力表!AN16=\"\",\"\",入力表!AN16)","v":""},{"$f":"IF(入力表!AO16=\"\",\"\",入力表!AO16)","v":""},{"$f":"IF(ISERROR(VLOOKUP(IF(W4=\"\",\"\",入力表!AP16),$AU$2:$AV$5,2,FALSE)),\"\",VLOOKUP(IF(W4=\"\",\"\",入力表!AS16),$AU$2:$AV$5,2,FALSE))","v":""},{"$f":"IF(入力表!AQ16=\"\",\"\",入力表!AQ16)","v":""},{"$f":"IF(入力表!AR16=\"\",\"\",入力表!AR16)","v":""},{"$f":"IF(ISERROR(VLOOKUP(入力表!AS16,$AU$2:$AV$5,2,FALSE)),\"\",VLOOKUP(入力表!AS16,$AU$2:$AV$5,2,FALSE))","v":""},{"$f":"IF(入力表!AT16=\"\",\"\",入力表!AT16)","v":""},{"$f":"IF(入力表!AU16=\"\",\"\",入力表!AU16)","v":""},{"$f":"IF(入力表!BB16=\"\",\"\",入力表!BB16)","v":""},{"$f":"IF(入力表!BC16=\"\",\"\",入力表!BC16)","v":""},{"$f":"IF(ISERROR(VLOOKUP(IF(AE4=\"\",\"\",入力表!BD16),$AU$2:$AV$5,2,FALSE)),\"\",VLOOKUP(IF(AE4=\"\",\"\",入力表!BD16),$AU$2:$AV$5,2,FALSE))","v":""},{"$f":"IF(入力表!BE16=\"\",\"\",入力表!BE16)","v":""},{"$f":"IF(入力表!BF16=\"\",\"\",入力表!BF16)","v":""},{"$f":"IF(ISERROR(VLOOKUP(入力表!BG16,$AU$2:$AV$5,2,FALSE)),\"\",VLOOKUP(入力表!BG16,$AU$2:$AV$5,2,FALSE))","v":""},{"$f":"IF(入力表!BH16=\"\",\"\",入力表!BH16)","v":""},{"$f":"IF(入力表!BI16=\"\",\"\",入力表!BI16)","v":""},{"$f":"IF(入力表!BP16=\"\",\"\",入力表!BP16)","v":""},{"$f":"IF(入力表!BQ16=\"\",\"\",入力表!BQ16)","v":""},{"$f":"IF(ISERROR(VLOOKUP(IF(AM4=\"\",\"\",入力表!BR16),$AU$2:$AV$5,2,FALSE)),\"\",VLOOKUP(IF(AM4=\"\",\"\",入力表!BR16),$AU$2:$AV$5,2,FALSE))","v":""},{"$f":"IF(入力表!BS16=\"\",\"\",入力表!BS16)","v":""},{"$f":"IF(入力表!BT16=\"\",\"\",入力表!BT16)","v":""},{"$f":"IF(ISERROR(VLOOKUP(入力表!BU16,$AU$2:$AV$5,2,FALSE)),\"\",VLOOKUP(入力表!BU16,$AU$2:$AV$5,2,FALSE))","v":""},{"$f":"IF(入力表!BV16=\"\",\"\",入力表!BV16)","v":""},{"$f":"IF(入力表!BW16=\"\",\"\",入力表!BW16)","v":""},null,"m","m",null,"男子B",{"$f":"CONCATENATE(入力表!BL3,\".\",入力表!BN3,入力表!BO3,\".\",入力表!BQ3,入力表!BR3)","v":".."}]
[4,{"$f":"IF(入力表!H17=0,\"\",入力表!H17)","v":""},{"$f":"IF(入力表!J17=0,\"\",入力表!J17)","v":""},{"$f":"IF(入力表!N17=0,\"\",入力表!N17)","v":""},{"$f":"RIGHT(入力表!AA17,2)","v":""},{"$f":"IF(入力表!U17=0,\"\",入力表!U17)","v":""},{"$f":"IF(B5=\"\",\"\",入力表!$N$8)","v":""},{"$f":"IF(B5=\"\",\"\",入力表!$L$4)","v":""},{"$f":"IF(B5=\"\",\"\",入力表!AE17)","v":""},{"$f":"IF(入力表!AH17=\"\",\"\",入力表!AH17)","v":""},"",{"$f":"IF(入力表!AV17=\"\",\"\",入力表!AV17)","v":""},"",{"$f":"IF(入力表!BJ17=\"\",\"\",入力表!BJ17)","v":""},"",{"$f":"IF(入力表!BX17=\"\",\"\",入力表!BX17)","v":""},"",{"$f":"IF(入力表!CA17=\"\",\"\",入力表!CA17)","v":""},"",null,null,{"$f":"IF(入力表!AN17=\"\",\"\",入力表!AN17)","v":""},{"$f":"IF(入力表!AO17=\"\",\"\",入力表!AO17)","v":""},{"$f":"IF(ISERROR(VLOOKUP(IF(W5=\"\",\"\",入力表!AP17),$AU$2:$AV$5,2,FALSE)),\"\",VLOOKUP(IF(W5=\"\",\"\",入力表!AS17),$AU$2:$AV$5,2,FALSE))","v":""},{"$f":"IF(入力表!AQ17=\"\",\"\",入力表!AQ17)","v":""},{"$f":"IF(入力表!AR17=\"\",\"\",入力表!AR17)","v":""},{"$f":"IF(ISERROR(VLOOKUP(入力表!AS17,$AU$2:$AV$5,2,FALSE)),\"\",VLOOKUP(入力表!AS17,$AU$2:$AV$5,2,FALSE))","v":""},{"$f":"IF(入力表!AT17=\"\",\"\",入力表!AT17)","v":""},{"$f":"IF(入力表!AU17=\"\",\"\",入力表!AU17)","v":""},{"$f":"IF(入力表!BB17=\"\",\"\",入力表!BB17)","v":""},{"$f":"IF(入力表!BC17=\"\",\"\",入力表!BC17)","v":""},{"$f":"IF(ISERROR(VLOOKUP(IF(AE5=\"\",\"\",入力表!BD17),$AU$2:$AV$5,2,FALSE)),\"\",VLOOKUP(IF(AE5=\"\",\"\",入力表!BD17),$AU$2:$AV$5,2,FALSE))","v":""},{"$f":"IF(入力表!BE17=\"\",\"\",入力表!BE17)","v":""},{"$f":"IF(入力表!BF17=\"\",\"\",入力表!BF17)","v":""},{"$f":"IF(ISERROR(VLOOKUP(入力表!BG17,$AU$2:$AV$5,2,FALSE)),\"\",VLOOKUP(入力表!BG17,$AU$2:$AV$5,2,FALSE))","v":""},{"$f":"IF(入力表!BH17=\"\",\"\",入力表!BH17)","v":""},{"$f":"IF(入力表!BI17=\"\",\"\",入力表!BI17)","v":""},{"$f":"IF(入力表!BP17=\"\",\"\",入力表!BP17)","v":""},{"$f":"IF(入力表!BQ17=\"\",\"\",入力表!BQ17)","v":""},{"$f":"IF(ISERROR(VLOOKUP(IF(AM5=\"\",\"\",入力表!BR17),$AU$2:$AV$5,2,FALSE)),\"\",VLOOKUP(IF(AM5=\"\",\"\",入力表!BR17),$AU$2:$AV$5,2,FALSE))","v":""},{"$f":"IF(入力表!BS17=\"\",\"\",入力表!BS17)","v":""},{"$f":"IF(入力表!BT17=\"\",\"\",入力表!BT17)","v":""},{"$f":"IF(ISERROR(VLOOKUP(入力表!BU17,$AU$2:$AV$5,2,FALSE)),\"\",VLOOKUP(入力表!BU17,$AU$2:$AV$5,2,FALSE))","v":""},{"$f":"IF(入力表!BV17=\"\",\"\",入力表!BV17)","v":""},{"$f":"IF(入力表!BW17=\"\",\"\",入力表!BW17)","v":""},null,null,null,null,"男子C",{"$f":"CONCATENATE(入力表!BL4,\".\",入力表!BN4,入力表!BO4,\".\",入力表!BQ4,入力表!BR4)","v":".."}]
[5,{"$f":"IF(入力表!H18=0,\"\",入力表!H18)","v":""},{"$f":"IF(入力表!J18=0,\"\",入力表!J18)","v":""},{"$f":"IF(入力表!N18=0,\"\",入力表!N18)","v":""},{"$f":"RIGHT(入力表!AA18,2)","v":""},{"$f":"IF(入力表!U18=0,\"\",入力表!U18)","v":""},{"$f":"IF(B6=\"\",\"\",入力表!$N$8)","v":""},{"$f":"IF(B6=\"\",\"\",入力表!$L$4)","v":""},{"$f":"IF(B6=\"\",\"\",入力表!AE18)","v":""},{"$f":"IF(入力表!AH18=\"\",\"\",入力表!AH18)","v":""},"",{"$f":"IF(入力表!AV18=\"\",\"\",入力表!AV18)","v":""},"",{"$f":"IF(入力表!BJ18=\"\",\"\",入力表!BJ18)","v":""},"",{"$f":"IF(入力表!BX18=\"\",\"\",入力表!BX18)","v":""},"",{"$f":"IF(入力表!CA18=\"\",\"\",入力表!CA18)","v":""},"",null,null,{"$f":"IF(入力表!AN18=\"\",\"\",入力表!AN18)","v":""},{"$f":"IF(入力表!AO18=\"\",\"\",入力表!AO18)","v":""},{"$f":"IF(ISERROR(VLOOKUP(IF(W6=\"\",\"\",入力表!AP18),$AU$2:$AV$5,2,FALSE)),\"\",VLOOKUP(IF(W6=\"\",\"\",入力表!AS18),$AU$2:$AV$5,2,FALSE))","v":""},{"$f":"IF(入力表!AQ18=\"\",\"\",入力表!AQ18)","v":""},{"$f":"IF(入力表!AR18=\"\",\"\",入力表!AR18)","v":""},{"$f":"IF(ISERROR(VLOOKUP(入力表!AS18,$AU$2:$AV$5,2,FALSE)),\"\",VLOOKUP(入力表!AS18,$AU$2:$AV$5,2,FALSE))","v":""},{"$f":"IF(入力表!AT18=\"\",\"\",入力表!AT18)","v":""},{"$f":"IF(入力表!AU18=\"\",\"\",入力表!AU18)","v":""},{"$f":"IF(入力表!BB18=\"\",\"\",入力表!BB18)","v":""},{"$f":"IF(入力表!BC18=\"\",\"\",入力表!BC18)","v":""},{"$f":"IF(ISERROR(VLOOKUP(IF(AE6=\"\",\"\",入力表!BD18),$AU$2:$AV$5,2,FALSE)),\"\",VLOOKUP(IF(AE6=\"\",\"\",入力表!BD18),$AU$2:$AV$5,2,FALSE))","v":""},{"$f":"IF(入力表!BE18=\"\",\"\",入力表!BE18)","v":""},{"$f":"IF(入力表!BF18=\"\",\"\",入力表!BF18)","v":""},{"$f":"IF(ISERROR(VLOOKUP(入力表!BG18,$AU$2:$AV$5,2,FALSE)),\"\",VLOOKUP(入力表!BG18,$AU$2:$AV$5,2,FALSE))","v":""},{"$f":"IF(入力表!BH18=\"\",\"\",入力表!BH18)","v":""},{"$f":"IF(入力表!BI18=\"\",\"\",入力表!BI18)","v":""},{"$f":"IF(入力表!BP18=\"\",\"\",入力表!BP18)","v":""},{"$f":"IF(入力表!BQ18=\"\",\"\",入力表!BQ18)","v":""},{"$f":"IF(ISERROR(VLOOKUP(IF(AM6=\"\",\"\",入力表!BR18),$AU$2:$AV$5,2,FALSE)),\"\",VLOOKUP(IF(AM6=\"\",\"\",入力表!BR18),$AU$2:$AV$5,2,FALSE))","v":""},{"$f":"IF(入力表!BS18=\"\",\"\",入力表!BS18)","v":""},{"$f":"IF(入力表!BT18=\"\",\"\",入力表!BT18)","v":""},{"$f":"IF(ISERROR(VLOOKUP(入力表!BU18,$AU$2:$AV$5,2,FALSE)),\"\",VLOOKUP(入力表!BU18,$AU$2:$AV$5,2,FALSE))","v":""},{"$f":"IF(入力表!BV18=\"\",\"\",入力表!BV18)","v":""},{"$f":"IF(入力表!BW18=\"\",\"\",入力表!BW18)","v":""},null,null,null,null,"男子D",{"$f":"CONCATENATE(入力表!#REF!,\".\",入力表!#REF!,入力表!#REF!,\".\",入力表!#REF!,入力表!#REF!)","v":{"$error":"#REF!"}}]
[6,{"$f":"IF(入力表!H19=0,\"\",入力表!H19)","v":""},{"$f":"IF(入力表!J19=0,\"\",入力表!J19)","v":""},{"$f":"IF(入力表!N19=0,\"\",入力表!N19)","v":""},{"$f":"RIGHT(入力表!AA19,2)","v":""},{"$f":"IF(入力表!U19=0,\"\",入力表!U19)","v":""},{"$f":"IF(B7=\"\",\"\",入力表!$N$8)","v":""},{"$f":"IF(B7=\"\",\"\",入力表!$L$4)","v":""},{"$f":"IF(B7=\"\",\"\",入力表!AE19)","v":""},{"$f":"IF(入力表!AH19=\"\",\"\",入力表!AH19)","v":""},"",{"$f":"IF(入力表!AV19=\"\",\"\",入力表!AV19)","v":""},"",{"$f":"IF(入力表!BJ19=\"\",\"\",入力表!BJ19)","v":""},"",{"$f":"IF(入力表!BX19=\"\",\"\",入力表!BX19)","v":""},"",{"$f":"IF(入力表!CA19=\"\",\"\",入力表!CA19)","v":""},"",null,null,{"$f":"IF(入力表!AN19=\"\",\"\",入力表!AN19)","v":""},{"$f":"IF(入力表!AO19=\"\",\"\",入力表!AO19)","v":""},{"$f":"IF(ISERROR(VLOOKUP(IF(W7=\"\",\"\",入力表!AP19),$AU$2:$AV$5,2,FALSE)),\"\",VLOOKUP(IF(W7=\"\",\"\",入力表!AS19),$AU$2:$AV$5,2,FALSE))","v":""},{"$f":"IF(入力表!AQ19=\"\",\"\",入力表!AQ19)","v":""},{"$f":"IF(入力表!AR19=\"\",\"\",入力表!AR19)","v":""},{"$f":"IF(ISERROR(VLOOKUP(入力表!AS19,$AU$2:$AV$5,2,FALSE)),\"\",VLOOKUP(入力表!AS19,$AU$2:$AV$5,2,FALSE))","v":""},{"$f":"IF(入力表!AT19=\"\",\"\",入力表!AT19)","v":""},{"$f":"IF(入力表!AU19=\"\",\"\",入力表!AU19)","v":""},{"$f":"IF(入力表!BB19=\"\",\"\",入力表!BB19)","v":""},{"$f":"IF(入力表!BC19=\"\",\"\",入力表!BC19)","v":""},{"$f":"IF(ISERROR(VLOOKUP(IF(AE7=\"\",\"\",入力表!BD19),$AU$2:$AV$5,2,FALSE)),\"\",VLOOKUP(IF(AE7=\"\",\"\",入力表!BD19),$AU$2:$AV$5,2,FALSE))","v":""},{"$f":"IF(入力表!BE19=\"\",\"\",入力表!BE19)","v":""},{"$f":"IF(入力表!BF19=\"\",\"\",入力表!BF19)","v":""},{"$f":"IF(ISERROR(VLOOKUP(入力表!BG19,$AU$2:$AV$5,2,FALSE)),\"\",VLOOKUP(入力表!BG19,$AU$2:$AV$5,2,FALSE))","v":""},{"$f":"IF(入力表!BH19=\"\",\"\",入力表!BH19)","v":""},{"$f":"IF(入力表!BI19=\"\",\"\",入力表!BI19)","v":""},{"$f":"IF(入力表!BP19=\"\",\"\",入力表!BP19)","v":""},{"$f":"IF(入力表!BQ19=\"\",\"\",入力表!BQ19)","v":""},{"$f":"IF(ISERROR(VLOOKUP(IF(AM7=\"\",\"\",入力表!BR19),$AU$2:$AV$5,2,FALSE)),\"\",VLOOKUP(IF(AM7=\"\",\"\",入力表!BR19),$AU$2:$AV$5,2,FALSE))","v":""},{"$f":"IF(入力表!BS19=\"\",\"\",入力表!BS19)","v":""},{"$f":"IF(入力表!BT19=\"\",\"\",入力表!BT19)","v":""},{"$f":"IF(ISERROR(VLOOKUP(入力表!BU19,$AU$2:$AV$5,2,FALSE)),\"\",VLOOKUP(入力表!BU19,$AU$2:$AV$5,2,FALSE))","v":""},{"$f":"IF(入力表!BV19=\"\",\"\",入力表!BV19)","v":""},{"$f":"IF(入力表!BW19=\"\",\"\",入力表!BW19)","v":""},null,null,null,null,"男子E",{"$f":"CONCATENATE(入力表!#REF!,\".\",入力表!#REF!,入力表!#REF!,\".\",入力表!#REF!,入力表!#REF!)","v":{"$error":"#REF!"}}]
[7,{"$f":"IF(入力表!H20=0,\"\",入力表!H20)","v":""},{"$f":"IF(入力表!J20=0,\"\",入力表!J20)","v":""},{"$f":"IF(入力表!N20=0,\"\",入力表!N20)","v":""},{"$f":"RIGHT(入力表!AA20,2)","v":""},{"$f":"IF(入力表!U20=0,\"\",入力表!U20)","v":""},{"$f":"IF(B8=\"\",\"\",入力表!$N$8)","v":""},{"$f":"IF(B8=\"\",\"\",入力表!$L$4)","v":""},{"$f":"IF(B8=\"\",\"\",入力表!AE20)","v":""},{"$f":"IF(入力表!AH20=\"\",\"\",入力表!AH20)","v":""},"",{"$f":"IF(入力表!AV20=\"\",\"\",入力表!AV20)","v":""},"",{"$f":"IF(入力表!BJ20=\"\",\"\",入力表!BJ20)","v":""},"",{"$f":"IF(入力表!BX20=\"\",\"\",入力表!BX20)","v":""},"",{"$f":"IF(入力表!CA20=\"\",\"\",入力表!CA20)","v":""},"",null,null,{"$f":"IF(入力表!AN20=\"\",\"\",入力表!AN20)","v":""},{"$f":"IF(入力表!AO20=\"\",\"\",入力表!AO20)","v":""},{"$f":"IF(ISERROR(VLOOKUP(IF(W8=\"\",\"\",入力表!AP20),$AU$2:$AV$5,2,FALSE)),\"\",VLOOKUP(IF(W8=\"\",\"\",入力表!AS20),$AU$2:$AV$5,2,FALSE))","v":""},{"$f":"IF(入力表!AQ20=\"\",\"\",入力表!AQ20)","v":""},{"$f":"IF(入力表!AR20=\"\",\"\",入力表!AR20)","v":""},{"$f":"IF(ISERROR(VLOOKUP(入力表!AS20,$AU$2:$AV$5,2,FALSE)),\"\",VLOOKUP(入力表!AS20,$AU$2:$AV$5,2,FALSE))","v":""},{"$f":"IF(入力表!AT20=\"\",\"\",入力表!AT20)","v":""},{"$f":"IF(入力表!AU20=\"\",\"\",入力表!AU20)","v":""},{"$f":"IF(入力表!BB20=\"\",\"\",入力表!BB20)","v":""},{"$f":"IF(入力表!BC20=\"\",\"\",入力表!BC20)","v":""},{"$f":"IF(ISERROR(VLOOKUP(IF(AE8=\"\",\"\",入力表!BD20),$AU$2:$AV$5,2,FALSE)),\"\",VLOOKUP(IF(AE8=\"\",\"\",入力表!BD20),$AU$2:$AV$5,2,FALSE))","v":""},{"$f":"IF(入力表!BE20=\"\",\"\",入力表!BE20)","v":""},{"$f":"IF(入力表!BF20=\"\",\"\",入力表!BF20)","v":""},{"$f":"IF(ISERROR(VLOOKUP(入力表!BG20,$AU$2:$AV$5,2,FALSE)),\"\",VLOOKUP(入力表!BG20,$AU$2:$AV$5,2,FALSE))","v":""},{"$f":"IF(入力表!BH20=\"\",\"\",入力表!BH20)","v":""},{"$f":"IF(入力表!BI20=\"\",\"\",入力表!BI20)","v":""},{"$f":"IF(入力表!BP20=\"\",\"\",入力表!BP20)","v":""},{"$f":"IF(入力表!BQ20=\"\",\"\",入力表!BQ20)","v":""},{"$f":"IF(ISERROR(VLOOKUP(IF(AM8=\"\",\"\",入力表!BR20),$AU$2:$AV$5,2,FALSE)),\"\",VLOOKUP(IF(AM8=\"\",\"\",入力表!BR20),$AU$2:$AV$5,2,FALSE))","v":""},{"$f":"IF(入力表!BS20=\"\",\"\",入力表!BS20)","v":""},{"$f":"IF(入力表!BT20=\"\",\"\",入力表!BT20)","v":""},{"$f":"IF(ISERROR(VLOOKUP(入力表!BU20,$AU$2:$AV$5,2,FALSE)),\"\",VLOOKUP(入力表!BU20,$AU$2:$AV$5,2,FALSE))","v":""},{"$f":"IF(入力表!BV20=\"\",\"\",入力表!BV20)","v":""},{"$f":"IF(入力表!BW20=\"\",\"\",入力表!BW20)","v":""},null,null,null,null,"男子F",{"$f":"CONCATENATE(入力表!BL7,\".\",入力表!BN7,入力表!BO7,\".\",入力表!BQ7,入力表!BR7)","v":".."}]
[8,{"$f":"IF(入力表!H21=0,\"\",入力表!H21)","v":""},{"$f":"IF(入力表!J21=0,\"\",入力表!J21)","v":""},{"$f":"IF(入力表!N21=0,\"\",入力表!N21)","v":""},{"$f":"RIGHT(入力表!AA21,2)","v":""},{"$f":"IF(入力表!U21=0,\"\",入力表!U21)","v":""},{"$f":"IF(B9=\"\",\"\",入力表!$N$8)","v":""},{"$f":"IF(B9=\"\",\"\",入力表!$L$4)","v":""},{"$f":"IF(B9=\"\",\"\",入力表!AE21)","v":""},{"$f":"IF(入力表!AH21=\"\",\"\",入力表!AH21)","v":""},"",{"$f":"IF(入力表!AV21=\"\",\"\",入力表!AV21)","v":""},"",{"$f":"IF(入力表!BJ21=\"\",\"\",入力表!BJ21)","v":""},"",{"$f":"IF(入力表!BX21=\"\",\"\",入力表!BX21)","v":""},"",{"$f":"IF(入力表!CA21=\"\",\"\",入力表!CA21)","v":""},"",null,null,{"$f":"IF(入力表!AN21=\"\",\"\",入力表!AN21)","v":""},{"$f":"IF(入力表!AO21=\"\",\"\",入力表!AO21)","v":""},{"$f":"IF(ISERROR(VLOOKUP(IF(W9=\"\",\"\",入力表!AP21),$AU$2:$AV$5,2,FALSE)),\"\",VLOOKUP(IF(W9=\"\",\"\",入力表!AS21),$AU$2:$AV$5,2,FALSE))","v":""},{"$f":"IF(入力表!AQ21=\"\",\"\",入力表!AQ21)","v":""},{"$f":"IF(入力表!AR21=\"\",\"\",入力表!AR21)","v":""},{"$f":"IF(ISERROR(VLOOKUP(入力表!AS21,$AU$2:$AV$5,2,FALSE)),\"\",VLOOKUP(入力表!AS21,$AU$2:$AV$5,2,FALSE))","v":""},{"$f":"IF(入力表!AT21=\"\",\"\",入力表!AT21)","v":""},{"$f":"IF(入力表!AU21=\"\",\"\",入力表!AU21)","v":""},{"$f":"IF(入力表!BB21=\"\",\"\",入力表!BB21)","v":""},{"$f":"IF(入力表!BC21=\"\",\"\",入力表!BC21)","v":""},{"$f":"IF(ISERROR(VLOOKUP(IF(AE9=\"\",\"\",入力表!BD21),$AU$2:$AV$5,2,FALSE)),\"\",VLOOKUP(IF(AE9=\"\",\"\",入力表!BD21),$AU$2:$AV$5,2,FALSE))","v":""},{"$f":"IF(入力表!BE21=\"\",\"\",入力表!BE21)","v":""},{"$f":"IF(入力表!BF21=\"\",\"\",入力表!BF21)","v":""},{"$f":"IF(ISERROR(VLOOKUP(入力表!BG21,$AU$2:$AV$5,2,FALSE)),\"\",VLOOKUP(入力表!BG21,$AU$2:$AV$5,2,FALSE))","v":""},{"$f":"IF(入力表!BH21=\"\",\"\",入力表!BH21)","v":""},{"$f":"IF(入力表!BI21=\"\",\"\",入力表!BI21)","v":""},{"$f":"IF(入力表!BP21=\"\",\"\",入力表!BP21)","v":""},{"$f":"IF(入力表!BQ21=\"\",\"\",入力表!BQ21)","v":""},{"$f":"IF(ISERROR(VLOOKUP(IF(AM9=\"\",\"\",入力表!BR21),$AU$2:$AV$5,2,FALSE)),\"\",VLOOKUP(IF(AM9=\"\",\"\",入力表!BR21),$AU$2:$AV$5,2,FALSE))","v":""},{"$f":"IF(入力表!BS21=\"\",\"\",入力表!BS21)","v":""},{"$f":"IF(入力表!BT21=\"\",\"\",入力表!BT21)","v":""},{"$f":"IF(ISERROR(VLOOKUP(入力表!BU21,$AU$2:$AV$5,2,FALSE)),\"\",VLOOKUP(入力表!BU21,$AU$2:$AV$5,2,FALSE))","v":""},{"$f":"IF(入力表!BV21=\"\",\"\",入力表!BV21)","v":""},{"$f":"IF(入力表!BW21=\"\",\"\",入力表!BW21)","v":""},null,null,null,null,"女子A",{"$f":"CONCATENATE(入力表!BW2,\".\",入力表!BY2,入力表!BZ2,\".\",入力表!CB2,入力表!CC2)","v":".."}]
[9,{"$f":"IF(入力表!H22=0,\"\",入力表!H22)","v":""},{"$f":"IF(入力表!J22=0,\"\",入力表!J22)","v":""},{"$f":"IF(入力表!N22=0,\"\",入力表!N22)","v":""},{"$f":"RIGHT(入力表!AA22,2)","v":""},{"$f":"IF(入力表!U22=0,\"\",入力表!U22)","v":""},{"$f":"IF(B10=\"\",\"\",入力表!$N$8)","v":""},{"$f":"IF(B10=\"\",\"\",入力表!$L$4)","v":""},{"$f":"IF(B10=\"\",\"\",入力表!AE22)","v":""},{"$f":"IF(入力表!AH22=\"\",\"\",入力表!AH22)","v":""},"",{"$f":"IF(入力表!AV22=\"\",\"\",入力表!AV22)","v":""},"",{"$f":"IF(入力表!BJ22=\"\",\"\",入力表!BJ22)","v":""},"",{"$f":"IF(入力表!BX22=\"\",\"\",入力表!BX22)","v":""},"",{"$f":"IF(入力表!CA22=\"\",\"\",入力表!CA22)","v":""},"",null,null,{"$f":"IF(入力表!AN22=\"\",\"\",入力表!AN22)","v":""},{"$f":"IF(入力表!AO22=\"\",\"\",入力表!AO22)","v":""},{"$f":"IF(ISERROR(VLOOKUP(IF(W10=\"\",\"\",入力表!AP22),$AU$2:$AV$5,2,FALSE)),\"\",VLOOKUP(IF(W10=\"\",\"\",入力表!AS22),$AU$2:$AV$5,2,FALSE))","v":""},{"$f":"IF(入力表!AQ22=\"\",\"\",入力表!AQ22)","v":""},{"$f":"IF(入力表!AR22=\"\",\"\",入力表!AR22)","v":""},{"$f":"IF(ISERROR(VLOOKUP(入力表!AS22,$AU$2:$AV$5,2,FALSE)),\"\",VLOOKUP(入力表!AS22,$AU$2:$AV$5,2,FALSE))","v":""},{"$f":"IF(入力表!AT22=\"\",\"\",入力表!AT22)","v":""},{"$f":"IF(入力表!AU22=\"\",\"\",入力表!AU22)","v":""},{"$f":"IF(入力表!BB22=\"\",\"\",入力表!BB22)","v":""},{"$f":"IF(入力表!BC22=\"\",\"\",入力表!BC22)","v":""},{"$f":"IF(ISERROR(VLOOKUP(IF(AE10=\"\",\"\",入力表!BD22),$AU$2:$AV$5,2,FALSE)),\"\",VLOOKUP(IF(AE10=\"\",\"\",入力表!BD22),$AU$2:$AV$5,2,FALSE))","v":""},{"$f":"IF(入力表!BE22=\"\",\"\",入力表!BE22)","v":""},{"$f":"IF(入力表!BF22=\"\",\"\",入力表!BF22)","v":""},{"$f":"IF(ISERROR(VLOOKUP(入力表!BG22,$AU$2:$AV$5,2,FALSE)),\"\",VLOOKUP(入力表!BG22,$AU$2:$AV$5,2,FALSE))","v":""},{"$f":"IF(入力表!BH22=\"\",\"\",入力表!BH22)","v":""},{"$f":"IF(入力表!BI22=\"\",\"\",入力表!BI22)","v":""},{"$f":"IF(入力表!BP22=\"\",\"\",入力表!BP22)","v":""},{"$f":"IF(入力表!BQ22=\"\",\"\",入力表!BQ22)","v":""},{"$f":"IF(ISERROR(VLOOKUP(IF(AM10=\"\",\"\",入力表!BR22),$AU$2:$AV$5,2,FALSE)),\"\",VLOOKUP(IF(AM10=\"\",\"\",入力表!BR22),$AU$2:$AV$5,2,FALSE))","v":""},{"$f":"IF(入力表!BS22=\"\",\"\",入力表!BS22)","v":""},{"$f":"IF(入力表!BT22=\"\",\"\",入力表!BT22)","v":""},{"$f":"IF(ISERROR(VLOOKUP(入力表!BU22,$AU$2:$AV$5,2,FALSE)),\"\",VLOOKUP(入力表!BU22,$AU$2:$AV$5,2,FALSE))","v":""},{"$f":"IF(入力表!BV22=\"\",\"\",入力表!BV22)","v":""},{"$f":"IF(入力表!BW22=\"\",\"\",入力表!BW22)","v":""},null,null,null,null,"女子B",{"$f":"CONCATENATE(入力表!BW3,\".\",入力表!BY3,入力表!BZ3,\".\",入力表!CB3,入力表!CC3)","v":".."}]
[10,{"$f":"IF(入力表!H23=0,\"\",入力表!H23)","v":""},{"$f":"IF(入力表!J23=0,\"\",入力表!J23)","v":""},{"$f":"IF(入力表!N23=0,\"\",入力表!N23)","v":""},{"$f":"RIGHT(入力表!AA23,2)","v":""},{"$f":"IF(入力表!U23=0,\"\",入力表!U23)","v":""},{"$f":"IF(B11=\"\",\"\",入力表!$N$8)","v":""},{"$f":"IF(B11=\"\",\"\",入力表!$L$4)","v":""},{"$f":"IF(B11=\"\",\"\",入力表!AE23)","v":""},{"$f":"IF(入力表!AH23=\"\",\"\",入力表!AH23)","v":""},"",{"$f":"IF(入力表!AV23=\"\",\"\",入力表!AV23)","v":""},"",{"$f":"IF(入力表!BJ23=\"\",\"\",入力表!BJ23)","v":""},"",{"$f":"IF(入力表!BX23=\"\",\"\",入力表!BX23)","v":""},"",{"$f":"IF(入力表!CA23=\"\",\"\",入力表!CA23)","v":""},"",null,null,{"$f":"IF(入力表!AN23=\"\",\"\",入力表!AN23)","v":""},{"$f":"IF(入力表!AO23=\"\",\"\",入力表!AO23)","v":""},{"$f":"IF(ISERROR(VLOOKUP(IF(W11=\"\",\"\",入力表!AP23),$AU$2:$AV$5,2,FALSE)),\"\",VLOOKUP(IF(W11=\"\",\"\",入力表!AS23),$AU$2:$AV$5,2,FALSE))","v":""},{"$f":"IF(入力表!AQ23=\"\",\"\",入力表!AQ23)","v":""},{"$f":"IF(入力表!AR23=\"\",\"\",入力表!AR23)","v":""},{"$f":"IF(ISERROR(VLOOKUP(入力表!AS23,$AU$2:$AV$5,2,FALSE)),\"\",VLOOKUP(入力表!AS23,$AU$2:$AV$5,2,FALSE))","v":""},{"$f":"IF(入力表!AT23=\"\",\"\",入力表!AT23)","v":""},{"$f":"IF(入力表!AU23=\"\",\"\",入力表!AU23)","v":""},{"$f":"IF(入力表!BB23=\"\",\"\",入力表!BB23)","v":""},{"$f":"IF(入力表!BC23=\"\",\"\",入力表!BC23)","v":""},{"$f":"IF(ISERROR(VLOOKUP(IF(AE11=\"\",\"\",入力表!BD23),$AU$2:$AV$5,2,FALSE)),\"\",VLOOKUP(IF(AE11=\"\",\"\",入力表!BD23),$AU$2:$AV$5,2,FALSE))","v":""},{"$f":"IF(入力表!BE23=\"\",\"\",入力表!BE23)","v":""},{"$f":"IF(入力表!BF23=\"\",\"\",入力表!BF23)","v":""},{"$f":"IF(ISERROR(VLOOKUP(入力表!BG23,$AU$2:$AV$5,2,FALSE)),\"\",VLOOKUP(入力表!BG23,$AU$2:$AV$5,2,FALSE))","v":""},{"$f":"IF(入力表!BH23=\"\",\"\",入力表!BH23)","v":""},{"$f":"IF(入力表!BI23=\"\",\"\",入力表!BI23)","v":""},{"$f":"IF(入力表!BP23=\"\",\"\",入力表!BP23)","v":""},{"$f":"IF(入力表!BQ23=\"\",\"\",入力表!BQ23)","v":""},{"$f":"IF(ISERROR(VLOOKUP(IF(AM11=\"\",\"\",入力表!BR23),$AU$2:$AV$5,2,FALSE)),\"\",VLOOKUP(IF(AM11=\"\",\"\",入力表!BR23),$AU$2:$AV$5,2,FALSE))","v":""},{"$f":"IF(入力表!BS23=\"\",\"\",入力表!BS23)","v":""},{"$f":"IF(入力表!BT23=\"\",\"\",入力表!BT23)","v":""},{"$f":"IF(ISERROR(VLOOKUP(入力表!BU23,$AU$2:$AV$5,2,FALSE)),\"\",VLOOKUP(入力表!BU23,$AU$2:$AV$5,2,FALSE))","v":""},{"$f":"IF(入力表!BV23=\"\",\"\",入力表!BV23)","v":""},{"$f":"IF(入力表!BW23=\"\",\"\",入力表!BW23)","v":""},null,null,null,null,"女子C",{"$f":"CONCATENATE(入力表!BW4,\".\",入力表!BY4,入力表!BZ4,\".\",入力表!CB4,入力表!CC4)","v":".."}]
[11,{"$f":"IF(入力表!H24=0,\"\",入力表!H24)","v":""},{"$f":"IF(入力表!J24=0,\"\",入力表!J24)","v":""},{"$f":"IF(入力表!N24=0,\"\",入力表!N24)","v":""},{"$f":"RIGHT(入力表!AA24,2)","v":""},{"$f":"IF(入力表!U24=0,\"\",入力表!U24)","v":""},{"$f":"IF(B12=\"\",\"\",入力表!$N$8)","v":""},{"$f":"IF(B12=\"\",\"\",入力表!$L$4)","v":""},{"$f":"IF(B12=\"\",\"\",入力表!AE24)","v":""},{"$f":"IF(入力表!AH24=\"\",\"\",入力表!AH24)","v":""},"",{"$f":"IF(入力表!AV24=\"\",\"\",入力表!AV24)","v":""},"",{"$f":"IF(入力表!BJ24=\"\",\"\",入力表!BJ24)","v":""},"",{"$f":"IF(入力表!BX24=\"\",\"\",入力表!BX24)","v":""},"",{"$f":"IF(入力表!CA24=\"\",\"\",入力表!CA24)","v":""},"",null,null,{"$f":"IF(入力表!AN24=\"\",\"\",入力表!AN24)","v":""},{"$f":"IF(入力表!AO24=\"\",\"\",入力表!AO24)","v":""},{"$f":"IF(ISERROR(VLOOKUP(IF(W12=\"\",\"\",入力表!AP24),$AU$2:$AV$5,2,FALSE)),\"\",VLOOKUP(IF(W12=\"\",\"\",入力表!AS24),$AU$2:$AV$5,2,FALSE))","v":""},{"$f":"IF(入力表!AQ24=\"\",\"\",入力表!AQ24)","v":""},{"$f":"IF(入力表!AR24=\"\",\"\",入力表!AR24)","v":""},{"$f":"IF(ISERROR(VLOOKUP(入力表!AS24,$AU$2:$AV$5,2,FALSE)),\"\",VLOOKUP(入力表!AS24,$AU$2:$AV$5,2,FALSE))","v":""},{"$f":"IF(入力表!AT24=\"\",\"\",入力表!AT24)","v":""},{"$f":"IF(入力表!AU24=\"\",\"\",入力表!AU24)","v":""},{"$f":"IF(入力表!BB24=\"\",\"\",入力表!BB24)","v":""},{"$f":"IF(入力表!BC24=\"\",\"\",入力表!BC24)","v":""},{"$f":"IF(ISERROR(VLOOKUP(IF(AE12=\"\",\"\",入力表!BD24),$AU$2:$AV$5,2,FALSE)),\"\",VLOOKUP(IF(AE12=\"\",\"\",入力表!BD24),$AU$2:$AV$5,2,FALSE))","v":""},{"$f":"IF(入力表!BE24=\"\",\"\",入力表!BE24)","v":""},{"$f":"IF(入力表!BF24=\"\",\"\",入力表!BF24)","v":""},{"$f":"IF(ISERROR(VLOOKUP(入力表!BG24,$AU$2:$AV$5,2,FALSE)),\"\",VLOOKUP(入力表!BG24,$AU$2:$AV$5,2,FALSE))","v":""},{"$f":"IF(入力表!BH24=\"\",\"\",入力表!BH24)","v":""},{"$f":"IF(入力表!BI24=\"\",\"\",入力表!BI24)","v":""},{"$f":"IF(入力表!BP24=\"\",\"\",入力表!BP24)","v":""},{"$f":"IF(入力表!BQ24=\"\",\"\",入力表!BQ24)","v":""},{"$f":"IF(ISERROR(VLOOKUP(IF(AM12=\"\",\"\",入力表!BR24),$AU$2:$AV$5,2,FALSE)),\"\",VLOOKUP(IF(AM12=\"\",\"\",入力表!BR24),$AU$2:$AV$5,2,FALSE))","v":""},{"$f":"IF(入力表!BS24=\"\",\"\",入力表!BS24)","v":""},{"$f":"IF(入力表!BT24=\"\",\"\",入力表!BT24)","v":""},{"$f":"IF(ISERROR(VLOOKUP(入力表!BU24,$AU$2:$AV$5,2,FALSE)),\"\",VLOOKUP(入力表!BU24,$AU$2:$AV$5,2,FALSE))","v":""},{"$f":"IF(入力表!BV24=\"\",\"\",入力表!BV24)","v":""},{"$f":"IF(入力表!BW24=\"\",\"\",入力表!BW24)","v":""},null,null,null,null,"女子D",{"$f":"CONCATENATE(入力表!#REF!,\".\",入力表!#REF!,入力表!#REF!,\".\",入力表!#REF!,入力表!#REF!)","v":{"$error":"#REF!"}}]
[12,{"$f":"IF(入力表!H25=0,\"\",入力表!H25)","v":""},{"$f":"IF(入力表!J25=0,\"\",入力表!J25)","v":""},{"$f":"IF(入力表!N25=0,\"\",入力表!N25)","v":""},{"$f":"RIGHT(入力表!AA25,2)","v":""},{"$f":"IF(入力表!U25=0,\"\",入力表!U25)","v":""},{"$f":"IF(B13=\"\",\"\",入力表!$N$8)","v":""},{"$f":"IF(B13=\"\",\"\",入力表!$L$4)","v":""},{"$f":"IF(B13=\"\",\"\",入力表!AE25)","v":""},{"$f":"IF(入力表!AH25=\"\",\"\",入力表!AH25)","v":""},"",{"$f":"IF(入力表!AV25=\"\",\"\",入力表!AV25)","v":""},"",{"$f":"IF(入力表!BJ25=\"\",\"\",入力表!BJ25)","v":""},"",{"$f":"IF(入力表!BX25=\"\",\"\",入力表!BX25)","v":""},"",{"$f":"IF(入力表!CA25=\"\",\"\",入力表!CA25)","v":""},"",null,null,{"$f":"IF(入力表!AN25=\"\",\"\",入力表!AN25)","v":""},{"$f":"IF(入力表!AO25=\"\",\"\",入力表!AO25)","v":""},{"$f":"IF(ISERROR(VLOOKUP(IF(W13=\"\",\"\",入力表!AP25),$AU$2:$AV$5,2,FALSE)),\"\",VLOOKUP(IF(W13=\"\",\"\",入力表!AS25),$AU$2:$AV$5,2,FALSE))","v":""},{"$f":"IF(入力表!AQ25=\"\",\"\",入力表!AQ25)","v":""},{"$f":"IF(入力表!AR25=\"\",\"\",入力表!AR25)","v":""},{"$f":"IF(ISERROR(VLOOKUP(入力表!AS25,$AU$2:$AV$5,2,FALSE)),\"\",VLOOKUP(入力表!AS25,$AU$2:$AV$5,2,FALSE))","v":""},{"$f":"IF(入力表!AT25=\"\",\"\",入力表!AT25)","v":""},{"$f":"IF(入力表!AU25=\"\",\"\",入力表!AU25)","v":""},{"$f":"IF(入力表!BB25=\"\",\"\",入力表!BB25)","v":""},{"$f":"IF(入力表!BC25=\"\",\"\",入力表!BC25)","v":""},{"$f":"IF(ISERROR(VLOOKUP(IF(AE13=\"\",\"\",入力表!BD25),$AU$2:$AV$5,2,FALSE)),\"\",VLOOKUP(IF(AE13=\"\",\"\",入力表!BD25),$AU$2:$AV$5,2,FALSE))","v":""},{"$f":"IF(入力表!BE25=\"\",\"\",入力表!BE25)","v":""},{"$f":"IF(入力表!BF25=\"\",\"\",入力表!BF25)","v":""},{"$f":"IF(ISERROR(VLOOKUP(入力表!BG25,$AU$2:$AV$5,2,FALSE)),\"\",VLOOKUP(入力表!BG25,$AU$2:$AV$5,2,FALSE))","v":""},{"$f":"IF(入力表!BH25=\"\",\"\",入力表!BH25)","v":""},{"$f":"IF(入力表!BI25=\"\",\"\",入力表!BI25)","v":""},{"$f":"IF(入力表!BP25=\"\",\"\",入力表!BP25)","v":""},{"$f":"IF(入力表!BQ25=\"\",\"\",入力表!BQ25)","v":""},{"$f":"IF(ISERROR(VLOOKUP(IF(AM13=\"\",\"\",入力表!BR25),$AU$2:$AV$5,2,FALSE)),\"\",VLOOKUP(IF(AM13=\"\",\"\",入力表!BR25),$AU$2:$AV$5,2,FALSE))","v":""},{"$f":"IF(入力表!BS25=\"\",\"\",入力表!BS25)","v":""},{"$f":"IF(入力表!BT25=\"\",\"\",入力表!BT25)","v":""},{"$f":"IF(ISERROR(VLOOKUP(入力表!BU25,$AU$2:$AV$5,2,FALSE)),\"\",VLOOKUP(入力表!BU25,$AU$2:$AV$5,2,FALSE))","v":""},{"$f":"IF(入力表!BV25=\"\",\"\",入力表!BV25)","v":""},{"$f":"IF(入力表!BW25=\"\",\"\",入力表!BW25)","v":""},null,null,null,null,"女子E",{"$f":"CONCATENATE(入力表!#REF!,\".\",入力表!#REF!,入力表!#REF!,\".\",入力表!#REF!,入力表!#REF!)","v":{"$error":"#REF!"}}]
[13,{"$f":"IF(入力表!H26=0,\"\",入力表!H26)","v":""},{"$f":"IF(入力表!J26=0,\"\",入力表!J26)","v":""},{"$f":"IF(入力表!N26=0,\"\",入力表!N26)","v":""},{"$f":"RIGHT(入力表!AA26,2)","v":""},{"$f":"IF(入力表!U26=0,\"\",入力表!U26)","v":""},{"$f":"IF(B14=\"\",\"\",入力表!$N$8)","v":""},{"$f":"IF(B14=\"\",\"\",入力表!$L$4)","v":""},{"$f":"IF(B14=\"\",\"\",入力表!AE26)","v":""},{"$f":"IF(入力表!AH26=\"\",\"\",入力表!AH26)","v":""},"",{"$f":"IF(入力表!AV26=\"\",\"\",入力表!AV26)","v":""},"",{"$f":"IF(入力表!BJ26=\"\",\"\",入力表!BJ26)","v":""},"",{"$f":"IF(入力表!BX26=\"\",\"\",入力表!BX26)","v":""},"",{"$f":"IF(入力表!CA26=\"\",\"\",入力表!CA26)","v":""},"",null,null,{"$f":"IF(入力表!AN26=\"\",\"\",入力表!AN26)","v":""},{"$f":"IF(入力表!AO26=\"\",\"\",入力表!AO26)","v":""},{"$f":"IF(ISERROR(VLOOKUP(IF(W14=\"\",\"\",入力表!AP26),$AU$2:$AV$5,2,FALSE)),\"\",VLOOKUP(IF(W14=\"\",\"\",入力表!AS26),$AU$2:$AV$5,2,FALSE))","v":""},{"$f":"IF(入力表!AQ26=\"\",\"\",入力表!AQ26)","v":""},{"$f":"IF(入力表!AR26=\"\",\"\",入力表!AR26)","v":""},{"$f":"IF(ISERROR(VLOOKUP(入力表!AS26,$AU$2:$AV$5,2,FALSE)),\"\",VLOOKUP(入力表!AS26,$AU$2:$AV$5,2,FALSE))","v":""},{"$f":"IF(入力表!AT26=\"\",\"\",入力表!AT26)","v":""},{"$f":"IF(入力表!AU26=\"\",\"\",入力表!AU26)","v":""},{"$f":"IF(入力表!BB26=\"\",\"\",入力表!BB26)","v":""},{"$f":"IF(入力表!BC26=\"\",\"\",入力表!BC26)","v":""},{"$f":"IF(ISERROR(VLOOKUP(IF(AE14=\"\",\"\",入力表!BD26),$AU$2:$AV$5,2,FALSE)),\"\",VLOOKUP(IF(AE14=\"\",\"\",入力表!BD26),$AU$2:$AV$5,2,FALSE))","v":""},{"$f":"IF(入力表!BE26=\"\",\"\",入力表!BE26)","v":""},{"$f":"IF(入力表!BF26=\"\",\"\",入力表!BF26)","v":""},{"$f":"IF(ISERROR(VLOOKUP(入力表!BG26,$AU$2:$AV$5,2,FALSE)),\"\",VLOOKUP(入力表!BG26,$AU$2:$AV$5,2,FALSE))","v":""},{"$f":"IF(入力表!BH26=\"\",\"\",入力表!BH26)","v":""},{"$f":"IF(入力表!BI26=\"\",\"\",入力表!BI26)","v":""},{"$f":"IF(入力表!BP26=\"\",\"\",入力表!BP26)","v":""},{"$f":"IF(入力表!BQ26=\"\",\"\",入力表!BQ26)","v":""},{"$f":"IF(ISERROR(VLOOKUP(IF(AM14=\"\",\"\",入力表!BR26),$AU$2:$AV$5,2,FALSE)),\"\",VLOOKUP(IF(AM14=\"\",\"\",入力表!BR26),$AU$2:$AV$5,2,FALSE))","v":""},{"$f":"IF(入力表!BS26=\"\",\"\",入力表!BS26)","v":""},{"$f":"IF(入力表!BT26=\"\",\"\",入力表!BT26)","v":""},{"$f":"IF(ISERROR(VLOOKUP(入力表!BU26,$AU$2:$AV$5,2,FALSE)),\"\",VLOOKUP(入力表!BU26,$AU$2:$AV$5,2,FALSE))","v":""},{"$f":"IF(入力表!BV26=\"\",\"\",入力表!BV26)","v":""},{"$f":"IF(入力表!BW26=\"\",\"\",入力表!BW26)","v":""},null,null,null,null,"女子F",{"$f":"CONCATENATE(入力表!BW7,\".\",入力表!BY7,入力表!BZ7,\".\",入力表!CB7,入力表!CC7)","v":".."}]
[14,{"$f":"IF(入力表!H27=0,\"\",入力表!H27)","v":""},{"$f":"IF(入力表!J27=0,\"\",入力表!J27)","v":""},{"$f":"IF(入力表!N27=0,\"\",入力表!N27)","v":""},{"$f":"RIGHT(入力表!AA27,2)","v":""},{"$f":"IF(入力表!U27=0,\"\",入力表!U27)","v":""},{"$f":"IF(B15=\"\",\"\",入力表!$N$8)","v":""},{"$f":"IF(B15=\"\",\"\",入力表!$L$4)","v":""},{"$f":"IF(B15=\"\",\"\",入力表!AE27)","v":""},{"$f":"IF(入力表!AH27=\"\",\"\",入力表!AH27)","v":""},"",{"$f":"IF(入力表!AV27=\"\",\"\",入力表!AV27)","v":""},"",{"$f":"IF(入力表!BJ27=\"\",\"\",入力表!BJ27)","v":""},"",{"$f":"IF(入力表!BX27=\"\",\"\",入力表!BX27)","v":""},"",{"$f":"IF(入力表!CA27=\"\",\"\",入力表!CA27)","v":""},"",null,null,{"$f":"IF(入力表!AN27=\"\",\"\",入力表!AN27)","v":""},{"$f":"IF(入力表!AO27=\"\",\"\",入力表!AO27)","v":""},{"$f":"IF(ISERROR(VLOOKUP(IF(W15=\"\",\"\",入力表!AP27),$AU$2:$AV$5,2,FALSE)),\"\",VLOOKUP(IF(W15=\"\",\"\",入力表!AS27),$AU$2:$AV$5,2,FALSE))","v":""},{"$f":"IF(入力表!AQ27=\"\",\"\",入力表!AQ27)","v":""},{"$f":"IF(入力表!AR27=\"\",\"\",入力表!AR27)","v":""},{"$f":"IF(ISERROR(VLOOKUP(入力表!AS27,$AU$2:$AV$5,2,FALSE)),\"\",VLOOKUP(入力表!AS27,$AU$2:$AV$5,2,FALSE))","v":""},{"$f":"IF(入力表!AT27=\"\",\"\",入力表!AT27)","v":""},{"$f":"IF(入力表!AU27=\"\",\"\",入力表!AU27)","v":""},{"$f":"IF(入力表!BB27=\"\",\"\",入力表!BB27)","v":""},{"$f":"IF(入力表!BC27=\"\",\"\",入力表!BC27)","v":""},{"$f":"IF(ISERROR(VLOOKUP(IF(AE15=\"\",\"\",入力表!BD27),$AU$2:$AV$5,2,FALSE)),\"\",VLOOKUP(IF(AE15=\"\",\"\",入力表!BD27),$AU$2:$AV$5,2,FALSE))","v":""},{"$f":"IF(入力表!BE27=\"\",\"\",入力表!BE27)","v":""},{"$f":"IF(入力表!BF27=\"\",\"\",入力表!BF27)","v":""},{"$f":"IF(ISERROR(VLOOKUP(入力表!BG27,$AU$2:$AV$5,2,FALSE)),\"\",VLOOKUP(入力表!BG27,$AU$2:$AV$5,2,FALSE))","v":""},{"$f":"IF(入力表!BH27=\"\",\"\",入力表!BH27)","v":""},{"$f":"IF(入力表!BI27=\"\",\"\",入力表!BI27)","v":""},{"$f":"IF(入力表!BP27=\"\",\"\",入力表!BP27)","v":""},{"$f":"IF(入力表!BQ27=\"\",\"\",入力表!BQ27)","v":""},{"$f":"IF(ISERROR(VLOOKUP(IF(AM15=\"\",\"\",入力表!BR27),$AU$2:$AV$5,2,FALSE)),\"\",VLOOKUP(IF(AM15=\"\",\"\",入力表!BR27),$AU$2:$AV$5,2,FALSE))","v":""},{"$f":"IF(入力表!BS27=\"\",\"\",入力表!BS27)","v":""},{"$f":"IF(入力表!BT27=\"\",\"\",入力表!BT27)","v":""},{"$f":"IF(ISERROR(VLOOKUP(入力表!BU27,$AU$2:$AV$5,2,FALSE)),\"\",VLOOKUP(入力表!BU27,$AU$2:$AV$5,2,FALSE))","v":""},{"$f":"IF(入力表!BV27=\"\",\"\",入力表!BV27)","v":""},{"$f":"IF(入力表!BW27=\"\",\"\",入力表!BW27)","v":""},null,null,null,null,"1600mR"]
[15,{"$f":"IF(入力表!H28=0,\"\",入力表!H28)","v":""},{"$f":"IF(入力表!J28=0,\"\",入力表!J28)","v":""},{"$f":"IF(入力表!N28=0,\"\",入力表!N28)","v":""},{"$f":"RIGHT(入力表!AA28,2)","v":""},{"$f":"IF(入力表!U28=0,\"\",入力表!U28)","v":""},{"$f":"IF(B16=\"\",\"\",入力表!$N$8)","v":""},{"$f":"IF(B16=\"\",\"\",入力表!$L$4)","v":""},{"$f":"IF(B16=\"\",\"\",入力表!AE28)","v":""},{"$f":"IF(入力表!AH28=\"\",\"\",入力表!AH28)","v":""},"",{"$f":"IF(入力表!AV28=\"\",\"\",入力表!AV28)","v":""},"",{"$f":"IF(入力表!BJ28=\"\",\"\",入力表!BJ28)","v":""},"",{"$f":"IF(入力表!BX28=\"\",\"\",入力表!BX28)","v":""},"",{"$f":"IF(入力表!CA28=\"\",\"\",入力表!CA28)","v":""},"",null,null,{"$f":"IF(入力表!AN28=\"\",\"\",入力表!AN28)","v":""},{"$f":"IF(入力表!AO28=\"\",\"\",入力表!AO28)","v":""},{"$f":"IF(ISERROR(VLOOKUP(IF(W16=\"\",\"\",入力表!AP28),$AU$2:$AV$5,2,FALSE)),\"\",VLOOKUP(IF(W16=\"\",\"\",入力表!AS28),$AU$2:$AV$5,2,FALSE))","v":""},{"$f":"IF(入力表!AQ28=\"\",\"\",入力表!AQ28)","v":""},{"$f":"IF(入力表!AR28=\"\",\"\",入力表!AR28)","v":""},{"$f":"IF(ISERROR(VLOOKUP(入力表!AS28,$AU$2:$AV$5,2,FALSE)),\"\",VLOOKUP(入力表!AS28,$AU$2:$AV$5,2,FALSE))","v":""},{"$f":"IF(入力表!AT28=\"\",\"\",入力表!AT28)","v":""},{"$f":"IF(入力表!AU28=\"\",\"\",入力表!AU28)","v":""},{"$f":"IF(入力表!BB28=\"\",\"\",入力表!BB28)","v":""},{"$f":"IF(入力表!BC28=\"\",\"\",入力表!BC28)","v":""},{"$f":"IF(ISERROR(VLOOKUP(IF(AE16=\"\",\"\",入力表!BD28),$AU$2:$AV$5,2,FALSE)),\"\",VLOOKUP(IF(AE16=\"\",\"\",入力表!BD28),$AU$2:$AV$5,2,FALSE))","v":""},{"$f":"IF(入力表!BE28=\"\",\"\",入力表!BE28)","v":""},{"$f":"IF(入力表!BF28=\"\",\"\",入力表!BF28)","v":""},{"$f":"IF(ISERROR(VLOOKUP(入力表!BG28,$AU$2:$AV$5,2,FALSE)),\"\",VLOOKUP(入力表!BG28,$AU$2:$AV$5,2,FALSE))","v":""},{"$f":"IF(入力表!BH28=\"\",\"\",入力表!BH28)","v":""},{"$f":"IF(入力表!BI28=\"\",\"\",入力表!BI28)","v":""},{"$f":"IF(入力表!BP28=\"\",\"\",入力表!BP28)","v":""},{"$f":"IF(入力表!BQ28=\"\",\"\",入力表!BQ28)","v":""},{"$f":"IF(ISERROR(VLOOKUP(IF(AM16=\"\",\"\",入力表!BR28),$AU$2:$AV$5,2,FALSE)),\"\",VLOOKUP(IF(AM16=\"\",\"\",入力表!BR28),$AU$2:$AV$5,2,FALSE))","v":""},{"$f":"IF(入力表!BS28=\"\",\"\",入力表!BS28)","v":""},{"$f":"IF(入力表!BT28=\"\",\"\",入力表!BT28)","v":""},{"$f":"IF(ISERROR(VLOOKUP(入力表!BU28,$AU$2:$AV$5,2,FALSE)),\"\",VLOOKUP(入力表!BU28,$AU$2:$AV$5,2,FALSE))","v":""},{"$f":"IF(入力表!BV28=\"\",\"\",入力表!BV28)","v":""},{"$f":"IF(入力表!BW28=\"\",\"\",入力表!BW28)","v":""},null,null,null,null,"男子A",{"$f":"CONCATENATE(入力表!BL6,\".\",入力表!BN6,入力表!BO6,\".\",入力表!BQ6,入力表!BR6)","v":".."}]
[16,{"$f":"IF(入力表!H29=0,\"\",入力表!H29)","v":""},{"$f":"IF(入力表!J29=0,\"\",入力表!J29)","v":""},{"$f":"IF(入力表!N29=0,\"\",入力表!N29)","v":""},{"$f":"RIGHT(入力表!AA29,2)","v":""},{"$f":"IF(入力表!U29=0,\"\",入力表!U29)","v":""},{"$f":"IF(B17=\"\",\"\",入力表!$N$8)","v":""},{"$f":"IF(B17=\"\",\"\",入力表!$L$4)","v":""},{"$f":"IF(B17=\"\",\"\",入力表!AE29)","v":""},{"$f":"IF(入力表!AH29=\"\",\"\",入力表!AH29)","v":""},"",{"$f":"IF(入力表!AV29=\"\",\"\",入力表!AV29)","v":""},"",{"$f":"IF(入力表!BJ29=\"\",\"\",入力表!BJ29)","v":""},"",{"$f":"IF(入力表!BX29=\"\",\"\",入力表!BX29)","v":""},"",{"$f":"IF(入力表!CA29=\"\",\"\",入力表!CA29)","v":""},"",null,null,{"$f":"IF(入力表!AN29=\"\",\"\",入力表!AN29)","v":""},{"$f":"IF(入力表!AO29=\"\",\"\",入力表!AO29)","v":""},{"$f":"IF(ISERROR(VLOOKUP(IF(W17=\"\",\"\",入力表!AP29),$AU$2:$AV$5,2,FALSE)),\"\",VLOOKUP(IF(W17=\"\",\"\",入力表!AS29),$AU$2:$AV$5,2,FALSE))","v":""},{"$f":"IF(入力表!AQ29=\"\",\"\",入力表!AQ29)","v":""},{"$f":"IF(入力表!AR29=\"\",\"\",入力表!AR29)","v":""},{"$f":"IF(ISERROR(VLOOKUP(入力表!AS29,$AU$2:$AV$5,2,FALSE)),\"\",VLOOKUP(入力表!AS29,$AU$2:$AV$5,2,FALSE))","v":""},{"$f":"IF(入力表!AT29=\"\",\"\",入力表!AT29)","v":""},{"$f":"IF(入力表!AU29=\"\",\"\",入力表!AU29)","v":""},{"$f":"IF(入力表!BB29=\"\",\"\",入力表!BB29)","v":""},{"$f":"IF(入力表!BC29=\"\",\"\",入力表!BC29)","v":""},{"$f":"IF(ISERROR(VLOOKUP(IF(AE17=\"\",\"\",入力表!BD29),$AU$2:$AV$5,2,FALSE)),\"\",VLOOKUP(IF(AE17=\"\",\"\",入力表!BD29),$AU$2:$AV$5,2,FALSE))","v":""},{"$f":"IF(入力表!BE29=\"\",\"\",入力表!BE29)","v":""},{"$f":"IF(入力表!BF29=\"\",\"\",入力表!BF29)","v":""},{"$f":"IF(ISERROR(VLOOKUP(入力表!BG29,$AU$2:$AV$5,2,FALSE)),\"\",VLOOKUP(入力表!BG29,$AU$2:$AV$5,2,FALSE))","v":""},{"$f":"IF(入力表!BH29=\"\",\"\",入力表!BH29)","v":""},{"$f":"IF(入力表!BI29=\"\",\"\",入力表!BI29)","v":""},{"$f":"IF(入力表!BP29=\"\",\"\",入力表!BP29)","v":""},{"$f":"IF(入力表!BQ29=\"\",\"\",入力表!BQ29)","v":""},{"$f":"IF(ISERROR(VLOOKUP(IF(AM17=\"\",\"\",入力表!BR29),$AU$2:$AV$5,2,FALSE)),\"\",VLOOKUP(IF(AM17=\"\",\"\",入力表!BR29),$AU$2:$AV$5,2,FALSE))","v":""},{"$f":"IF(入力表!BS29=\"\",\"\",入力表!BS29)","v":""},{"$f":"IF(入力表!BT29=\"\",\"\",入力表!BT29)","v":""},{"$f":"IF(ISERROR(VLOOKUP(入力表!BU29,$AU$2:$AV$5,2,FALSE)),\"\",VLOOKUP(入力表!BU29,$AU$2:$AV$5,2,FALSE))","v":""},{"$f":"IF(入力表!BV29=\"\",\"\",入力表!BV29)","v":""},{"$f":"IF(入力表!BW29=\"\",\"\",入力表!BW29)","v":""},null,null,null,null,"男子B",{"$f":"CONCATENATE(入力表!#REF!,\".\",入力表!#REF!,入力表!#REF!,\".\",入力表!#REF!,入力表!#REF!)","v":{"$error":"#REF!"}}]
[17,{"$f":"IF(入力表!H30=0,\"\",入力表!H30)","v":""},{"$f":"IF(入力表!J30=0,\"\",入力表!J30)","v":""},{"$f":"IF(入力表!N30=0,\"\",入力表!N30)","v":""},{"$f":"RIGHT(入力表!AA30,2)","v":""},{"$f":"IF(入力表!U30=0,\"\",入力表!U30)","v":""},{"$f":"IF(B18=\"\",\"\",入力表!$N$8)","v":""},{"$f":"IF(B18=\"\",\"\",入力表!$L$4)","v":""},{"$f":"IF(B18=\"\",\"\",入力表!AE30)","v":""},{"$f":"IF(入力表!AH30=\"\",\"\",入力表!AH30)","v":""},"",{"$f":"IF(入力表!AV30=\"\",\"\",入力表!AV30)","v":""},"",{"$f":"IF(入力表!BJ30=\"\",\"\",入力表!BJ30)","v":""},"",{"$f":"IF(入力表!BX30=\"\",\"\",入力表!BX30)","v":""},"",{"$f":"IF(入力表!CA30=\"\",\"\",入力表!CA30)","v":""},"",null,null,{"$f":"IF(入力表!AN30=\"\",\"\",入力表!AN30)","v":""},{"$f":"IF(入力表!AO30=\"\",\"\",入力表!AO30)","v":""},{"$f":"IF(ISERROR(VLOOKUP(IF(W18=\"\",\"\",入力表!AP30),$AU$2:$AV$5,2,FALSE)),\"\",VLOOKUP(IF(W18=\"\",\"\",入力表!AS30),$AU$2:$AV$5,2,FALSE))","v":""},{"$f":"IF(入力表!AQ30=\"\",\"\",入力表!AQ30)","v":""},{"$f":"IF(入力表!AR30=\"\",\"\",入力表!AR30)","v":""},{"$f":"IF(ISERROR(VLOOKUP(入力表!AS30,$AU$2:$AV$5,2,FALSE)),\"\",VLOOKUP(入力表!AS30,$AU$2:$AV$5,2,FALSE))","v":""},{"$f":"IF(入力表!AT30=\"\",\"\",入力表!AT30)","v":""},{"$f":"IF(入力表!AU30=\"\",\"\",入力表!AU30)","v":""},{"$f":"IF(入力表!BB30=\"\",\"\",入力表!BB30)","v":""},{"$f":"IF(入力表!BC30=\"\",\"\",入力表!BC30)","v":""},{"$f":"IF(ISERROR(VLOOKUP(IF(AE18=\"\",\"\",入力表!BD30),$AU$2:$AV$5,2,FALSE)),\"\",VLOOKUP(IF(AE18=\"\",\"\",入力表!BD30),$AU$2:$AV$5,2,FALSE))","v":""},{"$f":"IF(入力表!BE30=\"\",\"\",入力表!BE30)","v":""},{"$f":"IF(入力表!BF30=\"\",\"\",入力表!BF30)","v":""},{"$f":"IF(ISERROR(VLOOKUP(入力表!BG30,$AU$2:$AV$5,2,FALSE)),\"\",VLOOKUP(入力表!BG30,$AU$2:$AV$5,2,FALSE))","v":""},{"$f":"IF(入力表!BH30=\"\",\"\",入力表!BH30)","v":""},{"$f":"IF(入力表!BI30=\"\",\"\",入力表!BI30)","v":""},{"$f":"IF(入力表!BP30=\"\",\"\",入力表!BP30)","v":""},{"$f":"IF(入力表!BQ30=\"\",\"\",入力表!BQ30)","v":""},{"$f":"IF(ISERROR(VLOOKUP(IF(AM18=\"\",\"\",入力表!BR30),$AU$2:$AV$5,2,FALSE)),\"\",VLOOKUP(IF(AM18=\"\",\"\",入力表!BR30),$AU$2:$AV$5,2,FALSE))","v":""},{"$f":"IF(入力表!BS30=\"\",\"\",入力表!BS30)","v":""},{"$f":"IF(入力表!BT30=\"\",\"\",入力表!BT30)","v":""},{"$f":"IF(ISERROR(VLOOKUP(入力表!BU30,$AU$2:$AV$5,2,FALSE)),\"\",VLOOKUP(入力表!BU30,$AU$2:$AV$5,2,FALSE))","v":""},{"$f":"IF(入力表!BV30=\"\",\"\",入力表!BV30)","v":""},{"$f":"IF(入力表!BW30=\"\",\"\",入力表!BW30)","v":""},null,null,null,null,"男子C",{"$f":"CONCATENATE(入力表!#REF!,\".\",入力表!#REF!,入力表!#REF!,\".\",入力表!#REF!,入力表!#REF!)","v":{"$error":"#REF!"}}]
[18,{"$f":"IF(入力表!H31=0,\"\",入力表!H31)","v":""},{"$f":"IF(入力表!J31=0,\"\",入力表!J31)","v":""},{"$f":"IF(入力表!N31=0,\"\",入力表!N31)","v":""},{"$f":"RIGHT(入力表!AA31,2)","v":""},{"$f":"IF(入力表!U31=0,\"\",入力表!U31)","v":""},{"$f":"IF(B19=\"\",\"\",入力表!$N$8)","v":""},{"$f":"IF(B19=\"\",\"\",入力表!$L$4)","v":""},{"$f":"IF(B19=\"\",\"\",入力表!AE31)","v":""},{"$f":"IF(入力表!AH31=\"\",\"\",入力表!AH31)","v":""},"",{"$f":"IF(入力表!AV31=\"\",\"\",入力表!AV31)","v":""},"",{"$f":"IF(入力表!BJ31=\"\",\"\",入力表!BJ31)","v":""},"",{"$f":"IF(入力表!BX31=\"\",\"\",入力表!BX31)","v":""},"",{"$f":"IF(入力表!CA31=\"\",\"\",入力表!CA31)","v":""},"",null,null,{"$f":"IF(入力表!AN31=\"\",\"\",入力表!AN31)","v":""},{"$f":"IF(入力表!AO31=\"\",\"\",入力表!AO31)","v":""},{"$f":"IF(ISERROR(VLOOKUP(IF(W19=\"\",\"\",入力表!AP31),$AU$2:$AV$5,2,FALSE)),\"\",VLOOKUP(IF(W19=\"\",\"\",入力表!AS31),$AU$2:$AV$5,2,FALSE))","v":""},{"$f":"IF(入力表!AQ31=\"\",\"\",入力表!AQ31)","v":""},{"$f":"IF(入力表!AR31=\"\",\"\",入力表!AR31)","v":""},{"$f":"IF(ISERROR(VLOOKUP(入力表!AS31,$AU$2:$AV$5,2,FALSE)),\"\",VLOOKUP(入力表!AS31,$AU$2:$AV$5,2,FALSE))","v":""},{"$f":"IF(入力表!AT31=\"\",\"\",入力表!AT31)","v":""},{"$f":"IF(入力表!AU31=\"\",\"\",入力表!AU31)","v":""},{"$f":"IF(入力表!BB31=\"\",\"\",入力表!BB31)","v":""},{"$f":"IF(入力表!BC31=\"\",\"\",入力表!BC31)","v":""},{"$f":"IF(ISERROR(VLOOKUP(IF(AE19=\"\",\"\",入力表!BD31),$AU$2:$AV$5,2,FALSE)),\"\",VLOOKUP(IF(AE19=\"\",\"\",入力表!BD31),$AU$2:$AV$5,2,FALSE))","v":""},{"$f":"IF(入力表!BE31=\"\",\"\",入力表!BE31)","v":""},{"$f":"IF(入力表!BF31=\"\",\"\",入力表!BF31)","v":""},{"$f":"IF(ISERROR(VLOOKUP(入力表!BG31,$AU$2:$AV$5,2,FALSE)),\"\",VLOOKUP(入力表!BG31,$AU$2:$AV$5,2,FALSE))","v":""},{"$f":"IF(入力表!BH31=\"\",\"\",入力表!BH31)","v":""},{"$f":"IF(入力表!BI31=\"\",\"\",入力表!BI31)","v":""},{"$f":"IF(入力表!BP31=\"\",\"\",入力表!BP31)","v":""},{"$f":"IF(入力表!BQ31=\"\",\"\",入力表!BQ31)","v":""},{"$f":"IF(ISERROR(VLOOKUP(IF(AM19=\"\",\"\",入力表!BR31),$AU$2:$AV$5,2,FALSE)),\"\",VLOOKUP(IF(AM19=\"\",\"\",入力表!BR31),$AU$2:$AV$5,2,FALSE))","v":""},{"$f":"IF(入力表!BS31=\"\",\"\",入力表!BS31)","v":""},{"$f":"IF(入力表!BT31=\"\",\"\",入力表!BT31)","v":""},{"$f":"IF(ISERROR(VLOOKUP(入力表!BU31,$AU$2:$AV$5,2,FALSE)),\"\",VLOOKUP(入力表!BU31,$AU$2:$AV$5,2,FALSE))","v":""},{"$f":"IF(入力表!BV31=\"\",\"\",入力表!BV31)","v":""},{"$f":"IF(入力表!BW31=\"\",\"\",入力表!BW31)","v":""},null,null,null,null,"女子A",{"$f":"CONCATENATE(入力表!BW6,\".\",入力表!BY6,入力表!BZ6,\".\",入力表!CB6,入力表!CC6)","v":".."}]
[19,{"$f":"IF(入力表!H32=0,\"\",入力表!H32)","v":""},{"$f":"IF(入力表!J32=0,\"\",入力表!J32)","v":""},{"$f":"IF(入力表!N32=0,\"\",入力表!N32)","v":""},{"$f":"RIGHT(入力表!AA32,2)","v":""},{"$f":"IF(入力表!U32=0,\"\",入力表!U32)","v":""},{"$f":"IF(B20=\"\",\"\",入力表!$N$8)","v":""},{"$f":"IF(B20=\"\",\"\",入力表!$L$4)","v":""},{"$f":"IF(B20=\"\",\"\",入力表!AE32)","v":""},{"$f":"IF(入力表!AH32=\"\",\"\",入力表!AH32)","v":""},"",{"$f":"IF(入力表!AV32=\"\",\"\",入力表!AV32)","v":""},"",{"$f":"IF(入力表!BJ32=\"\",\"\",入力表!BJ32)","v":""},"",{"$f":"IF(入力表!BX32=\"\",\"\",入力表!BX32)","v":""},"",{"$f":"IF(入力表!CA32=\"\",\"\",入力表!CA32)","v":""},"",null,null,{"$f":"IF(入力表!AN32=\"\",\"\",入力表!AN32)","v":""},{"$f":"IF(入力表!AO32=\"\",\"\",入力表!AO32)","v":""},{"$f":"IF(ISERROR(VLOOKUP(IF(W20=\"\",\"\",入力表!AP32),$AU$2:$AV$5,2,FALSE)),\"\",VLOOKUP(IF(W20=\"\",\"\",入力表!AS32),$AU$2:$AV$5,2,FALSE))","v":""},{"$f":"IF(入力表!AQ32=\"\",\"\",入力表!AQ32)","v":""},{"$f":"IF(入力表!AR32=\"\",\"\",入力表!AR32)","v":""},{"$f":"IF(ISERROR(VLOOKUP(入力表!AS32,$AU$2:$AV$5,2,FALSE)),\"\",VLOOKUP(入力表!AS32,$AU$2:$AV$5,2,FALSE))","v":""},{"$f":"IF(入力表!AT32=\"\",\"\",入力表!AT32)","v":""},{"$f":"IF(入力表!AU32=\"\",\"\",入力表!AU32)","v":""},{"$f":"IF(入力表!BB32=\"\",\"\",入力表!BB32)","v":""},{"$f":"IF(入力表!BC32=\"\",\"\",入力表!BC32)","v":""},{"$f":"IF(ISERROR(VLOOKUP(IF(AE20=\"\",\"\",入力表!BD32),$AU$2:$AV$5,2,FALSE)),\"\",VLOOKUP(IF(AE20=\"\",\"\",入力表!BD32),$AU$2:$AV$5,2,FALSE))","v":""},{"$f":"IF(入力表!BE32=\"\",\"\",入力表!BE32)","v":""},{"$f":"IF(入力表!BF32=\"\",\"\",入力表!BF32)","v":""},{"$f":"IF(ISERROR(VLOOKUP(入力表!BG32,$AU$2:$AV$5,2,FALSE)),\"\",VLOOKUP(入力表!BG32,$AU$2:$AV$5,2,FALSE))","v":""},{"$f":"IF(入力表!BH32=\"\",\"\",入力表!BH32)","v":""},{"$f":"IF(入力表!BI32=\"\",\"\",入力表!BI32)","v":""},{"$f":"IF(入力表!BP32=\"\",\"\",入力表!BP32)","v":""},{"$f":"IF(入力表!BQ32=\"\",\"\",入力表!BQ32)","v":""},{"$f":"IF(ISERROR(VLOOKUP(IF(AM20=\"\",\"\",入力表!BR32),$AU$2:$AV$5,2,FALSE)),\"\",VLOOKUP(IF(AM20=\"\",\"\",入力表!BR32),$AU$2:$AV$5,2,FALSE))","v":""},{"$f":"IF(入力表!BS32=\"\",\"\",入力表!BS32)","v":""},{"$f":"IF(入力表!BT32=\"\",\"\",入力表!BT32)","v":""},{"$f":"IF(ISERROR(VLOOKUP(入力表!BU32,$AU$2:$AV$5,2,FALSE)),\"\",VLOOKUP(入力表!BU32,$AU$2:$AV$5,2,FALSE))","v":""},{"$f":"IF(入力表!BV32=\"\",\"\",入力表!BV32)","v":""},{"$f":"IF(入力表!BW32=\"\",\"\",入力表!BW32)","v":""},null,null,null,null,"女子B",{"$f":"CONCATENATE(入力表!#REF!,\".\",入力表!#REF!,入力表!#REF!,\".\",入力表!#REF!,入力表!CC10)","v":{"$error":"#REF!"}}]
[20,{"$f":"IF(入力表!H33=0,\"\",入力表!H33)","v":""},{"$f":"IF(入力表!J33=0,\"\",入力表!J33)","v":""},{"$f":"IF(入力表!N33=0,\"\",入力表!N33)","v":""},{"$f":"RIGHT(入力表!AA33,2)","v":""},{"$f":"IF(入力表!U33=0,\"\",入力表!U33)","v":""},{"$f":"IF(B21=\"\",\"\",入力表!$N$8)","v":""},{"$f":"IF(B21=\"\",\"\",入力表!$L$4)","v":""},{"$f":"IF(B21=\"\",\"\",入力表!AE33)","v":""},{"$f":"IF(入力表!AH33=\"\",\"\",入力表!AH33)","v":""},"",{"$f":"IF(入力表!AV33=\"\",\"\",入力表!AV33)","v":""},"",{"$f":"IF(入力表!BJ33=\"\",\"\",入力表!BJ33)","v":""},"",{"$f":"IF(入力表!BX33=\"\",\"\",入力表!BX33)","v":""},"",{"$f":"IF(入力表!CA33=\"\",\"\",入力表!CA33)","v":""},"",null,null,{"$f":"IF(入力表!AN33=\"\",\"\",入力表!AN33)","v":""},{"$f":"IF(入力表!AO33=\"\",\"\",入力表!AO33)","v":""},{"$f":"IF(ISERROR(VLOOKUP(IF(W21=\"\",\"\",入力表!AP33),$AU$2:$AV$5,2,FALSE)),\"\",VLOOKUP(IF(W21=\"\",\"\",入力表!AS33),$AU$2:$AV$5,2,FALSE))","v":""},{"$f":"IF(入力表!AQ33=\"\",\"\",入力表!AQ33)","v":""},{"$f":"IF(入力表!AR33=\"\",\"\",入力表!AR33)","v":""},{"$f":"IF(ISERROR(VLOOKUP(入力表!AS33,$AU$2:$AV$5,2,FALSE)),\"\",VLOOKUP(入力表!AS33,$AU$2:$AV$5,2,FALSE))","v":""},{"$f":"IF(入力表!AT33=\"\",\"\",入力表!AT33)","v":""},{"$f":"IF(入力表!AU33=\"\",\"\",入力表!AU33)","v":""},{"$f":"IF(入力表!BB33=\"\",\"\",入力表!BB33)","v":""},{"$f":"IF(入力表!BC33=\"\",\"\",入力表!BC33)","v":""},{"$f":"IF(ISERROR(VLOOKUP(IF(AE21=\"\",\"\",入力表!BD33),$AU$2:$AV$5,2,FALSE)),\"\",VLOOKUP(IF(AE21=\"\",\"\",入力表!BD33),$AU$2:$AV$5,2,FALSE))","v":""},{"$f":"IF(入力表!BE33=\"\",\"\",入力表!BE33)","v":""},{"$f":"IF(入力表!BF33=\"\",\"\",入力表!BF33)","v":""},{"$f":"IF(ISERROR(VLOOKUP(入力表!BG33,$AU$2:$AV$5,2,FALSE)),\"\",VLOOKUP(入力表!BG33,$AU$2:$AV$5,2,FALSE))","v":""},{"$f":"IF(入力表!BH33=\"\",\"\",入力表!BH33)","v":""},{"$f":"IF(入力表!BI33=\"\",\"\",入力表!BI33)","v":""},{"$f":"IF(入力表!BP33=\"\",\"\",入力表!BP33)","v":""},{"$f":"IF(入力表!BQ33=\"\",\"\",入力表!BQ33)","v":""},{"$f":"IF(ISERROR(VLOOKUP(IF(AM21=\"\",\"\",入力表!BR33),$AU$2:$AV$5,2,FALSE)),\"\",VLOOKUP(IF(AM21=\"\",\"\",入力表!BR33),$AU$2:$AV$5,2,FALSE))","v":""},{"$f":"IF(入力表!BS33=\"\",\"\",入力表!BS33)","v":""},{"$f":"IF(入力表!BT33=\"\",\"\",入力表!BT33)","v":""},{"$f":"IF(ISERROR(VLOOKUP(入力表!BU33,$AU$2:$AV$5,2,FALSE)),\"\",VLOOKUP(入力表!BU33,$AU$2:$AV$5,2,FALSE))","v":""},{"$f":"IF(入力表!BV33=\"\",\"\",入力表!BV33)","v":""},{"$f":"IF(入力表!BW33=\"\",\"\",入力表!BW33)","v":""},null,null,null,null,"女子C",{"$f":"CONCATENATE(入力表!#REF!,\".\",入力表!#REF!,入力表!#REF!,\".\",入力表!#REF!,入力表!CC11)","v":{"$error":"#REF!"}}]
[21,{"$f":"IF(入力表!H34=0,\"\",入力表!H34)","v":""},{"$f":"IF(入力表!J34=0,\"\",入力表!J34)","v":""},{"$f":"IF(入力表!N34=0,\"\",入力表!N34)","v":""},{"$f":"RIGHT(入力表!AA34,2)","v":""},{"$f":"IF(入力表!U34=0,\"\",入力表!U34)","v":""},{"$f":"IF(B22=\"\",\"\",入力表!$N$8)","v":""},{"$f":"IF(B22=\"\",\"\",入力表!$L$4)","v":""},{"$f":"IF(B22=\"\",\"\",入力表!AE34)","v":""},{"$f":"IF(入力表!AH34=\"\",\"\",入力表!AH34)","v":""},"",{"$f":"IF(入力表!AV34=\"\",\"\",入力表!AV34)","v":""},"",{"$f":"IF(入力表!BJ34=\"\",\"\",入力表!BJ34)","v":""},"",{"$f":"IF(入力表!BX34=\"\",\"\",入力表!BX34)","v":""},"",{"$f":"IF(入力表!CA34=\"\",\"\",入力表!CA34)","v":""},"",null,null,{"$f":"IF(入力表!AN34=\"\",\"\",入力表!AN34)","v":""},{"$f":"IF(入力表!AO34=\"\",\"\",入力表!AO34)","v":""},{"$f":"IF(ISERROR(VLOOKUP(IF(W22=\"\",\"\",入力表!AP34),$AU$2:$AV$5,2,FALSE)),\"\",VLOOKUP(IF(W22=\"\",\"\",入力表!AS34),$AU$2:$AV$5,2,FALSE))","v":""},{"$f":"IF(入力表!AQ34=\"\",\"\",入力表!AQ34)","v":""},{"$f":"IF(入力表!AR34=\"\",\"\",入力表!AR34)","v":""},{"$f":"IF(ISERROR(VLOOKUP(入力表!AS34,$AU$2:$AV$5,2,FALSE)),\"\",VLOOKUP(入力表!AS34,$AU$2:$AV$5,2,FALSE))","v":""},{"$f":"IF(入力表!AT34=\"\",\"\",入力表!AT34)","v":""},{"$f":"IF(入力表!AU34=\"\",\"\",入力表!AU34)","v":""},{"$f":"IF(入力表!BB34=\"\",\"\",入力表!BB34)","v":""},{"$f":"IF(入力表!BC34=\"\",\"\",入力表!BC34)","v":""},{"$f":"IF(ISERROR(VLOOKUP(IF(AE22=\"\",\"\",入力表!BD34),$AU$2:$AV$5,2,FALSE)),\"\",VLOOKUP(IF(AE22=\"\",\"\",入力表!BD34),$AU$2:$AV$5,2,FALSE))","v":""},{"$f":"IF(入力表!BE34=\"\",\"\",入力表!BE34)","v":""},{"$f":"IF(入力表!BF34=\"\",\"\",入力表!BF34)","v":""},{"$f":"IF(ISERROR(VLOOKUP(入力表!BG34,$AU$2:$AV$5,2,FALSE)),\"\",VLOOKUP(入力表!BG34,$AU$2:$AV$5,2,FALSE))","v":""},{"$f":"IF(入力表!BH34=\"\",\"\",入力表!BH34)","v":""},{"$f":"IF(入力表!BI34=\"\",\"\",入力表!BI34)","v":""},{"$f":"IF(入力表!BP34=\"\",\"\",入力表!BP34)","v":""},{"$f":"IF(入力表!BQ34=\"\",\"\",入力表!BQ34)","v":""},{"$f":"IF(ISERROR(VLOOKUP(IF(AM22=\"\",\"\",入力表!BR34),$AU$2:$AV$5,2,FALSE)),\"\",VLOOKUP(IF(AM22=\"\",\"\",入力表!BR34),$AU$2:$AV$5,2,FALSE))","v":""},{"$f":"IF(入力表!BS34=\"\",\"\",入力表!BS34)","v":""},{"$f":"IF(入力表!BT34=\"\",\"\",入力表!BT34)","v":""},{"$f":"IF(ISERROR(VLOOKUP(入力表!BU34,$AU$2:$AV$5,2,FALSE)),\"\",VLOOKUP(入力表!BU34,$AU$2:$AV$5,2,FALSE))","v":""},{"$f":"IF(入力表!BV34=\"\",\"\",入力表!BV34)","v":""},{"$f":"IF(入力表!BW34=\"\",\"\",入力表!BW34)","v":""}]
[22,{"$f":"IF(入力表!H35=0,\"\",入力表!H35)","v":""},{"$f":"IF(入力表!J35=0,\"\",入力表!J35)","v":""},{"$f":"IF(入力表!N35=0,\"\",入力表!N35)","v":""},{"$f":"RIGHT(入力表!AA35,2)","v":""},{"$f":"IF(入力表!U35=0,\"\",入力表!U35)","v":""},{"$f":"IF(B23=\"\",\"\",入力表!$N$8)","v":""},{"$f":"IF(B23=\"\",\"\",入力表!$L$4)","v":""},{"$f":"IF(B23=\"\",\"\",入力表!AE35)","v":""},{"$f":"IF(入力表!AH35=\"\",\"\",入力表!AH35)","v":""},"",{"$f":"IF(入力表!AV35=\"\",\"\",入力表!AV35)","v":""},"",{"$f":"IF(入力表!BJ35=\"\",\"\",入力表!BJ35)","v":""},"",{"$f":"IF(入力表!BX35=\"\",\"\",入力表!BX35)","v":""},"",{"$f":"IF(入力表!CA35=\"\",\"\",入力表!CA35)","v":""},"",null,null,{"$f":"IF(入力表!AN35=\"\",\"\",入力表!AN35)","v":""},{"$f":"IF(入力表!AO35=\"\",\"\",入力表!AO35)","v":""},{"$f":"IF(ISERROR(VLOOKUP(IF(W23=\"\",\"\",入力表!AP35),$AU$2:$AV$5,2,FALSE)),\"\",VLOOKUP(IF(W23=\"\",\"\",入力表!AS35),$AU$2:$AV$5,2,FALSE))","v":""},{"$f":"IF(入力表!AQ35=\"\",\"\",入力表!AQ35)","v":""},{"$f":"IF(入力表!AR35=\"\",\"\",入力表!AR35)","v":""},{"$f":"IF(ISERROR(VLOOKUP(入力表!AS35,$AU$2:$AV$5,2,FALSE)),\"\",VLOOKUP(入力表!AS35,$AU$2:$AV$5,2,FALSE))","v":""},{"$f":"IF(入力表!AT35=\"\",\"\",入力表!AT35)","v":""},{"$f":"IF(入力表!AU35=\"\",\"\",入力表!AU35)","v":""},{"$f":"IF(入力表!BB35=\"\",\"\",入力表!BB35)","v":""},{"$f":"IF(入力表!BC35=\"\",\"\",入力表!BC35)","v":""},{"$f":"IF(ISERROR(VLOOKUP(IF(AE23=\"\",\"\",入力表!BD35),$AU$2:$AV$5,2,FALSE)),\"\",VLOOKUP(IF(AE23=\"\",\"\",入力表!BD35),$AU$2:$AV$5,2,FALSE))","v":""},{"$f":"IF(入力表!BE35=\"\",\"\",入力表!BE35)","v":""},{"$f":"IF(入力表!BF35=\"\",\"\",入力表!BF35)","v":""},{"$f":"IF(ISERROR(VLOOKUP(入力表!BG35,$AU$2:$AV$5,2,FALSE)),\"\",VLOOKUP(入力表!BG35,$AU$2:$AV$5,2,FALSE))","v":""},{"$f":"IF(入力表!BH35=\"\",\"\",入力表!BH35)","v":""},{"$f":"IF(入力表!BI35=\"\",\"\",入力表!BI35)","v":""},{"$f":"IF(入力表!BP35=\"\",\"\",入力表!BP35)","v":""},{"$f":"IF(入力表!BQ35=\"\",\"\",入力表!BQ35)","v":""},{"$f":"IF(ISERROR(VLOOKUP(IF(AM23=\"\",\"\",入力表!BR35),$AU$2:$AV$5,2,FALSE)),\"\",VLOOKUP(IF(AM23=\"\",\"\",入力表!BR35),$AU$2:$AV$5,2,FALSE))","v":""},{"$f":"IF(入力表!BS35=\"\",\"\",入力表!BS35)","v":""},{"$f":"IF(入力表!BT35=\"\",\"\",入力表!BT35)","v":""},{"$f":"IF(ISERROR(VLOOKUP(入力表!BU35,$AU$2:$AV$5,2,FALSE)),\"\",VLOOKUP(入力表!BU35,$AU$2:$AV$5,2,FALSE))","v":""},{"$f":"IF(入力表!BV35=\"\",\"\",入力表!BV35)","v":""},{"$f":"IF(入力表!BW35=\"\",\"\",入力表!BW35)","v":""}]
[23,{"$f":"IF(入力表!H36=0,\"\",入力表!H36)","v":""},{"$f":"IF(入力表!J36=0,\"\",入力表!J36)","v":""},{"$f":"IF(入力表!N36=0,\"\",入力表!N36)","v":""},{"$f":"RIGHT(入力表!AA36,2)","v":""},{"$f":"IF(入力表!U36=0,\"\",入力表!U36)","v":""},{"$f":"IF(B24=\"\",\"\",入力表!$N$8)","v":""},{"$f":"IF(B24=\"\",\"\",入力表!$L$4)","v":""},{"$f":"IF(B24=\"\",\"\",入力表!AE36)","v":""},{"$f":"IF(入力表!AH36=\"\",\"\",入力表!AH36)","v":""},"",{"$f":"IF(入力表!AV36=\"\",\"\",入力表!AV36)","v":""},"",{"$f":"IF(入力表!BJ36=\"\",\"\",入力表!BJ36)","v":""},"",{"$f":"IF(入力表!BX36=\"\",\"\",入力表!BX36)","v":""},"",{"$f":"IF(入力表!CA36=\"\",\"\",入力表!CA36)","v":""},"",null,null,{"$f":"IF(入力表!AN36=\"\",\"\",入力表!AN36)","v":""},{"$f":"IF(入力表!AO36=\"\",\"\",入力表!AO36)","v":""},{"$f":"IF(ISERROR(VLOOKUP(IF(W24=\"\",\"\",入力表!AP36),$AU$2:$AV$5,2,FALSE)),\"\",VLOOKUP(IF(W24=\"\",\"\",入力表!AS36),$AU$2:$AV$5,2,FALSE))","v":""},{"$f":"IF(入力表!AQ36=\"\",\"\",入力表!AQ36)","v":""},{"$f":"IF(入力表!AR36=\"\",\"\",入力表!AR36)","v":""},{"$f":"IF(ISERROR(VLOOKUP(入力表!AS36,$AU$2:$AV$5,2,FALSE)),\"\",VLOOKUP(入力表!AS36,$AU$2:$AV$5,2,FALSE))","v":""},{"$f":"IF(入力表!AT36=\"\",\"\",入力表!AT36)","v":""},{"$f":"IF(入力表!AU36=\"\",\"\",入力表!AU36)","v":""},{"$f":"IF(入力表!BB36=\"\",\"\",入力表!BB36)","v":""},{"$f":"IF(入力表!BC36=\"\",\"\",入力表!BC36)","v":""},{"$f":"IF(ISERROR(VLOOKUP(IF(AE24=\"\",\"\",入力表!BD36),$AU$2:$AV$5,2,FALSE)),\"\",VLOOKUP(IF(AE24=\"\",\"\",入力表!BD36),$AU$2:$AV$5,2,FALSE))","v":""},{"$f":"IF(入力表!BE36=\"\",\"\",入力表!BE36)","v":""},{"$f":"IF(入力表!BF36=\"\",\"\",入力表!BF36)","v":""},{"$f":"IF(ISERROR(VLOOKUP(入力表!BG36,$AU$2:$AV$5,2,FALSE)),\"\",VLOOKUP(入力表!BG36,$AU$2:$AV$5,2,FALSE))","v":""},{"$f":"IF(入力表!BH36=\"\",\"\",入力表!BH36)","v":""},{"$f":"IF(入力表!BI36=\"\",\"\",入力表!BI36)","v":""},{"$f":"IF(入力表!BP36=\"\",\"\",入力表!BP36)","v":""},{"$f":"IF(入力表!BQ36=\"\",\"\",入力表!BQ36)","v":""},{"$f":"IF(ISERROR(VLOOKUP(IF(AM24=\"\",\"\",入力表!BR36),$AU$2:$AV$5,2,FALSE)),\"\",VLOOKUP(IF(AM24=\"\",\"\",入力表!BR36),$AU$2:$AV$5,2,FALSE))","v":""},{"$f":"IF(入力表!BS36=\"\",\"\",入力表!BS36)","v":""},{"$f":"IF(入力表!BT36=\"\",\"\",入力表!BT36)","v":""},{"$f":"IF(ISERROR(VLOOKUP(入力表!BU36,$AU$2:$AV$5,2,FALSE)),\"\",VLOOKUP(入力表!BU36,$AU$2:$AV$5,2,FALSE))","v":""},{"$f":"IF(入力表!BV36=\"\",\"\",入力表!BV36)","v":""},{"$f":"IF(入力表!BW36=\"\",\"\",入力表!BW36)","v":""}]
[24,{"$f":"IF(入力表!H37=0,\"\",入力表!H37)","v":""},{"$f":"IF(入力表!J37=0,\"\",入力表!J37)","v":""},{"$f":"IF(入力表!N37=0,\"\",入力表!N37)","v":""},{"$f":"RIGHT(入力表!AA37,2)","v":""},{"$f":"IF(入力表!U37=0,\"\",入力表!U37)","v":""},{"$f":"IF(B25=\"\",\"\",入力表!$N$8)","v":""},{"$f":"IF(B25=\"\",\"\",入力表!$L$4)","v":""},{"$f":"IF(B25=\"\",\"\",入力表!AE37)","v":""},{"$f":"IF(入力表!AH37=\"\",\"\",入力表!AH37)","v":""},"",{"$f":"IF(入力表!AV37=\"\",\"\",入力表!AV37)","v":""},"",{"$f":"IF(入力表!BJ37=\"\",\"\",入力表!BJ37)","v":""},"",{"$f":"IF(入力表!BX37=\"\",\"\",入力表!BX37)","v":""},"",{"$f":"IF(入力表!CA37=\"\",\"\",入力表!CA37)","v":""},"",null,null,{"$f":"IF(入力表!AN37=\"\",\"\",入力表!AN37)","v":""},{"$f":"IF(入力表!AO37=\"\",\"\",入力表!AO37)","v":""},{"$f":"IF(ISERROR(VLOOKUP(IF(W25=\"\",\"\",入力表!AP37),$AU$2:$AV$5,2,FALSE)),\"\",VLOOKUP(IF(W25=\"\",\"\",入力表!AS37),$AU$2:$AV$5,2,FALSE))","v":""},{"$f":"IF(入力表!AQ37=\"\",\"\",入力表!AQ37)","v":""},{"$f":"IF(入力表!AR37=\"\",\"\",入力表!AR37)","v":""},{"$f":"IF(ISERROR(VLOOKUP(入力表!AS37,$AU$2:$AV$5,2,FALSE)),\"\",VLOOKUP(入力表!AS37,$AU$2:$AV$5,2,FALSE))","v":""},{"$f":"IF(入力表!AT37=\"\",\"\",入力表!AT37)","v":""},{"$f":"IF(入力表!AU37=\"\",\"\",入力表!AU37)","v":""},{"$f":"IF(入力表!BB37=\"\",\"\",入力表!BB37)","v":""},{"$f":"IF(入力表!BC37=\"\",\"\",入力表!BC37)","v":""},{"$f":"IF(ISERROR(VLOOKUP(IF(AE25=\"\",\"\",入力表!BD37),$AU$2:$AV$5,2,FALSE)),\"\",VLOOKUP(IF(AE25=\"\",\"\",入力表!BD37),$AU$2:$AV$5,2,FALSE))","v":""},{"$f":"IF(入力表!BE37=\"\",\"\",入力表!BE37)","v":""},{"$f":"IF(入力表!BF37=\"\",\"\",入力表!BF37)","v":""},{"$f":"IF(ISERROR(VLOOKUP(入力表!BG37,$AU$2:$AV$5,2,FALSE)),\"\",VLOOKUP(入力表!BG37,$AU$2:$AV$5,2,FALSE))","v":""},{"$f":"IF(入力表!BH37=\"\",\"\",入力表!BH37)","v":""},{"$f":"IF(入力表!BI37=\"\",\"\",入力表!BI37)","v":""},{"$f":"IF(入力表!BP37=\"\",\"\",入力表!BP37)","v":""},{"$f":"IF(入力表!BQ37=\"\",\"\",入力表!BQ37)","v":""},{"$f":"IF(ISERROR(VLOOKUP(IF(AM25=\"\",\"\",入力表!BR37),$AU$2:$AV$5,2,FALSE)),\"\",VLOOKUP(IF(AM25=\"\",\"\",入力表!BR37),$AU$2:$AV$5,2,FALSE))","v":""},{"$f":"IF(入力表!BS37=\"\",\"\",入力表!BS37)","v":""},{"$f":"IF(入力表!BT37=\"\",\"\",入力表!BT37)","v":""},{"$f":"IF(ISERROR(VLOOKUP(入力表!BU37,$AU$2:$AV$5,2,FALSE)),\"\",VLOOKUP(入力表!BU37,$AU$2:$AV$5,2,FALSE))","v":""},{"$f":"IF(入力表!BV37=\"\",\"\",入力表!BV37)","v":""},{"$f":"IF(入力表!BW37=\"\",\"\",入力表!BW37)","v":""}]
[25,{"$f":"IF(入力表!H38=0,\"\",入力表!H38)","v":""},{"$f":"IF(入力表!J38=0,\"\",入力表!J38)","v":""},{"$f":"IF(入力表!N38=0,\"\",入力表!N38)","v":""},{"$f":"RIGHT(入力表!AA38,2)","v":""},{"$f":"IF(入力表!U38=0,\"\",入力表!U38)","v":""},{"$f":"IF(B26=\"\",\"\",入力表!$N$8)","v":""},{"$f":"IF(B26=\"\",\"\",入力表!$L$4)","v":""},{"$f":"IF(B26=\"\",\"\",入力表!AE38)","v":""},{"$f":"IF(入力表!AH38=\"\",\"\",入力表!AH38)","v":""},"",{"$f":"IF(入力表!AV38=\"\",\"\",入力表!AV38)","v":""},"",{"$f":"IF(入力表!BJ38=\"\",\"\",入力表!BJ38)","v":""},"",{"$f":"IF(入力表!BX38=\"\",\"\",入力表!BX38)","v":""},"",{"$f":"IF(入力表!CA38=\"\",\"\",入力表!CA38)","v":""},"",null,null,{"$f":"IF(入力表!AN38=\"\",\"\",入力表!AN38)","v":""},{"$f":"IF(入力表!AO38=\"\",\"\",入力表!AO38)","v":""},{"$f":"IF(ISERROR(VLOOKUP(IF(W26=\"\",\"\",入力表!AP38),$AU$2:$AV$5,2,FALSE)),\"\",VLOOKUP(IF(W26=\"\",\"\",入力表!AS38),$AU$2:$AV$5,2,FALSE))","v":""},{"$f":"IF(入力表!AQ38=\"\",\"\",入力表!AQ38)","v":""},{"$f":"IF(入力表!AR38=\"\",\"\",入力表!AR38)","v":""},{"$f":"IF(ISERROR(VLOOKUP(入力表!AS38,$AU$2:$AV$5,2,FALSE)),\"\",VLOOKUP(入力表!AS38,$AU$2:$AV$5,2,FALSE))","v":""},{"$f":"IF(入力表!AT38=\"\",\"\",入力表!AT38)","v":""},{"$f":"IF(入力表!AU38=\"\",\"\",入力表!AU38)","v":""},{"$f":"IF(入力表!BB38=\"\",\"\",入力表!BB38)","v":""},{"$f":"IF(入力表!BC38=\"\",\"\",入力表!BC38)","v":""},{"$f":"IF(ISERROR(VLOOKUP(IF(AE26=\"\",\"\",入力表!BD38),$AU$2:$AV$5,2,FALSE)),\"\",VLOOKUP(IF(AE26=\"\",\"\",入力表!BD38),$AU$2:$AV$5,2,FALSE))","v":""},{"$f":"IF(入力表!BE38=\"\",\"\",入力表!BE38)","v":""},{"$f":"IF(入力表!BF38=\"\",\"\",入力表!BF38)","v":""},{"$f":"IF(ISERROR(VLOOKUP(入力表!BG38,$AU$2:$AV$5,2,FALSE)),\"\",VLOOKUP(入力表!BG38,$AU$2:$AV$5,2,FALSE))","v":""},{"$f":"IF(入力表!BH38=\"\",\"\",入力表!BH38)","v":""},{"$f":"IF(入力表!BI38=\"\",\"\",入力表!BI38)","v":""},{"$f":"IF(入力表!BP38=\"\",\"\",入力表!BP38)","v":""},{"$f":"IF(入力表!BQ38=\"\",\"\",入力表!BQ38)","v":""},{"$f":"IF(ISERROR(VLOOKUP(IF(AM26=\"\",\"\",入力表!BR38),$AU$2:$AV$5,2,FALSE)),\"\",VLOOKUP(IF(AM26=\"\",\"\",入力表!BR38),$AU$2:$AV$5,2,FALSE))","v":""},{"$f":"IF(入力表!BS38=\"\",\"\",入力表!BS38)","v":""},{"$f":"IF(入力表!BT38=\"\",\"\",入力表!BT38)","v":""},{"$f":"IF(ISERROR(VLOOKUP(入力表!BU38,$AU$2:$AV$5,2,FALSE)),\"\",VLOOKUP(入力表!BU38,$AU$2:$AV$5,2,FALSE))","v":""},{"$f":"IF(入力表!BV38=\"\",\"\",入力表!BV38)","v":""},{"$f":"IF(入力表!BW38=\"\",\"\",入力表!BW38)","v":""}]
[26,{"$f":"IF(入力表!H39=0,\"\",入力表!H39)","v":""},{"$f":"IF(入力表!J39=0,\"\",入力表!J39)","v":""},{"$f":"IF(入力表!N39=0,\"\",入力表!N39)","v":""},{"$f":"RIGHT(入力表!AA39,2)","v":""},{"$f":"IF(入力表!U39=0,\"\",入力表!U39)","v":""},{"$f":"IF(B27=\"\",\"\",入力表!$N$8)","v":""},{"$f":"IF(B27=\"\",\"\",入力表!$L$4)","v":""},{"$f":"IF(B27=\"\",\"\",入力表!AE39)","v":""},{"$f":"IF(入力表!AH39=\"\",\"\",入力表!AH39)","v":""},"",{"$f":"IF(入力表!AV39=\"\",\"\",入力表!AV39)","v":""},"",{"$f":"IF(入力表!BJ39=\"\",\"\",入力表!BJ39)","v":""},"",{"$f":"IF(入力表!BX39=\"\",\"\",入力表!BX39)","v":""},"",{"$f":"IF(入力表!CA39=\"\",\"\",入力表!CA39)","v":""},"",null,null,{"$f":"IF(入力表!AN39=\"\",\"\",入力表!AN39)","v":""},{"$f":"IF(入力表!AO39=\"\",\"\",入力表!AO39)","v":""},{"$f":"IF(ISERROR(VLOOKUP(IF(W27=\"\",\"\",入力表!AP39),$AU$2:$AV$5,2,FALSE)),\"\",VLOOKUP(IF(W27=\"\",\"\",入力表!AS39),$AU$2:$AV$5,2,FALSE))","v":""},{"$f":"IF(入力表!AQ39=\"\",\"\",入力表!AQ39)","v":""},{"$f":"IF(入力表!AR39=\"\",\"\",入力表!AR39)","v":""},{"$f":"IF(ISERROR(VLOOKUP(入力表!AS39,$AU$2:$AV$5,2,FALSE)),\"\",VLOOKUP(入力表!AS39,$AU$2:$AV$5,2,FALSE))","v":""},{"$f":"IF(入力表!AT39=\"\",\"\",入力表!AT39)","v":""},{"$f":"IF(入力表!AU39=\"\",\"\",入力表!AU39)","v":""},{"$f":"IF(入力表!BB39=\"\",\"\",入力表!BB39)","v":""},{"$f":"IF(入力表!BC39=\"\",\"\",入力表!BC39)","v":""},{"$f":"IF(ISERROR(VLOOKUP(IF(AE27=\"\",\"\",入力表!BD39),$AU$2:$AV$5,2,FALSE)),\"\",VLOOKUP(IF(AE27=\"\",\"\",入力表!BD39),$AU$2:$AV$5,2,FALSE))","v":""},{"$f":"IF(入力表!BE39=\"\",\"\",入力表!BE39)","v":""},{"$f":"IF(入力表!BF39=\"\",\"\",入力表!BF39)","v":""},{"$f":"IF(ISERROR(VLOOKUP(入力表!BG39,$AU$2:$AV$5,2,FALSE)),\"\",VLOOKUP(入力表!BG39,$AU$2:$AV$5,2,FALSE))","v":""},{"$f":"IF(入力表!BH39=\"\",\"\",入力表!BH39)","v":""},{"$f":"IF(入力表!BI39=\"\",\"\",入力表!BI39)","v":""},{"$f":"IF(入力表!BP39=\"\",\"\",入力表!BP39)","v":""},{"$f":"IF(入力表!BQ39=\"\",\"\",入力表!BQ39)","v":""},{"$f":"IF(ISERROR(VLOOKUP(IF(AM27=\"\",\"\",入力表!BR39),$AU$2:$AV$5,2,FALSE)),\"\",VLOOKUP(IF(AM27=\"\",\"\",入力表!BR39),$AU$2:$AV$5,2,FALSE))","v":""},{"$f":"IF(入力表!BS39=\"\",\"\",入力表!BS39)","v":""},{"$f":"IF(入力表!BT39=\"\",\"\",入力表!BT39)","v":""},{"$f":"IF(ISERROR(VLOOKUP(入力表!BU39,$AU$2:$AV$5,2,FALSE)),\"\",VLOOKUP(入力表!BU39,$AU$2:$AV$5,2,FALSE))","v":""},{"$f":"IF(入力表!BV39=\"\",\"\",入力表!BV39)","v":""},{"$f":"IF(入力表!BW39=\"\",\"\",入力表!BW39)","v":""}]
[27,{"$f":"IF(入力表!H40=0,\"\",入力表!H40)","v":""},{"$f":"IF(入力表!J40=0,\"\",入力表!J40)","v":""},{"$f":"IF(入力表!N40=0,\"\",入力表!N40)","v":""},{"$f":"RIGHT(入力表!AA40,2)","v":""},{"$f":"IF(入力表!U40=0,\"\",入力表!U40)","v":""},{"$f":"IF(B28=\"\",\"\",入力表!$N$8)","v":""},{"$f":"IF(B28=\"\",\"\",入力表!$L$4)","v":""},{"$f":"IF(B28=\"\",\"\",入力表!AE40)","v":""},{"$f":"IF(入力表!AH40=\"\",\"\",入力表!AH40)","v":""},"",{"$f":"IF(入力表!AV40=\"\",\"\",入力表!AV40)","v":""},"",{"$f":"IF(入力表!BJ40=\"\",\"\",入力表!BJ40)","v":""},"",{"$f":"IF(入力表!BX40=\"\",\"\",入力表!BX40)","v":""},"",{"$f":"IF(入力表!CA40=\"\",\"\",入力表!CA40)","v":""},"",null,null,{"$f":"IF(入力表!AN40=\"\",\"\",入力表!AN40)","v":""},{"$f":"IF(入力表!AO40=\"\",\"\",入力表!AO40)","v":""},{"$f":"IF(ISERROR(VLOOKUP(IF(W28=\"\",\"\",入力表!AP40),$AU$2:$AV$5,2,FALSE)),\"\",VLOOKUP(IF(W28=\"\",\"\",入力表!AS40),$AU$2:$AV$5,2,FALSE))","v":""},{"$f":"IF(入力表!AQ40=\"\",\"\",入力表!AQ40)","v":""},{"$f":"IF(入力表!AR40=\"\",\"\",入力表!AR40)","v":""},{"$f":"IF(ISERROR(VLOOKUP(入力表!AS40,$AU$2:$AV$5,2,FALSE)),\"\",VLOOKUP(入力表!AS40,$AU$2:$AV$5,2,FALSE))","v":""},{"$f":"IF(入力表!AT40=\"\",\"\",入力表!AT40)","v":""},{"$f":"IF(入力表!AU40=\"\",\"\",入力表!AU40)","v":""},{"$f":"IF(入力表!BB40=\"\",\"\",入力表!BB40)","v":""},{"$f":"IF(入力表!BC40=\"\",\"\",入力表!BC40)","v":""},{"$f":"IF(ISERROR(VLOOKUP(IF(AE28=\"\",\"\",入力表!BD40),$AU$2:$AV$5,2,FALSE)),\"\",VLOOKUP(IF(AE28=\"\",\"\",入力表!BD40),$AU$2:$AV$5,2,FALSE))","v":""},{"$f":"IF(入力表!BE40=\"\",\"\",入力表!BE40)","v":""},{"$f":"IF(入力表!BF40=\"\",\"\",入力表!BF40)","v":""},{"$f":"IF(ISERROR(VLOOKUP(入力表!BG40,$AU$2:$AV$5,2,FALSE)),\"\",VLOOKUP(入力表!BG40,$AU$2:$AV$5,2,FALSE))","v":""},{"$f":"IF(入力表!BH40=\"\",\"\",入力表!BH40)","v":""},{"$f":"IF(入力表!BI40=\"\",\"\",入力表!BI40)","v":""},{"$f":"IF(入力表!BP40=\"\",\"\",入力表!BP40)","v":""},{"$f":"IF(入力表!BQ40=\"\",\"\",入力表!BQ40)","v":""},{"$f":"IF(ISERROR(VLOOKUP(IF(AM28=\"\",\"\",入力表!BR40),$AU$2:$AV$5,2,FALSE)),\"\",VLOOKUP(IF(AM28=\"\",\"\",入力表!BR40),$AU$2:$AV$5,2,FALSE))","v":""},{"$f":"IF(入力表!BS40=\"\",\"\",入力表!BS40)","v":""},{"$f":"IF(入力表!BT40=\"\",\"\",入力表!BT40)","v":""},{"$f":"IF(ISERROR(VLOOKUP(入力表!BU40,$AU$2:$AV$5,2,FALSE)),\"\",VLOOKUP(入力表!BU40,$AU$2:$AV$5,2,FALSE))","v":""},{"$f":"IF(入力表!BV40=\"\",\"\",入力表!BV40)","v":""},{"$f":"IF(入力表!BW40=\"\",\"\",入力表!BW40)","v":""}]
[28,{"$f":"IF(入力表!H41=0,\"\",入力表!H41)","v":""},{"$f":"IF(入力表!J41=0,\"\",入力表!J41)","v":""},{"$f":"IF(入力表!N41=0,\"\",入力表!N41)","v":""},{"$f":"RIGHT(入力表!AA41,2)","v":""},{"$f":"IF(入力表!U41=0,\"\",入力表!U41)","v":""},{"$f":"IF(B29=\"\",\"\",入力表!$N$8)","v":""},{"$f":"IF(B29=\"\",\"\",入力表!$L$4)","v":""},{"$f":"IF(B29=\"\",\"\",入力表!AE41)","v":""},{"$f":"IF(入力表!AH41=\"\",\"\",入力表!AH41)","v":""},"",{"$f":"IF(入力表!AV41=\"\",\"\",入力表!AV41)","v":""},"",{"$f":"IF(入力表!BJ41=\"\",\"\",入力表!BJ41)","v":""},"",{"$f":"IF(入力表!BX41=\"\",\"\",入力表!BX41)","v":""},"",{"$f":"IF(入力表!CA41=\"\",\"\",入力表!CA41)","v":""},"",null,null,{"$f":"IF(入力表!AN41=\"\",\"\",入力表!AN41)","v":""},{"$f":"IF(入力表!AO41=\"\",\"\",入力表!AO41)","v":""},{"$f":"IF(ISERROR(VLOOKUP(IF(W29=\"\",\"\",入力表!AP41),$AU$2:$AV$5,2,FALSE)),\"\",VLOOKUP(IF(W29=\"\",\"\",入力表!AS41),$AU$2:$AV$5,2,FALSE))","v":""},{"$f":"IF(入力表!AQ41=\"\",\"\",入力表!AQ41)","v":""},{"$f":"IF(入力表!AR41=\"\",\"\",入力表!AR41)","v":""},{"$f":"IF(ISERROR(VLOOKUP(入力表!AS41,$AU$2:$AV$5,2,FALSE)),\"\",VLOOKUP(入力表!AS41,$AU$2:$AV$5,2,FALSE))","v":""},{"$f":"IF(入力表!AT41=\"\",\"\",入力表!AT41)","v":""},{"$f":"IF(入力表!AU41=\"\",\"\",入力表!AU41)","v":""},{"$f":"IF(入力表!BB41=\"\",\"\",入力表!BB41)","v":""},{"$f":"IF(入力表!BC41=\"\",\"\",入力表!BC41)","v":""},{"$f":"IF(ISERROR(VLOOKUP(IF(AE29=\"\",\"\",入力表!BD41),$AU$2:$AV$5,2,FALSE)),\"\",VLOOKUP(IF(AE29=\"\",\"\",入力表!BD41),$AU$2:$AV$5,2,FALSE))","v":""},{"$f":"IF(入力表!BE41=\"\",\"\",入力表!BE41)","v":""},{"$f":"IF(入力表!BF41=\"\",\"\",入力表!BF41)","v":""},{"$f":"IF(ISERROR(VLOOKUP(入力表!BG41,$AU$2:$AV$5,2,FALSE)),\"\",VLOOKUP(入力表!BG41,$AU$2:$AV$5,2,FALSE))","v":""},{"$f":"IF(入力表!BH41=\"\",\"\",入力表!BH41)","v":""},{"$f":"IF(入力表!BI41=\"\",\"\",入力表!BI41)","v":""},{"$f":"IF(入力表!BP41=\"\",\"\",入力表!BP41)","v":""},{"$f":"IF(入力表!BQ41=\"\",\"\",入力表!BQ41)","v":""},{"$f":"IF(ISERROR(VLOOKUP(IF(AM29=\"\",\"\",入力表!BR41),$AU$2:$AV$5,2,FALSE)),\"\",VLOOKUP(IF(AM29=\"\",\"\",入力表!BR41),$AU$2:$AV$5,2,FALSE))","v":""},{"$f":"IF(入力表!BS41=\"\",\"\",入力表!BS41)","v":""},{"$f":"IF(入力表!BT41=\"\",\"\",入力表!BT41)","v":""},{"$f":"IF(ISERROR(VLOOKUP(入力表!BU41,$AU$2:$AV$5,2,FALSE)),\"\",VLOOKUP(入力表!BU41,$AU$2:$AV$5,2,FALSE))","v":""},{"$f":"IF(入力表!BV41=\"\",\"\",入力表!BV41)","v":""},{"$f":"IF(入力表!BW41=\"\",\"\",入力表!BW41)","v":""}]
[29,{"$f":"IF(入力表!H42=0,\"\",入力表!H42)","v":""},{"$f":"IF(入力表!J42=0,\"\",入力表!J42)","v":""},{"$f":"IF(入力表!N42=0,\"\",入力表!N42)","v":""},{"$f":"RIGHT(入力表!AA42,2)","v":""},{"$f":"IF(入力表!U42=0,\"\",入力表!U42)","v":""},{"$f":"IF(B30=\"\",\"\",入力表!$N$8)","v":""},{"$f":"IF(B30=\"\",\"\",入力表!$L$4)","v":""},{"$f":"IF(B30=\"\",\"\",入力表!AE42)","v":""},{"$f":"IF(入力表!AH42=\"\",\"\",入力表!AH42)","v":""},"",{"$f":"IF(入力表!AV42=\"\",\"\",入力表!AV42)","v":""},"",{"$f":"IF(入力表!BJ42=\"\",\"\",入力表!BJ42)","v":""},"",{"$f":"IF(入力表!BX42=\"\",\"\",入力表!BX42)","v":""},"",{"$f":"IF(入力表!CA42=\"\",\"\",入力表!CA42)","v":""},"",null,null,{"$f":"IF(入力表!AN42=\"\",\"\",入力表!AN42)","v":""},{"$f":"IF(入力表!AO42=\"\",\"\",入力表!AO42)","v":""},{"$f":"IF(ISERROR(VLOOKUP(IF(W30=\"\",\"\",入力表!AP42),$AU$2:$AV$5,2,FALSE)),\"\",VLOOKUP(IF(W30=\"\",\"\",入力表!AS42),$AU$2:$AV$5,2,FALSE))","v":""},{"$f":"IF(入力表!AQ42=\"\",\"\",入力表!AQ42)","v":""},{"$f":"IF(入力表!AR42=\"\",\"\",入力表!AR42)","v":""},{"$f":"IF(ISERROR(VLOOKUP(入力表!AS42,$AU$2:$AV$5,2,FALSE)),\"\",VLOOKUP(入力表!AS42,$AU$2:$AV$5,2,FALSE))","v":""},{"$f":"IF(入力表!AT42=\"\",\"\",入力表!AT42)","v":""},{"$f":"IF(入力表!AU42=\"\",\"\",入力表!AU42)","v":""},{"$f":"IF(入力表!BB42=\"\",\"\",入力表!BB42)","v":""},{"$f":"IF(入力表!BC42=\"\",\"\",入力表!BC42)","v":""},{"$f":"IF(ISERROR(VLOOKUP(IF(AE30=\"\",\"\",入力表!BD42),$AU$2:$AV$5,2,FALSE)),\"\",VLOOKUP(IF(AE30=\"\",\"\",入力表!BD42),$AU$2:$AV$5,2,FALSE))","v":""},{"$f":"IF(入力表!BE42=\"\",\"\",入力表!BE42)","v":""},{"$f":"IF(入力表!BF42=\"\",\"\",入力表!BF42)","v":""},{"$f":"IF(ISERROR(VLOOKUP(入力表!BG42,$AU$2:$AV$5,2,FALSE)),\"\",VLOOKUP(入力表!BG42,$AU$2:$AV$5,2,FALSE))","v":""},{"$f":"IF(入力表!BH42=\"\",\"\",入力表!BH42)","v":""},{"$f":"IF(入力表!BI42=\"\",\"\",入力表!BI42)","v":""},{"$f":"IF(入力表!BP42=\"\",\"\",入力表!BP42)","v":""},{"$f":"IF(入力表!BQ42=\"\",\"\",入力表!BQ42)","v":""},{"$f":"IF(ISERROR(VLOOKUP(IF(AM30=\"\",\"\",入力表!BR42),$AU$2:$AV$5,2,FALSE)),\"\",VLOOKUP(IF(AM30=\"\",\"\",入力表!BR42),$AU$2:$AV$5,2,FALSE))","v":""},{"$f":"IF(入力表!BS42=\"\",\"\",入力表!BS42)","v":""},{"$f":"IF(入力表!BT42=\"\",\"\",入力表!BT42)","v":""},{"$f":"IF(ISERROR(VLOOKUP(入力表!BU42,$AU$2:$AV$5,2,FALSE)),\"\",VLOOKUP(入力表!BU42,$AU$2:$AV$5,2,FALSE))","v":""},{"$f":"IF(入力表!BV42=\"\",\"\",入力表!BV42)","v":""},{"$f":"IF(入力表!BW42=\"\",\"\",入力表!BW42)","v":""}]
[30,{"$f":"IF(入力表!H43=0,\"\",入力表!H43)","v":""},{"$f":"IF(入力表!J43=0,\"\",入力表!J43)","v":""},{"$f":"IF(入力表!N43=0,\"\",入力表!N43)","v":""},{"$f":"RIGHT(入力表!AA43,2)","v":""},{"$f":"IF(入力表!U43=0,\"\",入力表!U43)","v":""},{"$f":"IF(B31=\"\",\"\",入力表!$N$8)","v":""},{"$f":"IF(B31=\"\",\"\",入力表!$L$4)","v":""},{"$f":"IF(B31=\"\",\"\",入力表!AE43)","v":""},{"$f":"IF(入力表!AH43=\"\",\"\",入力表!AH43)","v":""},"",{"$f":"IF(入力表!AV43=\"\",\"\",入力表!AV43)","v":""},"",{"$f":"IF(入力表!BJ43=\"\",\"\",入力表!BJ43)","v":""},"",{"$f":"IF(入力表!BX43=\"\",\"\",入力表!BX43)","v":""},"",{"$f":"IF(入力表!CA43=\"\",\"\",入力表!CA43)","v":""},"",null,null,{"$f":"IF(入力表!AN43=\"\",\"\",入力表!AN43)","v":""},{"$f":"IF(入力表!AO43=\"\",\"\",入力表!AO43)","v":""},{"$f":"IF(ISERROR(VLOOKUP(IF(W31=\"\",\"\",入力表!AP43),$AU$2:$AV$5,2,FALSE)),\"\",VLOOKUP(IF(W31=\"\",\"\",入力表!AS43),$AU$2:$AV$5,2,FALSE))","v":""},{"$f":"IF(入力表!AQ43=\"\",\"\",入力表!AQ43)","v":""},{"$f":"IF(入力表!AR43=\"\",\"\",入力表!AR43)","v":""},{"$f":"IF(ISERROR(VLOOKUP(入力表!AS43,$AU$2:$AV$5,2,FALSE)),\"\",VLOOKUP(入力表!AS43,$AU$2:$AV$5,2,FALSE))","v":""},{"$f":"IF(入力表!AT43=\"\",\"\",入力表!AT43)","v":""},{"$f":"IF(入力表!AU43=\"\",\"\",入力表!AU43)","v":""},{"$f":"IF(入力表!BB43=\"\",\"\",入力表!BB43)","v":""},{"$f":"IF(入力表!BC43=\"\",\"\",入力表!BC43)","v":""},{"$f":"IF(ISERROR(VLOOKUP(IF(AE31=\"\",\"\",入力表!BD43),$AU$2:$AV$5,2,FALSE)),\"\",VLOOKUP(IF(AE31=\"\",\"\",入力表!BD43),$AU$2:$AV$5,2,FALSE))","v":""},{"$f":"IF(入力表!BE43=\"\",\"\",入力表!BE43)","v":""},{"$f":"IF(入力表!BF43=\"\",\"\",入力表!BF43)","v":""},{"$f":"IF(ISERROR(VLOOKUP(入力表!BG43,$AU$2:$AV$5,2,FALSE)),\"\",VLOOKUP(入力表!BG43,$AU$2:$AV$5,2,FALSE))","v":""},{"$f":"IF(入力表!BH43=\"\",\"\",入力表!BH43)","v":""},{"$f":"IF(入力表!BI43=\"\",\"\",入力表!BI43)","v":""},{"$f":"IF(入力表!BP43=\"\",\"\",入力表!BP43)","v":""},{"$f":"IF(入力表!BQ43=\"\",\"\",入力表!BQ43)","v":""},{"$f":"IF(ISERROR(VLOOKUP(IF(AM31=\"\",\"\",入力表!BR43),$AU$2:$AV$5,2,FALSE)),\"\",VLOOKUP(IF(AM31=\"\",\"\",入力表!BR43),$AU$2:$AV$5,2,FALSE))","v":""},{"$f":"IF(入力表!BS43=\"\",\"\",入力表!BS43)","v":""},{"$f":"IF(入力表!BT43=\"\",\"\",入力表!BT43)","v":""},{"$f":"IF(ISERROR(VLOOKUP(入力表!BU43,$AU$2:$AV$5,2,FALSE)),\"\",VLOOKUP(入力表!BU43,$AU$2:$AV$5,2,FALSE))","v":""},{"$f":"IF(入力表!BV43=\"\",\"\",入力表!BV43)","v":""},{"$f":"IF(入力表!BW43=\"\",\"\",入力表!BW43)","v":""}]
[31,{"$f":"IF(入力表!H44=0,\"\",入力表!H44)","v":""},{"$f":"IF(入力表!J44=0,\"\",入力表!J44)","v":""},{"$f":"IF(入力表!N44=0,\"\",入力表!N44)","v":""},{"$f":"RIGHT(入力表!AA44,2)","v":""},{"$f":"IF(入力表!U44=0,\"\",入力表!U44)","v":""},{"$f":"IF(B32=\"\",\"\",入力表!$N$8)","v":""},{"$f":"IF(B32=\"\",\"\",入力表!$L$4)","v":""},{"$f":"IF(B32=\"\",\"\",入力表!AE44)","v":""},{"$f":"IF(入力表!AH44=\"\",\"\",入力表!AH44)","v":""},"",{"$f":"IF(入力表!AV44=\"\",\"\",入力表!AV44)","v":""},"",{"$f":"IF(入力表!BJ44=\"\",\"\",入力表!BJ44)","v":""},"",{"$f":"IF(入力表!BX44=\"\",\"\",入力表!BX44)","v":""},"",{"$f":"IF(入力表!CA44=\"\",\"\",入力表!CA44)","v":""},"",null,null,{"$f":"IF(入力表!AN44=\"\",\"\",入力表!AN44)","v":""},{"$f":"IF(入力表!AO44=\"\",\"\",入力表!AO44)","v":""},{"$f":"IF(ISERROR(VLOOKUP(IF(W32=\"\",\"\",入力表!AP44),$AU$2:$AV$5,2,FALSE)),\"\",VLOOKUP(IF(W32=\"\",\"\",入力表!AS44),$AU$2:$AV$5,2,FALSE))","v":""},{"$f":"IF(入力表!AQ44=\"\",\"\",入力表!AQ44)","v":""},{"$f":"IF(入力表!AR44=\"\",\"\",入力表!AR44)","v":""},{"$f":"IF(ISERROR(VLOOKUP(入力表!AS44,$AU$2:$AV$5,2,FALSE)),\"\",VLOOKUP(入力表!AS44,$AU$2:$AV$5,2,FALSE))","v":""},{"$f":"IF(入力表!AT44=\"\",\"\",入力表!AT44)","v":""},{"$f":"IF(入力表!AU44=\"\",\"\",入力表!AU44)","v":""},{"$f":"IF(入力表!BB44=\"\",\"\",入力表!BB44)","v":""},{"$f":"IF(入力表!BC44=\"\",\"\",入力表!BC44)","v":""},{"$f":"IF(ISERROR(VLOOKUP(IF(AE32=\"\",\"\",入力表!BD44),$AU$2:$AV$5,2,FALSE)),\"\",VLOOKUP(IF(AE32=\"\",\"\",入力表!BD44),$AU$2:$AV$5,2,FALSE))","v":""},{"$f":"IF(入力表!BE44=\"\",\"\",入力表!BE44)","v":""},{"$f":"IF(入力表!BF44=\"\",\"\",入力表!BF44)","v":""},{"$f":"IF(ISERROR(VLOOKUP(入力表!BG44,$AU$2:$AV$5,2,FALSE)),\"\",VLOOKUP(入力表!BG44,$AU$2:$AV$5,2,FALSE))","v":""},{"$f":"IF(入力表!BH44=\"\",\"\",入力表!BH44)","v":""},{"$f":"IF(入力表!BI44=\"\",\"\",入力表!BI44)","v":""},{"$f":"IF(入力表!BP44=\"\",\"\",入力表!BP44)","v":""},{"$f":"IF(入力表!BQ44=\"\",\"\",入力表!BQ44)","v":""},{"$f":"IF(ISERROR(VLOOKUP(IF(AM32=\"\",\"\",入力表!BR44),$AU$2:$AV$5,2,FALSE)),\"\",VLOOKUP(IF(AM32=\"\",\"\",入力表!BR44),$AU$2:$AV$5,2,FALSE))","v":""},{"$f":"IF(入力表!BS44=\"\",\"\",入力表!BS44)","v":""},{"$f":"IF(入力表!BT44=\"\",\"\",入力表!BT44)","v":""},{"$f":"IF(ISERROR(VLOOKUP(入力表!BU44,$AU$2:$AV$5,2,FALSE)),\"\",VLOOKUP(入力表!BU44,$AU$2:$AV$5,2,FALSE))","v":""},{"$f":"IF(入力表!BV44=\"\",\"\",入力表!BV44)","v":""},{"$f":"IF(入力表!BW44=\"\",\"\",入力表!BW44)","v":""}]
[32,{"$f":"IF(入力表!H45=0,\"\",入力表!H45)","v":""},{"$f":"IF(入力表!J45=0,\"\",入力表!J45)","v":""},{"$f":"IF(入力表!N45=0,\"\",入力表!N45)","v":""},{"$f":"RIGHT(入力表!AA45,2)","v":""},{"$f":"IF(入力表!U45=0,\"\",入力表!U45)","v":""},{"$f":"IF(B33=\"\",\"\",入力表!$N$8)","v":""},{"$f":"IF(B33=\"\",\"\",入力表!$L$4)","v":""},{"$f":"IF(B33=\"\",\"\",入力表!AE45)","v":""},{"$f":"IF(入力表!AH45=\"\",\"\",入力表!AH45)","v":""},"",{"$f":"IF(入力表!AV45=\"\",\"\",入力表!AV45)","v":""},"",{"$f":"IF(入力表!BJ45=\"\",\"\",入力表!BJ45)","v":""},"",{"$f":"IF(入力表!BX45=\"\",\"\",入力表!BX45)","v":""},"",{"$f":"IF(入力表!CA45=\"\",\"\",入力表!CA45)","v":""},"",null,null,{"$f":"IF(入力表!AN45=\"\",\"\",入力表!AN45)","v":""},{"$f":"IF(入力表!AO45=\"\",\"\",入力表!AO45)","v":""},{"$f":"IF(ISERROR(VLOOKUP(IF(W33=\"\",\"\",入力表!AP45),$AU$2:$AV$5,2,FALSE)),\"\",VLOOKUP(IF(W33=\"\",\"\",入力表!AS45),$AU$2:$AV$5,2,FALSE))","v":""},{"$f":"IF(入力表!AQ45=\"\",\"\",入力表!AQ45)","v":""},{"$f":"IF(入力表!AR45=\"\",\"\",入力表!AR45)","v":""},{"$f":"IF(ISERROR(VLOOKUP(入力表!AS45,$AU$2:$AV$5,2,FALSE)),\"\",VLOOKUP(入力表!AS45,$AU$2:$AV$5,2,FALSE))","v":""},{"$f":"IF(入力表!AT45=\"\",\"\",入力表!AT45)","v":""},{"$f":"IF(入力表!AU45=\"\",\"\",入力表!AU45)","v":""},{"$f":"IF(入力表!BB45=\"\",\"\",入力表!BB45)","v":""},{"$f":"IF(入力表!BC45=\"\",\"\",入力表!BC45)","v":""},{"$f":"IF(ISERROR(VLOOKUP(IF(AE33=\"\",\"\",入力表!BD45),$AU$2:$AV$5,2,FALSE)),\"\",VLOOKUP(IF(AE33=\"\",\"\",入力表!BD45),$AU$2:$AV$5,2,FALSE))","v":""},{"$f":"IF(入力表!BE45=\"\",\"\",入力表!BE45)","v":""},{"$f":"IF(入力表!BF45=\"\",\"\",入力表!BF45)","v":""},{"$f":"IF(ISERROR(VLOOKUP(入力表!BG45,$AU$2:$AV$5,2,FALSE)),\"\",VLOOKUP(入力表!BG45,$AU$2:$AV$5,2,FALSE))","v":""},{"$f":"IF(入力表!BH45=\"\",\"\",入力表!BH45)","v":""},{"$f":"IF(入力表!BI45=\"\",\"\",入力表!BI45)","v":""},{"$f":"IF(入力表!BP45=\"\",\"\",入力表!BP45)","v":""},{"$f":"IF(入力表!BQ45=\"\",\"\",入力表!BQ45)","v":""},{"$f":"IF(ISERROR(VLOOKUP(IF(AM33=\"\",\"\",入力表!BR45),$AU$2:$AV$5,2,FALSE)),\"\",VLOOKUP(IF(AM33=\"\",\"\",入力表!BR45),$AU$2:$AV$5,2,FALSE))","v":""},{"$f":"IF(入力表!BS45=\"\",\"\",入力表!BS45)","v":""},{"$f":"IF(入力表!BT45=\"\",\"\",入力表!BT45)","v":""},{"$f":"IF(ISERROR(VLOOKUP(入力表!BU45,$AU$2:$AV$5,2,FALSE)),\"\",VLOOKUP(入力表!BU45,$AU$2:$AV$5,2,FALSE))","v":""},{"$f":"IF(入力表!BV45=\"\",\"\",入力表!BV45)","v":""},{"$f":"IF(入力表!BW45=\"\",\"\",入力表!BW45)","v":""}]
[33,{"$f":"IF(入力表!H46=0,\"\",入力表!H46)","v":""},{"$f":"IF(入力表!J46=0,\"\",入力表!J46)","v":""},{"$f":"IF(入力表!N46=0,\"\",入力表!N46)","v":""},{"$f":"RIGHT(入力表!AA46,2)","v":""},{"$f":"IF(入力表!U46=0,\"\",入力表!U46)","v":""},{"$f":"IF(B34=\"\",\"\",入力表!$N$8)","v":""},{"$f":"IF(B34=\"\",\"\",入力表!$L$4)","v":""},{"$f":"IF(B34=\"\",\"\",入力表!AE46)","v":""},{"$f":"IF(入力表!AH46=\"\",\"\",入力表!AH46)","v":""},"",{"$f":"IF(入力表!AV46=\"\",\"\",入力表!AV46)","v":""},"",{"$f":"IF(入力表!BJ46=\"\",\"\",入力表!BJ46)","v":""},"",{"$f":"IF(入力表!BX46=\"\",\"\",入力表!BX46)","v":""},"",{"$f":"IF(入力表!CA46=\"\",\"\",入力表!CA46)","v":""},"",null,null,{"$f":"IF(入力表!AN46=\"\",\"\",入力表!AN46)","v":""},{"$f":"IF(入力表!AO46=\"\",\"\",入力表!AO46)","v":""},{"$f":"IF(ISERROR(VLOOKUP(IF(W34=\"\",\"\",入力表!AP46),$AU$2:$AV$5,2,FALSE)),\"\",VLOOKUP(IF(W34=\"\",\"\",入力表!AS46),$AU$2:$AV$5,2,FALSE))","v":""},{"$f":"IF(入力表!AQ46=\"\",\"\",入力表!AQ46)","v":""},{"$f":"IF(入力表!AR46=\"\",\"\",入力表!AR46)","v":""},{"$f":"IF(ISERROR(VLOOKUP(入力表!AS46,$AU$2:$AV$5,2,FALSE)),\"\",VLOOKUP(入力表!AS46,$AU$2:$AV$5,2,FALSE))","v":""},{"$f":"IF(入力表!AT46=\"\",\"\",入力表!AT46)","v":""},{"$f":"IF(入力表!AU46=\"\",\"\",入力表!AU46)","v":""},{"$f":"IF(入力表!BB46=\"\",\"\",入力表!BB46)","v":""},{"$f":"IF(入力表!BC46=\"\",\"\",入力表!BC46)","v":""},{"$f":"IF(ISERROR(VLOOKUP(IF(AE34=\"\",\"\",入力表!BD46),$AU$2:$AV$5,2,FALSE)),\"\",VLOOKUP(IF(AE34=\"\",\"\",入力表!BD46),$AU$2:$AV$5,2,FALSE))","v":""},{"$f":"IF(入力表!BE46=\"\",\"\",入力表!BE46)","v":""},{"$f":"IF(入力表!BF46=\"\",\"\",入力表!BF46)","v":""},{"$f":"IF(ISERROR(VLOOKUP(入力表!BG46,$AU$2:$AV$5,2,FALSE)),\"\",VLOOKUP(入力表!BG46,$AU$2:$AV$5,2,FALSE))","v":""},{"$f":"IF(入力表!BH46=\"\",\"\",入力表!BH46)","v":""},{"$f":"IF(入力表!BI46=\"\",\"\",入力表!BI46)","v":""},{"$f":"IF(入力表!BP46=\"\",\"\",入力表!BP46)","v":""},{"$f":"IF(入力表!BQ46=\"\",\"\",入力表!BQ46)","v":""},{"$f":"IF(ISERROR(VLOOKUP(IF(AM34=\"\",\"\",入力表!BR46),$AU$2:$AV$5,2,FALSE)),\"\",VLOOKUP(IF(AM34=\"\",\"\",入力表!BR46),$AU$2:$AV$5,2,FALSE))","v":""},{"$f":"IF(入力表!BS46=\"\",\"\",入力表!BS46)","v":""},{"$f":"IF(入力表!BT46=\"\",\"\",入力表!BT46)","v":""},{"$f":"IF(ISERROR(VLOOKUP(入力表!BU46,$AU$2:$AV$5,2,FALSE)),\"\",VLOOKUP(入力表!BU46,$AU$2:$AV$5,2,FALSE))","v":""},{"$f":"IF(入力表!BV46=\"\",\"\",入力表!BV46)","v":""},{"$f":"IF(入力表!BW46=\"\",\"\",入力表!BW46)","v":""}]
[34,{"$f":"IF(入力表!H47=0,\"\",入力表!H47)","v":""},{"$f":"IF(入力表!J47=0,\"\",入力表!J47)","v":""},{"$f":"IF(入力表!N47=0,\"\",入力表!N47)","v":""},{"$f":"RIGHT(入力表!AA47,2)","v":""},{"$f":"IF(入力表!U47=0,\"\",入力表!U47)","v":""},{"$f":"IF(B35=\"\",\"\",入力表!$N$8)","v":""},{"$f":"IF(B35=\"\",\"\",入力表!$L$4)","v":""},{"$f":"IF(B35=\"\",\"\",入力表!AE47)","v":""},{"$f":"IF(入力表!AH47=\"\",\"\",入力表!AH47)","v":""},"",{"$f":"IF(入力表!AV47=\"\",\"\",入力表!AV47)","v":""},"",{"$f":"IF(入力表!BJ47=\"\",\"\",入力表!BJ47)","v":""},"",{"$f":"IF(入力表!BX47=\"\",\"\",入力表!BX47)","v":""},"",{"$f":"IF(入力表!CA47=\"\",\"\",入力表!CA47)","v":""},"",null,null,{"$f":"IF(入力表!AN47=\"\",\"\",入力表!AN47)","v":""},{"$f":"IF(入力表!AO47=\"\",\"\",入力表!AO47)","v":""},{"$f":"IF(ISERROR(VLOOKUP(IF(W35=\"\",\"\",入力表!AP47),$AU$2:$AV$5,2,FALSE)),\"\",VLOOKUP(IF(W35=\"\",\"\",入力表!AS47),$AU$2:$AV$5,2,FALSE))","v":""},{"$f":"IF(入力表!AQ47=\"\",\"\",入力表!AQ47)","v":""},{"$f":"IF(入力表!AR47=\"\",\"\",入力表!AR47)","v":""},{"$f":"IF(ISERROR(VLOOKUP(入力表!AS47,$AU$2:$AV$5,2,FALSE)),\"\",VLOOKUP(入力表!AS47,$AU$2:$AV$5,2,FALSE))","v":""},{"$f":"IF(入力表!AT47=\"\",\"\",入力表!AT47)","v":""},{"$f":"IF(入力表!AU47=\"\",\"\",入力表!AU47)","v":""},{"$f":"IF(入力表!BB47=\"\",\"\",入力表!BB47)","v":""},{"$f":"IF(入力表!BC47=\"\",\"\",入力表!BC47)","v":""},{"$f":"IF(ISERROR(VLOOKUP(IF(AE35=\"\",\"\",入力表!BD47),$AU$2:$AV$5,2,FALSE)),\"\",VLOOKUP(IF(AE35=\"\",\"\",入力表!BD47),$AU$2:$AV$5,2,FALSE))","v":""},{"$f":"IF(入力表!BE47=\"\",\"\",入力表!BE47)","v":""},{"$f":"IF(入力表!BF47=\"\",\"\",入力表!BF47)","v":""},{"$f":"IF(ISERROR(VLOOKUP(入力表!BG47,$AU$2:$AV$5,2,FALSE)),\"\",VLOOKUP(入力表!BG47,$AU$2:$AV$5,2,FALSE))","v":""},{"$f":"IF(入力表!BH47=\"\",\"\",入力表!BH47)","v":""},{"$f":"IF(入力表!BI47=\"\",\"\",入力表!BI47)","v":""},{"$f":"IF(入力表!BP47=\"\",\"\",入力表!BP47)","v":""},{"$f":"IF(入力表!BQ47=\"\",\"\",入力表!BQ47)","v":""},{"$f":"IF(ISERROR(VLOOKUP(IF(AM35=\"\",\"\",入力表!BR47),$AU$2:$AV$5,2,FALSE)),\"\",VLOOKUP(IF(AM35=\"\",\"\",入力表!BR47),$AU$2:$AV$5,2,FALSE))","v":""},{"$f":"IF(入力表!BS47=\"\",\"\",入力表!BS47)","v":""},{"$f":"IF(入力表!BT47=\"\",\"\",入力表!BT47)","v":""},{"$f":"IF(ISERROR(VLOOKUP(入力表!BU47,$AU$2:$AV$5,2,FALSE)),\"\",VLOOKUP(入力表!BU47,$AU$2:$AV$5,2,FALSE))","v":""},{"$f":"IF(入力表!BV47=\"\",\"\",入力表!BV47)","v":""},{"$f":"IF(入力表!BW47=\"\",\"\",入力表!BW47)","v":""}]
[35,{"$f":"IF(入力表!H48=0,\"\",入力表!H48)","v":""},{"$f":"IF(入力表!J48=0,\"\",入力表!J48)","v":""},{"$f":"IF(入力表!N48=0,\"\",入力表!N48)","v":""},{"$f":"RIGHT(入力表!AA48,2)","v":""},{"$f":"IF(入力表!U48=0,\"\",入力表!U48)","v":""},{"$f":"IF(B36=\"\",\"\",入力表!$N$8)","v":""},{"$f":"IF(B36=\"\",\"\",入力表!$L$4)","v":""},{"$f":"IF(B36=\"\",\"\",入力表!AE48)","v":""},{"$f":"IF(入力表!AH48=\"\",\"\",入力表!AH48)","v":""},"",{"$f":"IF(入力表!AV48=\"\",\"\",入力表!AV48)","v":""},"",{"$f":"IF(入力表!BJ48=\"\",\"\",入力表!BJ48)","v":""},"",{"$f":"IF(入力表!BX48=\"\",\"\",入力表!BX48)","v":""},"",{"$f":"IF(入力表!CA48=\"\",\"\",入力表!CA48)","v":""},"",null,null,{"$f":"IF(入力表!AN48=\"\",\"\",入力表!AN48)","v":""},{"$f":"IF(入力表!AO48=\"\",\"\",入力表!AO48)","v":""},{"$f":"IF(ISERROR(VLOOKUP(IF(W36=\"\",\"\",入力表!AP48),$AU$2:$AV$5,2,FALSE)),\"\",VLOOKUP(IF(W36=\"\",\"\",入力表!AS48),$AU$2:$AV$5,2,FALSE))","v":""},{"$f":"IF(入力表!AQ48=\"\",\"\",入力表!AQ48)","v":""},{"$f":"IF(入力表!AR48=\"\",\"\",入力表!AR48)","v":""},{"$f":"IF(ISERROR(VLOOKUP(入力表!AS48,$AU$2:$AV$5,2,FALSE)),\"\",VLOOKUP(入力表!AS48,$AU$2:$AV$5,2,FALSE))","v":""},{"$f":"IF(入力表!AT48=\"\",\"\",入力表!AT48)","v":""},{"$f":"IF(入力表!AU48=\"\",\"\",入力表!AU48)","v":""},{"$f":"IF(入力表!BB48=\"\",\"\",入力表!BB48)","v":""},{"$f":"IF(入力表!BC48=\"\",\"\",入力表!BC48)","v":""},{"$f":"IF(ISERROR(VLOOKUP(IF(AE36=\"\",\"\",入力表!BD48),$AU$2:$AV$5,2,FALSE)),\"\",VLOOKUP(IF(AE36=\"\",\"\",入力表!BD48),$AU$2:$AV$5,2,FALSE))","v":""},{"$f":"IF(入力表!BE48=\"\",\"\",入力表!BE48)","v":""},{"$f":"IF(入力表!BF48=\"\",\"\",入力表!BF48)","v":""},{"$f":"IF(ISERROR(VLOOKUP(入力表!BG48,$AU$2:$AV$5,2,FALSE)),\"\",VLOOKUP(入力表!BG48,$AU$2:$AV$5,2,FALSE))","v":""},{"$f":"IF(入力表!BH48=\"\",\"\",入力表!BH48)","v":""},{"$f":"IF(入力表!BI48=\"\",\"\",入力表!BI48)","v":""},{"$f":"IF(入力表!BP48=\"\",\"\",入力表!BP48)","v":""},{"$f":"IF(入力表!BQ48=\"\",\"\",入力表!BQ48)","v":""},{"$f":"IF(ISERROR(VLOOKUP(IF(AM36=\"\",\"\",入力表!BR48),$AU$2:$AV$5,2,FALSE)),\"\",VLOOKUP(IF(AM36=\"\",\"\",入力表!BR48),$AU$2:$AV$5,2,FALSE))","v":""},{"$f":"IF(入力表!BS48=\"\",\"\",入力表!BS48)","v":""},{"$f":"IF(入力表!BT48=\"\",\"\",入力表!BT48)","v":""},{"$f":"IF(ISERROR(VLOOKUP(入力表!BU48,$AU$2:$AV$5,2,FALSE)),\"\",VLOOKUP(入力表!BU48,$AU$2:$AV$5,2,FALSE))","v":""},{"$f":"IF(入力表!BV48=\"\",\"\",入力表!BV48)","v":""},{"$f":"IF(入力表!BW48=\"\",\"\",入力表!BW48)","v":""}]
[36,{"$f":"IF(入力表!H49=0,\"\",入力表!H49)","v":""},{"$f":"IF(入力表!J49=0,\"\",入力表!J49)","v":""},{"$f":"IF(入力表!N49=0,\"\",入力表!N49)","v":""},{"$f":"RIGHT(入力表!AA49,2)","v":""},{"$f":"IF(入力表!U49=0,\"\",入力表!U49)","v":""},{"$f":"IF(B37=\"\",\"\",入力表!$N$8)","v":""},{"$f":"IF(B37=\"\",\"\",入力表!$L$4)","v":""},{"$f":"IF(B37=\"\",\"\",入力表!AE49)","v":""},{"$f":"IF(入力表!AH49=\"\",\"\",入力表!AH49)","v":""},"",{"$f":"IF(入力表!AV49=\"\",\"\",入力表!AV49)","v":""},"",{"$f":"IF(入力表!BJ49=\"\",\"\",入力表!BJ49)","v":""},"",{"$f":"IF(入力表!BX49=\"\",\"\",入力表!BX49)","v":""},"",{"$f":"IF(入力表!CA49=\"\",\"\",入力表!CA49)","v":""},"",null,null,{"$f":"IF(入力表!AN49=\"\",\"\",入力表!AN49)","v":""},{"$f":"IF(入力表!AO49=\"\",\"\",入力表!AO49)","v":""},{"$f":"IF(ISERROR(VLOOKUP(IF(W37=\"\",\"\",入力表!AP49),$AU$2:$AV$5,2,FALSE)),\"\",VLOOKUP(IF(W37=\"\",\"\",入力表!AS49),$AU$2:$AV$5,2,FALSE))","v":""},{"$f":"IF(入力表!AQ49=\"\",\"\",入力表!AQ49)","v":""},{"$f":"IF(入力表!AR49=\"\",\"\",入力表!AR49)","v":""},{"$f":"IF(ISERROR(VLOOKUP(入力表!AS49,$AU$2:$AV$5,2,FALSE)),\"\",VLOOKUP(入力表!AS49,$AU$2:$AV$5,2,FALSE))","v":""},{"$f":"IF(入力表!AT49=\"\",\"\",入力表!AT49)","v":""},{"$f":"IF(入力表!AU49=\"\",\"\",入力表!AU49)","v":""},{"$f":"IF(入力表!BB49=\"\",\"\",入力表!BB49)","v":""},{"$f":"IF(入力表!BC49=\"\",\"\",入力表!BC49)","v":""},{"$f":"IF(ISERROR(VLOOKUP(IF(AE37=\"\",\"\",入力表!BD49),$AU$2:$AV$5,2,FALSE)),\"\",VLOOKUP(IF(AE37=\"\",\"\",入力表!BD49),$AU$2:$AV$5,2,FALSE))","v":""},{"$f":"IF(入力表!BE49=\"\",\"\",入力表!BE49)","v":""},{"$f":"IF(入力表!BF49=\"\",\"\",入力表!BF49)","v":""},{"$f":"IF(ISERROR(VLOOKUP(入力表!BG49,$AU$2:$AV$5,2,FALSE)),\"\",VLOOKUP(入力表!BG49,$AU$2:$AV$5,2,FALSE))","v":""},{"$f":"IF(入力表!BH49=\"\",\"\",入力表!BH49)","v":""},{"$f":"IF(入力表!BI49=\"\",\"\",入力表!BI49)","v":""},{"$f":"IF(入力表!BP49=\"\",\"\",入力表!BP49)","v":""},{"$f":"IF(入力表!BQ49=\"\",\"\",入力表!BQ49)","v":""},{"$f":"IF(ISERROR(VLOOKUP(IF(AM37=\"\",\"\",入力表!BR49),$AU$2:$AV$5,2,FALSE)),\"\",VLOOKUP(IF(AM37=\"\",\"\",入力表!BR49),$AU$2:$AV$5,2,FALSE))","v":""},{"$f":"IF(入力表!BS49=\"\",\"\",入力表!BS49)","v":""},{"$f":"IF(入力表!BT49=\"\",\"\",入力表!BT49)","v":""},{"$f":"IF(ISERROR(VLOOKUP(入力表!BU49,$AU$2:$AV$5,2,FALSE)),\"\",VLOOKUP(入力表!BU49,$AU$2:$AV$5,2,FALSE))","v":""},{"$f":"IF(入力表!BV49=\"\",\"\",入力表!BV49)","v":""},{"$f":"IF(入力表!BW49=\"\",\"\",入力表!BW49)","v":""}]
[37,{"$f":"IF(入力表!H50=0,\"\",入力表!H50)","v":""},{"$f":"IF(入力表!J50=0,\"\",入力表!J50)","v":""},{"$f":"IF(入力表!N50=0,\"\",入力表!N50)","v":""},{"$f":"RIGHT(入力表!AA50,2)","v":""},{"$f":"IF(入力表!U50=0,\"\",入力表!U50)","v":""},{"$f":"IF(B38=\"\",\"\",入力表!$N$8)","v":""},{"$f":"IF(B38=\"\",\"\",入力表!$L$4)","v":""},{"$f":"IF(B38=\"\",\"\",入力表!AE50)","v":""},{"$f":"IF(入力表!AH50=\"\",\"\",入力表!AH50)","v":""},"",{"$f":"IF(入力表!AV50=\"\",\"\",入力表!AV50)","v":""},"",{"$f":"IF(入力表!BJ50=\"\",\"\",入力表!BJ50)","v":""},"",{"$f":"IF(入力表!BX50=\"\",\"\",入力表!BX50)","v":""},"",{"$f":"IF(入力表!CA50=\"\",\"\",入力表!CA50)","v":""},"",null,null,{"$f":"IF(入力表!AN50=\"\",\"\",入力表!AN50)","v":""},{"$f":"IF(入力表!AO50=\"\",\"\",入力表!AO50)","v":""},{"$f":"IF(ISERROR(VLOOKUP(IF(W38=\"\",\"\",入力表!AP50),$AU$2:$AV$5,2,FALSE)),\"\",VLOOKUP(IF(W38=\"\",\"\",入力表!AS50),$AU$2:$AV$5,2,FALSE))","v":""},{"$f":"IF(入力表!AQ50=\"\",\"\",入力表!AQ50)","v":""},{"$f":"IF(入力表!AR50=\"\",\"\",入力表!AR50)","v":""},{"$f":"IF(ISERROR(VLOOKUP(入力表!AS50,$AU$2:$AV$5,2,FALSE)),\"\",VLOOKUP(入力表!AS50,$AU$2:$AV$5,2,FALSE))","v":""},{"$f":"IF(入力表!AT50=\"\",\"\",入力表!AT50)","v":""},{"$f":"IF(入力表!AU50=\"\",\"\",入力表!AU50)","v":""},{"$f":"IF(入力表!BB50=\"\",\"\",入力表!BB50)","v":""},{"$f":"IF(入力表!BC50=\"\",\"\",入力表!BC50)","v":""},{"$f":"IF(ISERROR(VLOOKUP(IF(AE38=\"\",\"\",入力表!BD50),$AU$2:$AV$5,2,FALSE)),\"\",VLOOKUP(IF(AE38=\"\",\"\",入力表!BD50),$AU$2:$AV$5,2,FALSE))","v":""},{"$f":"IF(入力表!BE50=\"\",\"\",入力表!BE50)","v":""},{"$f":"IF(入力表!BF50=\"\",\"\",入力表!BF50)","v":""},{"$f":"IF(ISERROR(VLOOKUP(入力表!BG50,$AU$2:$AV$5,2,FALSE)),\"\",VLOOKUP(入力表!BG50,$AU$2:$AV$5,2,FALSE))","v":""},{"$f":"IF(入力表!BH50=\"\",\"\",入力表!BH50)","v":""},{"$f":"IF(入力表!BI50=\"\",\"\",入力表!BI50)","v":""},{"$f":"IF(入力表!BP50=\"\",\"\",入力表!BP50)","v":""},{"$f":"IF(入力表!BQ50=\"\",\"\",入力表!BQ50)","v":""},{"$f":"IF(ISERROR(VLOOKUP(IF(AM38=\"\",\"\",入力表!BR50),$AU$2:$AV$5,2,FALSE)),\"\",VLOOKUP(IF(AM38=\"\",\"\",入力表!BR50),$AU$2:$AV$5,2,FALSE))","v":""},{"$f":"IF(入力表!BS50=\"\",\"\",入力表!BS50)","v":""},{"$f":"IF(入力表!BT50=\"\",\"\",入力表!BT50)","v":""},{"$f":"IF(ISERROR(VLOOKUP(入力表!BU50,$AU$2:$AV$5,2,FALSE)),\"\",VLOOKUP(入力表!BU50,$AU$2:$AV$5,2,FALSE))","v":""},{"$f":"IF(入力表!BV50=\"\",\"\",入力表!BV50)","v":""},{"$f":"IF(入力表!BW50=\"\",\"\",入力表!BW50)","v":""}]
[38,{"$f":"IF(入力表!H51=0,\"\",入力表!H51)","v":""},{"$f":"IF(入力表!J51=0,\"\",入力表!J51)","v":""},{"$f":"IF(入力表!N51=0,\"\",入力表!N51)","v":""},{"$f":"RIGHT(入力表!AA51,2)","v":""},{"$f":"IF(入力表!U51=0,\"\",入力表!U51)","v":""},{"$f":"IF(B39=\"\",\"\",入力表!$N$8)","v":""},{"$f":"IF(B39=\"\",\"\",入力表!$L$4)","v":""},{"$f":"IF(B39=\"\",\"\",入力表!AE51)","v":""},{"$f":"IF(入力表!AH51=\"\",\"\",入力表!AH51)","v":""},"",{"$f":"IF(入力表!AV51=\"\",\"\",入力表!AV51)","v":""},"",{"$f":"IF(入力表!BJ51=\"\",\"\",入力表!BJ51)","v":""},"",{"$f":"IF(入力表!BX51=\"\",\"\",入力表!BX51)","v":""},"",{"$f":"IF(入力表!CA51=\"\",\"\",入力表!CA51)","v":""},"",null,null,{"$f":"IF(入力表!AN51=\"\",\"\",入力表!AN51)","v":""},{"$f":"IF(入力表!AO51=\"\",\"\",入力表!AO51)","v":""},{"$f":"IF(ISERROR(VLOOKUP(IF(W39=\"\",\"\",入力表!AP51),$AU$2:$AV$5,2,FALSE)),\"\",VLOOKUP(IF(W39=\"\",\"\",入力表!AS51),$AU$2:$AV$5,2,FALSE))","v":""},{"$f":"IF(入力表!AQ51=\"\",\"\",入力表!AQ51)","v":""},{"$f":"IF(入力表!AR51=\"\",\"\",入力表!AR51)","v":""},{"$f":"IF(ISERROR(VLOOKUP(入力表!AS51,$AU$2:$AV$5,2,FALSE)),\"\",VLOOKUP(入力表!AS51,$AU$2:$AV$5,2,FALSE))","v":""},{"$f":"IF(入力表!AT51=\"\",\"\",入力表!AT51)","v":""},{"$f":"IF(入力表!AU51=\"\",\"\",入力表!AU51)","v":""},{"$f":"IF(入力表!BB51=\"\",\"\",入力表!BB51)","v":""},{"$f":"IF(入力表!BC51=\"\",\"\",入力表!BC51)","v":""},{"$f":"IF(ISERROR(VLOOKUP(IF(AE39=\"\",\"\",入力表!BD51),$AU$2:$AV$5,2,FALSE)),\"\",VLOOKUP(IF(AE39=\"\",\"\",入力表!BD51),$AU$2:$AV$5,2,FALSE))","v":""},{"$f":"IF(入力表!BE51=\"\",\"\",入力表!BE51)","v":""},{"$f":"IF(入力表!BF51=\"\",\"\",入力表!BF51)","v":""},{"$f":"IF(ISERROR(VLOOKUP(入力表!BG51,$AU$2:$AV$5,2,FALSE)),\"\",VLOOKUP(入力表!BG51,$AU$2:$AV$5,2,FALSE))","v":""},{"$f":"IF(入力表!BH51=\"\",\"\",入力表!BH51)","v":""},{"$f":"IF(入力表!BI51=\"\",\"\",入力表!BI51)","v":""},{"$f":"IF(入力表!BP51=\"\",\"\",入力表!BP51)","v":""},{"$f":"IF(入力表!BQ51=\"\",\"\",入力表!BQ51)","v":""},{"$f":"IF(ISERROR(VLOOKUP(IF(AM39=\"\",\"\",入力表!BR51),$AU$2:$AV$5,2,FALSE)),\"\",VLOOKUP(IF(AM39=\"\",\"\",入力表!BR51),$AU$2:$AV$5,2,FALSE))","v":""},{"$f":"IF(入力表!BS51=\"\",\"\",入力表!BS51)","v":""},{"$f":"IF(入力表!BT51=\"\",\"\",入力表!BT51)","v":""},{"$f":"IF(ISERROR(VLOOKUP(入力表!BU51,$AU$2:$AV$5,2,FALSE)),\"\",VLOOKUP(入力表!BU51,$AU$2:$AV$5,2,FALSE))","v":""},{"$f":"IF(入力表!BV51=\"\",\"\",入力表!BV51)","v":""},{"$f":"IF(入力表!BW51=\"\",\"\",入力表!BW51)","v":""}]
[39,{"$f":"IF(入力表!H52=0,\"\",入力表!H52)","v":""},{"$f":"IF(入力表!J52=0,\"\",入力表!J52)","v":""},{"$f":"IF(入力表!N52=0,\"\",入力表!N52)","v":""},{"$f":"RIGHT(入力表!AA52,2)","v":""},{"$f":"IF(入力表!U52=0,\"\",入力表!U52)","v":""},{"$f":"IF(B40=\"\",\"\",入力表!$N$8)","v":""},{"$f":"IF(B40=\"\",\"\",入力表!$L$4)","v":""},{"$f":"IF(B40=\"\",\"\",入力表!AE52)","v":""},{"$f":"IF(入力表!AH52=\"\",\"\",入力表!AH52)","v":""},"",{"$f":"IF(入力表!AV52=\"\",\"\",入力表!AV52)","v":""},"",{"$f":"IF(入力表!BJ52=\"\",\"\",入力表!BJ52)","v":""},"",{"$f":"IF(入力表!BX52=\"\",\"\",入力表!BX52)","v":""},"",{"$f":"IF(入力表!CA52=\"\",\"\",入力表!CA52)","v":""},"",null,null,{"$f":"IF(入力表!AN52=\"\",\"\",入力表!AN52)","v":""},{"$f":"IF(入力表!AO52=\"\",\"\",入力表!AO52)","v":""},{"$f":"IF(ISERROR(VLOOKUP(IF(W40=\"\",\"\",入力表!AP52),$AU$2:$AV$5,2,FALSE)),\"\",VLOOKUP(IF(W40=\"\",\"\",入力表!AS52),$AU$2:$AV$5,2,FALSE))","v":""},{"$f":"IF(入力表!AQ52=\"\",\"\",入力表!AQ52)","v":""},{"$f":"IF(入力表!AR52=\"\",\"\",入力表!AR52)","v":""},{"$f":"IF(ISERROR(VLOOKUP(入力表!AS52,$AU$2:$AV$5,2,FALSE)),\"\",VLOOKUP(入力表!AS52,$AU$2:$AV$5,2,FALSE))","v":""},{"$f":"IF(入力表!AT52=\"\",\"\",入力表!AT52)","v":""},{"$f":"IF(入力表!AU52=\"\",\"\",入力表!AU52)","v":""},{"$f":"IF(入力表!BB52=\"\",\"\",入力表!BB52)","v":""},{"$f":"IF(入力表!BC52=\"\",\"\",入力表!BC52)","v":""},{"$f":"IF(ISERROR(VLOOKUP(IF(AE40=\"\",\"\",入力表!BD52),$AU$2:$AV$5,2,FALSE)),\"\",VLOOKUP(IF(AE40=\"\",\"\",入力表!BD52),$AU$2:$AV$5,2,FALSE))","v":""},{"$f":"IF(入力表!BE52=\"\",\"\",入力表!BE52)","v":""},{"$f":"IF(入力表!BF52=\"\",\"\",入力表!BF52)","v":""},{"$f":"IF(ISERROR(VLOOKUP(入力表!BG52,$AU$2:$AV$5,2,FALSE)),\"\",VLOOKUP(入力表!BG52,$AU$2:$AV$5,2,FALSE))","v":""},{"$f":"IF(入力表!BH52=\"\",\"\",入力表!BH52)","v":""},{"$f":"IF(入力表!BI52=\"\",\"\",入力表!BI52)","v":""},{"$f":"IF(入力表!BP52=\"\",\"\",入力表!BP52)","v":""},{"$f":"IF(入力表!BQ52=\"\",\"\",入力表!BQ52)","v":""},{"$f":"IF(ISERROR(VLOOKUP(IF(AM40=\"\",\"\",入力表!BR52),$AU$2:$AV$5,2,FALSE)),\"\",VLOOKUP(IF(AM40=\"\",\"\",入力表!BR52),$AU$2:$AV$5,2,FALSE))","v":""},{"$f":"IF(入力表!BS52=\"\",\"\",入力表!BS52)","v":""},{"$f":"IF(入力表!BT52=\"\",\"\",入力表!BT52)","v":""},{"$f":"IF(ISERROR(VLOOKUP(入力表!BU52,$AU$2:$AV$5,2,FALSE)),\"\",VLOOKUP(入力表!BU52,$AU$2:$AV$5,2,FALSE))","v":""},{"$f":"IF(入力表!BV52=\"\",\"\",入力表!BV52)","v":""},{"$f":"IF(入力表!BW52=\"\",\"\",入力表!BW52)","v":""}]
[40,{"$f":"IF(入力表!H53=0,\"\",入力表!H53)","v":""},{"$f":"IF(入力表!J53=0,\"\",入力表!J53)","v":""},{"$f":"IF(入力表!N53=0,\"\",入力表!N53)","v":""},{"$f":"RIGHT(入力表!AA53,2)","v":""},{"$f":"IF(入力表!U53=0,\"\",入力表!U53)","v":""},{"$f":"IF(B41=\"\",\"\",入力表!$N$8)","v":""},{"$f":"IF(B41=\"\",\"\",入力表!$L$4)","v":""},{"$f":"IF(B41=\"\",\"\",入力表!AE53)","v":""},{"$f":"IF(入力表!AH53=\"\",\"\",入力表!AH53)","v":""},"",{"$f":"IF(入力表!AV53=\"\",\"\",入力表!AV53)","v":""},"",{"$f":"IF(入力表!BJ53=\"\",\"\",入力表!BJ53)","v":""},"",{"$f":"IF(入力表!BX53=\"\",\"\",入力表!BX53)","v":""},"",{"$f":"IF(入力表!CA53=\"\",\"\",入力表!CA53)","v":""},"",null,null,{"$f":"IF(入力表!AN53=\"\",\"\",入力表!AN53)","v":""},{"$f":"IF(入力表!AO53=\"\",\"\",入力表!AO53)","v":""},{"$f":"IF(ISERROR(VLOOKUP(IF(W41=\"\",\"\",入力表!AP53),$AU$2:$AV$5,2,FALSE)),\"\",VLOOKUP(IF(W41=\"\",\"\",入力表!AS53),$AU$2:$AV$5,2,FALSE))","v":""},{"$f":"IF(入力表!AQ53=\"\",\"\",入力表!AQ53)","v":""},{"$f":"IF(入力表!AR53=\"\",\"\",入力表!AR53)","v":""},{"$f":"IF(ISERROR(VLOOKUP(入力表!AS53,$AU$2:$AV$5,2,FALSE)),\"\",VLOOKUP(入力表!AS53,$AU$2:$AV$5,2,FALSE))","v":""},{"$f":"IF(入力表!AT53=\"\",\"\",入力表!AT53)","v":""},{"$f":"IF(入力表!AU53=\"\",\"\",入力表!AU53)","v":""},{"$f":"IF(入力表!BB53=\"\",\"\",入力表!BB53)","v":""},{"$f":"IF(入力表!BC53=\"\",\"\",入力表!BC53)","v":""},{"$f":"IF(ISERROR(VLOOKUP(IF(AE41=\"\",\"\",入力表!BD53),$AU$2:$AV$5,2,FALSE)),\"\",VLOOKUP(IF(AE41=\"\",\"\",入力表!BD53),$AU$2:$AV$5,2,FALSE))","v":""},{"$f":"IF(入力表!BE53=\"\",\"\",入力表!BE53)","v":""},{"$f":"IF(入力表!BF53=\"\",\"\",入力表!BF53)","v":""},{"$f":"IF(ISERROR(VLOOKUP(入力表!BG53,$AU$2:$AV$5,2,FALSE)),\"\",VLOOKUP(入力表!BG53,$AU$2:$AV$5,2,FALSE))","v":""},{"$f":"IF(入力表!BH53=\"\",\"\",入力表!BH53)","v":""},{"$f":"IF(入力表!BI53=\"\",\"\",入力表!BI53)","v":""},{"$f":"IF(入力表!BP53=\"\",\"\",入力表!BP53)","v":""},{"$f":"IF(入力表!BQ53=\"\",\"\",入力表!BQ53)","v":""},{"$f":"IF(ISERROR(VLOOKUP(IF(AM41=\"\",\"\",入力表!BR53),$AU$2:$AV$5,2,FALSE)),\"\",VLOOKUP(IF(AM41=\"\",\"\",入力表!BR53),$AU$2:$AV$5,2,FALSE))","v":""},{"$f":"IF(入力表!BS53=\"\",\"\",入力表!BS53)","v":""},{"$f":"IF(入力表!BT53=\"\",\"\",入力表!BT53)","v":""},{"$f":"IF(ISERROR(VLOOKUP(入力表!BU53,$AU$2:$AV$5,2,FALSE)),\"\",VLOOKUP(入力表!BU53,$AU$2:$AV$5,2,FALSE))","v":""},{"$f":"IF(入力表!BV53=\"\",\"\",入力表!BV53)","v":""},{"$f":"IF(入力表!BW53=\"\",\"\",入力表!BW53)","v":""}]

{"sheet":"①初期設定","index":8,"n_rows":203,"n_cols":47,"rows_kept":203,"cut":false,"hidden":true,"merged":[[24,8,24,13],[24,1,24,6],[153,7,153,16],[148,24,148,33],[160,7,160,16],[155,24,155,33],[39,11,39,13],[40,8,40,10],[40,11,40,13],[41,8,41,10],[41,11,41,13],[42,8,42,10],[42,11,42,13],[43,8,43,10],[43,11,43,13],[124,7,124,16],[125,7,125,16],[126,7,126,16],[139,7,139,16],[25,8,25,10],[25,11,25,13],[26,8,26,10],[26,11,26,13],[27,8,27,10],[27,11,27,13],[28,8,28,10],[28,11,28,13],[29,8,29,10],[29,11,29,13],[30,8,30,10],[30,11,30,13],[31,8,31,10],[31,11,31,13],[32,8,32,10],[32,11,32,13],[33,8,33,10],[33,11,33,13],[34,8,34,10],[34,11,34,13],[169,24,169,33],[166,7,166,16],[168,7,168,16],[94,19,94,27],[95,19,95,27],[96,19,96,27],[115,7,116,16],[101,19,101,27],[102,19,102,27],[103,19,103,27],[104,19,104,27],[105,5,105,13],[105,19,105,27],[106,5,106,13],[106,19,106,27],[47,19,48,27],[84,19,84,27],[85,19,85,27],[170,7,170,16],[145,7,145,16],[149,7,149,16],[156,7,156,16],[163,7,163,16],[159,7,159,16],[147,7,147,16],[151,7,151,16],[152,7,152,16],[158,7,158,16],[148,7,148,16],[155,7,155,16],[162,7,162,16],[154,7,154,16],[169,7,169,16],[171,7,171,16],[164,7,164,16],[165,7,165,16],[167,7,167,16],[157,7,157,16],[167,24,167,33],[117,7,117,16],[119,7,119,16],[120,7,120,16],[121,7,121,16],[122,7,122,16],[125,24,125,33],[119,24,119,33],[120,24,120,33],[122,24,122,33],[117,24,117,33],[123,24,123,33],[121,24,121,33],[157,24,157,33],[159,24,159,33],[154,24,154,33],[161,7,161,16],[156,24,156,33],[133,24,133,33],[86,19,86,27],[87,19,87,27],[88,19,88,27],[79,19,79,27],[80,19,80,27],[81,19,81,27],[82,19,82,27],[83,19,83,27],[74,19,74,27],[75,19,75,27],[76,19,76,27],[77,19,77,27],[78,19,78,27],[69,19,69,27],[70,19,70,27],[71,19,71,27],[72,19,72,27],[73,19,73,27],[64,19,64,27],[65,19,65,27],[49,19,49,27],[115,1,116,2],[115,3,116,4],[115,5,116,6],[115,18,116,19],[115,20,116,21],[115,22,116,23],[89,19,89,27],[90,19,90,27],[91,19,91,27],[92,19,92,27],[93,19,93,27],[115,24,116,33],[97,5,97,13],[98,5,98,13],[99,5,99,13],[100,5,100,13],[101,5,101,13],[102,5,102,13],[103,5,103,13],[104,5,104,13],[97,19,97,27],[98,19,98,27],[99,19,99,27],[107,5,107,13],[100,19,100,27],[107,19,107,27],[67,19,67,27],[68,19,68,27],[59,19,59,27],[60,19,60,27],[61,19,61,27],[62,19,62,27],[63,19,63,27],[54,19,54,27],[55,19,55,27],[56,19,56,27],[57,19,57,27],[58,19,58,27],[66,19,66,27],[50,19,50,27],[51,19,51,27],[52,19,52,27],[53,19,53,27],[96,5,96,13],[47,5,48,13],[47,1,48,2],[47,3,48,4],[91,5,91,13],[92,5,92,13],[93,5,93,13],[94,5,94,13],[95,5,95,13],[86,5,86,13],[87,5,87,13],[88,5,88,13],[89,5,89,13],[90,5,90,13],[81,5,81,13],[82,5,82,13],[83,5,83,13],[84,5,84,13],[85,5,85,13],[76,5,76,13],[77,5,77,13],[78,5,78,13],[79,5,79,13],[80,5,80,13],[71,5,71,13],[72,5,72,13],[73,5,73,13],[74,5,74,13],[75,5,75,13],[66,5,66,13],[67,5,67,13],[68,5,68,13],[69,5,69,13],[70,5,70,13],[61,5,61,13],[62,5,62,13],[63,5,63,13],[64,5,64,13],[65,5,65,13],[56,5,56,13],[57,5,57,13],[58,5,58,13],[59,5,59,13],[60,5,60,13],[51,5,51,13],[52,5,52,13],[53,5,53,13],[54,5,54,13],[55,5,55,13],[43,4,43,6],[30,1,30,3],[31,1,31,3],[32,1,32,3],[32,4,32,6],[49,5,49,13],[50,5,50,13],[37,4,37,6],[38,4,38,6],[39,4,39,6],[40,4,40,6],[41,4,41,6],[45,1,45,10],[31,4,31,6],[38,1,38,3],[35,8,35,10],[35,11,35,13],[36,8,36,10],[36,11,36,13],[37,8,37,10],[37,11,37,13],[38,8,38,10],[38,11,38,13],[39,8,39,10],[22,1,22,10],[47,15,48,16],[47,17,48,18],[16,1,16,10],[2,1,2,10],[0,12,0,21],[13,1,13,10],[14,1,14,10],[0,1,0,10],[26,1,26,3],[27,1,27,3],[42,1,42,3],[43,1,43,3],[25,4,25,6],[26,4,26,6],[27,4,27,6],[28,4,28,6],[29,4,29,6],[30,4,30,6],[39,1,39,3],[40,1,40,3],[41,1,41,3],[42,4,42,6],[3,1,3,10],[4,1,4,10],[5,1,5,10],[6,1,6,10],[7,1,7,10],[8,1,8,10],[9,1,9,10],[10,1,10,10],[11,1,11,10],[12,1,12,10],[28,1,28,3],[25,1,25,3],[37,1,37,3],[33,1,33,3],[34,1,34,3],[35,1,35,3],[36,1,36,3],[29,1,29,3],[33,4,33,6],[34,4,34,6],[35,4,35,6],[36,4,36,6],[185,7,185,16],[184,24,184,33],[186,7,186,16],[185,24,185,33],[180,7,180,16],[181,7,181,16],[183,7,183,16],[176,24,176,33],[177,24,177,33],[178,24,178,33],[179,24,179,33],[180,24,180,33],[182,7,182,16],[176,7,176,16],[178,7,178,16],[179,7,179,16],[177,7,177,16],[108,5,108,13],[108,19,108,27],[109,5,109,13],[109,19,109,27],[110,5,110,13],[110,19,110,27],[111,5,111,13],[111,19,111,27],[112,5,112,13],[112,19,112,27],[113,5,113,13],[113,19,113,27],[192,7,192,16],[191,24,191,33],[193,7,193,16],[192,24,192,33],[194,7,194,16],[193,24,193,33],[187,7,187,16],[186,24,186,33],[188,7,188,16],[187,24,187,33],[189,7,189,16],[188,24,188,33],[190,7,190,16],[189,24,189,33],[191,7,191,16],[190,24,190,33],[181,24,181,33],[182,24,182,33],[184,7,184,16],[183,24,183,33],[175,24,175,33],[153,24,153,33],[200,7,200,16],[199,24,199,33],[201,7,201,16],[200,24,200,33],[202,7,202,16],[201,24,201,33],[195,7,195,16],[194,24,194,33],[196,7,196,16],[195,24,195,33],[197,7,197,16],[196,24,196,33],[198,7,198,16],[197,24,197,33],[199,7,199,16],[198,24,198,33],[173,7,173,16],[175,7,175,16],[172,7,172,16],[174,7,174,16],[152,24,152,33],[158,24,158,33],[140,24,140,33],[143,24,143,33],[144,24,144,33],[147,24,147,33],[150,24,150,33],[173,24,173,33],[174,24,174,33],[160,24,160,33],[162,24,162,33],[164,24,164,33],[166,24,166,33],[170,24,170,33],[172,24,172,33],[168,24,168,33],[161,24,161,33],[163,24,163,33],[165,24,165,33],[171,24,171,33],[151,24,151,33],[139,24,139,33],[118,7,118,16],[118,24,118,33],[138,24,138,33],[142,24,142,33],[141,7,141,16],[146,7,146,16],[145,24,145,33],[124,24,124,33],[126,24,126,33],[128,24,128,33],[129,24,129,33],[132,24,132,33],[150,7,150,16],[127,7,127,16],[143,7,143,16],[142,7,142,16],[130,7,130,16],[131,7,131,16],[123,7,123,16],[144,7,144,16],[128,7,128,16],[133,7,133,16],[134,7,134,16],[135,7,135,16],[140,7,140,16],[134,24,134,33],[135,24,135,33],[136,24,136,33],[127,24,127,33],[130,24,130,33],[149,24,149,33],[131,24,131,33],[137,24,137,33],[141,24,141,33],[129,7,129,16],[136,7,136,16],[132,7,132,16],[138,7,138,16],[137,7,137,16],[146,24,146,33]]}
[1,"大会名の設定",null,null,null,null,null,null,null,null,null,null,"第２７回北海道陸上競技フェスティバル　兼　オホーツク陸協混成競技記録会"]
[]
[null,"大会名"]
[]
[null,"オホーツク陸協　記録会第１戦"]
[null,"オホーツク陸協　記録会第２戦"]
[null,"オホーツク陸協　記録会第３戦"]
[null,"オホーツク陸協　記録会第４戦"]
[null,"オホーツク陸協　記録会第５戦"]
[null,"オホーツク陸上競技選手権大会"]
[null,"オホーツク秋季陸上競技大会"]
[null,"小学生陸上競技記録会ｵﾎｰﾂｸ会場"]
[null,"オホーツク小学生陸上競技記録会"]
[null,"オホーツク陸協　フィールド記録会"]
[null,"第２７回北海道陸上競技フェスティバル　兼　オホーツク陸協混成競技記録会"]
[]
[2,"申込〆切"]
[null,null,null,null,null,null,null,null,null,null,null,null,null,null,null,null,1,2,3,4,5,6,7,8,9,10,11,12]
[null,10,"月",9,"日","（","水","）",18,"：","00",null,null,null,null,null,1,2,3,4,5,6,7,8,9,10,11,12,13,14,15,16,17,18,19,20,21,22,23,24,25,26,27,28,29,30,31]
[null,null,null,null,null,null,null,null,null,null,null,null,null,null,null,null,"月","火","水","木","金","土","日"]
[]
[]
[3,"参加料"]
[]
[null,"混成あり",null,null,null,null,null,null,"混成なし"]
[null,"幼児1種目",null,null,null,null,null,null,"幼児1種目"]
[null,"幼児2種目",null,null,null,null,null,null,"幼児2種目"]
[null,"幼児3種目",null,null,null,null,null,null,"幼児3種目"]
[null,"小学1種目",null,null,null,null,null,null,"小学1種目"]
[null,"小学2種目",null,null,null,null,null,null,"小学2種目"]
[null,"小学3種目",null,null,null,null,null,null,"小学3種目"]
[null,"中学1種目",null,null,800,null,null,null,"中学1種目",null,null,600]
[null,"中学2種目",null,null,1000,null,null,null,"中学2種目",null,null,800]
[null,"中学3種目",null,null,1200,null,null,null,"中学3種目",null,null,1000]
[null,"高校1種目",null,null,1000,null,null,null,"高校1種目",null,null,800]
[null,"高校2種目",null,null,1200,null,null,null,"高校2種目",null,null,1000]
[null,"高校3種目",null,null,1400,null,null,null,"高校3種目",null,null,1200]
[null,"一般1種目",null,null,1500,null,null,null,"一般1種目",null,null,1000]
[null,"一般2種目",null,null,2000,null,null,null,"一般2種目",null,null,1500]
[null,"一般3種目",null,null,2300,null,null,null,"一般3種目",null,null,1800]
[null,"小学リレー",null,null,null,null,null,null,"小学リレー"]
[null,"中学リレー",null,null,800,null,null,null,"中学リレー",null,null,800]
[null,"高校リレー",null,null,1000,null,null,null,"高校リレー",null,null,1000]
[null,"一般リレー",null,null,1500,null,null,null,"一般リレー",null,null,1500]
[]
[3,"申込〆切"]
[]
[null,"幼児",null,"小学",null,"幼児・小学男子",null,null,null,null,null,null,null,null,null,"幼児",null,"小学",null,"幼児・小学女子"]
[]
[null,null,{"$f":"SUM($B$50:B50)","v":0},null,{"$f":"SUM($D$50:D50)","v":0},"幼男60m",null,null,null,null,null,null,null,null,null,null,{"$f":"SUM($P$50:P50)","v":0},null,{"$f":"SUM($R$50:R50)","v":0},"幼女60m"]
[null,null,{"$f":"SUM($B$50:B51)","v":0},null,{"$f":"SUM($D$50:D51)","v":0},"小男2年60m",null,null,null,null,null,null,null,null,null,null,{"$f":"SUM($P$50:P51)","v":0},null,{"$f":"SUM($R$50:R51)","v":0},"小女2年60m"]
[null,null,{"$f":"SUM($B$50:B52)","v":0},null,{"$f":"SUM($D$50:D52)","v":0},"小男1年60m",null,null,null,null,null,null,null,null,null,null,{"$f":"SUM($P$50:P52)","v":0},null,{"$f":"SUM($R$50:R52)","v":0},"小女1年60m"]
[null,null,{"$f":"SUM($B$50:B53)","v":0},null,{"$f":"SUM($D$50:D53)","v":0},"小男100m",null,null,null,null,null,null,null,null,null,null,{"$f":"SUM($P$50:P53)","v":0},null,{"$f":"SUM($R$50:R53)","v":0},"小女100m"]
[null,null,{"$f":"SUM($B$50:B54)","v":0},null,{"$f":"SUM($D$50:D54)","v":0},"小男6年100m",null,null,null,null,null,null,null,null,null,null,{"$f":"SUM($P$50:P54)","v":0},null,{"$f":"SUM($R$50:R54)","v":0},"小女6年100m"]
[null,null,{"$f":"SUM($B$50:B55)","v":0},null,{"$f":"SUM($D$50:D55)","v":0},"小男5年100m",null,null,null,null,null,null,null,null,null,null,{"$f":"SUM($P$50:P55)","v":0},null,{"$f":"SUM($R$50:R55)","v":0},"小女5年100m"]
[null,null,{"$f":"SUM($B$50:B56)","v":0},null,{"$f":"SUM($D$50:D56)","v":0},"小男4年100m",null,null,null,null,null,null,null,null,null,null,{"$f":"SUM($P$50:P56)","v":0},null,{"$f":"SUM($R$50:R56)","v":0},"小女4年100m"]
[null,null,{"$f":"SUM($B$50:B57)","v":0},null,{"$f":"SUM($D$50:D57)","v":0},"小男3年100m",null,null,null,null,null,null,null,null,null,null,{"$f":"SUM($P$50:P57)","v":0},null,{"$f":"SUM($R$50:R57)","v":0},"小女3年100m"]
[null,null,{"$f":"SUM($B$50:B58)","v":0},null,{"$f":"SUM($D$50:D58)","v":0},"小男2年100m",null,null,null,null,null,null,null,null,null,null,{"$f":"SUM($P$50:P58)","v":0},null,{"$f":"SUM($R$50:R58)","v":0},"小女2年100m"]
[null,null,{"$f":"SUM($B$50:B59)","v":0},null,{"$f":"SUM($D$50:D59)","v":0},"小男800m",null,null,null,null,null,null,null,null,null,null,{"$f":"SUM($P$50:P59)","v":0},null,{"$f":"SUM($R$50:R59)","v":0},"小女800m"]
[null,null,{"$f":"SUM($B$50:B60)","v":0},null,{"$f":"SUM($D$50:D60)","v":0},"小男4年800m",null,null,null,null,null,null,null,null,null,null,{"$f":"SUM($P$50:P60)","v":0},null,{"$f":"SUM($R$50:R60)","v":0},"小女6年800m"]
[null,null,{"$f":"SUM($B$50:B61)","v":0},null,{"$f":"SUM($D$50:D61)","v":0},"小男3年800m",null,null,null,null,null,null,null,null,null,null,{"$f":"SUM($P$50:P61)","v":0},null,{"$f":"SUM($R$50:R61)","v":0},"小女5年800m"]
[null,null,{"$f":"SUM($B$50:B62)","v":0},null,{"$f":"SUM($D$50:D62)","v":0},"小男2年800m",null,null,null,null,null,null,null,null,null,null,{"$f":"SUM($P$50:P62)","v":0},null,{"$f":"SUM($R$50:R62)","v":0},"小女4年800m"]
[null,null,{"$f":"SUM($B$50:B63)","v":0},null,{"$f":"SUM($D$50:D63)","v":0},"小男1500m",null,null,null,null,null,null,null,null,null,null,{"$f":"SUM($P$50:P63)","v":0},null,{"$f":"SUM($R$50:R63)","v":0},"小女3年800m"]
[null,null,{"$f":"SUM($B$50:B64)","v":0},null,{"$f":"SUM($D$50:D64)","v":0},"小男6年1500m",null,null,null,null,null,null,null,null,null,null,{"$f":"SUM($P$50:P64)","v":0},null,{"$f":"SUM($R$50:R64)","v":0},"小女2年800m"]
[null,null,{"$f":"SUM($B$50:B65)","v":0},null,{"$f":"SUM($D$50:D65)","v":0},"小男5年1500m",null,null,null,null,null,null,null,null,null,null,{"$f":"SUM($P$50:P65)","v":0},null,{"$f":"SUM($R$50:R65)","v":0},"小女80mH"]
[null,null,{"$f":"SUM($B$50:B66)","v":0},null,{"$f":"SUM($D$50:D66)","v":0},"小男4年1500m",null,null,null,null,null,null,null,null,null,null,{"$f":"SUM($P$50:P66)","v":0},null,{"$f":"SUM($R$50:R66)","v":0},"小女6年80mH"]
[null,null,{"$f":"SUM($B$50:B67)","v":0},null,{"$f":"SUM($D$50:D67)","v":0},"小男5・6年1500m",null,null,null,null,null,null,null,null,null,null,{"$f":"SUM($P$50:P67)","v":0},null,{"$f":"SUM($R$50:R67)","v":0},"小女5年80mH"]
[null,null,{"$f":"SUM($B$50:B68)","v":0},null,{"$f":"SUM($D$50:D68)","v":0},"小男80mH",null,null,null,null,null,null,null,null,null,null,{"$f":"SUM($P$50:P68)","v":0},null,{"$f":"SUM($R$50:R68)","v":0},"小女4年80mH"]
[null,null,{"$f":"SUM($B$50:B69)","v":0},null,{"$f":"SUM($D$50:D69)","v":0},"小男6年80mH",null,null,null,null,null,null,null,null,null,null,{"$f":"SUM($P$50:P69)","v":0},null,{"$f":"SUM($R$50:R69)","v":0},"小女5・6年80mH"]
[null,null,{"$f":"SUM($B$50:B70)","v":0},null,{"$f":"SUM($D$50:D70)","v":0},"小男5年80mH",null,null,null,null,null,null,null,null,null,null,{"$f":"SUM($P$50:P70)","v":0},null,{"$f":"SUM($R$50:R70)","v":0},"小女走高跳"]
[null,null,{"$f":"SUM($B$50:B71)","v":0},null,{"$f":"SUM($D$50:D71)","v":0},"小男4年80mH",null,null,null,null,null,null,null,null,null,null,{"$f":"SUM($P$50:P71)","v":0},null,{"$f":"SUM($R$50:R71)","v":0},"小女6年走高跳"]
[null,null,{"$f":"SUM($B$50:B72)","v":0},null,{"$f":"SUM($D$50:D72)","v":0},"小男5・6年80mH",null,null,null,null,null,null,null,null,null,null,{"$f":"SUM($P$50:P72)","v":0},null,{"$f":"SUM($R$50:R72)","v":0},"小女5年走高跳"]
[null,null,{"$f":"SUM($B$50:B73)","v":0},null,{"$f":"SUM($D$50:D73)","v":0},"小男走高跳",null,null,null,null,null,null,null,null,null,null,{"$f":"SUM($P$50:P73)","v":0},null,{"$f":"SUM($R$50:R73)","v":0},"小女4年走高跳"]
[null,null,{"$f":"SUM($B$50:B74)","v":0},null,{"$f":"SUM($D$50:D74)","v":0},"小男6年走高跳",null,null,null,null,null,null,null,null,null,null,{"$f":"SUM($P$50:P74)","v":0},null,{"$f":"SUM($R$50:R74)","v":0},"小女3年走高跳"]
[null,null,{"$f":"SUM($B$50:B75)","v":0},null,{"$f":"SUM($D$50:D75)","v":0},"小男5年走高跳",null,null,null,null,null,null,null,null,null,null,{"$f":"SUM($P$50:P75)","v":0},null,{"$f":"SUM($R$50:R75)","v":0},"小女走幅跳"]
[null,null,{"$f":"SUM($B$50:B76)","v":0},null,{"$f":"SUM($D$50:D76)","v":0},"小男4年走高跳",null,null,null,null,null,null,null,null,null,null,{"$f":"SUM($P$50:P76)","v":0},null,{"$f":"SUM($R$50:R76)","v":0},"小女6年走幅跳"]
[null,null,{"$f":"SUM($B$50:B77)","v":0},null,{"$f":"SUM($D$50:D77)","v":0},"小男3年走高跳",null,null,null,null,null,null,null,null,null,null,{"$f":"SUM($P$50:P77)","v":0},null,{"$f":"SUM($R$50:R77)","v":0},"小女5年走幅跳"]
[null,null,{"$f":"SUM($B$50:B78)","v":0},null,{"$f":"SUM($D$50:D78)","v":0},"小男走幅跳",null,null,null,null,null,null,null,null,null,null,{"$f":"SUM($P$50:P78)","v":0},null,{"$f":"SUM($R$50:R78)","v":0},"小女4年走幅跳"]
[null,null,{"$f":"SUM($B$50:B79)","v":0},null,{"$f":"SUM($D$50:D79)","v":0},"小男6年走幅跳",null,null,null,null,null,null,null,null,null,null,{"$f":"SUM($P$50:P79)","v":0},null,{"$f":"SUM($R$50:R79)","v":0},"小女3年走幅跳"]
[null,null,{"$f":"SUM($B$50:B80)","v":0},null,{"$f":"SUM($D$50:D80)","v":0},"小男5年走幅跳",null,null,null,null,null,null,null,null,null,null,{"$f":"SUM($P$50:P80)","v":0},null,{"$f":"SUM($R$50:R80)","v":0},"小女砲丸"]
[null,null,{"$f":"SUM($B$50:B81)","v":0},null,{"$f":"SUM($D$50:D81)","v":0},"小男4年走幅跳",null,null,null,null,null,null,null,null,null,null,{"$f":"SUM($P$50:P81)","v":0},null,{"$f":"SUM($R$50:R81)","v":0},"小女6年砲丸"]
[null,null,{"$f":"SUM($B$50:B82)","v":0},null,{"$f":"SUM($D$50:D82)","v":0},"小男3年走幅跳",null,null,null,null,null,null,null,null,null,null,{"$f":"SUM($P$50:P82)","v":0},null,{"$f":"SUM($R$50:R82)","v":0},"小女5年砲丸"]
[null,null,{"$f":"SUM($B$50:B83)","v":0},null,{"$f":"SUM($D$50:D83)","v":0},"小男砲丸",null,null,null,null,null,null,null,null,null,null,{"$f":"SUM($P$50:P83)","v":0},null,{"$f":"SUM($R$50:R83)","v":0},"小女ｼﾞｬﾍﾞﾘｯｸﾎﾞｰﾙｽﾛｰ"]
[null,null,{"$f":"SUM($B$50:B84)","v":0},null,{"$f":"SUM($D$50:D84)","v":0},"小男6年砲丸",null,null,null,null,null,null,null,null,null,null,{"$f":"SUM($P$50:P84)","v":0},null,{"$f":"SUM($R$50:R84)","v":0},"小女6年ｼﾞｬﾍﾞﾘｯｸﾎﾞｰﾙｽﾛｰ"]
[null,null,{"$f":"SUM($B$50:B85)","v":0},null,{"$f":"SUM($D$50:D85)","v":0},"小男5年砲丸",null,null,null,null,null,null,null,null,null,null,{"$f":"SUM($P$50:P85)","v":0},null,{"$f":"SUM($R$50:R85)","v":0},"小女5年ｼﾞｬﾍﾞﾘｯｸﾎﾞｰﾙｽﾛｰ"]
[null,null,{"$f":"SUM($B$50:B86)","v":0},null,{"$f":"SUM($D$50:D86)","v":0},"小男ｼﾞｬﾍﾞﾘｯｸﾎﾞｰﾙｽﾛｰ",null,null,null,null,null,null,null,null,null,null,{"$f":"SUM($P$50:P86)","v":0},null,{"$f":"SUM($R$50:R86)","v":0},"小女4年ｼﾞｬﾍﾞﾘｯｸﾎﾞｰﾙｽﾛｰ"]
[null,null,{"$f":"SUM($B$50:B87)","v":0},null,{"$f":"SUM($D$50:D87)","v":0},"小男6年ｼﾞｬﾍﾞﾘｯｸﾎﾞｰﾙｽﾛｰ",null,null,null,null,null,null,null,null,null,null,{"$f":"SUM($P$50:P87)","v":0},null,{"$f":"SUM($R$50:R87)","v":0},"小女3年ｼﾞｬﾍﾞﾘｯｸﾎﾞｰﾙｽﾛｰ"]
[null,null,{"$f":"SUM($B$50:B88)","v":0},null,{"$f":"SUM($D$50:D88)","v":0},"小男5年ｼﾞｬﾍﾞﾘｯｸﾎﾞｰﾙｽﾛｰ",null,null,null,null,null,null,null,null,null,null,{"$f":"SUM($P$50:P88)","v":0},null,{"$f":"SUM($R$50:R88)","v":0},"小女棒高跳（午前）"]
[null,null,{"$f":"SUM($B$50:B89)","v":0},null,{"$f":"SUM($D$50:D89)","v":0},"小男4年ｼﾞｬﾍﾞﾘｯｸﾎﾞｰﾙｽﾛｰ",null,null,null,null,null,null,null,null,null,null,{"$f":"SUM($P$50:P89)","v":0},null,{"$f":"SUM($R$50:R89)","v":0},"小女棒高跳（午後）"]
[null,null,{"$f":"SUM($B$50:B90)","v":0},null,{"$f":"SUM($D$50:D90)","v":0},"小男3年ｼﾞｬﾍﾞﾘｯｸﾎﾞｰﾙｽﾛｰ",null,null,null,null,null,null,null,null,null,null,{"$f":"SUM($P$50:P90)","v":0},null,{"$f":"SUM($R$50:R90)","v":0}]
[null,null,{"$f":"SUM($B$50:B91)","v":0},null,{"$f":"SUM($D$50:D91)","v":0},"小男棒高跳（午前）",null,null,null,null,null,null,null,null,null,null,{"$f":"SUM($P$50:P91)","v":0},null,{"$f":"SUM($R$50:R91)","v":0}]
[null,null,{"$f":"SUM($B$50:B92)","v":0},null,{"$f":"SUM($D$50:D92)","v":0},"小男棒高跳（午後）",null,null,null,null,null,null,null,null,null,null,{"$f":"SUM($P$50:P92)","v":0},null,{"$f":"SUM($R$50:R92)","v":0}]
[null,null,{"$f":"SUM($B$50:B93)","v":0},null,{"$f":"SUM($D$50:D93)","v":0},null,null,null,null,null,null,null,null,null,null,null,{"$f":"SUM($P$50:P93)","v":0},null,{"$f":"SUM($R$50:R93)","v":0}]
[null,null,{"$f":"SUM($B$50:B94)","v":0},null,{"$f":"SUM($D$50:D94)","v":0},null,null,null,null,null,null,null,null,null,null,null,{"$f":"SUM($P$50:P94)","v":0},null,{"$f":"SUM($R$50:R94)","v":0}]
[null,null,{"$f":"SUM($B$50:B95)","v":0},null,{"$f":"SUM($D$50:D95)","v":0},null,null,null,null,null,null,null,null,null,null,null,{"$f":"SUM($P$50:P95)","v":0},null,{"$f":"SUM($R$50:R95)","v":0}]
[null,null,{"$f":"SUM($B$50:B96)","v":0},null,{"$f":"SUM($D$50:D96)","v":0},null,null,null,null,null,null,null,null,null,null,null,{"$f":"SUM($P$50:P96)","v":0},null,{"$f":"SUM($R$50:R96)","v":0}]
[null,null,{"$f":"SUM($B$50:B97)","v":0},null,{"$f":"SUM($D$50:D97)","v":0},null,null,null,null,null,null,null,null,null,null,null,{"$f":"SUM($P$50:P97)","v":0},null,{"$f":"SUM($R$50:R97)","v":0}]
[null,null,{"$f":"SUM($B$50:B98)","v":0},null,{"$f":"SUM($D$50:D98)","v":0},null,null,null,null,null,null,null,null,null,null,null,{"$f":"SUM($P$50:P98)","v":0},null,{"$f":"SUM($R$50:R98)","v":0}]
[null,null,{"$f":"SUM($B$50:B99)","v":0},null,{"$f":"SUM($D$50:D99)","v":0},null,null,null,null,null,null,null,null,null,null,null,{"$f":"SUM($P$50:P99)","v":0},null,{"$f":"SUM($R$50:R99)","v":0}]
[null,null,{"$f":"SUM($B$50:B100)","v":0},null,{"$f":"SUM($D$50:D100)","v":0},null,null,null,null,null,null,null,null,null,null,null,{"$f":"SUM($P$50:P100)","v":0},null,{"$f":"SUM($R$50:R100)","v":0}]
[null,null,{"$f":"SUM($B$50:B101)","v":0},null,{"$f":"SUM($D$50:D101)","v":0},null,null,null,null,null,null,null,null,null,null,null,{"$f":"SUM($P$50:P101)","v":0},null,{"$f":"SUM($R$50:R101)","v":0}]
[null,null,{"$f":"SUM($B$50:B102)","v":0},null,{"$f":"SUM($D$50:D102)","v":0},null,null,null,null,null,null,null,null,null,null,null,{"$f":"SUM($P$50:P102)","v":0},null,{"$f":"SUM($R$50:R102)","v":0}]
[null,null,{"$f":"SUM($B$50:B103)","v":0},null,{"$f":"SUM($D$50:D103)","v":0},null,null,null,null,null,null,null,null,null,null,null,{"$f":"SUM($P$50:P103)","v":0},null,{"$f":"SUM($R$50:R103)","v":0}]
[null,null,{"$f":"SUM($B$50:B104)","v":0},null,{"$f":"SUM($D$50:D104)","v":0},null,null,null,null,null,null,null,null,null,null,null,{"$f":"SUM($P$50:P104)","v":0},null,{"$f":"SUM($R$50:R104)","v":0}]
[null,null,{"$f":"SUM($B$50:B105)","v":0},null,{"$f":"SUM($D$50:D105)","v":0},null,null,null,null,null,null,null,null,null,null,null,{"$f":"SUM($P$50:P105)","v":0},null,{"$f":"SUM($R$50:R105)","v":0}]
[null,null,{"$f":"SUM($B$50:B106)","v":0},null,{"$f":"SUM($D$50:D106)","v":0},null,null,null,null,null,null,null,null,null,null,null,{"$f":"SUM($P$50:P106)","v":0},null,{"$f":"SUM($R$50:R106)","v":0}]
[null,null,{"$f":"SUM($B$50:B107)","v":0},null,{"$f":"SUM($D$50:D107)","v":0},null,null,null,null,null,null,null,null,null,null,null,{"$f":"SUM($P$50:P107)","v":0},null,{"$f":"SUM($R$50:R107)","v":0}]
[null,null,{"$f":"SUM($B$50:B108)","v":0},null,{"$f":"SUM($D$50:D108)","v":0},null,null,null,null,null,null,null,null,null,null,null,{"$f":"SUM($P$50:P108)","v":0},null,{"$f":"SUM($R$50:R108)","v":0}]
[null,null,{"$f":"SUM($B$50:B109)","v":0},null,{"$f":"SUM($D$50:D109)","v":0},null,null,null,null,null,null,null,null,null,null,null,{"$f":"SUM($P$50:P109)","v":0},null,{"$f":"SUM($R$50:R109)","v":0}]
[null,null,{"$f":"SUM($B$50:B110)","v":0},null,{"$f":"SUM($D$50:D110)","v":0},null,null,null,null,null,null,null,null,null,null,null,{"$f":"SUM($P$50:P110)","v":0},null,{"$f":"SUM($R$50:R110)","v":0}]
[null,null,{"$f":"SUM($B$50:B111)","v":0},null,{"$f":"SUM($D$50:D111)","v":0},null,null,null,null,null,null,null,null,null,null,null,{"$f":"SUM($P$50:P111)","v":0},null,{"$f":"SUM($R$50:R111)","v":0}]
[null,null,{"$f":"SUM($B$50:B112)","v":0},null,{"$f":"SUM($D$50:D112)","v":0},null,null,null,null,null,null,null,null,null,null,null,{"$f":"SUM($P$50:P112)","v":0},null,{"$f":"SUM($R$50:R112)","v":0}]
[null,null,{"$f":"SUM($B$50:B113)","v":0},null,{"$f":"SUM($D$50:D113)","v":0},null,null,null,null,null,null,null,null,null,null,null,{"$f":"SUM($P$50:P113)","v":0},null,{"$f":"SUM($R$50:R113)","v":0}]
[null,null,{"$f":"SUM($B$50:B114)","v":0},null,{"$f":"SUM($D$50:D114)","v":0},null,null,null,null,null,null,null,null,null,null,null,{"$f":"SUM($P$50:P114)","v":0},null,{"$f":"SUM($R$50:R114)","v":0}]
[]
[null,"中学",null,"高校",null,"一般",null,"中学・高校・一般男子",null,null,null,null,null,null,null,null,null,null,"中学",null,"高校",null,"一般",null,"中学・高校・一般女子"]
[]
[null,null,{"$f":"SUM(B$118:B118)","v":0},null,{"$f":"SUM(D$118:D118)","v":0},null,{"$f":"SUM(F$118:F118)","v":0},"共男100m",null,null,null,null,null,null,null,null,null,null,null,{"$f":"SUM(S$118:S118)","v":0},null,{"$f":"SUM(U$118:U118)","v":0},null,{"$f":"SUM(W$118:W118)","v":0},"共女100m"]
[null,null,{"$f":"SUM(B$118:B119)","v":0},null,{"$f":"SUM(D$118:D119)","v":0},null,{"$f":"SUM(F$118:F119)","v":0},"高男100m",null,null,null,null,null,null,null,null,null,null,null,{"$f":"SUM(S$118:S119)","v":0},null,{"$f":"SUM(U$118:U119)","v":0},null,{"$f":"SUM(W$118:W119)","v":0},"高女100m"]
[null,1,{"$f":"SUM(B$118:B120)","v":1},null,{"$f":"SUM(D$118:D120)","v":0},null,{"$f":"SUM(F$118:F120)","v":0},"中男100m",null,null,null,null,null,null,null,null,null,null,1,{"$f":"SUM(S$118:S120)","v":1},null,{"$f":"SUM(U$118:U120)","v":0},null,{"$f":"SUM(W$118:W120)","v":0},"中女100m"]
[null,null,{"$f":"SUM(B$118:B121)","v":1},null,{"$f":"SUM(D$118:D121)","v":0},null,{"$f":"SUM(F$118:F121)","v":0},"中3年男100m",null,null,null,null,null,null,null,null,null,null,null,{"$f":"SUM(S$118:S121)","v":1},null,{"$f":"SUM(U$118:U121)","v":0},null,{"$f":"SUM(W$118:W121)","v":0},"中3年女100m"]
[null,null,{"$f":"SUM(B$118:B122)","v":1},null,{"$f":"SUM(D$118:D122)","v":0},null,{"$f":"SUM(F$118:F122)","v":0},"中2年男100m",null,null,null,null,null,null,null,null,null,null,null,{"$f":"SUM(S$118:S122)","v":1},null,{"$f":"SUM(U$118:U122)","v":0},null,{"$f":"SUM(W$118:W122)","v":0},"中2年女100m"]
[null,null,{"$f":"SUM(B$118:B123)","v":1},null,{"$f":"SUM(D$118:D123)","v":0},null,{"$f":"SUM(F$118:F123)","v":0},"中1年男100m",null,null,null,null,null,null,null,null,null,null,null,{"$f":"SUM(S$118:S123)","v":1},null,{"$f":"SUM(U$118:U123)","v":0},null,{"$f":"SUM(W$118:W123)","v":0},"中1年女100m"]
[null,null,{"$f":"SUM(B$118:B124)","v":1},null,{"$f":"SUM(D$118:D124)","v":0},null,{"$f":"SUM(F$118:F124)","v":0},"中2・3年男100m",null,null,null,null,null,null,null,null,null,null,null,{"$f":"SUM(S$118:S124)","v":1},null,{"$f":"SUM(U$118:U124)","v":0},null,{"$f":"SUM(W$118:W124)","v":0},"中2・3年女100m"]
[null,null,{"$f":"SUM(B$118:B125)","v":1},null,{"$f":"SUM(D$118:D125)","v":0},null,{"$f":"SUM(F$118:F125)","v":0},"共男200m",null,null,null,null,null,null,null,null,null,null,null,{"$f":"SUM(S$118:S125)","v":1},null,{"$f":"SUM(U$118:U125)","v":0},null,{"$f":"SUM(W$118:W125)","v":0},"共女200m"]
[null,null,{"$f":"SUM(B$118:B126)","v":1},null,{"$f":"SUM(D$118:D126)","v":0},null,{"$f":"SUM(F$118:F126)","v":0},"中男200m",null,null,null,null,null,null,null,null,null,null,null,{"$f":"SUM(S$118:S126)","v":1},null,{"$f":"SUM(U$118:U126)","v":0},null,{"$f":"SUM(W$118:W126)","v":0},"中女200m"]
[null,1,{"$f":"SUM(B$118:B127)","v":2},1,{"$f":"SUM(D$118:D127)","v":1},1,{"$f":"SUM(F$118:F127)","v":1},"共男300m",null,null,null,null,null,null,null,null,null,null,1,{"$f":"SUM(S$118:S127)","v":2},1,{"$f":"SUM(U$118:U127)","v":1},1,{"$f":"SUM(W$118:W127)","v":1},"共女300m"]
[null,null,{"$f":"SUM(B$118:B128)","v":2},null,{"$f":"SUM(D$118:D128)","v":1},null,{"$f":"SUM(F$118:F128)","v":1},"共男400m",null,null,null,null,null,null,null,null,null,null,null,{"$f":"SUM(S$118:S128)","v":2},null,{"$f":"SUM(U$118:U128)","v":1},null,{"$f":"SUM(W$118:W128)","v":1},"共女400m"]
[null,null,{"$f":"SUM(B$118:B129)","v":2},null,{"$f":"SUM(D$118:D129)","v":1},null,{"$f":"SUM(F$118:F129)","v":1},"中男400m",null,null,null,null,null,null,null,null,null,null,null,{"$f":"SUM(S$118:S129)","v":2},null,{"$f":"SUM(U$118:U129)","v":1},null,{"$f":"SUM(W$118:W129)","v":1},"中女400m"]
[null,null,{"$f":"SUM(B$118:B130)","v":2},null,{"$f":"SUM(D$118:D130)","v":1},null,{"$f":"SUM(F$118:F130)","v":1},"共男800m",null,null,null,null,null,null,null,null,null,null,null,{"$f":"SUM(S$118:S130)","v":2},null,{"$f":"SUM(U$118:U130)","v":1},null,{"$f":"SUM(W$118:W130)","v":1},"共女800m"]
[null,null,{"$f":"SUM(B$118:B131)","v":2},null,{"$f":"SUM(D$118:D131)","v":1},null,{"$f":"SUM(F$118:F131)","v":1},"中男800m",null,null,null,null,null,null,null,null,null,null,null,{"$f":"SUM(S$118:S131)","v":2},null,{"$f":"SUM(U$118:U131)","v":1},null,{"$f":"SUM(W$118:W131)","v":1},"中女800m"]
[null,1,{"$f":"SUM(B$118:B132)","v":3},1,{"$f":"SUM(D$118:D132)","v":2},1,{"$f":"SUM(F$118:F132)","v":2},"共男1000m",null,null,null,null,null,null,null,null,null,null,1,{"$f":"SUM(S$118:S132)","v":3},1,{"$f":"SUM(U$118:U132)","v":2},1,{"$f":"SUM(W$118:W132)","v":2},"共女1000m"]
[null,null,{"$f":"SUM(B$118:B133)","v":3},null,{"$f":"SUM(D$118:D133)","v":2},null,{"$f":"SUM(F$118:F133)","v":2},"共男1500m",null,null,null,null,null,null,null,null,null,null,null,{"$f":"SUM(S$118:S133)","v":3},null,{"$f":"SUM(U$118:U133)","v":2},null,{"$f":"SUM(W$118:W133)","v":2},"共女1500m"]
[null,null,{"$f":"SUM(B$118:B134)","v":3},null,{"$f":"SUM(D$118:D134)","v":2},null,{"$f":"SUM(F$118:F134)","v":2},"中男1500m",null,null,null,null,null,null,null,null,null,null,null,{"$f":"SUM(S$118:S134)","v":3},null,{"$f":"SUM(U$118:U134)","v":2},null,{"$f":"SUM(W$118:W134)","v":2},"中女1500m"]
[null,null,{"$f":"SUM(B$118:B135)","v":3},null,{"$f":"SUM(D$118:D135)","v":2},null,{"$f":"SUM(F$118:F135)","v":2},"中2年男1500m",null,null,null,null,null,null,null,null,null,null,null,{"$f":"SUM(S$118:S135)","v":3},null,{"$f":"SUM(U$118:U135)","v":2},null,{"$f":"SUM(W$118:W135)","v":2},"共女3000m"]
[null,null,{"$f":"SUM(B$118:B136)","v":3},null,{"$f":"SUM(D$118:D136)","v":2},null,{"$f":"SUM(F$118:F136)","v":2},"中1年男1500m",null,null,null,null,null,null,null,null,null,null,null,{"$f":"SUM(S$118:S136)","v":3},null,{"$f":"SUM(U$118:U136)","v":2},null,{"$f":"SUM(W$118:W136)","v":2},"中女3000m"]
[null,null,{"$f":"SUM(B$118:B137)","v":3},null,{"$f":"SUM(D$118:D137)","v":2},null,{"$f":"SUM(F$118:F137)","v":2},"中2・3年男1500m",null,null,null,null,null,null,null,null,null,null,null,{"$f":"SUM(S$118:S137)","v":3},null,{"$f":"SUM(U$118:U137)","v":2},null,{"$f":"SUM(W$118:W137)","v":2},"中女80mH"]
[null,null,{"$f":"SUM(B$118:B138)","v":3},null,{"$f":"SUM(D$118:D138)","v":2},null,{"$f":"SUM(F$118:F138)","v":2},"共男3000m",null,null,null,null,null,null,null,null,null,null,null,{"$f":"SUM(S$118:S138)","v":3},null,{"$f":"SUM(U$118:U138)","v":2},null,{"$f":"SUM(W$118:W138)","v":2},"共女100mH"]
[null,null,{"$f":"SUM(B$118:B139)","v":3},null,{"$f":"SUM(D$118:D139)","v":2},null,{"$f":"SUM(F$118:F139)","v":2},"中男3000m",null,null,null,null,null,null,null,null,null,null,null,{"$f":"SUM(S$118:S139)","v":3},null,{"$f":"SUM(U$118:U139)","v":2},null,{"$f":"SUM(W$118:W139)","v":2},"高女100mH"]
[null,null,{"$f":"SUM(B$118:B140)","v":3},null,{"$f":"SUM(D$118:D140)","v":2},null,{"$f":"SUM(F$118:F140)","v":2},"共男5000m",null,null,null,null,null,null,null,null,null,null,null,{"$f":"SUM(S$118:S140)","v":3},null,{"$f":"SUM(U$118:U140)","v":2},null,{"$f":"SUM(W$118:W140)","v":2},"中女100mH"]
[null,null,{"$f":"SUM(B$118:B141)","v":3},null,{"$f":"SUM(D$118:D141)","v":2},null,{"$f":"SUM(F$118:F141)","v":2},"共男110mH",null,null,null,null,null,null,null,null,null,null,null,{"$f":"SUM(S$118:S141)","v":3},null,{"$f":"SUM(U$118:U141)","v":2},null,{"$f":"SUM(W$118:W141)","v":2},"共女100mYH"]
[null,null,{"$f":"SUM(B$118:B142)","v":3},null,{"$f":"SUM(D$118:D142)","v":2},null,{"$f":"SUM(F$118:F142)","v":2},"高男110mH",null,null,null,null,null,null,null,null,null,null,1,{"$f":"SUM(S$118:S142)","v":4},1,{"$f":"SUM(U$118:U142)","v":3},1,{"$f":"SUM(W$118:W142)","v":3},"共女400mH"]
[null,null,{"$f":"SUM(B$118:B143)","v":3},null,{"$f":"SUM(D$118:D143)","v":2},null,{"$f":"SUM(F$118:F143)","v":2},"中男110mH",null,null,null,null,null,null,null,null,null,null,null,{"$f":"SUM(S$118:S143)","v":4},null,{"$f":"SUM(U$118:U143)","v":3},null,{"$f":"SUM(W$118:W143)","v":3},"高女400mH"]
[null,null,{"$f":"SUM(B$118:B144)","v":3},null,{"$f":"SUM(D$118:D144)","v":2},null,{"$f":"SUM(F$118:F144)","v":2},"中男100mH",null,null,null,null,null,null,null,null,null,null,null,{"$f":"SUM(S$118:S144)","v":4},null,{"$f":"SUM(U$118:U144)","v":3},null,{"$f":"SUM(W$118:W144)","v":3},"共女5000mW"]
[null,null,{"$f":"SUM(B$118:B145)","v":3},null,{"$f":"SUM(D$118:D145)","v":2},null,{"$f":"SUM(F$118:F145)","v":2},"共男110mJH",null,null,null,null,null,null,null,null,null,null,null,{"$f":"SUM(S$118:S145)","v":4},null,{"$f":"SUM(U$118:U145)","v":3},null,{"$f":"SUM(W$118:W145)","v":3},"共女走高跳"]
[null,1,{"$f":"SUM(B$118:B146)","v":4},1,{"$f":"SUM(D$118:D146)","v":3},1,{"$f":"SUM(F$118:F146)","v":3},"共男400mH",null,null,null,null,null,null,null,null,null,null,null,{"$f":"SUM(S$118:S146)","v":4},null,{"$f":"SUM(U$118:U146)","v":3},null,{"$f":"SUM(W$118:W146)","v":3},"高女走高跳"]
[null,null,{"$f":"SUM(B$118:B147)","v":4},null,{"$f":"SUM(D$118:D147)","v":3},null,{"$f":"SUM(F$118:F147)","v":3},"高男400mH",null,null,null,null,null,null,null,null,null,null,null,{"$f":"SUM(S$118:S147)","v":4},null,{"$f":"SUM(U$118:U147)","v":3},null,{"$f":"SUM(W$118:W147)","v":3},"中女走高跳"]
[null,null,{"$f":"SUM(B$118:B148)","v":4},null,{"$f":"SUM(D$118:D148)","v":3},null,{"$f":"SUM(F$118:F148)","v":3},"共男3000mSC",null,null,null,null,null,null,null,null,null,null,1,{"$f":"SUM(S$118:S148)","v":5},1,{"$f":"SUM(U$118:U148)","v":4},1,{"$f":"SUM(W$118:W148)","v":4},"共女棒高跳（19日）"]
[null,null,{"$f":"SUM(B$118:B149)","v":4},null,{"$f":"SUM(D$118:D149)","v":3},null,{"$f":"SUM(F$118:F149)","v":3},"共男5000mW",null,null,null,null,null,null,null,null,null,null,1,{"$f":"SUM(S$118:S149)","v":6},1,{"$f":"SUM(U$118:U149)","v":5},1,{"$f":"SUM(W$118:W149)","v":5},"共女棒高跳（20日）"]
[null,null,{"$f":"SUM(B$118:B150)","v":4},null,{"$f":"SUM(D$118:D150)","v":3},null,{"$f":"SUM(F$118:F150)","v":3},"共男走高跳",null,null,null,null,null,null,null,null,null,null,null,{"$f":"SUM(S$118:S149)","v":6},null,{"$f":"SUM(U$118:U150)","v":5},null,{"$f":"SUM(W$118:W150)","v":5},"高女棒高跳"]
[null,null,{"$f":"SUM(B$118:B151)","v":4},null,{"$f":"SUM(D$118:D151)","v":3},null,{"$f":"SUM(F$118:F151)","v":3},"高男走高跳",null,null,null,null,null,null,null,null,null,null,null,{"$f":"SUM(S$118:S150)","v":6},null,{"$f":"SUM(U$118:U151)","v":5},null,{"$f":"SUM(W$118:W151)","v":5},"中女棒高跳"]
[null,null,{"$f":"SUM(B$118:B152)","v":4},null,{"$f":"SUM(D$118:D152)","v":3},null,{"$f":"SUM(F$118:F152)","v":3},"中男走高跳",null,null,null,null,null,null,null,null,null,null,null,{"$f":"SUM(S$118:S151)","v":6},null,{"$f":"SUM(U$118:U152)","v":5},null,{"$f":"SUM(W$118:W152)","v":5},"共女走幅跳"]
[null,1,{"$f":"SUM(B$118:B153)","v":5},1,{"$f":"SUM(D$118:D153)","v":4},1,{"$f":"SUM(F$118:F153)","v":4},"共男棒高跳（19日）",null,null,null,null,null,null,null,null,null,null,null,{"$f":"SUM(S$118:S152)","v":6},null,{"$f":"SUM(U$118:U153)","v":5},null,{"$f":"SUM(W$118:W153)","v":5},"高女走幅跳"]
[null,1,{"$f":"SUM(B$118:B154)","v":6},1,{"$f":"SUM(D$118:D154)","v":5},1,{"$f":"SUM(F$118:F154)","v":5},"共男棒高跳（20日）",null,null,null,null,null,null,null,null,null,null,null,{"$f":"SUM(S$118:S153)","v":6},null,{"$f":"SUM(U$118:U154)","v":5},null,{"$f":"SUM(W$118:W154)","v":5},"中女走幅跳"]
[null,null,{"$f":"SUM(B$118:B155)","v":6},null,{"$f":"SUM(D$118:D155)","v":5},null,{"$f":"SUM(F$118:F155)","v":5},"高男棒高跳",null,null,null,null,null,null,null,null,null,null,1,{"$f":"SUM(S$118:S155)","v":7},1,{"$f":"SUM(U$118:U155)","v":6},1,{"$f":"SUM(W$118:W155)","v":6},"共女三段跳（19日）"]
[null,null,{"$f":"SUM(B$118:B156)","v":6},null,{"$f":"SUM(D$118:D156)","v":5},null,{"$f":"SUM(F$118:F156)","v":5},"中男棒高跳",null,null,null,null,null,null,null,null,null,null,1,{"$f":"SUM(S$118:S156)","v":8},1,{"$f":"SUM(U$118:U156)","v":7},1,{"$f":"SUM(W$118:W156)","v":7},"共女三段跳（20日）"]
[null,null,{"$f":"SUM(B$118:B157)","v":6},null,{"$f":"SUM(D$118:D157)","v":5},null,{"$f":"SUM(F$118:F157)","v":5},"共男走幅跳",null,null,null,null,null,null,null,null,null,null,null,{"$f":"SUM(S$118:S156)","v":8},null,{"$f":"SUM(U$118:U157)","v":7},null,{"$f":"SUM(W$118:W157)","v":7},"高女三段跳"]
[null,null,{"$f":"SUM(B$118:B158)","v":6},null,{"$f":"SUM(D$118:D158)","v":5},null,{"$f":"SUM(F$118:F158)","v":5},"高男走幅跳",null,null,null,null,null,null,null,null,null,null,null,{"$f":"SUM(S$118:S157)","v":8},null,{"$f":"SUM(U$118:U158)","v":7},null,{"$f":"SUM(W$118:W158)","v":7},"共女砲丸"]
[null,null,{"$f":"SUM(B$118:B159)","v":6},null,{"$f":"SUM(D$118:D159)","v":5},null,{"$f":"SUM(F$118:F159)","v":5},"中男走幅跳",null,null,null,null,null,null,null,null,null,null,null,{"$f":"SUM(S$118:S158)","v":8},null,{"$f":"SUM(U$118:U159)","v":7},null,{"$f":"SUM(W$118:W159)","v":7},"高女砲丸"]
[null,1,{"$f":"SUM(B$118:B160)","v":7},1,{"$f":"SUM(D$118:D160)","v":6},1,{"$f":"SUM(F$118:F160)","v":6},"共男三段跳（19日）",null,null,null,null,null,null,null,null,null,null,null,{"$f":"SUM(S$118:S159)","v":8},null,{"$f":"SUM(U$118:U160)","v":7},null,{"$f":"SUM(W$118:W160)","v":7},"中女砲丸"]
[null,1,{"$f":"SUM(B$118:B161)","v":8},1,{"$f":"SUM(D$118:D161)","v":7},1,{"$f":"SUM(F$118:F161)","v":7},"共男三段跳（20日）",null,null,null,null,null,null,null,null,null,null,null,{"$f":"SUM(S$118:S160)","v":8},1,{"$f":"SUM(U$118:U161)","v":8},1,{"$f":"SUM(W$118:W161)","v":8},"共女円盤（19日）"]
[null,null,{"$f":"SUM(B$118:B162)","v":8},null,{"$f":"SUM(D$118:D162)","v":7},null,{"$f":"SUM(F$118:F162)","v":7},"高男三段跳",null,null,null,null,null,null,null,null,null,null,null,{"$f":"SUM(S$118:S162)","v":8},1,{"$f":"SUM(U$118:U162)","v":9},1,{"$f":"SUM(W$118:W162)","v":9},"共女円盤（20日）"]
[null,null,{"$f":"SUM(B$118:B163)","v":8},null,{"$f":"SUM(D$118:D163)","v":7},null,{"$f":"SUM(F$118:F163)","v":7},"一般男砲丸",null,null,null,null,null,null,null,null,null,null,1,{"$f":"SUM(S$118:S163)","v":9},null,{"$f":"SUM(U$118:U163)","v":9},null,{"$f":"SUM(W$118:W163)","v":9},"中女円盤（19日）"]
[null,null,{"$f":"SUM(B$118:B164)","v":8},null,{"$f":"SUM(D$118:D164)","v":7},null,{"$f":"SUM(F$118:F164)","v":7},"高校男砲丸",null,null,null,null,null,null,null,null,null,null,1,{"$f":"SUM(S$118:S164)","v":10},null,{"$f":"SUM(U$118:U164)","v":9},null,{"$f":"SUM(W$118:W164)","v":9},"中女円盤（20日）"]
[null,null,{"$f":"SUM(B$118:B165)","v":8},null,{"$f":"SUM(D$118:D165)","v":7},null,{"$f":"SUM(F$118:F165)","v":7},"中男砲丸",null,null,null,null,null,null,null,null,null,null,null,{"$f":"SUM(S$118:S165)","v":10},null,{"$f":"SUM(U$118:U165)","v":9},null,{"$f":"SUM(W$118:W165)","v":9},"共女ハンマー"]
[null,null,{"$f":"SUM(B$118:B166)","v":8},null,{"$f":"SUM(D$118:D166)","v":7},null,{"$f":"SUM(F$118:F166)","v":7},"中1年男砲丸",null,null,null,null,null,null,null,null,null,null,null,{"$f":"SUM(S$118:S166)","v":10},null,{"$f":"SUM(U$118:U166)","v":9},null,{"$f":"SUM(W$118:W166)","v":9},"高女ハンマー"]
[null,null,{"$f":"SUM(B$118:B167)","v":8},null,{"$f":"SUM(D$118:D167)","v":7},1,{"$f":"SUM(F$118:F167)","v":8},"一般男円盤（19日）",null,null,null,null,null,null,null,null,null,null,null,{"$f":"SUM(S$118:S167)","v":10},null,{"$f":"SUM(U$118:U167)","v":9},null,{"$f":"SUM(W$118:W167)","v":9},"共女やり"]
[null,null,{"$f":"SUM(B$118:B168)","v":8},null,{"$f":"SUM(D$118:D168)","v":7},1,{"$f":"SUM(F$118:F168)","v":9},"一般男円盤（20日）",null,null,null,null,null,null,null,null,null,null,null,{"$f":"SUM(S$118:S168)","v":10},null,{"$f":"SUM(U$118:U168)","v":9},null,{"$f":"SUM(W$118:W168)","v":9},"高女やり"]
[null,null,{"$f":"SUM(B$118:B169)","v":8},1,{"$f":"SUM(D$118:D169)","v":8},null,{"$f":"SUM(F$118:F169)","v":9},"高校男円盤（19日）",null,null,null,null,null,null,null,null,null,null,1,{"$f":"SUM(S$118:S169)","v":11},null,{"$f":"SUM(U$118:U169)","v":9},null,{"$f":"SUM(W$118:W169)","v":9},"中女ｼﾞｬﾍﾞﾘｯｸ（19日）"]
[null,null,{"$f":"SUM(B$118:B170)","v":8},1,{"$f":"SUM(D$118:D170)","v":9},null,{"$f":"SUM(F$118:F170)","v":9},"高校男円盤（20日）",null,null,null,null,null,null,null,null,null,null,1,{"$f":"SUM(S$118:S170)","v":12},null,{"$f":"SUM(U$118:U170)","v":9},null,{"$f":"SUM(W$118:W170)","v":9},"中女ｼﾞｬﾍﾞﾘｯｸ（20日）"]
[null,1,{"$f":"SUM(B$118:B171)","v":9},null,{"$f":"SUM(D$118:D171)","v":9},null,{"$f":"SUM(F$118:F171)","v":9},"中男円盤（19日）",null,null,null,null,null,null,null,null,null,null,null,{"$f":"SUM(S$118:S171)","v":12},null,{"$f":"SUM(U$118:U171)","v":9},null,{"$f":"SUM(W$118:W171)","v":9},"高女七種競技"]
[null,1,{"$f":"SUM(B$118:B172)","v":10},null,{"$f":"SUM(D$118:D172)","v":9},null,{"$f":"SUM(F$118:F172)","v":9},"中男円盤（20日）",null,null,null,null,null,null,null,null,null,null,null,{"$f":"SUM(S$118:S172)","v":12},1,{"$f":"SUM(U$118:U172)","v":10},1,{"$f":"SUM(W$118:W172)","v":10},"女子七種競技"]
[null,null,{"$f":"SUM(B$118:B173)","v":10},null,{"$f":"SUM(D$118:D173)","v":9},1,{"$f":"SUM(F$118:F173)","v":10},"一般男ハンマー（19日）",null,null,null,null,null,null,null,null,null,null,1,{"$f":"SUM(S$118:S173)","v":13},null,{"$f":"SUM(U$118:U173)","v":10},null,{"$f":"SUM(W$118:W173)","v":10},"中女四種競技"]
[null,null,{"$f":"SUM(B$118:B174)","v":10},null,{"$f":"SUM(D$118:D174)","v":9},1,{"$f":"SUM(F$118:F174)","v":11},"一般男ハンマー（20日）",null,null,null,null,null,null,null,null,null,null,null,{"$f":"SUM(S$118:S174)","v":13},null,{"$f":"SUM(U$118:U174)","v":10},null,{"$f":"SUM(W$118:W174)","v":10}]
[null,null,{"$f":"SUM(B$118:B175)","v":10},1,{"$f":"SUM(D$118:D175)","v":10},null,{"$f":"SUM(F$118:F175)","v":11},"高校男ハンマー（19日）",null,null,null,null,null,null,null,null,null,null,null,{"$f":"SUM(S$118:S175)","v":13},null,{"$f":"SUM(U$118:U175)","v":10},null,{"$f":"SUM(W$118:W175)","v":10}]
[null,null,{"$f":"SUM(B$118:B176)","v":10},1,{"$f":"SUM(D$118:D176)","v":11},null,{"$f":"SUM(F$118:F176)","v":11},"高校男ハンマー（20日）",null,null,null,null,null,null,null,null,null,null,null,{"$f":"SUM(S$118:S176)","v":13},null,{"$f":"SUM(U$118:U176)","v":10},null,{"$f":"SUM(W$118:W176)","v":10}]
[null,null,{"$f":"SUM(B$118:B177)","v":10},null,{"$f":"SUM(D$118:D177)","v":11},null,{"$f":"SUM(F$118:F177)","v":11},"共男やり",null,null,null,null,null,null,null,null,null,null,null,{"$f":"SUM(S$118:S177)","v":13},null,{"$f":"SUM(U$118:U177)","v":10},null,{"$f":"SUM(W$118:W177)","v":10},null,null,null,null,null,null,null,null,null,null,null,null,null,null,"八種競技"]
[null,null,{"$f":"SUM(B$118:B178)","v":10},null,{"$f":"SUM(D$118:D178)","v":11},null,{"$f":"SUM(F$118:F178)","v":11},"高男やり",null,null,null,null,null,null,null,null,null,null,null,{"$f":"SUM(S$118:S178)","v":13},null,{"$f":"SUM(U$118:U178)","v":10},null,{"$f":"SUM(W$118:W178)","v":10},null,null,null,null,null,null,null,null,null,null,null,null,null,null,"中男四種競技"]
[null,1,{"$f":"SUM(B$118:B179)","v":11},null,{"$f":"SUM(D$118:D179)","v":11},null,{"$f":"SUM(F$118:F179)","v":11},"中男ｼﾞｬﾍﾞﾘｯｸ（19日）",null,null,null,null,null,null,null,null,null,null,null,{"$f":"SUM(S$118:S179)","v":13},null,{"$f":"SUM(U$118:U179)","v":10},null,{"$f":"SUM(W$118:W179)","v":10},null,null,null,null,null,null,null,null,null,null,null,null,null,null,"七種競技"]
[null,1,{"$f":"SUM(B$118:B180)","v":12},null,{"$f":"SUM(D$118:D180)","v":11},null,{"$f":"SUM(F$118:F180)","v":11},"中男ｼﾞｬﾍﾞﾘｯｸ（20日）",null,null,null,null,null,null,null,null,null,null,null,{"$f":"SUM(S$118:S180)","v":13},null,{"$f":"SUM(U$118:U180)","v":10},null,{"$f":"SUM(W$118:W180)","v":10},null,null,null,null,null,null,null,null,null,null,null,null,null,null,"中女四種競技"]
[null,null,{"$f":"SUM(B$118:B181)","v":12},null,{"$f":"SUM(D$118:D181)","v":11},null,{"$f":"SUM(F$118:F181)","v":11},"一般男十種競技",null,null,null,null,null,null,null,null,null,null,null,{"$f":"SUM(S$118:S181)","v":13},null,{"$f":"SUM(U$118:U181)","v":10},null,{"$f":"SUM(W$118:W181)","v":10}]
[null,null,{"$f":"SUM(B$118:B182)","v":12},null,{"$f":"SUM(D$118:D182)","v":11},null,{"$f":"SUM(F$118:F182)","v":11},"高校男八種競技",null,null,null,null,null,null,null,null,null,null,null,{"$f":"SUM(S$118:S182)","v":13},null,{"$f":"SUM(U$118:U182)","v":10},null,{"$f":"SUM(W$118:W182)","v":10}]
[null,null,{"$f":"SUM(B$118:B183)","v":12},1,{"$f":"SUM(D$118:D183)","v":12},1,{"$f":"SUM(F$118:F183)","v":12},"男子八種競技",null,null,null,null,null,null,null,null,null,null,null,{"$f":"SUM(S$118:S183)","v":13},null,{"$f":"SUM(U$118:U183)","v":10},null,{"$f":"SUM(W$118:W183)","v":10}]
[null,1,{"$f":"SUM(B$118:B184)","v":13},null,{"$f":"SUM(D$118:D184)","v":12},null,{"$f":"SUM(F$118:F184)","v":12},"中男四種競技",null,null,null,null,null,null,null,null,null,null,null,{"$f":"SUM(S$118:S184)","v":13},null,{"$f":"SUM(U$118:U184)","v":10},null,{"$f":"SUM(W$118:W184)","v":10}]
[null,null,{"$f":"SUM(B$118:B185)","v":13},null,{"$f":"SUM(D$118:D185)","v":12},null,{"$f":"SUM(F$118:F185)","v":12},null,null,null,null,null,null,null,null,null,null,null,null,{"$f":"SUM(S$118:S185)","v":13},null,{"$f":"SUM(U$118:U185)","v":10},null,{"$f":"SUM(W$118:W185)","v":10}]
[null,null,{"$f":"SUM(B$118:B186)","v":13},null,{"$f":"SUM(D$118:D186)","v":12},null,{"$f":"SUM(F$118:F186)","v":12},null,null,null,null,null,null,null,null,null,null,null,null,{"$f":"SUM(S$118:S186)","v":13},null,{"$f":"SUM(U$118:U186)","v":10},null,{"$f":"SUM(W$118:W186)","v":10}]
[null,null,{"$f":"SUM(B$118:B187)","v":13},null,{"$f":"SUM(D$118:D187)","v":12},null,{"$f":"SUM(F$118:F187)","v":12},null,null,null,null,null,null,null,null,null,null,null,null,{"$f":"SUM(S$118:S187)","v":13},null,{"$f":"SUM(U$118:U187)","v":10},null,{"$f":"SUM(W$118:W187)","v":10}]
[null,null,{"$f":"SUM(B$118:B188)","v":13},null,{"$f":"SUM(D$118:D188)","v":12},null,{"$f":"SUM(F$118:F188)","v":12},null,null,null,null,null,null,null,null,null,null,null,null,{"$f":"SUM(S$118:S188)","v":13},null,{"$f":"SUM(U$118:U188)","v":10},null,{"$f":"SUM(W$118:W188)","v":10}]
[null,null,{"$f":"SUM(B$118:B189)","v":13},null,{"$f":"SUM(D$118:D189)","v":12},null,{"$f":"SUM(F$118:F189)","v":12},null,null,null,null,null,null,null,null,null,null,null,null,{"$f":"SUM(S$118:S189)","v":13},null,{"$f":"SUM(U$118:U189)","v":10},null,{"$f":"SUM(W$118:W189)","v":10}]
[null,null,{"$f":"SUM(B$118:B190)","v":13},null,{"$f":"SUM(D$118:D190)","v":12},null,{"$f":"SUM(F$118:F190)","v":12},null,null,null,null,null,null,null,null,null,null,null,null,{"$f":"SUM(S$118:S190)","v":13},null,{"$f":"SUM(U$118:U190)","v":10},null,{"$f":"SUM(W$118:W190)","v":10}]
[null,null,{"$f":"SUM(B$118:B191)","v":13},null,{"$f":"SUM(D$118:D191)","v":12},null,{"$f":"SUM(F$118:F191)","v":12},null,null,null,null,null,null,null,null,null,null,null,null,{"$f":"SUM(S$118:S191)","v":13},null,{"$f":"SUM(U$118:U191)","v":10},null,{"$f":"SUM(W$118:W191)","v":10}]
[null,null,{"$f":"SUM(B$118:B192)","v":13},null,{"$f":"SUM(D$118:D192)","v":12},null,{"$f":"SUM(F$118:F192)","v":12},null,null,null,null,null,null,null,null,null,null,null,null,{"$f":"SUM(S$118:S192)","v":13},null,{"$f":"SUM(U$118:U192)","v":10},null,{"$f":"SUM(W$118:W192)","v":10}]
[null,null,{"$f":"SUM(B$118:B193)","v":13},null,{"$f":"SUM(D$118:D193)","v":12},null,{"$f":"SUM(F$118:F193)","v":12},null,null,null,null,null,null,null,null,null,null,null,null,{"$f":"SUM(S$118:S193)","v":13},null,{"$f":"SUM(U$118:U193)","v":10},null,{"$f":"SUM(W$118:W193)","v":10}]
[null,null,{"$f":"SUM(B$118:B194)","v":13},null,{"$f":"SUM(D$118:D194)","v":12},null,{"$f":"SUM(F$118:F194)","v":12},null,null,null,null,null,null,null,null,null,null,null,null,{"$f":"SUM(S$118:S194)","v":13},null,{"$f":"SUM(U$118:U194)","v":10},null,{"$f":"SUM(W$118:W194)","v":10}]
[null,null,{"$f":"SUM(B$118:B195)","v":13},null,{"$f":"SUM(D$118:D195)","v":12},null,{"$f":"SUM(F$118:F195)","v":12},null,null,null,null,null,null,null,null,null,null,null,null,{"$f":"SUM(S$118:S195)","v":13},null,{"$f":"SUM(U$118:U195)","v":10},null,{"$f":"SUM(W$118:W195)","v":10}]
[null,null,{"$f":"SUM(B$118:B196)","v":13},null,{"$f":"SUM(D$118:D196)","v":12},null,{"$f":"SUM(F$118:F196)","v":12},null,null,null,null,null,null,null,null,null,null,null,null,{"$f":"SUM(S$118:S196)","v":13},null,{"$f":"SUM(U$118:U196)","v":10},null,{"$f":"SUM(W$118:W196)","v":10}]
[null,null,{"$f":"SUM(B$118:B197)","v":13},null,{"$f":"SUM(D$118:D197)","v":12},null,{"$f":"SUM(F$118:F197)","v":12},null,null,null,null,null,null,null,null,null,null,null,null,{"$f":"SUM(S$118:S197)","v":13},null,{"$f":"SUM(U$118:U197)","v":10},null,{"$f":"SUM(W$118:W197)","v":10}]
[null,null,{"$f":"SUM(B$118:B198)","v":13},null,{"$f":"SUM(D$118:D198)","v":12},null,{"$f":"SUM(F$118:F198)","v":12},null,null,null,null,null,null,null,null,null,null,null,null,{"$f":"SUM(S$118:S198)","v":13},null,{"$f":"SUM(U$118:U198)","v":10},null,{"$f":"SUM(W$118:W198)","v":10}]
[null,null,{"$f":"SUM(B$118:B199)","v":13},null,{"$f":"SUM(D$118:D199)","v":12},null,{"$f":"SUM(F$118:F199)","v":12},null,null,null,null,null,null,null,null,null,null,null,null,{"$f":"SUM(S$118:S199)","v":13},null,{"$f":"SUM(U$118:U199)","v":10},null,{"$f":"SUM(W$118:W199)","v":10}]
[null,null,{"$f":"SUM(B$118:B200)","v":13},null,{"$f":"SUM(D$118:D200)","v":12},null,{"$f":"SUM(F$118:F200)","v":12},null,null,null,null,null,null,null,null,null,null,null,null,{"$f":"SUM(S$118:S200)","v":13},null,{"$f":"SUM(U$118:U200)","v":10},null,{"$f":"SUM(W$118:W200)","v":10}]
[null,null,{"$f":"SUM(B$118:B201)","v":13},null,{"$f":"SUM(D$118:D201)","v":12},null,{"$f":"SUM(F$118:F201)","v":12},null,null,null,null,null,null,null,null,null,null,null,null,{"$f":"SUM(S$118:S201)","v":13},null,{"$f":"SUM(U$118:U201)","v":10},null,{"$f":"SUM(W$118:W201)","v":10}]
[null,null,{"$f":"SUM(B$118:B202)","v":13},null,{"$f":"SUM(D$118:D202)","v":12},null,{"$f":"SUM(F$118:F202)","v":12},null,null,null,null,null,null,null,null,null,null,null,null,{"$f":"SUM(S$118:S202)","v":13},null,{"$f":"SUM(U$118:U202)","v":10},null,{"$f":"SUM(W$118:W202)","v":10}]
[null,null,{"$f":"SUM(B$118:B203)","v":13},null,{"$f":"SUM(D$118:D203)","v":12},null,{"$f":"SUM(F$118:F203)","v":12}]