{"text_format":"1","workbook":"xlsx","n_sheets":5,"sheets":["大会規定","大会要項","学校申込用紙（８月１日　まで）","参加申込用紙（９月２日　まで）","事務局シート"],"not_rendered":{"charts":0,"images":0,"macros":0,"external_links":0,"defined_names":18,"comments":0,"pivot_tables":0},"unopened":[],"bounds":{"document_bytes":16777216,"sheet_cells":100000,"rows_first":2000,"rows_last":500,"rows_between":2000,"halvings":0,"cell_chars":16384,"cell_head_chars":4096},"cells_cut":0,"cells_raw":0,"read":"whole","date_system":"1900"}

{"sheet":"大会規定","index":0,"n_rows":43,"n_cols":6,"rows_kept":43,"cut":false,"hidden":false,"merged":[[5,1,5,3],[5,5,5,10],[0,0,0,16],[1,0,1,4],[2,1,2,16],[3,1,3,16],[6,1,6,3],[6,5,6,10],[7,1,7,3],[7,5,7,10],[8,1,8,3],[8,5,8,10],[20,0,20,4],[9,0,9,4],[10,1,10,3],[10,5,10,9],[11,1,11,3],[11,5,11,9],[12,5,12,9],[13,0,13,4],[14,1,14,8],[16,0,16,4],[17,1,17,16],[15,1,15,13],[31,1,31,16],[21,1,21,16],[22,1,22,16],[23,1,23,16],[24,0,25,0],[24,1,24,16],[25,1,25,16],[26,1,26,16],[27,1,27,16],[28,1,28,16],[29,1,29,16],[30,1,30,16],[40,0,42,0],[40,1,40,16],[41,1,41,16],[42,1,42,16],[32,0,32,4],[36,0,37,0],[36,1,36,16],[37,1,37,16],[38,1,38,16],[39,1,39,16]]}
["　　駅伝競走の部　　  『令和元度　オホーツク中学校体育大会規定』"]
["１　日　　程"]
[null,"１日間（原則として、９月第１週の金曜日とする。）"]
[null,"今年度は、９月６日（金）　北見東陵公園陸上競技場・特設周回コース"]
[null,"災害警報、悪天候等の場合は、主催者が判断し、競技日程を短縮または中止する等の変更もある。"]
[null,"●　開　会　式",null,null,"：","08:30:00"]
[null,"●　男　子　出　発",null,null,"：","09:30:00"]
[null,"●　女　子　出　発",null,null,"：","11:00:00"]
[null,"●　閉　会　式",null,null,"：","13時00分（予定）"]
["２　監督及び選手"]
[null,"●　監　督・コーチ",null,null,"：","各１名"]
[null,"●　選　手",null,null,"：","男子　６名・補欠２名"]
[null,null,null,null,"：","女子　５名・補欠３名"]
["３　競技方法　　"]
[null,"・男子の部、女子の部とする。"]
[null,"・出場チームは１校につき、男女各２チームまでとする。"]
["４　コース"]
[null,"当地区中体連陸上専門委員会、又は、オホーツク陸上競技協会が認定したコースで距離が中学生の\n体力にあったものでなければならない。"]
[]
[]
["５　競技規則"]
["①","選手は独力で走行すること。"]
["②","伴走は一切禁止する。"]
["③","選手は走路外で休まない。"]
["④","選手の変更は、開会式後の監督会議の場で行う。"]
[null,"（突発的なものは関門点呼で認める）"]
["⑤","その他の規則は、日本陸上競技連盟規則による。"]
["⑥","入賞は８位までとし、賞状を授与する。区間ラップ賞も授与する。"]
["⑦","途中で棄権をした場合でも、次走者の出走を認める。"]
["⑧","参加校は、１名以上の競技役員と補助員を出すこと。"]
["⑨","原則として、今大会６位入賞校までを、オホーツク陸上専門委員会として、北海道中学校駅伝競走大会に推薦する。"]
["⑩","その他の規則は、日本陸上競技連盟規則による。"]
["６　その他"]
["◎","選手宣誓は前年度優勝校が行う。（R１男子　R2女子　R3男子・・・・・）"]
["◎","前年度優勝校は、優勝旗を忘れずに持参してください。"]
["◎","駐車場については次のようにお願いします。"]
[null,"乗用車・小型車両・・・テニスコート側駐車場"]
[null,"バス・大型車両　・・・・テニスコート側駐車場　　　　　※路上駐車はご遠慮ください。"]
["◎","ゴミは持ち帰り願います。（弁当、飲み物など）"]
["◎","前日、当日ともコース内は一般の方も利用しています。競技以外のことで一般の方々に迷惑のかからないように生徒への指導をお願いします。"]
["◎","当日のコース使用について"]
[null,"開会式までは自由に使用してください。（開会式終了後は、コース使用を閉鎖します）"]
[null,"ウォーミングアップは、陸上競技場内の駅伝コース以外を利用して下さい。"]

{"sheet":"大会要項","index":1,"n_rows":40,"n_cols":21,"rows_kept":40,"cut":false,"hidden":false,"merged":[[35,6,35,25],[36,6,36,25],[39,6,39,25],[11,6,11,7],[12,6,12,7],[10,8,10,9],[10,10,10,11],[10,12,10,13],[10,14,10,15],[10,16,10,17],[10,18,10,19],[11,8,11,9],[12,8,12,9],[11,10,11,11],[11,12,11,13],[11,14,11,15],[28,7,28,10],[28,11,28,16],[22,7,22,10],[22,14,22,17],[28,17,28,25],[29,7,29,10],[29,11,29,16],[29,17,29,25],[30,6,30,25],[31,6,31,25],[25,6,25,10],[25,11,25,16],[25,17,25,25],[26,7,26,10],[26,11,26,16],[26,17,26,25],[27,7,27,10],[27,11,27,16],[27,17,27,25],[24,6,24,25],[9,6,9,25],[2,0,2,25],[8,6,8,9],[18,14,18,17],[19,7,19,10],[19,14,19,17],[20,7,20,10],[20,14,20,17],[21,7,21,10],[21,14,21,17],[8,20,8,25],[8,10,8,14],[8,15,8,19],[13,16,13,21],[14,6,14,25],[16,14,16,17],[17,7,17,10],[17,14,17,17],[13,6,13,7],[13,8,13,13],[13,14,13,15],[18,7,18,10],[0,1,0,24],[4,1,4,4],[5,1,5,4],[4,6,4,25],[7,6,7,18],[11,16,11,17],[11,18,11,19],[12,10,12,11],[12,12,12,13],[12,14,12,15],[12,16,12,17],[12,18,12,19],[10,20,10,22],[11,20,11,22],[12,20,12,22],[10,6,10,7],[1,0,1,25],[23,6,23,25],[10,1,10,4],[11,1,11,4],[12,1,12,4],[13,1,13,4],[14,1,14,4],[15,1,15,4],[16,1,16,4],[17,1,17,4],[18,1,18,4],[19,1,19,4],[20,1,20,4],[21,1,21,4],[22,1,22,4],[15,6,15,10],[15,13,15,17],[16,7,16,10],[38,6,38,25],[25,1,25,4],[6,1,6,4],[7,1,7,4],[8,1,8,4],[9,1,9,4],[35,1,35,4],[38,1,38,4],[39,1,39,4],[31,1,31,4],[24,1,24,4],[34,1,34,4],[26,1,26,4],[27,1,27,4],[28,1,28,4],[23,1,23,4],[32,1,32,4],[32,6,32,7],[33,6,33,7],[34,6,34,7],[32,8,32,25],[33,8,33,25],[34,8,34,25],[30,1,30,4]]}
[null,"令和元年度　オホーツク中学校体育大会"]
["第５２回　オホーツク中学校駅伝競走大会開催要項"]
["第３７回　北海道中学校駅伝競走大会　オホーツク予選会"]
[]
[1,"主　　催",null,null,null,null,"オホーツク中学校体育連盟、オホーツク陸上競技協会"]
[2,"後　　援",null,null,null,null,"北海道教育庁オホーツク教育局、北見市教育委員会"]
[3,"主　　管",null,null,null,null,"オホーツク中学校体育連盟　陸上競技・駅伝競走専門委員会"]
[4,"期　　日",null,null,null,null,"令和元年９月６日（金）"]
[null,null,null,null,null,null,"開会式　８時３０分",null,null,null,"男子出走　９時３０分",null,null,null,null,"女子出走　１１時００分",null,null,null,null,"閉会式　１３時００分（予定）"]
[5,"会　　場　",null,null,null,null,"北見市東陵公園陸上競技場・特設周回コース"]
[6,"距離",null,null,null,null,null,null,"第１区",null,"第２区",null,"第３区",null,"第４区",null,"第５区",null,"第６区",null,"合計"]
[null,null,null,null,null,null,"男子",null,"３km",null,"３km",null,"３km",null,"３km",null,"３km",null,"３km",null,"計１８km"]
[null,null,null,null,null,null,"女子",null,"３km",null,"２km",null,"２km",null,"２km",null,"３km",null,null,null,"計１２km"]
[7,"人数",null,null,null,null,"男子：",null,"６名＋補欠２名",null,null,null,null,null,"女子：",null,"５名＋補欠３名"]
[8,"競技方法及び規則",null,null,null,null,"別紙、大会規定参照。"]
[9,"開会式・閉会式",null,null,null,null,"【　開　会　式　】",null,null,null,null,null,null,"【　閉　会　式　】"]
[null,null,null,null,null,null,1,"開式通告",null,null,null,null,null,1,"開式通告"]
[null,null,null,null,null,null,2,"開会宣言",null,null,null,null,null,2,"成績発表"]
[null,null,null,null,null,null,3,"優勝旗返還",null,null,null,null,null,3,"表彰"]
[null,null,null,null,null,null,4,"大会長挨拶",null,null,null,null,null,4,"審判長講評"]
[null,null,null,null,null,null,5,"審判長注意",null,null,null,null,null,5,"大会長挨拶"]
[null,null,null,null,null,null,6,"選手宣誓",null,null,null,null,null,6,"閉会宣言"]
[null,null,null,null,null,null,7,"閉式通告",null,null,null,null,null,7,"閉式通告"]
[10,"参加資格",null,null,null,null,"道中体連に加盟する中学校の生徒で、学校長が参加を認めた者。"]
[11,"参加料",null,null,null,null,"１チーム　　８，０００円"]
[12,"申込期日",null,null,null,null,"番号",null,null,null,null,"作成方法",null,null,null,null,null,"提出先・提出期限"]
[null,null,null,null,null,null,"(1)","学校申込書",null,null,null,"オホーツク陸協HP（http://www.h-ork.jp/）よりダウンロードし必要事項を記入の上、職印を押す。",null,null,null,null,null,"①学校申込書は印刷し、ＦＡＸで美幌北中（0152-73-2436）大西　大宛に８月１日（木）１６：００までに送信すること。　　　　　　　　　　　　②データは、陸上専門委員アドレス（ocrikujyou@gmail.com）宛に８月１日（木）１６：００までに送信すること。①と②どちらも必ず送信してください。"]
[null,null,null,null,null,null,"(2)","参加申込書",null,null,null,"オホーツク陸協HP（http://www.h-ork.jp/）よりダウンロードし必要事項を記入の上、職印を押す。",null,null,null,null,null,"監督会議に持参する。データは、陸上専門委員アドレス（ocrikujyou@gmail.com）宛に９月２日（月）１６：００までに送信する。"]
[null,null,null,null,null,null,"(3)","参加料",null,null,null,"チーム数×８０００円",null,null,null,null,null,"監督会議に持参すること。"]
[null,null,null,null,null,null,"(4)","区間エントリー",null,null,null,null,null,null,null,null,null,"監督会議の受付時に提出すること。"]
[null,null,null,null,null,null,"・区間エントリーの確認については、監督会議受付時に行います。"]
[null,null,null,null,null,null,"・監督会議に出席できない学校は、専門委員長（小野寺）に必ず連絡して下さい。"]
[14,"監督会議",null,null,null,null,"期日",null,"令和元年９月４日（水）　１５時００分～"]
[null,null,null,null,null,null,"会場",null,"北見市東陵公園陸上競技場　本部棟"]
[null,null,null,null,null,null,"内容",null,"①大会について　　　 ②区間エントリーの確認　　　 ③全道駅伝競走大会について　\n④大会諸準備等　　　⑤その他　 　　＊会議終了後に、コースの下見を予定しています。"]
[15,"その他",null,null,null,null,"①駅伝競走に使用する「たすき」は各校で用意してもかまいません。（赤色以外）"]
[null,null,null,null,null,null,"②平成２９年度の優勝校、（男子）小泉中、（女子）美幌北中は、優勝旗を忘れずに、当日持参して下さい。"]
[null,null,null,null,null,null,"③平成２９度優勝校（今年度は男子）は選手宣誓をお願いします。"]
[null,null,null,null,null,null,"④主催者は、個人情報保護に関する法令を遵守し、日本陸上競技連盟個人情報保護方針に基づき取り扱う。なお、取得した個人情報は大会の資格審査、プログラム編成及び作成、記録発表、新聞報道、その他、競技運営及び陸上競技に必要な連絡等に利用する。"]
[null,null,null,null,null,null,"\n⑤災害警報、悪天候等の場合は、主催者が判断し、競技日程を短縮または中止する等の変更もある。"]

{"sheet":"学校申込用紙（８月１日　まで）","index":2,"n_rows":15,"n_cols":9,"rows_kept":15,"cut":false,"hidden":false,"merged":[[7,0,7,1],[7,3,7,4],[0,0,0,5],[1,0,1,5],[3,0,3,1],[3,2,3,5],[4,0,5,1],[14,1,14,5],[8,2,8,4],[9,2,9,4],[10,2,10,4],[12,1,12,5],[13,1,13,5]]}
["令和元年度　オホーツク中体連　"]
["第５２回駅伝競走大会学校申込書"]
[]
["学校名"]
["責任者名",null,"男子",null,"連絡先"]
[null,null,"女子",null,"連絡先",null,null,null,1]
[null,null,null,null,null,null,null,null,2]
["参加チーム",null,null,null,null,null,null,null,3]
[null,"男子",null,null,null,"チーム",null,null,4]
[null,"女子",null,null,null,"チーム"]
[null,"参加料",{"$f":"SUM(C9:E10)*8000","v":0}]
[]
["●","大会では、当日のみの使い捨てナンバーカードを使用します。そのため、事前に参加チームを確認するために、８月１日（木）１６：００までに、この用紙に必要事項を入力した上で、美幌北中学校　大西　大までFAX(0152-73-2436)をして下さい。"]
["●","参加数を変更したい場合は、速やかに大西まで連絡をして下さい。"]
["●","申込システムにご意見等何かお気づきの点があれば、駅伝競走専門委員長（小野寺）まで連絡をお願いします。"]

{"sheet":"参加申込用紙（９月２日　まで）","index":3,"n_rows":40,"n_cols":8,"rows_kept":40,"cut":false,"hidden":false,"merged":[[3,1,3,7],[0,0,0,7],[1,1,1,3],[1,4,1,7],[2,3,2,4],[2,6,2,7],[19,0,19,3],[19,4,19,7],[4,5,4,7],[5,0,5,3],[5,4,5,7],[6,0,6,1],[6,2,6,3],[6,4,6,5],[6,6,6,7],[7,0,7,1],[7,2,7,3],[7,4,7,5],[7,6,7,7],[18,0,18,7],[32,0,32,7],[35,0,35,7],[37,0,37,7],[39,0,39,7],[20,0,20,1],[20,2,20,3],[20,4,20,5],[20,6,20,7],[21,0,21,1],[21,2,21,3],[21,4,21,5],[21,6,21,7]]}
["令和元年度　第52回オホーツク中体連駅伝競走大会参加申込書"]
["学校名",null,null,null,"申し込み時は、選手名・フリガナ・学年のみ入力して下さい。\n出走順・補欠については、監督会議時に連絡していただきます。"]
["電話",null,"ＦＡＸ",null,null,"責任者携帯番号"]
["住所"]
[]
["男　子",null,null,null,"女　子"]
["チーム名",null,null,null,"チーム名"]
["監督名",null,null,null,"監督名"]
["順","選　手　名","フリガナ","学年","順","選　手　名","フリガナ","学年"]
[]
[]
[]
[]
[]
[]
[]
[]
[]
["～　２チーム出場する場合は、以下の欄にご記入下さい。　～"]
["男　子",null,null,null,"女　子"]
["チーム名",null,null,null,"チーム名"]
["監督名",null,null,null,"監督名"]
["順","選　手　名","フリガナ","学年","順","選　手　名","フリガナ","学年"]
[]
[]
[]
[]
[]
[]
[]
[]
[]
["この用紙は、専門委員アドレス（ocrikujyou@gmail.com）宛に９月２日（月）１２：００までに送信する。また、職印を押したものを監督会議までに提出すること。"]
[]
[]
["第５２回オホーツク中体連駅伝競走大会に参加を認めます。"]
["　　　　　　　　　　　　　　"]
["　　　　　　　　　　　　　　　　　　　　　　令和元年　　　　　月　　　　　日"]
[]
["　　　　　　　　　　　　　　学校長　　　　　　　　　　　　印　　　　　"]

{"sheet":"事務局シート","index":4,"n_rows":32,"n_cols":4,"rows_kept":32,"cut":false,"hidden":false,"merged":[[0,0,7,0],[8,0,15,0],[16,0,23,0],[24,0,31,0]]}
["男子A",{"$f":"'参加申込用紙（９月２日　まで）'!B10","v":0},{"$f":"'参加申込用紙（９月２日　まで）'!C10","v":0},{"$f":"'参加申込用紙（９月２日　まで）'!D10","v":0}]
[null,{"$f":"'参加申込用紙（９月２日　まで）'!B11","v":0},{"$f":"'参加申込用紙（９月２日　まで）'!C11","v":0},{"$f":"'参加申込用紙（９月２日　まで）'!D11","v":0}]
[null,{"$f":"'参加申込用紙（９月２日　まで）'!B12","v":0},{"$f":"'参加申込用紙（９月２日　まで）'!C12","v":0},{"$f":"'参加申込用紙（９月２日　まで）'!D12","v":0}]
[null,{"$f":"'参加申込用紙（９月２日　まで）'!B13","v":0},{"$f":"'参加申込用紙（９月２日　まで）'!C13","v":0},{"$f":"'参加申込用紙（９月２日　まで）'!D13","v":0}]
[null,{"$f":"'参加申込用紙（９月２日　まで）'!B14","v":0},{"$f":"'参加申込用紙（９月２日　まで）'!C14","v":0},{"$f":"'参加申込用紙（９月２日　まで）'!D14","v":0}]
[null,{"$f":"'参加申込用紙（９月２日　まで）'!B15","v":0},{"$f":"'参加申込用紙（９月２日　まで）'!C15","v":0},{"$f":"'参加申込用紙（９月２日　まで）'!D15","v":0}]
[null,{"$f":"'参加申込用紙（９月２日　まで）'!B16","v":0},{"$f":"'参加申込用紙（９月２日　まで）'!C16","v":0},{"$f":"'参加申込用紙（９月２日　まで）'!D16","v":0}]
[null,{"$f":"'参加申込用紙（９月２日　まで）'!B17","v":0},{"$f":"'参加申込用紙（９月２日　まで）'!C17","v":0},{"$f":"'参加申込用紙（９月２日　まで）'!D17","v":0}]
["女子A",{"$f":"'参加申込用紙（９月２日　まで）'!F10","v":0},{"$f":"'参加申込用紙（９月２日　まで）'!G10","v":0},{"$f":"'参加申込用紙（９月２日　まで）'!H10","v":0}]
[null,{"$f":"'参加申込用紙（９月２日　まで）'!F11","v":0},{"$f":"'参加申込用紙（９月２日　まで）'!G11","v":0},{"$f":"'参加申込用紙（９月２日　まで）'!H11","v":0}]
[null,{"$f":"'参加申込用紙（９月２日　まで）'!F12","v":0},{"$f":"'参加申込用紙（９月２日　まで）'!G12","v":0},{"$f":"'参加申込用紙（９月２日　まで）'!H12","v":0}]
[null,{"$f":"'参加申込用紙（９月２日　まで）'!F13","v":0},{"$f":"'参加申込用紙（９月２日　まで）'!G13","v":0},{"$f":"'参加申込用紙（９月２日　まで）'!H13","v":0}]
[null,{"$f":"'参加申込用紙（９月２日　まで）'!F14","v":0},{"$f":"'参加申込用紙（９月２日　まで）'!G14","v":0},{"$f":"'参加申込用紙（９月２日　まで）'!H14","v":0}]
[null,{"$f":"'参加申込用紙（９月２日　まで）'!F15","v":0},{"$f":"'参加申込用紙（９月２日　まで）'!G15","v":0},{"$f":"'参加申込用紙（９月２日　まで）'!H15","v":0}]
[null,{"$f":"'参加申込用紙（９月２日　まで）'!F16","v":0},{"$f":"'参加申込用紙（９月２日　まで）'!G16","v":0},{"$f":"'参加申込用紙（９月２日　まで）'!H16","v":0}]
[null,{"$f":"'参加申込用紙（９月２日　まで）'!F17","v":0},{"$f":"'参加申込用紙（９月２日　まで）'!G17","v":0},{"$f":"'参加申込用紙（９月２日　まで）'!H17","v":0}]
["男子B",{"$f":"'参加申込用紙（９月２日　まで）'!B24","v":0},{"$f":"'参加申込用紙（９月２日　まで）'!C24","v":0},{"$f":"'参加申込用紙（９月２日　まで）'!D24","v":0}]
[null,{"$f":"'参加申込用紙（９月２日　まで）'!B25","v":0},{"$f":"'参加申込用紙（９月２日　まで）'!C25","v":0},{"$f":"'参加申込用紙（９月２日　まで）'!D25","v":0}]
[null,{"$f":"'参加申込用紙（９月２日　まで）'!B26","v":0},{"$f":"'参加申込用紙（９月２日　まで）'!C26","v":0},{"$f":"'参加申込用紙（９月２日　まで）'!D26","v":0}]
[null,{"$f":"'参加申込用紙（９月２日　まで）'!B27","v":0},{"$f":"'参加申込用紙（９月２日　まで）'!C27","v":0},{"$f":"'参加申込用紙（９月２日　まで）'!D27","v":0}]
[null,{"$f":"'参加申込用紙（９月２日　まで）'!B28","v":0},{"$f":"'参加申込用紙（９月２日　まで）'!C28","v":0},{"$f":"'参加申込用紙（９月２日　まで）'!D28","v":0}]
[null,{"$f":"'参加申込用紙（９月２日　まで）'!B29","v":0},{"$f":"'参加申込用紙（９月２日　まで）'!C29","v":0},{"$f":"'参加申込用紙（９月２日　まで）'!D29","v":0}]
[null,{"$f":"'参加申込用紙（９月２日　まで）'!B30","v":0},{"$f":"'参加申込用紙（９月２日　まで）'!C30","v":0},{"$f":"'参加申込用紙（９月２日　まで）'!D30","v":0}]
[null,{"$f":"'参加申込用紙（９月２日　まで）'!B31","v":0},{"$f":"'参加申込用紙（９月２日　まで）'!C31","v":0},{"$f":"'参加申込用紙（９月２日　まで）'!D31","v":0}]
["女子B",{"$f":"'参加申込用紙（９月２日　まで）'!F24","v":0},{"$f":"'参加申込用紙（９月２日　まで）'!G24","v":0},{"$f":"'参加申込用紙（９月２日　まで）'!H24","v":0}]
[null,{"$f":"'参加申込用紙（９月２日　まで）'!F25","v":0},{"$f":"'参加申込用紙（９月２日　まで）'!G25","v":0},{"$f":"'参加申込用紙（９月２日　まで）'!H25","v":0}]
[null,{"$f":"'参加申込用紙（９月２日　まで）'!F26","v":0},{"$f":"'参加申込用紙（９月２日　まで）'!G26","v":0},{"$f":"'参加申込用紙（９月２日　まで）'!H26","v":0}]
[null,{"$f":"'参加申込用紙（９月２日　まで）'!F27","v":0},{"$f":"'参加申込用紙（９月２日　まで）'!G27","v":0},{"$f":"'参加申込用紙（９月２日　まで）'!H27","v":0}]
[null,{"$f":"'参加申込用紙（９月２日　まで）'!F28","v":0},{"$f":"'参加申込用紙（９月２日　まで）'!G28","v":0},{"$f":"'参加申込用紙（９月２日　まで）'!H28","v":0}]
[null,{"$f":"'参加申込用紙（９月２日　まで）'!F29","v":0},{"$f":"'参加申込用紙（９月２日　まで）'!G29","v":0},{"$f":"'参加申込用紙（９月２日　まで）'!H29","v":0}]
[null,{"$f":"'参加申込用紙（９月２日　まで）'!F30","v":0},{"$f":"'参加申込用紙（９月２日　まで）'!G30","v":0},{"$f":"'参加申込用紙（９月２日　まで）'!H30","v":0}]
[null,{"$f":"'参加申込用紙（９月２日　まで）'!F31","v":0},{"$f":"'参加申込用紙（９月２日　まで）'!G31","v":0},{"$f":"'参加申込用紙（９月２日　まで）'!H31","v":0}]