{"text_format":"1","workbook":"xlsx","n_sheets":7,"sheets":["大会要項","入力表","申込確認シート","●初期設定（事務局）","Sheet1","リレーベスト記録入力表","●貼付（事務局）"],"not_rendered":{"charts":0,"images":0,"macros":0,"external_links":0,"defined_names":81,"comments":1,"pivot_tables":0},"unopened":[],"bounds":{"document_bytes":16777216,"sheet_cells":100000,"rows_first":2000,"rows_last":500,"rows_between":2000,"halvings":0,"cell_chars":16384,"cell_head_chars":4096},"cells_cut":0,"cells_raw":0,"read":"whole","date_system":"1900"}

{"sheet":"大会要項","index":0,"n_rows":109,"n_cols":14,"rows_kept":109,"cut":false,"hidden":false,"merged":[[108,1,108,2],[2,4,2,10],[4,0,4,9],[15,3,15,8],[16,1,22,1],[23,1,29,1],[30,0,30,8],[103,1,103,2],[103,3,103,5],[104,1,104,2],[105,1,105,2],[106,1,106,2],[107,1,107,2],[107,3,107,5],[108,3,108,5]]}
["平素より当協会の事業運営につきまして格別のご尽力を賜り厚くお礼申しあげます。"]
["さて、標記大会を下記の要領で開催いたしますので、各関係の皆様に周知方と併せて、多数参加くださいますようご案内申し上げます。"]
[null,null,null,null,"オホーツク陸上競技協会　会長　柿本　弘之（公印省略）"]
[]
["第４回 オホーツク陸協小学生陸上記録会　　　　　　　　　　　　　　兼 第４５回　北見市小学生陸上競技記録会　開催要項"]
[]
[" 1.主　　催","　オホーツク陸上競技協会"]
[" 2.共　　催","　北見市教育委員会　（公財）北見市体育協会 "]
[" 3.期　　日","　２０１８年９月２９日（土）　　※雨天決行"]
[null,"　開　　　　場　　７時００分"]
[null,"　受　　　　付　　７時３０分～８時２０分　　　　競技開始予定　９時００分"]
[null,"　競技終了予定　１３時３０分　　　　　閉会式予定（最優秀選手・優秀選手の表彰のみ）　１３時３５分"]
[null,"　　※参加人数によっては、競技終了・閉会式の時刻が変更になります。"]
[" 4.会　　場","  北見市東陵公園陸上競技場（第３種公認）"]
[" 5.競技種目"]
[null,"種　別","学　年","種　　　　　　　　　　目",null,null,null,null,null,"数"]
[null,"男　子","幼児","  60m",null,null,null,null,null,1]
[null,null,"１年生","  60m",null,null,null,null,null,1]
[null,null,"２年生"," 100m， 800m",null,null,null,null,null,2]
[null,null,"３年生"," 100m,　800m,　4×100mR，走幅跳，ｼﾞｬﾍﾞﾘｯｸﾎﾞｰﾙ投",null,null,null,null,null,5]
[null,null,"４年生"," 100m,  800m, 80mH, 4×100mR, 走幅跳, 走高跳, ｼﾞｬﾍﾞﾘｯｸﾎﾞｰﾙ投",null,null,null,null,null,7]
[null,null,"５年生"," 100m, 1500m, 80mH, 4×100mR, 走幅跳, 走高跳, ｼﾞｬﾍﾞﾘｯｸﾎﾞｰﾙ投, 砲丸投",null,null,null,null,null,8]
[null,null,"６年生"," 100m, 1500m, 80mH, 4×100mR, 走幅跳, 走高跳, ｼﾞｬﾍﾞﾘｯｸﾎﾞｰﾙ投, 砲丸投",null,null,null,null,null,8]
[null,"女　子","幼児","  60m",null,null,null,null,null,1]
[null,null,"１年生","  60m",null,null,null,null,null,1]
[null,null,"２年生"," 100m， 800m",null,null,null,null,null,2]
[null,null,"３年生"," 100m,　800m,　4×100mR，走幅跳，ｼﾞｬﾍﾞﾘｯｸﾎﾞｰﾙ投",null,null,null,null,null,5]
[null,null,"４年生"," 100m,  800m, 80mH, 4×100mR, 走幅跳, 走高跳,ｼﾞｬﾍﾞﾘｯｸﾎﾞｰﾙ投",null,null,null,null,null,7]
[null,null,"５年生"," 100m,  800m, 80mH, 4×100mR, 走幅跳, 走高跳, ｼﾞｬﾍﾞﾘｯｸﾎﾞｰﾙ投, 砲丸投",null,null,null,null,null,8]
[null,null,"６年生"," 100m,  800m, 80mH, 4×100mR, 走幅跳, 走高跳, ｼﾞｬﾍﾞﾘｯｸﾎﾞｰﾙ投, 砲丸投",null,null,null,null,null,8]
["　　　　　　　                                ＊参加人数が少ない種目については、共通種目として行います。"]
[]
[" 6.参加資格","幼児種目、小学生種目ともにオホーツク管内に在籍する幼児、小学生とする。"]
[null," ※個人情報について、本大会の参加者は、大会運営上必要なプログラム、記録表、掲示板、"]
[null,"　 ホームページ等へ氏名、所属、学年の記載について了承するものとする。"]
[]
[" 7.出場制限","①個人種目は１人２種目までとする。ただしリレーは除く。"]
[null,"②リレーの申し込みは、各学年毎に３チームまでのエントリーとする。"]
[null,"③リレーチーム編成において、人数が足りない時は、上の学年の種目に下の学年の選手が出場して"]
[null,"　もよいが、１人が２つのチームへ入ることはできない。"]
[null,"　例）６年での参加＝６年のみ、６・５年、６・５・４年、６・５・４・３年、６・４・３年　など"]
[null,"④3年生のリレーにあっては2年生の参加も認める。"]
[]
[" 8.表　　彰","①全員へ記録証を発行します。"]
[null,"②小学生を対象とした最優秀選手と優秀選手には賞を授与する。"]
[]
[" 9.参 加 料","１種目８００円（幼児・1年生は３００円）　２種目１０００円　リレー1チーム１０００円"]
[]
["10.申込方法","オホーツク陸協ホームページより大会申込書をダウンロードして以下の書類を作成し、E-mailにて"]
[null,"送信してください。",null,null,"    ※ﾎｰﾑﾍﾟｰｼﾞｱﾄﾞﾚｽ",null,"http://www.h-ork.jp/"]
[null,"(1) 申込書…………所属団体ごとに申込書を作成すること。"]
[null,"　　　　　※団体登録している場合は、ナンバーカード番号を必ず記入すること。"]
[null,"　　　　　※団体に所属していない場合は、個人ごとに作成し、ナンバーカード番号は未記入にすること。　　　　　　　　　　　 "]
[null,"　　　　　※性別から順番に記入していくと、学年区分に応じた種目を選択できるように設定してあります。"]
[null,"　　　　　※記録については、組み分け、試技順に必要ですので、必ず記入すること。(参考記録可)"]
[null,"(2) 申込先…………オホーツク陸協記録委員会にメール送信すること。",null,null,null,null,null,"orkkiroku@gmail.com"]
[null,null,"さらにプリントしたものを必ず下記に郵送またはＦＡＸしてください。"]
[null,null,"〒099－1431　常呂郡訓子府町東町３６０番地　"]
[null,null,"宍戸政彦　宛て　ＦＡＸ　０１５７－４７－４６４４（職場：訓子府消防）"]
[null,"(3) 参加料…………大会当日、受付時に納入すること。"]
[null,null,null,"事前に現金封筒等で送付していただいても構いません。"]
["11,申込期限","平成３０年９月１０日（月）　１８：００　期日・時刻厳守"]
[null,"※期日・時刻に遅れたもの、電話、ＦＡＸ、郵送、競技会当日による申し込みは一切受付いたしません。"]
[null,"　必ず電子データーとしてメールで送信してください。"]
[null,"※申込締切後、申込一覧表を９月１２日（水）に、オホーツク陸協ホームページに記載しますので、\n　"]
[null,"　ご確認ください。申込漏れや種目の間違いがある場合は、９月１５日（土）１８：００までに下記の"]
[null,"　問い合わせ先まで連絡してください。期日を過ぎた場合は、受理しませんので必ずご確認ください。"]
[null,null,null,null,null,null,null,null,null,null,null,null,null,"，"]
["12, 問合せ先","オホーツク陸協普及委員長　宍戸　政彦　　　　　携帯電話０９０－９０８７－２７０６"]
[null,"メールアドレス:",null,"orkhukyuu@yahoo.co.jp"]
[]
["13, ﾅﾝﾊﾞｰｶｰﾄﾞ","・団体登録している場合は、必ず持参すること。"]
[null,"・個人申込の場合は、ナンバーカードなしとしてください。"]
[]
["14.競技方法","①トラック競技はタイムレースとする。"]
[null," ※不正スタートについては、同じ競技者が２回の不正スタートをしたとき、その競技者は失格となる。"]
[null,"②ハードルは、スタートから第１ハードルまで１３ｍ、インターバル７ｍ、台数９台、最終ハードルから"]
[null,"　フィニッシュまで１１ｍとする。"]
[null,"③走幅跳、ジャベリックボール投、砲丸投の試技は３回とする。"]
[null,"　※ジャベリックボール投は、助走距離15m以内。"]
[null,"　※砲丸（男女）２．７２１ｋｇ"]
[null,"④リレーにおいては、バトンゾーン30mとする。"]
[null,"⑤走高跳（はさみ跳び）でのマットへの着地は、必ず足裏からとし、背・腰からの着地は、"]
[null,"　無効試技とする。バーの高さは、出場者の記録を見てから決める。"]
[null,"⑥スパイクの使用は自由ですが、怪我のないよう指導してください。"]
[null,"　競技場はトラック、フィルドとも全天候型ウレタン舗装のため、スパイクピンは全天候用で、"]
[null,"　長さは９ｍｍ以下を使用してください。"]
[null,"⑦スタートは、クラウチングスタートを原則とするが、幼児・１～２年はスタンディングでもよい。"]
[null,"⑧スターティングブロックの使用は３年生以上とします。使用しない場合は、係の者に伝えてください。"]
[null,"⑨競技に対する抗議等については、各団体の監督、および個人申込の責任者が行うものとし、該当競技"]
[null,"　終了後３０分以内に申し出た場合のみ受け付ける。"]
[]
["15.その他","①本記録会に参加の選手に万一事故が起こった場合、応急処置までの用意はありますが、"]
[null,"　それ以上の場合は本人の負担で処置願います。"]
[null,"②小雨でも競技を行いますので、その準備をしてください。万が一、競技会を中止する場合は、"]
[null,"　７時頃から、各団体および個人申込の代表者に電話連絡いたします。"]
[null,"③本大会では開会式・閉会式を行いますので、全員参加してください。"]
[null,"④競技日程、競技注意事項は、プログラム編成後、９月１９日（水）頃にホームページに掲載"]
[null,"　しますのでご確認ください。"]
[]
["16.競技役員お手伝いについて（団体、チームのみ）"]
[null,"各団体の出場選手人数によって、審判補助員人数を決めさせていただいておりますのでご協力ください。"]
[null,"参加申込書に氏名と希望審判名をご記入ください。（ご希望に添えない場合もあります。）"]
[null,"各団体出場選手数",null,"審判員・審判補助員協力人数"]
[null,"１人～４人",null,null,"０人"]
[null,"５人～８人",null,null,"１人"]
[null,"９人～１２人",null,null,"２人"]
[null,"１３人～１６人",null,"３人（公認審判１名以上）"]
[null,"　　 １７人以上",null,"４人（公認審判１名以上）"]

{"sheet":"入力表","index":1,"n_rows":55,"n_cols":74,"rows_kept":55,"cut":false,"hidden":false,"merged":[[2,36,3,37],[10,64,12,64],[10,65,12,65],[10,46,11,50],[6,6,10,12],[6,27,10,34],[1,56,3,66],[10,45,12,45],[10,51,12,51],[10,52,12,52],[10,53,12,53],[10,54,12,54],[10,55,12,55],[3,18,10,25],[12,67,12,68],[12,10,12,17],[12,19,12,26],[12,28,12,35],[10,56,12,56],[10,57,12,57],[10,58,12,58],[10,59,12,59],[10,60,12,60],[10,66,12,66],[10,61,12,61],[10,62,12,62],[10,63,12,63],[4,0,4,1],[4,2,4,4],[0,7,0,12],[0,0,0,4],[3,0,3,1],[3,2,3,4],[3,7,3,8],[3,9,3,12],[2,9,2,12],[2,7,2,8],[2,0,2,1],[2,2,2,4],[4,9,4,12],[6,2,6,4],[5,0,5,1],[5,2,5,4],[7,0,7,1],[7,2,7,4],[8,0,10,4],[0,27,0,37],[0,18,0,26],[5,6,5,12],[4,7,4,8],[4,36,10,37],[2,28,2,31],[2,32,2,34],[3,28,3,31],[3,32,3,34],[4,28,4,31],[4,32,4,34],[5,28,5,31],[5,32,5,34],[2,18,2,25],[6,0,6,1]]}
[{"$f":"'●初期設定（事務局）'!B3","v":"オホーツク陸協小学生記録会　兼　北見市小学生記録会"},null,null,null,null,null,"〆切",{"$f":"CONCATENATE('●初期設定（事務局）'!E3,'●初期設定（事務局）'!F3,'●初期設定（事務局）'!G3,'●初期設定（事務局）'!H3,'●初期設定（事務局）'!I3,'●初期設定（事務局）'!J3,'●初期設定（事務局）'!K3,'●初期設定（事務局）'!L3,'●初期設定（事務局）'!M3,'●初期設定（事務局）'!N3)","v":"9月10日（月）18：00"},null,null,null,null,null,null,null,null,null,null,"参加料",null,null,null,null,null,null,null,null,{"$f":"AC3*800+AC4*1000+AC5*300+AC6*1000","v":0}]
[null,null,null,null,null,null,null,null,null,null,null,null,null,null,null,null,null,null,null,null,null,null,null,null,null,null,null,null,null,null,null,null,null,null,null,null,null,null,null,null,null,null,null,null,null,null,null,null,null,null,null,null,null,null,null,null,"種目一覧"]
["団体種別",null,"小学",null,null,null,"審判員氏名","希望役職①",null,"希望役職②",null,null,null,null,null,null,null,null,"400mRベスト記録",null,null,null,null,null,null,null,null,"小２～６年　１種目",null,null,null,null,"名",null,null,null,"受付番号"]
["出場団体名",null,null,null,null,null,null,null,null,null,null,null,null,null,null,null,null,null,"ベスト記録については、別シートの入力表に入力して下さい。",null,null,null,null,null,null,null,null,"小２～６年　２種目",null,null,null,null,"名"]
["責任者",null,null,null,null,null,null,null,null,null,null,null,null,null,null,null,null,null,null,null,null,null,null,null,null,null,null,"小１・幼児　１種目",null,null,null,null,"名",null,null,null,"*事務局で記入"]
["緊急連絡先",null,null,null,null,null,"何かあれば、下記の欄にご記入ください！",null,null,null,null,null,null,null,null,null,null,null,null,null,null,null,null,null,null,null,null,"リレー",null,null,null,null,"名"]
["郵便番号",null,null,null,null,null,null,null,null,null,null,null,null,null,null,null,null,null,null,null,null,null,null,null,null,null,null,"選手数を入力すると参加料が自動計算されます。"]
["住　所"]
[{"$f":"IF(G4=\"\",\"各団体、１名以上の審判員の協力をお願いします！\",\"\")","v":"各団体、１名以上の審判員の協力をお願いします！"},null,null,null,null,{"$f":"IF(A9=\"\",0,1)","v":1}]
[null,null,null,null,null,null,null,null,null,null,null,null,null,null,null,null,null,null,null,null,null,null,null,null,null,null,null,null,null,null,null,null,null,null,null,null,null,null,null,null,null,null,null,null,null,null,null,null,null,null,null,null,null,null,null,null,null,null,null,null,null,null,null,null,null,null,null,null,null,null,null,null,null,{"$f":"COUNTA(BJ14:BJ50)","v":36}]
[null,null,null,null,null,null,null,null,null,null,null,null,null,null,null,null,null,null,null,null,null,null,null,null,null,null,null,null,null,null,null,null,null,null,null,null,null,null,null,null,null,null,null,null,null,"種別","出場団体名",null,null,null,null,"役員希望","性別","生年","陸協","年","数","幼児男","幼児女","小学男","小学女","中学男","中学女","高校男","高校女","一般男","一般女"]
[]
["数","登録番号","性","ﾅﾝﾊﾞｰ","氏名","生年","ﾌﾘｶﾞﾅ","所属","年","種目１","ベスト",null,null,null,null,null,null,null,"種目２","ベスト",null,null,null,null,null,null,null,"種目３","ベスト",null,null,null,null,null,null,null,"400R","1600R",null,null,null,null,null,null,null,null,"幼児","小学","中学","高校","一般",null,null,null,null,null,null,null,null,null,null,null,null,null,null,null,null,"種別",null,"リレー"]
[1,null,null,null,null,null,{"$f":"ASC(PHONETIC(E14))","v":""},"オホーツク",null,null,null,null,{"$f":"IF(J14=\"\",\"\",IF(AO14=0,\"\",\"分\"))","v":""},null,null,{"$f":"IF(J14=\"\",\"\",IF(AO14=0,\"m\",\"秒\"))","v":""},null,null,null,null,null,{"$f":"IF(S14=\"\",\"\",IF(AP14=0,\"\",\"分\"))","v":""},null,null,{"$f":"IF(S14=\"\",\"\",IF(AP14=0,\"m\",\"秒\"))","v":""},null,null,null,null,null,null,null,null,null,null,null,null,null,null,{"$f":"$C$3&C14&\"種目\"","v":"小学種目"},{"$f":"LEN(J14)-LEN(SUBSTITUTE(J14,\"m\",\"\"))","v":0},{"$f":"LEN(S14)-LEN(SUBSTITUTE(S14,\"m\",\"\"))","v":0},{"$f":"LEN(AB14)-LEN(SUBSTITUTE(AB14,\"m\",\"\"))","v":0},{"$f":"$C$3&COUNTA(J14,S14,AB14)","v":"小学0"},null,null,null,null,null,null,null,null,"男",null,null,null,null,null,null,null,null,null,null,null,null,null,null,"幼児","幼児","小3男A",null,"小学女","小学女",{"$f":"OFFSET(BJ14,0,0,COUNTA(BJ14:BJ50),1)","v":0}]
[2,null,null,null,null,null,"","オホーツク",null,null,null,null,"",null,null,"",null,null,null,null,null,"",null,null,"",null,null,null,null,null,null,null,null,null,null,null,null,null,null,{"$f":"$C$3&C15&\"種目\"","v":"小学種目"},0,{"$f":"LEN(S15)-LEN(SUBSTITUTE(S15,\"m\",\"\"))","v":0},{"$f":"LEN(AB15)-LEN(SUBSTITUTE(AB15,\"m\",\"\"))","v":0},{"$f":"$C$3&COUNTA(J15,S15,AB15)","v":"小学0"},null,"幼児","QP-JSRC","斜里小","雄武中","遠軽高","北海道教育大","一任","女",2000,"道南",null,1,{"$f":"IF(ISERROR(VLOOKUP($BE15,幼児男子全種目名,2,FALSE)),\"*\",VLOOKUP($BE15,幼児男子全種目名,2,FALSE))","v":"*"},{"$f":"IF(ISERROR(VLOOKUP($BE15,幼児女子全種目名,2,FALSE)),\"*\",VLOOKUP($BE15,幼児女子全種目名,2,FALSE))","v":"*"},{"$f":"IF(ISERROR(VLOOKUP($BE15,小学男子全種目名,2,FALSE)),\"*\",VLOOKUP($BE15,小学男子全種目名,2,FALSE))","v":"幼児男子60m"},{"$f":"IF(ISERROR(VLOOKUP($BE15,小学女子全種目名,2,FALSE)),\"*\",VLOOKUP($BE15,小学女子全種目名,2,FALSE))","v":"幼児女子60m"},{"$f":"IF(ISERROR(VLOOKUP($BE15,中学男子全種目名,2,FALSE)),\"*\",VLOOKUP($BE15,中学男子全種目名,2,FALSE))","v":"*"},{"$f":"IF(ISERROR(VLOOKUP($BE15,中学女子全種目名,2,FALSE)),\"*\",VLOOKUP($BE15,中学女子全種目名,2,FALSE))","v":"*"},{"$f":"IF(ISERROR(VLOOKUP($BE15,高校男子全種目名,2,FALSE)),\"*\",VLOOKUP($BE15,高校男子全種目名,2,FALSE))","v":"*"},{"$f":"IF(ISERROR(VLOOKUP($BE15,高校女子全種目名,2,FALSE)),\"*\",VLOOKUP($BE15,高校女子全種目名,2,FALSE))","v":"*"},{"$f":"IF(ISERROR(VLOOKUP($BE15,一般男子全種目名,2,FALSE)),\"*\",VLOOKUP($BE15,一般男子全種目名,2,FALSE))","v":"*"},{"$f":"IF(ISERROR(VLOOKUP($BE15,一般女子全種目名,2,FALSE)),\"*\",VLOOKUP($BE15,一般女子全種目名,2,FALSE))","v":"*"},"小1","小学","小3男B",null,"小学男","小学男"]
[3,null,null,null,null,null,"","オホーツク",null,null,null,null,"",null,null,"",null,null,null,null,null,"",null,null,"",null,null,null,null,null,null,null,null,null,null,null,null,null,null,"小学種目",0,0,0,"小学0",null,"小学","くるみ幼稚園","斜里朝日小","湧別中","興部高","弘前大","技術総務",null,2001,"小樽後志","小1",2,"*","*","小学男1年60m","小学女1年60m","*","*","*","*","*","*","小2","小学","小3男C",null,"中学男","中学男"]
[4,null,null,null,null,null,null,"オホーツク",null,null,null,null,"",null,null,"",null,null,null,null,null,"",null,null,"",null,null,null,null,null,null,null,null,null,null,null,null,null,null,"小学種目",0,0,0,"小学0",null,"中学","北見ﾏﾘｱ幼稚園","斜里以久科小","紋別潮見中","訓子府高","国際武道大","番組編成員",null,2002,"室蘭地方","小2",3,"*","*","小学男2年100m","小学女2年100m","*","*","*","*","*","*","小3","小学","小4男A",null,"中学女","中学女"]
[5,null,null,null,null,null,"","オホーツク",null,null,null,null,"",null,null,"",null,null,null,null,null,"",null,null,"",null,null,null,null,null,null,null,null,null,null,null,null,null,null,"小学種目",0,0,0,"小学0",null,"高校",null,"斜里川上小","紋別中","斜里高","山口大","記録情報処理員",null,2003,"苫小牧地方","小3",4,"*","*","小学男3年100m","小学女3年100m","*","*","*","*","*","*","小4","小学","小4男B",null,"高校男","高校男"]
[6,null,null,null,null,null,"","オホーツク",null,null,null,null,"",null,null,"",null,null,null,null,null,"",null,null,"",null,null,null,null,null,null,null,null,null,null,null,null,null,null,"小学種目",0,0,0,"小学0",null,"一般",null,"訓子府小","紋別上渚滑中","女満別高","東京農大","アナウンサー",null,2004,"札幌","小4",5,"*","*","小学男4年100m","小学女4年100m","*","*","*","*","*","*","小5","小学","小4男C",null,"高校女","高校女"]
[7,null,null,null,null,null,"","オホーツク",null,null,null,null,"",null,null,"",null,null,null,null,null,"",null,null,"",null,null,null,null,null,null,null,null,null,null,null,null,null,null,"小学種目",0,0,0,"小学0",null,null,null,"遠軽南小","網走第二中","常呂高","北見工大","風力計測員",null,2005,"道央","小5",6,"*","*","小学男5年100m","小学女5年100m","*","*","*","*","*","*","小6","小学","小5男A",null,"一般男","一般男"]
[8,null,null,null,null,null,"","オホーツク",null,null,null,null,"",null,null,"",null,null,null,null,null,"",null,null,"",null,null,null,null,null,null,null,null,null,null,null,null,null,null,"小学種目",0,0,0,"小学0",null,null,null,"遠軽白滝小","網走第四中","滝上高","北翔大","用器具係",null,2006,"空知","小6",7,"*","*","小学男6年100m","小学女6年100m","*","*","*","*","*","*","中1","中学","小5男B",null,"一般女","一般女"]
[9,null,null,null,null,null,"","オホーツク",null,null,null,null,"",null,null,"",null,null,null,null,null,"",null,null,"",null,null,null,null,null,null,null,null,null,null,null,null,null,null,"小学種目",0,0,0,"小学0",null,null,null,"興部小","網走第三中","東藻琴高","明治大","写真判定員",null,2007,"道北",null,8,"*","*","小学男2年800m","小学女2年800m","*","*","*","*","*","*","中2","中学","小5男C"]
[10,null,null,null,null,null,"","オホーツク",null,null,null,null,"",null,null,"",null,null,null,null,null,"",null,null,"",null,null,null,null,null,null,null,null,null,null,null,null,null,null,"小学種目",0,0,0,"小学0",null,null,null,"美幌小","網走第一中","美幌高","ｵﾎｰﾂｸ陸協","スターター・リコーラー",null,2008,"十勝",null,9,"*","*","小学男3年800m","小学女3年800m","*","*","*","*","*","*","中3","中学","小6男A"]
[11,null,null,null,null,null,"","オホーツク",null,null,null,null,"",null,null,"",null,null,null,null,null,"",null,null,"",null,null,null,null,null,null,null,null,null,null,null,null,null,null,"小学種目",0,0,0,"小学0",null,null,null,"北見東小","北見北中","北見工業高","釧路地方陸協","計時・決勝審判員",null,2009,"釧路地方",null,10,"*","*","小学男4年800m","小学女4年800m","*","*","*","*","*","*","高1","高校","小6男B"]
[12,null,null,null,null,null,"","オホーツク",null,null,null,null,"",null,null,"",null,null,null,null,null,"",null,null,"",null,null,null,null,null,null,null,null,null,null,null,null,null,null,"小学種目",0,0,0,"小学0",null,null,null,"北見西小","北見北光中","北見商業高","北見消防","競技者係",null,2010,"オホーツク",null,11,"*","*","小学男5年1500m","小学女5年800m","*","*","*","*","*","*","高2","高校","小6男C"]
[13,null,null,null,null,null,"","オホーツク",null,null,null,null,"",null,null,"",null,null,null,null,null,"",null,null,"",null,null,null,null,null,null,null,null,null,null,null,null,null,null,"小学種目",0,0,0,"小学0",null,null,null,"北見北小","北見南中","北見藤女子高",null,"出発係",null,2011,null,null,12,"*","*","小学男6年1500m","小学女6年800m","*","*","*","*","*","*","高3","高校","小3女A"]
[14,null,null,null,null,null,"","オホーツク",null,null,null,null,"",null,null,"",null,null,null,null,null,"",null,null,"",null,null,null,null,null,null,null,null,null,null,null,null,null,null,"小学種目",0,0,0,"小学0",null,null,null,"北見小泉小","北見東陵中","北見柏陽高",null,"周回記録員",null,2012,null,null,13,"*","*","小学男4年80mH","小学女4年80mH","*","*","*","*","*","*","一般","一般","小3女B"]
[15,null,null,null,null,null,"","オホーツク",null,null,null,null,"",null,null,"",null,null,null,null,null,"",null,null,"",null,null,null,null,null,null,null,null,null,null,null,null,null,null,"小学種目",0,0,0,"小学0",null,null,null,"北見三輪小","北見東相内中","北見北斗高",null,"役員係",null,2013,null,null,14,"*","*","小学男5年80mH","小学女5年80mH","*","*","*","*","*","*",null,null,"小3女C"]
[16,null,null,null,null,null,"","オホーツク",null,null,null,null,"",null,null,"",null,null,null,null,null,"",null,null,"",null,null,null,null,null,null,null,null,null,null,null,null,null,null,"小学種目",0,0,0,"小学0",null,null,null,"北見北光小","北見相内中","北見緑陵高",null,"監察員",null,2014,null,null,15,"*","*","小学男6年80mH","小学女6年80mH","*","*","*","*","*","*",null,null,"小4女A"]
[17,null,null,null,null,null,"","オホーツク",null,null,null,null,"",null,null,"",null,null,null,null,null,"",null,null,"",null,null,null,null,null,null,null,null,null,null,null,null,null,null,"小学種目",0,0,0,"小学0",null,null,null,"北見美山小","北見常呂中","網走桂陽高",null,"表彰係",null,2015,null,null,16,"*","*","小学男4年走高跳","小学女4年走高跳","*","*","*","*","*","*",null,null,"小4女B"]
[18,null,null,null,null,null,"","オホーツク",null,null,null,null,"",null,null,"",null,null,null,null,null,"",null,null,"",null,null,null,null,null,null,null,null,null,null,null,null,null,null,"小学種目",0,0,0,"小学0",null,null,null,"北見留辺蘂小","北見小泉中","網走南ヶ丘高",null,"跳躍審判員",null,null,null,null,17,"*","*","小学男5年走高跳","小学女5年走高跳","*","*","*","*","*","*",null,null,"小4女C"]
[19,null,null,null,null,null,"","オホーツク",null,null,null,null,"",null,null,"",null,null,null,null,null,"",null,null,"",null,null,null,null,null,null,null,null,null,null,null,null,null,null,"小学種目",0,0,0,"小学0",null,null,null,"北見常呂小","北見高栄中","紋別高",null,"投擲審判員",null,null,null,null,18,"*","*","小学男6年走高跳","小学女6年走高跳","*","*","*","*","*","*",null,null,"小5女A"]
[20,null,null,null,null,null,"","オホーツク",null,null,null,null,"",null,null,"",null,null,null,null,null,"",null,null,"",null,null,null,null,null,null,null,null,null,null,null,null,null,null,"小学種目",0,0,0,"小学0",null,null,null,"北見川沿小","北見光西中","湧別高",null,null,null,null,null,null,19,"*","*","小学男3年走幅跳","小学女3年走幅跳","*","*","*","*","*","*",null,null,"小5女B"]
[21,null,null,null,null,null,"","オホーツク",null,null,null,null,"",null,null,"",null,null,null,null,null,"",null,null,"",null,null,null,null,null,null,null,null,null,null,null,null,null,null,"小学種目",0,0,0,"小学0",null,null,null,"網走中央小","美幌北中","雄武高",null,null,null,null,null,null,20,"*","*","小学男4年走幅跳","小学女4年走幅跳","*","*","*","*","*","*",null,null,"小5女C"]
[22,null,null,null,null,null,"","オホーツク",null,null,null,null,"",null,null,"",null,null,null,null,null,"",null,null,"",null,null,null,null,null,null,null,null,null,null,null,null,null,null,"小学種目",0,0,0,"小学0",null,null,null,"網走東小","美幌中","留辺蘂高",null,null,null,null,null,null,21,"*","*","小学男5年走幅跳","小学女5年走幅跳","*","*","*","*","*","*",null,{"$f":"COUNTA(BJ11:BJ28)","v":15},"小6女A"]
[23,null,null,null,null,null,"","オホーツク",null,null,null,null,"",null,null,"",null,null,null,null,null,"",null,null,"",null,null,null,null,null,null,null,null,null,null,null,null,null,null,"小学種目",0,0,0,"小学0",null,null,null,"網走白鳥台小","大空東藻琴中",null,null,null,null,null,null,null,22,"*","*","小学男6年走幅跳","小学女6年走幅跳","*","*","*","*","*","*",null,null,"小6女B"]
[24,null,null,null,null,null,"","オホーツク",null,null,null,null,"",null,null,"",null,null,null,null,null,"",null,null,"",null,null,null,null,null,null,null,null,null,null,null,null,null,null,"小学種目",0,0,0,"小学0",null,null,null,"紋別潮見小","大空女満別中",null,null,null,null,null,null,null,23,"*","*","小学男5年砲丸投(2.721kg)","小学女5年砲丸投(2.721kg)","*","*","*","*","*","*",null,null,"小6女C"]
[25,null,null,null,null,null,"","オホーツク",null,null,null,null,"",null,null,"",null,null,null,null,null,"",null,null,"",null,null,null,null,null,null,null,null,null,null,null,null,null,null,"小学種目",0,0,0,"小学0",null,null,null,"ｵﾎｰﾂｸACｼﾞｭﾆｱ","清里中",null,null,null,null,null,null,null,24,"*","*","小学男6年砲丸投(2.721kg)","小学女6年砲丸投(2.721kg)","*","*","*","*","*","*"]
[26,null,null,null,null,null,"","オホーツク",null,null,null,null,"",null,null,"",null,null,null,null,null,"",null,null,"",null,null,null,null,null,null,null,null,null,null,null,null,null,null,"小学種目",0,0,0,"小学0",null,null,null,"ｵﾎｰﾂｸSS","小清水中",null,null,null,null,null,null,null,25,"*","*","小学男3年ﾎﾞｰﾃｯｸｽｽﾛｰ投","小学女3年ﾎﾞｰﾃｯｸｽｽﾛｰ投","*","*","*","*","*","*"]
[27,null,null,null,null,null,"","オホーツク",null,null,null,null,"",null,null,"",null,null,null,null,null,"",null,null,"",null,null,null,null,null,null,null,null,null,null,null,null,null,null,"小学種目",0,0,0,"小学0",null,null,null,"ｵﾎｰﾂｸｷｯｽﾞ","斜里中",null,null,null,null,null,null,null,26,"*","*","小学男4年ﾎﾞｰﾃｯｸｽｽﾛｰ投","小学女4年ﾎﾞｰﾃｯｸｽｽﾛｰ投","*","*","*","*","*","*"]
[28,null,null,null,null,null,"","オホーツク",null,null,null,null,"",null,null,"",null,null,null,null,null,"",null,null,"",null,null,null,null,null,null,null,null,null,null,null,null,null,null,"小学種目",0,0,0,"小学0",null,null,null,"美幌RC","斜里ｳﾄﾛ中",null,null,null,null,null,null,null,27,"*","*","小学男5年ﾎﾞｰﾃｯｸｽｽﾛｰ投","小学女5年ﾎﾞｰﾃｯｸｽｽﾛｰ投","*","*","*","*","*","*"]
[29,null,null,null,null,null,"","オホーツク",null,null,null,null,"",null,null,"",null,null,null,null,null,"",null,null,"",null,null,null,null,null,null,null,null,null,null,null,null,null,null,"小学種目",0,0,0,"小学0",null,null,null,"美幌XC少年団","興部沙留中",null,null,null,null,null,null,null,28,"*","*","小学男6年ﾎﾞｰﾃｯｸｽｽﾛｰ投","小学女6年ﾎﾞｰﾃｯｸｽｽﾛｰ投","*","*","*","*","*","*"]
[30,null,null,null,null,null,"","オホーツク",null,null,null,null,"",null,null,"",null,null,null,null,null,"",null,null,"",null,null,null,null,null,null,null,null,null,null,null,null,null,null,"小学種目",0,0,0,"小学0",null,null,null,"網走陸上少年団","遠軽白滝中",null,null,null,null,null,null,null,29,"*","*","*","*","*","*","*","*","*","*"]
[31,null,null,null,null,null,"","オホーツク",null,null,null,null,"",null,null,"",null,null,null,null,null,"",null,null,"",null,null,null,null,null,null,null,null,null,null,null,null,null,null,"小学種目",0,0,0,"小学0",null,null,null,"遠軽陸上ｸﾗﾌﾞ","遠軽中",null,null,null,null,null,null,null,30,"*","*","*","*","*","*","*","*","*","*"]
[32,null,null,null,null,null,"","オホーツク",null,null,null,null,"",null,null,"",null,null,null,null,null,"",null,null,"",null,null,null,null,null,null,null,null,null,null,null,null,null,null,"小学種目",0,0,0,"小学0",null,null,null,"遠軽陸上少年団","遠軽丸瀬布中",null,null,null,null,null,null,null,31,"*","*","*","*","*","*","*","*","*","*"]
[33,null,null,null,null,null,"","オホーツク",null,null,null,null,"",null,null,"",null,null,null,null,null,"",null,null,"",null,null,null,null,null,null,null,null,null,null,null,null,null,null,"小学種目",0,0,0,"小学0",null,null,null,"訓子府陸上少年団",null,null,null,null,null,null,null,null,32,"*","*","*","*","*","*","*","*","*","*"]
[34,null,null,null,null,null,"","オホーツク",null,null,null,null,"",null,null,"",null,null,null,null,null,"",null,null,"",null,null,null,null,null,null,null,null,null,null,null,null,null,null,"小学種目",0,0,0,"小学0",null,null,null,"常呂陸上少年団",null,null,null,null,null,null,null,null,33,"*","*","*","*","*","*","*","*","*","*"]
[35,null,null,null,null,null,"","オホーツク",null,null,null,null,"",null,null,"",null,null,null,null,null,"",null,null,"",null,null,null,null,null,null,null,null,null,null,null,null,null,null,"小学種目",0,0,0,"小学0",null,null,null,"清里陸上少年団",null,null,null,null,null,null,null,null,34,"*","*","*","*","*","*","*","*","*","*"]
[36,null,null,null,null,null,"","オホーツク",null,null,null,null,"",null,null,"",null,null,null,null,null,"",null,null,"",null,null,null,null,null,null,null,null,null,null,null,null,null,null,"小学種目",0,0,0,"小学0",null,null,null,"知床斜里RC",null,null,null,null,null,null,null,null,35,"*","*","*","*","*","*","*","*","*","*"]
[37,null,null,null,null,null,"","オホーツク",null,null,null,null,"",null,null,"",null,null,null,null,null,"",null,null,"",null,null,null,null,null,null,null,null,null,null,null,null,null,null,"小学種目",0,0,0,"小学0",null,null,null,"弟子屈陸少",null,null,null,null,null,null,null,null,36,"*","*","*","*","*","*","*","*","*","*"]
[38,null,null,null,null,null,"","オホーツク",null,null,null,null,"",null,null,"",null,null,null,null,null,"",null,null,"",null,null,null,null,null,null,null,null,null,null,null,null,null,null,"小学種目",0,0,0,"小学0",null,null,null,"弟子屈RC"]
[39,null,null,null,null,null,"","オホーツク",null,null,null,null,"",null,null,"",null,null,null,null,null,"",null,null,"",null,null,null,null,null,null,null,null,null,null,null,null,null,null,"小学種目",0,0,0,"小学0",null,null,null,"別海AC"]
[40,null,null,null,null,null,"","オホーツク",null,null,null,null,"",null,null,"",null,null,null,null,null,"",null,null,"",null,null,null,null,null,null,null,null,null,null,null,null,null,null,"小学種目",0,0,0,"小学0"]
[null,null,null,null,null,null,null,null,null,{"$f":"COUNTA(J14:J53)","v":0},null,null,null,null,{"$f":"COUNTA(O14:O53)","v":0},null,null,null,{"$f":"COUNTA(S14:S53)","v":0},null,null,null,null,{"$f":"COUNTA(X14:X53)","v":0},null,null,null,{"$f":"COUNTA(AB14:AB53)","v":0},null,null,null,null,{"$f":"COUNTA(AG14:AG53)","v":0},null,null,null,{"$f":"COUNT(INDEX(1/(MATCH(AK14:AK53,AK14:AK53,)=ROW(AK1:AK53)),))","v":0},{"$f":"COUNT(INDEX(1/(MATCH(AL14:AL53,AL14:AL53,)=ROW(AL1:AL53)),))","v":0}]
[null,null,null,null,null,null,null,null,null,null,null,null,{"$f":"IF(J54=O54,\"○\",\"×\")","v":"○"},null,null,null,null,null,null,null,null,{"$f":"IF(S54=X54,\"○\",\"×\")","v":"○"},null,null,null,null,null,null,null,null,{"$f":"IF(AB54=AG54,\"○\",\"×\")","v":"○"}]

{"sheet":"申込確認シート","index":2,"n_rows":226,"n_cols":7,"rows_kept":226,"cut":false,"hidden":true,"merged":[]}
[]
["1種目",1,null,{"$f":"IF(入力表!J14=\"\",\"・\",入力表!J14)","v":"・"},{"$f":"COUNTIF($D$2:D2,D2)","v":1},{"$f":"D2&E2","v":"・1"},{"$f":"SUBSTITUTE(IF(入力表!E14=\"\",\"\",入力表!E14),\"　\",\"\")","v":""}]
["1種目",2,null,{"$f":"IF(入力表!J15=\"\",\"・\",入力表!J15)","v":"・"},{"$f":"COUNTIF($D$2:D3,D3)","v":2},{"$f":"D3&E3","v":"・2"},{"$f":"SUBSTITUTE(IF(入力表!E15=\"\",\"\",入力表!E15),\"　\",\"\")","v":""}]
["1種目",3,null,{"$f":"IF(入力表!J16=\"\",\"・\",入力表!J16)","v":"・"},{"$f":"COUNTIF($D$2:D4,D4)","v":3},"・3",{"$f":"SUBSTITUTE(IF(入力表!E16=\"\",\"\",入力表!E16),\"　\",\"\")","v":""}]
["1種目",4,null,{"$f":"IF(入力表!J17=\"\",\"・\",入力表!J17)","v":"・"},{"$f":"COUNTIF($D$2:D5,D5)","v":4},"・4",{"$f":"SUBSTITUTE(IF(入力表!E17=\"\",\"\",入力表!E17),\"　\",\"\")","v":""}]
["1種目",5,null,{"$f":"IF(入力表!J18=\"\",\"・\",入力表!J18)","v":"・"},{"$f":"COUNTIF($D$2:D6,D6)","v":5},"・5",{"$f":"SUBSTITUTE(IF(入力表!E18=\"\",\"\",入力表!E18),\"　\",\"\")","v":""}]
["1種目",6,null,{"$f":"IF(入力表!J19=\"\",\"・\",入力表!J19)","v":"・"},{"$f":"COUNTIF($D$2:D7,D7)","v":6},"・6",{"$f":"SUBSTITUTE(IF(入力表!E19=\"\",\"\",入力表!E19),\"　\",\"\")","v":""}]
["1種目",7,null,{"$f":"IF(入力表!J20=\"\",\"・\",入力表!J20)","v":"・"},{"$f":"COUNTIF($D$2:D8,D8)","v":7},"・7",{"$f":"SUBSTITUTE(IF(入力表!E20=\"\",\"\",入力表!E20),\"　\",\"\")","v":""}]
["1種目",8,null,{"$f":"IF(入力表!J21=\"\",\"・\",入力表!J21)","v":"・"},{"$f":"COUNTIF($D$2:D9,D9)","v":8},"・8",{"$f":"SUBSTITUTE(IF(入力表!E21=\"\",\"\",入力表!E21),\"　\",\"\")","v":""}]
["1種目",9,null,{"$f":"IF(入力表!J22=\"\",\"・\",入力表!J22)","v":"・"},{"$f":"COUNTIF($D$2:D10,D10)","v":9},"・9",{"$f":"SUBSTITUTE(IF(入力表!E22=\"\",\"\",入力表!E22),\"　\",\"\")","v":""}]
["1種目",10,null,{"$f":"IF(入力表!J23=\"\",\"・\",入力表!J23)","v":"・"},{"$f":"COUNTIF($D$2:D11,D11)","v":10},"・10",{"$f":"SUBSTITUTE(IF(入力表!E23=\"\",\"\",入力表!E23),\"　\",\"\")","v":""}]
["1種目",11,null,{"$f":"IF(入力表!J24=\"\",\"・\",入力表!J24)","v":"・"},{"$f":"COUNTIF($D$2:D12,D12)","v":11},"・11",{"$f":"SUBSTITUTE(IF(入力表!E24=\"\",\"\",入力表!E24),\"　\",\"\")","v":""}]
["1種目",12,null,{"$f":"IF(入力表!J25=\"\",\"・\",入力表!J25)","v":"・"},{"$f":"COUNTIF($D$2:D13,D13)","v":12},"・12",{"$f":"SUBSTITUTE(IF(入力表!E25=\"\",\"\",入力表!E25),\"　\",\"\")","v":""}]
["1種目",13,null,{"$f":"IF(入力表!J26=\"\",\"・\",入力表!J26)","v":"・"},{"$f":"COUNTIF($D$2:D14,D14)","v":13},"・13",{"$f":"SUBSTITUTE(IF(入力表!E26=\"\",\"\",入力表!E26),\"　\",\"\")","v":""}]
["1種目",14,null,{"$f":"IF(入力表!J27=\"\",\"・\",入力表!J27)","v":"・"},{"$f":"COUNTIF($D$2:D15,D15)","v":14},"・14",{"$f":"SUBSTITUTE(IF(入力表!E27=\"\",\"\",入力表!E27),\"　\",\"\")","v":""}]
["1種目",15,null,{"$f":"IF(入力表!J28=\"\",\"・\",入力表!J28)","v":"・"},{"$f":"COUNTIF($D$2:D16,D16)","v":15},"・15",{"$f":"SUBSTITUTE(IF(入力表!E28=\"\",\"\",入力表!E28),\"　\",\"\")","v":""}]
["1種目",16,null,{"$f":"IF(入力表!J29=\"\",\"・\",入力表!J29)","v":"・"},{"$f":"COUNTIF($D$2:D17,D17)","v":16},"・16",{"$f":"SUBSTITUTE(IF(入力表!E29=\"\",\"\",入力表!E29),\"　\",\"\")","v":""}]
["1種目",17,null,{"$f":"IF(入力表!J30=\"\",\"・\",入力表!J30)","v":"・"},{"$f":"COUNTIF($D$2:D18,D18)","v":17},"・17",{"$f":"SUBSTITUTE(IF(入力表!E30=\"\",\"\",入力表!E30),\"　\",\"\")","v":""}]
["1種目",18,null,{"$f":"IF(入力表!J31=\"\",\"・\",入力表!J31)","v":"・"},{"$f":"COUNTIF($D$2:D19,D19)","v":18},"・18",{"$f":"SUBSTITUTE(IF(入力表!E31=\"\",\"\",入力表!E31),\"　\",\"\")","v":""}]
["1種目",19,null,{"$f":"IF(入力表!J32=\"\",\"・\",入力表!J32)","v":"・"},{"$f":"COUNTIF($D$2:D20,D20)","v":19},"・19",{"$f":"SUBSTITUTE(IF(入力表!E32=\"\",\"\",入力表!E32),\"　\",\"\")","v":""}]
["1種目",20,null,{"$f":"IF(入力表!J33=\"\",\"・\",入力表!J33)","v":"・"},{"$f":"COUNTIF($D$2:D21,D21)","v":20},"・20",{"$f":"SUBSTITUTE(IF(入力表!E33=\"\",\"\",入力表!E33),\"　\",\"\")","v":""}]
["1種目",21,null,{"$f":"IF(入力表!J34=\"\",\"・\",入力表!J34)","v":"・"},{"$f":"COUNTIF($D$2:D22,D22)","v":21},"・21",{"$f":"SUBSTITUTE(IF(入力表!E34=\"\",\"\",入力表!E34),\"　\",\"\")","v":""}]
["1種目",22,null,{"$f":"IF(入力表!J35=\"\",\"・\",入力表!J35)","v":"・"},{"$f":"COUNTIF($D$2:D23,D23)","v":22},"・22",{"$f":"SUBSTITUTE(IF(入力表!E35=\"\",\"\",入力表!E35),\"　\",\"\")","v":""}]
["1種目",23,null,{"$f":"IF(入力表!J36=\"\",\"・\",入力表!J36)","v":"・"},{"$f":"COUNTIF($D$2:D24,D24)","v":23},"・23",{"$f":"SUBSTITUTE(IF(入力表!E36=\"\",\"\",入力表!E36),\"　\",\"\")","v":""}]
["1種目",24,null,{"$f":"IF(入力表!J37=\"\",\"・\",入力表!J37)","v":"・"},{"$f":"COUNTIF($D$2:D25,D25)","v":24},"・24",{"$f":"SUBSTITUTE(IF(入力表!E37=\"\",\"\",入力表!E37),\"　\",\"\")","v":""}]
["1種目",25,null,{"$f":"IF(入力表!J38=\"\",\"・\",入力表!J38)","v":"・"},{"$f":"COUNTIF($D$2:D26,D26)","v":25},"・25",{"$f":"SUBSTITUTE(IF(入力表!E38=\"\",\"\",入力表!E38),\"　\",\"\")","v":""}]
["1種目",26,null,{"$f":"IF(入力表!J39=\"\",\"・\",入力表!J39)","v":"・"},{"$f":"COUNTIF($D$2:D27,D27)","v":26},"・26",{"$f":"SUBSTITUTE(IF(入力表!E39=\"\",\"\",入力表!E39),\"　\",\"\")","v":""}]
["1種目",27,null,{"$f":"IF(入力表!J40=\"\",\"・\",入力表!J40)","v":"・"},{"$f":"COUNTIF($D$2:D28,D28)","v":27},"・27",{"$f":"SUBSTITUTE(IF(入力表!E40=\"\",\"\",入力表!E40),\"　\",\"\")","v":""}]
["1種目",28,null,{"$f":"IF(入力表!J41=\"\",\"・\",入力表!J41)","v":"・"},{"$f":"COUNTIF($D$2:D29,D29)","v":28},"・28",{"$f":"SUBSTITUTE(IF(入力表!E41=\"\",\"\",入力表!E41),\"　\",\"\")","v":""}]
["1種目",29,null,{"$f":"IF(入力表!J42=\"\",\"・\",入力表!J42)","v":"・"},{"$f":"COUNTIF($D$2:D30,D30)","v":29},"・29",{"$f":"SUBSTITUTE(IF(入力表!E42=\"\",\"\",入力表!E42),\"　\",\"\")","v":""}]
["1種目",30,null,{"$f":"IF(入力表!J43=\"\",\"・\",入力表!J43)","v":"・"},{"$f":"COUNTIF($D$2:D31,D31)","v":30},"・30",{"$f":"SUBSTITUTE(IF(入力表!E43=\"\",\"\",入力表!E43),\"　\",\"\")","v":""}]
["1種目",31,null,{"$f":"IF(入力表!J44=\"\",\"・\",入力表!J44)","v":"・"},{"$f":"COUNTIF($D$2:D32,D32)","v":31},"・31",{"$f":"SUBSTITUTE(IF(入力表!E44=\"\",\"\",入力表!E44),\"　\",\"\")","v":""}]
["1種目",32,null,{"$f":"IF(入力表!J45=\"\",\"・\",入力表!J45)","v":"・"},{"$f":"COUNTIF($D$2:D33,D33)","v":32},"・32",{"$f":"SUBSTITUTE(IF(入力表!E45=\"\",\"\",入力表!E45),\"　\",\"\")","v":""}]
["1種目",33,null,{"$f":"IF(入力表!J46=\"\",\"・\",入力表!J46)","v":"・"},{"$f":"COUNTIF($D$2:D34,D34)","v":33},"・33",{"$f":"SUBSTITUTE(IF(入力表!E46=\"\",\"\",入力表!E46),\"　\",\"\")","v":""}]
["1種目",34,null,{"$f":"IF(入力表!J47=\"\",\"・\",入力表!J47)","v":"・"},{"$f":"COUNTIF($D$2:D35,D35)","v":34},"・34",{"$f":"SUBSTITUTE(IF(入力表!E47=\"\",\"\",入力表!E47),\"　\",\"\")","v":""}]
["1種目",35,null,{"$f":"IF(入力表!J48=\"\",\"・\",入力表!J48)","v":"・"},{"$f":"COUNTIF($D$2:D36,D36)","v":35},"・35",{"$f":"SUBSTITUTE(IF(入力表!E48=\"\",\"\",入力表!E48),\"　\",\"\")","v":""}]
["1種目",36,null,{"$f":"IF(入力表!J49=\"\",\"・\",入力表!J49)","v":"・"},{"$f":"COUNTIF($D$2:D37,D37)","v":36},"・36",{"$f":"SUBSTITUTE(IF(入力表!E49=\"\",\"\",入力表!E49),\"　\",\"\")","v":""}]
["1種目",37,null,{"$f":"IF(入力表!J50=\"\",\"・\",入力表!J50)","v":"・"},{"$f":"COUNTIF($D$2:D38,D38)","v":37},"・37",{"$f":"SUBSTITUTE(IF(入力表!E50=\"\",\"\",入力表!E50),\"　\",\"\")","v":""}]
["1種目",38,null,{"$f":"IF(入力表!J51=\"\",\"・\",入力表!J51)","v":"・"},{"$f":"COUNTIF($D$2:D39,D39)","v":38},"・38",{"$f":"SUBSTITUTE(IF(入力表!E51=\"\",\"\",入力表!E51),\"　\",\"\")","v":""}]
["1種目",39,null,{"$f":"IF(入力表!J52=\"\",\"・\",入力表!J52)","v":"・"},{"$f":"COUNTIF($D$2:D40,D40)","v":39},"・39",{"$f":"SUBSTITUTE(IF(入力表!E52=\"\",\"\",入力表!E52),\"　\",\"\")","v":""}]
["1種目",40,null,{"$f":"IF(入力表!J53=\"\",\"・\",入力表!J53)","v":"・"},{"$f":"COUNTIF($D$2:D41,D41)","v":40},"・40",{"$f":"SUBSTITUTE(IF(入力表!E53=\"\",\"\",入力表!E53),\"　\",\"\")","v":""}]
["1種目",41,null,{"$f":"IF(入力表!#REF!=\"\",\"・\",入力表!#REF!)","v":{"$error":"#REF!"}},{"$f":"COUNTIF($D$2:D42,D42)","v":1},{"$error":"#REF!"},{"$f":"SUBSTITUTE(IF(入力表!#REF!=\"\",\"\",入力表!#REF!),\"　\",\"\")","v":{"$error":"#REF!"}}]
["1種目",42,null,{"$f":"IF(入力表!#REF!=\"\",\"・\",入力表!#REF!)","v":{"$error":"#REF!"}},{"$f":"COUNTIF($D$2:D43,D43)","v":2},{"$error":"#REF!"},{"$f":"SUBSTITUTE(IF(入力表!#REF!=\"\",\"\",入力表!#REF!),\"　\",\"\")","v":{"$error":"#REF!"}}]
["1種目",43,null,{"$f":"IF(入力表!#REF!=\"\",\"・\",入力表!#REF!)","v":{"$error":"#REF!"}},{"$f":"COUNTIF($D$2:D44,D44)","v":3},{"$error":"#REF!"},{"$f":"SUBSTITUTE(IF(入力表!#REF!=\"\",\"\",入力表!#REF!),\"　\",\"\")","v":{"$error":"#REF!"}}]
["1種目",44,null,{"$f":"IF(入力表!#REF!=\"\",\"・\",入力表!#REF!)","v":{"$error":"#REF!"}},{"$f":"COUNTIF($D$2:D45,D45)","v":4},{"$error":"#REF!"},{"$f":"SUBSTITUTE(IF(入力表!#REF!=\"\",\"\",入力表!#REF!),\"　\",\"\")","v":{"$error":"#REF!"}}]
["1種目",45,null,{"$f":"IF(入力表!#REF!=\"\",\"・\",入力表!#REF!)","v":{"$error":"#REF!"}},{"$f":"COUNTIF($D$2:D46,D46)","v":5},{"$error":"#REF!"},{"$f":"SUBSTITUTE(IF(入力表!#REF!=\"\",\"\",入力表!#REF!),\"　\",\"\")","v":{"$error":"#REF!"}}]
["2種目",1,null,{"$f":"入力表!S14","v":0},{"$f":"COUNTIF($D$2:D47,D47)","v":1},{"$f":"IF(入力表!S14=\"\",\"\",D47&E47)","v":""},{"$f":"SUBSTITUTE(IF(入力表!E14=\"\",\"\",入力表!E14),\"　\",\"\")","v":""}]
["2種目",2,null,{"$f":"入力表!S15","v":0},{"$f":"COUNTIF($D$2:D48,D48)","v":2},{"$f":"IF(入力表!S15=\"\",\"\",D48&E48)","v":""},{"$f":"SUBSTITUTE(IF(入力表!E15=\"\",\"\",入力表!E15),\"　\",\"\")","v":""}]
["2種目",3,null,{"$f":"入力表!S16","v":0},{"$f":"COUNTIF($D$2:D49,D49)","v":3},{"$f":"IF(入力表!S16=\"\",\"\",D49&E49)","v":""},{"$f":"SUBSTITUTE(IF(入力表!E16=\"\",\"\",入力表!E16),\"　\",\"\")","v":""}]
["2種目",4,null,{"$f":"入力表!S17","v":0},{"$f":"COUNTIF($D$2:D50,D50)","v":4},{"$f":"IF(入力表!S17=\"\",\"\",D50&E50)","v":""},{"$f":"SUBSTITUTE(IF(入力表!E17=\"\",\"\",入力表!E17),\"　\",\"\")","v":""}]
["2種目",5,null,{"$f":"入力表!S18","v":0},{"$f":"COUNTIF($D$2:D51,D51)","v":5},{"$f":"IF(入力表!S18=\"\",\"\",D51&E51)","v":""},{"$f":"SUBSTITUTE(IF(入力表!E18=\"\",\"\",入力表!E18),\"　\",\"\")","v":""}]
["2種目",6,null,{"$f":"入力表!S19","v":0},{"$f":"COUNTIF($D$2:D52,D52)","v":6},{"$f":"IF(入力表!S19=\"\",\"\",D52&E52)","v":""},{"$f":"SUBSTITUTE(IF(入力表!E19=\"\",\"\",入力表!E19),\"　\",\"\")","v":""}]
["2種目",7,null,{"$f":"入力表!S20","v":0},{"$f":"COUNTIF($D$2:D53,D53)","v":7},{"$f":"IF(入力表!S20=\"\",\"\",D53&E53)","v":""},{"$f":"SUBSTITUTE(IF(入力表!E20=\"\",\"\",入力表!E20),\"　\",\"\")","v":""}]
["2種目",8,null,{"$f":"入力表!S21","v":0},{"$f":"COUNTIF($D$2:D54,D54)","v":8},{"$f":"IF(入力表!S21=\"\",\"\",D54&E54)","v":""},{"$f":"SUBSTITUTE(IF(入力表!E21=\"\",\"\",入力表!E21),\"　\",\"\")","v":""}]
["2種目",9,null,{"$f":"入力表!S22","v":0},{"$f":"COUNTIF($D$2:D55,D55)","v":9},{"$f":"IF(入力表!S22=\"\",\"\",D55&E55)","v":""},{"$f":"SUBSTITUTE(IF(入力表!E22=\"\",\"\",入力表!E22),\"　\",\"\")","v":""}]
["2種目",10,null,{"$f":"入力表!S23","v":0},{"$f":"COUNTIF($D$2:D56,D56)","v":10},{"$f":"IF(入力表!S23=\"\",\"\",D56&E56)","v":""},{"$f":"SUBSTITUTE(IF(入力表!E23=\"\",\"\",入力表!E23),\"　\",\"\")","v":""}]
["2種目",11,null,{"$f":"入力表!S24","v":0},{"$f":"COUNTIF($D$2:D57,D57)","v":11},{"$f":"IF(入力表!S24=\"\",\"\",D57&E57)","v":""},{"$f":"SUBSTITUTE(IF(入力表!E24=\"\",\"\",入力表!E24),\"　\",\"\")","v":""}]
["2種目",12,null,{"$f":"入力表!S25","v":0},{"$f":"COUNTIF($D$2:D58,D58)","v":12},{"$f":"IF(入力表!S25=\"\",\"\",D58&E58)","v":""},{"$f":"SUBSTITUTE(IF(入力表!E25=\"\",\"\",入力表!E25),\"　\",\"\")","v":""}]
["2種目",13,null,{"$f":"入力表!S26","v":0},{"$f":"COUNTIF($D$2:D59,D59)","v":13},{"$f":"IF(入力表!S26=\"\",\"\",D59&E59)","v":""},{"$f":"SUBSTITUTE(IF(入力表!E26=\"\",\"\",入力表!E26),\"　\",\"\")","v":""}]
["2種目",14,null,{"$f":"入力表!S27","v":0},{"$f":"COUNTIF($D$2:D60,D60)","v":14},{"$f":"IF(入力表!S27=\"\",\"\",D60&E60)","v":""},{"$f":"SUBSTITUTE(IF(入力表!E27=\"\",\"\",入力表!E27),\"　\",\"\")","v":""}]
["2種目",15,null,{"$f":"入力表!S28","v":0},{"$f":"COUNTIF($D$2:D61,D61)","v":15},{"$f":"IF(入力表!S28=\"\",\"\",D61&E61)","v":""},{"$f":"SUBSTITUTE(IF(入力表!E28=\"\",\"\",入力表!E28),\"　\",\"\")","v":""}]
["2種目",16,null,{"$f":"入力表!S29","v":0},{"$f":"COUNTIF($D$2:D62,D62)","v":16},{"$f":"IF(入力表!S29=\"\",\"\",D62&E62)","v":""},{"$f":"SUBSTITUTE(IF(入力表!E29=\"\",\"\",入力表!E29),\"　\",\"\")","v":""}]
["2種目",17,null,{"$f":"入力表!S30","v":0},{"$f":"COUNTIF($D$2:D63,D63)","v":17},{"$f":"IF(入力表!S30=\"\",\"\",D63&E63)","v":""},{"$f":"SUBSTITUTE(IF(入力表!E30=\"\",\"\",入力表!E30),\"　\",\"\")","v":""}]
["2種目",18,null,{"$f":"入力表!S31","v":0},{"$f":"COUNTIF($D$2:D64,D64)","v":18},{"$f":"IF(入力表!S31=\"\",\"\",D64&E64)","v":""},{"$f":"SUBSTITUTE(IF(入力表!E31=\"\",\"\",入力表!E31),\"　\",\"\")","v":""}]
["2種目",19,null,{"$f":"入力表!S32","v":0},{"$f":"COUNTIF($D$2:D65,D65)","v":19},{"$f":"IF(入力表!S32=\"\",\"\",D65&E65)","v":""},{"$f":"SUBSTITUTE(IF(入力表!E32=\"\",\"\",入力表!E32),\"　\",\"\")","v":""}]
["2種目",20,null,{"$f":"入力表!S33","v":0},{"$f":"COUNTIF($D$2:D66,D66)","v":20},{"$f":"IF(入力表!S33=\"\",\"\",D66&E66)","v":""},{"$f":"SUBSTITUTE(IF(入力表!E33=\"\",\"\",入力表!E33),\"　\",\"\")","v":""}]
["2種目",21,null,{"$f":"入力表!S34","v":0},{"$f":"COUNTIF($D$2:D67,D67)","v":21},{"$f":"IF(入力表!S34=\"\",\"\",D67&E67)","v":""},{"$f":"SUBSTITUTE(IF(入力表!E34=\"\",\"\",入力表!E34),\"　\",\"\")","v":""}]
["2種目",22,null,{"$f":"入力表!S35","v":0},{"$f":"COUNTIF($D$2:D68,D68)","v":22},{"$f":"IF(入力表!S35=\"\",\"\",D68&E68)","v":""},{"$f":"SUBSTITUTE(IF(入力表!E35=\"\",\"\",入力表!E35),\"　\",\"\")","v":""}]
["2種目",23,null,{"$f":"入力表!S36","v":0},{"$f":"COUNTIF($D$2:D69,D69)","v":23},{"$f":"IF(入力表!S36=\"\",\"\",D69&E69)","v":""},{"$f":"SUBSTITUTE(IF(入力表!E36=\"\",\"\",入力表!E36),\"　\",\"\")","v":""}]
["2種目",24,null,{"$f":"入力表!S37","v":0},{"$f":"COUNTIF($D$2:D70,D70)","v":24},{"$f":"IF(入力表!S37=\"\",\"\",D70&E70)","v":""},{"$f":"SUBSTITUTE(IF(入力表!E37=\"\",\"\",入力表!E37),\"　\",\"\")","v":""}]
["2種目",25,null,{"$f":"入力表!S38","v":0},{"$f":"COUNTIF($D$2:D71,D71)","v":25},{"$f":"IF(入力表!S38=\"\",\"\",D71&E71)","v":""},{"$f":"SUBSTITUTE(IF(入力表!E38=\"\",\"\",入力表!E38),\"　\",\"\")","v":""}]
["2種目",26,null,{"$f":"入力表!S39","v":0},{"$f":"COUNTIF($D$2:D72,D72)","v":26},{"$f":"IF(入力表!S39=\"\",\"\",D72&E72)","v":""},{"$f":"SUBSTITUTE(IF(入力表!E39=\"\",\"\",入力表!E39),\"　\",\"\")","v":""}]
["2種目",27,null,{"$f":"入力表!S40","v":0},{"$f":"COUNTIF($D$2:D73,D73)","v":27},{"$f":"IF(入力表!S40=\"\",\"\",D73&E73)","v":""},{"$f":"SUBSTITUTE(IF(入力表!E40=\"\",\"\",入力表!E40),\"　\",\"\")","v":""}]
["2種目",28,null,{"$f":"入力表!S41","v":0},{"$f":"COUNTIF($D$2:D74,D74)","v":28},{"$f":"IF(入力表!S41=\"\",\"\",D74&E74)","v":""},{"$f":"SUBSTITUTE(IF(入力表!E41=\"\",\"\",入力表!E41),\"　\",\"\")","v":""}]
["2種目",29,null,{"$f":"入力表!S42","v":0},{"$f":"COUNTIF($D$2:D75,D75)","v":29},{"$f":"IF(入力表!S42=\"\",\"\",D75&E75)","v":""},{"$f":"SUBSTITUTE(IF(入力表!E42=\"\",\"\",入力表!E42),\"　\",\"\")","v":""}]
["2種目",30,null,{"$f":"入力表!S43","v":0},{"$f":"COUNTIF($D$2:D76,D76)","v":30},{"$f":"IF(入力表!S43=\"\",\"\",D76&E76)","v":""},{"$f":"SUBSTITUTE(IF(入力表!E43=\"\",\"\",入力表!E43),\"　\",\"\")","v":""}]
["2種目",31,null,{"$f":"入力表!S44","v":0},{"$f":"COUNTIF($D$2:D77,D77)","v":31},{"$f":"IF(入力表!S44=\"\",\"\",D77&E77)","v":""},{"$f":"SUBSTITUTE(IF(入力表!E44=\"\",\"\",入力表!E44),\"　\",\"\")","v":""}]
["2種目",32,null,{"$f":"入力表!S45","v":0},{"$f":"COUNTIF($D$2:D78,D78)","v":32},{"$f":"IF(入力表!S45=\"\",\"\",D78&E78)","v":""},{"$f":"SUBSTITUTE(IF(入力表!E45=\"\",\"\",入力表!E45),\"　\",\"\")","v":""}]
["2種目",33,null,{"$f":"入力表!S46","v":0},{"$f":"COUNTIF($D$2:D79,D79)","v":33},{"$f":"IF(入力表!S46=\"\",\"\",D79&E79)","v":""},{"$f":"SUBSTITUTE(IF(入力表!E46=\"\",\"\",入力表!E46),\"　\",\"\")","v":""}]
["2種目",34,null,{"$f":"入力表!S47","v":0},{"$f":"COUNTIF($D$2:D80,D80)","v":34},{"$f":"IF(入力表!S47=\"\",\"\",D80&E80)","v":""},{"$f":"SUBSTITUTE(IF(入力表!E47=\"\",\"\",入力表!E47),\"　\",\"\")","v":""}]
["2種目",35,null,{"$f":"入力表!S48","v":0},{"$f":"COUNTIF($D$2:D81,D81)","v":35},{"$f":"IF(入力表!S48=\"\",\"\",D81&E81)","v":""},{"$f":"SUBSTITUTE(IF(入力表!E48=\"\",\"\",入力表!E48),\"　\",\"\")","v":""}]
["2種目",36,null,{"$f":"入力表!S49","v":0},{"$f":"COUNTIF($D$2:D82,D82)","v":36},{"$f":"IF(入力表!S49=\"\",\"\",D82&E82)","v":""},{"$f":"SUBSTITUTE(IF(入力表!E49=\"\",\"\",入力表!E49),\"　\",\"\")","v":""}]
["2種目",37,null,{"$f":"入力表!S50","v":0},{"$f":"COUNTIF($D$2:D83,D83)","v":37},{"$f":"IF(入力表!S50=\"\",\"\",D83&E83)","v":""},{"$f":"SUBSTITUTE(IF(入力表!E50=\"\",\"\",入力表!E50),\"　\",\"\")","v":""}]
["2種目",38,null,{"$f":"入力表!S51","v":0},{"$f":"COUNTIF($D$2:D84,D84)","v":38},{"$f":"IF(入力表!S51=\"\",\"\",D84&E84)","v":""},{"$f":"SUBSTITUTE(IF(入力表!E51=\"\",\"\",入力表!E51),\"　\",\"\")","v":""}]
["2種目",39,null,{"$f":"入力表!S52","v":0},{"$f":"COUNTIF($D$2:D85,D85)","v":39},{"$f":"IF(入力表!S52=\"\",\"\",D85&E85)","v":""},{"$f":"SUBSTITUTE(IF(入力表!E52=\"\",\"\",入力表!E52),\"　\",\"\")","v":""}]
["2種目",40,null,{"$f":"入力表!S53","v":0},{"$f":"COUNTIF($D$2:D86,D86)","v":40},{"$f":"IF(入力表!S53=\"\",\"\",D86&E86)","v":""},{"$f":"SUBSTITUTE(IF(入力表!E53=\"\",\"\",入力表!E53),\"　\",\"\")","v":""}]
["2種目",41,null,{"$f":"入力表!#REF!","v":{"$error":"#REF!"}},{"$f":"COUNTIF($D$2:D87,D87)","v":6},{"$f":"IF(入力表!#REF!=\"\",\"\",D87&E87)","v":{"$error":"#REF!"}},{"$f":"SUBSTITUTE(IF(入力表!#REF!=\"\",\"\",入力表!#REF!),\"　\",\"\")","v":{"$error":"#REF!"}}]
["2種目",42,null,{"$f":"入力表!#REF!","v":{"$error":"#REF!"}},{"$f":"COUNTIF($D$2:D88,D88)","v":7},{"$f":"IF(入力表!#REF!=\"\",\"\",D88&E88)","v":{"$error":"#REF!"}},{"$f":"SUBSTITUTE(IF(入力表!#REF!=\"\",\"\",入力表!#REF!),\"　\",\"\")","v":{"$error":"#REF!"}}]
["2種目",43,null,{"$f":"入力表!#REF!","v":{"$error":"#REF!"}},{"$f":"COUNTIF($D$2:D89,D89)","v":8},{"$f":"IF(入力表!#REF!=\"\",\"\",D89&E89)","v":{"$error":"#REF!"}},{"$f":"SUBSTITUTE(IF(入力表!#REF!=\"\",\"\",入力表!#REF!),\"　\",\"\")","v":{"$error":"#REF!"}}]
["2種目",44,null,{"$f":"入力表!#REF!","v":{"$error":"#REF!"}},{"$f":"COUNTIF($D$2:D90,D90)","v":9},{"$f":"IF(入力表!#REF!=\"\",\"\",D90&E90)","v":{"$error":"#REF!"}},{"$f":"SUBSTITUTE(IF(入力表!#REF!=\"\",\"\",入力表!#REF!),\"　\",\"\")","v":{"$error":"#REF!"}}]
["2種目",45,null,{"$f":"入力表!#REF!","v":{"$error":"#REF!"}},{"$f":"COUNTIF($D$2:D91,D91)","v":10},{"$f":"IF(入力表!#REF!=\"\",\"\",D91&E91)","v":{"$error":"#REF!"}},{"$f":"SUBSTITUTE(IF(入力表!#REF!=\"\",\"\",入力表!#REF!),\"　\",\"\")","v":{"$error":"#REF!"}}]
["3種目",1,null,{"$f":"入力表!AB14","v":0},{"$f":"COUNTIF($D$2:D92,D92)","v":41},{"$f":"IF(入力表!AB14=\"\",\"\",D92&E92)","v":""},{"$f":"SUBSTITUTE(IF(入力表!E14=\"\",\"\",入力表!E14),\"　\",\"\")","v":""}]
["3種目",2,null,{"$f":"入力表!AB15","v":0},{"$f":"COUNTIF($D$2:D93,D93)","v":42},{"$f":"IF(入力表!AB15=\"\",\"\",D93&E93)","v":""},{"$f":"SUBSTITUTE(IF(入力表!E15=\"\",\"\",入力表!E15),\"　\",\"\")","v":""}]
["3種目",3,null,{"$f":"入力表!AB16","v":0},{"$f":"COUNTIF($D$2:D94,D94)","v":43},{"$f":"IF(入力表!AB16=\"\",\"\",D94&E94)","v":""},{"$f":"SUBSTITUTE(IF(入力表!E16=\"\",\"\",入力表!E16),\"　\",\"\")","v":""}]
["3種目",4,null,{"$f":"入力表!AB17","v":0},{"$f":"COUNTIF($D$2:D95,D95)","v":44},{"$f":"IF(入力表!AB17=\"\",\"\",D95&E95)","v":""},{"$f":"SUBSTITUTE(IF(入力表!E17=\"\",\"\",入力表!E17),\"　\",\"\")","v":""}]
["3種目",5,null,{"$f":"入力表!AB18","v":0},{"$f":"COUNTIF($D$2:D96,D96)","v":45},{"$f":"IF(入力表!AB18=\"\",\"\",D96&E96)","v":""},{"$f":"SUBSTITUTE(IF(入力表!E18=\"\",\"\",入力表!E18),\"　\",\"\")","v":""}]
["3種目",6,null,{"$f":"入力表!AB19","v":0},{"$f":"COUNTIF($D$2:D97,D97)","v":46},{"$f":"IF(入力表!AB19=\"\",\"\",D97&E97)","v":""},{"$f":"SUBSTITUTE(IF(入力表!E19=\"\",\"\",入力表!E19),\"　\",\"\")","v":""}]
["3種目",7,null,{"$f":"入力表!AB20","v":0},{"$f":"COUNTIF($D$2:D98,D98)","v":47},{"$f":"IF(入力表!AB20=\"\",\"\",D98&E98)","v":""},{"$f":"SUBSTITUTE(IF(入力表!E20=\"\",\"\",入力表!E20),\"　\",\"\")","v":""}]
["3種目",8,null,{"$f":"入力表!AB21","v":0},{"$f":"COUNTIF($D$2:D99,D99)","v":48},{"$f":"IF(入力表!AB21=\"\",\"\",D99&E99)","v":""},{"$f":"SUBSTITUTE(IF(入力表!E21=\"\",\"\",入力表!E21),\"　\",\"\")","v":""}]
["3種目",9,null,{"$f":"入力表!AB22","v":0},{"$f":"COUNTIF($D$2:D100,D100)","v":49},{"$f":"IF(入力表!AB22=\"\",\"\",D100&E100)","v":""},{"$f":"SUBSTITUTE(IF(入力表!E22=\"\",\"\",入力表!E22),\"　\",\"\")","v":""}]
["3種目",10,null,{"$f":"入力表!AB23","v":0},{"$f":"COUNTIF($D$2:D101,D101)","v":50},{"$f":"IF(入力表!AB23=\"\",\"\",D101&E101)","v":""},{"$f":"SUBSTITUTE(IF(入力表!E23=\"\",\"\",入力表!E23),\"　\",\"\")","v":""}]
["3種目",11,null,{"$f":"入力表!AB24","v":0},{"$f":"COUNTIF($D$2:D102,D102)","v":51},{"$f":"IF(入力表!AB24=\"\",\"\",D102&E102)","v":""},{"$f":"SUBSTITUTE(IF(入力表!E24=\"\",\"\",入力表!E24),\"　\",\"\")","v":""}]
["3種目",12,null,{"$f":"入力表!AB25","v":0},{"$f":"COUNTIF($D$2:D103,D103)","v":52},{"$f":"IF(入力表!AB25=\"\",\"\",D103&E103)","v":""},{"$f":"SUBSTITUTE(IF(入力表!E25=\"\",\"\",入力表!E25),\"　\",\"\")","v":""}]
["3種目",13,null,{"$f":"入力表!AB26","v":0},{"$f":"COUNTIF($D$2:D104,D104)","v":53},{"$f":"IF(入力表!AB26=\"\",\"\",D104&E104)","v":""},{"$f":"SUBSTITUTE(IF(入力表!E26=\"\",\"\",入力表!E26),\"　\",\"\")","v":""}]
["3種目",14,null,{"$f":"入力表!AB27","v":0},{"$f":"COUNTIF($D$2:D105,D105)","v":54},{"$f":"IF(入力表!AB27=\"\",\"\",D105&E105)","v":""},{"$f":"SUBSTITUTE(IF(入力表!E27=\"\",\"\",入力表!E27),\"　\",\"\")","v":""}]
["3種目",15,null,{"$f":"入力表!AB28","v":0},{"$f":"COUNTIF($D$2:D106,D106)","v":55},{"$f":"IF(入力表!AB28=\"\",\"\",D106&E106)","v":""},{"$f":"SUBSTITUTE(IF(入力表!E28=\"\",\"\",入力表!E28),\"　\",\"\")","v":""}]
["3種目",16,null,{"$f":"入力表!AB29","v":0},{"$f":"COUNTIF($D$2:D107,D107)","v":56},{"$f":"IF(入力表!AB29=\"\",\"\",D107&E107)","v":""},{"$f":"SUBSTITUTE(IF(入力表!E29=\"\",\"\",入力表!E29),\"　\",\"\")","v":""}]
["3種目",17,null,{"$f":"入力表!AB30","v":0},{"$f":"COUNTIF($D$2:D108,D108)","v":57},{"$f":"IF(入力表!AB30=\"\",\"\",D108&E108)","v":""},{"$f":"SUBSTITUTE(IF(入力表!E30=\"\",\"\",入力表!E30),\"　\",\"\")","v":""}]
["3種目",18,null,{"$f":"入力表!AB31","v":0},{"$f":"COUNTIF($D$2:D109,D109)","v":58},{"$f":"IF(入力表!AB31=\"\",\"\",D109&E109)","v":""},{"$f":"SUBSTITUTE(IF(入力表!E31=\"\",\"\",入力表!E31),\"　\",\"\")","v":""}]
["3種目",19,null,{"$f":"入力表!AB32","v":0},{"$f":"COUNTIF($D$2:D110,D110)","v":59},{"$f":"IF(入力表!AB32=\"\",\"\",D110&E110)","v":""},{"$f":"SUBSTITUTE(IF(入力表!E32=\"\",\"\",入力表!E32),\"　\",\"\")","v":""}]
["3種目",20,null,{"$f":"入力表!AB33","v":0},{"$f":"COUNTIF($D$2:D111,D111)","v":60},{"$f":"IF(入力表!AB33=\"\",\"\",D111&E111)","v":""},{"$f":"SUBSTITUTE(IF(入力表!E33=\"\",\"\",入力表!E33),\"　\",\"\")","v":""}]
["3種目",21,null,{"$f":"入力表!AB34","v":0},{"$f":"COUNTIF($D$2:D112,D112)","v":61},{"$f":"IF(入力表!AB34=\"\",\"\",D112&E112)","v":""},{"$f":"SUBSTITUTE(IF(入力表!E34=\"\",\"\",入力表!E34),\"　\",\"\")","v":""}]
["3種目",22,null,{"$f":"入力表!AB35","v":0},{"$f":"COUNTIF($D$2:D113,D113)","v":62},{"$f":"IF(入力表!AB35=\"\",\"\",D113&E113)","v":""},{"$f":"SUBSTITUTE(IF(入力表!E35=\"\",\"\",入力表!E35),\"　\",\"\")","v":""}]
["3種目",23,null,{"$f":"入力表!AB36","v":0},{"$f":"COUNTIF($D$2:D114,D114)","v":63},{"$f":"IF(入力表!AB36=\"\",\"\",D114&E114)","v":""},{"$f":"SUBSTITUTE(IF(入力表!E36=\"\",\"\",入力表!E36),\"　\",\"\")","v":""}]
["3種目",24,null,{"$f":"入力表!AB37","v":0},{"$f":"COUNTIF($D$2:D115,D115)","v":64},{"$f":"IF(入力表!AB37=\"\",\"\",D115&E115)","v":""},{"$f":"SUBSTITUTE(IF(入力表!E37=\"\",\"\",入力表!E37),\"　\",\"\")","v":""}]
["3種目",25,null,{"$f":"入力表!AB38","v":0},{"$f":"COUNTIF($D$2:D116,D116)","v":65},{"$f":"IF(入力表!AB38=\"\",\"\",D116&E116)","v":""},{"$f":"SUBSTITUTE(IF(入力表!E38=\"\",\"\",入力表!E38),\"　\",\"\")","v":""}]
["3種目",26,null,{"$f":"入力表!AB39","v":0},{"$f":"COUNTIF($D$2:D117,D117)","v":66},{"$f":"IF(入力表!AB39=\"\",\"\",D117&E117)","v":""},{"$f":"SUBSTITUTE(IF(入力表!E39=\"\",\"\",入力表!E39),\"　\",\"\")","v":""}]
["3種目",27,null,{"$f":"入力表!AB40","v":0},{"$f":"COUNTIF($D$2:D118,D118)","v":67},{"$f":"IF(入力表!AB40=\"\",\"\",D118&E118)","v":""},{"$f":"SUBSTITUTE(IF(入力表!E40=\"\",\"\",入力表!E40),\"　\",\"\")","v":""}]
["3種目",28,null,{"$f":"入力表!AB41","v":0},{"$f":"COUNTIF($D$2:D119,D119)","v":68},{"$f":"IF(入力表!AB41=\"\",\"\",D119&E119)","v":""},{"$f":"SUBSTITUTE(IF(入力表!E41=\"\",\"\",入力表!E41),\"　\",\"\")","v":""}]
["3種目",29,null,{"$f":"入力表!AB42","v":0},{"$f":"COUNTIF($D$2:D120,D120)","v":69},{"$f":"IF(入力表!AB42=\"\",\"\",D120&E120)","v":""},{"$f":"SUBSTITUTE(IF(入力表!E42=\"\",\"\",入力表!E42),\"　\",\"\")","v":""}]
["3種目",30,null,{"$f":"入力表!AB43","v":0},{"$f":"COUNTIF($D$2:D121,D121)","v":70},{"$f":"IF(入力表!AB43=\"\",\"\",D121&E121)","v":""},{"$f":"SUBSTITUTE(IF(入力表!E43=\"\",\"\",入力表!E43),\"　\",\"\")","v":""}]
["3種目",31,null,{"$f":"入力表!AB44","v":0},{"$f":"COUNTIF($D$2:D122,D122)","v":71},{"$f":"IF(入力表!AB44=\"\",\"\",D122&E122)","v":""},{"$f":"SUBSTITUTE(IF(入力表!E44=\"\",\"\",入力表!E44),\"　\",\"\")","v":""}]
["3種目",32,null,{"$f":"入力表!AB45","v":0},{"$f":"COUNTIF($D$2:D123,D123)","v":72},{"$f":"IF(入力表!AB45=\"\",\"\",D123&E123)","v":""},{"$f":"SUBSTITUTE(IF(入力表!E45=\"\",\"\",入力表!E45),\"　\",\"\")","v":""}]
["3種目",33,null,{"$f":"入力表!AB46","v":0},{"$f":"COUNTIF($D$2:D124,D124)","v":73},{"$f":"IF(入力表!AB46=\"\",\"\",D124&E124)","v":""},{"$f":"SUBSTITUTE(IF(入力表!E46=\"\",\"\",入力表!E46),\"　\",\"\")","v":""}]
["3種目",34,null,{"$f":"入力表!AB47","v":0},{"$f":"COUNTIF($D$2:D125,D125)","v":74},{"$f":"IF(入力表!AB47=\"\",\"\",D125&E125)","v":""},{"$f":"SUBSTITUTE(IF(入力表!E47=\"\",\"\",入力表!E47),\"　\",\"\")","v":""}]
["3種目",35,null,{"$f":"入力表!AB48","v":0},{"$f":"COUNTIF($D$2:D126,D126)","v":75},{"$f":"IF(入力表!AB48=\"\",\"\",D126&E126)","v":""},{"$f":"SUBSTITUTE(IF(入力表!E48=\"\",\"\",入力表!E48),\"　\",\"\")","v":""}]
["3種目",36,null,{"$f":"入力表!AB49","v":0},{"$f":"COUNTIF($D$2:D127,D127)","v":76},{"$f":"IF(入力表!AB49=\"\",\"\",D127&E127)","v":""},{"$f":"SUBSTITUTE(IF(入力表!E49=\"\",\"\",入力表!E49),\"　\",\"\")","v":""}]
["3種目",37,null,{"$f":"入力表!AB50","v":0},{"$f":"COUNTIF($D$2:D128,D128)","v":77},{"$f":"IF(入力表!AB50=\"\",\"\",D128&E128)","v":""},{"$f":"SUBSTITUTE(IF(入力表!E50=\"\",\"\",入力表!E50),\"　\",\"\")","v":""}]
["3種目",38,null,{"$f":"入力表!AB51","v":0},{"$f":"COUNTIF($D$2:D129,D129)","v":78},{"$f":"IF(入力表!AB51=\"\",\"\",D129&E129)","v":""},{"$f":"SUBSTITUTE(IF(入力表!E51=\"\",\"\",入力表!E51),\"　\",\"\")","v":""}]
["3種目",39,null,{"$f":"入力表!AB52","v":0},{"$f":"COUNTIF($D$2:D130,D130)","v":79},{"$f":"IF(入力表!AB52=\"\",\"\",D130&E130)","v":""},{"$f":"SUBSTITUTE(IF(入力表!E52=\"\",\"\",入力表!E52),\"　\",\"\")","v":""}]
["3種目",40,null,{"$f":"入力表!AB53","v":0},{"$f":"COUNTIF($D$2:D131,D131)","v":80},{"$f":"IF(入力表!AB53=\"\",\"\",D131&E131)","v":""},{"$f":"SUBSTITUTE(IF(入力表!E53=\"\",\"\",入力表!E53),\"　\",\"\")","v":""}]
["3種目",41,null,{"$f":"入力表!#REF!","v":{"$error":"#REF!"}},{"$f":"COUNTIF($D$2:D132,D132)","v":11},{"$f":"IF(入力表!#REF!=\"\",\"\",D132&E132)","v":{"$error":"#REF!"}},{"$f":"SUBSTITUTE(IF(入力表!#REF!=\"\",\"\",入力表!#REF!),\"　\",\"\")","v":{"$error":"#REF!"}}]
["3種目",42,null,{"$f":"入力表!#REF!","v":{"$error":"#REF!"}},{"$f":"COUNTIF($D$2:D133,D133)","v":12},{"$f":"IF(入力表!#REF!=\"\",\"\",D133&E133)","v":{"$error":"#REF!"}},{"$f":"SUBSTITUTE(IF(入力表!#REF!=\"\",\"\",入力表!#REF!),\"　\",\"\")","v":{"$error":"#REF!"}}]
["3種目",43,null,{"$f":"入力表!#REF!","v":{"$error":"#REF!"}},{"$f":"COUNTIF($D$2:D134,D134)","v":13},{"$f":"IF(入力表!#REF!=\"\",\"\",D134&E134)","v":{"$error":"#REF!"}},{"$f":"SUBSTITUTE(IF(入力表!#REF!=\"\",\"\",入力表!#REF!),\"　\",\"\")","v":{"$error":"#REF!"}}]
["3種目",44,null,{"$f":"入力表!#REF!","v":{"$error":"#REF!"}},{"$f":"COUNTIF($D$2:D135,D135)","v":14},{"$f":"IF(入力表!#REF!=\"\",\"\",D135&E135)","v":{"$error":"#REF!"}},{"$f":"SUBSTITUTE(IF(入力表!#REF!=\"\",\"\",入力表!#REF!),\"　\",\"\")","v":{"$error":"#REF!"}}]
["3種目",45,null,{"$f":"入力表!#REF!","v":{"$error":"#REF!"}},{"$f":"COUNTIF($D$2:D136,D136)","v":15},{"$f":"IF(入力表!#REF!=\"\",\"\",D136&E136)","v":{"$error":"#REF!"}},{"$f":"SUBSTITUTE(IF(入力表!#REF!=\"\",\"\",入力表!#REF!),\"　\",\"\")","v":{"$error":"#REF!"}}]
["400mR",1,null,{"$f":"入力表!AK14","v":0},{"$f":"COUNTIF($D$137:D137,D137)","v":1},{"$f":"D137&E137","v":"01"},{"$f":"入力表!E14","v":0}]
["400mR",2,null,{"$f":"入力表!AK15","v":0},{"$f":"COUNTIF($D$137:D138,D138)","v":2},{"$f":"D138&E138","v":"02"},{"$f":"入力表!E15","v":0}]
["400mR",3,null,{"$f":"入力表!AK16","v":0},{"$f":"COUNTIF($D$137:D139,D139)","v":3},"03",{"$f":"入力表!E16","v":0}]
["400mR",4,null,{"$f":"入力表!AK17","v":0},{"$f":"COUNTIF($D$137:D140,D140)","v":4},"04",{"$f":"入力表!E17","v":0}]
["400mR",5,null,{"$f":"入力表!AK18","v":0},{"$f":"COUNTIF($D$137:D141,D141)","v":5},"05",{"$f":"入力表!E18","v":0}]
["400mR",6,null,{"$f":"入力表!AK19","v":0},{"$f":"COUNTIF($D$137:D142,D142)","v":6},"06",{"$f":"入力表!E19","v":0}]
["400mR",7,null,{"$f":"入力表!AK20","v":0},{"$f":"COUNTIF($D$137:D143,D143)","v":7},"07",{"$f":"入力表!E20","v":0}]
["400mR",8,null,{"$f":"入力表!AK21","v":0},{"$f":"COUNTIF($D$137:D144,D144)","v":8},"08",{"$f":"入力表!E21","v":0}]
["400mR",9,null,{"$f":"入力表!AK22","v":0},{"$f":"COUNTIF($D$137:D145,D145)","v":9},"09",{"$f":"入力表!E22","v":0}]
["400mR",10,null,{"$f":"入力表!AK23","v":0},{"$f":"COUNTIF($D$137:D146,D146)","v":10},"010",{"$f":"入力表!E23","v":0}]
["400mR",11,null,{"$f":"入力表!AK24","v":0},{"$f":"COUNTIF($D$137:D147,D147)","v":11},"011",{"$f":"入力表!E24","v":0}]
["400mR",12,null,{"$f":"入力表!AK25","v":0},{"$f":"COUNTIF($D$137:D148,D148)","v":12},"012",{"$f":"入力表!E25","v":0}]
["400mR",13,null,{"$f":"入力表!AK26","v":0},{"$f":"COUNTIF($D$137:D149,D149)","v":13},"013",{"$f":"入力表!E26","v":0}]
["400mR",14,null,{"$f":"入力表!AK27","v":0},{"$f":"COUNTIF($D$137:D150,D150)","v":14},{"$f":"D150&E150","v":"014"},{"$f":"入力表!E27","v":0}]
["400mR",15,null,{"$f":"入力表!AK28","v":0},{"$f":"COUNTIF($D$137:D151,D151)","v":15},"015",{"$f":"入力表!E28","v":0}]
["400mR",16,null,{"$f":"入力表!AK29","v":0},{"$f":"COUNTIF($D$137:D152,D152)","v":16},"016",{"$f":"入力表!E29","v":0}]
["400mR",17,null,{"$f":"入力表!AK30","v":0},{"$f":"COUNTIF($D$137:D153,D153)","v":17},"017",{"$f":"入力表!E30","v":0}]
["400mR",18,null,{"$f":"入力表!AK31","v":0},{"$f":"COUNTIF($D$137:D154,D154)","v":18},"018",{"$f":"入力表!E31","v":0}]
["400mR",19,null,{"$f":"入力表!AK32","v":0},{"$f":"COUNTIF($D$137:D155,D155)","v":19},"019",{"$f":"入力表!E32","v":0}]
["400mR",20,null,{"$f":"入力表!AK33","v":0},{"$f":"COUNTIF($D$137:D156,D156)","v":20},"020",{"$f":"入力表!E33","v":0}]
["400mR",21,null,{"$f":"入力表!AK34","v":0},{"$f":"COUNTIF($D$137:D157,D157)","v":21},"021",{"$f":"入力表!E34","v":0}]
["400mR",22,null,{"$f":"入力表!AK35","v":0},{"$f":"COUNTIF($D$137:D158,D158)","v":22},"022",{"$f":"入力表!E35","v":0}]
["400mR",23,null,{"$f":"入力表!AK36","v":0},{"$f":"COUNTIF($D$137:D159,D159)","v":23},"023",{"$f":"入力表!E36","v":0}]
["400mR",24,null,{"$f":"入力表!AK37","v":0},{"$f":"COUNTIF($D$137:D160,D160)","v":24},"024",{"$f":"入力表!E37","v":0}]
["400mR",25,null,{"$f":"入力表!AK38","v":0},{"$f":"COUNTIF($D$137:D161,D161)","v":25},"025",{"$f":"入力表!E38","v":0}]
["400mR",26,null,{"$f":"入力表!AK39","v":0},{"$f":"COUNTIF($D$137:D162,D162)","v":26},"026",{"$f":"入力表!E39","v":0}]
["400mR",27,null,{"$f":"入力表!AK40","v":0},{"$f":"COUNTIF($D$137:D163,D163)","v":27},"027",{"$f":"入力表!E40","v":0}]
["400mR",28,null,{"$f":"入力表!AK41","v":0},{"$f":"COUNTIF($D$137:D164,D164)","v":28},"028",{"$f":"入力表!E41","v":0}]
["400mR",29,null,{"$f":"入力表!AK42","v":0},{"$f":"COUNTIF($D$137:D165,D165)","v":29},"029",{"$f":"入力表!E42","v":0}]
["400mR",30,null,{"$f":"入力表!AK43","v":0},{"$f":"COUNTIF($D$137:D166,D166)","v":30},"030",{"$f":"入力表!E43","v":0}]
["400mR",31,null,{"$f":"入力表!AK44","v":0},{"$f":"COUNTIF($D$137:D167,D167)","v":31},"031",{"$f":"入力表!E44","v":0}]
["400mR",32,null,{"$f":"入力表!AK45","v":0},{"$f":"COUNTIF($D$137:D168,D168)","v":32},"032",{"$f":"入力表!E45","v":0}]
["400mR",33,null,{"$f":"入力表!AK46","v":0},{"$f":"COUNTIF($D$137:D169,D169)","v":33},"033",{"$f":"入力表!E46","v":0}]
["400mR",34,null,{"$f":"入力表!AK47","v":0},{"$f":"COUNTIF($D$137:D170,D170)","v":34},"034",{"$f":"入力表!E47","v":0}]
["400mR",35,null,{"$f":"入力表!AK48","v":0},{"$f":"COUNTIF($D$137:D171,D171)","v":35},"035",{"$f":"入力表!E48","v":0}]
["400mR",36,null,{"$f":"入力表!AK49","v":0},{"$f":"COUNTIF($D$137:D172,D172)","v":36},"036",{"$f":"入力表!E49","v":0}]
["400mR",37,null,{"$f":"入力表!AK50","v":0},{"$f":"COUNTIF($D$137:D173,D173)","v":37},"037",{"$f":"入力表!E50","v":0}]
["400mR",38,null,{"$f":"入力表!AK51","v":0},{"$f":"COUNTIF($D$137:D174,D174)","v":38},"038",{"$f":"入力表!E51","v":0}]
["400mR",39,null,{"$f":"入力表!AK52","v":0},{"$f":"COUNTIF($D$137:D175,D175)","v":39},"039",{"$f":"入力表!E52","v":0}]
["400mR",40,null,{"$f":"入力表!AK53","v":0},{"$f":"COUNTIF($D$137:D176,D176)","v":40},"040",{"$f":"入力表!E53","v":0}]
["400mR",41,null,{"$f":"入力表!#REF!","v":{"$error":"#REF!"}},{"$f":"COUNTIF($D$137:D177,D177)","v":1},{"$error":"#REF!"},{"$f":"入力表!#REF!","v":{"$error":"#REF!"}}]
["400mR",42,null,{"$f":"入力表!#REF!","v":{"$error":"#REF!"}},{"$f":"COUNTIF($D$137:D178,D178)","v":2},{"$error":"#REF!"},{"$f":"入力表!#REF!","v":{"$error":"#REF!"}}]
["400mR",43,null,{"$f":"入力表!#REF!","v":{"$error":"#REF!"}},{"$f":"COUNTIF($D$137:D179,D179)","v":3},{"$error":"#REF!"},{"$f":"入力表!#REF!","v":{"$error":"#REF!"}}]
["400mR",44,null,{"$f":"入力表!#REF!","v":{"$error":"#REF!"}},{"$f":"COUNTIF($D$137:D180,D180)","v":4},{"$error":"#REF!"},{"$f":"入力表!#REF!","v":{"$error":"#REF!"}}]
["400mR",45,null,{"$f":"入力表!#REF!","v":{"$error":"#REF!"}},{"$f":"COUNTIF($D$137:D181,D181)","v":5},{"$error":"#REF!"},{"$f":"入力表!#REF!","v":{"$error":"#REF!"}}]
["1600mR",1,null,{"$f":"入力表!AL14","v":0},{"$f":"COUNTIF($D$182:D182,D182)","v":1},{"$f":"D182&E182","v":"01"},{"$f":"入力表!E14","v":0}]
["1600mR",2,null,{"$f":"入力表!AL15","v":0},{"$f":"COUNTIF($D$182:D183,D183)","v":2},"02",{"$f":"入力表!E15","v":0}]
["1600mR",3,null,{"$f":"入力表!AL16","v":0},{"$f":"COUNTIF($D$182:D184,D184)","v":3},"03",{"$f":"入力表!E16","v":0}]
["1600mR",4,null,{"$f":"入力表!AL17","v":0},{"$f":"COUNTIF($D$182:D185,D185)","v":4},"04",{"$f":"入力表!E17","v":0}]
["1600mR",5,null,{"$f":"入力表!AL18","v":0},{"$f":"COUNTIF($D$182:D186,D186)","v":5},"05",{"$f":"入力表!E18","v":0}]
["1600mR",6,null,{"$f":"入力表!AL19","v":0},{"$f":"COUNTIF($D$182:D187,D187)","v":6},"06",{"$f":"入力表!E19","v":0}]
["1600mR",7,null,{"$f":"入力表!AL20","v":0},{"$f":"COUNTIF($D$182:D188,D188)","v":7},"07",{"$f":"入力表!E20","v":0}]
["1600mR",8,null,{"$f":"入力表!AL21","v":0},{"$f":"COUNTIF($D$182:D189,D189)","v":8},"08",{"$f":"入力表!E21","v":0}]
["1600mR",9,null,{"$f":"入力表!AL22","v":0},{"$f":"COUNTIF($D$182:D190,D190)","v":9},"09",{"$f":"入力表!E22","v":0}]
["1600mR",10,null,{"$f":"入力表!AL23","v":0},{"$f":"COUNTIF($D$182:D191,D191)","v":10},"010",{"$f":"入力表!E23","v":0}]
["1600mR",11,null,{"$f":"入力表!AL24","v":0},{"$f":"COUNTIF($D$182:D192,D192)","v":11},"011",{"$f":"入力表!E24","v":0}]
["1600mR",12,null,{"$f":"入力表!AL25","v":0},{"$f":"COUNTIF($D$182:D193,D193)","v":12},"012",{"$f":"入力表!E25","v":0}]
["1600mR",13,null,{"$f":"入力表!AL26","v":0},{"$f":"COUNTIF($D$182:D194,D194)","v":13},"013",{"$f":"入力表!E26","v":0}]
["1600mR",14,null,{"$f":"入力表!AL27","v":0},{"$f":"COUNTIF($D$182:D195,D195)","v":14},"014",{"$f":"入力表!E27","v":0}]
["1600mR",15,null,{"$f":"入力表!AL28","v":0},{"$f":"COUNTIF($D$182:D196,D196)","v":15},"015",{"$f":"入力表!E28","v":0}]
["1600mR",16,null,{"$f":"入力表!AL29","v":0},{"$f":"COUNTIF($D$182:D197,D197)","v":16},"016",{"$f":"入力表!E29","v":0}]
["1600mR",17,null,{"$f":"入力表!AL30","v":0},{"$f":"COUNTIF($D$182:D198,D198)","v":17},"017",{"$f":"入力表!E30","v":0}]
["1600mR",18,null,{"$f":"入力表!AL31","v":0},{"$f":"COUNTIF($D$182:D199,D199)","v":18},"018",{"$f":"入力表!E31","v":0}]
["1600mR",19,null,{"$f":"入力表!AL32","v":0},{"$f":"COUNTIF($D$182:D200,D200)","v":19},"019",{"$f":"入力表!E32","v":0}]
["1600mR",20,null,{"$f":"入力表!AL33","v":0},{"$f":"COUNTIF($D$182:D201,D201)","v":20},"020",{"$f":"入力表!E33","v":0}]
["1600mR",21,null,{"$f":"入力表!AL34","v":0},{"$f":"COUNTIF($D$182:D202,D202)","v":21},"021",{"$f":"入力表!E34","v":0}]
["1600mR",22,null,{"$f":"入力表!AL35","v":0},{"$f":"COUNTIF($D$182:D203,D203)","v":22},"022",{"$f":"入力表!E35","v":0}]
["1600mR",23,null,{"$f":"入力表!AL36","v":0},{"$f":"COUNTIF($D$182:D204,D204)","v":23},"023",{"$f":"入力表!E36","v":0}]
["1600mR",24,null,{"$f":"入力表!AL37","v":0},{"$f":"COUNTIF($D$182:D205,D205)","v":24},"024",{"$f":"入力表!E37","v":0}]
["1600mR",25,null,{"$f":"入力表!AL38","v":0},{"$f":"COUNTIF($D$182:D206,D206)","v":25},"025",{"$f":"入力表!E38","v":0}]
["1600mR",26,null,{"$f":"入力表!AL39","v":0},{"$f":"COUNTIF($D$182:D207,D207)","v":26},"026",{"$f":"入力表!E39","v":0}]
["1600mR",27,null,{"$f":"入力表!AL40","v":0},{"$f":"COUNTIF($D$182:D208,D208)","v":27},"027",{"$f":"入力表!E40","v":0}]
["1600mR",28,null,{"$f":"入力表!AL41","v":0},{"$f":"COUNTIF($D$182:D209,D209)","v":28},"028",{"$f":"入力表!E41","v":0}]
["1600mR",29,null,{"$f":"入力表!AL42","v":0},{"$f":"COUNTIF($D$182:D210,D210)","v":29},"029",{"$f":"入力表!E42","v":0}]
["1600mR",30,null,{"$f":"入力表!AL43","v":0},{"$f":"COUNTIF($D$182:D211,D211)","v":30},"030",{"$f":"入力表!E43","v":0}]
["1600mR",31,null,{"$f":"入力表!AL44","v":0},{"$f":"COUNTIF($D$182:D212,D212)","v":31},"031",{"$f":"入力表!E44","v":0}]
["1600mR",32,null,{"$f":"入力表!AL45","v":0},{"$f":"COUNTIF($D$182:D213,D213)","v":32},"032",{"$f":"入力表!E45","v":0}]
["1600mR",33,null,{"$f":"入力表!AL46","v":0},{"$f":"COUNTIF($D$182:D214,D214)","v":33},{"$f":"D214&E214","v":"033"},{"$f":"入力表!E46","v":0}]
["1600mR",34,null,{"$f":"入力表!AL47","v":0},{"$f":"COUNTIF($D$182:D215,D215)","v":34},"034",{"$f":"入力表!E47","v":0}]
["1600mR",35,null,{"$f":"入力表!AL48","v":0},{"$f":"COUNTIF($D$182:D216,D216)","v":35},"035",{"$f":"入力表!E48","v":0}]
["1600mR",36,null,{"$f":"入力表!AL49","v":0},{"$f":"COUNTIF($D$182:D217,D217)","v":36},"036",{"$f":"入力表!E49","v":0}]
["1600mR",37,null,{"$f":"入力表!AL50","v":0},{"$f":"COUNTIF($D$182:D218,D218)","v":37},"037",{"$f":"入力表!E50","v":0}]
["1600mR",38,null,{"$f":"入力表!AL51","v":0},{"$f":"COUNTIF($D$182:D219,D219)","v":38},"038",{"$f":"入力表!E51","v":0}]
["1600mR",39,null,{"$f":"入力表!AL52","v":0},{"$f":"COUNTIF($D$182:D220,D220)","v":39},"039",{"$f":"入力表!E52","v":0}]
["1600mR",40,null,{"$f":"入力表!AL53","v":0},{"$f":"COUNTIF($D$182:D221,D221)","v":40},"040",{"$f":"入力表!E53","v":0}]
["1600mR",41,null,{"$f":"入力表!#REF!","v":{"$error":"#REF!"}},{"$f":"COUNTIF($D$182:D222,D222)","v":1},{"$error":"#REF!"},{"$f":"入力表!#REF!","v":{"$error":"#REF!"}}]
["1600mR",42,null,{"$f":"入力表!#REF!","v":{"$error":"#REF!"}},{"$f":"COUNTIF($D$182:D223,D223)","v":2},{"$error":"#REF!"},{"$f":"入力表!#REF!","v":{"$error":"#REF!"}}]
["1600mR",43,null,{"$f":"入力表!#REF!","v":{"$error":"#REF!"}},{"$f":"COUNTIF($D$182:D224,D224)","v":3},{"$error":"#REF!"},{"$f":"入力表!#REF!","v":{"$error":"#REF!"}}]
["1600mR",44,null,{"$f":"入力表!#REF!","v":{"$error":"#REF!"}},{"$f":"COUNTIF($D$182:D225,D225)","v":4},{"$error":"#REF!"},{"$f":"入力表!#REF!","v":{"$error":"#REF!"}}]
["1600mR",45,null,{"$f":"入力表!#REF!","v":{"$error":"#REF!"}},{"$f":"COUNTIF($D$182:D226,D226)","v":5},{"$error":"#REF!"},{"$f":"入力表!#REF!","v":{"$error":"#REF!"}}]

{"sheet":"●初期設定（事務局）","index":3,"n_rows":45,"n_cols":47,"rows_kept":45,"cut":false,"hidden":true,"merged":[[0,4,0,13],[0,25,1,25],[0,28,1,28],[0,31,1,31],[0,34,1,34],[0,37,1,37],[0,43,1,43],[0,40,1,40],[0,46,1,46],[0,19,1,19],[0,22,1,22],[4,4,4,13],[6,3,6,5],[7,3,7,5],[9,3,9,5],[10,3,10,5],[6,6,6,9],[7,6,7,9],[9,6,9,9],[10,6,10,9],[16,3,16,5],[17,3,17,5],[18,3,18,5],[19,3,19,5],[12,3,12,5],[13,3,13,5],[14,3,14,5],[15,3,15,5],[12,6,12,9],[21,3,21,5],[21,6,21,9],[11,3,11,5],[8,3,8,5],[8,6,8,9],[11,6,11,9],[20,3,20,5],[13,6,13,9],[15,6,15,9],[16,6,16,9],[14,6,14,9],[17,6,17,9],[18,6,18,9],[19,6,19,9],[20,6,20,9],[22,3,22,5],[22,6,22,9],[23,3,23,5],[23,6,23,9],[24,3,24,5],[24,6,24,9]]}
[1,"大会名の設定",null,2,"申込〆切",null,null,null,null,null,null,null,null,null,null,3,"申込〆切",null,null,"幼児男子",null,null,"幼児女子",null,null,"小学男子",null,null,"小学女子",null,null,"中学男子",null,null,"中学女子",null,null,"高校男子",null,null,"高校女子",null,null,"一般男子",null,null,"一般女子"]
[null,null,null,null,null,null,null,null,null,null,null,null,null,null,null,null,null,null,0,null,null,0,null,null,0,null,null,0,null,null,0,null,null,0,null,null,0,null,null,0,null,null,0,null,null,0]
[null,"オホーツク陸協小学生記録会　兼　北見市小学生記録会",null,null,9,"月",10,"日","（","月","）",18,"：","00",null,null,null,0,{"$f":"IF(R3=1,S2+1,S2)","v":0},"幼児男子60m",0,{"$f":"IF(U3=1,V2+1,V2)","v":0},"幼児女子60m",1,{"$f":"IF(X3=1,Y2+1,Y2)","v":1},"幼児男子60m",1,{"$f":"IF(AA3=1,AB2+1,AB2)","v":1},"幼児女子60m",null,{"$f":"IF(AD3=1,AE2+1,AE2)","v":0},"中学男2・3年100m",null,{"$f":"IF(AG3=1,AH2+1,AH2)","v":0},"中学女2・3年100m",null,{"$f":"IF(AJ3=1,AK2+1,AK2)","v":0},"男100m",null,{"$f":"IF(AM3=1,AN2+1,AN2)","v":0},"女100m",null,{"$f":"IF(AP3=1,AQ2+1,AQ2)","v":0},"男100m",null,{"$f":"IF(AS3=1,AT2+1,AT2)","v":0},"女100m"]
[null,null,null,null,null,null,null,null,null,null,null,null,null,null,null,null,null,null,{"$f":"IF(R4=1,S3+1,S3)","v":0},null,null,{"$f":"IF(U4=1,V3+1,V3)","v":0},null,1,{"$f":"IF(X4=1,Y3+1,Y3)","v":2},"小学男1年60m",1,{"$f":"IF(AA4=1,AB3+1,AB3)","v":2},"小学女1年60m",null,{"$f":"IF(AD4=1,AE3+1,AE3)","v":0},"中学男1年100m",null,{"$f":"IF(AG4=1,AH3+1,AH3)","v":0},"中学女1年100m",null,{"$f":"IF(AJ4=1,AK3+1,AK3)","v":0},"男200m",null,{"$f":"IF(AM4=1,AN3+1,AN3)","v":0},"女200m",null,{"$f":"IF(AP4=1,AQ3+1,AQ3)","v":0},"男200m",null,{"$f":"IF(AS4=1,AT3+1,AT3)","v":0},"女200m"]
[null,"大会名",null,4,"参加料",null,null,null,null,null,null,null,null,null,null,null,null,null,0,null,null,0,null,null,2,"小学男2年60m",null,2,"小学女2年60m",null,0,"中学男2年100m",null,0,"中学女2年100m",null,0,"男400m",null,0,"女400m",null,0,"男400m",null,0,"女400m"]
[null,null,null,null,null,null,null,null,null,null,null,null,null,null,null,null,null,null,0,null,null,0,null,1,3,"小学男2年100m",1,3,"小学女2年100m",null,0,"中学男3年100m",null,0,"中学女3年100m",null,0,"男800m",null,0,"女800m",null,0,"男800m",null,0,"女800m"]
[null,"オホーツク陸協　記録会第１戦",null,"幼児1",null,null,null,null,null,null,null,null,null,null,null,null,null,null,0,null,null,0,null,1,4,"小学男3年100m",1,4,"小学女3年100m",null,0,"中学男共通100m",null,0,"中学女共通100m",null,0,"男1000m",null,0,"女1000m",null,0,"男1000m",null,0,"女1000m"]
[null,"オホーツク陸協　記録会第２戦",null,"幼児2",null,null,null,null,null,null,null,null,null,null,null,null,null,null,0,null,null,0,null,1,5,"小学男4年100m",1,5,"小学女4年100m",null,0,"中学男200m",null,0,"中学女200m",null,0,"男1500m",null,0,"女1500m",null,0,"男1500m",null,0,"女1500m"]
[null,"オホーツク陸協　記録会第３戦",null,"幼児3",null,null,null,null,null,null,null,null,null,null,null,null,null,null,0,null,null,0,null,1,6,"小学男5年100m",1,6,"小学女5年100m",null,0,"中学男400m",null,0,"中学女400m",null,0,"男3000m",null,0,"女3000m",null,0,"男3000m",null,0,"女3000m"]
[null,"オホーツク陸協　記録会第４戦",null,"小学1",null,null,800,null,null,null,null,null,null,null,null,null,null,null,0,null,null,0,null,1,7,"小学男6年100m",1,7,"小学女6年100m",null,0,"中学男800m",null,0,"中学女800m",null,0,"高校男混合3000m",null,0,"高校女混合3000m",null,0,"一般男混合3000m",null,0,"一般女混合3000m"]
[null,"オホーツク陸協　記録会第５戦",null,"小学2",null,null,1000,null,null,null,null,null,null,null,null,null,null,null,0,null,null,0,null,null,7,"小学男共通100m",null,7,"小学女共通100m",null,0,"中学男1年1500m",null,0,"中学女1500m",null,0,"男5000m",null,0,"女100mH(0.838m)",null,0,"男5000m",null,0,"女100mH(0.838m)"]
[null,"オホーツク陸上競技選手権大会",null,"小学3",null,null,null,null,null,null,null,null,null,null,null,null,null,null,0,null,null,0,null,1,8,"小学男2年800m",1,8,"小学女2年800m",null,0,"中学男2・3年1500m",null,0,"中学女混合3000m",null,0,"男110mH(1.067m)",null,0,"女400mH(0.762m)",null,0,"男110mH(1.067m)",null,0,"女400mH(0.762m)"]
[null,"オホーツク秋季陸上競技大会",null,"中学1",null,null,null,null,null,null,null,null,null,null,null,null,null,null,0,null,null,0,null,1,9,"小学男3年800m",1,9,"小学女3年800m",null,0,"中学男2年1500m",null,0,"中学女3000m",null,0,"男400mH(0.914m)",null,0,"女5000mW",null,0,"男400mH(0.914m)",null,0,"女5000mW"]
[null,"小学生陸上競技大会オホーツク予選会",null,"中学2",null,null,null,null,null,null,null,null,null,null,null,null,null,null,0,null,null,0,null,1,10,"小学男4年800m",1,10,"小学女4年800m",null,0,"中学男混合3000m",null,0,"中学女1年80mH",null,0,"男3000mSC",null,0,"女走高跳",null,0,"男3000mSC",null,0,"女走高跳"]
[null,"オホーツク陸協小学生記録会　兼　北見市小学生記録会",null,"中学3",null,null,null,null,null,null,null,null,null,null,null,null,null,null,0,null,null,0,null,null,10,"小学男共通800m",1,11,"小学女5年800m",null,0,"中学男3000m",null,0,"中学女100mH(0.762m)",null,0,"男5000mW",null,0,"女棒高跳",null,0,"男5000mW",null,0,"女棒高跳"]
[null,null,null,"高校1",null,null,null,null,null,null,null,null,null,null,null,null,null,null,0,null,null,0,null,null,10,"小学男4年1500m",1,12,"小学女6年800m",null,0,"男5000m",null,0,"中学女走高跳",null,0,"男走高跳",null,0,"女走幅跳",null,0,"男走高跳",null,0,"女走幅跳"]
[null,null,null,"高校2",null,null,null,null,null,null,null,null,null,null,null,null,null,null,0,null,null,0,null,null,10,"小学男5･6年1500m",null,12,"小学女共通800m",null,0,"中学男1年100mH(0.762m)",null,0,"中学女走幅跳",null,0,"男棒高跳",null,0,"女三段跳",null,0,"男棒高跳",null,0,"女三段跳"]
[null,null,null,"高校3",null,null,null,null,null,null,null,null,null,null,null,null,null,null,0,null,null,0,null,1,11,"小学男5年1500m",1,13,"小学女4年80mH",null,0,"中学男110mH(0.914m)",null,0,"中学女砲丸投(2.721kg)",null,0,"男走幅跳",null,0,"女砲丸投(4.000kg)",null,0,"男走幅跳",null,0,"女砲丸投(4.000kg)"]
[null,null,null,"一般1",null,null,null,null,null,null,null,null,null,null,null,null,null,null,0,null,null,0,null,1,12,"小学男6年1500m",null,13,"小学女5･6年80mH",null,0,"中学男走高跳",null,0,"中学女円盤投(1.000kg)",null,0,"男三段跳",null,0,"女円盤投(1.000kg)",null,0,"男三段跳",null,0,"女円盤投(1.000kg)"]
[null,null,null,"一般2",null,null,null,null,null,null,null,null,null,null,null,null,null,null,0,null,null,0,null,null,12,"小学男共通1500m",1,14,"小学女5年80mH",null,0,"中学男棒高跳",null,0,"中学女四種競技",null,0,"高校男砲丸投(6.000kg)",null,0,"女ﾊﾝﾏｰ投(4.000kg)",null,0,"男砲丸投(7.260kg)",null,0,"女ﾊﾝﾏｰ投(4.000kg)"]
[null,null,null,"一般3",null,null,null,null,null,null,null,null,null,null,null,null,null,null,0,null,null,0,null,1,13,"小学男4年80mH",1,15,"小学女6年80mH",null,0,"中学男走幅跳",null,0,"中学女ｼﾞｬﾍﾞﾘｯｸｽﾛｰ",null,0,"高校男円盤投(1.750kg)",null,0,"女やり投(600kg)",null,0,"男円盤投(2.000kg)",null,0,"女やり投(600kg)"]
[null,null,null,"小学リレー",null,null,1000,null,null,null,null,null,null,null,null,null,null,null,0,null,null,0,null,null,13,"小学男5･6年80mH",null,15,"小学女共通80mH",null,0,"中学男1年砲丸投(4.000kg)",null,0,"女200m",null,0,"ｼﾞｭﾆｱ男円盤投(1.750kg)",null,0,"女七種競技",null,0,"男ﾊﾝﾏｰ投(7.260kg)",null,0,"女七種競技"]
[null,null,null,"中学リレー",null,null,null,null,null,null,null,null,null,null,null,null,null,null,0,null,null,0,null,1,14,"小学男5年80mH",1,16,"小学女4年走高跳",null,0,"中学男砲丸投(5.000kg)",null,0,"女400m",null,0,"高校男ﾊﾝﾏｰ投(6.000kg)",null,0,"女300m",null,0,"男やり投(800kg)",null,0,"女300m"]
[null,null,null,"高校リレー",null,null,null,null,null,null,null,null,null,null,null,null,null,null,0,null,null,0,null,1,15,"小学男6年80mH",1,17,"小学女5年走高跳",null,0,"中学男円盤投(1.500kg)",null,0,"女800m",null,0,"高校男八種競技",null,0,"女100mYH",null,0,"男十種競技",null,0,"女100mYH"]
[null,null,null,"一般リレー",null,null,null,null,null,null,null,null,null,null,null,null,null,null,0,null,null,0,null,null,15,"小学男共通80mH",1,18,"小学女6年走高跳",null,0,"中学男四種競技",null,0,"女1000m",null,0,"男やり投(800kg)",null,0,null,null,0,"男300m",null,0]
[null,null,null,null,null,null,null,null,null,null,null,null,null,null,null,null,null,null,0,null,null,0,null,1,16,"小学男4年走高跳",null,18,"小学女走高跳",null,0,"中学男ｼﾞｬﾍﾞﾘｯｸｽﾛｰ",null,0,"女1500m",null,0,"男300m",null,0,null,null,0,"男110mJH",null,0]
[null,null,null,null,null,null,null,null,null,null,null,null,null,null,null,null,null,null,0,null,null,0,null,1,17,"小学男5年走高跳",1,19,"小学女3年走幅跳",null,0,"男200m",null,0,"女3000m",null,0,"男110mJH",null,0,null,null,0,null,null,0]
[null,null,null,null,null,null,null,null,null,null,null,null,null,null,null,null,null,null,0,null,null,0,null,1,18,"小学男6年走高跳",1,20,"小学女4年走幅跳",null,0,"男400m",null,0,null,null,0,null,null,0,null,null,0,null,null,0]
[null,null,null,null,null,null,null,null,null,null,null,null,null,null,null,null,null,null,0,null,null,0,null,null,18,"小学男走高跳",1,21,"小学女5年走幅跳",null,0,"男800m",null,0,null,null,0,null,null,0,null,null,0,null,null,0]
[null,null,null,null,null,null,null,null,null,null,null,null,null,null,null,null,null,null,0,null,null,0,null,1,19,"小学男3年走幅跳",1,22,"小学女6年走幅跳",null,0,"男1500m",null,0,null,null,0,null,null,0,null,null,0,null,null,0]
[null,null,null,null,null,null,null,null,null,null,null,null,null,null,null,null,null,null,0,null,null,0,null,1,20,"小学男4年走幅跳",null,22,"小学女走幅跳",null,0,null,null,0,null,null,0,null,null,0,null,null,0,null,null,0]
[null,null,null,null,null,null,null,null,null,null,null,null,null,null,null,null,null,null,0,null,null,0,null,1,21,"小学男5年走幅跳",1,23,"小学女5年砲丸投(2.721kg)",null,0,null,null,0,null,null,0,null,null,0,null,null,0,null,null,0]
[null,null,null,null,null,null,null,null,null,null,null,null,null,null,null,null,null,null,0,null,null,0,null,1,22,"小学男6年走幅跳",1,24,"小学女6年砲丸投(2.721kg)",null,0,null,null,0,null,null,0,null,null,0,null,null,0,null,null,0]
[null,null,null,null,null,null,null,null,null,null,null,null,null,null,null,null,null,null,0,null,null,0,null,null,22,"小学男走幅跳",null,24,"小学女砲丸投(2.721kg)",null,0,null,null,0,null,null,0,null,null,0,null,null,0,null,null,0]
[null,null,null,null,null,null,null,null,null,null,null,null,null,null,null,null,null,null,0,null,null,0,null,1,23,"小学男5年砲丸投(2.721kg)",1,25,"小学女3年ﾎﾞｰﾃｯｸｽｽﾛｰ投",null,0,null,null,0,null,null,0,null,null,0,null,null,0,null,null,0]
[null,null,null,null,null,null,null,null,null,null,null,null,null,null,null,null,null,null,0,null,null,0,null,1,24,"小学男6年砲丸投(2.721kg)",1,26,"小学女4年ﾎﾞｰﾃｯｸｽｽﾛｰ投",null,0,null,null,0,null,null,0,null,null,0,null,null,0,null,null,0]
[null,null,null,null,null,null,null,null,null,null,null,null,null,null,null,null,null,null,0,null,null,0,null,null,24,"小学男砲丸投(2.721kg)",1,27,"小学女5年ﾎﾞｰﾃｯｸｽｽﾛｰ投",null,0,null,null,0,null,null,0,null,null,0,null,null,0,null,null,0]
[null,null,null,null,null,null,null,null,null,null,null,null,null,null,null,null,null,null,0,null,null,0,null,1,25,"小学男3年ﾎﾞｰﾃｯｸｽｽﾛｰ投",1,28,"小学女6年ﾎﾞｰﾃｯｸｽｽﾛｰ投",null,0,null,null,0,null,null,0,null,null,0,null,null,0,null,null,0]
[null,null,null,null,null,null,null,null,null,null,null,null,null,null,null,null,null,null,0,null,null,0,null,1,26,"小学男4年ﾎﾞｰﾃｯｸｽｽﾛｰ投",null,28,"小学女ｿﾌﾄﾎﾞｰﾙ投",null,0,null,null,0,null,null,0,null,null,0,null,null,0,null,null,0]
[null,null,null,null,null,null,null,null,null,null,null,null,null,null,null,null,null,null,0,null,null,0,null,1,27,"小学男5年ﾎﾞｰﾃｯｸｽｽﾛｰ投",null,28,null,null,0,null,null,0,null,null,0,null,null,0,null,null,0,null,null,0]
[null,null,null,null,null,null,null,null,null,null,null,null,null,null,null,null,null,null,0,null,null,0,null,1,28,"小学男6年ﾎﾞｰﾃｯｸｽｽﾛｰ投",null,28,null,null,0,null,null,0,null,null,0,null,null,0,null,null,0,null,null,0]
[null,null,null,null,null,null,null,null,null,null,null,null,null,null,null,null,null,null,0,null,null,0,null,null,28,"小学男ｿﾌﾄﾎﾞｰﾙ投",null,28,null,null,0,null,null,0,null,null,0,null,null,0,null,null,0,null,null,0]
[null,null,null,null,null,null,null,null,null,null,null,null,null,null,null,null,null,null,0,null,null,0,null,null,28,null,null,28,null,null,0,null,null,0,null,null,0,null,null,0,null,null,0,null,null,0]
[null,null,null,null,null,null,null,null,null,null,null,null,null,null,null,null,null,null,0,null,null,0,null,null,28,null,null,28,null,null,0,null,null,0,null,null,0,null,null,0,null,null,0,null,null,0]
[null,null,null,null,null,null,null,null,null,null,null,null,null,null,null,null,null,null,0,null,null,0,null,null,28,null,null,28,null,null,0,null,null,0,null,null,0,null,null,0,null,null,0,null,null,0]

{"sheet":"Sheet1","index":4,"n_rows":0,"n_cols":0,"rows_kept":0,"cut":false,"hidden":true,"merged":[]}

{"sheet":"リレーベスト記録入力表","index":5,"n_rows":26,"n_cols":8,"rows_kept":26,"cut":false,"hidden":false,"merged":[[0,0,0,7]]}
["リレーベスト記録入力表"]
["例",1,"分",1,3,"秒",2,1]
["小3男A",null,"分",null,null,"秒"]
["小3男B",null,"分",null,null,"秒"]
["小3男C",null,"分",null,null,"秒"]
["小4男A",null,"分",null,null,"秒"]
["小4男B",null,"分",null,null,"秒"]
["小4男C",null,"分",null,null,"秒"]
["小5男A",null,"分",null,null,"秒"]
["小5男B",null,"分",null,null,"秒"]
["小5男C",null,"分",null,null,"秒"]
["小6男A",null,"分",null,null,"秒"]
["小6男B",null,"分",null,null,"秒"]
["小6男C",null,"分",null,null,"秒"]
["小3女A",null,"分",null,null,"秒"]
["小3女B",null,"分",null,null,"秒"]
["小3女C",null,"分",null,null,"秒"]
["小4女A",null,"分",null,null,"秒"]
["小4女B",null,"分",null,null,"秒"]
["小4女C",null,"分",null,null,"秒"]
["小5女A",null,"分",null,null,"秒"]
["小5女B",null,"分",null,null,"秒"]
["小5女C",null,"分",null,null,"秒"]
["小6女A",null,"分",null,null,"秒"]
["小6女B",null,"分",null,null,"秒"]
["小6女C",null,"分",null,null,"秒"]

{"sheet":"●貼付（事務局）","index":6,"n_rows":41,"n_cols":50,"rows_kept":41,"cut":false,"hidden":false,"merged":[[0,20,0,27],[0,28,0,35],[0,36,0,43],[0,15,0,16],[0,17,0,18]]}
["数","性","NC","氏名","誕生年","ﾌﾘｶﾞﾅ","所属陸協","団体名","年","種目１","ベスト","種目２","ベスト","種目３","ベスト","4R",null,"16R",null,null,"種目1ベスト",null,null,null,null,null,null,null,"種目2ベスト",null,null,null,null,null,null,null,"種目3ベスト"]
[1,{"$f":"IF(ISBLANK(入力表!C14),\"\",入力表!C14)","v":""},{"$f":"IF(ISBLANK(入力表!D14),\"\",入力表!D14)","v":""},{"$f":"IF(ISBLANK(入力表!E14),\"\",入力表!E14)","v":""},{"$f":"RIGHT(入力表!F14,2)","v":""},{"$f":"IF(ISBLANK(入力表!G14),\"\",入力表!G14)","v":""},{"$f":"IF(ISBLANK(入力表!H14),\"\",入力表!H14)","v":"オホーツク"},{"$f":"IF(D2=\"\",\"\",入力表!$C$4)","v":""},{"$f":"IF(ISBLANK(入力表!I14),\"\",入力表!I14)","v":""},{"$f":"IF(入力表!J14=\"\",\"\",入力表!J14)","v":""},{"$f":"CONCATENATE(U2,V2,W2,X2,Y2,Z2,AA2,AB2)","v":""},{"$f":"IF(入力表!S14=\"\",\"\",入力表!S14)","v":""},{"$f":"CONCATENATE(AC2,AD2,AE2,AF2,AG2,AH2,AI2,AJ2)","v":""},{"$f":"IF(入力表!AB14=\"\",\"\",入力表!AB14)","v":""},{"$f":"CONCATENATE(AK2,AL2,AM2,AN2,AO2,AP2,AQ2,AR2)","v":""},{"$f":"IF(入力表!AK14=\"\",\"\",入力表!AK14)","v":""},{"$f":"IF(ISERROR(VLOOKUP(P2,$AW$3:$AX$8,2,FALSE)),\"\",VLOOKUP(P2,$AW$3:$AX$8,2,FALSE))","v":""},{"$f":"IF(入力表!AL14=\"\",\"\",入力表!AL14)","v":""},{"$f":"IF(ISERROR(VLOOKUP(R2,$AW$10:$AX$15,2,FALSE)),\"\",VLOOKUP(R2,$AW$10:$AX$15,2,FALSE))","v":""},{"$f":"入力表!C5","v":0},{"$f":"IF(入力表!K14=\"\",\"\",入力表!K14)","v":""},{"$f":"IF(入力表!L14=\"\",\"\",入力表!L14)","v":""},{"$f":"IF(ISERROR(VLOOKUP(IF(V2=\"\",\"\",入力表!M14),$AT$2:$AU$5,2,FALSE)),\"\",VLOOKUP(IF(V2=\"\",\"\",入力表!M14),$AT$2:$AU$5,2,FALSE))","v":""},{"$f":"IF(ISBLANK(入力表!N14),\"\",入力表!N14)","v":""},{"$f":"IF(ISBLANK(入力表!O14),\"\",入力表!O14)","v":""},{"$f":"IF(ISERROR(VLOOKUP(入力表!P14,$AT$2:$AU$5,2,FALSE)),\"\",VLOOKUP(入力表!P14,$AT$2:$AU$5,2,FALSE))","v":""},{"$f":"IF(ISBLANK(入力表!Q14),\"\",入力表!Q14)","v":""},{"$f":"IF(ISBLANK(入力表!R14),\"\",入力表!R14)","v":""},{"$f":"IF(入力表!T14=\"\",\"\",入力表!T14)","v":""},{"$f":"IF(入力表!U14=\"\",\"\",入力表!U14)","v":""},{"$f":"IF(ISERROR(VLOOKUP(IF(AD2=\"\",\"\",入力表!V14),$AT$2:$AU$5,2,FALSE)),\"\",VLOOKUP(IF(AD2=\"\",\"\",入力表!V14),$AT$2:$AU$5,2,FALSE))","v":""},{"$f":"IF(ISBLANK(入力表!W14),\"\",入力表!W14)","v":""},{"$f":"IF(ISBLANK(入力表!X14),\"\",入力表!X14)","v":""},{"$f":"IF(ISERROR(VLOOKUP(入力表!Y14,$AT$2:$AU$5,2,FALSE)),\"\",VLOOKUP(入力表!Y14,$AT$2:$AU$5,2,FALSE))","v":""},{"$f":"IF(ISBLANK(入力表!Z14),\"\",入力表!Z14)","v":""},{"$f":"IF(ISBLANK(入力表!AA14),\"\",入力表!AA14)","v":""},{"$f":"IF(入力表!AC14=\"\",\"\",入力表!AC14)","v":""},{"$f":"IF(入力表!AD14=\"\",\"\",入力表!AD14)","v":""},{"$f":"IF(ISERROR(VLOOKUP(IF(AL2=\"\",\"\",入力表!AE14),$AT$2:$AU$5,2,FALSE)),\"\",VLOOKUP(IF(AL2=\"\",\"\",入力表!AE14),$AT$2:$AU$5,2,FALSE))","v":""},{"$f":"IF(ISBLANK(入力表!AF14),\"\",入力表!AF14)","v":""},{"$f":"IF(ISBLANK(入力表!AG14),\"\",入力表!AG14)","v":""},{"$f":"IF(ISERROR(VLOOKUP(入力表!AH14,$AT$2:$AU$5,2,FALSE)),\"\",VLOOKUP(入力表!AH14,$AT$2:$AU$5,2,FALSE))","v":""},{"$f":"IF(ISBLANK(入力表!AI14),\"\",入力表!AI14)","v":""},{"$f":"IF(ISBLANK(入力表!AJ14),\"\",入力表!AJ14)","v":""},null,"分",".",null,"400mR"]
[2,{"$f":"IF(ISBLANK(入力表!C15),\"\",入力表!C15)","v":""},{"$f":"IF(ISBLANK(入力表!D15),\"\",入力表!D15)","v":""},{"$f":"IF(ISBLANK(入力表!E15),\"\",入力表!E15)","v":""},{"$f":"RIGHT(入力表!F15,2)","v":""},{"$f":"IF(ISBLANK(入力表!G15),\"\",入力表!G15)","v":""},{"$f":"IF(ISBLANK(入力表!H15),\"\",入力表!H15)","v":"オホーツク"},{"$f":"IF(D3=\"\",\"\",入力表!$C$4)","v":""},{"$f":"IF(ISBLANK(入力表!I15),\"\",入力表!I15)","v":""},{"$f":"IF(入力表!J15=\"\",\"\",入力表!J15)","v":""},"",{"$f":"IF(入力表!S15=\"\",\"\",入力表!S15)","v":""},"",{"$f":"IF(入力表!AB15=\"\",\"\",入力表!AB15)","v":""},{"$f":"CONCATENATE(AK3,AL3,AM3,AN3,AO3,AP3,AQ3,AR3)","v":""},{"$f":"IF(入力表!AK15=\"\",\"\",入力表!AK15)","v":""},{"$f":"IF(ISERROR(VLOOKUP(P3,$AW$3:$AX$8,2,FALSE)),\"\",VLOOKUP(P3,$AW$3:$AX$8,2,FALSE))","v":""},{"$f":"IF(入力表!AL15=\"\",\"\",入力表!AL15)","v":""},{"$f":"IF(ISERROR(VLOOKUP(R3,$AW$10:$AX$15,2,FALSE)),\"\",VLOOKUP(R3,$AW$10:$AX$15,2,FALSE))","v":""},null,{"$f":"IF(入力表!K15=\"\",\"\",入力表!K15)","v":""},{"$f":"IF(入力表!L15=\"\",\"\",入力表!L15)","v":""},{"$f":"IF(ISERROR(VLOOKUP(IF(V3=\"\",\"\",入力表!M15),$AT$2:$AU$5,2,FALSE)),\"\",VLOOKUP(IF(V3=\"\",\"\",入力表!M15),$AT$2:$AU$5,2,FALSE))","v":""},{"$f":"IF(ISBLANK(入力表!N15),\"\",入力表!N15)","v":""},{"$f":"IF(ISBLANK(入力表!O15),\"\",入力表!O15)","v":""},{"$f":"IF(ISERROR(VLOOKUP(入力表!P15,$AT$2:$AU$5,2,FALSE)),\"\",VLOOKUP(入力表!P15,$AT$2:$AU$5,2,FALSE))","v":""},{"$f":"IF(ISBLANK(入力表!Q15),\"\",入力表!Q15)","v":""},{"$f":"IF(ISBLANK(入力表!R15),\"\",入力表!R15)","v":""},{"$f":"IF(入力表!T15=\"\",\"\",入力表!T15)","v":""},{"$f":"IF(入力表!U15=\"\",\"\",入力表!U15)","v":""},{"$f":"IF(AD3=\"\",\"\",\".\")","v":""},{"$f":"IF(ISBLANK(入力表!W15),\"\",入力表!W15)","v":""},{"$f":"IF(ISBLANK(入力表!X15),\"\",入力表!X15)","v":""},{"$f":"IF(ISERROR(VLOOKUP(入力表!Y15,$AT$2:$AU$5,2,FALSE)),\"\",VLOOKUP(入力表!Y15,$AT$2:$AU$5,2,FALSE))","v":""},{"$f":"IF(ISBLANK(入力表!Z15),\"\",入力表!Z15)","v":""},{"$f":"IF(ISBLANK(入力表!AA15),\"\",入力表!AA15)","v":""},{"$f":"IF(入力表!AC15=\"\",\"\",入力表!AC15)","v":""},{"$f":"IF(入力表!AD15=\"\",\"\",入力表!AD15)","v":""},{"$f":"IF(ISERROR(VLOOKUP(IF(AL3=\"\",\"\",入力表!AE15),$AT$2:$AU$5,2,FALSE)),\"\",VLOOKUP(IF(AL3=\"\",\"\",入力表!AE15),$AT$2:$AU$5,2,FALSE))","v":""},{"$f":"IF(ISBLANK(入力表!AF15),\"\",入力表!AF15)","v":""},{"$f":"IF(ISBLANK(入力表!AG15),\"\",入力表!AG15)","v":""},{"$f":"IF(ISERROR(VLOOKUP(入力表!AH15,$AT$2:$AU$5,2,FALSE)),\"\",VLOOKUP(入力表!AH15,$AT$2:$AU$5,2,FALSE))","v":""},{"$f":"IF(ISBLANK(入力表!AI15),\"\",入力表!AI15)","v":""},{"$f":"IF(ISBLANK(入力表!AJ15),\"\",入力表!AJ15)","v":""},null,"秒",".",null,"男子A",{"$f":"CONCATENATE(入力表!T5,\".\",入力表!V5,入力表!W5,\".\",入力表!Y5,入力表!Z5)","v":".."}]
[3,{"$f":"IF(ISBLANK(入力表!C16),\"\",入力表!C16)","v":""},{"$f":"IF(ISBLANK(入力表!D16),\"\",入力表!D16)","v":""},{"$f":"IF(ISBLANK(入力表!E16),\"\",入力表!E16)","v":""},{"$f":"RIGHT(入力表!F16,2)","v":""},{"$f":"IF(ISBLANK(入力表!G16),\"\",入力表!G16)","v":""},{"$f":"IF(ISBLANK(入力表!H16),\"\",入力表!H16)","v":"オホーツク"},{"$f":"IF(D4=\"\",\"\",入力表!$C$4)","v":""},{"$f":"IF(ISBLANK(入力表!I16),\"\",入力表!I16)","v":""},{"$f":"IF(入力表!J16=\"\",\"\",入力表!J16)","v":""},"",{"$f":"IF(入力表!S16=\"\",\"\",入力表!S16)","v":""},"",{"$f":"IF(入力表!AB16=\"\",\"\",入力表!AB16)","v":""},"",{"$f":"IF(入力表!AK16=\"\",\"\",入力表!AK16)","v":""},"",{"$f":"IF(入力表!AL16=\"\",\"\",入力表!AL16)","v":""},"",null,{"$f":"IF(入力表!K16=\"\",\"\",入力表!K16)","v":""},{"$f":"IF(入力表!L16=\"\",\"\",入力表!L16)","v":""},{"$f":"IF(ISERROR(VLOOKUP(IF(V4=\"\",\"\",入力表!M16),$AT$2:$AU$5,2,FALSE)),\"\",VLOOKUP(IF(V4=\"\",\"\",入力表!M16),$AT$2:$AU$5,2,FALSE))","v":""},{"$f":"IF(ISBLANK(入力表!N16),\"\",入力表!N16)","v":""},{"$f":"IF(ISBLANK(入力表!O16),\"\",入力表!O16)","v":""},{"$f":"IF(ISERROR(VLOOKUP(入力表!P16,$AT$2:$AU$5,2,FALSE)),\"\",VLOOKUP(入力表!P16,$AT$2:$AU$5,2,FALSE))","v":""},{"$f":"IF(ISBLANK(入力表!Q16),\"\",入力表!Q16)","v":""},{"$f":"IF(ISBLANK(入力表!R16),\"\",入力表!R16)","v":""},{"$f":"IF(入力表!T16=\"\",\"\",入力表!T16)","v":""},{"$f":"IF(入力表!U16=\"\",\"\",入力表!U16)","v":""},"",{"$f":"IF(ISBLANK(入力表!W16),\"\",入力表!W16)","v":""},{"$f":"IF(ISBLANK(入力表!X16),\"\",入力表!X16)","v":""},{"$f":"IF(ISERROR(VLOOKUP(入力表!Y16,$AT$2:$AU$5,2,FALSE)),\"\",VLOOKUP(入力表!Y16,$AT$2:$AU$5,2,FALSE))","v":""},{"$f":"IF(ISBLANK(入力表!Z16),\"\",入力表!Z16)","v":""},{"$f":"IF(ISBLANK(入力表!AA16),\"\",入力表!AA16)","v":""},{"$f":"IF(入力表!AC16=\"\",\"\",入力表!AC16)","v":""},{"$f":"IF(入力表!AD16=\"\",\"\",入力表!AD16)","v":""},{"$f":"IF(ISERROR(VLOOKUP(IF(AL4=\"\",\"\",入力表!AE16),$AT$2:$AU$5,2,FALSE)),\"\",VLOOKUP(IF(AL4=\"\",\"\",入力表!AE16),$AT$2:$AU$5,2,FALSE))","v":""},{"$f":"IF(ISBLANK(入力表!AF16),\"\",入力表!AF16)","v":""},{"$f":"IF(ISBLANK(入力表!AG16),\"\",入力表!AG16)","v":""},{"$f":"IF(ISERROR(VLOOKUP(入力表!AH16,$AT$2:$AU$5,2,FALSE)),\"\",VLOOKUP(入力表!AH16,$AT$2:$AU$5,2,FALSE))","v":""},{"$f":"IF(ISBLANK(入力表!AI16),\"\",入力表!AI16)","v":""},{"$f":"IF(ISBLANK(入力表!AJ16),\"\",入力表!AJ16)","v":""},null,"m","m",null,"男子B",{"$f":"CONCATENATE(入力表!T6,\".\",入力表!V6,入力表!W6,\".\",入力表!Y6,入力表!Z6)","v":".."}]
[4,{"$f":"IF(ISBLANK(入力表!C17),\"\",入力表!C17)","v":""},{"$f":"IF(ISBLANK(入力表!D17),\"\",入力表!D17)","v":""},{"$f":"IF(ISBLANK(入力表!E17),\"\",入力表!E17)","v":""},{"$f":"RIGHT(入力表!F17,2)","v":""},{"$f":"IF(ISBLANK(入力表!G17),\"\",入力表!G17)","v":""},{"$f":"IF(ISBLANK(入力表!H17),\"\",入力表!H17)","v":"オホーツク"},{"$f":"IF(D5=\"\",\"\",入力表!$C$4)","v":""},{"$f":"IF(ISBLANK(入力表!I17),\"\",入力表!I17)","v":""},{"$f":"IF(入力表!J17=\"\",\"\",入力表!J17)","v":""},"",{"$f":"IF(入力表!S17=\"\",\"\",入力表!S17)","v":""},"",{"$f":"IF(入力表!AB17=\"\",\"\",入力表!AB17)","v":""},"",{"$f":"IF(入力表!AK17=\"\",\"\",入力表!AK17)","v":""},{"$f":"IF(ISERROR(VLOOKUP(P5,$AW$3:$AX$8,2,FALSE)),\"\",VLOOKUP(P5,$AW$3:$AX$8,2,FALSE))","v":""},{"$f":"IF(入力表!AL17=\"\",\"\",入力表!AL17)","v":""},{"$f":"IF(ISERROR(VLOOKUP(R5,$AW$10:$AX$15,2,FALSE)),\"\",VLOOKUP(R5,$AW$10:$AX$15,2,FALSE))","v":""},null,{"$f":"IF(入力表!K17=\"\",\"\",入力表!K17)","v":""},{"$f":"IF(入力表!L17=\"\",\"\",入力表!L17)","v":""},{"$f":"IF(ISERROR(VLOOKUP(IF(V5=\"\",\"\",入力表!M17),$AT$2:$AU$5,2,FALSE)),\"\",VLOOKUP(IF(V5=\"\",\"\",入力表!M17),$AT$2:$AU$5,2,FALSE))","v":""},{"$f":"IF(ISBLANK(入力表!N17),\"\",入力表!N17)","v":""},{"$f":"IF(ISBLANK(入力表!O17),\"\",入力表!O17)","v":""},{"$f":"IF(ISERROR(VLOOKUP(入力表!P17,$AT$2:$AU$5,2,FALSE)),\"\",VLOOKUP(入力表!P17,$AT$2:$AU$5,2,FALSE))","v":""},{"$f":"IF(ISBLANK(入力表!Q17),\"\",入力表!Q17)","v":""},{"$f":"IF(ISBLANK(入力表!R17),\"\",入力表!R17)","v":""},{"$f":"IF(入力表!T17=\"\",\"\",入力表!T17)","v":""},{"$f":"IF(入力表!U17=\"\",\"\",入力表!U17)","v":""},"",{"$f":"IF(ISBLANK(入力表!W17),\"\",入力表!W17)","v":""},{"$f":"IF(ISBLANK(入力表!X17),\"\",入力表!X17)","v":""},{"$f":"IF(ISERROR(VLOOKUP(入力表!Y17,$AT$2:$AU$5,2,FALSE)),\"\",VLOOKUP(入力表!Y17,$AT$2:$AU$5,2,FALSE))","v":""},{"$f":"IF(ISBLANK(入力表!Z17),\"\",入力表!Z17)","v":""},{"$f":"IF(ISBLANK(入力表!AA17),\"\",入力表!AA17)","v":""},{"$f":"IF(入力表!AC17=\"\",\"\",入力表!AC17)","v":""},{"$f":"IF(入力表!AD17=\"\",\"\",入力表!AD17)","v":""},{"$f":"IF(ISERROR(VLOOKUP(IF(AL5=\"\",\"\",入力表!AE17),$AT$2:$AU$5,2,FALSE)),\"\",VLOOKUP(IF(AL5=\"\",\"\",入力表!AE17),$AT$2:$AU$5,2,FALSE))","v":""},{"$f":"IF(ISBLANK(入力表!AF17),\"\",入力表!AF17)","v":""},{"$f":"IF(ISBLANK(入力表!AG17),\"\",入力表!AG17)","v":""},{"$f":"IF(ISERROR(VLOOKUP(入力表!AH17,$AT$2:$AU$5,2,FALSE)),\"\",VLOOKUP(入力表!AH17,$AT$2:$AU$5,2,FALSE))","v":""},{"$f":"IF(ISBLANK(入力表!AI17),\"\",入力表!AI17)","v":""},{"$f":"IF(ISBLANK(入力表!AJ17),\"\",入力表!AJ17)","v":""},null,null,null,null,"男子C",{"$f":"CONCATENATE(入力表!T7,\".\",入力表!V7,入力表!W7,\".\",入力表!Y7,入力表!Z7)","v":".."}]
[5,{"$f":"IF(ISBLANK(入力表!C18),\"\",入力表!C18)","v":""},{"$f":"IF(ISBLANK(入力表!D18),\"\",入力表!D18)","v":""},{"$f":"IF(ISBLANK(入力表!E18),\"\",入力表!E18)","v":""},{"$f":"RIGHT(入力表!F18,2)","v":""},{"$f":"IF(ISBLANK(入力表!G18),\"\",入力表!G18)","v":""},{"$f":"IF(ISBLANK(入力表!H18),\"\",入力表!H18)","v":"オホーツク"},{"$f":"IF(D6=\"\",\"\",入力表!$C$4)","v":""},{"$f":"IF(ISBLANK(入力表!I18),\"\",入力表!I18)","v":""},{"$f":"IF(入力表!J18=\"\",\"\",入力表!J18)","v":""},"",{"$f":"IF(入力表!S18=\"\",\"\",入力表!S18)","v":""},"",{"$f":"IF(入力表!AB18=\"\",\"\",入力表!AB18)","v":""},"",{"$f":"IF(入力表!AK18=\"\",\"\",入力表!AK18)","v":""},"",{"$f":"IF(入力表!AL18=\"\",\"\",入力表!AL18)","v":""},"",null,{"$f":"IF(入力表!K18=\"\",\"\",入力表!K18)","v":""},{"$f":"IF(入力表!L18=\"\",\"\",入力表!L18)","v":""},{"$f":"IF(ISERROR(VLOOKUP(IF(V6=\"\",\"\",入力表!M18),$AT$2:$AU$5,2,FALSE)),\"\",VLOOKUP(IF(V6=\"\",\"\",入力表!M18),$AT$2:$AU$5,2,FALSE))","v":""},{"$f":"IF(ISBLANK(入力表!N18),\"\",入力表!N18)","v":""},{"$f":"IF(ISBLANK(入力表!O18),\"\",入力表!O18)","v":""},{"$f":"IF(ISERROR(VLOOKUP(入力表!P18,$AT$2:$AU$5,2,FALSE)),\"\",VLOOKUP(入力表!P18,$AT$2:$AU$5,2,FALSE))","v":""},{"$f":"IF(ISBLANK(入力表!Q18),\"\",入力表!Q18)","v":""},{"$f":"IF(ISBLANK(入力表!R18),\"\",入力表!R18)","v":""},{"$f":"IF(入力表!T18=\"\",\"\",入力表!T18)","v":""},{"$f":"IF(入力表!U18=\"\",\"\",入力表!U18)","v":""},"",{"$f":"IF(ISBLANK(入力表!W18),\"\",入力表!W18)","v":""},{"$f":"IF(ISBLANK(入力表!X18),\"\",入力表!X18)","v":""},{"$f":"IF(ISERROR(VLOOKUP(入力表!Y18,$AT$2:$AU$5,2,FALSE)),\"\",VLOOKUP(入力表!Y18,$AT$2:$AU$5,2,FALSE))","v":""},{"$f":"IF(ISBLANK(入力表!Z18),\"\",入力表!Z18)","v":""},{"$f":"IF(ISBLANK(入力表!AA18),\"\",入力表!AA18)","v":""},{"$f":"IF(入力表!AC18=\"\",\"\",入力表!AC18)","v":""},{"$f":"IF(入力表!AD18=\"\",\"\",入力表!AD18)","v":""},{"$f":"IF(ISERROR(VLOOKUP(IF(AL6=\"\",\"\",入力表!AE18),$AT$2:$AU$5,2,FALSE)),\"\",VLOOKUP(IF(AL6=\"\",\"\",入力表!AE18),$AT$2:$AU$5,2,FALSE))","v":""},{"$f":"IF(ISBLANK(入力表!AF18),\"\",入力表!AF18)","v":""},{"$f":"IF(ISBLANK(入力表!AG18),\"\",入力表!AG18)","v":""},{"$f":"IF(ISERROR(VLOOKUP(入力表!AH18,$AT$2:$AU$5,2,FALSE)),\"\",VLOOKUP(入力表!AH18,$AT$2:$AU$5,2,FALSE))","v":""},{"$f":"IF(ISBLANK(入力表!AI18),\"\",入力表!AI18)","v":""},{"$f":"IF(ISBLANK(入力表!AJ18),\"\",入力表!AJ18)","v":""},null,null,null,null,"女子A",{"$f":"CONCATENATE(入力表!T9,\".\",入力表!V9,入力表!W9,\".\",入力表!Y9,入力表!Z9)","v":".."}]
[6,{"$f":"IF(ISBLANK(入力表!C19),\"\",入力表!C19)","v":""},{"$f":"IF(ISBLANK(入力表!D19),\"\",入力表!D19)","v":""},{"$f":"IF(ISBLANK(入力表!E19),\"\",入力表!E19)","v":""},{"$f":"RIGHT(入力表!F19,2)","v":""},{"$f":"IF(ISBLANK(入力表!G19),\"\",入力表!G19)","v":""},{"$f":"IF(ISBLANK(入力表!H19),\"\",入力表!H19)","v":"オホーツク"},{"$f":"IF(D7=\"\",\"\",入力表!$C$4)","v":""},{"$f":"IF(ISBLANK(入力表!I19),\"\",入力表!I19)","v":""},{"$f":"IF(入力表!J19=\"\",\"\",入力表!J19)","v":""},"",{"$f":"IF(入力表!S19=\"\",\"\",入力表!S19)","v":""},"",{"$f":"IF(入力表!AB19=\"\",\"\",入力表!AB19)","v":""},"",{"$f":"IF(入力表!AK19=\"\",\"\",入力表!AK19)","v":""},"",{"$f":"IF(入力表!AL19=\"\",\"\",入力表!AL19)","v":""},"",null,{"$f":"IF(入力表!K19=\"\",\"\",入力表!K19)","v":""},{"$f":"IF(入力表!L19=\"\",\"\",入力表!L19)","v":""},{"$f":"IF(ISERROR(VLOOKUP(IF(V7=\"\",\"\",入力表!M19),$AT$2:$AU$5,2,FALSE)),\"\",VLOOKUP(IF(V7=\"\",\"\",入力表!M19),$AT$2:$AU$5,2,FALSE))","v":""},{"$f":"IF(ISBLANK(入力表!N19),\"\",入力表!N19)","v":""},{"$f":"IF(ISBLANK(入力表!O19),\"\",入力表!O19)","v":""},{"$f":"IF(ISERROR(VLOOKUP(入力表!P19,$AT$2:$AU$5,2,FALSE)),\"\",VLOOKUP(入力表!P19,$AT$2:$AU$5,2,FALSE))","v":""},{"$f":"IF(ISBLANK(入力表!Q19),\"\",入力表!Q19)","v":""},{"$f":"IF(ISBLANK(入力表!R19),\"\",入力表!R19)","v":""},{"$f":"IF(入力表!T19=\"\",\"\",入力表!T19)","v":""},{"$f":"IF(入力表!U19=\"\",\"\",入力表!U19)","v":""},"",{"$f":"IF(ISBLANK(入力表!W19),\"\",入力表!W19)","v":""},{"$f":"IF(ISBLANK(入力表!X19),\"\",入力表!X19)","v":""},{"$f":"IF(ISERROR(VLOOKUP(入力表!Y19,$AT$2:$AU$5,2,FALSE)),\"\",VLOOKUP(入力表!Y19,$AT$2:$AU$5,2,FALSE))","v":""},{"$f":"IF(ISBLANK(入力表!Z19),\"\",入力表!Z19)","v":""},{"$f":"IF(ISBLANK(入力表!AA19),\"\",入力表!AA19)","v":""},{"$f":"IF(入力表!AC19=\"\",\"\",入力表!AC19)","v":""},{"$f":"IF(入力表!AD19=\"\",\"\",入力表!AD19)","v":""},{"$f":"IF(ISERROR(VLOOKUP(IF(AL7=\"\",\"\",入力表!AE19),$AT$2:$AU$5,2,FALSE)),\"\",VLOOKUP(IF(AL7=\"\",\"\",入力表!AE19),$AT$2:$AU$5,2,FALSE))","v":""},{"$f":"IF(ISBLANK(入力表!AF19),\"\",入力表!AF19)","v":""},{"$f":"IF(ISBLANK(入力表!AG19),\"\",入力表!AG19)","v":""},{"$f":"IF(ISERROR(VLOOKUP(入力表!AH19,$AT$2:$AU$5,2,FALSE)),\"\",VLOOKUP(入力表!AH19,$AT$2:$AU$5,2,FALSE))","v":""},{"$f":"IF(ISBLANK(入力表!AI19),\"\",入力表!AI19)","v":""},{"$f":"IF(ISBLANK(入力表!AJ19),\"\",入力表!AJ19)","v":""},null,null,null,null,"女子B",{"$f":"CONCATENATE(入力表!T10,\".\",入力表!V10,入力表!W10,\".\",入力表!Y10,入力表!Z10)","v":".."}]
[7,{"$f":"IF(ISBLANK(入力表!C20),\"\",入力表!C20)","v":""},{"$f":"IF(ISBLANK(入力表!D20),\"\",入力表!D20)","v":""},{"$f":"IF(ISBLANK(入力表!E20),\"\",入力表!E20)","v":""},{"$f":"RIGHT(入力表!F20,2)","v":""},{"$f":"IF(ISBLANK(入力表!G20),\"\",入力表!G20)","v":""},{"$f":"IF(ISBLANK(入力表!H20),\"\",入力表!H20)","v":"オホーツク"},{"$f":"IF(D8=\"\",\"\",入力表!$C$4)","v":""},{"$f":"IF(ISBLANK(入力表!I20),\"\",入力表!I20)","v":""},{"$f":"IF(入力表!J20=\"\",\"\",入力表!J20)","v":""},"",{"$f":"IF(入力表!S20=\"\",\"\",入力表!S20)","v":""},"",{"$f":"IF(入力表!AB20=\"\",\"\",入力表!AB20)","v":""},"",{"$f":"IF(入力表!AK20=\"\",\"\",入力表!AK20)","v":""},"",{"$f":"IF(入力表!AL20=\"\",\"\",入力表!AL20)","v":""},"",null,{"$f":"IF(入力表!K20=\"\",\"\",入力表!K20)","v":""},{"$f":"IF(入力表!L20=\"\",\"\",入力表!L20)","v":""},{"$f":"IF(ISERROR(VLOOKUP(IF(V8=\"\",\"\",入力表!M20),$AT$2:$AU$5,2,FALSE)),\"\",VLOOKUP(IF(V8=\"\",\"\",入力表!M20),$AT$2:$AU$5,2,FALSE))","v":""},{"$f":"IF(ISBLANK(入力表!N20),\"\",入力表!N20)","v":""},{"$f":"IF(ISBLANK(入力表!O20),\"\",入力表!O20)","v":""},{"$f":"IF(ISERROR(VLOOKUP(入力表!P20,$AT$2:$AU$5,2,FALSE)),\"\",VLOOKUP(入力表!P20,$AT$2:$AU$5,2,FALSE))","v":""},{"$f":"IF(ISBLANK(入力表!Q20),\"\",入力表!Q20)","v":""},{"$f":"IF(ISBLANK(入力表!R20),\"\",入力表!R20)","v":""},{"$f":"IF(入力表!T20=\"\",\"\",入力表!T20)","v":""},{"$f":"IF(入力表!U20=\"\",\"\",入力表!U20)","v":""},"",{"$f":"IF(ISBLANK(入力表!W20),\"\",入力表!W20)","v":""},{"$f":"IF(ISBLANK(入力表!X20),\"\",入力表!X20)","v":""},{"$f":"IF(ISERROR(VLOOKUP(入力表!Y20,$AT$2:$AU$5,2,FALSE)),\"\",VLOOKUP(入力表!Y20,$AT$2:$AU$5,2,FALSE))","v":""},{"$f":"IF(ISBLANK(入力表!Z20),\"\",入力表!Z20)","v":""},{"$f":"IF(ISBLANK(入力表!AA20),\"\",入力表!AA20)","v":""},{"$f":"IF(入力表!AC20=\"\",\"\",入力表!AC20)","v":""},{"$f":"IF(入力表!AD20=\"\",\"\",入力表!AD20)","v":""},{"$f":"IF(ISERROR(VLOOKUP(IF(AL8=\"\",\"\",入力表!AE20),$AT$2:$AU$5,2,FALSE)),\"\",VLOOKUP(IF(AL8=\"\",\"\",入力表!AE20),$AT$2:$AU$5,2,FALSE))","v":""},{"$f":"IF(ISBLANK(入力表!AF20),\"\",入力表!AF20)","v":""},{"$f":"IF(ISBLANK(入力表!AG20),\"\",入力表!AG20)","v":""},{"$f":"IF(ISERROR(VLOOKUP(入力表!AH20,$AT$2:$AU$5,2,FALSE)),\"\",VLOOKUP(入力表!AH20,$AT$2:$AU$5,2,FALSE))","v":""},{"$f":"IF(ISBLANK(入力表!AI20),\"\",入力表!AI20)","v":""},{"$f":"IF(ISBLANK(入力表!AJ20),\"\",入力表!AJ20)","v":""},null,null,null,null,"女子C",{"$f":"CONCATENATE(入力表!T11,\".\",入力表!V11,入力表!W11,\".\",入力表!Y11,入力表!Z11)","v":".."}]
[8,{"$f":"IF(ISBLANK(入力表!C21),\"\",入力表!C21)","v":""},{"$f":"IF(ISBLANK(入力表!D21),\"\",入力表!D21)","v":""},{"$f":"IF(ISBLANK(入力表!E21),\"\",入力表!E21)","v":""},{"$f":"RIGHT(入力表!F21,2)","v":""},{"$f":"IF(ISBLANK(入力表!G21),\"\",入力表!G21)","v":""},{"$f":"IF(ISBLANK(入力表!H21),\"\",入力表!H21)","v":"オホーツク"},{"$f":"IF(D9=\"\",\"\",入力表!$C$4)","v":""},{"$f":"IF(ISBLANK(入力表!I21),\"\",入力表!I21)","v":""},{"$f":"IF(入力表!J21=\"\",\"\",入力表!J21)","v":""},"",{"$f":"IF(入力表!S21=\"\",\"\",入力表!S21)","v":""},"",{"$f":"IF(入力表!AB21=\"\",\"\",入力表!AB21)","v":""},"",{"$f":"IF(入力表!AK21=\"\",\"\",入力表!AK21)","v":""},"",{"$f":"IF(入力表!AL21=\"\",\"\",入力表!AL21)","v":""},"",null,{"$f":"IF(入力表!K21=\"\",\"\",入力表!K21)","v":""},{"$f":"IF(入力表!L21=\"\",\"\",入力表!L21)","v":""},{"$f":"IF(ISERROR(VLOOKUP(IF(V9=\"\",\"\",入力表!M21),$AT$2:$AU$5,2,FALSE)),\"\",VLOOKUP(IF(V9=\"\",\"\",入力表!M21),$AT$2:$AU$5,2,FALSE))","v":""},{"$f":"IF(ISBLANK(入力表!N21),\"\",入力表!N21)","v":""},{"$f":"IF(ISBLANK(入力表!O21),\"\",入力表!O21)","v":""},{"$f":"IF(ISERROR(VLOOKUP(入力表!P21,$AT$2:$AU$5,2,FALSE)),\"\",VLOOKUP(入力表!P21,$AT$2:$AU$5,2,FALSE))","v":""},{"$f":"IF(ISBLANK(入力表!Q21),\"\",入力表!Q21)","v":""},{"$f":"IF(ISBLANK(入力表!R21),\"\",入力表!R21)","v":""},{"$f":"IF(入力表!T21=\"\",\"\",入力表!T21)","v":""},{"$f":"IF(入力表!U21=\"\",\"\",入力表!U21)","v":""},"",{"$f":"IF(ISBLANK(入力表!W21),\"\",入力表!W21)","v":""},{"$f":"IF(ISBLANK(入力表!X21),\"\",入力表!X21)","v":""},{"$f":"IF(ISERROR(VLOOKUP(入力表!Y21,$AT$2:$AU$5,2,FALSE)),\"\",VLOOKUP(入力表!Y21,$AT$2:$AU$5,2,FALSE))","v":""},{"$f":"IF(ISBLANK(入力表!Z21),\"\",入力表!Z21)","v":""},{"$f":"IF(ISBLANK(入力表!AA21),\"\",入力表!AA21)","v":""},{"$f":"IF(入力表!AC21=\"\",\"\",入力表!AC21)","v":""},{"$f":"IF(入力表!AD21=\"\",\"\",入力表!AD21)","v":""},{"$f":"IF(ISERROR(VLOOKUP(IF(AL9=\"\",\"\",入力表!AE21),$AT$2:$AU$5,2,FALSE)),\"\",VLOOKUP(IF(AL9=\"\",\"\",入力表!AE21),$AT$2:$AU$5,2,FALSE))","v":""},{"$f":"IF(ISBLANK(入力表!AF21),\"\",入力表!AF21)","v":""},{"$f":"IF(ISBLANK(入力表!AG21),\"\",入力表!AG21)","v":""},{"$f":"IF(ISERROR(VLOOKUP(入力表!AH21,$AT$2:$AU$5,2,FALSE)),\"\",VLOOKUP(入力表!AH21,$AT$2:$AU$5,2,FALSE))","v":""},{"$f":"IF(ISBLANK(入力表!AI21),\"\",入力表!AI21)","v":""},{"$f":"IF(ISBLANK(入力表!AJ21),\"\",入力表!AJ21)","v":""},null,null,null,null,"1600mR"]
[9,{"$f":"IF(ISBLANK(入力表!C22),\"\",入力表!C22)","v":""},{"$f":"IF(ISBLANK(入力表!D22),\"\",入力表!D22)","v":""},{"$f":"IF(ISBLANK(入力表!E22),\"\",入力表!E22)","v":""},{"$f":"RIGHT(入力表!F22,2)","v":""},{"$f":"IF(ISBLANK(入力表!G22),\"\",入力表!G22)","v":""},{"$f":"IF(ISBLANK(入力表!H22),\"\",入力表!H22)","v":"オホーツク"},{"$f":"IF(D10=\"\",\"\",入力表!$C$4)","v":""},{"$f":"IF(ISBLANK(入力表!I22),\"\",入力表!I22)","v":""},{"$f":"IF(入力表!J22=\"\",\"\",入力表!J22)","v":""},"",{"$f":"IF(入力表!S22=\"\",\"\",入力表!S22)","v":""},"",{"$f":"IF(入力表!AB22=\"\",\"\",入力表!AB22)","v":""},"",{"$f":"IF(入力表!AK22=\"\",\"\",入力表!AK22)","v":""},"",{"$f":"IF(入力表!AL22=\"\",\"\",入力表!AL22)","v":""},"",null,{"$f":"IF(入力表!K22=\"\",\"\",入力表!K22)","v":""},{"$f":"IF(入力表!L22=\"\",\"\",入力表!L22)","v":""},{"$f":"IF(ISERROR(VLOOKUP(IF(V10=\"\",\"\",入力表!M22),$AT$2:$AU$5,2,FALSE)),\"\",VLOOKUP(IF(V10=\"\",\"\",入力表!M22),$AT$2:$AU$5,2,FALSE))","v":""},{"$f":"IF(ISBLANK(入力表!N22),\"\",入力表!N22)","v":""},{"$f":"IF(ISBLANK(入力表!O22),\"\",入力表!O22)","v":""},{"$f":"IF(ISERROR(VLOOKUP(入力表!P22,$AT$2:$AU$5,2,FALSE)),\"\",VLOOKUP(入力表!P22,$AT$2:$AU$5,2,FALSE))","v":""},{"$f":"IF(ISBLANK(入力表!Q22),\"\",入力表!Q22)","v":""},{"$f":"IF(ISBLANK(入力表!R22),\"\",入力表!R22)","v":""},{"$f":"IF(入力表!T22=\"\",\"\",入力表!T22)","v":""},{"$f":"IF(入力表!U22=\"\",\"\",入力表!U22)","v":""},"",{"$f":"IF(ISBLANK(入力表!W22),\"\",入力表!W22)","v":""},{"$f":"IF(ISBLANK(入力表!X22),\"\",入力表!X22)","v":""},{"$f":"IF(ISERROR(VLOOKUP(入力表!Y22,$AT$2:$AU$5,2,FALSE)),\"\",VLOOKUP(入力表!Y22,$AT$2:$AU$5,2,FALSE))","v":""},{"$f":"IF(ISBLANK(入力表!Z22),\"\",入力表!Z22)","v":""},{"$f":"IF(ISBLANK(入力表!AA22),\"\",入力表!AA22)","v":""},{"$f":"IF(入力表!AC22=\"\",\"\",入力表!AC22)","v":""},{"$f":"IF(入力表!AD22=\"\",\"\",入力表!AD22)","v":""},{"$f":"IF(ISERROR(VLOOKUP(IF(AL10=\"\",\"\",入力表!AE22),$AT$2:$AU$5,2,FALSE)),\"\",VLOOKUP(IF(AL10=\"\",\"\",入力表!AE22),$AT$2:$AU$5,2,FALSE))","v":""},{"$f":"IF(ISBLANK(入力表!AF22),\"\",入力表!AF22)","v":""},{"$f":"IF(ISBLANK(入力表!AG22),\"\",入力表!AG22)","v":""},{"$f":"IF(ISERROR(VLOOKUP(入力表!AH22,$AT$2:$AU$5,2,FALSE)),\"\",VLOOKUP(入力表!AH22,$AT$2:$AU$5,2,FALSE))","v":""},{"$f":"IF(ISBLANK(入力表!AI22),\"\",入力表!AI22)","v":""},{"$f":"IF(ISBLANK(入力表!AJ22),\"\",入力表!AJ22)","v":""},null,null,null,null,"男子A",{"$f":"CONCATENATE(入力表!AC4,\".\",入力表!AE4,入力表!AF4,\".\",入力表!AH4,入力表!AI4)","v":".."}]
[10,{"$f":"IF(ISBLANK(入力表!C23),\"\",入力表!C23)","v":""},{"$f":"IF(ISBLANK(入力表!D23),\"\",入力表!D23)","v":""},{"$f":"IF(ISBLANK(入力表!E23),\"\",入力表!E23)","v":""},{"$f":"RIGHT(入力表!F23,2)","v":""},{"$f":"IF(ISBLANK(入力表!G23),\"\",入力表!G23)","v":""},{"$f":"IF(ISBLANK(入力表!H23),\"\",入力表!H23)","v":"オホーツク"},{"$f":"IF(D11=\"\",\"\",入力表!$C$4)","v":""},{"$f":"IF(ISBLANK(入力表!I23),\"\",入力表!I23)","v":""},{"$f":"IF(入力表!J23=\"\",\"\",入力表!J23)","v":""},"",{"$f":"IF(入力表!S23=\"\",\"\",入力表!S23)","v":""},"",{"$f":"IF(入力表!AB23=\"\",\"\",入力表!AB23)","v":""},"",{"$f":"IF(入力表!AK23=\"\",\"\",入力表!AK23)","v":""},"",{"$f":"IF(入力表!AL23=\"\",\"\",入力表!AL23)","v":""},"",null,{"$f":"IF(入力表!K23=\"\",\"\",入力表!K23)","v":""},{"$f":"IF(入力表!L23=\"\",\"\",入力表!L23)","v":""},{"$f":"IF(ISERROR(VLOOKUP(IF(V11=\"\",\"\",入力表!M23),$AT$2:$AU$5,2,FALSE)),\"\",VLOOKUP(IF(V11=\"\",\"\",入力表!M23),$AT$2:$AU$5,2,FALSE))","v":""},{"$f":"IF(ISBLANK(入力表!N23),\"\",入力表!N23)","v":""},{"$f":"IF(ISBLANK(入力表!O23),\"\",入力表!O23)","v":""},{"$f":"IF(ISERROR(VLOOKUP(入力表!P23,$AT$2:$AU$5,2,FALSE)),\"\",VLOOKUP(入力表!P23,$AT$2:$AU$5,2,FALSE))","v":""},{"$f":"IF(ISBLANK(入力表!Q23),\"\",入力表!Q23)","v":""},{"$f":"IF(ISBLANK(入力表!R23),\"\",入力表!R23)","v":""},{"$f":"IF(入力表!T23=\"\",\"\",入力表!T23)","v":""},{"$f":"IF(入力表!U23=\"\",\"\",入力表!U23)","v":""},"",{"$f":"IF(ISBLANK(入力表!W23),\"\",入力表!W23)","v":""},{"$f":"IF(ISBLANK(入力表!X23),\"\",入力表!X23)","v":""},{"$f":"IF(ISERROR(VLOOKUP(入力表!Y23,$AT$2:$AU$5,2,FALSE)),\"\",VLOOKUP(入力表!Y23,$AT$2:$AU$5,2,FALSE))","v":""},{"$f":"IF(ISBLANK(入力表!Z23),\"\",入力表!Z23)","v":""},{"$f":"IF(ISBLANK(入力表!AA23),\"\",入力表!AA23)","v":""},{"$f":"IF(入力表!AC23=\"\",\"\",入力表!AC23)","v":""},{"$f":"IF(入力表!AD23=\"\",\"\",入力表!AD23)","v":""},{"$f":"IF(ISERROR(VLOOKUP(IF(AL11=\"\",\"\",入力表!AE23),$AT$2:$AU$5,2,FALSE)),\"\",VLOOKUP(IF(AL11=\"\",\"\",入力表!AE23),$AT$2:$AU$5,2,FALSE))","v":""},{"$f":"IF(ISBLANK(入力表!AF23),\"\",入力表!AF23)","v":""},{"$f":"IF(ISBLANK(入力表!AG23),\"\",入力表!AG23)","v":""},{"$f":"IF(ISERROR(VLOOKUP(入力表!AH23,$AT$2:$AU$5,2,FALSE)),\"\",VLOOKUP(入力表!AH23,$AT$2:$AU$5,2,FALSE))","v":""},{"$f":"IF(ISBLANK(入力表!AI23),\"\",入力表!AI23)","v":""},{"$f":"IF(ISBLANK(入力表!AJ23),\"\",入力表!AJ23)","v":""},null,null,null,null,"男子B",{"$f":"CONCATENATE(入力表!AC5,\".\",入力表!AE5,入力表!AF5,\".\",入力表!AH5,入力表!AI5)","v":".."}]
[11,{"$f":"IF(ISBLANK(入力表!C24),\"\",入力表!C24)","v":""},{"$f":"IF(ISBLANK(入力表!D24),\"\",入力表!D24)","v":""},{"$f":"IF(ISBLANK(入力表!E24),\"\",入力表!E24)","v":""},{"$f":"RIGHT(入力表!F24,2)","v":""},{"$f":"IF(ISBLANK(入力表!G24),\"\",入力表!G24)","v":""},{"$f":"IF(ISBLANK(入力表!H24),\"\",入力表!H24)","v":"オホーツク"},{"$f":"IF(D12=\"\",\"\",入力表!$C$4)","v":""},{"$f":"IF(ISBLANK(入力表!I24),\"\",入力表!I24)","v":""},{"$f":"IF(入力表!J24=\"\",\"\",入力表!J24)","v":""},"",{"$f":"IF(入力表!S24=\"\",\"\",入力表!S24)","v":""},"",{"$f":"IF(入力表!AB24=\"\",\"\",入力表!AB24)","v":""},"",{"$f":"IF(入力表!AK24=\"\",\"\",入力表!AK24)","v":""},"",{"$f":"IF(入力表!AL24=\"\",\"\",入力表!AL24)","v":""},"",null,{"$f":"IF(入力表!K24=\"\",\"\",入力表!K24)","v":""},{"$f":"IF(入力表!L24=\"\",\"\",入力表!L24)","v":""},{"$f":"IF(ISERROR(VLOOKUP(IF(V12=\"\",\"\",入力表!M24),$AT$2:$AU$5,2,FALSE)),\"\",VLOOKUP(IF(V12=\"\",\"\",入力表!M24),$AT$2:$AU$5,2,FALSE))","v":""},{"$f":"IF(ISBLANK(入力表!N24),\"\",入力表!N24)","v":""},{"$f":"IF(ISBLANK(入力表!O24),\"\",入力表!O24)","v":""},{"$f":"IF(ISERROR(VLOOKUP(入力表!P24,$AT$2:$AU$5,2,FALSE)),\"\",VLOOKUP(入力表!P24,$AT$2:$AU$5,2,FALSE))","v":""},{"$f":"IF(ISBLANK(入力表!Q24),\"\",入力表!Q24)","v":""},{"$f":"IF(ISBLANK(入力表!R24),\"\",入力表!R24)","v":""},{"$f":"IF(入力表!T24=\"\",\"\",入力表!T24)","v":""},{"$f":"IF(入力表!U24=\"\",\"\",入力表!U24)","v":""},"",{"$f":"IF(ISBLANK(入力表!W24),\"\",入力表!W24)","v":""},{"$f":"IF(ISBLANK(入力表!X24),\"\",入力表!X24)","v":""},{"$f":"IF(ISERROR(VLOOKUP(入力表!Y24,$AT$2:$AU$5,2,FALSE)),\"\",VLOOKUP(入力表!Y24,$AT$2:$AU$5,2,FALSE))","v":""},{"$f":"IF(ISBLANK(入力表!Z24),\"\",入力表!Z24)","v":""},{"$f":"IF(ISBLANK(入力表!AA24),\"\",入力表!AA24)","v":""},{"$f":"IF(入力表!AC24=\"\",\"\",入力表!AC24)","v":""},{"$f":"IF(入力表!AD24=\"\",\"\",入力表!AD24)","v":""},{"$f":"IF(ISERROR(VLOOKUP(IF(AL12=\"\",\"\",入力表!AE24),$AT$2:$AU$5,2,FALSE)),\"\",VLOOKUP(IF(AL12=\"\",\"\",入力表!AE24),$AT$2:$AU$5,2,FALSE))","v":""},{"$f":"IF(ISBLANK(入力表!AF24),\"\",入力表!AF24)","v":""},{"$f":"IF(ISBLANK(入力表!AG24),\"\",入力表!AG24)","v":""},{"$f":"IF(ISERROR(VLOOKUP(入力表!AH24,$AT$2:$AU$5,2,FALSE)),\"\",VLOOKUP(入力表!AH24,$AT$2:$AU$5,2,FALSE))","v":""},{"$f":"IF(ISBLANK(入力表!AI24),\"\",入力表!AI24)","v":""},{"$f":"IF(ISBLANK(入力表!AJ24),\"\",入力表!AJ24)","v":""},null,null,null,null,"男子C",{"$f":"CONCATENATE(入力表!AC6,\".\",入力表!AE6,入力表!AF6,\".\",入力表!AH6,入力表!AI6)","v":".."}]
[12,{"$f":"IF(ISBLANK(入力表!C25),\"\",入力表!C25)","v":""},{"$f":"IF(ISBLANK(入力表!D25),\"\",入力表!D25)","v":""},{"$f":"IF(ISBLANK(入力表!E25),\"\",入力表!E25)","v":""},{"$f":"RIGHT(入力表!F25,2)","v":""},{"$f":"IF(ISBLANK(入力表!G25),\"\",入力表!G25)","v":""},{"$f":"IF(ISBLANK(入力表!H25),\"\",入力表!H25)","v":"オホーツク"},{"$f":"IF(D13=\"\",\"\",入力表!$C$4)","v":""},{"$f":"IF(ISBLANK(入力表!I25),\"\",入力表!I25)","v":""},{"$f":"IF(入力表!J25=\"\",\"\",入力表!J25)","v":""},"",{"$f":"IF(入力表!S25=\"\",\"\",入力表!S25)","v":""},"",{"$f":"IF(入力表!AB25=\"\",\"\",入力表!AB25)","v":""},"",{"$f":"IF(入力表!AK25=\"\",\"\",入力表!AK25)","v":""},"",{"$f":"IF(入力表!AL25=\"\",\"\",入力表!AL25)","v":""},"",null,{"$f":"IF(入力表!K25=\"\",\"\",入力表!K25)","v":""},{"$f":"IF(入力表!L25=\"\",\"\",入力表!L25)","v":""},{"$f":"IF(ISERROR(VLOOKUP(IF(V13=\"\",\"\",入力表!M25),$AT$2:$AU$5,2,FALSE)),\"\",VLOOKUP(IF(V13=\"\",\"\",入力表!M25),$AT$2:$AU$5,2,FALSE))","v":""},{"$f":"IF(ISBLANK(入力表!N25),\"\",入力表!N25)","v":""},{"$f":"IF(ISBLANK(入力表!O25),\"\",入力表!O25)","v":""},{"$f":"IF(ISERROR(VLOOKUP(入力表!P25,$AT$2:$AU$5,2,FALSE)),\"\",VLOOKUP(入力表!P25,$AT$2:$AU$5,2,FALSE))","v":""},{"$f":"IF(ISBLANK(入力表!Q25),\"\",入力表!Q25)","v":""},{"$f":"IF(ISBLANK(入力表!R25),\"\",入力表!R25)","v":""},{"$f":"IF(入力表!T25=\"\",\"\",入力表!T25)","v":""},{"$f":"IF(入力表!U25=\"\",\"\",入力表!U25)","v":""},"",{"$f":"IF(ISBLANK(入力表!W25),\"\",入力表!W25)","v":""},{"$f":"IF(ISBLANK(入力表!X25),\"\",入力表!X25)","v":""},{"$f":"IF(ISERROR(VLOOKUP(入力表!Y25,$AT$2:$AU$5,2,FALSE)),\"\",VLOOKUP(入力表!Y25,$AT$2:$AU$5,2,FALSE))","v":""},{"$f":"IF(ISBLANK(入力表!Z25),\"\",入力表!Z25)","v":""},{"$f":"IF(ISBLANK(入力表!AA25),\"\",入力表!AA25)","v":""},{"$f":"IF(入力表!AC25=\"\",\"\",入力表!AC25)","v":""},{"$f":"IF(入力表!AD25=\"\",\"\",入力表!AD25)","v":""},{"$f":"IF(ISERROR(VLOOKUP(IF(AL13=\"\",\"\",入力表!AE25),$AT$2:$AU$5,2,FALSE)),\"\",VLOOKUP(IF(AL13=\"\",\"\",入力表!AE25),$AT$2:$AU$5,2,FALSE))","v":""},{"$f":"IF(ISBLANK(入力表!AF25),\"\",入力表!AF25)","v":""},{"$f":"IF(ISBLANK(入力表!AG25),\"\",入力表!AG25)","v":""},{"$f":"IF(ISERROR(VLOOKUP(入力表!AH25,$AT$2:$AU$5,2,FALSE)),\"\",VLOOKUP(入力表!AH25,$AT$2:$AU$5,2,FALSE))","v":""},{"$f":"IF(ISBLANK(入力表!AI25),\"\",入力表!AI25)","v":""},{"$f":"IF(ISBLANK(入力表!AJ25),\"\",入力表!AJ25)","v":""},null,null,null,null,"女子A",{"$f":"CONCATENATE(入力表!AC9,\".\",入力表!AE9,入力表!AF9,\".\",入力表!AH9,入力表!AI9)","v":".."}]
[13,{"$f":"IF(ISBLANK(入力表!C26),\"\",入力表!C26)","v":""},{"$f":"IF(ISBLANK(入力表!D26),\"\",入力表!D26)","v":""},{"$f":"IF(ISBLANK(入力表!E26),\"\",入力表!E26)","v":""},{"$f":"RIGHT(入力表!F26,2)","v":""},{"$f":"IF(ISBLANK(入力表!G26),\"\",入力表!G26)","v":""},{"$f":"IF(ISBLANK(入力表!H26),\"\",入力表!H26)","v":"オホーツク"},{"$f":"IF(D14=\"\",\"\",入力表!$C$4)","v":""},{"$f":"IF(ISBLANK(入力表!I26),\"\",入力表!I26)","v":""},{"$f":"IF(入力表!J26=\"\",\"\",入力表!J26)","v":""},"",{"$f":"IF(入力表!S26=\"\",\"\",入力表!S26)","v":""},"",{"$f":"IF(入力表!AB26=\"\",\"\",入力表!AB26)","v":""},"",{"$f":"IF(入力表!AK26=\"\",\"\",入力表!AK26)","v":""},"",{"$f":"IF(入力表!AL26=\"\",\"\",入力表!AL26)","v":""},"",null,{"$f":"IF(入力表!K26=\"\",\"\",入力表!K26)","v":""},{"$f":"IF(入力表!L26=\"\",\"\",入力表!L26)","v":""},{"$f":"IF(ISERROR(VLOOKUP(IF(V14=\"\",\"\",入力表!M26),$AT$2:$AU$5,2,FALSE)),\"\",VLOOKUP(IF(V14=\"\",\"\",入力表!M26),$AT$2:$AU$5,2,FALSE))","v":""},{"$f":"IF(ISBLANK(入力表!N26),\"\",入力表!N26)","v":""},{"$f":"IF(ISBLANK(入力表!O26),\"\",入力表!O26)","v":""},{"$f":"IF(ISERROR(VLOOKUP(入力表!P26,$AT$2:$AU$5,2,FALSE)),\"\",VLOOKUP(入力表!P26,$AT$2:$AU$5,2,FALSE))","v":""},{"$f":"IF(ISBLANK(入力表!Q26),\"\",入力表!Q26)","v":""},{"$f":"IF(ISBLANK(入力表!R26),\"\",入力表!R26)","v":""},{"$f":"IF(入力表!T26=\"\",\"\",入力表!T26)","v":""},{"$f":"IF(入力表!U26=\"\",\"\",入力表!U26)","v":""},"",{"$f":"IF(ISBLANK(入力表!W26),\"\",入力表!W26)","v":""},{"$f":"IF(ISBLANK(入力表!X26),\"\",入力表!X26)","v":""},{"$f":"IF(ISERROR(VLOOKUP(入力表!Y26,$AT$2:$AU$5,2,FALSE)),\"\",VLOOKUP(入力表!Y26,$AT$2:$AU$5,2,FALSE))","v":""},{"$f":"IF(ISBLANK(入力表!Z26),\"\",入力表!Z26)","v":""},{"$f":"IF(ISBLANK(入力表!AA26),\"\",入力表!AA26)","v":""},{"$f":"IF(入力表!AC26=\"\",\"\",入力表!AC26)","v":""},{"$f":"IF(入力表!AD26=\"\",\"\",入力表!AD26)","v":""},{"$f":"IF(ISERROR(VLOOKUP(IF(AL14=\"\",\"\",入力表!AE26),$AT$2:$AU$5,2,FALSE)),\"\",VLOOKUP(IF(AL14=\"\",\"\",入力表!AE26),$AT$2:$AU$5,2,FALSE))","v":""},{"$f":"IF(ISBLANK(入力表!AF26),\"\",入力表!AF26)","v":""},{"$f":"IF(ISBLANK(入力表!AG26),\"\",入力表!AG26)","v":""},{"$f":"IF(ISERROR(VLOOKUP(入力表!AH26,$AT$2:$AU$5,2,FALSE)),\"\",VLOOKUP(入力表!AH26,$AT$2:$AU$5,2,FALSE))","v":""},{"$f":"IF(ISBLANK(入力表!AI26),\"\",入力表!AI26)","v":""},{"$f":"IF(ISBLANK(入力表!AJ26),\"\",入力表!AJ26)","v":""},null,null,null,null,"女子B",{"$f":"CONCATENATE(入力表!AC10,\".\",入力表!AE10,入力表!AF10,\".\",入力表!AH10,入力表!AI10)","v":".."}]
[14,{"$f":"IF(ISBLANK(入力表!C27),\"\",入力表!C27)","v":""},{"$f":"IF(ISBLANK(入力表!D27),\"\",入力表!D27)","v":""},{"$f":"IF(ISBLANK(入力表!E27),\"\",入力表!E27)","v":""},{"$f":"RIGHT(入力表!F27,2)","v":""},{"$f":"IF(ISBLANK(入力表!G27),\"\",入力表!G27)","v":""},{"$f":"IF(ISBLANK(入力表!H27),\"\",入力表!H27)","v":"オホーツク"},{"$f":"IF(D15=\"\",\"\",入力表!$C$4)","v":""},{"$f":"IF(ISBLANK(入力表!I27),\"\",入力表!I27)","v":""},{"$f":"IF(入力表!J27=\"\",\"\",入力表!J27)","v":""},"",{"$f":"IF(入力表!S27=\"\",\"\",入力表!S27)","v":""},"",{"$f":"IF(入力表!AB27=\"\",\"\",入力表!AB27)","v":""},"",{"$f":"IF(入力表!AK27=\"\",\"\",入力表!AK27)","v":""},"",{"$f":"IF(入力表!AL27=\"\",\"\",入力表!AL27)","v":""},"",null,{"$f":"IF(入力表!K27=\"\",\"\",入力表!K27)","v":""},{"$f":"IF(入力表!L27=\"\",\"\",入力表!L27)","v":""},{"$f":"IF(ISERROR(VLOOKUP(IF(V15=\"\",\"\",入力表!M27),$AT$2:$AU$5,2,FALSE)),\"\",VLOOKUP(IF(V15=\"\",\"\",入力表!M27),$AT$2:$AU$5,2,FALSE))","v":""},{"$f":"IF(ISBLANK(入力表!N27),\"\",入力表!N27)","v":""},{"$f":"IF(ISBLANK(入力表!O27),\"\",入力表!O27)","v":""},{"$f":"IF(ISERROR(VLOOKUP(入力表!P27,$AT$2:$AU$5,2,FALSE)),\"\",VLOOKUP(入力表!P27,$AT$2:$AU$5,2,FALSE))","v":""},{"$f":"IF(ISBLANK(入力表!Q27),\"\",入力表!Q27)","v":""},{"$f":"IF(ISBLANK(入力表!R27),\"\",入力表!R27)","v":""},{"$f":"IF(入力表!T27=\"\",\"\",入力表!T27)","v":""},{"$f":"IF(入力表!U27=\"\",\"\",入力表!U27)","v":""},"",{"$f":"IF(ISBLANK(入力表!W27),\"\",入力表!W27)","v":""},{"$f":"IF(ISBLANK(入力表!X27),\"\",入力表!X27)","v":""},{"$f":"IF(ISERROR(VLOOKUP(入力表!Y27,$AT$2:$AU$5,2,FALSE)),\"\",VLOOKUP(入力表!Y27,$AT$2:$AU$5,2,FALSE))","v":""},{"$f":"IF(ISBLANK(入力表!Z27),\"\",入力表!Z27)","v":""},{"$f":"IF(ISBLANK(入力表!AA27),\"\",入力表!AA27)","v":""},{"$f":"IF(入力表!AC27=\"\",\"\",入力表!AC27)","v":""},{"$f":"IF(入力表!AD27=\"\",\"\",入力表!AD27)","v":""},{"$f":"IF(ISERROR(VLOOKUP(IF(AL15=\"\",\"\",入力表!AE27),$AT$2:$AU$5,2,FALSE)),\"\",VLOOKUP(IF(AL15=\"\",\"\",入力表!AE27),$AT$2:$AU$5,2,FALSE))","v":""},{"$f":"IF(ISBLANK(入力表!AF27),\"\",入力表!AF27)","v":""},{"$f":"IF(ISBLANK(入力表!AG27),\"\",入力表!AG27)","v":""},{"$f":"IF(ISERROR(VLOOKUP(入力表!AH27,$AT$2:$AU$5,2,FALSE)),\"\",VLOOKUP(入力表!AH27,$AT$2:$AU$5,2,FALSE))","v":""},{"$f":"IF(ISBLANK(入力表!AI27),\"\",入力表!AI27)","v":""},{"$f":"IF(ISBLANK(入力表!AJ27),\"\",入力表!AJ27)","v":""},null,null,null,null,"女子C",{"$f":"CONCATENATE(入力表!AC11,\".\",入力表!AE11,入力表!AF11,\".\",入力表!AH11,入力表!AI11)","v":".."}]
[15,{"$f":"IF(ISBLANK(入力表!C28),\"\",入力表!C28)","v":""},{"$f":"IF(ISBLANK(入力表!D28),\"\",入力表!D28)","v":""},{"$f":"IF(ISBLANK(入力表!E28),\"\",入力表!E28)","v":""},{"$f":"RIGHT(入力表!F28,2)","v":""},{"$f":"IF(ISBLANK(入力表!G28),\"\",入力表!G28)","v":""},{"$f":"IF(ISBLANK(入力表!H28),\"\",入力表!H28)","v":"オホーツク"},{"$f":"IF(D16=\"\",\"\",入力表!$C$4)","v":""},{"$f":"IF(ISBLANK(入力表!I28),\"\",入力表!I28)","v":""},{"$f":"IF(入力表!J28=\"\",\"\",入力表!J28)","v":""},"",{"$f":"IF(入力表!S28=\"\",\"\",入力表!S28)","v":""},"",{"$f":"IF(入力表!AB28=\"\",\"\",入力表!AB28)","v":""},"",{"$f":"IF(入力表!AK28=\"\",\"\",入力表!AK28)","v":""},"",{"$f":"IF(入力表!AL28=\"\",\"\",入力表!AL28)","v":""},"",null,{"$f":"IF(入力表!K28=\"\",\"\",入力表!K28)","v":""},{"$f":"IF(入力表!L28=\"\",\"\",入力表!L28)","v":""},{"$f":"IF(ISERROR(VLOOKUP(IF(V16=\"\",\"\",入力表!M28),$AT$2:$AU$5,2,FALSE)),\"\",VLOOKUP(IF(V16=\"\",\"\",入力表!M28),$AT$2:$AU$5,2,FALSE))","v":""},{"$f":"IF(ISBLANK(入力表!N28),\"\",入力表!N28)","v":""},{"$f":"IF(ISBLANK(入力表!O28),\"\",入力表!O28)","v":""},{"$f":"IF(ISERROR(VLOOKUP(入力表!P28,$AT$2:$AU$5,2,FALSE)),\"\",VLOOKUP(入力表!P28,$AT$2:$AU$5,2,FALSE))","v":""},{"$f":"IF(ISBLANK(入力表!Q28),\"\",入力表!Q28)","v":""},{"$f":"IF(ISBLANK(入力表!R28),\"\",入力表!R28)","v":""},{"$f":"IF(入力表!T28=\"\",\"\",入力表!T28)","v":""},{"$f":"IF(入力表!U28=\"\",\"\",入力表!U28)","v":""},"",{"$f":"IF(ISBLANK(入力表!W28),\"\",入力表!W28)","v":""},{"$f":"IF(ISBLANK(入力表!X28),\"\",入力表!X28)","v":""},{"$f":"IF(ISERROR(VLOOKUP(入力表!Y28,$AT$2:$AU$5,2,FALSE)),\"\",VLOOKUP(入力表!Y28,$AT$2:$AU$5,2,FALSE))","v":""},{"$f":"IF(ISBLANK(入力表!Z28),\"\",入力表!Z28)","v":""},{"$f":"IF(ISBLANK(入力表!AA28),\"\",入力表!AA28)","v":""},{"$f":"IF(入力表!AC28=\"\",\"\",入力表!AC28)","v":""},{"$f":"IF(入力表!AD28=\"\",\"\",入力表!AD28)","v":""},{"$f":"IF(ISERROR(VLOOKUP(IF(AL16=\"\",\"\",入力表!AE28),$AT$2:$AU$5,2,FALSE)),\"\",VLOOKUP(IF(AL16=\"\",\"\",入力表!AE28),$AT$2:$AU$5,2,FALSE))","v":""},{"$f":"IF(ISBLANK(入力表!AF28),\"\",入力表!AF28)","v":""},{"$f":"IF(ISBLANK(入力表!AG28),\"\",入力表!AG28)","v":""},{"$f":"IF(ISERROR(VLOOKUP(入力表!AH28,$AT$2:$AU$5,2,FALSE)),\"\",VLOOKUP(入力表!AH28,$AT$2:$AU$5,2,FALSE))","v":""},{"$f":"IF(ISBLANK(入力表!AI28),\"\",入力表!AI28)","v":""},{"$f":"IF(ISBLANK(入力表!AJ28),\"\",入力表!AJ28)","v":""}]
[16,{"$f":"IF(ISBLANK(入力表!C29),\"\",入力表!C29)","v":""},{"$f":"IF(ISBLANK(入力表!D29),\"\",入力表!D29)","v":""},{"$f":"IF(ISBLANK(入力表!E29),\"\",入力表!E29)","v":""},{"$f":"RIGHT(入力表!F29,2)","v":""},{"$f":"IF(ISBLANK(入力表!G29),\"\",入力表!G29)","v":""},{"$f":"IF(ISBLANK(入力表!H29),\"\",入力表!H29)","v":"オホーツク"},{"$f":"IF(D17=\"\",\"\",入力表!$C$4)","v":""},{"$f":"IF(ISBLANK(入力表!I29),\"\",入力表!I29)","v":""},{"$f":"IF(入力表!J29=\"\",\"\",入力表!J29)","v":""},"",{"$f":"IF(入力表!S29=\"\",\"\",入力表!S29)","v":""},"",{"$f":"IF(入力表!AB29=\"\",\"\",入力表!AB29)","v":""},"",{"$f":"IF(入力表!AK29=\"\",\"\",入力表!AK29)","v":""},"",{"$f":"IF(入力表!AL29=\"\",\"\",入力表!AL29)","v":""},"",null,{"$f":"IF(入力表!K29=\"\",\"\",入力表!K29)","v":""},{"$f":"IF(入力表!L29=\"\",\"\",入力表!L29)","v":""},{"$f":"IF(ISERROR(VLOOKUP(IF(V17=\"\",\"\",入力表!M29),$AT$2:$AU$5,2,FALSE)),\"\",VLOOKUP(IF(V17=\"\",\"\",入力表!M29),$AT$2:$AU$5,2,FALSE))","v":""},{"$f":"IF(ISBLANK(入力表!N29),\"\",入力表!N29)","v":""},{"$f":"IF(ISBLANK(入力表!O29),\"\",入力表!O29)","v":""},{"$f":"IF(ISERROR(VLOOKUP(入力表!P29,$AT$2:$AU$5,2,FALSE)),\"\",VLOOKUP(入力表!P29,$AT$2:$AU$5,2,FALSE))","v":""},{"$f":"IF(ISBLANK(入力表!Q29),\"\",入力表!Q29)","v":""},{"$f":"IF(ISBLANK(入力表!R29),\"\",入力表!R29)","v":""},{"$f":"IF(入力表!T29=\"\",\"\",入力表!T29)","v":""},{"$f":"IF(入力表!U29=\"\",\"\",入力表!U29)","v":""},"",{"$f":"IF(ISBLANK(入力表!W29),\"\",入力表!W29)","v":""},{"$f":"IF(ISBLANK(入力表!X29),\"\",入力表!X29)","v":""},{"$f":"IF(ISERROR(VLOOKUP(入力表!Y29,$AT$2:$AU$5,2,FALSE)),\"\",VLOOKUP(入力表!Y29,$AT$2:$AU$5,2,FALSE))","v":""},{"$f":"IF(ISBLANK(入力表!Z29),\"\",入力表!Z29)","v":""},{"$f":"IF(ISBLANK(入力表!AA29),\"\",入力表!AA29)","v":""},{"$f":"IF(入力表!AC29=\"\",\"\",入力表!AC29)","v":""},{"$f":"IF(入力表!AD29=\"\",\"\",入力表!AD29)","v":""},{"$f":"IF(ISERROR(VLOOKUP(IF(AL17=\"\",\"\",入力表!AE29),$AT$2:$AU$5,2,FALSE)),\"\",VLOOKUP(IF(AL17=\"\",\"\",入力表!AE29),$AT$2:$AU$5,2,FALSE))","v":""},{"$f":"IF(ISBLANK(入力表!AF29),\"\",入力表!AF29)","v":""},{"$f":"IF(ISBLANK(入力表!AG29),\"\",入力表!AG29)","v":""},{"$f":"IF(ISERROR(VLOOKUP(入力表!AH29,$AT$2:$AU$5,2,FALSE)),\"\",VLOOKUP(入力表!AH29,$AT$2:$AU$5,2,FALSE))","v":""},{"$f":"IF(ISBLANK(入力表!AI29),\"\",入力表!AI29)","v":""},{"$f":"IF(ISBLANK(入力表!AJ29),\"\",入力表!AJ29)","v":""}]
[17,{"$f":"IF(ISBLANK(入力表!C30),\"\",入力表!C30)","v":""},{"$f":"IF(ISBLANK(入力表!D30),\"\",入力表!D30)","v":""},{"$f":"IF(ISBLANK(入力表!E30),\"\",入力表!E30)","v":""},{"$f":"RIGHT(入力表!F30,2)","v":""},{"$f":"IF(ISBLANK(入力表!G30),\"\",入力表!G30)","v":""},{"$f":"IF(ISBLANK(入力表!H30),\"\",入力表!H30)","v":"オホーツク"},{"$f":"IF(D18=\"\",\"\",入力表!$C$4)","v":""},{"$f":"IF(ISBLANK(入力表!I30),\"\",入力表!I30)","v":""},{"$f":"IF(入力表!J30=\"\",\"\",入力表!J30)","v":""},"",{"$f":"IF(入力表!S30=\"\",\"\",入力表!S30)","v":""},"",{"$f":"IF(入力表!AB30=\"\",\"\",入力表!AB30)","v":""},"",{"$f":"IF(入力表!AK30=\"\",\"\",入力表!AK30)","v":""},"",{"$f":"IF(入力表!AL30=\"\",\"\",入力表!AL30)","v":""},"",null,{"$f":"IF(入力表!K30=\"\",\"\",入力表!K30)","v":""},{"$f":"IF(入力表!L30=\"\",\"\",入力表!L30)","v":""},{"$f":"IF(ISERROR(VLOOKUP(IF(V18=\"\",\"\",入力表!M30),$AT$2:$AU$5,2,FALSE)),\"\",VLOOKUP(IF(V18=\"\",\"\",入力表!M30),$AT$2:$AU$5,2,FALSE))","v":""},{"$f":"IF(ISBLANK(入力表!N30),\"\",入力表!N30)","v":""},{"$f":"IF(ISBLANK(入力表!O30),\"\",入力表!O30)","v":""},{"$f":"IF(ISERROR(VLOOKUP(入力表!P30,$AT$2:$AU$5,2,FALSE)),\"\",VLOOKUP(入力表!P30,$AT$2:$AU$5,2,FALSE))","v":""},{"$f":"IF(ISBLANK(入力表!Q30),\"\",入力表!Q30)","v":""},{"$f":"IF(ISBLANK(入力表!R30),\"\",入力表!R30)","v":""},{"$f":"IF(入力表!T30=\"\",\"\",入力表!T30)","v":""},{"$f":"IF(入力表!U30=\"\",\"\",入力表!U30)","v":""},"",{"$f":"IF(ISBLANK(入力表!W30),\"\",入力表!W30)","v":""},{"$f":"IF(ISBLANK(入力表!X30),\"\",入力表!X30)","v":""},{"$f":"IF(ISERROR(VLOOKUP(入力表!Y30,$AT$2:$AU$5,2,FALSE)),\"\",VLOOKUP(入力表!Y30,$AT$2:$AU$5,2,FALSE))","v":""},{"$f":"IF(ISBLANK(入力表!Z30),\"\",入力表!Z30)","v":""},{"$f":"IF(ISBLANK(入力表!AA30),\"\",入力表!AA30)","v":""},{"$f":"IF(入力表!AC30=\"\",\"\",入力表!AC30)","v":""},{"$f":"IF(入力表!AD30=\"\",\"\",入力表!AD30)","v":""},{"$f":"IF(ISERROR(VLOOKUP(IF(AL18=\"\",\"\",入力表!AE30),$AT$2:$AU$5,2,FALSE)),\"\",VLOOKUP(IF(AL18=\"\",\"\",入力表!AE30),$AT$2:$AU$5,2,FALSE))","v":""},{"$f":"IF(ISBLANK(入力表!AF30),\"\",入力表!AF30)","v":""},{"$f":"IF(ISBLANK(入力表!AG30),\"\",入力表!AG30)","v":""},{"$f":"IF(ISERROR(VLOOKUP(入力表!AH30,$AT$2:$AU$5,2,FALSE)),\"\",VLOOKUP(入力表!AH30,$AT$2:$AU$5,2,FALSE))","v":""},{"$f":"IF(ISBLANK(入力表!AI30),\"\",入力表!AI30)","v":""},{"$f":"IF(ISBLANK(入力表!AJ30),\"\",入力表!AJ30)","v":""}]
[18,{"$f":"IF(ISBLANK(入力表!C31),\"\",入力表!C31)","v":""},{"$f":"IF(ISBLANK(入力表!D31),\"\",入力表!D31)","v":""},{"$f":"IF(ISBLANK(入力表!E31),\"\",入力表!E31)","v":""},{"$f":"RIGHT(入力表!F31,2)","v":""},{"$f":"IF(ISBLANK(入力表!G31),\"\",入力表!G31)","v":""},{"$f":"IF(ISBLANK(入力表!H31),\"\",入力表!H31)","v":"オホーツク"},{"$f":"IF(D19=\"\",\"\",入力表!$C$4)","v":""},{"$f":"IF(ISBLANK(入力表!I31),\"\",入力表!I31)","v":""},{"$f":"IF(入力表!J31=\"\",\"\",入力表!J31)","v":""},"",{"$f":"IF(入力表!S31=\"\",\"\",入力表!S31)","v":""},"",{"$f":"IF(入力表!AB31=\"\",\"\",入力表!AB31)","v":""},"",{"$f":"IF(入力表!AK31=\"\",\"\",入力表!AK31)","v":""},"",{"$f":"IF(入力表!AL31=\"\",\"\",入力表!AL31)","v":""},"",null,{"$f":"IF(入力表!K31=\"\",\"\",入力表!K31)","v":""},{"$f":"IF(入力表!L31=\"\",\"\",入力表!L31)","v":""},{"$f":"IF(ISERROR(VLOOKUP(IF(V19=\"\",\"\",入力表!M31),$AT$2:$AU$5,2,FALSE)),\"\",VLOOKUP(IF(V19=\"\",\"\",入力表!M31),$AT$2:$AU$5,2,FALSE))","v":""},{"$f":"IF(ISBLANK(入力表!N31),\"\",入力表!N31)","v":""},{"$f":"IF(ISBLANK(入力表!O31),\"\",入力表!O31)","v":""},{"$f":"IF(ISERROR(VLOOKUP(入力表!P31,$AT$2:$AU$5,2,FALSE)),\"\",VLOOKUP(入力表!P31,$AT$2:$AU$5,2,FALSE))","v":""},{"$f":"IF(ISBLANK(入力表!Q31),\"\",入力表!Q31)","v":""},{"$f":"IF(ISBLANK(入力表!R31),\"\",入力表!R31)","v":""},{"$f":"IF(入力表!T31=\"\",\"\",入力表!T31)","v":""},{"$f":"IF(入力表!U31=\"\",\"\",入力表!U31)","v":""},"",{"$f":"IF(ISBLANK(入力表!W31),\"\",入力表!W31)","v":""},{"$f":"IF(ISBLANK(入力表!X31),\"\",入力表!X31)","v":""},{"$f":"IF(ISERROR(VLOOKUP(入力表!Y31,$AT$2:$AU$5,2,FALSE)),\"\",VLOOKUP(入力表!Y31,$AT$2:$AU$5,2,FALSE))","v":""},{"$f":"IF(ISBLANK(入力表!Z31),\"\",入力表!Z31)","v":""},{"$f":"IF(ISBLANK(入力表!AA31),\"\",入力表!AA31)","v":""},{"$f":"IF(入力表!AC31=\"\",\"\",入力表!AC31)","v":""},{"$f":"IF(入力表!AD31=\"\",\"\",入力表!AD31)","v":""},{"$f":"IF(ISERROR(VLOOKUP(IF(AL19=\"\",\"\",入力表!AE31),$AT$2:$AU$5,2,FALSE)),\"\",VLOOKUP(IF(AL19=\"\",\"\",入力表!AE31),$AT$2:$AU$5,2,FALSE))","v":""},{"$f":"IF(ISBLANK(入力表!AF31),\"\",入力表!AF31)","v":""},{"$f":"IF(ISBLANK(入力表!AG31),\"\",入力表!AG31)","v":""},{"$f":"IF(ISERROR(VLOOKUP(入力表!AH31,$AT$2:$AU$5,2,FALSE)),\"\",VLOOKUP(入力表!AH31,$AT$2:$AU$5,2,FALSE))","v":""},{"$f":"IF(ISBLANK(入力表!AI31),\"\",入力表!AI31)","v":""},{"$f":"IF(ISBLANK(入力表!AJ31),\"\",入力表!AJ31)","v":""}]
[19,{"$f":"IF(ISBLANK(入力表!C32),\"\",入力表!C32)","v":""},{"$f":"IF(ISBLANK(入力表!D32),\"\",入力表!D32)","v":""},{"$f":"IF(ISBLANK(入力表!E32),\"\",入力表!E32)","v":""},{"$f":"RIGHT(入力表!F32,2)","v":""},{"$f":"IF(ISBLANK(入力表!G32),\"\",入力表!G32)","v":""},{"$f":"IF(ISBLANK(入力表!H32),\"\",入力表!H32)","v":"オホーツク"},{"$f":"IF(D20=\"\",\"\",入力表!$C$4)","v":""},{"$f":"IF(ISBLANK(入力表!I32),\"\",入力表!I32)","v":""},{"$f":"IF(入力表!J32=\"\",\"\",入力表!J32)","v":""},"",{"$f":"IF(入力表!S32=\"\",\"\",入力表!S32)","v":""},"",{"$f":"IF(入力表!AB32=\"\",\"\",入力表!AB32)","v":""},"",{"$f":"IF(入力表!AK32=\"\",\"\",入力表!AK32)","v":""},"",{"$f":"IF(入力表!AL32=\"\",\"\",入力表!AL32)","v":""},"",null,{"$f":"IF(入力表!K32=\"\",\"\",入力表!K32)","v":""},{"$f":"IF(入力表!L32=\"\",\"\",入力表!L32)","v":""},{"$f":"IF(ISERROR(VLOOKUP(IF(V20=\"\",\"\",入力表!M32),$AT$2:$AU$5,2,FALSE)),\"\",VLOOKUP(IF(V20=\"\",\"\",入力表!M32),$AT$2:$AU$5,2,FALSE))","v":""},{"$f":"IF(ISBLANK(入力表!N32),\"\",入力表!N32)","v":""},{"$f":"IF(ISBLANK(入力表!O32),\"\",入力表!O32)","v":""},{"$f":"IF(ISERROR(VLOOKUP(入力表!P32,$AT$2:$AU$5,2,FALSE)),\"\",VLOOKUP(入力表!P32,$AT$2:$AU$5,2,FALSE))","v":""},{"$f":"IF(ISBLANK(入力表!Q32),\"\",入力表!Q32)","v":""},{"$f":"IF(ISBLANK(入力表!R32),\"\",入力表!R32)","v":""},{"$f":"IF(入力表!T32=\"\",\"\",入力表!T32)","v":""},{"$f":"IF(入力表!U32=\"\",\"\",入力表!U32)","v":""},"",{"$f":"IF(ISBLANK(入力表!W32),\"\",入力表!W32)","v":""},{"$f":"IF(ISBLANK(入力表!X32),\"\",入力表!X32)","v":""},{"$f":"IF(ISERROR(VLOOKUP(入力表!Y32,$AT$2:$AU$5,2,FALSE)),\"\",VLOOKUP(入力表!Y32,$AT$2:$AU$5,2,FALSE))","v":""},{"$f":"IF(ISBLANK(入力表!Z32),\"\",入力表!Z32)","v":""},{"$f":"IF(ISBLANK(入力表!AA32),\"\",入力表!AA32)","v":""},{"$f":"IF(入力表!AC32=\"\",\"\",入力表!AC32)","v":""},{"$f":"IF(入力表!AD32=\"\",\"\",入力表!AD32)","v":""},{"$f":"IF(ISERROR(VLOOKUP(IF(AL20=\"\",\"\",入力表!AE32),$AT$2:$AU$5,2,FALSE)),\"\",VLOOKUP(IF(AL20=\"\",\"\",入力表!AE32),$AT$2:$AU$5,2,FALSE))","v":""},{"$f":"IF(ISBLANK(入力表!AF32),\"\",入力表!AF32)","v":""},{"$f":"IF(ISBLANK(入力表!AG32),\"\",入力表!AG32)","v":""},{"$f":"IF(ISERROR(VLOOKUP(入力表!AH32,$AT$2:$AU$5,2,FALSE)),\"\",VLOOKUP(入力表!AH32,$AT$2:$AU$5,2,FALSE))","v":""},{"$f":"IF(ISBLANK(入力表!AI32),\"\",入力表!AI32)","v":""},{"$f":"IF(ISBLANK(入力表!AJ32),\"\",入力表!AJ32)","v":""}]
[20,{"$f":"IF(ISBLANK(入力表!C33),\"\",入力表!C33)","v":""},{"$f":"IF(ISBLANK(入力表!D33),\"\",入力表!D33)","v":""},{"$f":"IF(ISBLANK(入力表!E33),\"\",入力表!E33)","v":""},{"$f":"RIGHT(入力表!F33,2)","v":""},{"$f":"IF(ISBLANK(入力表!G33),\"\",入力表!G33)","v":""},{"$f":"IF(ISBLANK(入力表!H33),\"\",入力表!H33)","v":"オホーツク"},{"$f":"IF(D21=\"\",\"\",入力表!$C$4)","v":""},{"$f":"IF(ISBLANK(入力表!I33),\"\",入力表!I33)","v":""},{"$f":"IF(入力表!J33=\"\",\"\",入力表!J33)","v":""},"",{"$f":"IF(入力表!S33=\"\",\"\",入力表!S33)","v":""},"",{"$f":"IF(入力表!AB33=\"\",\"\",入力表!AB33)","v":""},"",{"$f":"IF(入力表!AK33=\"\",\"\",入力表!AK33)","v":""},"",{"$f":"IF(入力表!AL33=\"\",\"\",入力表!AL33)","v":""},"",null,{"$f":"IF(入力表!K33=\"\",\"\",入力表!K33)","v":""},{"$f":"IF(入力表!L33=\"\",\"\",入力表!L33)","v":""},{"$f":"IF(ISERROR(VLOOKUP(IF(V21=\"\",\"\",入力表!M33),$AT$2:$AU$5,2,FALSE)),\"\",VLOOKUP(IF(V21=\"\",\"\",入力表!M33),$AT$2:$AU$5,2,FALSE))","v":""},{"$f":"IF(ISBLANK(入力表!N33),\"\",入力表!N33)","v":""},{"$f":"IF(ISBLANK(入力表!O33),\"\",入力表!O33)","v":""},{"$f":"IF(ISERROR(VLOOKUP(入力表!P33,$AT$2:$AU$5,2,FALSE)),\"\",VLOOKUP(入力表!P33,$AT$2:$AU$5,2,FALSE))","v":""},{"$f":"IF(ISBLANK(入力表!Q33),\"\",入力表!Q33)","v":""},{"$f":"IF(ISBLANK(入力表!R33),\"\",入力表!R33)","v":""},{"$f":"IF(入力表!T33=\"\",\"\",入力表!T33)","v":""},{"$f":"IF(入力表!U33=\"\",\"\",入力表!U33)","v":""},"",{"$f":"IF(ISBLANK(入力表!W33),\"\",入力表!W33)","v":""},{"$f":"IF(ISBLANK(入力表!X33),\"\",入力表!X33)","v":""},{"$f":"IF(ISERROR(VLOOKUP(入力表!Y33,$AT$2:$AU$5,2,FALSE)),\"\",VLOOKUP(入力表!Y33,$AT$2:$AU$5,2,FALSE))","v":""},{"$f":"IF(ISBLANK(入力表!Z33),\"\",入力表!Z33)","v":""},{"$f":"IF(ISBLANK(入力表!AA33),\"\",入力表!AA33)","v":""},{"$f":"IF(入力表!AC33=\"\",\"\",入力表!AC33)","v":""},{"$f":"IF(入力表!AD33=\"\",\"\",入力表!AD33)","v":""},{"$f":"IF(ISERROR(VLOOKUP(IF(AL21=\"\",\"\",入力表!AE33),$AT$2:$AU$5,2,FALSE)),\"\",VLOOKUP(IF(AL21=\"\",\"\",入力表!AE33),$AT$2:$AU$5,2,FALSE))","v":""},{"$f":"IF(ISBLANK(入力表!AF33),\"\",入力表!AF33)","v":""},{"$f":"IF(ISBLANK(入力表!AG33),\"\",入力表!AG33)","v":""},{"$f":"IF(ISERROR(VLOOKUP(入力表!AH33,$AT$2:$AU$5,2,FALSE)),\"\",VLOOKUP(入力表!AH33,$AT$2:$AU$5,2,FALSE))","v":""},{"$f":"IF(ISBLANK(入力表!AI33),\"\",入力表!AI33)","v":""},{"$f":"IF(ISBLANK(入力表!AJ33),\"\",入力表!AJ33)","v":""}]
[21,{"$f":"IF(ISBLANK(入力表!C34),\"\",入力表!C34)","v":""},{"$f":"IF(ISBLANK(入力表!D34),\"\",入力表!D34)","v":""},{"$f":"IF(ISBLANK(入力表!E34),\"\",入力表!E34)","v":""},{"$f":"RIGHT(入力表!F34,2)","v":""},{"$f":"IF(ISBLANK(入力表!G34),\"\",入力表!G34)","v":""},{"$f":"IF(ISBLANK(入力表!H34),\"\",入力表!H34)","v":"オホーツク"},{"$f":"IF(D22=\"\",\"\",入力表!$C$4)","v":""},{"$f":"IF(ISBLANK(入力表!I34),\"\",入力表!I34)","v":""},{"$f":"IF(入力表!J34=\"\",\"\",入力表!J34)","v":""},"",{"$f":"IF(入力表!S34=\"\",\"\",入力表!S34)","v":""},"",{"$f":"IF(入力表!AB34=\"\",\"\",入力表!AB34)","v":""},"",{"$f":"IF(入力表!AK34=\"\",\"\",入力表!AK34)","v":""},"",{"$f":"IF(入力表!AL34=\"\",\"\",入力表!AL34)","v":""},"",null,{"$f":"IF(入力表!K34=\"\",\"\",入力表!K34)","v":""},{"$f":"IF(入力表!L34=\"\",\"\",入力表!L34)","v":""},{"$f":"IF(ISERROR(VLOOKUP(IF(V22=\"\",\"\",入力表!M34),$AT$2:$AU$5,2,FALSE)),\"\",VLOOKUP(IF(V22=\"\",\"\",入力表!M34),$AT$2:$AU$5,2,FALSE))","v":""},{"$f":"IF(ISBLANK(入力表!N34),\"\",入力表!N34)","v":""},{"$f":"IF(ISBLANK(入力表!O34),\"\",入力表!O34)","v":""},{"$f":"IF(ISERROR(VLOOKUP(入力表!P34,$AT$2:$AU$5,2,FALSE)),\"\",VLOOKUP(入力表!P34,$AT$2:$AU$5,2,FALSE))","v":""},{"$f":"IF(ISBLANK(入力表!Q34),\"\",入力表!Q34)","v":""},{"$f":"IF(ISBLANK(入力表!R34),\"\",入力表!R34)","v":""},{"$f":"IF(入力表!T34=\"\",\"\",入力表!T34)","v":""},{"$f":"IF(入力表!U34=\"\",\"\",入力表!U34)","v":""},"",{"$f":"IF(ISBLANK(入力表!W34),\"\",入力表!W34)","v":""},{"$f":"IF(ISBLANK(入力表!X34),\"\",入力表!X34)","v":""},{"$f":"IF(ISERROR(VLOOKUP(入力表!Y34,$AT$2:$AU$5,2,FALSE)),\"\",VLOOKUP(入力表!Y34,$AT$2:$AU$5,2,FALSE))","v":""},{"$f":"IF(ISBLANK(入力表!Z34),\"\",入力表!Z34)","v":""},{"$f":"IF(ISBLANK(入力表!AA34),\"\",入力表!AA34)","v":""},{"$f":"IF(入力表!AC34=\"\",\"\",入力表!AC34)","v":""},{"$f":"IF(入力表!AD34=\"\",\"\",入力表!AD34)","v":""},{"$f":"IF(ISERROR(VLOOKUP(IF(AL22=\"\",\"\",入力表!AE34),$AT$2:$AU$5,2,FALSE)),\"\",VLOOKUP(IF(AL22=\"\",\"\",入力表!AE34),$AT$2:$AU$5,2,FALSE))","v":""},{"$f":"IF(ISBLANK(入力表!AF34),\"\",入力表!AF34)","v":""},{"$f":"IF(ISBLANK(入力表!AG34),\"\",入力表!AG34)","v":""},{"$f":"IF(ISERROR(VLOOKUP(入力表!AH34,$AT$2:$AU$5,2,FALSE)),\"\",VLOOKUP(入力表!AH34,$AT$2:$AU$5,2,FALSE))","v":""},{"$f":"IF(ISBLANK(入力表!AI34),\"\",入力表!AI34)","v":""},{"$f":"IF(ISBLANK(入力表!AJ34),\"\",入力表!AJ34)","v":""}]
[22,{"$f":"IF(ISBLANK(入力表!C35),\"\",入力表!C35)","v":""},{"$f":"IF(ISBLANK(入力表!D35),\"\",入力表!D35)","v":""},{"$f":"IF(ISBLANK(入力表!E35),\"\",入力表!E35)","v":""},{"$f":"RIGHT(入力表!F35,2)","v":""},{"$f":"IF(ISBLANK(入力表!G35),\"\",入力表!G35)","v":""},{"$f":"IF(ISBLANK(入力表!H35),\"\",入力表!H35)","v":"オホーツク"},{"$f":"IF(D23=\"\",\"\",入力表!$C$4)","v":""},{"$f":"IF(ISBLANK(入力表!I35),\"\",入力表!I35)","v":""},{"$f":"IF(入力表!J35=\"\",\"\",入力表!J35)","v":""},"",{"$f":"IF(入力表!S35=\"\",\"\",入力表!S35)","v":""},"",{"$f":"IF(入力表!AB35=\"\",\"\",入力表!AB35)","v":""},"",{"$f":"IF(入力表!AK35=\"\",\"\",入力表!AK35)","v":""},"",{"$f":"IF(入力表!AL35=\"\",\"\",入力表!AL35)","v":""},"",null,{"$f":"IF(入力表!K35=\"\",\"\",入力表!K35)","v":""},{"$f":"IF(入力表!L35=\"\",\"\",入力表!L35)","v":""},{"$f":"IF(ISERROR(VLOOKUP(IF(V23=\"\",\"\",入力表!M35),$AT$2:$AU$5,2,FALSE)),\"\",VLOOKUP(IF(V23=\"\",\"\",入力表!M35),$AT$2:$AU$5,2,FALSE))","v":""},{"$f":"IF(ISBLANK(入力表!N35),\"\",入力表!N35)","v":""},{"$f":"IF(ISBLANK(入力表!O35),\"\",入力表!O35)","v":""},{"$f":"IF(ISERROR(VLOOKUP(入力表!P35,$AT$2:$AU$5,2,FALSE)),\"\",VLOOKUP(入力表!P35,$AT$2:$AU$5,2,FALSE))","v":""},{"$f":"IF(ISBLANK(入力表!Q35),\"\",入力表!Q35)","v":""},{"$f":"IF(ISBLANK(入力表!R35),\"\",入力表!R35)","v":""},{"$f":"IF(入力表!T35=\"\",\"\",入力表!T35)","v":""},{"$f":"IF(入力表!U35=\"\",\"\",入力表!U35)","v":""},"",{"$f":"IF(ISBLANK(入力表!W35),\"\",入力表!W35)","v":""},{"$f":"IF(ISBLANK(入力表!X35),\"\",入力表!X35)","v":""},{"$f":"IF(ISERROR(VLOOKUP(入力表!Y35,$AT$2:$AU$5,2,FALSE)),\"\",VLOOKUP(入力表!Y35,$AT$2:$AU$5,2,FALSE))","v":""},{"$f":"IF(ISBLANK(入力表!Z35),\"\",入力表!Z35)","v":""},{"$f":"IF(ISBLANK(入力表!AA35),\"\",入力表!AA35)","v":""},{"$f":"IF(入力表!AC35=\"\",\"\",入力表!AC35)","v":""},{"$f":"IF(入力表!AD35=\"\",\"\",入力表!AD35)","v":""},{"$f":"IF(ISERROR(VLOOKUP(IF(AL23=\"\",\"\",入力表!AE35),$AT$2:$AU$5,2,FALSE)),\"\",VLOOKUP(IF(AL23=\"\",\"\",入力表!AE35),$AT$2:$AU$5,2,FALSE))","v":""},{"$f":"IF(ISBLANK(入力表!AF35),\"\",入力表!AF35)","v":""},{"$f":"IF(ISBLANK(入力表!AG35),\"\",入力表!AG35)","v":""},{"$f":"IF(ISERROR(VLOOKUP(入力表!AH35,$AT$2:$AU$5,2,FALSE)),\"\",VLOOKUP(入力表!AH35,$AT$2:$AU$5,2,FALSE))","v":""},{"$f":"IF(ISBLANK(入力表!AI35),\"\",入力表!AI35)","v":""},{"$f":"IF(ISBLANK(入力表!AJ35),\"\",入力表!AJ35)","v":""}]
[23,{"$f":"IF(ISBLANK(入力表!C36),\"\",入力表!C36)","v":""},{"$f":"IF(ISBLANK(入力表!D36),\"\",入力表!D36)","v":""},{"$f":"IF(ISBLANK(入力表!E36),\"\",入力表!E36)","v":""},{"$f":"RIGHT(入力表!F36,2)","v":""},{"$f":"IF(ISBLANK(入力表!G36),\"\",入力表!G36)","v":""},{"$f":"IF(ISBLANK(入力表!H36),\"\",入力表!H36)","v":"オホーツク"},{"$f":"IF(D24=\"\",\"\",入力表!$C$4)","v":""},{"$f":"IF(ISBLANK(入力表!I36),\"\",入力表!I36)","v":""},{"$f":"IF(入力表!J36=\"\",\"\",入力表!J36)","v":""},"",{"$f":"IF(入力表!S36=\"\",\"\",入力表!S36)","v":""},"",{"$f":"IF(入力表!AB36=\"\",\"\",入力表!AB36)","v":""},"",{"$f":"IF(入力表!AK36=\"\",\"\",入力表!AK36)","v":""},"",{"$f":"IF(入力表!AL36=\"\",\"\",入力表!AL36)","v":""},"",null,{"$f":"IF(入力表!K36=\"\",\"\",入力表!K36)","v":""},{"$f":"IF(入力表!L36=\"\",\"\",入力表!L36)","v":""},{"$f":"IF(ISERROR(VLOOKUP(IF(V24=\"\",\"\",入力表!M36),$AT$2:$AU$5,2,FALSE)),\"\",VLOOKUP(IF(V24=\"\",\"\",入力表!M36),$AT$2:$AU$5,2,FALSE))","v":""},{"$f":"IF(ISBLANK(入力表!N36),\"\",入力表!N36)","v":""},{"$f":"IF(ISBLANK(入力表!O36),\"\",入力表!O36)","v":""},{"$f":"IF(ISERROR(VLOOKUP(入力表!P36,$AT$2:$AU$5,2,FALSE)),\"\",VLOOKUP(入力表!P36,$AT$2:$AU$5,2,FALSE))","v":""},{"$f":"IF(ISBLANK(入力表!Q36),\"\",入力表!Q36)","v":""},{"$f":"IF(ISBLANK(入力表!R36),\"\",入力表!R36)","v":""},{"$f":"IF(入力表!T36=\"\",\"\",入力表!T36)","v":""},{"$f":"IF(入力表!U36=\"\",\"\",入力表!U36)","v":""},"",{"$f":"IF(ISBLANK(入力表!W36),\"\",入力表!W36)","v":""},{"$f":"IF(ISBLANK(入力表!X36),\"\",入力表!X36)","v":""},{"$f":"IF(ISERROR(VLOOKUP(入力表!Y36,$AT$2:$AU$5,2,FALSE)),\"\",VLOOKUP(入力表!Y36,$AT$2:$AU$5,2,FALSE))","v":""},{"$f":"IF(ISBLANK(入力表!Z36),\"\",入力表!Z36)","v":""},{"$f":"IF(ISBLANK(入力表!AA36),\"\",入力表!AA36)","v":""},{"$f":"IF(入力表!AC36=\"\",\"\",入力表!AC36)","v":""},{"$f":"IF(入力表!AD36=\"\",\"\",入力表!AD36)","v":""},{"$f":"IF(ISERROR(VLOOKUP(IF(AL24=\"\",\"\",入力表!AE36),$AT$2:$AU$5,2,FALSE)),\"\",VLOOKUP(IF(AL24=\"\",\"\",入力表!AE36),$AT$2:$AU$5,2,FALSE))","v":""},{"$f":"IF(ISBLANK(入力表!AF36),\"\",入力表!AF36)","v":""},{"$f":"IF(ISBLANK(入力表!AG36),\"\",入力表!AG36)","v":""},{"$f":"IF(ISERROR(VLOOKUP(入力表!AH36,$AT$2:$AU$5,2,FALSE)),\"\",VLOOKUP(入力表!AH36,$AT$2:$AU$5,2,FALSE))","v":""},{"$f":"IF(ISBLANK(入力表!AI36),\"\",入力表!AI36)","v":""},{"$f":"IF(ISBLANK(入力表!AJ36),\"\",入力表!AJ36)","v":""}]
[24,{"$f":"IF(ISBLANK(入力表!C37),\"\",入力表!C37)","v":""},{"$f":"IF(ISBLANK(入力表!D37),\"\",入力表!D37)","v":""},{"$f":"IF(ISBLANK(入力表!E37),\"\",入力表!E37)","v":""},{"$f":"RIGHT(入力表!F37,2)","v":""},{"$f":"IF(ISBLANK(入力表!G37),\"\",入力表!G37)","v":""},{"$f":"IF(ISBLANK(入力表!H37),\"\",入力表!H37)","v":"オホーツク"},{"$f":"IF(D25=\"\",\"\",入力表!$C$4)","v":""},{"$f":"IF(ISBLANK(入力表!I37),\"\",入力表!I37)","v":""},{"$f":"IF(入力表!J37=\"\",\"\",入力表!J37)","v":""},"",{"$f":"IF(入力表!S37=\"\",\"\",入力表!S37)","v":""},"",{"$f":"IF(入力表!AB37=\"\",\"\",入力表!AB37)","v":""},"",{"$f":"IF(入力表!AK37=\"\",\"\",入力表!AK37)","v":""},"",{"$f":"IF(入力表!AL37=\"\",\"\",入力表!AL37)","v":""},"",null,{"$f":"IF(入力表!K37=\"\",\"\",入力表!K37)","v":""},{"$f":"IF(入力表!L37=\"\",\"\",入力表!L37)","v":""},{"$f":"IF(ISERROR(VLOOKUP(IF(V25=\"\",\"\",入力表!M37),$AT$2:$AU$5,2,FALSE)),\"\",VLOOKUP(IF(V25=\"\",\"\",入力表!M37),$AT$2:$AU$5,2,FALSE))","v":""},{"$f":"IF(ISBLANK(入力表!N37),\"\",入力表!N37)","v":""},{"$f":"IF(ISBLANK(入力表!O37),\"\",入力表!O37)","v":""},{"$f":"IF(ISERROR(VLOOKUP(入力表!P37,$AT$2:$AU$5,2,FALSE)),\"\",VLOOKUP(入力表!P37,$AT$2:$AU$5,2,FALSE))","v":""},{"$f":"IF(ISBLANK(入力表!Q37),\"\",入力表!Q37)","v":""},{"$f":"IF(ISBLANK(入力表!R37),\"\",入力表!R37)","v":""},{"$f":"IF(入力表!T37=\"\",\"\",入力表!T37)","v":""},{"$f":"IF(入力表!U37=\"\",\"\",入力表!U37)","v":""},"",{"$f":"IF(ISBLANK(入力表!W37),\"\",入力表!W37)","v":""},{"$f":"IF(ISBLANK(入力表!X37),\"\",入力表!X37)","v":""},{"$f":"IF(ISERROR(VLOOKUP(入力表!Y37,$AT$2:$AU$5,2,FALSE)),\"\",VLOOKUP(入力表!Y37,$AT$2:$AU$5,2,FALSE))","v":""},{"$f":"IF(ISBLANK(入力表!Z37),\"\",入力表!Z37)","v":""},{"$f":"IF(ISBLANK(入力表!AA37),\"\",入力表!AA37)","v":""},{"$f":"IF(入力表!AC37=\"\",\"\",入力表!AC37)","v":""},{"$f":"IF(入力表!AD37=\"\",\"\",入力表!AD37)","v":""},{"$f":"IF(ISERROR(VLOOKUP(IF(AL25=\"\",\"\",入力表!AE37),$AT$2:$AU$5,2,FALSE)),\"\",VLOOKUP(IF(AL25=\"\",\"\",入力表!AE37),$AT$2:$AU$5,2,FALSE))","v":""},{"$f":"IF(ISBLANK(入力表!AF37),\"\",入力表!AF37)","v":""},{"$f":"IF(ISBLANK(入力表!AG37),\"\",入力表!AG37)","v":""},{"$f":"IF(ISERROR(VLOOKUP(入力表!AH37,$AT$2:$AU$5,2,FALSE)),\"\",VLOOKUP(入力表!AH37,$AT$2:$AU$5,2,FALSE))","v":""},{"$f":"IF(ISBLANK(入力表!AI37),\"\",入力表!AI37)","v":""},{"$f":"IF(ISBLANK(入力表!AJ37),\"\",入力表!AJ37)","v":""}]
[25,{"$f":"IF(ISBLANK(入力表!C38),\"\",入力表!C38)","v":""},{"$f":"IF(ISBLANK(入力表!D38),\"\",入力表!D38)","v":""},{"$f":"IF(ISBLANK(入力表!E38),\"\",入力表!E38)","v":""},{"$f":"RIGHT(入力表!F38,2)","v":""},{"$f":"IF(ISBLANK(入力表!G38),\"\",入力表!G38)","v":""},{"$f":"IF(ISBLANK(入力表!H38),\"\",入力表!H38)","v":"オホーツク"},{"$f":"IF(D26=\"\",\"\",入力表!$C$4)","v":""},{"$f":"IF(ISBLANK(入力表!I38),\"\",入力表!I38)","v":""},{"$f":"IF(入力表!J38=\"\",\"\",入力表!J38)","v":""},"",{"$f":"IF(入力表!S38=\"\",\"\",入力表!S38)","v":""},"",{"$f":"IF(入力表!AB38=\"\",\"\",入力表!AB38)","v":""},"",{"$f":"IF(入力表!AK38=\"\",\"\",入力表!AK38)","v":""},"",{"$f":"IF(入力表!AL38=\"\",\"\",入力表!AL38)","v":""},"",null,{"$f":"IF(入力表!K38=\"\",\"\",入力表!K38)","v":""},{"$f":"IF(入力表!L38=\"\",\"\",入力表!L38)","v":""},{"$f":"IF(ISERROR(VLOOKUP(IF(V26=\"\",\"\",入力表!M38),$AT$2:$AU$5,2,FALSE)),\"\",VLOOKUP(IF(V26=\"\",\"\",入力表!M38),$AT$2:$AU$5,2,FALSE))","v":""},{"$f":"IF(ISBLANK(入力表!N38),\"\",入力表!N38)","v":""},{"$f":"IF(ISBLANK(入力表!O38),\"\",入力表!O38)","v":""},{"$f":"IF(ISERROR(VLOOKUP(入力表!P38,$AT$2:$AU$5,2,FALSE)),\"\",VLOOKUP(入力表!P38,$AT$2:$AU$5,2,FALSE))","v":""},{"$f":"IF(ISBLANK(入力表!Q38),\"\",入力表!Q38)","v":""},{"$f":"IF(ISBLANK(入力表!R38),\"\",入力表!R38)","v":""},{"$f":"IF(入力表!T38=\"\",\"\",入力表!T38)","v":""},{"$f":"IF(入力表!U38=\"\",\"\",入力表!U38)","v":""},"",{"$f":"IF(ISBLANK(入力表!W38),\"\",入力表!W38)","v":""},{"$f":"IF(ISBLANK(入力表!X38),\"\",入力表!X38)","v":""},{"$f":"IF(ISERROR(VLOOKUP(入力表!Y38,$AT$2:$AU$5,2,FALSE)),\"\",VLOOKUP(入力表!Y38,$AT$2:$AU$5,2,FALSE))","v":""},{"$f":"IF(ISBLANK(入力表!Z38),\"\",入力表!Z38)","v":""},{"$f":"IF(ISBLANK(入力表!AA38),\"\",入力表!AA38)","v":""},{"$f":"IF(入力表!AC38=\"\",\"\",入力表!AC38)","v":""},{"$f":"IF(入力表!AD38=\"\",\"\",入力表!AD38)","v":""},{"$f":"IF(ISERROR(VLOOKUP(IF(AL26=\"\",\"\",入力表!AE38),$AT$2:$AU$5,2,FALSE)),\"\",VLOOKUP(IF(AL26=\"\",\"\",入力表!AE38),$AT$2:$AU$5,2,FALSE))","v":""},{"$f":"IF(ISBLANK(入力表!AF38),\"\",入力表!AF38)","v":""},{"$f":"IF(ISBLANK(入力表!AG38),\"\",入力表!AG38)","v":""},{"$f":"IF(ISERROR(VLOOKUP(入力表!AH38,$AT$2:$AU$5,2,FALSE)),\"\",VLOOKUP(入力表!AH38,$AT$2:$AU$5,2,FALSE))","v":""},{"$f":"IF(ISBLANK(入力表!AI38),\"\",入力表!AI38)","v":""},{"$f":"IF(ISBLANK(入力表!AJ38),\"\",入力表!AJ38)","v":""}]
[26,{"$f":"IF(ISBLANK(入力表!C39),\"\",入力表!C39)","v":""},{"$f":"IF(ISBLANK(入力表!D39),\"\",入力表!D39)","v":""},{"$f":"IF(ISBLANK(入力表!E39),\"\",入力表!E39)","v":""},{"$f":"RIGHT(入力表!F39,2)","v":""},{"$f":"IF(ISBLANK(入力表!G39),\"\",入力表!G39)","v":""},{"$f":"IF(ISBLANK(入力表!H39),\"\",入力表!H39)","v":"オホーツク"},{"$f":"IF(D27=\"\",\"\",入力表!$C$4)","v":""},{"$f":"IF(ISBLANK(入力表!I39),\"\",入力表!I39)","v":""},{"$f":"IF(入力表!J39=\"\",\"\",入力表!J39)","v":""},"",{"$f":"IF(入力表!S39=\"\",\"\",入力表!S39)","v":""},"",{"$f":"IF(入力表!AB39=\"\",\"\",入力表!AB39)","v":""},"",{"$f":"IF(入力表!AK39=\"\",\"\",入力表!AK39)","v":""},"",{"$f":"IF(入力表!AL39=\"\",\"\",入力表!AL39)","v":""},"",null,{"$f":"IF(入力表!K39=\"\",\"\",入力表!K39)","v":""},{"$f":"IF(入力表!L39=\"\",\"\",入力表!L39)","v":""},{"$f":"IF(ISERROR(VLOOKUP(IF(V27=\"\",\"\",入力表!M39),$AT$2:$AU$5,2,FALSE)),\"\",VLOOKUP(IF(V27=\"\",\"\",入力表!M39),$AT$2:$AU$5,2,FALSE))","v":""},{"$f":"IF(ISBLANK(入力表!N39),\"\",入力表!N39)","v":""},{"$f":"IF(ISBLANK(入力表!O39),\"\",入力表!O39)","v":""},{"$f":"IF(ISERROR(VLOOKUP(入力表!P39,$AT$2:$AU$5,2,FALSE)),\"\",VLOOKUP(入力表!P39,$AT$2:$AU$5,2,FALSE))","v":""},{"$f":"IF(ISBLANK(入力表!Q39),\"\",入力表!Q39)","v":""},{"$f":"IF(ISBLANK(入力表!R39),\"\",入力表!R39)","v":""},{"$f":"IF(入力表!T39=\"\",\"\",入力表!T39)","v":""},{"$f":"IF(入力表!U39=\"\",\"\",入力表!U39)","v":""},"",{"$f":"IF(ISBLANK(入力表!W39),\"\",入力表!W39)","v":""},{"$f":"IF(ISBLANK(入力表!X39),\"\",入力表!X39)","v":""},{"$f":"IF(ISERROR(VLOOKUP(入力表!Y39,$AT$2:$AU$5,2,FALSE)),\"\",VLOOKUP(入力表!Y39,$AT$2:$AU$5,2,FALSE))","v":""},{"$f":"IF(ISBLANK(入力表!Z39),\"\",入力表!Z39)","v":""},{"$f":"IF(ISBLANK(入力表!AA39),\"\",入力表!AA39)","v":""},{"$f":"IF(入力表!AC39=\"\",\"\",入力表!AC39)","v":""},{"$f":"IF(入力表!AD39=\"\",\"\",入力表!AD39)","v":""},{"$f":"IF(ISERROR(VLOOKUP(IF(AL27=\"\",\"\",入力表!AE39),$AT$2:$AU$5,2,FALSE)),\"\",VLOOKUP(IF(AL27=\"\",\"\",入力表!AE39),$AT$2:$AU$5,2,FALSE))","v":""},{"$f":"IF(ISBLANK(入力表!AF39),\"\",入力表!AF39)","v":""},{"$f":"IF(ISBLANK(入力表!AG39),\"\",入力表!AG39)","v":""},{"$f":"IF(ISERROR(VLOOKUP(入力表!AH39,$AT$2:$AU$5,2,FALSE)),\"\",VLOOKUP(入力表!AH39,$AT$2:$AU$5,2,FALSE))","v":""},{"$f":"IF(ISBLANK(入力表!AI39),\"\",入力表!AI39)","v":""},{"$f":"IF(ISBLANK(入力表!AJ39),\"\",入力表!AJ39)","v":""}]
[27,{"$f":"IF(ISBLANK(入力表!C40),\"\",入力表!C40)","v":""},{"$f":"IF(ISBLANK(入力表!D40),\"\",入力表!D40)","v":""},{"$f":"IF(ISBLANK(入力表!E40),\"\",入力表!E40)","v":""},{"$f":"RIGHT(入力表!F40,2)","v":""},{"$f":"IF(ISBLANK(入力表!G40),\"\",入力表!G40)","v":""},{"$f":"IF(ISBLANK(入力表!H40),\"\",入力表!H40)","v":"オホーツク"},{"$f":"IF(D28=\"\",\"\",入力表!$C$4)","v":""},{"$f":"IF(ISBLANK(入力表!I40),\"\",入力表!I40)","v":""},{"$f":"IF(入力表!J40=\"\",\"\",入力表!J40)","v":""},"",{"$f":"IF(入力表!S40=\"\",\"\",入力表!S40)","v":""},"",{"$f":"IF(入力表!AB40=\"\",\"\",入力表!AB40)","v":""},"",{"$f":"IF(入力表!AK40=\"\",\"\",入力表!AK40)","v":""},"",{"$f":"IF(入力表!AL40=\"\",\"\",入力表!AL40)","v":""},"",null,{"$f":"IF(入力表!K40=\"\",\"\",入力表!K40)","v":""},{"$f":"IF(入力表!L40=\"\",\"\",入力表!L40)","v":""},{"$f":"IF(ISERROR(VLOOKUP(IF(V28=\"\",\"\",入力表!M40),$AT$2:$AU$5,2,FALSE)),\"\",VLOOKUP(IF(V28=\"\",\"\",入力表!M40),$AT$2:$AU$5,2,FALSE))","v":""},{"$f":"IF(ISBLANK(入力表!N40),\"\",入力表!N40)","v":""},{"$f":"IF(ISBLANK(入力表!O40),\"\",入力表!O40)","v":""},{"$f":"IF(ISERROR(VLOOKUP(入力表!P40,$AT$2:$AU$5,2,FALSE)),\"\",VLOOKUP(入力表!P40,$AT$2:$AU$5,2,FALSE))","v":""},{"$f":"IF(ISBLANK(入力表!Q40),\"\",入力表!Q40)","v":""},{"$f":"IF(ISBLANK(入力表!R40),\"\",入力表!R40)","v":""},{"$f":"IF(入力表!T40=\"\",\"\",入力表!T40)","v":""},{"$f":"IF(入力表!U40=\"\",\"\",入力表!U40)","v":""},"",{"$f":"IF(ISBLANK(入力表!W40),\"\",入力表!W40)","v":""},{"$f":"IF(ISBLANK(入力表!X40),\"\",入力表!X40)","v":""},{"$f":"IF(ISERROR(VLOOKUP(入力表!Y40,$AT$2:$AU$5,2,FALSE)),\"\",VLOOKUP(入力表!Y40,$AT$2:$AU$5,2,FALSE))","v":""},{"$f":"IF(ISBLANK(入力表!Z40),\"\",入力表!Z40)","v":""},{"$f":"IF(ISBLANK(入力表!AA40),\"\",入力表!AA40)","v":""},{"$f":"IF(入力表!AC40=\"\",\"\",入力表!AC40)","v":""},{"$f":"IF(入力表!AD40=\"\",\"\",入力表!AD40)","v":""},{"$f":"IF(ISERROR(VLOOKUP(IF(AL28=\"\",\"\",入力表!AE40),$AT$2:$AU$5,2,FALSE)),\"\",VLOOKUP(IF(AL28=\"\",\"\",入力表!AE40),$AT$2:$AU$5,2,FALSE))","v":""},{"$f":"IF(ISBLANK(入力表!AF40),\"\",入力表!AF40)","v":""},{"$f":"IF(ISBLANK(入力表!AG40),\"\",入力表!AG40)","v":""},{"$f":"IF(ISERROR(VLOOKUP(入力表!AH40,$AT$2:$AU$5,2,FALSE)),\"\",VLOOKUP(入力表!AH40,$AT$2:$AU$5,2,FALSE))","v":""},{"$f":"IF(ISBLANK(入力表!AI40),\"\",入力表!AI40)","v":""},{"$f":"IF(ISBLANK(入力表!AJ40),\"\",入力表!AJ40)","v":""}]
[28,{"$f":"IF(ISBLANK(入力表!C41),\"\",入力表!C41)","v":""},{"$f":"IF(ISBLANK(入力表!D41),\"\",入力表!D41)","v":""},{"$f":"IF(ISBLANK(入力表!E41),\"\",入力表!E41)","v":""},{"$f":"RIGHT(入力表!F41,2)","v":""},{"$f":"IF(ISBLANK(入力表!G41),\"\",入力表!G41)","v":""},{"$f":"IF(ISBLANK(入力表!H41),\"\",入力表!H41)","v":"オホーツク"},{"$f":"IF(D29=\"\",\"\",入力表!$C$4)","v":""},{"$f":"IF(ISBLANK(入力表!I41),\"\",入力表!I41)","v":""},{"$f":"IF(入力表!J41=\"\",\"\",入力表!J41)","v":""},"",{"$f":"IF(入力表!S41=\"\",\"\",入力表!S41)","v":""},"",{"$f":"IF(入力表!AB41=\"\",\"\",入力表!AB41)","v":""},"",{"$f":"IF(入力表!AK41=\"\",\"\",入力表!AK41)","v":""},"",{"$f":"IF(入力表!AL41=\"\",\"\",入力表!AL41)","v":""},"",null,{"$f":"IF(入力表!K41=\"\",\"\",入力表!K41)","v":""},{"$f":"IF(入力表!L41=\"\",\"\",入力表!L41)","v":""},{"$f":"IF(ISERROR(VLOOKUP(IF(V29=\"\",\"\",入力表!M41),$AT$2:$AU$5,2,FALSE)),\"\",VLOOKUP(IF(V29=\"\",\"\",入力表!M41),$AT$2:$AU$5,2,FALSE))","v":""},{"$f":"IF(ISBLANK(入力表!N41),\"\",入力表!N41)","v":""},{"$f":"IF(ISBLANK(入力表!O41),\"\",入力表!O41)","v":""},{"$f":"IF(ISERROR(VLOOKUP(入力表!P41,$AT$2:$AU$5,2,FALSE)),\"\",VLOOKUP(入力表!P41,$AT$2:$AU$5,2,FALSE))","v":""},{"$f":"IF(ISBLANK(入力表!Q41),\"\",入力表!Q41)","v":""},{"$f":"IF(ISBLANK(入力表!R41),\"\",入力表!R41)","v":""},{"$f":"IF(入力表!T41=\"\",\"\",入力表!T41)","v":""},{"$f":"IF(入力表!U41=\"\",\"\",入力表!U41)","v":""},"",{"$f":"IF(ISBLANK(入力表!W41),\"\",入力表!W41)","v":""},{"$f":"IF(ISBLANK(入力表!X41),\"\",入力表!X41)","v":""},{"$f":"IF(ISERROR(VLOOKUP(入力表!Y41,$AT$2:$AU$5,2,FALSE)),\"\",VLOOKUP(入力表!Y41,$AT$2:$AU$5,2,FALSE))","v":""},{"$f":"IF(ISBLANK(入力表!Z41),\"\",入力表!Z41)","v":""},{"$f":"IF(ISBLANK(入力表!AA41),\"\",入力表!AA41)","v":""},{"$f":"IF(入力表!AC41=\"\",\"\",入力表!AC41)","v":""},{"$f":"IF(入力表!AD41=\"\",\"\",入力表!AD41)","v":""},{"$f":"IF(ISERROR(VLOOKUP(IF(AL29=\"\",\"\",入力表!AE41),$AT$2:$AU$5,2,FALSE)),\"\",VLOOKUP(IF(AL29=\"\",\"\",入力表!AE41),$AT$2:$AU$5,2,FALSE))","v":""},{"$f":"IF(ISBLANK(入力表!AF41),\"\",入力表!AF41)","v":""},{"$f":"IF(ISBLANK(入力表!AG41),\"\",入力表!AG41)","v":""},{"$f":"IF(ISERROR(VLOOKUP(入力表!AH41,$AT$2:$AU$5,2,FALSE)),\"\",VLOOKUP(入力表!AH41,$AT$2:$AU$5,2,FALSE))","v":""},{"$f":"IF(ISBLANK(入力表!AI41),\"\",入力表!AI41)","v":""},{"$f":"IF(ISBLANK(入力表!AJ41),\"\",入力表!AJ41)","v":""}]
[29,{"$f":"IF(ISBLANK(入力表!C42),\"\",入力表!C42)","v":""},{"$f":"IF(ISBLANK(入力表!D42),\"\",入力表!D42)","v":""},{"$f":"IF(ISBLANK(入力表!E42),\"\",入力表!E42)","v":""},{"$f":"RIGHT(入力表!F42,2)","v":""},{"$f":"IF(ISBLANK(入力表!G42),\"\",入力表!G42)","v":""},{"$f":"IF(ISBLANK(入力表!H42),\"\",入力表!H42)","v":"オホーツク"},{"$f":"IF(D30=\"\",\"\",入力表!$C$4)","v":""},{"$f":"IF(ISBLANK(入力表!I42),\"\",入力表!I42)","v":""},{"$f":"IF(入力表!J42=\"\",\"\",入力表!J42)","v":""},"",{"$f":"IF(入力表!S42=\"\",\"\",入力表!S42)","v":""},"",{"$f":"IF(入力表!AB42=\"\",\"\",入力表!AB42)","v":""},"",{"$f":"IF(入力表!AK42=\"\",\"\",入力表!AK42)","v":""},"",{"$f":"IF(入力表!AL42=\"\",\"\",入力表!AL42)","v":""},"",null,{"$f":"IF(入力表!K42=\"\",\"\",入力表!K42)","v":""},{"$f":"IF(入力表!L42=\"\",\"\",入力表!L42)","v":""},{"$f":"IF(ISERROR(VLOOKUP(IF(V30=\"\",\"\",入力表!M42),$AT$2:$AU$5,2,FALSE)),\"\",VLOOKUP(IF(V30=\"\",\"\",入力表!M42),$AT$2:$AU$5,2,FALSE))","v":""},{"$f":"IF(ISBLANK(入力表!N42),\"\",入力表!N42)","v":""},{"$f":"IF(ISBLANK(入力表!O42),\"\",入力表!O42)","v":""},{"$f":"IF(ISERROR(VLOOKUP(入力表!P42,$AT$2:$AU$5,2,FALSE)),\"\",VLOOKUP(入力表!P42,$AT$2:$AU$5,2,FALSE))","v":""},{"$f":"IF(ISBLANK(入力表!Q42),\"\",入力表!Q42)","v":""},{"$f":"IF(ISBLANK(入力表!R42),\"\",入力表!R42)","v":""},{"$f":"IF(入力表!T42=\"\",\"\",入力表!T42)","v":""},{"$f":"IF(入力表!U42=\"\",\"\",入力表!U42)","v":""},"",{"$f":"IF(ISBLANK(入力表!W42),\"\",入力表!W42)","v":""},{"$f":"IF(ISBLANK(入力表!X42),\"\",入力表!X42)","v":""},{"$f":"IF(ISERROR(VLOOKUP(入力表!Y42,$AT$2:$AU$5,2,FALSE)),\"\",VLOOKUP(入力表!Y42,$AT$2:$AU$5,2,FALSE))","v":""},{"$f":"IF(ISBLANK(入力表!Z42),\"\",入力表!Z42)","v":""},{"$f":"IF(ISBLANK(入力表!AA42),\"\",入力表!AA42)","v":""},{"$f":"IF(入力表!AC42=\"\",\"\",入力表!AC42)","v":""},{"$f":"IF(入力表!AD42=\"\",\"\",入力表!AD42)","v":""},{"$f":"IF(ISERROR(VLOOKUP(IF(AL30=\"\",\"\",入力表!AE42),$AT$2:$AU$5,2,FALSE)),\"\",VLOOKUP(IF(AL30=\"\",\"\",入力表!AE42),$AT$2:$AU$5,2,FALSE))","v":""},{"$f":"IF(ISBLANK(入力表!AF42),\"\",入力表!AF42)","v":""},{"$f":"IF(ISBLANK(入力表!AG42),\"\",入力表!AG42)","v":""},{"$f":"IF(ISERROR(VLOOKUP(入力表!AH42,$AT$2:$AU$5,2,FALSE)),\"\",VLOOKUP(入力表!AH42,$AT$2:$AU$5,2,FALSE))","v":""},{"$f":"IF(ISBLANK(入力表!AI42),\"\",入力表!AI42)","v":""},{"$f":"IF(ISBLANK(入力表!AJ42),\"\",入力表!AJ42)","v":""}]
[30,{"$f":"IF(ISBLANK(入力表!C43),\"\",入力表!C43)","v":""},{"$f":"IF(ISBLANK(入力表!D43),\"\",入力表!D43)","v":""},{"$f":"IF(ISBLANK(入力表!E43),\"\",入力表!E43)","v":""},{"$f":"RIGHT(入力表!F43,2)","v":""},{"$f":"IF(ISBLANK(入力表!G43),\"\",入力表!G43)","v":""},{"$f":"IF(ISBLANK(入力表!H43),\"\",入力表!H43)","v":"オホーツク"},{"$f":"IF(D31=\"\",\"\",入力表!$C$4)","v":""},{"$f":"IF(ISBLANK(入力表!I43),\"\",入力表!I43)","v":""},{"$f":"IF(入力表!J43=\"\",\"\",入力表!J43)","v":""},"",{"$f":"IF(入力表!S43=\"\",\"\",入力表!S43)","v":""},"",{"$f":"IF(入力表!AB43=\"\",\"\",入力表!AB43)","v":""},"",{"$f":"IF(入力表!AK43=\"\",\"\",入力表!AK43)","v":""},"",{"$f":"IF(入力表!AL43=\"\",\"\",入力表!AL43)","v":""},"",null,{"$f":"IF(入力表!K43=\"\",\"\",入力表!K43)","v":""},{"$f":"IF(入力表!L43=\"\",\"\",入力表!L43)","v":""},{"$f":"IF(ISERROR(VLOOKUP(IF(V31=\"\",\"\",入力表!M43),$AT$2:$AU$5,2,FALSE)),\"\",VLOOKUP(IF(V31=\"\",\"\",入力表!M43),$AT$2:$AU$5,2,FALSE))","v":""},{"$f":"IF(ISBLANK(入力表!N43),\"\",入力表!N43)","v":""},{"$f":"IF(ISBLANK(入力表!O43),\"\",入力表!O43)","v":""},{"$f":"IF(ISERROR(VLOOKUP(入力表!P43,$AT$2:$AU$5,2,FALSE)),\"\",VLOOKUP(入力表!P43,$AT$2:$AU$5,2,FALSE))","v":""},{"$f":"IF(ISBLANK(入力表!Q43),\"\",入力表!Q43)","v":""},{"$f":"IF(ISBLANK(入力表!R43),\"\",入力表!R43)","v":""},{"$f":"IF(入力表!T43=\"\",\"\",入力表!T43)","v":""},{"$f":"IF(入力表!U43=\"\",\"\",入力表!U43)","v":""},"",{"$f":"IF(ISBLANK(入力表!W43),\"\",入力表!W43)","v":""},{"$f":"IF(ISBLANK(入力表!X43),\"\",入力表!X43)","v":""},{"$f":"IF(ISERROR(VLOOKUP(入力表!Y43,$AT$2:$AU$5,2,FALSE)),\"\",VLOOKUP(入力表!Y43,$AT$2:$AU$5,2,FALSE))","v":""},{"$f":"IF(ISBLANK(入力表!Z43),\"\",入力表!Z43)","v":""},{"$f":"IF(ISBLANK(入力表!AA43),\"\",入力表!AA43)","v":""},{"$f":"IF(入力表!AC43=\"\",\"\",入力表!AC43)","v":""},{"$f":"IF(入力表!AD43=\"\",\"\",入力表!AD43)","v":""},{"$f":"IF(ISERROR(VLOOKUP(IF(AL31=\"\",\"\",入力表!AE43),$AT$2:$AU$5,2,FALSE)),\"\",VLOOKUP(IF(AL31=\"\",\"\",入力表!AE43),$AT$2:$AU$5,2,FALSE))","v":""},{"$f":"IF(ISBLANK(入力表!AF43),\"\",入力表!AF43)","v":""},{"$f":"IF(ISBLANK(入力表!AG43),\"\",入力表!AG43)","v":""},{"$f":"IF(ISERROR(VLOOKUP(入力表!AH43,$AT$2:$AU$5,2,FALSE)),\"\",VLOOKUP(入力表!AH43,$AT$2:$AU$5,2,FALSE))","v":""},{"$f":"IF(ISBLANK(入力表!AI43),\"\",入力表!AI43)","v":""},{"$f":"IF(ISBLANK(入力表!AJ43),\"\",入力表!AJ43)","v":""}]
[31,{"$f":"IF(ISBLANK(入力表!C44),\"\",入力表!C44)","v":""},{"$f":"IF(ISBLANK(入力表!D44),\"\",入力表!D44)","v":""},{"$f":"IF(ISBLANK(入力表!E44),\"\",入力表!E44)","v":""},{"$f":"RIGHT(入力表!F44,2)","v":""},{"$f":"IF(ISBLANK(入力表!G44),\"\",入力表!G44)","v":""},{"$f":"IF(ISBLANK(入力表!H44),\"\",入力表!H44)","v":"オホーツク"},{"$f":"IF(D32=\"\",\"\",入力表!$C$4)","v":""},{"$f":"IF(ISBLANK(入力表!I44),\"\",入力表!I44)","v":""},{"$f":"IF(入力表!J44=\"\",\"\",入力表!J44)","v":""},"",{"$f":"IF(入力表!S44=\"\",\"\",入力表!S44)","v":""},"",{"$f":"IF(入力表!AB44=\"\",\"\",入力表!AB44)","v":""},"",{"$f":"IF(入力表!AK44=\"\",\"\",入力表!AK44)","v":""},"",{"$f":"IF(入力表!AL44=\"\",\"\",入力表!AL44)","v":""},"",null,{"$f":"IF(入力表!K44=\"\",\"\",入力表!K44)","v":""},{"$f":"IF(入力表!L44=\"\",\"\",入力表!L44)","v":""},{"$f":"IF(ISERROR(VLOOKUP(IF(V32=\"\",\"\",入力表!M44),$AT$2:$AU$5,2,FALSE)),\"\",VLOOKUP(IF(V32=\"\",\"\",入力表!M44),$AT$2:$AU$5,2,FALSE))","v":""},{"$f":"IF(ISBLANK(入力表!N44),\"\",入力表!N44)","v":""},{"$f":"IF(ISBLANK(入力表!O44),\"\",入力表!O44)","v":""},{"$f":"IF(ISERROR(VLOOKUP(入力表!P44,$AT$2:$AU$5,2,FALSE)),\"\",VLOOKUP(入力表!P44,$AT$2:$AU$5,2,FALSE))","v":""},{"$f":"IF(ISBLANK(入力表!Q44),\"\",入力表!Q44)","v":""},{"$f":"IF(ISBLANK(入力表!R44),\"\",入力表!R44)","v":""},{"$f":"IF(入力表!T44=\"\",\"\",入力表!T44)","v":""},{"$f":"IF(入力表!U44=\"\",\"\",入力表!U44)","v":""},"",{"$f":"IF(ISBLANK(入力表!W44),\"\",入力表!W44)","v":""},{"$f":"IF(ISBLANK(入力表!X44),\"\",入力表!X44)","v":""},{"$f":"IF(ISERROR(VLOOKUP(入力表!Y44,$AT$2:$AU$5,2,FALSE)),\"\",VLOOKUP(入力表!Y44,$AT$2:$AU$5,2,FALSE))","v":""},{"$f":"IF(ISBLANK(入力表!Z44),\"\",入力表!Z44)","v":""},{"$f":"IF(ISBLANK(入力表!AA44),\"\",入力表!AA44)","v":""},{"$f":"IF(入力表!AC44=\"\",\"\",入力表!AC44)","v":""},{"$f":"IF(入力表!AD44=\"\",\"\",入力表!AD44)","v":""},{"$f":"IF(ISERROR(VLOOKUP(IF(AL32=\"\",\"\",入力表!AE44),$AT$2:$AU$5,2,FALSE)),\"\",VLOOKUP(IF(AL32=\"\",\"\",入力表!AE44),$AT$2:$AU$5,2,FALSE))","v":""},{"$f":"IF(ISBLANK(入力表!AF44),\"\",入力表!AF44)","v":""},{"$f":"IF(ISBLANK(入力表!AG44),\"\",入力表!AG44)","v":""},{"$f":"IF(ISERROR(VLOOKUP(入力表!AH44,$AT$2:$AU$5,2,FALSE)),\"\",VLOOKUP(入力表!AH44,$AT$2:$AU$5,2,FALSE))","v":""},{"$f":"IF(ISBLANK(入力表!AI44),\"\",入力表!AI44)","v":""},{"$f":"IF(ISBLANK(入力表!AJ44),\"\",入力表!AJ44)","v":""}]
[32,{"$f":"IF(ISBLANK(入力表!C45),\"\",入力表!C45)","v":""},{"$f":"IF(ISBLANK(入力表!D45),\"\",入力表!D45)","v":""},{"$f":"IF(ISBLANK(入力表!E45),\"\",入力表!E45)","v":""},{"$f":"RIGHT(入力表!F45,2)","v":""},{"$f":"IF(ISBLANK(入力表!G45),\"\",入力表!G45)","v":""},{"$f":"IF(ISBLANK(入力表!H45),\"\",入力表!H45)","v":"オホーツク"},{"$f":"IF(D33=\"\",\"\",入力表!$C$4)","v":""},{"$f":"IF(ISBLANK(入力表!I45),\"\",入力表!I45)","v":""},{"$f":"IF(入力表!J45=\"\",\"\",入力表!J45)","v":""},"",{"$f":"IF(入力表!S45=\"\",\"\",入力表!S45)","v":""},"",{"$f":"IF(入力表!AB45=\"\",\"\",入力表!AB45)","v":""},"",{"$f":"IF(入力表!AK45=\"\",\"\",入力表!AK45)","v":""},"",{"$f":"IF(入力表!AL45=\"\",\"\",入力表!AL45)","v":""},"",null,{"$f":"IF(入力表!K45=\"\",\"\",入力表!K45)","v":""},{"$f":"IF(入力表!L45=\"\",\"\",入力表!L45)","v":""},{"$f":"IF(ISERROR(VLOOKUP(IF(V33=\"\",\"\",入力表!M45),$AT$2:$AU$5,2,FALSE)),\"\",VLOOKUP(IF(V33=\"\",\"\",入力表!M45),$AT$2:$AU$5,2,FALSE))","v":""},{"$f":"IF(ISBLANK(入力表!N45),\"\",入力表!N45)","v":""},{"$f":"IF(ISBLANK(入力表!O45),\"\",入力表!O45)","v":""},{"$f":"IF(ISERROR(VLOOKUP(入力表!P45,$AT$2:$AU$5,2,FALSE)),\"\",VLOOKUP(入力表!P45,$AT$2:$AU$5,2,FALSE))","v":""},{"$f":"IF(ISBLANK(入力表!Q45),\"\",入力表!Q45)","v":""},{"$f":"IF(ISBLANK(入力表!R45),\"\",入力表!R45)","v":""},{"$f":"IF(入力表!T45=\"\",\"\",入力表!T45)","v":""},{"$f":"IF(入力表!U45=\"\",\"\",入力表!U45)","v":""},"",{"$f":"IF(ISBLANK(入力表!W45),\"\",入力表!W45)","v":""},{"$f":"IF(ISBLANK(入力表!X45),\"\",入力表!X45)","v":""},{"$f":"IF(ISERROR(VLOOKUP(入力表!Y45,$AT$2:$AU$5,2,FALSE)),\"\",VLOOKUP(入力表!Y45,$AT$2:$AU$5,2,FALSE))","v":""},{"$f":"IF(ISBLANK(入力表!Z45),\"\",入力表!Z45)","v":""},{"$f":"IF(ISBLANK(入力表!AA45),\"\",入力表!AA45)","v":""},{"$f":"IF(入力表!AC45=\"\",\"\",入力表!AC45)","v":""},{"$f":"IF(入力表!AD45=\"\",\"\",入力表!AD45)","v":""},{"$f":"IF(ISERROR(VLOOKUP(IF(AL33=\"\",\"\",入力表!AE45),$AT$2:$AU$5,2,FALSE)),\"\",VLOOKUP(IF(AL33=\"\",\"\",入力表!AE45),$AT$2:$AU$5,2,FALSE))","v":""},{"$f":"IF(ISBLANK(入力表!AF45),\"\",入力表!AF45)","v":""},{"$f":"IF(ISBLANK(入力表!AG45),\"\",入力表!AG45)","v":""},{"$f":"IF(ISERROR(VLOOKUP(入力表!AH45,$AT$2:$AU$5,2,FALSE)),\"\",VLOOKUP(入力表!AH45,$AT$2:$AU$5,2,FALSE))","v":""},{"$f":"IF(ISBLANK(入力表!AI45),\"\",入力表!AI45)","v":""},{"$f":"IF(ISBLANK(入力表!AJ45),\"\",入力表!AJ45)","v":""}]
[33,{"$f":"IF(ISBLANK(入力表!C46),\"\",入力表!C46)","v":""},{"$f":"IF(ISBLANK(入力表!D46),\"\",入力表!D46)","v":""},{"$f":"IF(ISBLANK(入力表!E46),\"\",入力表!E46)","v":""},{"$f":"RIGHT(入力表!F46,2)","v":""},{"$f":"IF(ISBLANK(入力表!G46),\"\",入力表!G46)","v":""},{"$f":"IF(ISBLANK(入力表!H46),\"\",入力表!H46)","v":"オホーツク"},{"$f":"IF(D34=\"\",\"\",入力表!$C$4)","v":""},{"$f":"IF(ISBLANK(入力表!I46),\"\",入力表!I46)","v":""},{"$f":"IF(入力表!J46=\"\",\"\",入力表!J46)","v":""},"",{"$f":"IF(入力表!S46=\"\",\"\",入力表!S46)","v":""},"",{"$f":"IF(入力表!AB46=\"\",\"\",入力表!AB46)","v":""},"",{"$f":"IF(入力表!AK46=\"\",\"\",入力表!AK46)","v":""},"",{"$f":"IF(入力表!AL46=\"\",\"\",入力表!AL46)","v":""},"",null,{"$f":"IF(入力表!K46=\"\",\"\",入力表!K46)","v":""},{"$f":"IF(入力表!L46=\"\",\"\",入力表!L46)","v":""},{"$f":"IF(ISERROR(VLOOKUP(IF(V34=\"\",\"\",入力表!M46),$AT$2:$AU$5,2,FALSE)),\"\",VLOOKUP(IF(V34=\"\",\"\",入力表!M46),$AT$2:$AU$5,2,FALSE))","v":""},{"$f":"IF(ISBLANK(入力表!N46),\"\",入力表!N46)","v":""},{"$f":"IF(ISBLANK(入力表!O46),\"\",入力表!O46)","v":""},{"$f":"IF(ISERROR(VLOOKUP(入力表!P46,$AT$2:$AU$5,2,FALSE)),\"\",VLOOKUP(入力表!P46,$AT$2:$AU$5,2,FALSE))","v":""},{"$f":"IF(ISBLANK(入力表!Q46),\"\",入力表!Q46)","v":""},{"$f":"IF(ISBLANK(入力表!R46),\"\",入力表!R46)","v":""},{"$f":"IF(入力表!T46=\"\",\"\",入力表!T46)","v":""},{"$f":"IF(入力表!U46=\"\",\"\",入力表!U46)","v":""},"",{"$f":"IF(ISBLANK(入力表!W46),\"\",入力表!W46)","v":""},{"$f":"IF(ISBLANK(入力表!X46),\"\",入力表!X46)","v":""},{"$f":"IF(ISERROR(VLOOKUP(入力表!Y46,$AT$2:$AU$5,2,FALSE)),\"\",VLOOKUP(入力表!Y46,$AT$2:$AU$5,2,FALSE))","v":""},{"$f":"IF(ISBLANK(入力表!Z46),\"\",入力表!Z46)","v":""},{"$f":"IF(ISBLANK(入力表!AA46),\"\",入力表!AA46)","v":""},{"$f":"IF(入力表!AC46=\"\",\"\",入力表!AC46)","v":""},{"$f":"IF(入力表!AD46=\"\",\"\",入力表!AD46)","v":""},{"$f":"IF(ISERROR(VLOOKUP(IF(AL34=\"\",\"\",入力表!AE46),$AT$2:$AU$5,2,FALSE)),\"\",VLOOKUP(IF(AL34=\"\",\"\",入力表!AE46),$AT$2:$AU$5,2,FALSE))","v":""},{"$f":"IF(ISBLANK(入力表!AF46),\"\",入力表!AF46)","v":""},{"$f":"IF(ISBLANK(入力表!AG46),\"\",入力表!AG46)","v":""},{"$f":"IF(ISERROR(VLOOKUP(入力表!AH46,$AT$2:$AU$5,2,FALSE)),\"\",VLOOKUP(入力表!AH46,$AT$2:$AU$5,2,FALSE))","v":""},{"$f":"IF(ISBLANK(入力表!AI46),\"\",入力表!AI46)","v":""},{"$f":"IF(ISBLANK(入力表!AJ46),\"\",入力表!AJ46)","v":""}]
[34,{"$f":"IF(ISBLANK(入力表!C47),\"\",入力表!C47)","v":""},{"$f":"IF(ISBLANK(入力表!D47),\"\",入力表!D47)","v":""},{"$f":"IF(ISBLANK(入力表!E47),\"\",入力表!E47)","v":""},{"$f":"RIGHT(入力表!F47,2)","v":""},{"$f":"IF(ISBLANK(入力表!G47),\"\",入力表!G47)","v":""},{"$f":"IF(ISBLANK(入力表!H47),\"\",入力表!H47)","v":"オホーツク"},{"$f":"IF(D35=\"\",\"\",入力表!$C$4)","v":""},{"$f":"IF(ISBLANK(入力表!I47),\"\",入力表!I47)","v":""},{"$f":"IF(入力表!J47=\"\",\"\",入力表!J47)","v":""},"",{"$f":"IF(入力表!S47=\"\",\"\",入力表!S47)","v":""},"",{"$f":"IF(入力表!AB47=\"\",\"\",入力表!AB47)","v":""},"",{"$f":"IF(入力表!AK47=\"\",\"\",入力表!AK47)","v":""},"",{"$f":"IF(入力表!AL47=\"\",\"\",入力表!AL47)","v":""},"",null,{"$f":"IF(入力表!K47=\"\",\"\",入力表!K47)","v":""},{"$f":"IF(入力表!L47=\"\",\"\",入力表!L47)","v":""},{"$f":"IF(ISERROR(VLOOKUP(IF(V35=\"\",\"\",入力表!M47),$AT$2:$AU$5,2,FALSE)),\"\",VLOOKUP(IF(V35=\"\",\"\",入力表!M47),$AT$2:$AU$5,2,FALSE))","v":""},{"$f":"IF(ISBLANK(入力表!N47),\"\",入力表!N47)","v":""},{"$f":"IF(ISBLANK(入力表!O47),\"\",入力表!O47)","v":""},{"$f":"IF(ISERROR(VLOOKUP(入力表!P47,$AT$2:$AU$5,2,FALSE)),\"\",VLOOKUP(入力表!P47,$AT$2:$AU$5,2,FALSE))","v":""},{"$f":"IF(ISBLANK(入力表!Q47),\"\",入力表!Q47)","v":""},{"$f":"IF(ISBLANK(入力表!R47),\"\",入力表!R47)","v":""},{"$f":"IF(入力表!T47=\"\",\"\",入力表!T47)","v":""},{"$f":"IF(入力表!U47=\"\",\"\",入力表!U47)","v":""},"",{"$f":"IF(ISBLANK(入力表!W47),\"\",入力表!W47)","v":""},{"$f":"IF(ISBLANK(入力表!X47),\"\",入力表!X47)","v":""},{"$f":"IF(ISERROR(VLOOKUP(入力表!Y47,$AT$2:$AU$5,2,FALSE)),\"\",VLOOKUP(入力表!Y47,$AT$2:$AU$5,2,FALSE))","v":""},{"$f":"IF(ISBLANK(入力表!Z47),\"\",入力表!Z47)","v":""},{"$f":"IF(ISBLANK(入力表!AA47),\"\",入力表!AA47)","v":""},{"$f":"IF(入力表!AC47=\"\",\"\",入力表!AC47)","v":""},{"$f":"IF(入力表!AD47=\"\",\"\",入力表!AD47)","v":""},{"$f":"IF(ISERROR(VLOOKUP(IF(AL35=\"\",\"\",入力表!AE47),$AT$2:$AU$5,2,FALSE)),\"\",VLOOKUP(IF(AL35=\"\",\"\",入力表!AE47),$AT$2:$AU$5,2,FALSE))","v":""},{"$f":"IF(ISBLANK(入力表!AF47),\"\",入力表!AF47)","v":""},{"$f":"IF(ISBLANK(入力表!AG47),\"\",入力表!AG47)","v":""},{"$f":"IF(ISERROR(VLOOKUP(入力表!AH47,$AT$2:$AU$5,2,FALSE)),\"\",VLOOKUP(入力表!AH47,$AT$2:$AU$5,2,FALSE))","v":""},{"$f":"IF(ISBLANK(入力表!AI47),\"\",入力表!AI47)","v":""},{"$f":"IF(ISBLANK(入力表!AJ47),\"\",入力表!AJ47)","v":""}]
[35,{"$f":"IF(ISBLANK(入力表!C48),\"\",入力表!C48)","v":""},{"$f":"IF(ISBLANK(入力表!D48),\"\",入力表!D48)","v":""},{"$f":"IF(ISBLANK(入力表!E48),\"\",入力表!E48)","v":""},{"$f":"RIGHT(入力表!F48,2)","v":""},{"$f":"IF(ISBLANK(入力表!G48),\"\",入力表!G48)","v":""},{"$f":"IF(ISBLANK(入力表!H48),\"\",入力表!H48)","v":"オホーツク"},{"$f":"IF(D36=\"\",\"\",入力表!$C$4)","v":""},{"$f":"IF(ISBLANK(入力表!I48),\"\",入力表!I48)","v":""},{"$f":"IF(入力表!J48=\"\",\"\",入力表!J48)","v":""},"",{"$f":"IF(入力表!S48=\"\",\"\",入力表!S48)","v":""},"",{"$f":"IF(入力表!AB48=\"\",\"\",入力表!AB48)","v":""},"",{"$f":"IF(入力表!AK48=\"\",\"\",入力表!AK48)","v":""},"",{"$f":"IF(入力表!AL48=\"\",\"\",入力表!AL48)","v":""},"",null,{"$f":"IF(入力表!K48=\"\",\"\",入力表!K48)","v":""},{"$f":"IF(入力表!L48=\"\",\"\",入力表!L48)","v":""},{"$f":"IF(ISERROR(VLOOKUP(IF(V36=\"\",\"\",入力表!M48),$AT$2:$AU$5,2,FALSE)),\"\",VLOOKUP(IF(V36=\"\",\"\",入力表!M48),$AT$2:$AU$5,2,FALSE))","v":""},{"$f":"IF(ISBLANK(入力表!N48),\"\",入力表!N48)","v":""},{"$f":"IF(ISBLANK(入力表!O48),\"\",入力表!O48)","v":""},{"$f":"IF(ISERROR(VLOOKUP(入力表!P48,$AT$2:$AU$5,2,FALSE)),\"\",VLOOKUP(入力表!P48,$AT$2:$AU$5,2,FALSE))","v":""},{"$f":"IF(ISBLANK(入力表!Q48),\"\",入力表!Q48)","v":""},{"$f":"IF(ISBLANK(入力表!R48),\"\",入力表!R48)","v":""},{"$f":"IF(入力表!T48=\"\",\"\",入力表!T48)","v":""},{"$f":"IF(入力表!U48=\"\",\"\",入力表!U48)","v":""},"",{"$f":"IF(ISBLANK(入力表!W48),\"\",入力表!W48)","v":""},{"$f":"IF(ISBLANK(入力表!X48),\"\",入力表!X48)","v":""},{"$f":"IF(ISERROR(VLOOKUP(入力表!Y48,$AT$2:$AU$5,2,FALSE)),\"\",VLOOKUP(入力表!Y48,$AT$2:$AU$5,2,FALSE))","v":""},{"$f":"IF(ISBLANK(入力表!Z48),\"\",入力表!Z48)","v":""},{"$f":"IF(ISBLANK(入力表!AA48),\"\",入力表!AA48)","v":""},{"$f":"IF(入力表!AC48=\"\",\"\",入力表!AC48)","v":""},{"$f":"IF(入力表!AD48=\"\",\"\",入力表!AD48)","v":""},{"$f":"IF(ISERROR(VLOOKUP(IF(AL36=\"\",\"\",入力表!AE48),$AT$2:$AU$5,2,FALSE)),\"\",VLOOKUP(IF(AL36=\"\",\"\",入力表!AE48),$AT$2:$AU$5,2,FALSE))","v":""},{"$f":"IF(ISBLANK(入力表!AF48),\"\",入力表!AF48)","v":""},{"$f":"IF(ISBLANK(入力表!AG48),\"\",入力表!AG48)","v":""},{"$f":"IF(ISERROR(VLOOKUP(入力表!AH48,$AT$2:$AU$5,2,FALSE)),\"\",VLOOKUP(入力表!AH48,$AT$2:$AU$5,2,FALSE))","v":""},{"$f":"IF(ISBLANK(入力表!AI48),\"\",入力表!AI48)","v":""},{"$f":"IF(ISBLANK(入力表!AJ48),\"\",入力表!AJ48)","v":""}]
[36,{"$f":"IF(ISBLANK(入力表!C49),\"\",入力表!C49)","v":""},{"$f":"IF(ISBLANK(入力表!D49),\"\",入力表!D49)","v":""},{"$f":"IF(ISBLANK(入力表!E49),\"\",入力表!E49)","v":""},{"$f":"RIGHT(入力表!F49,2)","v":""},{"$f":"IF(ISBLANK(入力表!G49),\"\",入力表!G49)","v":""},{"$f":"IF(ISBLANK(入力表!H49),\"\",入力表!H49)","v":"オホーツク"},{"$f":"IF(D37=\"\",\"\",入力表!$C$4)","v":""},{"$f":"IF(ISBLANK(入力表!I49),\"\",入力表!I49)","v":""},{"$f":"IF(入力表!J49=\"\",\"\",入力表!J49)","v":""},"",{"$f":"IF(入力表!S49=\"\",\"\",入力表!S49)","v":""},"",{"$f":"IF(入力表!AB49=\"\",\"\",入力表!AB49)","v":""},"",{"$f":"IF(入力表!AK49=\"\",\"\",入力表!AK49)","v":""},"",{"$f":"IF(入力表!AL49=\"\",\"\",入力表!AL49)","v":""},"",null,{"$f":"IF(入力表!K49=\"\",\"\",入力表!K49)","v":""},{"$f":"IF(入力表!L49=\"\",\"\",入力表!L49)","v":""},{"$f":"IF(ISERROR(VLOOKUP(IF(V37=\"\",\"\",入力表!M49),$AT$2:$AU$5,2,FALSE)),\"\",VLOOKUP(IF(V37=\"\",\"\",入力表!M49),$AT$2:$AU$5,2,FALSE))","v":""},{"$f":"IF(ISBLANK(入力表!N49),\"\",入力表!N49)","v":""},{"$f":"IF(ISBLANK(入力表!O49),\"\",入力表!O49)","v":""},{"$f":"IF(ISERROR(VLOOKUP(入力表!P49,$AT$2:$AU$5,2,FALSE)),\"\",VLOOKUP(入力表!P49,$AT$2:$AU$5,2,FALSE))","v":""},{"$f":"IF(ISBLANK(入力表!Q49),\"\",入力表!Q49)","v":""},{"$f":"IF(ISBLANK(入力表!R49),\"\",入力表!R49)","v":""},{"$f":"IF(入力表!T49=\"\",\"\",入力表!T49)","v":""},{"$f":"IF(入力表!U49=\"\",\"\",入力表!U49)","v":""},"",{"$f":"IF(ISBLANK(入力表!W49),\"\",入力表!W49)","v":""},{"$f":"IF(ISBLANK(入力表!X49),\"\",入力表!X49)","v":""},{"$f":"IF(ISERROR(VLOOKUP(入力表!Y49,$AT$2:$AU$5,2,FALSE)),\"\",VLOOKUP(入力表!Y49,$AT$2:$AU$5,2,FALSE))","v":""},{"$f":"IF(ISBLANK(入力表!Z49),\"\",入力表!Z49)","v":""},{"$f":"IF(ISBLANK(入力表!AA49),\"\",入力表!AA49)","v":""},{"$f":"IF(入力表!AC49=\"\",\"\",入力表!AC49)","v":""},{"$f":"IF(入力表!AD49=\"\",\"\",入力表!AD49)","v":""},{"$f":"IF(ISERROR(VLOOKUP(IF(AL37=\"\",\"\",入力表!AE49),$AT$2:$AU$5,2,FALSE)),\"\",VLOOKUP(IF(AL37=\"\",\"\",入力表!AE49),$AT$2:$AU$5,2,FALSE))","v":""},{"$f":"IF(ISBLANK(入力表!AF49),\"\",入力表!AF49)","v":""},{"$f":"IF(ISBLANK(入力表!AG49),\"\",入力表!AG49)","v":""},{"$f":"IF(ISERROR(VLOOKUP(入力表!AH49,$AT$2:$AU$5,2,FALSE)),\"\",VLOOKUP(入力表!AH49,$AT$2:$AU$5,2,FALSE))","v":""},{"$f":"IF(ISBLANK(入力表!AI49),\"\",入力表!AI49)","v":""},{"$f":"IF(ISBLANK(入力表!AJ49),\"\",入力表!AJ49)","v":""}]
[37,{"$f":"IF(ISBLANK(入力表!C50),\"\",入力表!C50)","v":""},{"$f":"IF(ISBLANK(入力表!D50),\"\",入力表!D50)","v":""},{"$f":"IF(ISBLANK(入力表!E50),\"\",入力表!E50)","v":""},{"$f":"RIGHT(入力表!F50,2)","v":""},{"$f":"IF(ISBLANK(入力表!G50),\"\",入力表!G50)","v":""},{"$f":"IF(ISBLANK(入力表!H50),\"\",入力表!H50)","v":"オホーツク"},{"$f":"IF(D38=\"\",\"\",入力表!$C$4)","v":""},{"$f":"IF(ISBLANK(入力表!I50),\"\",入力表!I50)","v":""},{"$f":"IF(入力表!J50=\"\",\"\",入力表!J50)","v":""},"",{"$f":"IF(入力表!S50=\"\",\"\",入力表!S50)","v":""},"",{"$f":"IF(入力表!AB50=\"\",\"\",入力表!AB50)","v":""},"",{"$f":"IF(入力表!AK50=\"\",\"\",入力表!AK50)","v":""},"",{"$f":"IF(入力表!AL50=\"\",\"\",入力表!AL50)","v":""},"",null,{"$f":"IF(入力表!K50=\"\",\"\",入力表!K50)","v":""},{"$f":"IF(入力表!L50=\"\",\"\",入力表!L50)","v":""},{"$f":"IF(ISERROR(VLOOKUP(IF(V38=\"\",\"\",入力表!M50),$AT$2:$AU$5,2,FALSE)),\"\",VLOOKUP(IF(V38=\"\",\"\",入力表!M50),$AT$2:$AU$5,2,FALSE))","v":""},{"$f":"IF(ISBLANK(入力表!N50),\"\",入力表!N50)","v":""},{"$f":"IF(ISBLANK(入力表!O50),\"\",入力表!O50)","v":""},{"$f":"IF(ISERROR(VLOOKUP(入力表!P50,$AT$2:$AU$5,2,FALSE)),\"\",VLOOKUP(入力表!P50,$AT$2:$AU$5,2,FALSE))","v":""},{"$f":"IF(ISBLANK(入力表!Q50),\"\",入力表!Q50)","v":""},{"$f":"IF(ISBLANK(入力表!R50),\"\",入力表!R50)","v":""},{"$f":"IF(入力表!T50=\"\",\"\",入力表!T50)","v":""},{"$f":"IF(入力表!U50=\"\",\"\",入力表!U50)","v":""},"",{"$f":"IF(ISBLANK(入力表!W50),\"\",入力表!W50)","v":""},{"$f":"IF(ISBLANK(入力表!X50),\"\",入力表!X50)","v":""},{"$f":"IF(ISERROR(VLOOKUP(入力表!Y50,$AT$2:$AU$5,2,FALSE)),\"\",VLOOKUP(入力表!Y50,$AT$2:$AU$5,2,FALSE))","v":""},{"$f":"IF(ISBLANK(入力表!Z50),\"\",入力表!Z50)","v":""},{"$f":"IF(ISBLANK(入力表!AA50),\"\",入力表!AA50)","v":""},{"$f":"IF(入力表!AC50=\"\",\"\",入力表!AC50)","v":""},{"$f":"IF(入力表!AD50=\"\",\"\",入力表!AD50)","v":""},{"$f":"IF(ISERROR(VLOOKUP(IF(AL38=\"\",\"\",入力表!AE50),$AT$2:$AU$5,2,FALSE)),\"\",VLOOKUP(IF(AL38=\"\",\"\",入力表!AE50),$AT$2:$AU$5,2,FALSE))","v":""},{"$f":"IF(ISBLANK(入力表!AF50),\"\",入力表!AF50)","v":""},{"$f":"IF(ISBLANK(入力表!AG50),\"\",入力表!AG50)","v":""},{"$f":"IF(ISERROR(VLOOKUP(入力表!AH50,$AT$2:$AU$5,2,FALSE)),\"\",VLOOKUP(入力表!AH50,$AT$2:$AU$5,2,FALSE))","v":""},{"$f":"IF(ISBLANK(入力表!AI50),\"\",入力表!AI50)","v":""},{"$f":"IF(ISBLANK(入力表!AJ50),\"\",入力表!AJ50)","v":""}]
[38,{"$f":"IF(ISBLANK(入力表!C51),\"\",入力表!C51)","v":""},{"$f":"IF(ISBLANK(入力表!D51),\"\",入力表!D51)","v":""},{"$f":"IF(ISBLANK(入力表!E51),\"\",入力表!E51)","v":""},{"$f":"RIGHT(入力表!F51,2)","v":""},{"$f":"IF(ISBLANK(入力表!G51),\"\",入力表!G51)","v":""},{"$f":"IF(ISBLANK(入力表!H51),\"\",入力表!H51)","v":"オホーツク"},{"$f":"IF(D39=\"\",\"\",入力表!$C$4)","v":""},{"$f":"IF(ISBLANK(入力表!I51),\"\",入力表!I51)","v":""},{"$f":"IF(入力表!J51=\"\",\"\",入力表!J51)","v":""},"",{"$f":"IF(入力表!S51=\"\",\"\",入力表!S51)","v":""},"",{"$f":"IF(入力表!AB51=\"\",\"\",入力表!AB51)","v":""},"",{"$f":"IF(入力表!AK51=\"\",\"\",入力表!AK51)","v":""},"",{"$f":"IF(入力表!AL51=\"\",\"\",入力表!AL51)","v":""},"",null,{"$f":"IF(入力表!K51=\"\",\"\",入力表!K51)","v":""},{"$f":"IF(入力表!L51=\"\",\"\",入力表!L51)","v":""},{"$f":"IF(ISERROR(VLOOKUP(IF(V39=\"\",\"\",入力表!M51),$AT$2:$AU$5,2,FALSE)),\"\",VLOOKUP(IF(V39=\"\",\"\",入力表!M51),$AT$2:$AU$5,2,FALSE))","v":""},{"$f":"IF(ISBLANK(入力表!N51),\"\",入力表!N51)","v":""},{"$f":"IF(ISBLANK(入力表!O51),\"\",入力表!O51)","v":""},{"$f":"IF(ISERROR(VLOOKUP(入力表!P51,$AT$2:$AU$5,2,FALSE)),\"\",VLOOKUP(入力表!P51,$AT$2:$AU$5,2,FALSE))","v":""},{"$f":"IF(ISBLANK(入力表!Q51),\"\",入力表!Q51)","v":""},{"$f":"IF(ISBLANK(入力表!R51),\"\",入力表!R51)","v":""},{"$f":"IF(入力表!T51=\"\",\"\",入力表!T51)","v":""},{"$f":"IF(入力表!U51=\"\",\"\",入力表!U51)","v":""},"",{"$f":"IF(ISBLANK(入力表!W51),\"\",入力表!W51)","v":""},{"$f":"IF(ISBLANK(入力表!X51),\"\",入力表!X51)","v":""},{"$f":"IF(ISERROR(VLOOKUP(入力表!Y51,$AT$2:$AU$5,2,FALSE)),\"\",VLOOKUP(入力表!Y51,$AT$2:$AU$5,2,FALSE))","v":""},{"$f":"IF(ISBLANK(入力表!Z51),\"\",入力表!Z51)","v":""},{"$f":"IF(ISBLANK(入力表!AA51),\"\",入力表!AA51)","v":""},{"$f":"IF(入力表!AC51=\"\",\"\",入力表!AC51)","v":""},{"$f":"IF(入力表!AD51=\"\",\"\",入力表!AD51)","v":""},{"$f":"IF(ISERROR(VLOOKUP(IF(AL39=\"\",\"\",入力表!AE51),$AT$2:$AU$5,2,FALSE)),\"\",VLOOKUP(IF(AL39=\"\",\"\",入力表!AE51),$AT$2:$AU$5,2,FALSE))","v":""},{"$f":"IF(ISBLANK(入力表!AF51),\"\",入力表!AF51)","v":""},{"$f":"IF(ISBLANK(入力表!AG51),\"\",入力表!AG51)","v":""},{"$f":"IF(ISERROR(VLOOKUP(入力表!AH51,$AT$2:$AU$5,2,FALSE)),\"\",VLOOKUP(入力表!AH51,$AT$2:$AU$5,2,FALSE))","v":""},{"$f":"IF(ISBLANK(入力表!AI51),\"\",入力表!AI51)","v":""},{"$f":"IF(ISBLANK(入力表!AJ51),\"\",入力表!AJ51)","v":""}]
[39,{"$f":"IF(ISBLANK(入力表!C52),\"\",入力表!C52)","v":""},{"$f":"IF(ISBLANK(入力表!D52),\"\",入力表!D52)","v":""},{"$f":"IF(ISBLANK(入力表!E52),\"\",入力表!E52)","v":""},{"$f":"RIGHT(入力表!F52,2)","v":""},{"$f":"IF(ISBLANK(入力表!G52),\"\",入力表!G52)","v":""},{"$f":"IF(ISBLANK(入力表!H52),\"\",入力表!H52)","v":"オホーツク"},{"$f":"IF(D40=\"\",\"\",入力表!$C$4)","v":""},{"$f":"IF(ISBLANK(入力表!I52),\"\",入力表!I52)","v":""},{"$f":"IF(入力表!J52=\"\",\"\",入力表!J52)","v":""},"",{"$f":"IF(入力表!S52=\"\",\"\",入力表!S52)","v":""},"",{"$f":"IF(入力表!AB52=\"\",\"\",入力表!AB52)","v":""},"",{"$f":"IF(入力表!AK52=\"\",\"\",入力表!AK52)","v":""},"",{"$f":"IF(入力表!AL52=\"\",\"\",入力表!AL52)","v":""},"",null,{"$f":"IF(入力表!K52=\"\",\"\",入力表!K52)","v":""},{"$f":"IF(入力表!L52=\"\",\"\",入力表!L52)","v":""},{"$f":"IF(ISERROR(VLOOKUP(IF(V40=\"\",\"\",入力表!M52),$AT$2:$AU$5,2,FALSE)),\"\",VLOOKUP(IF(V40=\"\",\"\",入力表!M52),$AT$2:$AU$5,2,FALSE))","v":""},{"$f":"IF(ISBLANK(入力表!N52),\"\",入力表!N52)","v":""},{"$f":"IF(ISBLANK(入力表!O52),\"\",入力表!O52)","v":""},{"$f":"IF(ISERROR(VLOOKUP(入力表!P52,$AT$2:$AU$5,2,FALSE)),\"\",VLOOKUP(入力表!P52,$AT$2:$AU$5,2,FALSE))","v":""},{"$f":"IF(ISBLANK(入力表!Q52),\"\",入力表!Q52)","v":""},{"$f":"IF(ISBLANK(入力表!R52),\"\",入力表!R52)","v":""},{"$f":"IF(入力表!T52=\"\",\"\",入力表!T52)","v":""},{"$f":"IF(入力表!U52=\"\",\"\",入力表!U52)","v":""},"",{"$f":"IF(ISBLANK(入力表!W52),\"\",入力表!W52)","v":""},{"$f":"IF(ISBLANK(入力表!X52),\"\",入力表!X52)","v":""},{"$f":"IF(ISERROR(VLOOKUP(入力表!Y52,$AT$2:$AU$5,2,FALSE)),\"\",VLOOKUP(入力表!Y52,$AT$2:$AU$5,2,FALSE))","v":""},{"$f":"IF(ISBLANK(入力表!Z52),\"\",入力表!Z52)","v":""},{"$f":"IF(ISBLANK(入力表!AA52),\"\",入力表!AA52)","v":""},{"$f":"IF(入力表!AC52=\"\",\"\",入力表!AC52)","v":""},{"$f":"IF(入力表!AD52=\"\",\"\",入力表!AD52)","v":""},{"$f":"IF(ISERROR(VLOOKUP(IF(AL40=\"\",\"\",入力表!AE52),$AT$2:$AU$5,2,FALSE)),\"\",VLOOKUP(IF(AL40=\"\",\"\",入力表!AE52),$AT$2:$AU$5,2,FALSE))","v":""},{"$f":"IF(ISBLANK(入力表!AF52),\"\",入力表!AF52)","v":""},{"$f":"IF(ISBLANK(入力表!AG52),\"\",入力表!AG52)","v":""},{"$f":"IF(ISERROR(VLOOKUP(入力表!AH52,$AT$2:$AU$5,2,FALSE)),\"\",VLOOKUP(入力表!AH52,$AT$2:$AU$5,2,FALSE))","v":""},{"$f":"IF(ISBLANK(入力表!AI52),\"\",入力表!AI52)","v":""},{"$f":"IF(ISBLANK(入力表!AJ52),\"\",入力表!AJ52)","v":""}]
[40,{"$f":"IF(ISBLANK(入力表!C53),\"\",入力表!C53)","v":""},{"$f":"IF(ISBLANK(入力表!D53),\"\",入力表!D53)","v":""},{"$f":"IF(ISBLANK(入力表!E53),\"\",入力表!E53)","v":""},{"$f":"RIGHT(入力表!F53,2)","v":""},{"$f":"IF(ISBLANK(入力表!G53),\"\",入力表!G53)","v":""},{"$f":"IF(ISBLANK(入力表!H53),\"\",入力表!H53)","v":"オホーツク"},{"$f":"IF(D41=\"\",\"\",入力表!$C$4)","v":""},{"$f":"IF(ISBLANK(入力表!I53),\"\",入力表!I53)","v":""},{"$f":"IF(入力表!J53=\"\",\"\",入力表!J53)","v":""},"",{"$f":"IF(入力表!S53=\"\",\"\",入力表!S53)","v":""},"",{"$f":"IF(入力表!AB53=\"\",\"\",入力表!AB53)","v":""},"",{"$f":"IF(入力表!AK53=\"\",\"\",入力表!AK53)","v":""},"",{"$f":"IF(入力表!AL53=\"\",\"\",入力表!AL53)","v":""},"",null,{"$f":"IF(入力表!K53=\"\",\"\",入力表!K53)","v":""},{"$f":"IF(入力表!L53=\"\",\"\",入力表!L53)","v":""},{"$f":"IF(ISERROR(VLOOKUP(IF(V41=\"\",\"\",入力表!M53),$AT$2:$AU$5,2,FALSE)),\"\",VLOOKUP(IF(V41=\"\",\"\",入力表!M53),$AT$2:$AU$5,2,FALSE))","v":""},{"$f":"IF(ISBLANK(入力表!N53),\"\",入力表!N53)","v":""},{"$f":"IF(ISBLANK(入力表!O53),\"\",入力表!O53)","v":""},{"$f":"IF(ISERROR(VLOOKUP(入力表!P53,$AT$2:$AU$5,2,FALSE)),\"\",VLOOKUP(入力表!P53,$AT$2:$AU$5,2,FALSE))","v":""},{"$f":"IF(ISBLANK(入力表!Q53),\"\",入力表!Q53)","v":""},{"$f":"IF(ISBLANK(入力表!R53),\"\",入力表!R53)","v":""},{"$f":"IF(入力表!T53=\"\",\"\",入力表!T53)","v":""},{"$f":"IF(入力表!U53=\"\",\"\",入力表!U53)","v":""},"",{"$f":"IF(ISBLANK(入力表!W53),\"\",入力表!W53)","v":""},{"$f":"IF(ISBLANK(入力表!X53),\"\",入力表!X53)","v":""},{"$f":"IF(ISERROR(VLOOKUP(入力表!Y53,$AT$2:$AU$5,2,FALSE)),\"\",VLOOKUP(入力表!Y53,$AT$2:$AU$5,2,FALSE))","v":""},{"$f":"IF(ISBLANK(入力表!Z53),\"\",入力表!Z53)","v":""},{"$f":"IF(ISBLANK(入力表!AA53),\"\",入力表!AA53)","v":""},{"$f":"IF(入力表!AC53=\"\",\"\",入力表!AC53)","v":""},{"$f":"IF(入力表!AD53=\"\",\"\",入力表!AD53)","v":""},{"$f":"IF(ISERROR(VLOOKUP(IF(AL41=\"\",\"\",入力表!AE53),$AT$2:$AU$5,2,FALSE)),\"\",VLOOKUP(IF(AL41=\"\",\"\",入力表!AE53),$AT$2:$AU$5,2,FALSE))","v":""},{"$f":"IF(ISBLANK(入力表!AF53),\"\",入力表!AF53)","v":""},{"$f":"IF(ISBLANK(入力表!AG53),\"\",入力表!AG53)","v":""},{"$f":"IF(ISERROR(VLOOKUP(入力表!AH53,$AT$2:$AU$5,2,FALSE)),\"\",VLOOKUP(入力表!AH53,$AT$2:$AU$5,2,FALSE))","v":""},{"$f":"IF(ISBLANK(入力表!AI53),\"\",入力表!AI53)","v":""},{"$f":"IF(ISBLANK(入力表!AJ53),\"\",入力表!AJ53)","v":""}]