{"text_format":"1","workbook":"xlsx","n_sheets":5,"sheets":["大会規定","大会要項","申込書","事務局シート","ﾅﾝﾊﾞｰｶｰﾄﾞ"],"not_rendered":{"charts":0,"images":0,"macros":0,"external_links":0,"defined_names":6,"comments":0,"pivot_tables":0},"unopened":[],"bounds":{"document_bytes":16777216,"sheet_cells":100000,"rows_first":2000,"rows_last":500,"rows_between":2000,"halvings":0,"cell_chars":16384,"cell_head_chars":4096},"cells_cut":0,"cells_raw":0,"read":"whole","date_system":"1900"}

{"sheet":"大会規定","index":0,"n_rows":74,"n_cols":22,"rows_kept":74,"cut":false,"hidden":false,"merged":[[0,0,0,9],[0,10,0,25],[24,1,24,24],[2,0,2,7],[5,0,5,7],[7,0,7,7],[34,3,34,25],[13,1,16,5],[13,6,13,10],[30,1,30,2],[31,1,32,2],[33,1,33,2],[34,1,40,2],[40,3,40,14],[13,11,13,25],[14,11,14,25],[12,6,12,10],[25,0,25,7],[22,1,22,24],[20,0,20,7],[36,15,36,21],[37,15,37,20],[3,1,3,25],[4,1,4,25],[51,1,51,25],[57,21,57,24],[57,17,57,20],[56,13,56,16],[55,21,55,24],[52,9,52,12],[53,9,53,12],[52,17,52,20],[53,17,53,20],[52,13,52,16],[53,13,53,16],[52,21,52,24],[56,17,56,20],[57,13,57,16],[54,17,54,20],[54,5,54,8],[55,5,55,8],[57,1,57,4],[55,17,55,20],[9,1,12,5],[6,1,6,24],[8,1,8,24],[9,6,9,10],[10,6,10,10],[11,6,11,10],[9,11,9,25],[10,11,10,25],[11,11,11,25],[12,11,12,25],[14,6,14,10],[15,6,15,10],[16,6,16,10],[15,11,15,25],[16,11,16,25],[54,21,54,24],[56,9,56,12],[57,9,57,12],[56,21,56,24],[30,3,30,25],[36,3,36,14],[37,3,37,14],[38,15,38,20],[38,3,38,14],[35,3,35,25],[47,0,47,7],[43,1,43,25],[45,1,45,25],[48,1,48,25],[46,1,46,25],[39,3,39,14],[42,0,42,7],[44,0,44,7],[50,1,50,25],[54,1,54,4],[55,1,55,4],[54,13,54,16],[55,13,55,16],[56,5,56,8],[26,1,26,2],[26,3,26,25],[28,3,28,25],[28,1,29,2],[39,15,39,20],[40,15,40,20],[31,3,31,25],[32,3,32,25],[29,3,29,25],[33,3,33,25],[27,3,27,9],[19,1,19,24],[21,1,21,24],[41,1,41,2],[41,3,41,26],[17,1,17,24],[18,1,18,24],[74,5,74,8],[72,17,72,20],[68,21,68,24],[68,17,68,20],[71,17,71,20],[62,1,62,25],[72,9,72,12],[23,1,23,24],[52,1,52,4],[53,1,53,4],[54,9,54,12],[55,9,55,12],[67,5,67,8],[68,5,68,8],[68,9,68,12],[65,1,65,25],[66,1,66,4],[67,1,67,4],[49,1,49,25],[72,21,72,24],[70,17,70,20],[71,13,71,16],[72,13,72,16],[71,21,71,24],[66,21,66,24],[58,13,58,16],[58,9,58,12],[59,5,59,8],[59,1,59,4],[59,21,59,23],[58,17,58,20],[58,1,58,4],[59,9,59,12],[69,17,69,20],[69,13,69,16],[61,0,61,7],[70,5,70,8],[57,5,57,8],[58,5,58,8],[52,5,52,8],[53,5,53,8],[53,21,53,24],[74,1,74,4],[70,9,70,12],[67,9,67,12],[67,13,67,16],[68,1,68,4],[66,13,66,16],[66,9,66,12],[56,1,56,4],[68,13,68,16],[63,1,63,25],[64,1,64,25],[70,21,70,24],[69,21,69,24],[69,1,69,4],[70,1,70,4],[67,17,67,24],[58,21,58,24],[74,14,74,16],[69,5,69,8],[60,1,60,24],[69,9,69,12],[70,13,70,16],[71,5,71,8],[66,17,66,20],[66,5,66,8],[74,9,74,12],[71,9,71,12],[72,5,72,8],[73,5,73,8],[73,9,73,12],[71,1,71,4],[72,1,72,4],[73,1,73,4]]}
["陸上競技の部",null,null,null,null,null,null,null,null,null,"『平成３０年度　オホーツク中学校体育大会規定』"]
[]
["（１）日　　程"]
[null,"原則として、６月第３週までに行う。今年度は、６月１５日（金）・１６日（土）"]
[null,"今年度の開催地は、北見東陵公園陸上競技場"]
["（２）監督及び選手"]
[null,"監督１名以上　　　選手　～　出場制限内人数"]
["（３）競技種目"]
[null,"男子　……　１８種目　　女子　……　１４種目"]
[null,"男子",null,null,null,null,"１　　　　年",null,null,null,null,"１００Ｍ、１５００Ｍ、１００ＭＨ、◎砲丸投（2.721kg）"]
[null,null,null,null,null,null,"２　・　３年",null,null,null,null,"１００Ｍ、１５００Ｍ"]
[null,null,null,null,null,null,"共　　　　通",null,null,null,null,"２００Ｍ、４００Ｍ、８００Ｍ、３０００Ｍ、１１０ＭＨ、４×１００ＭＲ"]
[null,null,null,null,null,null,"（全学年）",null,null,null,null,"走高跳、棒高跳、走幅跳、砲丸投、◎円盤投、四種競技"]
[null,"女子",null,null,null,null,"１　　　　年",null,null,null,null,"１００Ｍ、◎８０ＭＨ、◎１０００Ｍ"]
[null,null,null,null,null,null,"２　・　３年",null,null,null,null,"１００Ｍ"]
[null,null,null,null,null,null,"共　　　　通",null,null,null,null,"２００Ｍ、８００Ｍ、１５００Ｍ、１００ＭＨ、４×１００ＭＲ"]
[null,null,null,null,null,null,"（全学年）",null,null,null,null,"走高跳、走幅跳、砲丸投、◎円盤投、四種競技"]
[null,"●　全道大会で行われる種目のほか、地区奨励種目として１年生種目と男女円盤投を入れる。（◎印の種目）"]
[null,"●　学年種目には、該当学年しか出場できない。"]
[null,"●　ハードルと砲丸投は、学年と共通の両方には出場できない。"]
["（４）出場制限"]
[null,"●１種目　１校３名以内（申込期日までにその年度の公式大会で全道標準記録、全道新人標準記録を突破した者は除く。"]
[null,"　　　　　　　　　　　　　　  ただし、全道新人標準記録においては学年区分があるので注意すること。）"]
[null,"●１名２種目以内（リレーを除く）"]
[null,"●リレーは１校１チーム"]
["（５）競技規則"]
[null,"（ア）",null,"原則として、１００Ｍ、２００Ｍ、４００Ｍ、８００Ｍ、ハードルは、予選・準決勝・決勝を行い、上位進出は着順またはタイム"]
[null,null,null,"で決定する。"]
[null,"（イ）",null,"１５００Ｍ、３０００Ｍ、４×１００ＭＲは、予選・決勝を行い、上位進出は着順またはタイムで決定する。\n　（但し、３０００Ｍは４０名以内の場合は予選を行なわない）"]
[null,null,null,"●１５００Ｍの決勝進出者は１２名　　　　●３０００Ｍの決勝進出者は１８名以内"]
[null,"（ウ）",null,"フィールド競技においては２４名以上は、原則として予選を行なう。"]
[null,"（エ）",null,"１年男子１００Ｍハードルは、中学女子ハードルと同じとする。"]
[null,null,null,"１年女子８０Ｍハードルは、小学女子のインターバルとし、高さは76.2cmとする。（１３ｍ－７ｍ－１１ｍ）"]
[null,"（オ）",null,"男子共通砲丸投は、5ｋｇ、同四種競技砲丸投は、4ｋｇ、１年男子砲丸投・女子共通砲丸投、同四種競技砲丸投は、2.721ｋｇとする。円盤投は、男子1.5ｋｇ・女子１ｋｇとする。"]
[null,"（カ）",null,"走高跳・棒高跳のバーの上げ方は原則として下記の通りとする"]
[null,null,null,"（但し、一人になった場合はフイールド審判員と相談し、決定する。）"]
[null,null,null,"●男子：1M30,1M35,・・・・・・・・・・・・・1M65,1M68,",null,null,null,null,null,null,null,null,null,null,null,"このあと３ｃｍ"]
[null,null,null,"●女子：1M15,１M20,・・・・・・・・・・・・・1M40,1M43,",null,null,null,null,null,null,null,null,null,null,null,"このあと３ｃｍ"]
[null,null,null,"●男四種競技：1M20,1M25,・・・・・・・1M55,1M58,",null,null,null,null,null,null,null,null,null,null,null,"このあと３ｃｍ"]
[null,null,null,"●女四種競技：1M05,1M10・・・・・・・・1M30,1M33,",null,null,null,null,null,null,null,null,null,null,null,"このあと３ｃｍ"]
[null,null,null,"●棒高跳：1M80,2M00,・・・・・・・・・・・2M20,2M30,",null,null,null,null,null,null,null,null,null,null,null,"このあと10ｃｍ"]
[null,"（キ）",null,"不正スタートについては、失格を適用する。"]
["（６）その他"]
[null,"日本陸上競技連盟規則、オホーツク中体連大会規定、その他監督会議の申し合わせ事項による。"]
["（７）審　判"]
[null,"参加校は、１名以上の競技役員と人数に応じた補助員を出すものとする。"]
[null,"参加選手：6名以上なら1人,12名以上なら2人,18名以上なら3人,24名以上なら4人,36名以上なら5人とする。"]
["（８）全道大会出場資格"]
[null,"●オホーツク中体連陸上競技大会において、１位および下記種目の標準記録に到達した者。"]
[null,"　　　　　　（但し、１年生種目の１位は標準記録に到達した場合のみ）"]
[null,"●通信陸上競技大会において、下記の標準記録に到達した者。"]
[null,"●全道大会参加資格標準記録（２０１８年） ※斜体は今年度改定になったもの　"]
[null,"種　　　目",null,null,null,"男　子",null,null,null,"女　子",null,null,null,"種　　　目",null,null,null,"男　子",null,null,null,"女　子"]
[null,"100M",null,null,null,"11\"85",null,null,null,"13\"35",null,null,null,"リレー",null,null,null,"47\"70",null,null,null,"54\"00"]
[null,"200M",null,null,null,"24\"40",null,null,null,"28\"15",null,null,null,"走高跳",null,null,null,"1m65",null,null,null,"1m40"]
[null,"400M",null,null,null,"56\"45",null,null,null,null,null,null,null,"棒高跳",null,null,null,"2m80"]
[null,"800M",null,null,null,"2'13\"00",null,null,null,"2'32\"00",null,null,null,"走幅跳",null,null,null,"5m70",null,null,null,"4m65"]
[null,"1500M",null,null,null,"4'33\"50",null,null,null,"5'17\"00",null,null,null,"砲丸投",null,null,null,"10m30",null,null,null,"9m50"]
[null,"3000M",null,null,null,"9'57\"50",null,null,null,null,null,null,null,"四種競技",null,null,null,1750,null,null,null,1875]
[null,"ハードル",null,null,null,"17\"84",null,null,null,"17\"10"]
[null,"＊手動計時の場合は、200mまでは－0.24秒、400mまでは－0.14秒の記録とする"]
["（９）全国大会出場資格　　　　　　　　　"]
[null,"●北海道中学校陸上競技大会において、下記の標準記録に到達した者。"]
[null,"●通信陸上競技大会において下記の標準記録に到達した者。"]
[null,"　 オホーツク中体連陸上競技大会において、下記の標準記録に到達した者。（ただし、男女の四種競技のみ）"]
[null,"　　　　全国大会参加資格標準記録（２０１８年）　※斜体は今年度改定になったもの"]
[null,"種　　　目",null,null,null,"男　子",null,null,null,"女　子",null,null,null,"種　　　目",null,null,null,"男　子",null,null,null,"女　子"]
[null,"100M",null,null,null,"11\"20",null,null,null,"12\"53",null,null,null,"リレー",null,null,null,"全道大会１位チーム"]
[null,"200M",null,null,null,"22\"75",null,null,null,"25\"80",null,null,null,"走高跳",null,null,null,"1m85",null,null,null,"1m60"]
[null,"400M",null,null,null,"51\"60",null,null,null,null,null,null,null,"棒高跳",null,null,null,"4m00"]
[null,"800M",null,null,null,"2'00\"50",null,null,null,"2'16\"50",null,null,null,"走幅跳",null,null,null,"6m55",null,null,null,"5m45"]
[null,"1500M",null,null,null,"4'08\"50",null,null,null,"4'38\"00",null,null,null,"砲丸投",null,null,null,"13m00",null,null,null,"12m50"]
[null,"3000M",null,null,null,"8'57\"00",null,null,null,null,null,null,null,"四種競技",null,null,null,2500,null,null,null,2630]
[null,"ハードル",null,null,null,"15\"00",null,null,null,"14\"80"]

{"sheet":"大会要項","index":1,"n_rows":58,"n_cols":25,"rows_kept":58,"cut":false,"hidden":false,"merged":[[54,6,54,25],[35,6,35,24],[34,6,34,25],[0,0,0,25],[9,14,9,19],[10,14,10,19],[9,20,9,25],[17,13,17,15],[17,16,17,25],[12,13,12,17],[12,18,12,25],[1,0,1,25],[2,0,2,25],[11,6,11,25],[3,0,3,25],[5,1,5,4],[6,1,6,4],[10,6,10,8],[10,9,10,13],[5,6,5,25],[9,6,9,8],[9,9,9,13],[8,6,8,18],[13,13,13,25],[14,13,14,25],[15,13,15,25],[16,13,16,25],[12,10,12,12],[13,10,13,12],[14,10,16,12],[12,6,16,9],[32,6,32,25],[27,18,27,19],[24,21,24,22],[25,21,25,22],[26,21,26,22],[27,21,27,22],[27,16,27,17],[22,6,22,25],[33,6,33,25],[29,6,29,25],[30,6,30,25],[31,6,31,25],[17,10,17,12],[18,10,18,12],[19,10,21,12],[17,6,21,9],[23,6,23,25],[18,13,18,25],[19,13,19,25],[20,13,20,25],[21,13,21,25],[24,13,24,15],[25,13,25,15],[26,13,26,15],[27,13,27,15],[26,7,26,9],[27,7,27,9],[24,16,24,17],[25,16,25,17],[26,16,26,17],[25,18,25,19],[26,18,26,19],[42,6,42,9],[43,6,44,6],[43,7,44,9],[24,18,24,19],[41,6,41,25],[40,6,40,25],[39,6,39,10],[39,11,39,15],[38,6,38,15],[39,16,39,25],[38,16,38,25],[36,6,36,25],[37,6,37,25],[24,10,24,12],[25,10,25,12],[26,10,26,12],[27,10,27,12],[28,6,28,25],[24,24,24,25],[25,24,25,25],[26,24,26,25],[27,24,27,25],[24,7,24,9],[25,7,25,9],[29,1,29,4],[53,6,53,25],[55,6,55,25],[57,6,57,25],[56,6,56,25],[50,6,50,25],[51,6,51,25],[52,6,52,25],[47,6,47,7],[48,6,48,7],[49,6,49,7],[47,8,47,25],[48,8,48,25],[49,8,49,25],[46,1,46,4],[47,1,47,4],[46,6,46,25],[43,10,44,16],[45,10,45,16],[42,10,42,16],[42,17,42,25],[45,17,45,25],[43,17,44,25],[45,7,45,9],[24,1,24,4],[25,1,25,4],[26,1,26,4],[27,1,27,4],[28,1,28,4],[7,1,7,4],[8,1,8,4],[9,1,9,4],[10,1,10,4],[11,1,11,4],[21,1,21,4],[23,1,23,4],[12,1,12,4],[13,1,13,4],[14,1,14,4],[15,1,15,4],[16,1,16,4],[17,1,17,4],[18,1,18,4],[19,1,19,4],[20,1,20,4],[53,1,53,4],[55,1,55,4],[56,1,56,4],[57,1,57,4],[48,1,48,4],[49,1,49,4],[50,1,50,4],[51,1,51,4],[52,1,52,4],[30,1,30,4],[31,1,31,4],[41,1,41,4],[42,1,42,4],[43,1,43,4],[44,1,44,4],[45,1,45,4],[36,1,36,4],[37,1,37,4],[38,1,38,4],[39,1,39,4],[40,1,40,4],[32,1,32,4],[33,1,33,4]]}
["平成３０年度　オホーツク中学校体育大会"]
["第５１回　オホーツク中学校陸上競技大会開催要項"]
["兼　第４９回　北海道中学校陸上競技大会標準記録突破指定大会　オホーツク予選会"]
["兼　第４５回　全日本中学校陸上競技選手権大会四種競技標準記録突破指定大会"]
[]
[1,"主　　催",null,null,null,null,"オホーツク中学校体育連盟、オホーツク陸上競技協会"]
[2,"後　　援",null,null,null,null,"北海道教育庁オホーツク教育局、北見市教育委員会"]
[3,"主　　管",null,null,null,null,"オホーツク中学校体育連盟"]
[4,"期　　日",null,null,null,null,"平成３０年６月１５日（金）　～　６月１６日（土）"]
[null,null,null,null,null,null,"１日目",null,null,"開会式      　８時４５分",null,null,null,null,"競技開始  　９時４５分",null,null,null,null,null,"競技終了　 １５時４５分予定"]
[null,null,null,null,null,null,"２日目",null,null,"競技開始　　９時００分",null,null,null,null,"閉会式     １５時３０分予定"]
[5,"会　　場　",null,null,null,null,"北見市東陵公園陸上競技場"]
[6,"競技種目",null,null,null,null,"男子（１８種目）",null,null,null,"１年",null,null,"１００ｍ　　　１５００ｍ　　",null,null,null,null,"◎１００ｍＨ　　　　◎砲丸投（2.721ｋｇ）"]
[null,null,null,null,null,null,null,null,null,null,"２年・３年",null,null,"１００ｍ　　　１５００ｍ"]
[null,null,null,null,null,null,null,null,null,null,"共通",null,null,"２００ｍ　　４００ｍ　　８００ｍ　　３０００ｍ　　１１０ｍＨ　　　４×１００ｍＲ"]
[null,null,null,null,null,null,null,null,null,null,null,null,null,"走高跳　　棒高跳　　走幅跳　　砲丸投　　◎円盤投"]
[null,null,null,null,null,null,null,null,null,null,null,null,null,"四種競技（①１１０ｍＨ　②砲丸投　③走高跳　④４００ｍ）"]
[null,null,null,null,null,null,"女子（１４種目）",null,null,null,"１年",null,null,"１００ｍ　",null,null,"◎８０ｍＨ　　　　　　◎１０００ｍ"]
[null,null,null,null,null,null,null,null,null,null,"２年・３年",null,null,"１００ｍ"]
[null,null,null,null,null,null,null,null,null,null,"共通",null,null,"２００ｍ　　８００ｍ　　１５００ｍ　　１００ｍＨ　　４×１００ｍＲ"]
[null,null,null,null,null,null,null,null,null,null,null,null,null,"走高跳　　走幅跳　　砲丸投　　◎円盤投"]
[null,null,null,null,null,null,null,null,null,null,null,null,null,"四種競技（①１００ｍＨ　②走高跳　③砲丸投　④２００ｍ）"]
[null,null,null,null,null,null,"①男女の◎印は、奨励種目であり、標準記録の設定はない。"]
[null,null,null,null,null,null,"②ハードルの規格は次の通りとする。"]
[null,null,null,null,null,null,"●","共通男子",null,null,"１１０ｍＨ",null,null,"高さ91.4cm",null,null,"10台",null,"13.72m",null,"－","9.14m",null,"－","14.02m"]
[null,null,null,null,null,null,"●","１年男子",null,null,"１００ｍＨ",null,null,"高さ76.2cm",null,null,"10台",null,"13.00m",null,"－","8.00m",null,"－","15.00m"]
[null,null,null,null,null,null,"●","共通女子",null,null,"１００ｍＨ",null,null,"高さ76.2cm",null,null,"10台",null,"13.00m",null,"－","8.00m",null,"－","15.00m"]
[null,null,null,null,null,null,"●","１年女子",null,null," ８０ｍＨ",null,null,"高さ76.2cm",null,null,"9台",null,"13.00m",null,"－","7.00m",null,"－","11.00m"]
[null,null,null,null,null,null,"③四種競技は原則として記載の順序で、２日間で実施する。"]
[null,null,null,null,null,null,"④四種競技砲丸は、男子4.0ｋｇ、女子2.721ｋｇを使用する。"]
[null,null,null,null,null,null,"⑤砲丸投の砲丸は、男子5.0ｋｇ、女子2.721ｋｇを使用する。"]
[null,null,null,null,null,null,"⑥円盤投は、男子1.5kg、女子1.0ｋｇを使用する。"]
[7,"参加資格",null,null,null,null,"道中体連に加盟する中学校の生徒で、学校長が参加を認めた者。"]
[8,"参加制限",null,null,null,null,"①１校１種目３名以内"]
[null,null,null,null,null,null,"・申込期日までに公式大会で全道標準記録、全道新人標準記録（対象現1･2年生）を突破した者は除く。"]
[null,null,null,null,null,null,"　ただし、全道新人標準記録については、学年区分の種目があるので注意すること。"]
[null,null,null,null,null,null,"②一人２種目まで（リレーを除く）とする。リレーは、１校１チームとする。"]
[null,null,null,null,null,null,"③学年別種目は、該当学年の生徒に限る。その場合、共通種目への参加はできない。"]
[9,"参加料",null,null,null,null,"個人種目",null,null,null,null,null,null,null,null,null,"リレー"]
[null,null,null,null,null,null,"１種目　　　１０００円",null,null,null,null,"２種目　　１６００円",null,null,null,null,"１チーム  ２０００円（個人種目に関係なく）"]
[10,"競技規則",null,null,null,null,"別紙、大会規定参照。"]
[11,"表　　彰",null,null,null,null,"入賞は8位までとし、賞状を授与する。"]
[12,"申込方法",null,null,null,null,"番号",null,null,null,"作成方法",null,null,null,null,null,null,"提出先・提出期限"]
[null,null,null,null,null,null,"(1)","申込書",null,null,"オホーツク陸協HP（http://www.h-ork.jp/）よりダウンロードし必要事項を記入の上、学校長印を押す。",null,null,null,null,null,null,"監督会議時に持参する。またデータは、専門委員会（ocrikujyou@gmail.com）宛に５月１６日（水）１６：００までに送信すること。"]
[]
[null,null,null,null,null,null,"(2)","参加料",null,null,"個人種目の参加料、リレー参加料を各校で算出すること。",null,null,null,null,null,null,"監督会議に持参すること。"]
[13,"ナンバーカード",null,null,null,null,"別紙、ナンバーカード表を参照。番号不足の場合は専門委員長に連絡すること。"]
[14,"監督会議",null,null,null,null,"日時",null,"平成３０年 ６月６日（水）　　１５時００分～"]
[null,null,null,null,null,null,"会場",null,"北見東陵公園陸上競技場　本部棟２Ｆ"]
[null,null,null,null,null,null,"内容",null,"大会に関する件等　※各校の男女申込一覧表・参加料・登録申込書・登録料を必ず持参すること"]
[15,"全道･全国大会",null,null,null,null,"別紙、大会規定を参照。"]
[16,"スパイクピン",null,null,null,null,"全天候の競技場のため、ピンの長さは9mm以下、（走高跳は12mm以下）ピンの数は11本以内とする。"]
[17,"競技役員",null,null,null,null,"大会運営につき、必ず競技役員を各校１名以上のご協力をお願いします。"]
[18,"補助員",null,null,null,null,"各校の参加選手が,6名以上1人,12名以上2人,18名以上3人,24名以上4人,30名以上なら5名,36名以"]
[null,null,null,null,null,null,"上なら6名…とする。"]
[19,"その他",null,null,null,null,"主催者は、個人情報保護に関する法令を遵守する。"]
[null,null,null,null,null,null,"日本陸上競技連盟個人情報保護方針に基づき取り扱う。"]
[null,null,null,null,null,null,"個人情報は大会の資格審査、プログラム、記録発表、新聞報道、競技運営等に利用する。"]

{"sheet":"申込書","index":2,"n_rows":97,"n_cols":94,"rows_kept":97,"cut":false,"hidden":false,"merged":[[57,7,57,8],[4,77,6,77],[4,81,6,81],[4,85,6,85],[16,25,16,30],[16,31,16,36],[16,37,16,42],[16,43,16,48],[16,49,16,54],[16,55,16,60],[48,7,48,8],[49,7,49,8],[50,7,50,8],[51,7,51,8],[52,7,52,8],[53,7,53,8],[54,7,54,8],[55,7,55,8],[56,7,56,8],[39,7,39,8],[40,7,40,8],[41,7,41,8],[42,7,42,8],[43,7,43,8],[44,7,44,8],[45,7,45,8],[46,7,46,8],[47,7,47,8],[30,7,30,8],[31,7,31,8],[32,7,32,8],[33,7,33,8],[34,7,34,8],[35,7,35,8],[36,7,36,8],[37,7,37,8],[38,7,38,8],[21,7,21,8],[22,7,22,8],[23,7,23,8],[24,7,24,8],[25,7,25,8],[26,7,26,8],[27,7,27,8],[28,7,28,8],[29,7,29,8],[12,7,12,8],[13,7,13,8],[14,7,14,8],[15,7,15,8],[16,7,16,8],[17,7,17,8],[18,7,18,8],[19,7,19,8],[20,7,20,8],[55,19,57,24],[55,25,57,48],[4,75,6,75],[4,76,6,76],[4,78,6,78],[4,79,6,79],[4,80,6,80],[4,82,6,82],[49,16,49,21],[29,16,29,21],[34,16,34,21],[35,16,35,21],[36,16,36,21],[37,16,37,21],[38,16,38,21],[39,16,39,21],[40,16,40,21],[41,16,41,21],[46,16,46,21],[42,16,42,21],[43,16,43,21],[44,16,44,21],[23,16,23,21],[24,16,24,21],[25,16,25,21],[27,16,27,21],[28,16,28,21],[30,16,30,21],[31,16,31,21],[32,16,32,21],[33,16,33,21],[26,16,26,21],[17,14,34,15],[35,14,49,15],[17,22,17,24],[18,22,18,24],[19,22,19,24],[20,22,20,24],[21,22,21,24],[22,22,22,24],[23,22,23,24],[24,22,24,24],[25,22,25,24],[26,22,26,24],[27,22,27,24],[28,22,28,24],[29,22,29,24],[21,16,21,21],[17,16,17,21],[18,16,18,21],[19,16,19,21],[20,16,20,21],[45,16,45,21],[47,16,47,21],[48,16,48,21],[22,16,22,21],[49,22,49,24],[17,25,17,30],[18,25,18,30],[19,25,19,30],[20,25,20,30],[21,25,21,30],[22,25,22,30],[23,25,23,30],[24,25,24,30],[25,25,25,30],[26,25,26,30],[27,25,27,30],[28,25,28,30],[29,25,29,30],[40,22,40,24],[41,22,41,24],[42,22,42,24],[43,22,43,24],[44,22,44,24],[35,22,35,24],[36,22,36,24],[37,22,37,24],[38,22,38,24],[39,22,39,24],[38,25,38,30],[39,25,39,30],[30,25,30,30],[31,25,31,30],[32,25,32,30],[33,25,33,30],[34,25,34,30],[36,25,36,30],[37,25,37,30],[47,22,47,24],[48,22,48,24],[30,22,30,24],[31,22,31,24],[32,22,32,24],[33,22,33,24],[34,22,34,24],[45,22,45,24],[46,22,46,24],[45,25,45,30],[46,25,46,30],[47,25,47,30],[48,25,48,30],[49,25,49,30],[17,31,17,36],[17,37,17,42],[19,31,19,36],[19,37,19,42],[21,31,21,36],[21,37,21,42],[23,31,23,36],[23,37,23,42],[25,31,25,36],[25,37,25,42],[27,31,27,36],[27,37,27,42],[29,31,29,36],[40,25,40,30],[41,25,41,30],[42,25,42,30],[43,25,43,30],[44,25,44,30],[35,25,35,30],[19,43,19,48],[19,49,19,54],[19,55,19,60],[20,31,20,36],[20,37,20,42],[20,43,20,48],[20,49,20,54],[20,55,20,60],[17,43,17,48],[17,49,17,54],[17,55,17,60],[18,31,18,36],[18,37,18,42],[18,43,18,48],[18,49,18,54],[18,55,18,60],[23,43,23,48],[23,49,23,54],[23,55,23,60],[24,31,24,36],[24,37,24,42],[24,43,24,48],[24,49,24,54],[24,55,24,60],[21,43,21,48],[21,49,21,54],[21,55,21,60],[22,31,22,36],[22,37,22,42],[22,43,22,48],[22,49,22,54],[22,55,22,60],[27,43,27,48],[27,49,27,54],[27,55,27,60],[28,31,28,36],[28,37,28,42],[28,43,28,48],[28,49,28,54],[28,55,28,60],[25,43,25,48],[25,49,25,54],[25,55,25,60],[26,31,26,36],[26,37,26,42],[26,43,26,48],[26,49,26,54],[26,55,26,60],[31,31,31,36],[31,37,31,42],[31,43,31,48],[31,49,31,54],[31,55,31,60],[29,37,29,42],[29,43,29,48],[29,49,29,54],[29,55,29,60],[30,31,30,36],[30,37,30,42],[30,43,30,48],[30,49,30,54],[30,55,30,60],[33,31,33,36],[33,37,33,42],[33,43,33,48],[33,49,33,54],[33,55,33,60],[32,31,32,36],[32,37,32,42],[32,43,32,48],[32,49,32,54],[32,55,32,60],[35,31,35,36],[35,37,35,42],[35,43,35,48],[35,49,35,54],[35,55,35,60],[34,31,34,36],[34,37,34,42],[34,43,34,48],[34,49,34,54],[34,55,34,60],[37,31,37,36],[37,37,37,42],[37,43,37,48],[37,49,37,54],[37,55,37,60],[36,31,36,36],[36,37,36,42],[36,43,36,48],[36,49,36,54],[36,55,36,60],[39,31,39,36],[39,37,39,42],[39,43,39,48],[39,49,39,54],[39,55,39,60],[38,31,38,36],[38,37,38,42],[38,43,38,48],[38,49,38,54],[38,55,38,60],[41,31,41,36],[41,37,41,42],[41,43,41,48],[41,49,41,54],[41,55,41,60],[40,31,40,36],[40,37,40,42],[40,43,40,48],[40,49,40,54],[40,55,40,60],[43,31,43,36],[43,37,43,42],[43,43,43,48],[43,49,43,54],[43,55,43,60],[42,31,42,36],[42,37,42,42],[42,43,42,48],[42,49,42,54],[42,55,42,60],[46,43,46,48],[46,49,46,54],[46,55,46,60],[45,31,45,36],[44,31,44,36],[44,37,44,42],[44,43,44,48],[44,49,44,54],[44,55,44,60],[5,0,6,3],[7,0,7,2],[7,3,7,4],[7,5,7,7],[0,0,3,10],[0,32,3,38],[0,39,3,60],[49,31,49,36],[49,37,49,42],[49,43,49,48],[49,49,49,54],[49,55,49,60],[48,31,48,36],[48,37,48,42],[48,43,48,48],[48,49,48,54],[48,55,48,60],[47,31,47,36],[47,37,47,42],[47,43,47,48],[47,49,47,54],[47,55,47,60],[46,31,46,36],[46,37,46,42],[8,16,8,19],[9,16,9,19],[7,11,7,12],[8,11,8,12],[8,0,9,3],[8,4,8,5],[9,4,9,5],[8,6,8,7],[9,6,9,7],[4,89,6,91],[4,92,6,92],[11,0,11,3],[50,14,51,60],[9,11,9,12],[11,14,11,28],[12,14,13,17],[12,18,13,28],[12,29,13,32],[5,45,6,59],[7,45,7,47],[8,45,8,47],[9,45,9,47],[7,48,7,52],[8,48,8,52],[9,48,9,52],[7,53,7,55],[8,53,8,55],[9,53,9,55],[7,56,7,60],[8,56,8,60],[9,56,9,60],[5,9,6,10],[7,16,7,19],[0,69,3,70],[0,71,3,71],[4,93,6,93],[55,49,57,53],[52,16,54,57],[4,86,6,88],[7,30,9,41],[12,33,13,43],[7,28,9,29],[7,20,7,24],[8,20,8,24],[9,20,9,24],[7,25,7,27],[8,25,8,27],[9,25,9,27],[5,16,6,30],[5,31,6,31],[45,37,45,42],[45,43,45,48],[45,49,45,54],[45,55,45,60],[4,83,6,83],[0,72,3,93],[15,14,15,28]]}
["第５１回　オホーツク中学校陸上競技大会申込書",null,null,null,null,null,null,null,null,null,null,null,null,null,null,null,null,null,null,null,null,null,null,null,null,null,null,null,null,null,null,null,"〆切",null,null,null,null,null,null,"5/16(水)16：00",null,null,null,null,null,null,null,null,null,null,null,null,null,null,null,null,null,null,null,null,null,null,null,null,null,null,null,null,null,"出場校情報",null,"役員希望","◆参加者一覧◆"]
[]
[]
[]
[null,null,null,null,null,null,null,null,null,null,null,null,null,null,null,null,null,null,null,null,null,null,null,null,null,null,null,null,null,null,null,null,null,null,null,null,null,null,null,null,null,null,null,null,null,null,null,null,null,null,null,null,null,null,null,null,null,null,null,null,null,null,null,null,null,null,null,null,null,"斜里中","斜里町立斜里中学校","一任","男","中1",null,"種目選択名称","事務局シートへ",null,null,"種目選択名称","事務局シートへ",null,null,"リレー選択",null,null,"種目抽出",null,null,"R抽出",null,null,"氏名","種目数カウント"]
["◆出場校情報◆",null,null,null,null,null,null,null,null,"◆競技役員希望◆",null,null,null,null,null,null,"◆参加料◆",null,null,null,null,null,null,null,null,null,null,null,null,null,null,null,null,null,null,null,null,null,null,null,null,null,null,null,null,"◆参加人数◆",null,null,null,null,null,null,null,null,null,null,null,null,null,null,null,null,null,null,null,null,null,null,null,"斜里知床ウトロ","斜里町立知床ウトロ学校","技術総務","女","中2",2002]
[null,null,null,null,null,null,null,null,null,null,null,null,null,null,null,null,null,null,null,null,null,null,null,null,null,null,null,null,null,null,null,null,null,null,null,null,null,null,null,null,null,null,null,null,null,null,null,null,null,null,null,null,null,null,null,null,null,null,null,null,null,null,null,null,null,null,null,null,null,"清里中","清里町立清里中学校","番組編成 ",null,"中3",2003]
["学校名",null,null,"北見常呂中",null,null,null,null,null,"審判員氏名","希望役職①","希望役職②",null,null,null,null,"1種目",null,null,null,1000,null,null,null,null,{"$f":"COUNTIF($CP$8:$CP$52,1)","v":0},null,null,"合計",null,{"$f":"U8*Z8+U9*Z9+U10*Z10","v":0},null,null,null,null,null,null,null,null,null,null,null,null,null,null,"中1",null,null,{"$f":"COUNTIF($G$14:$G$58,AT8)","v":0},null,null,null,null,"男子",null,null,{"$f":"COUNTIF($B$14:$B$58,\"男\")","v":1},null,null,null,null,null,null,null,null,null,null,null,null,"大空女満別中","大空町立女満別中学校","記録情報処理",null,null,2004,"1年100m","男子1年100m",{"$f":"\"男\"&BX8","v":"男1年100m"},"ア","1年100m","女子1年100m",{"$f":"\"女\"&CB8","v":"女1年100m"},"A","男子",null,1,{"$f":"B14&H14","v":"女"},{"$f":"COUNTIF($CI$8:CI8,CI8)","v":1},{"$f":"CJ8&CI8","v":"1女"},{"$f":"IF(M14=\"男子\",\"A\",IF(M14=\"女子\",\"B\",\"C\"))","v":"C"},{"$f":"COUNTIF(CL$8:$CL8,CL8)","v":1},{"$f":"CM8&CL8","v":"1C"},{"$f":"SUBSTITUTE(D14,\"　\",\"\")","v":""},{"$f":"IF(H14=\"\",0,1)+IF(K14=\"\",0,1)","v":0}]
["記載責任者（監督）\n下段には、携帯電話番号",null,null,null,null,null,null,null,null,null,null,null,null,null,null,null,"2種目",null,null,null,1600,null,null,null,null,{"$f":"COUNTIF($CP$8:$CP$52,2)","v":0},null,null,null,null,null,null,null,null,null,null,null,null,null,null,null,null,null,null,null,"中2",null,null,{"$f":"COUNTIF($G$14:$G$58,AT9)","v":0},null,null,null,null,"女子",null,null,{"$f":"COUNTIF($B$14:$B$58,\"女\")","v":1},null,null,null,null,null,null,null,null,null,null,null,null,"大空東藻琴中","大空町立東藻琴中学校","アナウンサー",null,null,2005,"1年1500m","男子1年1500m",{"$f":"\"男\"&BX9","v":"男1年1500m"},"イ","1年80mH","女子1年80mH",{"$f":"\"女\"&CB9","v":"女1年80mH"},"B","女子",null,2,"男",{"$f":"COUNTIF($CI$8:CI9,CI9)","v":1},{"$f":"CJ9&CI9","v":"1男"},{"$f":"IF(M15=\"男子\",\"A\",IF(M15=\"女子\",\"B\",\"C\"))","v":"C"},{"$f":"COUNTIF(CL$8:$CL9,CL9)","v":2},{"$f":"CM9&CL9","v":"2C"},{"$f":"SUBSTITUTE(D15,\"　\",\"\")","v":""},{"$f":"IF(H15=\"\",0,1)+IF(K15=\"\",0,1)","v":0}]
[null,null,null,null,null,null,null,null,null,null,null,null,null,null,null,null,"リレー",null,null,null,2000,null,null,null,null,{"$f":"IF(COUNTIF($M$14:$M$58,\"男子\")>0,1,0)+IF(COUNTIF($M$14:$M$58,\"女子\")>0,1,0)","v":0},null,null,null,null,null,null,null,null,null,null,null,null,null,null,null,null,null,null,null,"中3",null,null,0,null,null,null,null,"計",null,null,{"$f":"BE8+BE9","v":2},null,null,null,null,null,null,null,null,null,null,null,null,"美幌中","美幌町立美幌中学校","風 力 計 測 ",null,null,null,"1年100mH","男子1年100mH","男1年100mH","ウ","1年1000m","女子1年1000m","女1年1000m","C",null,null,3,"",{"$f":"COUNTIF($CI$8:CI10,CI10)","v":1},"1","C",{"$f":"COUNTIF(CL$8:$CL10,CL10)","v":3},"3C","",0]
[null,null,null,null,null,null,null,null,null,null,null,null,null,null,null,null,null,null,null,null,null,null,null,null,null,null,null,null,null,null,null,null,null,null,null,null,null,null,null,null,null,null,null,null,null,null,null,null,null,null,null,null,null,null,null,null,null,null,null,null,null,null,null,null,null,null,null,null,null,"美幌北中","美幌町立北中学校","用器具",null,null,null,"1年砲丸投","男子1年砲丸投","男1年砲丸投","エ","2･3年100m","女子2･3年100m","女2･3年100m","D",null,null,4,"",{"$f":"COUNTIF($CI$8:CI11,CI11)","v":2},"2","C",{"$f":"COUNTIF(CL$8:$CL11,CL11)","v":4},"4C","",0]
["◆参加者一覧◆",null,null,null,null,null,null,null,null,null,null,null,null,null,"◆リレー記録◆",null,null,null,null,null,null,null,null,null,null,null,null,null,null,null,null,null,null,null,null,null,null,null,null,null,null,null,null,null,null,null,null,null,null,null,null,null,null,null,null,null,null,null,null,null,null,null,null,null,null,null,null,null,null,"遠軽中","遠軽町立遠軽中学校","写真判定 ",null,null,null,"2･3年100m","男子2･3年100m","男2･3年100m","オ","200m","女子200m","女200m","E",null,null,5,"",{"$f":"COUNTIF($CI$8:CI12,CI12)","v":3},"3","C",{"$f":"COUNTIF(CL$8:$CL12,CL12)","v":5},{"$f":"CM12&CL12","v":"5C"},"",0]
["数","姓","NC","氏名","生年","ﾌﾘｶﾞﾅ","年","種目1",null,"ベスト記録","種目2","ベスト記録","リレー",null,"男子",null,null,null,null,null,null,null,null,null,null,null,null,null,null,"女子",null,null,null,null,null,null,null,null,null,null,null,null,null,null,null,null,null,null,null,null,null,null,null,null,null,null,null,null,null,null,null,null,null,null,null,null,null,null,null,"遠軽南中","遠軽町立南中学校","スターター・リコーラー",null,null,null,"2･3年1500m","男子2･3年1500m","男2･3年1500m","カ","800m","女子800m","女800m","F",null,null,6,"",{"$f":"COUNTIF($CI$8:CI13,CI13)","v":4},"4","C",{"$f":"COUNTIF(CL$8:$CL13,CL13)","v":6},"6C","",0]
[1,"女",null,null,null,{"$f":"ASC(PHONETIC(D14))","v":""},null,null,null,null,null,null,null,null,null,null,null,null,null,null,null,null,null,null,null,null,null,null,null,null,null,null,null,null,null,null,null,null,null,null,null,null,null,null,null,null,null,null,null,null,null,null,null,null,null,null,null,null,null,null,null,null,null,null,null,null,null,null,null,"湧別中","湧別町立湧別中学校","計時・決勝",null,null,null,"200m","男子200m","男200m","キ","1500m","女子1500m","女1500m","G",null,null,7,"",{"$f":"COUNTIF($CI$8:CI14,CI14)","v":5},"5","C",{"$f":"COUNTIF(CL$8:$CL14,CL14)","v":7},"7C","",0]
[2,"男",null,null,null,"",null,null,null,null,null,null,null,null,null,null,null,null,null,null,null,null,null,null,null,null,null,null,null,null,null,null,null,null,null,null,null,null,null,null,null,null,null,null,null,null,null,null,null,null,null,null,null,null,null,null,null,null,null,null,null,null,null,null,null,null,null,null,null,"興部沙留中","興部町立沙留中学校","競技者",null,null,null,"400m","男子400m","男400m","ク","100mH","女子100mH(0.762m)","女100mH","H",null,null,8,"",{"$f":"COUNTIF($CI$8:CI15,CI15)","v":6},"6","C",{"$f":"COUNTIF(CL$8:$CL15,CL15)","v":8},"8C","",0]
[3,null,null,null,null,"",null,null,null,null,null,null,null,null,"◆種目の確認◆",null,null,null,null,null,null,null,null,null,null,null,null,null,null,null,null,null,null,null,null,null,null,null,null,null,null,null,null,null,null,null,null,null,null,null,null,null,null,null,null,null,null,null,null,null,null,null,null,null,null,null,null,null,null,"雄武中","雄武町立雄武中学校","出発",null,null,null,"800m","男子800m","男800m","ケ","走高跳","女子走高跳","女走高跳","I",null,null,9,"",{"$f":"COUNTIF($CI$8:CI16,CI16)","v":7},"7","C",{"$f":"COUNTIF(CL$8:$CL16,CL16)","v":9},"9C","",0]
[4,null,null,null,null,"",null,null,null,null,null,null,null,null,null,null,null,null,null,null,null,null,null,null,null,1,null,null,null,null,null,2,null,null,null,null,null,3,null,null,null,null,null,4,null,null,null,null,null,5,null,null,null,null,null,6,null,null,null,null,null,null,null,null,null,null,null,null,null,"北見南中","北見市立南中学校","周回記録",null,null,null,"3000m","男子3000m","男3000m","コ","走幅跳","女子走幅跳","女走幅跳","J",null,null,10,"",{"$f":"COUNTIF($CI$8:CI17,CI17)","v":8},"8","C",{"$f":"COUNTIF(CL$8:$CL17,CL17)","v":10},"10C","",0]
[5,null,null,null,null,"",null,null,null,null,null,null,null,null,"男子（全１８種目）",null,"1年100m",null,null,null,null,null,{"$f":"6-COUNTIF(Z18:BI18,NA())","v":0},null,null,{"$f":"VLOOKUP(Z$17&\"男\"&$Q18,$CK$8:$CO$97,5,FALSE)","v":{"$error":"#N/A"}},null,null,null,null,null,{"$f":"VLOOKUP(AF$17&\"男\"&$Q18,$CK$8:$CO$97,5,FALSE)","v":{"$error":"#N/A"}},null,null,null,null,null,{"$f":"VLOOKUP(AL$17&\"男\"&$Q18,$CK$8:$CO$97,5,FALSE)","v":{"$error":"#N/A"}},null,null,null,null,null,{"$f":"VLOOKUP(AR$17&\"男\"&$Q18,$CK$8:$CO$97,5,FALSE)","v":{"$error":"#N/A"}},null,null,null,null,null,{"$f":"VLOOKUP(AX$17&\"男\"&$Q18,$CK$8:$CO$97,5,FALSE)","v":{"$error":"#N/A"}},null,null,null,null,null,{"$f":"VLOOKUP(BD$17&\"男\"&$Q18,$CK$8:$CO$97,5,FALSE)","v":{"$error":"#N/A"}},null,null,null,null,null,null,null,null,null,null,null,null,null,"北見東陵中","北見市立東陵中学校","役員",null,null,null,"110mH","男子110mH(0.914m)","男110mH","サ","砲丸投","女子砲丸投(2.721kg)","女砲丸投","K",null,null,11,"",{"$f":"COUNTIF($CI$8:CI18,CI18)","v":9},"9","C",{"$f":"COUNTIF(CL$8:$CL18,CL18)","v":11},"11C","",0]
[6,null,null,null,null,"",null,null,null,null,null,null,null,null,null,null,"1年1500m",null,null,null,null,null,{"$f":"6-COUNTIF(Z19:BI19,NA())","v":0},null,null,{"$error":"#N/A"},null,null,null,null,null,{"$error":"#N/A"},null,null,null,null,null,{"$error":"#N/A"},null,null,null,null,null,{"$error":"#N/A"},null,null,null,null,null,{"$error":"#N/A"},null,null,null,null,null,{"$error":"#N/A"},null,null,null,null,null,null,null,null,null,null,null,null,null,"北見光西中","北見市立光西中学校","監察",null,null,null,"走高跳","男子走高跳","男走高跳","シ","円盤投","女子円盤投(1.000kg)","女円盤投","L",null,null,12,"",{"$f":"COUNTIF($CI$8:CI19,CI19)","v":10},"10","C",{"$f":"COUNTIF(CL$8:$CL19,CL19)","v":12},"12C","",0]
[7,null,null,null,null,"",null,null,null,null,null,null,null,null,null,null,"1年100mH",null,null,null,null,null,0,null,null,{"$error":"#N/A"},null,null,null,null,null,{"$error":"#N/A"},null,null,null,null,null,{"$error":"#N/A"},null,null,null,null,null,{"$error":"#N/A"},null,null,null,null,null,{"$error":"#N/A"},null,null,null,null,null,{"$error":"#N/A"},null,null,null,null,null,null,null,null,null,null,null,null,null,"北見北中","北見市立北中学校","表彰",null,null,null,"棒高跳","男子棒高跳","男棒高跳","ス","四種競技","女子四種競技","女四種競技","M",null,null,13,"",{"$f":"COUNTIF($CI$8:CI20,CI20)","v":11},"11","C",{"$f":"COUNTIF(CL$8:$CL20,CL20)","v":13},"13C","",0]
[8,null,null,null,null,"",null,null,null,null,null,null,null,null,null,null,"1年砲丸投",null,null,null,null,null,0,null,null,{"$error":"#N/A"},null,null,null,null,null,{"$error":"#N/A"},null,null,null,null,null,{"$error":"#N/A"},null,null,null,null,null,{"$error":"#N/A"},null,null,null,null,null,{"$error":"#N/A"},null,null,null,null,null,{"$error":"#N/A"},null,null,null,null,null,null,null,null,null,null,null,null,null,"北見相内中","北見市立相内中学校","跳躍審判",null,null,null,"走幅跳","男子走幅跳","男走幅跳","セ",null,null,"女","N",null,null,14,"",{"$f":"COUNTIF($CI$8:CI21,CI21)","v":12},"12","C",{"$f":"COUNTIF(CL$8:$CL21,CL21)","v":14},"14C","",0]
[9,null,null,null,null,"",null,null,null,null,null,null,null,null,null,null,"2･3年100m",null,null,null,null,null,0,null,null,{"$error":"#N/A"},null,null,null,null,null,{"$error":"#N/A"},null,null,null,null,null,{"$error":"#N/A"},null,null,null,null,null,{"$error":"#N/A"},null,null,null,null,null,{"$error":"#N/A"},null,null,null,null,null,{"$error":"#N/A"},null,null,null,null,null,null,null,null,null,null,null,null,null,"北見北光中","北見市立北光中学校","投てき審判",null,null,null,"砲丸投","男子砲丸投(5.000kg)","男砲丸投","ソ",null,null,"女","O",null,null,15,"",{"$f":"COUNTIF($CI$8:CI22,CI22)","v":13},"13","C",{"$f":"COUNTIF(CL$8:$CL22,CL22)","v":15},"15C","",0]
[10,null,null,null,null,"",null,null,null,null,null,null,null,null,null,null,"2･3年1500m",null,null,null,null,null,0,null,null,{"$error":"#N/A"},null,null,null,null,null,{"$error":"#N/A"},null,null,null,null,null,{"$error":"#N/A"},null,null,null,null,null,{"$error":"#N/A"},null,null,null,null,null,{"$error":"#N/A"},null,null,null,null,null,{"$error":"#N/A"},null,null,null,null,null,null,null,null,null,null,null,null,null,"北見高栄中","北見市立高栄中学校",null,null,null,null,"円盤投","男子円盤投(1.500kg)","男円盤投","タ",null,null,"女","P",null,null,16,"",{"$f":"COUNTIF($CI$8:CI23,CI23)","v":14},"14","C",{"$f":"COUNTIF(CL$8:$CL23,CL23)","v":16},"16C","",0]
[11,null,null,null,null,"",null,null,null,null,null,null,null,null,null,null,"200m",null,null,null,null,null,0,null,null,{"$error":"#N/A"},null,null,null,null,null,{"$error":"#N/A"},null,null,null,null,null,{"$error":"#N/A"},null,null,null,null,null,{"$error":"#N/A"},null,null,null,null,null,{"$error":"#N/A"},null,null,null,null,null,{"$error":"#N/A"},null,null,null,null,null,null,null,null,null,null,null,null,null,"北見小泉中","北見市立小泉中学校",null,null,null,null,"四種競技","男子四種競技","男四種競技","チ",null,null,"女","Q",null,null,17,"",{"$f":"COUNTIF($CI$8:CI24,CI24)","v":15},"15","C",{"$f":"COUNTIF(CL$8:$CL24,CL24)","v":17},"17C","",0]
[12,null,null,null,null,"",null,null,null,null,null,null,null,null,null,null,"400m",null,null,null,null,null,0,null,null,{"$error":"#N/A"},null,null,null,null,null,{"$error":"#N/A"},null,null,null,null,null,{"$error":"#N/A"},null,null,null,null,null,{"$error":"#N/A"},null,null,null,null,null,{"$error":"#N/A"},null,null,null,null,null,{"$error":"#N/A"},null,null,null,null,null,null,null,null,null,null,null,null,null,"北見東相内中","北見市立東相内中学校",null,null,null,null,null,null,"男","ツ",null,null,"女","R",null,null,18,"",{"$f":"COUNTIF($CI$8:CI25,CI25)","v":16},"16","C",{"$f":"COUNTIF(CL$8:$CL25,CL25)","v":18},"18C","",0]
[13,null,null,null,null,"",null,null,null,null,null,null,null,null,null,null,"800m",null,null,null,null,null,0,null,null,{"$error":"#N/A"},null,null,null,null,null,{"$error":"#N/A"},null,null,null,null,null,{"$error":"#N/A"},null,null,null,null,null,{"$error":"#N/A"},null,null,null,null,null,{"$error":"#N/A"},null,null,null,null,null,{"$error":"#N/A"},null,null,null,null,null,null,null,null,null,null,null,null,null,"北見留辺蘂中","北見市立留辺蘂中学校",null,null,null,null,null,null,"男","テ",null,null,"女","S",null,null,19,"",{"$f":"COUNTIF($CI$8:CI26,CI26)","v":17},"17","C",{"$f":"COUNTIF(CL$8:$CL26,CL26)","v":19},"19C","",0]
[14,null,null,null,null,"",null,null,null,null,null,null,null,null,null,null,"3000m",null,null,null,null,null,0,null,null,{"$error":"#N/A"},null,null,null,null,null,{"$error":"#N/A"},null,null,null,null,null,{"$error":"#N/A"},null,null,null,null,null,{"$error":"#N/A"},null,null,null,null,null,{"$error":"#N/A"},null,null,null,null,null,{"$error":"#N/A"},null,null,null,null,null,null,null,null,null,null,null,null,null,"北見温根湯中","北見市立温根湯中学校",null,null,null,null,null,null,"男","ト",null,null,"女","T",null,null,20,"",{"$f":"COUNTIF($CI$8:CI27,CI27)","v":18},"18","C",{"$f":"COUNTIF(CL$8:$CL27,CL27)","v":20},"20C","",0]
[15,null,null,null,null,"",null,null,null,null,null,null,null,null,null,null,"110mH",null,null,null,null,null,0,null,null,{"$error":"#N/A"},null,null,null,null,null,{"$error":"#N/A"},null,null,null,null,null,{"$error":"#N/A"},null,null,null,null,null,{"$error":"#N/A"},null,null,null,null,null,{"$error":"#N/A"},null,null,null,null,null,{"$error":"#N/A"},null,null,null,null,null,null,null,null,null,null,null,null,null,"北見常呂中","北見市立常呂中学校",null,null,null,null,null,null,null,null,null,null,null,null,null,null,21,"",{"$f":"COUNTIF($CI$8:CI28,CI28)","v":19},"19","C",{"$f":"COUNTIF(CL$8:$CL28,CL28)","v":21},"21C","",0]
[16,null,null,null,null,"",null,null,null,null,null,null,null,null,null,null,"走高跳",null,null,null,null,null,0,null,null,{"$error":"#N/A"},null,null,null,null,null,{"$error":"#N/A"},null,null,null,null,null,{"$error":"#N/A"},null,null,null,null,null,{"$error":"#N/A"},null,null,null,null,null,{"$error":"#N/A"},null,null,null,null,null,{"$error":"#N/A"},null,null,null,null,null,null,null,null,null,null,null,null,null,"網走第一中","網走市立第一中学校",null,null,null,null,"NANS登録種目名",null,{"$f":"BZ8","v":"男1年100m"},{"$f":"CA8","v":"ア"},{"$f":"BY8","v":"男子1年100m"},null,null,null,null,null,22,"",{"$f":"COUNTIF($CI$8:CI29,CI29)","v":20},"20","C",{"$f":"COUNTIF(CL$8:$CL29,CL29)","v":22},"22C","",0]
[17,null,null,null,null,"",null,null,null,null,null,null,null,null,null,null,"棒高跳",null,null,null,null,null,0,null,null,{"$error":"#N/A"},null,null,null,null,null,{"$error":"#N/A"},null,null,null,null,null,{"$error":"#N/A"},null,null,null,null,null,{"$error":"#N/A"},null,null,null,null,null,{"$error":"#N/A"},null,null,null,null,null,{"$error":"#N/A"},null,null,null,null,null,null,null,null,null,null,null,null,null,"網走第二中","網走市立第二中学校",null,null,null,null,"男子1年100m",null,{"$f":"BZ9","v":"男1年1500m"},"イ",{"$f":"BY9","v":"男子1年1500m"},null,null,null,null,null,23,"",{"$f":"COUNTIF($CI$8:CI30,CI30)","v":21},"21","C",{"$f":"COUNTIF(CL$8:$CL30,CL30)","v":23},"23C","",0]
[18,null,null,null,null,"",null,null,null,null,null,null,null,null,null,null,"走幅跳",null,null,null,null,null,0,null,null,{"$error":"#N/A"},null,null,null,null,null,{"$error":"#N/A"},null,null,null,null,null,{"$error":"#N/A"},null,null,null,null,null,{"$error":"#N/A"},null,null,null,null,null,{"$error":"#N/A"},null,null,null,null,null,{"$error":"#N/A"},null,null,null,null,null,null,null,null,null,null,null,null,null,"網走第三中","網走市立第三中学校",null,null,null,null,"男子2年100m",null,{"$f":"BZ10","v":"男1年100mH"},"ウ","男子1年100mH",null,null,null,null,null,24,"",{"$f":"COUNTIF($CI$8:CI31,CI31)","v":22},"22","C",{"$f":"COUNTIF(CL$8:$CL31,CL31)","v":24},"24C","",0]
[19,null,null,null,null,"",null,null,null,null,null,null,null,null,null,null,"砲丸投",null,null,null,null,null,0,null,null,{"$error":"#N/A"},null,null,null,null,null,{"$error":"#N/A"},null,null,null,null,null,{"$error":"#N/A"},null,null,null,null,null,{"$error":"#N/A"},null,null,null,null,null,{"$error":"#N/A"},null,null,null,null,null,{"$error":"#N/A"},null,null,null,null,null,null,null,null,null,null,null,null,null,"網走第四中","網走市立第四中学校",null,null,null,null,"男子3年100m",null,{"$f":"BZ11","v":"男1年砲丸投"},"エ","男子1年砲丸投",null,null,null,null,null,25,"",{"$f":"COUNTIF($CI$8:CI32,CI32)","v":23},"23","C",{"$f":"COUNTIF(CL$8:$CL32,CL32)","v":25},"25C","",0]
[20,null,null,null,null,"",null,null,null,null,null,null,null,null,null,null,"円盤投",null,null,null,null,null,0,null,null,{"$error":"#N/A"},null,null,null,null,null,{"$error":"#N/A"},null,null,null,null,null,{"$error":"#N/A"},null,null,null,null,null,{"$error":"#N/A"},null,null,null,null,null,{"$error":"#N/A"},null,null,null,null,null,{"$error":"#N/A"},null,null,null,null,null,null,null,null,null,null,null,null,null,"紋別中","紋別市立紋別中学校",null,null,null,null,"男子2･3年100m",null,{"$f":"BZ12","v":"男2･3年100m"},"オ","男子2･3年100m",null,null,null,null,null,26,"",{"$f":"COUNTIF($CI$8:CI33,CI33)","v":24},"24","C",{"$f":"COUNTIF(CL$8:$CL33,CL33)","v":26},"26C","",0]
[21,null,null,null,null,"",null,null,null,null,null,null,null,null,null,null,"四種競技",null,null,null,null,null,0,null,null,{"$error":"#N/A"},null,null,null,null,null,{"$error":"#N/A"},null,null,null,null,null,{"$error":"#N/A"},null,null,null,null,null,{"$error":"#N/A"},null,null,null,null,null,{"$error":"#N/A"},null,null,null,null,null,{"$error":"#N/A"},null,null,null,null,null,null,null,null,null,null,null,null,null,"紋別潮見中","紋別市立潮見中学校",null,null,null,null,"男子200m",null,{"$f":"BZ13","v":"男2･3年1500m"},"カ","男子2･3年1500m",null,null,null,null,null,27,"",{"$f":"COUNTIF($CI$8:CI34,CI34)","v":25},"25","C",{"$f":"COUNTIF(CL$8:$CL34,CL34)","v":27},"27C","",0]
[22,null,null,null,null,"",null,null,null,null,null,null,null,"A",null,null,"男子R",null,null,null,null,null,0,null,null,{"$f":"VLOOKUP(Z17&$N35,$CN$8:$CO$52,2,FALSE)","v":{"$error":"#N/A"}},null,null,null,null,null,{"$f":"VLOOKUP(AF17&$N35,$CN$8:$CO$52,2,FALSE)","v":{"$error":"#N/A"}},null,null,null,null,null,{"$f":"VLOOKUP(AL17&$N35,$CN$8:$CO$52,2,FALSE)","v":{"$error":"#N/A"}},null,null,null,null,null,{"$f":"VLOOKUP(AR17&$N35,$CN$8:$CO$52,2,FALSE)","v":{"$error":"#N/A"}},null,null,null,null,null,{"$f":"VLOOKUP(AX17&$N35,$CN$8:$CO$52,2,FALSE)","v":{"$error":"#N/A"}},null,null,null,null,null,{"$f":"VLOOKUP(BD17&$N35,$CN$8:$CO$52,2,FALSE)","v":{"$error":"#N/A"}},null,null,null,null,null,null,null,null,null,null,null,null,null,null,null,null,null,null,null,"男子400m",null,{"$f":"BZ14","v":"男200m"},"キ","男子200m",null,null,null,null,null,28,"",{"$f":"COUNTIF($CI$8:CI35,CI35)","v":26},"26","C",{"$f":"COUNTIF(CL$8:$CL35,CL35)","v":28},"28C","",0]
[23,null,null,null,null,"",null,null,null,null,null,null,null,null,"女子（全１4種目）",null,"1年100m",null,null,null,null,null,0,null,null,{"$f":"VLOOKUP(Z$17&\"女\"&$Q36,$CK$8:$CO$97,5,FALSE)","v":{"$error":"#N/A"}},null,null,null,null,null,{"$f":"VLOOKUP(AF$17&\"女\"&$Q36,$CK$8:$CO$97,5,FALSE)","v":{"$error":"#N/A"}},null,null,null,null,null,{"$f":"VLOOKUP(AL$17&\"女\"&$Q36,$CK$8:$CO$97,5,FALSE)","v":{"$error":"#N/A"}},null,null,null,null,null,{"$f":"VLOOKUP(AR$17&\"女\"&$Q36,$CK$8:$CO$97,5,FALSE)","v":{"$error":"#N/A"}},null,null,null,null,null,{"$f":"VLOOKUP(AX$17&\"女\"&$Q36,$CK$8:$CO$97,5,FALSE)","v":{"$error":"#N/A"}},null,null,null,null,null,{"$f":"VLOOKUP(BD$17&\"女\"&$Q36,$CK$8:$CO$97,5,FALSE)","v":{"$error":"#N/A"}},null,null,null,null,null,null,null,null,null,null,null,null,null,null,null,null,null,null,null,"男子800m",null,{"$f":"BZ15","v":"男400m"},"ク","男子400m",null,null,null,null,null,29,"",{"$f":"COUNTIF($CI$8:CI36,CI36)","v":27},"27","C",{"$f":"COUNTIF(CL$8:$CL36,CL36)","v":29},"29C","",0]
[24,null,null,null,null,{"$f":"ASC(PHONETIC(D37))","v":""},null,null,null,null,null,null,null,null,null,null,"1年80mH",null,null,null,null,null,0,null,null,{"$error":"#N/A"},null,null,null,null,null,{"$error":"#N/A"},null,null,null,null,null,{"$error":"#N/A"},null,null,null,null,null,{"$error":"#N/A"},null,null,null,null,null,{"$error":"#N/A"},null,null,null,null,null,{"$error":"#N/A"},null,null,null,null,null,null,null,null,null,null,null,null,null,null,null,null,null,null,null,"男子1年1500m",null,{"$f":"BZ16","v":"男800m"},"ケ","男子800m",null,null,null,null,null,30,"",{"$f":"COUNTIF($CI$8:CI37,CI37)","v":28},"28","C",{"$f":"COUNTIF(CL$8:$CL37,CL37)","v":30},"30C","",0]
[25,null,null,null,null,"",null,null,null,null,null,null,null,null,null,null,"1年1000m",null,null,null,null,null,0,null,null,{"$error":"#N/A"},null,null,null,null,null,{"$error":"#N/A"},null,null,null,null,null,{"$error":"#N/A"},null,null,null,null,null,{"$error":"#N/A"},null,null,null,null,null,{"$error":"#N/A"},null,null,null,null,null,{"$error":"#N/A"},null,null,null,null,null,null,null,null,null,null,null,null,null,null,null,null,null,null,null,"男子2年1500m",null,{"$f":"BZ17","v":"男3000m"},"コ","男子3000m",null,null,null,null,null,31,"",{"$f":"COUNTIF($CI$8:CI38,CI38)","v":29},"29","C",{"$f":"COUNTIF(CL$8:$CL38,CL38)","v":31},"31C","",0]
[26,null,null,null,null,"",null,null,null,null,null,null,null,null,null,null,"2･3年100m",null,null,null,null,null,0,null,null,{"$error":"#N/A"},null,null,null,null,null,{"$error":"#N/A"},null,null,null,null,null,{"$error":"#N/A"},null,null,null,null,null,{"$error":"#N/A"},null,null,null,null,null,{"$error":"#N/A"},null,null,null,null,null,{"$error":"#N/A"},null,null,null,null,null,null,null,null,null,null,null,null,null,null,null,null,null,null,null,"男子2･3年1500m",null,{"$f":"BZ18","v":"男110mH"},"サ","男子110mH(0.914m)",null,null,null,null,null,32,"",{"$f":"COUNTIF($CI$8:CI39,CI39)","v":30},"30","C",{"$f":"COUNTIF(CL$8:$CL39,CL39)","v":32},"32C","",0]
[27,null,null,null,null,"",null,null,null,null,null,null,null,null,null,null,"200m",null,null,null,null,null,0,null,null,{"$error":"#N/A"},null,null,null,null,null,{"$error":"#N/A"},null,null,null,null,null,{"$error":"#N/A"},null,null,null,null,null,{"$error":"#N/A"},null,null,null,null,null,{"$error":"#N/A"},null,null,null,null,null,{"$error":"#N/A"},null,null,null,null,null,null,null,null,null,null,null,null,null,null,null,null,null,null,null,"男子3000m",null,{"$f":"BZ19","v":"男走高跳"},"シ","男子走高跳",null,null,null,null,null,33,"",{"$f":"COUNTIF($CI$8:CI40,CI40)","v":31},"31","C",{"$f":"COUNTIF(CL$8:$CL40,CL40)","v":33},"33C","",0]
[28,null,null,null,null,"",null,null,null,null,null,null,null,null,null,null,"800m",null,null,null,null,null,0,null,null,{"$error":"#N/A"},null,null,null,null,null,{"$error":"#N/A"},null,null,null,null,null,{"$error":"#N/A"},null,null,null,null,null,{"$error":"#N/A"},null,null,null,null,null,{"$error":"#N/A"},null,null,null,null,null,{"$error":"#N/A"},null,null,null,null,null,null,null,null,null,null,null,null,null,null,null,null,null,null,null,"男子1年100mH",null,{"$f":"BZ20","v":"男棒高跳"},"ス","男子棒高跳",null,null,null,null,null,34,"",{"$f":"COUNTIF($CI$8:CI41,CI41)","v":32},"32","C",{"$f":"COUNTIF(CL$8:$CL41,CL41)","v":34},"34C","",0]
[29,null,null,null,null,"",null,null,null,null,null,null,null,null,null,null,"1500m",null,null,null,null,null,0,null,null,{"$error":"#N/A"},null,null,null,null,null,{"$error":"#N/A"},null,null,null,null,null,{"$error":"#N/A"},null,null,null,null,null,{"$error":"#N/A"},null,null,null,null,null,{"$error":"#N/A"},null,null,null,null,null,{"$error":"#N/A"},null,null,null,null,null,null,null,null,null,null,null,null,null,null,null,null,null,null,null,"男子110mH(0.914m)",null,{"$f":"BZ21","v":"男走幅跳"},"セ","男子走幅跳",null,null,null,null,null,35,"",{"$f":"COUNTIF($CI$8:CI42,CI42)","v":33},"33","C",{"$f":"COUNTIF(CL$8:$CL42,CL42)","v":35},"35C","",0]
[30,null,null,null,null,"",null,null,null,null,null,null,null,null,null,null,"100mH",null,null,null,null,null,0,null,null,{"$error":"#N/A"},null,null,null,null,null,{"$error":"#N/A"},null,null,null,null,null,{"$error":"#N/A"},null,null,null,null,null,{"$error":"#N/A"},null,null,null,null,null,{"$error":"#N/A"},null,null,null,null,null,{"$error":"#N/A"},null,null,null,null,null,null,null,null,null,null,null,null,null,null,null,null,null,null,null,"男子4X100mR",null,{"$f":"BZ22","v":"男砲丸投"},"ソ","男子砲丸投(5.000kg)",null,null,null,null,null,36,"",{"$f":"COUNTIF($CI$8:CI43,CI43)","v":34},"34","C",{"$f":"COUNTIF(CL$8:$CL43,CL43)","v":36},"36C","",0]
[31,null,null,null,null,"",null,null,null,null,null,null,null,null,null,null,"走高跳",null,null,null,null,null,0,null,null,{"$error":"#N/A"},null,null,null,null,null,{"$error":"#N/A"},null,null,null,null,null,{"$error":"#N/A"},null,null,null,null,null,{"$error":"#N/A"},null,null,null,null,null,{"$error":"#N/A"},null,null,null,null,null,{"$error":"#N/A"},null,null,null,null,null,null,null,null,null,null,null,null,null,null,null,null,null,null,null,"男子走高跳",null,{"$f":"BZ23","v":"男円盤投"},"タ","男子円盤投(1.500kg)",null,null,null,null,null,37,"",{"$f":"COUNTIF($CI$8:CI44,CI44)","v":35},"35","C",{"$f":"COUNTIF(CL$8:$CL44,CL44)","v":37},"37C","",0]
[32,null,null,null,null,"",null,null,null,null,null,null,null,null,null,null,"走幅跳",null,null,null,null,null,0,null,null,{"$error":"#N/A"},null,null,null,null,null,{"$error":"#N/A"},null,null,null,null,null,{"$error":"#N/A"},null,null,null,null,null,{"$error":"#N/A"},null,null,null,null,null,{"$error":"#N/A"},null,null,null,null,null,{"$error":"#N/A"},null,null,null,null,null,null,null,null,null,null,null,null,null,null,null,null,null,null,null,"男子棒高跳",null,{"$f":"BZ24","v":"男四種競技"},"チ","男子四種競技",null,null,null,null,null,38,"",{"$f":"COUNTIF($CI$8:CI45,CI45)","v":36},"36","C",{"$f":"COUNTIF(CL$8:$CL45,CL45)","v":38},"38C","",0]
[33,null,null,null,null,"",null,null,null,null,null,null,null,null,null,null,"砲丸投",null,null,null,null,null,0,null,null,{"$error":"#N/A"},null,null,null,null,null,{"$error":"#N/A"},null,null,null,null,null,{"$error":"#N/A"},null,null,null,null,null,{"$error":"#N/A"},null,null,null,null,null,{"$error":"#N/A"},null,null,null,null,null,{"$error":"#N/A"},null,null,null,null,null,null,null,null,null,null,null,null,null,null,null,null,null,null,null,"男子走幅跳",null,{"$f":"BZ25","v":"男"},"ツ",0,null,null,null,null,null,39,"",{"$f":"COUNTIF($CI$8:CI46,CI46)","v":37},"37","C",{"$f":"COUNTIF(CL$8:$CL46,CL46)","v":39},"39C","",0]
[34,null,null,null,null,"",null,null,null,null,null,null,null,null,null,null,"円盤投",null,null,null,null,null,0,null,null,{"$error":"#N/A"},null,null,null,null,null,{"$error":"#N/A"},null,null,null,null,null,{"$error":"#N/A"},null,null,null,null,null,{"$error":"#N/A"},null,null,null,null,null,{"$error":"#N/A"},null,null,null,null,null,{"$error":"#N/A"},null,null,null,null,null,null,null,null,null,null,null,null,null,null,null,null,null,null,null,"男子1年砲丸投(2.721kg)",null,{"$f":"BZ26","v":"男"},"テ",0,null,null,null,null,null,40,"",{"$f":"COUNTIF($CI$8:CI47,CI47)","v":38},"38","C",{"$f":"COUNTIF(CL$8:$CL47,CL47)","v":40},"40C","",0]
[35,null,null,null,null,"",null,null,null,null,null,null,null,null,null,null,"四種競技",null,null,null,null,null,0,null,null,{"$error":"#N/A"},null,null,null,null,null,{"$error":"#N/A"},null,null,null,null,null,{"$error":"#N/A"},null,null,null,null,null,{"$error":"#N/A"},null,null,null,null,null,{"$error":"#N/A"},null,null,null,null,null,{"$error":"#N/A"},null,null,null,null,null,null,null,null,null,null,null,null,null,null,null,null,null,null,null,"男子砲丸投(5.000kg)",null,{"$f":"BZ27","v":"男"},{"$f":"CA27","v":"ト"},0,null,null,null,null,null,41,"",{"$f":"COUNTIF($CI$8:CI48,CI48)","v":39},"39","C",{"$f":"COUNTIF(CL$8:$CL48,CL48)","v":41},"41C","",0]
[36,null,null,null,null,"",null,null,null,null,null,null,null,null,null,null,"06:54:00",null,null,null,null,null,0,null,null,{"$error":"#N/A"},null,null,null,null,null,{"$error":"#N/A"},null,null,null,null,null,{"$error":"#N/A"},null,null,null,null,null,{"$error":"#N/A"},null,null,null,null,null,{"$error":"#N/A"},null,null,null,null,null,{"$error":"#N/A"},null,null,null,null,null,null,null,null,null,null,null,null,null,null,null,null,null,null,null,"男子円盤投(1.500kg)",null,{"$f":"CD8","v":"女1年100m"},{"$f":"CE8","v":"A"},{"$f":"CC8","v":"女子1年100m"},null,null,null,null,null,42,"",{"$f":"COUNTIF($CI$8:CI49,CI49)","v":40},"40","C",{"$f":"COUNTIF(CL$8:$CL49,CL49)","v":42},"42C","",0]
[37,null,null,null,null,"",null,null,null,null,null,null,null,"B",null,null,"女子R",null,null,null,null,null,0,null,null,{"$f":"VLOOKUP(Z17&$N50,$CN$8:$CO$52,2,FALSE)","v":{"$error":"#N/A"}},null,null,null,null,null,{"$f":"VLOOKUP(AF17&$N50,$CN$8:$CO$52,2,FALSE)","v":{"$error":"#N/A"}},null,null,null,null,null,{"$f":"VLOOKUP(AL17&$N50,$CN$8:$CO$52,2,FALSE)","v":{"$error":"#N/A"}},null,null,null,null,null,{"$f":"VLOOKUP(AR17&$N50,$CN$8:$CO$52,2,FALSE)","v":{"$error":"#N/A"}},null,null,null,null,null,{"$f":"VLOOKUP(AX17&$N50,$CN$8:$CO$52,2,FALSE)","v":{"$error":"#N/A"}},null,null,null,null,null,{"$f":"VLOOKUP(BD17&$N50,$CN$8:$CO$52,2,FALSE)","v":{"$error":"#N/A"}},null,null,null,null,null,null,null,null,null,null,null,null,null,null,null,null,null,null,null,"男子ｼﾞｬﾍﾞﾘｯｸｽﾛｰ",null,{"$f":"CD9","v":"女1年80mH"},"B",{"$f":"CC9","v":"女子1年80mH"},null,null,null,null,null,43,"",{"$f":"COUNTIF($CI$8:CI50,CI50)","v":41},"41","C",{"$f":"COUNTIF(CL$8:$CL50,CL50)","v":43},"43C","",0]
[38,null,null,null,null,"",null,null,null,null,null,null,null,null,"上記内容を確認の上、参加を許可します。",null,null,null,null,null,null,null,null,null,null,null,null,null,null,null,null,null,null,null,null,null,null,null,null,null,null,null,null,null,null,null,null,null,null,null,null,null,null,null,null,null,null,null,null,null,null,null,null,null,null,null,null,null,null,null,null,null,null,null,null,"男子四種競技",null,{"$f":"CD10","v":"女1年1000m"},"C","女子1年1000m",null,null,null,null,null,44,"",{"$f":"COUNTIF($CI$8:CI51,CI51)","v":42},"42","C",{"$f":"COUNTIF(CL$8:$CL51,CL51)","v":44},"44C","",0]
[39,null,null,null,null,"",null,null,null,null,null,null,null,null,null,null,null,null,null,null,null,null,null,null,null,null,null,null,null,null,null,null,null,null,null,null,null,null,null,null,null,null,null,null,null,null,null,null,null,null,null,null,null,null,null,null,null,null,null,null,null,null,null,null,null,null,null,null,null,null,null,null,null,null,null,"女子1年100m",null,{"$f":"CD11","v":"女2･3年100m"},"D","女子2･3年100m",null,null,null,null,null,45,"",{"$f":"COUNTIF($CI$8:CI52,CI52)","v":43},"43","C",{"$f":"COUNTIF(CL$8:$CL52,CL52)","v":45},"45C","",{"$f":"IF(H58=\"\",0,1)+IF(K58=\"\",0,1)","v":0}]
[40,null,null,null,null,"",null,null,null,null,null,null,null,null,null,null,{"$f":"VLOOKUP(D8,$BR$5:$BS$37,2,FALSE)","v":"北見市立常呂中学校"},null,null,null,null,null,null,null,null,null,null,null,null,null,null,null,null,null,null,null,null,null,null,null,null,null,null,null,null,null,null,null,null,null,null,null,null,null,null,null,null,null,null,null,null,null,null,null,null,null,null,null,null,null,null,null,null,null,null,"女子2年100m",null,{"$f":"CD12","v":"女200m"},"E","女子200m",null,null,null,null,null,1,{"$f":"B14&K14","v":"女"},{"$f":"COUNTIF($CI$8:CI53,CI53)","v":2},"2女",null,null,null,{"$f":"SUBSTITUTE(D14,\"　\",\"\")","v":""}]
[41,null,null,null,null,"",null,null,null,null,null,null,null,null,null,null,null,null,null,null,null,null,null,null,null,null,null,null,null,null,null,null,null,null,null,null,null,null,null,null,null,null,null,null,null,null,null,null,null,null,null,null,null,null,null,null,null,null,null,null,null,null,null,null,null,null,null,null,null,null,null,null,null,null,null,"女子3年100m",null,{"$f":"CD13","v":"女800m"},"F","女子800m",null,null,null,null,null,2,"男",{"$f":"COUNTIF($CI$8:CI54,CI54)","v":2},"2男",null,null,null,{"$f":"SUBSTITUTE(D15,\"　\",\"\")","v":""}]
[42,null,null,null,null,"",null,null,null,null,null,null,null,null,null,null,null,null,null,null,null,null,null,null,null,null,null,null,null,null,null,null,null,null,null,null,null,null,null,null,null,null,null,null,null,null,null,null,null,null,null,null,null,null,null,null,null,null,null,null,null,null,null,null,null,null,null,null,null,null,null,null,null,null,null,"女子2･3年100m",null,{"$f":"CD14","v":"女1500m"},"G","女子1500m",null,null,null,null,null,3,"",{"$f":"COUNTIF($CI$8:CI55,CI55)","v":44},"44",null,null,null,""]
[43,null,null,null,null,"",null,null,null,null,null,null,null,null,null,null,null,null,null,"校長",null,null,null,null,null,null,null,null,null,null,null,null,null,null,null,null,null,null,null,null,null,null,null,null,null,null,null,null,null,"印",null,null,null,null,null,null,null,null,null,null,null,null,null,null,null,null,null,null,null,null,null,null,null,null,null,"女子200m",null,{"$f":"CD15","v":"女100mH"},"H","女子100mH(0.762m)",null,null,null,null,null,4,"",{"$f":"COUNTIF($CI$8:CI56,CI56)","v":45},"45",null,null,null,""]
[44,null,null,null,null,"",null,null,null,null,null,null,null,null,null,null,null,null,null,null,null,null,null,null,null,null,null,null,null,null,null,null,null,null,null,null,null,null,null,null,null,null,null,null,null,null,null,null,null,null,null,null,null,null,null,null,null,null,null,null,null,null,null,null,null,null,null,null,null,null,null,null,null,null,null,"女子400m",null,{"$f":"CD16","v":"女走高跳"},"I","女子走高跳",null,null,null,null,null,5,"",{"$f":"COUNTIF($CI$8:CI57,CI57)","v":46},"46",null,null,null,""]
[45,null,null,null,null,"",null,null,null,null,null,null,null,null,null,null,null,null,null,null,null,null,null,null,null,null,null,null,null,null,null,null,null,null,null,null,null,null,null,null,null,null,null,null,null,null,null,null,null,null,null,null,null,null,null,null,null,null,null,null,null,null,null,null,null,null,null,null,null,null,null,null,null,null,null,"女子800m",null,{"$f":"CD17","v":"女走幅跳"},"J","女子走幅跳",null,null,null,null,null,6,"",{"$f":"COUNTIF($CI$8:CI58,CI58)","v":47},"47",null,null,null,""]
[null,null,null,null,null,null,null,null,null,null,null,null,null,null,null,null,null,null,null,null,null,null,null,null,null,null,null,null,null,null,null,null,null,null,null,null,null,null,null,null,null,null,null,null,null,null,null,null,null,null,null,null,null,null,null,null,null,null,null,null,null,null,null,null,null,null,null,null,null,null,null,null,null,null,null,"女子1500m",null,{"$f":"CD18","v":"女砲丸投"},"K","女子砲丸投(2.721kg)",null,null,null,null,null,7,"",{"$f":"COUNTIF($CI$8:CI59,CI59)","v":48},"48",null,null,null,""]
[null,null,null,null,null,null,null,null,null,null,null,null,null,null,null,null,null,null,null,null,null,null,null,null,null,null,null,null,null,null,null,null,null,null,null,null,null,null,null,null,null,null,null,null,null,null,null,null,null,null,null,null,null,null,null,null,null,null,null,null,null,null,null,null,null,null,null,null,null,null,null,null,null,null,null,"女子3000m",null,{"$f":"CD19","v":"女円盤投"},"L","女子円盤投(1.000kg)",null,null,null,null,null,8,"",{"$f":"COUNTIF($CI$8:CI60,CI60)","v":49},"49",null,null,null,""]
[null,null,null,null,null,null,null,null,null,null,null,null,null,null,null,null,null,null,null,null,null,null,null,null,null,null,null,null,null,null,null,null,null,null,null,null,null,null,null,null,null,null,null,null,null,null,null,null,null,null,null,null,null,null,null,null,null,null,null,null,null,null,null,null,null,null,null,null,null,null,null,null,null,null,null,"女子1年80mH",null,{"$f":"CD20","v":"女四種競技"},"M","女子四種競技",null,null,null,null,null,9,"",{"$f":"COUNTIF($CI$8:CI61,CI61)","v":50},"50",null,null,null,""]
[null,null,null,null,null,null,null,null,null,null,null,null,null,null,null,null,null,null,null,null,null,null,null,null,null,null,null,null,null,null,null,null,null,null,null,null,null,null,null,null,null,null,null,null,null,null,null,null,null,null,null,null,null,null,null,null,null,null,null,null,null,null,null,null,null,null,null,null,null,null,null,null,null,null,null,"女子100mH(0.762m)",null,{"$f":"CD21","v":"女"},"N",0,null,null,null,null,null,10,"",{"$f":"COUNTIF($CI$8:CI62,CI62)","v":51},"51",null,null,null,""]
[null,null,null,null,null,null,null,null,null,null,null,null,null,null,null,null,null,null,null,null,null,null,null,null,null,null,null,null,null,null,null,null,null,null,null,null,null,null,null,null,null,null,null,null,null,null,null,null,null,null,null,null,null,null,null,null,null,null,null,null,null,null,null,null,null,null,null,null,null,null,null,null,null,null,null,"女子4X100mR",null,{"$f":"CD22","v":"女"},"O",0,null,null,null,null,null,11,"",{"$f":"COUNTIF($CI$8:CI63,CI63)","v":52},"52",null,null,null,""]
[null,null,null,null,null,null,null,null,null,null,null,null,null,null,null,null,null,null,null,null,null,null,null,null,null,null,null,null,null,null,null,null,null,null,null,null,null,null,null,null,null,null,null,null,null,null,null,null,null,null,null,null,null,null,null,null,null,null,null,null,null,null,null,null,null,null,null,null,null,null,null,null,null,null,null,"女子走高跳",null,{"$f":"CD23","v":"女"},"P",0,null,null,null,null,null,12,"",{"$f":"COUNTIF($CI$8:CI64,CI64)","v":53},"53",null,null,null,""]
[null,null,null,null,null,null,null,null,null,null,null,null,null,null,null,null,null,null,null,null,null,null,null,null,null,null,null,null,null,null,null,null,null,null,null,null,null,null,null,null,null,null,null,null,null,null,null,null,null,null,null,null,null,null,null,null,null,null,null,null,null,null,null,null,null,null,null,null,null,null,null,null,null,null,null,"女子走幅跳",null,{"$f":"CD24","v":"女"},"Q",0,null,null,null,null,null,13,"",{"$f":"COUNTIF($CI$8:CI65,CI65)","v":54},"54",null,null,null,""]
[null,null,null,null,null,null,null,null,null,null,null,null,null,null,null,null,null,null,null,null,null,null,null,null,null,null,null,null,null,null,null,null,null,null,null,null,null,null,null,null,null,null,null,null,null,null,null,null,null,null,null,null,null,null,null,null,null,null,null,null,null,null,null,null,null,null,null,null,null,null,null,null,null,null,null,"女子砲丸投(2.721kg)",null,{"$f":"CD25","v":"女"},"R",0,null,null,null,null,null,14,"",{"$f":"COUNTIF($CI$8:CI66,CI66)","v":55},"55",null,null,null,""]
[null,null,null,null,null,null,null,null,null,null,null,null,null,null,null,null,null,null,null,null,null,null,null,null,null,null,null,null,null,null,null,null,null,null,null,null,null,null,null,null,null,null,null,null,null,null,null,null,null,null,null,null,null,null,null,null,null,null,null,null,null,null,null,null,null,null,null,null,null,null,null,null,null,null,null,"女子円盤投(1.000kg)",null,{"$f":"CD26","v":"女"},"S",0,null,null,null,null,null,15,"",{"$f":"COUNTIF($CI$8:CI67,CI67)","v":56},"56",null,null,null,""]
[null,null,null,null,null,null,null,null,null,null,null,null,null,null,null,null,null,null,null,null,null,null,null,null,null,null,null,null,null,null,null,null,null,null,null,null,null,null,null,null,null,null,null,null,null,null,null,null,null,null,null,null,null,null,null,null,null,null,null,null,null,null,null,null,null,null,null,null,null,null,null,null,null,null,null,"女子ｼﾞｬﾍﾞﾘｯｸｽﾛｰ",null,{"$f":"CD27","v":"女"},"T",0,null,null,null,null,null,16,"",{"$f":"COUNTIF($CI$8:CI68,CI68)","v":57},"57",null,null,null,""]
[null,null,null,null,null,null,null,null,null,null,null,null,null,null,null,null,null,null,null,null,null,null,null,null,null,null,null,null,null,null,null,null,null,null,null,null,null,null,null,null,null,null,null,null,null,null,null,null,null,null,null,null,null,null,null,null,null,null,null,null,null,null,null,null,null,null,null,null,null,null,null,null,null,null,null,"女子四種競技",null,null,null,null,null,null,null,null,null,17,"",{"$f":"COUNTIF($CI$8:CI69,CI69)","v":58},"58",null,null,null,""]
[null,null,null,null,null,null,null,null,null,null,null,null,null,null,null,null,null,null,null,null,null,null,null,null,null,null,null,null,null,null,null,null,null,null,null,null,null,null,null,null,null,null,null,null,null,null,null,null,null,null,null,null,null,null,null,null,null,null,null,null,null,null,null,null,null,null,null,null,null,null,null,null,null,null,null,null,null,null,null,null,null,null,null,null,null,18,"",{"$f":"COUNTIF($CI$8:CI70,CI70)","v":59},"59",null,null,null,""]
[null,null,null,null,null,null,null,null,null,null,null,null,null,null,null,null,null,null,null,null,null,null,null,null,null,null,null,null,null,null,null,null,null,null,null,null,null,null,null,null,null,null,null,null,null,null,null,null,null,null,null,null,null,null,null,null,null,null,null,null,null,null,null,null,null,null,null,null,null,null,null,null,null,null,null,null,null,null,null,null,null,null,null,null,null,19,"",{"$f":"COUNTIF($CI$8:CI71,CI71)","v":60},"60",null,null,null,""]
[null,null,null,null,null,null,null,null,null,null,null,null,null,null,null,null,null,null,null,null,null,null,null,null,null,null,null,null,null,null,null,null,null,null,null,null,null,null,null,null,null,null,null,null,null,null,null,null,null,null,null,null,null,null,null,null,null,null,null,null,null,null,null,null,null,null,null,null,null,null,null,null,null,null,null,null,null,null,null,null,null,null,null,null,null,20,"",{"$f":"COUNTIF($CI$8:CI72,CI72)","v":61},"61",null,null,null,""]
[null,null,null,null,null,null,null,null,null,null,null,null,null,null,null,null,null,null,null,null,null,null,null,null,null,null,null,null,null,null,null,null,null,null,null,null,null,null,null,null,null,null,null,null,null,null,null,null,null,null,null,null,null,null,null,null,null,null,null,null,null,null,null,null,null,null,null,null,null,null,null,null,null,null,null,null,null,null,null,null,null,null,null,null,null,21,"",{"$f":"COUNTIF($CI$8:CI73,CI73)","v":62},{"$f":"CJ73&CI73","v":"62"},null,null,null,""]
[null,null,null,null,null,null,null,null,null,null,null,null,null,null,null,null,null,null,null,null,null,null,null,null,null,null,null,null,null,null,null,null,null,null,null,null,null,null,null,null,null,null,null,null,null,null,null,null,null,null,null,null,null,null,null,null,null,null,null,null,null,null,null,null,null,null,null,null,null,null,null,null,null,null,null,null,null,null,null,null,null,null,null,null,null,22,"",{"$f":"COUNTIF($CI$8:CI74,CI74)","v":63},"63",null,null,null,""]
[null,null,null,null,null,null,null,null,null,null,null,null,null,null,null,null,null,null,null,null,null,null,null,null,null,null,null,null,null,null,null,null,null,null,null,null,null,null,null,null,null,null,null,null,null,null,null,null,null,null,null,null,null,null,null,null,null,null,null,null,null,null,null,null,null,null,null,null,null,null,null,null,null,null,null,null,null,null,null,null,null,null,null,null,null,23,"",{"$f":"COUNTIF($CI$8:CI75,CI75)","v":64},"64",null,null,null,""]
[null,null,null,null,null,null,null,null,null,null,null,null,null,null,null,null,null,null,null,null,null,null,null,null,null,null,null,null,null,null,null,null,null,null,null,null,null,null,null,null,null,null,null,null,null,null,null,null,null,null,null,null,null,null,null,null,null,null,null,null,null,null,null,null,null,null,null,null,null,null,null,null,null,null,null,null,null,null,null,null,null,null,null,null,null,24,"",{"$f":"COUNTIF($CI$8:CI76,CI76)","v":65},"65",null,null,null,""]
[null,null,null,null,null,null,null,null,null,null,null,null,null,null,null,null,null,null,null,null,null,null,null,null,null,null,null,null,null,null,null,null,null,null,null,null,null,null,null,null,null,null,null,null,null,null,null,null,null,null,null,null,null,null,null,null,null,null,null,null,null,null,null,null,null,null,null,null,null,null,null,null,null,null,null,null,null,null,null,null,null,null,null,null,null,25,"",{"$f":"COUNTIF($CI$8:CI77,CI77)","v":66},"66",null,null,null,""]
[null,null,null,null,null,null,null,null,null,null,null,null,null,null,null,null,null,null,null,null,null,null,null,null,null,null,null,null,null,null,null,null,null,null,null,null,null,null,null,null,null,null,null,null,null,null,null,null,null,null,null,null,null,null,null,null,null,null,null,null,null,null,null,null,null,null,null,null,null,null,null,null,null,null,null,null,null,null,null,null,null,null,null,null,null,26,"",{"$f":"COUNTIF($CI$8:CI78,CI78)","v":67},"67",null,null,null,""]
[null,null,null,null,null,null,null,null,null,null,null,null,null,null,null,null,null,null,null,null,null,null,null,null,null,null,null,null,null,null,null,null,null,null,null,null,null,null,null,null,null,null,null,null,null,null,null,null,null,null,null,null,null,null,null,null,null,null,null,null,null,null,null,null,null,null,null,null,null,null,null,null,null,null,null,null,null,null,null,null,null,null,null,null,null,27,"",{"$f":"COUNTIF($CI$8:CI79,CI79)","v":68},"68",null,null,null,""]
[null,null,null,null,null,null,null,null,null,null,null,null,null,null,null,null,null,null,null,null,null,null,null,null,null,null,null,null,null,null,null,null,null,null,null,null,null,null,null,null,null,null,null,null,null,null,null,null,null,null,null,null,null,null,null,null,null,null,null,null,null,null,null,null,null,null,null,null,null,null,null,null,null,null,null,null,null,null,null,null,null,null,null,null,null,28,"",{"$f":"COUNTIF($CI$8:CI80,CI80)","v":69},"69",null,null,null,""]
[null,null,null,null,null,null,null,null,null,null,null,null,null,null,null,null,null,null,null,null,null,null,null,null,null,null,null,null,null,null,null,null,null,null,null,null,null,null,null,null,null,null,null,null,null,null,null,null,null,null,null,null,null,null,null,null,null,null,null,null,null,null,null,null,null,null,null,null,null,null,null,null,null,null,null,null,null,null,null,null,null,null,null,null,null,29,"",{"$f":"COUNTIF($CI$8:CI81,CI81)","v":70},"70",null,null,null,""]
[null,null,null,null,null,null,null,null,null,null,null,null,null,null,null,null,null,null,null,null,null,null,null,null,null,null,null,null,null,null,null,null,null,null,null,null,null,null,null,null,null,null,null,null,null,null,null,null,null,null,null,null,null,null,null,null,null,null,null,null,null,null,null,null,null,null,null,null,null,null,null,null,null,null,null,null,null,null,null,null,null,null,null,null,null,30,"",{"$f":"COUNTIF($CI$8:CI82,CI82)","v":71},"71",null,null,null,""]
[null,null,null,null,null,null,null,null,null,null,null,null,null,null,null,null,null,null,null,null,null,null,null,null,null,null,null,null,null,null,null,null,null,null,null,null,null,null,null,null,null,null,null,null,null,null,null,null,null,null,null,null,null,null,null,null,null,null,null,null,null,null,null,null,null,null,null,null,null,null,null,null,null,null,null,null,null,null,null,null,null,null,null,null,null,31,"",{"$f":"COUNTIF($CI$8:CI83,CI83)","v":72},"72",null,null,null,""]
[null,null,null,null,null,null,null,null,null,null,null,null,null,null,null,null,null,null,null,null,null,null,null,null,null,null,null,null,null,null,null,null,null,null,null,null,null,null,null,null,null,null,null,null,null,null,null,null,null,null,null,null,null,null,null,null,null,null,null,null,null,null,null,null,null,null,null,null,null,null,null,null,null,null,null,null,null,null,null,null,null,null,null,null,null,32,"",{"$f":"COUNTIF($CI$8:CI84,CI84)","v":73},"73",null,null,null,""]
[null,null,null,null,null,null,null,null,null,null,null,null,null,null,null,null,null,null,null,null,null,null,null,null,null,null,null,null,null,null,null,null,null,null,null,null,null,null,null,null,null,null,null,null,null,null,null,null,null,null,null,null,null,null,null,null,null,null,null,null,null,null,null,null,null,null,null,null,null,null,null,null,null,null,null,null,null,null,null,null,null,null,null,null,null,33,"",{"$f":"COUNTIF($CI$8:CI85,CI85)","v":74},"74",null,null,null,""]
[null,null,null,null,null,null,null,null,null,null,null,null,null,null,null,null,null,null,null,null,null,null,null,null,null,null,null,null,null,null,null,null,null,null,null,null,null,null,null,null,null,null,null,null,null,null,null,null,null,null,null,null,null,null,null,null,null,null,null,null,null,null,null,null,null,null,null,null,null,null,null,null,null,null,null,null,null,null,null,null,null,null,null,null,null,34,"",{"$f":"COUNTIF($CI$8:CI86,CI86)","v":75},"75",null,null,null,""]
[null,null,null,null,null,null,null,null,null,null,null,null,null,null,null,null,null,null,null,null,null,null,null,null,null,null,null,null,null,null,null,null,null,null,null,null,null,null,null,null,null,null,null,null,null,null,null,null,null,null,null,null,null,null,null,null,null,null,null,null,null,null,null,null,null,null,null,null,null,null,null,null,null,null,null,null,null,null,null,null,null,null,null,null,null,35,"",{"$f":"COUNTIF($CI$8:CI87,CI87)","v":76},"76",null,null,null,""]
[null,null,null,null,null,null,null,null,null,null,null,null,null,null,null,null,null,null,null,null,null,null,null,null,null,null,null,null,null,null,null,null,null,null,null,null,null,null,null,null,null,null,null,null,null,null,null,null,null,null,null,null,null,null,null,null,null,null,null,null,null,null,null,null,null,null,null,null,null,null,null,null,null,null,null,null,null,null,null,null,null,null,null,null,null,36,"",{"$f":"COUNTIF($CI$8:CI88,CI88)","v":77},"77",null,null,null,""]
[null,null,null,null,null,null,null,null,null,null,null,null,null,null,null,null,null,null,null,null,null,null,null,null,null,null,null,null,null,null,null,null,null,null,null,null,null,null,null,null,null,null,null,null,null,null,null,null,null,null,null,null,null,null,null,null,null,null,null,null,null,null,null,null,null,null,null,null,null,null,null,null,null,null,null,null,null,null,null,null,null,null,null,null,null,37,"",{"$f":"COUNTIF($CI$8:CI89,CI89)","v":78},"78",null,null,null,""]
[null,null,null,null,null,null,null,null,null,null,null,null,null,null,null,null,null,null,null,null,null,null,null,null,null,null,null,null,null,null,null,null,null,null,null,null,null,null,null,null,null,null,null,null,null,null,null,null,null,null,null,null,null,null,null,null,null,null,null,null,null,null,null,null,null,null,null,null,null,null,null,null,null,null,null,null,null,null,null,null,null,null,null,null,null,38,"",{"$f":"COUNTIF($CI$8:CI90,CI90)","v":79},"79",null,null,null,""]
[null,null,null,null,null,null,null,null,null,null,null,null,null,null,null,null,null,null,null,null,null,null,null,null,null,null,null,null,null,null,null,null,null,null,null,null,null,null,null,null,null,null,null,null,null,null,null,null,null,null,null,null,null,null,null,null,null,null,null,null,null,null,null,null,null,null,null,null,null,null,null,null,null,null,null,null,null,null,null,null,null,null,null,null,null,39,"",{"$f":"COUNTIF($CI$8:CI91,CI91)","v":80},"80",null,null,null,""]
[null,null,null,null,null,null,null,null,null,null,null,null,null,null,null,null,null,null,null,null,null,null,null,null,null,null,null,null,null,null,null,null,null,null,null,null,null,null,null,null,null,null,null,null,null,null,null,null,null,null,null,null,null,null,null,null,null,null,null,null,null,null,null,null,null,null,null,null,null,null,null,null,null,null,null,null,null,null,null,null,null,null,null,null,null,40,"",{"$f":"COUNTIF($CI$8:CI92,CI92)","v":81},"81",null,null,null,""]
[null,null,null,null,null,null,null,null,null,null,null,null,null,null,null,null,null,null,null,null,null,null,null,null,null,null,null,null,null,null,null,null,null,null,null,null,null,null,null,null,null,null,null,null,null,null,null,null,null,null,null,null,null,null,null,null,null,null,null,null,null,null,null,null,null,null,null,null,null,null,null,null,null,null,null,null,null,null,null,null,null,null,null,null,null,41,"",{"$f":"COUNTIF($CI$8:CI93,CI93)","v":82},"82",null,null,null,""]
[null,null,null,null,null,null,null,null,null,null,null,null,null,null,null,null,null,null,null,null,null,null,null,null,null,null,null,null,null,null,null,null,null,null,null,null,null,null,null,null,null,null,null,null,null,null,null,null,null,null,null,null,null,null,null,null,null,null,null,null,null,null,null,null,null,null,null,null,null,null,null,null,null,null,null,null,null,null,null,null,null,null,null,null,null,42,"",{"$f":"COUNTIF($CI$8:CI94,CI94)","v":83},"83",null,null,null,""]
[null,null,null,null,null,null,null,null,null,null,null,null,null,null,null,null,null,null,null,null,null,null,null,null,null,null,null,null,null,null,null,null,null,null,null,null,null,null,null,null,null,null,null,null,null,null,null,null,null,null,null,null,null,null,null,null,null,null,null,null,null,null,null,null,null,null,null,null,null,null,null,null,null,null,null,null,null,null,null,null,null,null,null,null,null,43,"",{"$f":"COUNTIF($CI$8:CI95,CI95)","v":84},"84",null,null,null,""]
[null,null,null,null,null,null,null,null,null,null,null,null,null,null,null,null,null,null,null,null,null,null,null,null,null,null,null,null,null,null,null,null,null,null,null,null,null,null,null,null,null,null,null,null,null,null,null,null,null,null,null,null,null,null,null,null,null,null,null,null,null,null,null,null,null,null,null,null,null,null,null,null,null,null,null,null,null,null,null,null,null,null,null,null,null,44,"",{"$f":"COUNTIF($CI$8:CI96,CI96)","v":85},"85",null,null,null,""]
[null,null,null,null,null,null,null,null,null,null,null,null,null,null,null,null,null,null,null,null,null,null,null,null,null,null,null,null,null,null,null,null,null,null,null,null,null,null,null,null,null,null,null,null,null,null,null,null,null,null,null,null,null,null,null,null,null,null,null,null,null,null,null,null,null,null,null,null,null,null,null,null,null,null,null,null,null,null,null,null,null,null,null,null,null,45,"",{"$f":"COUNTIF($CI$8:CI97,CI97)","v":86},"86",null,null,null,""]

{"sheet":"事務局シート","index":3,"n_rows":46,"n_cols":13,"rows_kept":46,"cut":false,"hidden":false,"merged":[]}
[null,"学校名","性","NC","氏名","生年","ﾌﾘｶﾞﾅ","学年","種目","ベスト","種目","ベスト","R"]
[1,{"$f":"IF(C2=\"\",\"\",申込書!$D$8)","v":"北見常呂中"},{"$f":"IF(申込書!B14=\"\",\"\",申込書!B14)","v":"女"},{"$f":"IF(申込書!C14=\"\",\"\",申込書!C14)","v":""},{"$f":"IF(申込書!D14=\"\",\"\",申込書!D14)","v":""},{"$f":"RIGHT(申込書!E14,2)","v":""},{"$f":"申込書!F14","v":""},{"$f":"RIGHT(申込書!G14,1)","v":""},{"$f":"IF(ISERROR(VLOOKUP(申込書!B14&申込書!H14,申込書!$BZ$29:$CB$68,3,FALSE)),\"\",VLOOKUP(申込書!B14&申込書!H14,申込書!$BZ$29:$CB$68,3,FALSE))","v":0},{"$f":"IF(申込書!J14=\"\",\"\",申込書!J14)","v":""},{"$f":"IF(ISERROR(VLOOKUP(申込書!B14&申込書!K14,申込書!$BZ$29:$CB$68,3,FALSE)),\"\",VLOOKUP(申込書!B14&申込書!K14,申込書!$BZ$29:$CB$68,3,FALSE))","v":0},{"$f":"IF(申込書!L14=\"\",\"\",申込書!L14)","v":""},{"$f":"IF(申込書!M14=\"\",\"\",申込書!M14)","v":""}]
[2,{"$f":"IF(C3=\"\",\"\",申込書!$D$8)","v":"北見常呂中"},{"$f":"IF(申込書!B15=\"\",\"\",申込書!B15)","v":"男"},{"$f":"IF(申込書!C15=\"\",\"\",申込書!C15)","v":""},{"$f":"IF(申込書!D15=\"\",\"\",申込書!D15)","v":""},{"$f":"RIGHT(申込書!E15,2)","v":""},{"$f":"申込書!F15","v":""},{"$f":"RIGHT(申込書!G15,1)","v":""},{"$f":"IF(ISERROR(VLOOKUP(申込書!B15&申込書!H15,申込書!$BZ$29:$CB$68,3,FALSE)),\"\",VLOOKUP(申込書!B15&申込書!H15,申込書!$BZ$29:$CB$68,3,FALSE))","v":0},{"$f":"IF(申込書!J15=\"\",\"\",申込書!J15)","v":""},{"$f":"IF(ISERROR(VLOOKUP(申込書!B15&申込書!K15,申込書!$BZ$29:$CB$68,3,FALSE)),\"\",VLOOKUP(申込書!B15&申込書!K15,申込書!$BZ$29:$CB$68,3,FALSE))","v":0},{"$f":"IF(申込書!L15=\"\",\"\",申込書!L15)","v":""},{"$f":"IF(申込書!M15=\"\",\"\",申込書!M15)","v":""}]
[3,{"$f":"IF(C4=\"\",\"\",申込書!$D$8)","v":""},{"$f":"IF(申込書!B16=\"\",\"\",申込書!B16)","v":""},{"$f":"IF(申込書!C16=\"\",\"\",申込書!C16)","v":""},{"$f":"IF(申込書!D16=\"\",\"\",申込書!D16)","v":""},{"$f":"RIGHT(申込書!E16,2)","v":""},{"$f":"申込書!F16","v":""},{"$f":"RIGHT(申込書!G16,1)","v":""},{"$f":"IF(ISERROR(VLOOKUP(申込書!B16&申込書!H16,申込書!$BZ$29:$CB$68,3,FALSE)),\"\",VLOOKUP(申込書!B16&申込書!H16,申込書!$BZ$29:$CB$68,3,FALSE))","v":""},{"$f":"IF(申込書!J16=\"\",\"\",申込書!J16)","v":""},{"$f":"IF(ISERROR(VLOOKUP(申込書!B16&申込書!K16,申込書!$BZ$29:$CB$68,3,FALSE)),\"\",VLOOKUP(申込書!B16&申込書!K16,申込書!$BZ$29:$CB$68,3,FALSE))","v":""},{"$f":"IF(申込書!L16=\"\",\"\",申込書!L16)","v":""},{"$f":"IF(申込書!M16=\"\",\"\",申込書!M16)","v":""}]
[4,{"$f":"IF(C5=\"\",\"\",申込書!$D$8)","v":""},{"$f":"IF(申込書!B17=\"\",\"\",申込書!B17)","v":""},{"$f":"IF(申込書!C17=\"\",\"\",申込書!C17)","v":""},{"$f":"IF(申込書!D17=\"\",\"\",申込書!D17)","v":""},{"$f":"RIGHT(申込書!E17,2)","v":""},{"$f":"申込書!F17","v":""},{"$f":"RIGHT(申込書!G17,1)","v":""},{"$f":"IF(ISERROR(VLOOKUP(申込書!B17&申込書!H17,申込書!$BZ$29:$CB$68,3,FALSE)),\"\",VLOOKUP(申込書!B17&申込書!H17,申込書!$BZ$29:$CB$68,3,FALSE))","v":""},{"$f":"IF(申込書!J17=\"\",\"\",申込書!J17)","v":""},{"$f":"IF(ISERROR(VLOOKUP(申込書!B17&申込書!K17,申込書!$BZ$29:$CB$68,3,FALSE)),\"\",VLOOKUP(申込書!B17&申込書!K17,申込書!$BZ$29:$CB$68,3,FALSE))","v":""},{"$f":"IF(申込書!L17=\"\",\"\",申込書!L17)","v":""},{"$f":"IF(申込書!M17=\"\",\"\",申込書!M17)","v":""}]
[5,{"$f":"IF(C6=\"\",\"\",申込書!$D$8)","v":""},{"$f":"IF(申込書!B18=\"\",\"\",申込書!B18)","v":""},{"$f":"IF(申込書!C18=\"\",\"\",申込書!C18)","v":""},{"$f":"IF(申込書!D18=\"\",\"\",申込書!D18)","v":""},{"$f":"RIGHT(申込書!E18,2)","v":""},{"$f":"申込書!F18","v":""},{"$f":"RIGHT(申込書!G18,1)","v":""},{"$f":"IF(ISERROR(VLOOKUP(申込書!B18&申込書!H18,申込書!$BZ$29:$CB$68,3,FALSE)),\"\",VLOOKUP(申込書!B18&申込書!H18,申込書!$BZ$29:$CB$68,3,FALSE))","v":""},{"$f":"IF(申込書!J18=\"\",\"\",申込書!J18)","v":""},{"$f":"IF(ISERROR(VLOOKUP(申込書!B18&申込書!K18,申込書!$BZ$29:$CB$68,3,FALSE)),\"\",VLOOKUP(申込書!B18&申込書!K18,申込書!$BZ$29:$CB$68,3,FALSE))","v":""},{"$f":"IF(申込書!L18=\"\",\"\",申込書!L18)","v":""},{"$f":"IF(申込書!M18=\"\",\"\",申込書!M18)","v":""}]
[6,{"$f":"IF(C7=\"\",\"\",申込書!$D$8)","v":""},{"$f":"IF(申込書!B19=\"\",\"\",申込書!B19)","v":""},{"$f":"IF(申込書!C19=\"\",\"\",申込書!C19)","v":""},{"$f":"IF(申込書!D19=\"\",\"\",申込書!D19)","v":""},{"$f":"RIGHT(申込書!E19,2)","v":""},{"$f":"申込書!F19","v":""},{"$f":"RIGHT(申込書!G19,1)","v":""},{"$f":"IF(ISERROR(VLOOKUP(申込書!B19&申込書!H19,申込書!$BZ$29:$CB$68,3,FALSE)),\"\",VLOOKUP(申込書!B19&申込書!H19,申込書!$BZ$29:$CB$68,3,FALSE))","v":""},{"$f":"IF(申込書!J19=\"\",\"\",申込書!J19)","v":""},{"$f":"IF(ISERROR(VLOOKUP(申込書!B19&申込書!K19,申込書!$BZ$29:$CB$68,3,FALSE)),\"\",VLOOKUP(申込書!B19&申込書!K19,申込書!$BZ$29:$CB$68,3,FALSE))","v":""},{"$f":"IF(申込書!L19=\"\",\"\",申込書!L19)","v":""},{"$f":"IF(申込書!M19=\"\",\"\",申込書!M19)","v":""}]
[7,{"$f":"IF(C8=\"\",\"\",申込書!$D$8)","v":""},{"$f":"IF(申込書!B20=\"\",\"\",申込書!B20)","v":""},{"$f":"IF(申込書!C20=\"\",\"\",申込書!C20)","v":""},{"$f":"IF(申込書!D20=\"\",\"\",申込書!D20)","v":""},{"$f":"RIGHT(申込書!E20,2)","v":""},{"$f":"申込書!F20","v":""},{"$f":"RIGHT(申込書!G20,1)","v":""},{"$f":"IF(ISERROR(VLOOKUP(申込書!B20&申込書!H20,申込書!$BZ$29:$CB$68,3,FALSE)),\"\",VLOOKUP(申込書!B20&申込書!H20,申込書!$BZ$29:$CB$68,3,FALSE))","v":""},{"$f":"IF(申込書!J20=\"\",\"\",申込書!J20)","v":""},{"$f":"IF(ISERROR(VLOOKUP(申込書!B20&申込書!K20,申込書!$BZ$29:$CB$68,3,FALSE)),\"\",VLOOKUP(申込書!B20&申込書!K20,申込書!$BZ$29:$CB$68,3,FALSE))","v":""},{"$f":"IF(申込書!L20=\"\",\"\",申込書!L20)","v":""},{"$f":"IF(申込書!M20=\"\",\"\",申込書!M20)","v":""}]
[8,{"$f":"IF(C9=\"\",\"\",申込書!$D$8)","v":""},{"$f":"IF(申込書!B21=\"\",\"\",申込書!B21)","v":""},{"$f":"IF(申込書!C21=\"\",\"\",申込書!C21)","v":""},{"$f":"IF(申込書!D21=\"\",\"\",申込書!D21)","v":""},{"$f":"RIGHT(申込書!E21,2)","v":""},{"$f":"申込書!F21","v":""},{"$f":"RIGHT(申込書!G21,1)","v":""},{"$f":"IF(ISERROR(VLOOKUP(申込書!B21&申込書!H21,申込書!$BZ$29:$CB$68,3,FALSE)),\"\",VLOOKUP(申込書!B21&申込書!H21,申込書!$BZ$29:$CB$68,3,FALSE))","v":""},{"$f":"IF(申込書!J21=\"\",\"\",申込書!J21)","v":""},{"$f":"IF(ISERROR(VLOOKUP(申込書!B21&申込書!K21,申込書!$BZ$29:$CB$68,3,FALSE)),\"\",VLOOKUP(申込書!B21&申込書!K21,申込書!$BZ$29:$CB$68,3,FALSE))","v":""},{"$f":"IF(申込書!L21=\"\",\"\",申込書!L21)","v":""},{"$f":"IF(申込書!M21=\"\",\"\",申込書!M21)","v":""}]
[9,{"$f":"IF(C10=\"\",\"\",申込書!$D$8)","v":""},{"$f":"IF(申込書!B22=\"\",\"\",申込書!B22)","v":""},{"$f":"IF(申込書!C22=\"\",\"\",申込書!C22)","v":""},{"$f":"IF(申込書!D22=\"\",\"\",申込書!D22)","v":""},{"$f":"RIGHT(申込書!E22,2)","v":""},{"$f":"申込書!F22","v":""},{"$f":"RIGHT(申込書!G22,1)","v":""},{"$f":"IF(ISERROR(VLOOKUP(申込書!B22&申込書!H22,申込書!$BZ$29:$CB$68,3,FALSE)),\"\",VLOOKUP(申込書!B22&申込書!H22,申込書!$BZ$29:$CB$68,3,FALSE))","v":""},{"$f":"IF(申込書!J22=\"\",\"\",申込書!J22)","v":""},{"$f":"IF(ISERROR(VLOOKUP(申込書!B22&申込書!K22,申込書!$BZ$29:$CB$68,3,FALSE)),\"\",VLOOKUP(申込書!B22&申込書!K22,申込書!$BZ$29:$CB$68,3,FALSE))","v":""},{"$f":"IF(申込書!L22=\"\",\"\",申込書!L22)","v":""},{"$f":"IF(申込書!M22=\"\",\"\",申込書!M22)","v":""}]
[10,{"$f":"IF(C11=\"\",\"\",申込書!$D$8)","v":""},{"$f":"IF(申込書!B23=\"\",\"\",申込書!B23)","v":""},{"$f":"IF(申込書!C23=\"\",\"\",申込書!C23)","v":""},{"$f":"IF(申込書!D23=\"\",\"\",申込書!D23)","v":""},{"$f":"RIGHT(申込書!E23,2)","v":""},{"$f":"申込書!F23","v":""},{"$f":"RIGHT(申込書!G23,1)","v":""},{"$f":"IF(ISERROR(VLOOKUP(申込書!B23&申込書!H23,申込書!$BZ$29:$CB$68,3,FALSE)),\"\",VLOOKUP(申込書!B23&申込書!H23,申込書!$BZ$29:$CB$68,3,FALSE))","v":""},{"$f":"IF(申込書!J23=\"\",\"\",申込書!J23)","v":""},{"$f":"IF(ISERROR(VLOOKUP(申込書!B23&申込書!K23,申込書!$BZ$29:$CB$68,3,FALSE)),\"\",VLOOKUP(申込書!B23&申込書!K23,申込書!$BZ$29:$CB$68,3,FALSE))","v":""},{"$f":"IF(申込書!L23=\"\",\"\",申込書!L23)","v":""},{"$f":"IF(申込書!M23=\"\",\"\",申込書!M23)","v":""}]
[11,{"$f":"IF(C12=\"\",\"\",申込書!$D$8)","v":""},{"$f":"IF(申込書!B24=\"\",\"\",申込書!B24)","v":""},{"$f":"IF(申込書!C24=\"\",\"\",申込書!C24)","v":""},{"$f":"IF(申込書!D24=\"\",\"\",申込書!D24)","v":""},{"$f":"RIGHT(申込書!E24,2)","v":""},{"$f":"申込書!F24","v":""},{"$f":"RIGHT(申込書!G24,1)","v":""},{"$f":"IF(ISERROR(VLOOKUP(申込書!B24&申込書!H24,申込書!$BZ$29:$CB$68,3,FALSE)),\"\",VLOOKUP(申込書!B24&申込書!H24,申込書!$BZ$29:$CB$68,3,FALSE))","v":""},{"$f":"IF(申込書!J24=\"\",\"\",申込書!J24)","v":""},{"$f":"IF(ISERROR(VLOOKUP(申込書!B24&申込書!K24,申込書!$BZ$29:$CB$68,3,FALSE)),\"\",VLOOKUP(申込書!B24&申込書!K24,申込書!$BZ$29:$CB$68,3,FALSE))","v":""},{"$f":"IF(申込書!L24=\"\",\"\",申込書!L24)","v":""},{"$f":"IF(申込書!M24=\"\",\"\",申込書!M24)","v":""}]
[12,{"$f":"IF(C13=\"\",\"\",申込書!$D$8)","v":""},{"$f":"IF(申込書!B25=\"\",\"\",申込書!B25)","v":""},{"$f":"IF(申込書!C25=\"\",\"\",申込書!C25)","v":""},{"$f":"IF(申込書!D25=\"\",\"\",申込書!D25)","v":""},{"$f":"RIGHT(申込書!E25,2)","v":""},{"$f":"申込書!F25","v":""},{"$f":"RIGHT(申込書!G25,1)","v":""},{"$f":"IF(ISERROR(VLOOKUP(申込書!B25&申込書!H25,申込書!$BZ$29:$CB$68,3,FALSE)),\"\",VLOOKUP(申込書!B25&申込書!H25,申込書!$BZ$29:$CB$68,3,FALSE))","v":""},{"$f":"IF(申込書!J25=\"\",\"\",申込書!J25)","v":""},{"$f":"IF(ISERROR(VLOOKUP(申込書!B25&申込書!K25,申込書!$BZ$29:$CB$68,3,FALSE)),\"\",VLOOKUP(申込書!B25&申込書!K25,申込書!$BZ$29:$CB$68,3,FALSE))","v":""},{"$f":"IF(申込書!L25=\"\",\"\",申込書!L25)","v":""},{"$f":"IF(申込書!M25=\"\",\"\",申込書!M25)","v":""}]
[13,{"$f":"IF(C14=\"\",\"\",申込書!$D$8)","v":""},{"$f":"IF(申込書!B26=\"\",\"\",申込書!B26)","v":""},{"$f":"IF(申込書!C26=\"\",\"\",申込書!C26)","v":""},{"$f":"IF(申込書!D26=\"\",\"\",申込書!D26)","v":""},{"$f":"RIGHT(申込書!E26,2)","v":""},{"$f":"申込書!F26","v":""},{"$f":"RIGHT(申込書!G26,1)","v":""},{"$f":"IF(ISERROR(VLOOKUP(申込書!B26&申込書!H26,申込書!$BZ$29:$CB$68,3,FALSE)),\"\",VLOOKUP(申込書!B26&申込書!H26,申込書!$BZ$29:$CB$68,3,FALSE))","v":""},{"$f":"IF(申込書!J26=\"\",\"\",申込書!J26)","v":""},{"$f":"IF(ISERROR(VLOOKUP(申込書!B26&申込書!K26,申込書!$BZ$29:$CB$68,3,FALSE)),\"\",VLOOKUP(申込書!B26&申込書!K26,申込書!$BZ$29:$CB$68,3,FALSE))","v":""},{"$f":"IF(申込書!L26=\"\",\"\",申込書!L26)","v":""},{"$f":"IF(申込書!M26=\"\",\"\",申込書!M26)","v":""}]
[14,{"$f":"IF(C15=\"\",\"\",申込書!$D$8)","v":""},{"$f":"IF(申込書!B27=\"\",\"\",申込書!B27)","v":""},{"$f":"IF(申込書!C27=\"\",\"\",申込書!C27)","v":""},{"$f":"IF(申込書!D27=\"\",\"\",申込書!D27)","v":""},{"$f":"RIGHT(申込書!E27,2)","v":""},{"$f":"申込書!F27","v":""},{"$f":"RIGHT(申込書!G27,1)","v":""},{"$f":"IF(ISERROR(VLOOKUP(申込書!B27&申込書!H27,申込書!$BZ$29:$CB$68,3,FALSE)),\"\",VLOOKUP(申込書!B27&申込書!H27,申込書!$BZ$29:$CB$68,3,FALSE))","v":""},{"$f":"IF(申込書!J27=\"\",\"\",申込書!J27)","v":""},{"$f":"IF(ISERROR(VLOOKUP(申込書!B27&申込書!K27,申込書!$BZ$29:$CB$68,3,FALSE)),\"\",VLOOKUP(申込書!B27&申込書!K27,申込書!$BZ$29:$CB$68,3,FALSE))","v":""},{"$f":"IF(申込書!L27=\"\",\"\",申込書!L27)","v":""},{"$f":"IF(申込書!M27=\"\",\"\",申込書!M27)","v":""}]
[15,{"$f":"IF(C16=\"\",\"\",申込書!$D$8)","v":""},{"$f":"IF(申込書!B28=\"\",\"\",申込書!B28)","v":""},{"$f":"IF(申込書!C28=\"\",\"\",申込書!C28)","v":""},{"$f":"IF(申込書!D28=\"\",\"\",申込書!D28)","v":""},{"$f":"RIGHT(申込書!E28,2)","v":""},{"$f":"申込書!F28","v":""},{"$f":"RIGHT(申込書!G28,1)","v":""},{"$f":"IF(ISERROR(VLOOKUP(申込書!B28&申込書!H28,申込書!$BZ$29:$CB$68,3,FALSE)),\"\",VLOOKUP(申込書!B28&申込書!H28,申込書!$BZ$29:$CB$68,3,FALSE))","v":""},{"$f":"IF(申込書!J28=\"\",\"\",申込書!J28)","v":""},{"$f":"IF(ISERROR(VLOOKUP(申込書!B28&申込書!K28,申込書!$BZ$29:$CB$68,3,FALSE)),\"\",VLOOKUP(申込書!B28&申込書!K28,申込書!$BZ$29:$CB$68,3,FALSE))","v":""},{"$f":"IF(申込書!L28=\"\",\"\",申込書!L28)","v":""},{"$f":"IF(申込書!M28=\"\",\"\",申込書!M28)","v":""}]
[16,{"$f":"IF(C17=\"\",\"\",申込書!$D$8)","v":""},{"$f":"IF(申込書!B29=\"\",\"\",申込書!B29)","v":""},{"$f":"IF(申込書!C29=\"\",\"\",申込書!C29)","v":""},{"$f":"IF(申込書!D29=\"\",\"\",申込書!D29)","v":""},{"$f":"RIGHT(申込書!E29,2)","v":""},{"$f":"申込書!F29","v":""},{"$f":"RIGHT(申込書!G29,1)","v":""},{"$f":"IF(ISERROR(VLOOKUP(申込書!B29&申込書!H29,申込書!$BZ$29:$CB$68,3,FALSE)),\"\",VLOOKUP(申込書!B29&申込書!H29,申込書!$BZ$29:$CB$68,3,FALSE))","v":""},{"$f":"IF(申込書!J29=\"\",\"\",申込書!J29)","v":""},{"$f":"IF(ISERROR(VLOOKUP(申込書!B29&申込書!K29,申込書!$BZ$29:$CB$68,3,FALSE)),\"\",VLOOKUP(申込書!B29&申込書!K29,申込書!$BZ$29:$CB$68,3,FALSE))","v":""},{"$f":"IF(申込書!L29=\"\",\"\",申込書!L29)","v":""},{"$f":"IF(申込書!M29=\"\",\"\",申込書!M29)","v":""}]
[17,{"$f":"IF(C18=\"\",\"\",申込書!$D$8)","v":""},{"$f":"IF(申込書!B30=\"\",\"\",申込書!B30)","v":""},{"$f":"IF(申込書!C30=\"\",\"\",申込書!C30)","v":""},{"$f":"IF(申込書!D30=\"\",\"\",申込書!D30)","v":""},{"$f":"RIGHT(申込書!E30,2)","v":""},{"$f":"申込書!F30","v":""},{"$f":"RIGHT(申込書!G30,1)","v":""},{"$f":"IF(ISERROR(VLOOKUP(申込書!B30&申込書!H30,申込書!$BZ$29:$CB$68,3,FALSE)),\"\",VLOOKUP(申込書!B30&申込書!H30,申込書!$BZ$29:$CB$68,3,FALSE))","v":""},{"$f":"IF(申込書!J30=\"\",\"\",申込書!J30)","v":""},{"$f":"IF(ISERROR(VLOOKUP(申込書!B30&申込書!K30,申込書!$BZ$29:$CB$68,3,FALSE)),\"\",VLOOKUP(申込書!B30&申込書!K30,申込書!$BZ$29:$CB$68,3,FALSE))","v":""},{"$f":"IF(申込書!L30=\"\",\"\",申込書!L30)","v":""},{"$f":"IF(申込書!M30=\"\",\"\",申込書!M30)","v":""}]
[18,{"$f":"IF(C19=\"\",\"\",申込書!$D$8)","v":""},{"$f":"IF(申込書!B31=\"\",\"\",申込書!B31)","v":""},{"$f":"IF(申込書!C31=\"\",\"\",申込書!C31)","v":""},{"$f":"IF(申込書!D31=\"\",\"\",申込書!D31)","v":""},{"$f":"RIGHT(申込書!E31,2)","v":""},{"$f":"申込書!F31","v":""},{"$f":"RIGHT(申込書!G31,1)","v":""},{"$f":"IF(ISERROR(VLOOKUP(申込書!B31&申込書!H31,申込書!$BZ$29:$CB$68,3,FALSE)),\"\",VLOOKUP(申込書!B31&申込書!H31,申込書!$BZ$29:$CB$68,3,FALSE))","v":""},{"$f":"IF(申込書!J31=\"\",\"\",申込書!J31)","v":""},{"$f":"IF(ISERROR(VLOOKUP(申込書!B31&申込書!K31,申込書!$BZ$29:$CB$68,3,FALSE)),\"\",VLOOKUP(申込書!B31&申込書!K31,申込書!$BZ$29:$CB$68,3,FALSE))","v":""},{"$f":"IF(申込書!L31=\"\",\"\",申込書!L31)","v":""},{"$f":"IF(申込書!M31=\"\",\"\",申込書!M31)","v":""}]
[19,{"$f":"IF(C20=\"\",\"\",申込書!$D$8)","v":""},{"$f":"IF(申込書!B32=\"\",\"\",申込書!B32)","v":""},{"$f":"IF(申込書!C32=\"\",\"\",申込書!C32)","v":""},{"$f":"IF(申込書!D32=\"\",\"\",申込書!D32)","v":""},{"$f":"RIGHT(申込書!E32,2)","v":""},{"$f":"申込書!F32","v":""},{"$f":"RIGHT(申込書!G32,1)","v":""},{"$f":"IF(ISERROR(VLOOKUP(申込書!B32&申込書!H32,申込書!$BZ$29:$CB$68,3,FALSE)),\"\",VLOOKUP(申込書!B32&申込書!H32,申込書!$BZ$29:$CB$68,3,FALSE))","v":""},{"$f":"IF(申込書!J32=\"\",\"\",申込書!J32)","v":""},{"$f":"IF(ISERROR(VLOOKUP(申込書!B32&申込書!K32,申込書!$BZ$29:$CB$68,3,FALSE)),\"\",VLOOKUP(申込書!B32&申込書!K32,申込書!$BZ$29:$CB$68,3,FALSE))","v":""},{"$f":"IF(申込書!L32=\"\",\"\",申込書!L32)","v":""},{"$f":"IF(申込書!M32=\"\",\"\",申込書!M32)","v":""}]
[20,{"$f":"IF(C21=\"\",\"\",申込書!$D$8)","v":""},{"$f":"IF(申込書!B33=\"\",\"\",申込書!B33)","v":""},{"$f":"IF(申込書!C33=\"\",\"\",申込書!C33)","v":""},{"$f":"IF(申込書!D33=\"\",\"\",申込書!D33)","v":""},{"$f":"RIGHT(申込書!E33,2)","v":""},{"$f":"申込書!F33","v":""},{"$f":"RIGHT(申込書!G33,1)","v":""},{"$f":"IF(ISERROR(VLOOKUP(申込書!B33&申込書!H33,申込書!$BZ$29:$CB$68,3,FALSE)),\"\",VLOOKUP(申込書!B33&申込書!H33,申込書!$BZ$29:$CB$68,3,FALSE))","v":""},{"$f":"IF(申込書!J33=\"\",\"\",申込書!J33)","v":""},{"$f":"IF(ISERROR(VLOOKUP(申込書!B33&申込書!K33,申込書!$BZ$29:$CB$68,3,FALSE)),\"\",VLOOKUP(申込書!B33&申込書!K33,申込書!$BZ$29:$CB$68,3,FALSE))","v":""},{"$f":"IF(申込書!L33=\"\",\"\",申込書!L33)","v":""},{"$f":"IF(申込書!M33=\"\",\"\",申込書!M33)","v":""}]
[21,{"$f":"IF(C22=\"\",\"\",申込書!$D$8)","v":""},{"$f":"IF(申込書!B34=\"\",\"\",申込書!B34)","v":""},{"$f":"IF(申込書!C34=\"\",\"\",申込書!C34)","v":""},{"$f":"IF(申込書!D34=\"\",\"\",申込書!D34)","v":""},{"$f":"RIGHT(申込書!E34,2)","v":""},{"$f":"申込書!F34","v":""},{"$f":"RIGHT(申込書!G34,1)","v":""},{"$f":"IF(ISERROR(VLOOKUP(申込書!B34&申込書!H34,申込書!$BZ$29:$CB$68,3,FALSE)),\"\",VLOOKUP(申込書!B34&申込書!H34,申込書!$BZ$29:$CB$68,3,FALSE))","v":""},{"$f":"IF(申込書!J34=\"\",\"\",申込書!J34)","v":""},{"$f":"IF(ISERROR(VLOOKUP(申込書!B34&申込書!K34,申込書!$BZ$29:$CB$68,3,FALSE)),\"\",VLOOKUP(申込書!B34&申込書!K34,申込書!$BZ$29:$CB$68,3,FALSE))","v":""},{"$f":"IF(申込書!L34=\"\",\"\",申込書!L34)","v":""},{"$f":"IF(申込書!M34=\"\",\"\",申込書!M34)","v":""}]
[22,{"$f":"IF(C23=\"\",\"\",申込書!$D$8)","v":""},{"$f":"IF(申込書!B35=\"\",\"\",申込書!B35)","v":""},{"$f":"IF(申込書!C35=\"\",\"\",申込書!C35)","v":""},{"$f":"IF(申込書!D35=\"\",\"\",申込書!D35)","v":""},{"$f":"RIGHT(申込書!E35,2)","v":""},{"$f":"申込書!F35","v":""},{"$f":"RIGHT(申込書!G35,1)","v":""},{"$f":"IF(ISERROR(VLOOKUP(申込書!B35&申込書!H35,申込書!$BZ$29:$CB$68,3,FALSE)),\"\",VLOOKUP(申込書!B35&申込書!H35,申込書!$BZ$29:$CB$68,3,FALSE))","v":""},{"$f":"IF(申込書!J35=\"\",\"\",申込書!J35)","v":""},{"$f":"IF(ISERROR(VLOOKUP(申込書!B35&申込書!K35,申込書!$BZ$29:$CB$68,3,FALSE)),\"\",VLOOKUP(申込書!B35&申込書!K35,申込書!$BZ$29:$CB$68,3,FALSE))","v":""},{"$f":"IF(申込書!L35=\"\",\"\",申込書!L35)","v":""},{"$f":"IF(申込書!M35=\"\",\"\",申込書!M35)","v":""}]
[23,{"$f":"IF(C24=\"\",\"\",申込書!$D$8)","v":""},{"$f":"IF(申込書!B36=\"\",\"\",申込書!B36)","v":""},{"$f":"IF(申込書!C36=\"\",\"\",申込書!C36)","v":""},{"$f":"IF(申込書!D36=\"\",\"\",申込書!D36)","v":""},{"$f":"RIGHT(申込書!E36,2)","v":""},{"$f":"申込書!F36","v":""},{"$f":"RIGHT(申込書!G36,1)","v":""},{"$f":"IF(ISERROR(VLOOKUP(申込書!B36&申込書!H36,申込書!$BZ$29:$CB$68,3,FALSE)),\"\",VLOOKUP(申込書!B36&申込書!H36,申込書!$BZ$29:$CB$68,3,FALSE))","v":""},{"$f":"IF(申込書!J36=\"\",\"\",申込書!J36)","v":""},{"$f":"IF(ISERROR(VLOOKUP(申込書!B36&申込書!K36,申込書!$BZ$29:$CB$68,3,FALSE)),\"\",VLOOKUP(申込書!B36&申込書!K36,申込書!$BZ$29:$CB$68,3,FALSE))","v":""},{"$f":"IF(申込書!L36=\"\",\"\",申込書!L36)","v":""},{"$f":"IF(申込書!M36=\"\",\"\",申込書!M36)","v":""}]
[24,{"$f":"IF(C25=\"\",\"\",申込書!$D$8)","v":""},{"$f":"IF(申込書!B37=\"\",\"\",申込書!B37)","v":""},{"$f":"IF(申込書!C37=\"\",\"\",申込書!C37)","v":""},{"$f":"IF(申込書!D37=\"\",\"\",申込書!D37)","v":""},{"$f":"RIGHT(申込書!E37,2)","v":""},{"$f":"申込書!F37","v":""},{"$f":"RIGHT(申込書!G37,1)","v":""},{"$f":"IF(ISERROR(VLOOKUP(申込書!B37&申込書!H37,申込書!$BZ$29:$CB$68,3,FALSE)),\"\",VLOOKUP(申込書!B37&申込書!H37,申込書!$BZ$29:$CB$68,3,FALSE))","v":""},{"$f":"IF(申込書!J37=\"\",\"\",申込書!J37)","v":""},{"$f":"IF(ISERROR(VLOOKUP(申込書!B37&申込書!K37,申込書!$BZ$29:$CB$68,3,FALSE)),\"\",VLOOKUP(申込書!B37&申込書!K37,申込書!$BZ$29:$CB$68,3,FALSE))","v":""},{"$f":"IF(申込書!L37=\"\",\"\",申込書!L37)","v":""},{"$f":"IF(申込書!M37=\"\",\"\",申込書!M37)","v":""}]
[25,{"$f":"IF(C26=\"\",\"\",申込書!$D$8)","v":""},{"$f":"IF(申込書!B38=\"\",\"\",申込書!B38)","v":""},{"$f":"IF(申込書!C38=\"\",\"\",申込書!C38)","v":""},{"$f":"IF(申込書!D38=\"\",\"\",申込書!D38)","v":""},{"$f":"RIGHT(申込書!E38,2)","v":""},{"$f":"申込書!F38","v":""},{"$f":"RIGHT(申込書!G38,1)","v":""},{"$f":"IF(ISERROR(VLOOKUP(申込書!B38&申込書!H38,申込書!$BZ$29:$CB$68,3,FALSE)),\"\",VLOOKUP(申込書!B38&申込書!H38,申込書!$BZ$29:$CB$68,3,FALSE))","v":""},{"$f":"IF(申込書!J38=\"\",\"\",申込書!J38)","v":""},{"$f":"IF(ISERROR(VLOOKUP(申込書!B38&申込書!K38,申込書!$BZ$29:$CB$68,3,FALSE)),\"\",VLOOKUP(申込書!B38&申込書!K38,申込書!$BZ$29:$CB$68,3,FALSE))","v":""},{"$f":"IF(申込書!L38=\"\",\"\",申込書!L38)","v":""},{"$f":"IF(申込書!M38=\"\",\"\",申込書!M38)","v":""}]
[26,{"$f":"IF(C27=\"\",\"\",申込書!$D$8)","v":""},{"$f":"IF(申込書!B39=\"\",\"\",申込書!B39)","v":""},{"$f":"IF(申込書!C39=\"\",\"\",申込書!C39)","v":""},{"$f":"IF(申込書!D39=\"\",\"\",申込書!D39)","v":""},{"$f":"RIGHT(申込書!E39,2)","v":""},{"$f":"申込書!F39","v":""},{"$f":"RIGHT(申込書!G39,1)","v":""},{"$f":"IF(ISERROR(VLOOKUP(申込書!B39&申込書!H39,申込書!$BZ$29:$CB$68,3,FALSE)),\"\",VLOOKUP(申込書!B39&申込書!H39,申込書!$BZ$29:$CB$68,3,FALSE))","v":""},{"$f":"IF(申込書!J39=\"\",\"\",申込書!J39)","v":""},{"$f":"IF(ISERROR(VLOOKUP(申込書!B39&申込書!K39,申込書!$BZ$29:$CB$68,3,FALSE)),\"\",VLOOKUP(申込書!B39&申込書!K39,申込書!$BZ$29:$CB$68,3,FALSE))","v":""},{"$f":"IF(申込書!L39=\"\",\"\",申込書!L39)","v":""},{"$f":"IF(申込書!M39=\"\",\"\",申込書!M39)","v":""}]
[27,{"$f":"IF(C28=\"\",\"\",申込書!$D$8)","v":""},{"$f":"IF(申込書!B40=\"\",\"\",申込書!B40)","v":""},{"$f":"IF(申込書!C40=\"\",\"\",申込書!C40)","v":""},{"$f":"IF(申込書!D40=\"\",\"\",申込書!D40)","v":""},{"$f":"RIGHT(申込書!E40,2)","v":""},{"$f":"申込書!F40","v":""},{"$f":"RIGHT(申込書!G40,1)","v":""},{"$f":"IF(ISERROR(VLOOKUP(申込書!B40&申込書!H40,申込書!$BZ$29:$CB$68,3,FALSE)),\"\",VLOOKUP(申込書!B40&申込書!H40,申込書!$BZ$29:$CB$68,3,FALSE))","v":""},{"$f":"IF(申込書!J40=\"\",\"\",申込書!J40)","v":""},{"$f":"IF(ISERROR(VLOOKUP(申込書!B40&申込書!K40,申込書!$BZ$29:$CB$68,3,FALSE)),\"\",VLOOKUP(申込書!B40&申込書!K40,申込書!$BZ$29:$CB$68,3,FALSE))","v":""},{"$f":"IF(申込書!L40=\"\",\"\",申込書!L40)","v":""},{"$f":"IF(申込書!M40=\"\",\"\",申込書!M40)","v":""}]
[28,{"$f":"IF(C29=\"\",\"\",申込書!$D$8)","v":""},{"$f":"IF(申込書!B41=\"\",\"\",申込書!B41)","v":""},{"$f":"IF(申込書!C41=\"\",\"\",申込書!C41)","v":""},{"$f":"IF(申込書!D41=\"\",\"\",申込書!D41)","v":""},{"$f":"RIGHT(申込書!E41,2)","v":""},{"$f":"申込書!F41","v":""},{"$f":"RIGHT(申込書!G41,1)","v":""},{"$f":"IF(ISERROR(VLOOKUP(申込書!B41&申込書!H41,申込書!$BZ$29:$CB$68,3,FALSE)),\"\",VLOOKUP(申込書!B41&申込書!H41,申込書!$BZ$29:$CB$68,3,FALSE))","v":""},{"$f":"IF(申込書!J41=\"\",\"\",申込書!J41)","v":""},{"$f":"IF(ISERROR(VLOOKUP(申込書!B41&申込書!K41,申込書!$BZ$29:$CB$68,3,FALSE)),\"\",VLOOKUP(申込書!B41&申込書!K41,申込書!$BZ$29:$CB$68,3,FALSE))","v":""},{"$f":"IF(申込書!L41=\"\",\"\",申込書!L41)","v":""},{"$f":"IF(申込書!M41=\"\",\"\",申込書!M41)","v":""}]
[29,{"$f":"IF(C30=\"\",\"\",申込書!$D$8)","v":""},{"$f":"IF(申込書!B42=\"\",\"\",申込書!B42)","v":""},{"$f":"IF(申込書!C42=\"\",\"\",申込書!C42)","v":""},{"$f":"IF(申込書!D42=\"\",\"\",申込書!D42)","v":""},{"$f":"RIGHT(申込書!E42,2)","v":""},{"$f":"申込書!F42","v":""},{"$f":"RIGHT(申込書!G42,1)","v":""},{"$f":"IF(ISERROR(VLOOKUP(申込書!B42&申込書!H42,申込書!$BZ$29:$CB$68,3,FALSE)),\"\",VLOOKUP(申込書!B42&申込書!H42,申込書!$BZ$29:$CB$68,3,FALSE))","v":""},{"$f":"IF(申込書!J42=\"\",\"\",申込書!J42)","v":""},{"$f":"IF(ISERROR(VLOOKUP(申込書!B42&申込書!K42,申込書!$BZ$29:$CB$68,3,FALSE)),\"\",VLOOKUP(申込書!B42&申込書!K42,申込書!$BZ$29:$CB$68,3,FALSE))","v":""},{"$f":"IF(申込書!L42=\"\",\"\",申込書!L42)","v":""},{"$f":"IF(申込書!M42=\"\",\"\",申込書!M42)","v":""}]
[30,{"$f":"IF(C31=\"\",\"\",申込書!$D$8)","v":""},{"$f":"IF(申込書!B43=\"\",\"\",申込書!B43)","v":""},{"$f":"IF(申込書!C43=\"\",\"\",申込書!C43)","v":""},{"$f":"IF(申込書!D43=\"\",\"\",申込書!D43)","v":""},{"$f":"RIGHT(申込書!E43,2)","v":""},{"$f":"申込書!F43","v":""},{"$f":"RIGHT(申込書!G43,1)","v":""},{"$f":"IF(ISERROR(VLOOKUP(申込書!B43&申込書!H43,申込書!$BZ$29:$CB$68,3,FALSE)),\"\",VLOOKUP(申込書!B43&申込書!H43,申込書!$BZ$29:$CB$68,3,FALSE))","v":""},{"$f":"IF(申込書!J43=\"\",\"\",申込書!J43)","v":""},{"$f":"IF(ISERROR(VLOOKUP(申込書!B43&申込書!K43,申込書!$BZ$29:$CB$68,3,FALSE)),\"\",VLOOKUP(申込書!B43&申込書!K43,申込書!$BZ$29:$CB$68,3,FALSE))","v":""},{"$f":"IF(申込書!L43=\"\",\"\",申込書!L43)","v":""},{"$f":"IF(申込書!M43=\"\",\"\",申込書!M43)","v":""}]
[31,{"$f":"IF(C32=\"\",\"\",申込書!$D$8)","v":""},{"$f":"IF(申込書!B44=\"\",\"\",申込書!B44)","v":""},{"$f":"IF(申込書!C44=\"\",\"\",申込書!C44)","v":""},{"$f":"IF(申込書!D44=\"\",\"\",申込書!D44)","v":""},{"$f":"RIGHT(申込書!E44,2)","v":""},{"$f":"申込書!F44","v":""},{"$f":"RIGHT(申込書!G44,1)","v":""},{"$f":"IF(ISERROR(VLOOKUP(申込書!B44&申込書!H44,申込書!$BZ$29:$CB$68,3,FALSE)),\"\",VLOOKUP(申込書!B44&申込書!H44,申込書!$BZ$29:$CB$68,3,FALSE))","v":""},{"$f":"IF(申込書!J44=\"\",\"\",申込書!J44)","v":""},{"$f":"IF(ISERROR(VLOOKUP(申込書!B44&申込書!K44,申込書!$BZ$29:$CB$68,3,FALSE)),\"\",VLOOKUP(申込書!B44&申込書!K44,申込書!$BZ$29:$CB$68,3,FALSE))","v":""},{"$f":"IF(申込書!L44=\"\",\"\",申込書!L44)","v":""},{"$f":"IF(申込書!M44=\"\",\"\",申込書!M44)","v":""}]
[32,{"$f":"IF(C33=\"\",\"\",申込書!$D$8)","v":""},{"$f":"IF(申込書!B45=\"\",\"\",申込書!B45)","v":""},{"$f":"IF(申込書!C45=\"\",\"\",申込書!C45)","v":""},{"$f":"IF(申込書!D45=\"\",\"\",申込書!D45)","v":""},{"$f":"RIGHT(申込書!E45,2)","v":""},{"$f":"申込書!F45","v":""},{"$f":"RIGHT(申込書!G45,1)","v":""},{"$f":"IF(ISERROR(VLOOKUP(申込書!B45&申込書!H45,申込書!$BZ$29:$CB$68,3,FALSE)),\"\",VLOOKUP(申込書!B45&申込書!H45,申込書!$BZ$29:$CB$68,3,FALSE))","v":""},{"$f":"IF(申込書!J45=\"\",\"\",申込書!J45)","v":""},{"$f":"IF(ISERROR(VLOOKUP(申込書!B45&申込書!K45,申込書!$BZ$29:$CB$68,3,FALSE)),\"\",VLOOKUP(申込書!B45&申込書!K45,申込書!$BZ$29:$CB$68,3,FALSE))","v":""},{"$f":"IF(申込書!L45=\"\",\"\",申込書!L45)","v":""},{"$f":"IF(申込書!M45=\"\",\"\",申込書!M45)","v":""}]
[33,{"$f":"IF(C34=\"\",\"\",申込書!$D$8)","v":""},{"$f":"IF(申込書!B46=\"\",\"\",申込書!B46)","v":""},{"$f":"IF(申込書!C46=\"\",\"\",申込書!C46)","v":""},{"$f":"IF(申込書!D46=\"\",\"\",申込書!D46)","v":""},{"$f":"RIGHT(申込書!E46,2)","v":""},{"$f":"申込書!F46","v":""},{"$f":"RIGHT(申込書!G46,1)","v":""},{"$f":"IF(ISERROR(VLOOKUP(申込書!B46&申込書!H46,申込書!$BZ$29:$CB$68,3,FALSE)),\"\",VLOOKUP(申込書!B46&申込書!H46,申込書!$BZ$29:$CB$68,3,FALSE))","v":""},{"$f":"IF(申込書!J46=\"\",\"\",申込書!J46)","v":""},{"$f":"IF(ISERROR(VLOOKUP(申込書!B46&申込書!K46,申込書!$BZ$29:$CB$68,3,FALSE)),\"\",VLOOKUP(申込書!B46&申込書!K46,申込書!$BZ$29:$CB$68,3,FALSE))","v":""},{"$f":"IF(申込書!L46=\"\",\"\",申込書!L46)","v":""},{"$f":"IF(申込書!M46=\"\",\"\",申込書!M46)","v":""}]
[34,{"$f":"IF(C35=\"\",\"\",申込書!$D$8)","v":""},{"$f":"IF(申込書!B47=\"\",\"\",申込書!B47)","v":""},{"$f":"IF(申込書!C47=\"\",\"\",申込書!C47)","v":""},{"$f":"IF(申込書!D47=\"\",\"\",申込書!D47)","v":""},{"$f":"RIGHT(申込書!E47,2)","v":""},{"$f":"申込書!F47","v":""},{"$f":"RIGHT(申込書!G47,1)","v":""},{"$f":"IF(ISERROR(VLOOKUP(申込書!B47&申込書!H47,申込書!$BZ$29:$CB$68,3,FALSE)),\"\",VLOOKUP(申込書!B47&申込書!H47,申込書!$BZ$29:$CB$68,3,FALSE))","v":""},{"$f":"IF(申込書!J47=\"\",\"\",申込書!J47)","v":""},{"$f":"IF(ISERROR(VLOOKUP(申込書!B47&申込書!K47,申込書!$BZ$29:$CB$68,3,FALSE)),\"\",VLOOKUP(申込書!B47&申込書!K47,申込書!$BZ$29:$CB$68,3,FALSE))","v":""},{"$f":"IF(申込書!L47=\"\",\"\",申込書!L47)","v":""},{"$f":"IF(申込書!M47=\"\",\"\",申込書!M47)","v":""}]
[35,{"$f":"IF(C36=\"\",\"\",申込書!$D$8)","v":""},{"$f":"IF(申込書!B48=\"\",\"\",申込書!B48)","v":""},{"$f":"IF(申込書!C48=\"\",\"\",申込書!C48)","v":""},{"$f":"IF(申込書!D48=\"\",\"\",申込書!D48)","v":""},{"$f":"RIGHT(申込書!E48,2)","v":""},{"$f":"申込書!F48","v":""},{"$f":"RIGHT(申込書!G48,1)","v":""},{"$f":"IF(ISERROR(VLOOKUP(申込書!B48&申込書!H48,申込書!$BZ$29:$CB$68,3,FALSE)),\"\",VLOOKUP(申込書!B48&申込書!H48,申込書!$BZ$29:$CB$68,3,FALSE))","v":""},{"$f":"IF(申込書!J48=\"\",\"\",申込書!J48)","v":""},{"$f":"IF(ISERROR(VLOOKUP(申込書!B48&申込書!K48,申込書!$BZ$29:$CB$68,3,FALSE)),\"\",VLOOKUP(申込書!B48&申込書!K48,申込書!$BZ$29:$CB$68,3,FALSE))","v":""},{"$f":"IF(申込書!L48=\"\",\"\",申込書!L48)","v":""},{"$f":"IF(申込書!M48=\"\",\"\",申込書!M48)","v":""}]
[36,{"$f":"IF(C37=\"\",\"\",申込書!$D$8)","v":""},{"$f":"IF(申込書!B49=\"\",\"\",申込書!B49)","v":""},{"$f":"IF(申込書!C49=\"\",\"\",申込書!C49)","v":""},{"$f":"IF(申込書!D49=\"\",\"\",申込書!D49)","v":""},{"$f":"RIGHT(申込書!E49,2)","v":""},{"$f":"申込書!F49","v":""},{"$f":"RIGHT(申込書!G49,1)","v":""},{"$f":"IF(ISERROR(VLOOKUP(申込書!B49&申込書!H49,申込書!$BZ$29:$CB$68,3,FALSE)),\"\",VLOOKUP(申込書!B49&申込書!H49,申込書!$BZ$29:$CB$68,3,FALSE))","v":""},{"$f":"IF(申込書!J49=\"\",\"\",申込書!J49)","v":""},{"$f":"IF(ISERROR(VLOOKUP(申込書!B49&申込書!K49,申込書!$BZ$29:$CB$68,3,FALSE)),\"\",VLOOKUP(申込書!B49&申込書!K49,申込書!$BZ$29:$CB$68,3,FALSE))","v":""},{"$f":"IF(申込書!L49=\"\",\"\",申込書!L49)","v":""},{"$f":"IF(申込書!M49=\"\",\"\",申込書!M49)","v":""}]
[37,{"$f":"IF(C38=\"\",\"\",申込書!$D$8)","v":""},{"$f":"IF(申込書!B50=\"\",\"\",申込書!B50)","v":""},{"$f":"IF(申込書!C50=\"\",\"\",申込書!C50)","v":""},{"$f":"IF(申込書!D50=\"\",\"\",申込書!D50)","v":""},{"$f":"RIGHT(申込書!E50,2)","v":""},{"$f":"申込書!F50","v":""},{"$f":"RIGHT(申込書!G50,1)","v":""},{"$f":"IF(ISERROR(VLOOKUP(申込書!B50&申込書!H50,申込書!$BZ$29:$CB$68,3,FALSE)),\"\",VLOOKUP(申込書!B50&申込書!H50,申込書!$BZ$29:$CB$68,3,FALSE))","v":""},{"$f":"IF(申込書!J50=\"\",\"\",申込書!J50)","v":""},{"$f":"IF(ISERROR(VLOOKUP(申込書!B50&申込書!K50,申込書!$BZ$29:$CB$68,3,FALSE)),\"\",VLOOKUP(申込書!B50&申込書!K50,申込書!$BZ$29:$CB$68,3,FALSE))","v":""},{"$f":"IF(申込書!L50=\"\",\"\",申込書!L50)","v":""},{"$f":"IF(申込書!M50=\"\",\"\",申込書!M50)","v":""}]
[38,{"$f":"IF(C39=\"\",\"\",申込書!$D$8)","v":""},{"$f":"IF(申込書!B51=\"\",\"\",申込書!B51)","v":""},{"$f":"IF(申込書!C51=\"\",\"\",申込書!C51)","v":""},{"$f":"IF(申込書!D51=\"\",\"\",申込書!D51)","v":""},{"$f":"RIGHT(申込書!E51,2)","v":""},{"$f":"申込書!F51","v":""},{"$f":"RIGHT(申込書!G51,1)","v":""},{"$f":"IF(ISERROR(VLOOKUP(申込書!B51&申込書!H51,申込書!$BZ$29:$CB$68,3,FALSE)),\"\",VLOOKUP(申込書!B51&申込書!H51,申込書!$BZ$29:$CB$68,3,FALSE))","v":""},{"$f":"IF(申込書!J51=\"\",\"\",申込書!J51)","v":""},{"$f":"IF(ISERROR(VLOOKUP(申込書!B51&申込書!K51,申込書!$BZ$29:$CB$68,3,FALSE)),\"\",VLOOKUP(申込書!B51&申込書!K51,申込書!$BZ$29:$CB$68,3,FALSE))","v":""},{"$f":"IF(申込書!L51=\"\",\"\",申込書!L51)","v":""},{"$f":"IF(申込書!M51=\"\",\"\",申込書!M51)","v":""}]
[39,{"$f":"IF(C40=\"\",\"\",申込書!$D$8)","v":""},{"$f":"IF(申込書!B52=\"\",\"\",申込書!B52)","v":""},{"$f":"IF(申込書!C52=\"\",\"\",申込書!C52)","v":""},{"$f":"IF(申込書!D52=\"\",\"\",申込書!D52)","v":""},{"$f":"RIGHT(申込書!E52,2)","v":""},{"$f":"申込書!F52","v":""},{"$f":"RIGHT(申込書!G52,1)","v":""},{"$f":"IF(ISERROR(VLOOKUP(申込書!B52&申込書!H52,申込書!$BZ$29:$CB$68,3,FALSE)),\"\",VLOOKUP(申込書!B52&申込書!H52,申込書!$BZ$29:$CB$68,3,FALSE))","v":""},{"$f":"IF(申込書!J52=\"\",\"\",申込書!J52)","v":""},{"$f":"IF(ISERROR(VLOOKUP(申込書!B52&申込書!K52,申込書!$BZ$29:$CB$68,3,FALSE)),\"\",VLOOKUP(申込書!B52&申込書!K52,申込書!$BZ$29:$CB$68,3,FALSE))","v":""},{"$f":"IF(申込書!L52=\"\",\"\",申込書!L52)","v":""},{"$f":"IF(申込書!M52=\"\",\"\",申込書!M52)","v":""}]
[40,{"$f":"IF(C41=\"\",\"\",申込書!$D$8)","v":""},{"$f":"IF(申込書!B53=\"\",\"\",申込書!B53)","v":""},{"$f":"IF(申込書!C53=\"\",\"\",申込書!C53)","v":""},{"$f":"IF(申込書!D53=\"\",\"\",申込書!D53)","v":""},{"$f":"RIGHT(申込書!E53,2)","v":""},{"$f":"申込書!F53","v":""},{"$f":"RIGHT(申込書!G53,1)","v":""},{"$f":"IF(ISERROR(VLOOKUP(申込書!B53&申込書!H53,申込書!$BZ$29:$CB$68,3,FALSE)),\"\",VLOOKUP(申込書!B53&申込書!H53,申込書!$BZ$29:$CB$68,3,FALSE))","v":""},{"$f":"IF(申込書!J53=\"\",\"\",申込書!J53)","v":""},{"$f":"IF(ISERROR(VLOOKUP(申込書!B53&申込書!K53,申込書!$BZ$29:$CB$68,3,FALSE)),\"\",VLOOKUP(申込書!B53&申込書!K53,申込書!$BZ$29:$CB$68,3,FALSE))","v":""},{"$f":"IF(申込書!L53=\"\",\"\",申込書!L53)","v":""},{"$f":"IF(申込書!M53=\"\",\"\",申込書!M53)","v":""}]
[41,{"$f":"IF(C42=\"\",\"\",申込書!$D$8)","v":""},{"$f":"IF(申込書!B54=\"\",\"\",申込書!B54)","v":""},{"$f":"IF(申込書!C54=\"\",\"\",申込書!C54)","v":""},{"$f":"IF(申込書!D54=\"\",\"\",申込書!D54)","v":""},{"$f":"RIGHT(申込書!E54,2)","v":""},{"$f":"申込書!F54","v":""},{"$f":"RIGHT(申込書!G54,1)","v":""},{"$f":"IF(ISERROR(VLOOKUP(申込書!B54&申込書!H54,申込書!$BZ$29:$CB$68,3,FALSE)),\"\",VLOOKUP(申込書!B54&申込書!H54,申込書!$BZ$29:$CB$68,3,FALSE))","v":""},{"$f":"IF(申込書!J54=\"\",\"\",申込書!J54)","v":""},{"$f":"IF(ISERROR(VLOOKUP(申込書!B54&申込書!K54,申込書!$BZ$29:$CB$68,3,FALSE)),\"\",VLOOKUP(申込書!B54&申込書!K54,申込書!$BZ$29:$CB$68,3,FALSE))","v":""},{"$f":"IF(申込書!L54=\"\",\"\",申込書!L54)","v":""},{"$f":"IF(申込書!M54=\"\",\"\",申込書!M54)","v":""}]
[42,{"$f":"IF(C43=\"\",\"\",申込書!$D$8)","v":""},{"$f":"IF(申込書!B55=\"\",\"\",申込書!B55)","v":""},{"$f":"IF(申込書!C55=\"\",\"\",申込書!C55)","v":""},{"$f":"IF(申込書!D55=\"\",\"\",申込書!D55)","v":""},{"$f":"RIGHT(申込書!E55,2)","v":""},{"$f":"申込書!F55","v":""},{"$f":"RIGHT(申込書!G55,1)","v":""},{"$f":"IF(ISERROR(VLOOKUP(申込書!B55&申込書!H55,申込書!$BZ$29:$CB$68,3,FALSE)),\"\",VLOOKUP(申込書!B55&申込書!H55,申込書!$BZ$29:$CB$68,3,FALSE))","v":""},{"$f":"IF(申込書!J55=\"\",\"\",申込書!J55)","v":""},{"$f":"IF(ISERROR(VLOOKUP(申込書!B55&申込書!K55,申込書!$BZ$29:$CB$68,3,FALSE)),\"\",VLOOKUP(申込書!B55&申込書!K55,申込書!$BZ$29:$CB$68,3,FALSE))","v":""},{"$f":"IF(申込書!L55=\"\",\"\",申込書!L55)","v":""},{"$f":"IF(申込書!M55=\"\",\"\",申込書!M55)","v":""}]
[43,{"$f":"IF(C44=\"\",\"\",申込書!$D$8)","v":""},{"$f":"IF(申込書!B56=\"\",\"\",申込書!B56)","v":""},{"$f":"IF(申込書!C56=\"\",\"\",申込書!C56)","v":""},{"$f":"IF(申込書!D56=\"\",\"\",申込書!D56)","v":""},{"$f":"RIGHT(申込書!E56,2)","v":""},{"$f":"申込書!F56","v":""},{"$f":"RIGHT(申込書!G56,1)","v":""},{"$f":"IF(ISERROR(VLOOKUP(申込書!B56&申込書!H56,申込書!$BZ$29:$CB$68,3,FALSE)),\"\",VLOOKUP(申込書!B56&申込書!H56,申込書!$BZ$29:$CB$68,3,FALSE))","v":""},{"$f":"IF(申込書!J56=\"\",\"\",申込書!J56)","v":""},{"$f":"IF(ISERROR(VLOOKUP(申込書!B56&申込書!K56,申込書!$BZ$29:$CB$68,3,FALSE)),\"\",VLOOKUP(申込書!B56&申込書!K56,申込書!$BZ$29:$CB$68,3,FALSE))","v":""},{"$f":"IF(申込書!L56=\"\",\"\",申込書!L56)","v":""},{"$f":"IF(申込書!M56=\"\",\"\",申込書!M56)","v":""}]
[44,{"$f":"IF(C45=\"\",\"\",申込書!$D$8)","v":""},{"$f":"IF(申込書!B57=\"\",\"\",申込書!B57)","v":""},{"$f":"IF(申込書!C57=\"\",\"\",申込書!C57)","v":""},{"$f":"IF(申込書!D57=\"\",\"\",申込書!D57)","v":""},{"$f":"RIGHT(申込書!E57,2)","v":""},{"$f":"申込書!F57","v":""},{"$f":"RIGHT(申込書!G57,1)","v":""},{"$f":"IF(ISERROR(VLOOKUP(申込書!B57&申込書!H57,申込書!$BZ$29:$CB$68,3,FALSE)),\"\",VLOOKUP(申込書!B57&申込書!H57,申込書!$BZ$29:$CB$68,3,FALSE))","v":""},{"$f":"IF(申込書!J57=\"\",\"\",申込書!J57)","v":""},{"$f":"IF(ISERROR(VLOOKUP(申込書!B57&申込書!K57,申込書!$BZ$29:$CB$68,3,FALSE)),\"\",VLOOKUP(申込書!B57&申込書!K57,申込書!$BZ$29:$CB$68,3,FALSE))","v":""},{"$f":"IF(申込書!L57=\"\",\"\",申込書!L57)","v":""},{"$f":"IF(申込書!M57=\"\",\"\",申込書!M57)","v":""}]
[45,{"$f":"IF(C46=\"\",\"\",申込書!$D$8)","v":""},{"$f":"IF(申込書!B58=\"\",\"\",申込書!B58)","v":""},{"$f":"IF(申込書!C58=\"\",\"\",申込書!C58)","v":""},{"$f":"IF(申込書!D58=\"\",\"\",申込書!D58)","v":""},{"$f":"RIGHT(申込書!E58,2)","v":""},{"$f":"申込書!F58","v":""},{"$f":"RIGHT(申込書!G58,1)","v":""},{"$f":"IF(ISERROR(VLOOKUP(申込書!B58&申込書!H58,申込書!$BZ$29:$CB$68,3,FALSE)),\"\",VLOOKUP(申込書!B58&申込書!H58,申込書!$BZ$29:$CB$68,3,FALSE))","v":""},{"$f":"IF(申込書!J58=\"\",\"\",申込書!J58)","v":""},{"$f":"IF(ISERROR(VLOOKUP(申込書!B58&申込書!K58,申込書!$BZ$29:$CB$68,3,FALSE)),\"\",VLOOKUP(申込書!B58&申込書!K58,申込書!$BZ$29:$CB$68,3,FALSE))","v":""},{"$f":"IF(申込書!L58=\"\",\"\",申込書!L58)","v":""},{"$f":"IF(申込書!M58=\"\",\"\",申込書!M58)","v":""}]

{"sheet":"ﾅﾝﾊﾞｰｶｰﾄﾞ","index":4,"n_rows":30,"n_cols":22,"rows_kept":30,"cut":false,"hidden":true,"merged":[[34,7,34,14],[35,7,35,14],[36,7,36,14],[28,1,28,21],[29,2,29,21],[30,2,30,21],[31,7,31,14],[32,7,32,14],[33,7,33,14],[8,4,8,6],[8,11,8,13],[8,18,8,20],[0,0,0,21],[1,17,1,21],[2,1,2,21],[4,14,5,21],[6,1,6,21]]}
["オホーツク中体連陸上競技大会ナンバーカードについて"]
[null,null,null,null,null,null,null,null,null,null,null,null,null,null,null,null,null,"Ｈ29．04．22より"]
["１","プログラムなどの学校標記も下記の通りとします。（管内レベル）"]
[]
["２","学校番号は、専門委員会の事務作業上の都合で割り振りました。",null,null,null,null,null,null,null,null,null,null,null,null,"男子：黒　　女子：赤　　同一番号です"]
[]
["３","ナンバーカード割り振り一覧"]
[null,null,null,null,1]
[null,"番号","学校名","数","新番号",null,null,"旧番号","番号","学校名","数","新番号",null,null,"旧番号","番号","学校名","数","新番号",null,null,"番　　号"]
[null,1,"斜里中",30,1,"～",30,"１～　３０",19,"湧別中",20,241,"～",260,"２９１～３００",37,"北見仁頃中",null,null,null,null,"６２１～６４０"]
[null,2,"斜里知床ウトロ",10,31,"～",40,"３１～　４０",20,"湧別湖陵中",null,null,null,null,"３０１～３１０",38,"北見端野中",null,null,null,null,"６４１～６５０"]
[null,3,"清里中",20,41,"～",60,"４１～　５０",21,"上湧別中",null,null,null,null,"３１１～３２０",39,"北見留辺蘂中",null,null,null,null,"６５１～６７０"]
[null,4,"小清水中",0,61,"～",60,"５１～　７０",22,"滝上中",null,null,null,null,"３２１～３４０",40,"北見温根湯中",5,675,"～",680,"６７１～６９０"]
[null,5,"大空女満別中",30,61,"～",90,"７１～　９０",23,"西興部中",null,null,null,null,"３４１～３５０",41,"北見瑞穂中",null,null,null,null,"６９１～７００"]
[null,6,"大空東藻琴中",20,91,"～",110,"９１～１００",24,"興部中",null,null,null,null,"３５１～３６０",42,"北見常呂中",20,521,"～",540,"７０１～７１０"]
[null,7,"美幌中",30,111,"～",140,"１０１～１２０",25,"興部沙留中",10,261,"～",270,"３６１～３７０",43,"網走第一中",20,541,"～",560,"７１１～７３０"]
[null,8,"美幌北中",30,141,"～",170,"１２１～１４０",26,"雄武中",20,271,"～",290,"３７１～３８０",44,"網走第二中",20,561,"～",580,"７３１～７５０"]
[null,9,"津別中",null,null,null,null,"１４１～１６０",27,"北見南中",30,291,"～",320,"３８１～４００",45,"網走第三中",30,581,"～",610,"７５１～７７０"]
[null,10,"佐呂間中",null,null,null,null,"１６１～１７０",28,"北見東陵中",30,321,"～",350,"４０１～４３０",46,"網走第四中",20,611,"～",630,"７７１～８００"]
[null,11,"訓子府中",null,null,null,null,"１７１～１９０",29,"北見光西中",30,351,"～",380,"４３１～４６０",47,"網走第五中",null,null,null,null,"８０１～８１０"]
[null,12,"置戸中",null,null,null,null,"１９１～２１０",30,"北見北中",30,381,"～",410,"４６１～４９０",48,"網走呼人中",null,null,null,null,"８１１～８２０"]
[null,13,"遠軽中",50,181,"～",230,"２１１～２２０",31,"北見上常呂中",null,null,null,null,"４９１～５２０",49,"紋別中",20,631,"～",650,"８２１～８３０"]
[null,14,"遠軽南中",null,null,null,null,"２２１～２４０",32,"北見相内中",10,411,"～",420,"５２１～５３０",50,"紋別潮見中",20,651,"～",670,"８３１～８６０"]
[null,15,"遠軽生田原中",null,null,null,null,"２４１～２６０",33,"北見北光中",30,421,"～",450,"５３１～５４０",51,"紋別渚滑中",null,null,null,null,"８６１～８８０"]
[null,16,"遠軽安国中",null,null,null,null,"２６１～２７０",34,"北見高栄中",30,451,"～",480,"５４１～５７０",52,"紋別上渚滑中",null,null,null,null,"８８１～８９０"]
[null,17,"遠軽丸瀬布中",10,231,"～",240,"２７１～２８０",35,"北見小泉中",30,481,"～",510,"５７１～６００",null,null,null,null,null,null,"８９１～９００"]
[null,18,"遠軽白滝中",null,null,null,null,"２８１～２９０",36,"北見東相内中",null,null,null,null,"６０１～６２０"]
[]
["４","ナンバーカードの不足時の対応について"]
[null,"●","割り当て番号がない場合は、６８１番以上で専門委員会で決定、貸し出します。"]