{"text_format":"1","workbook":"xlsx","n_sheets":5,"sheets":["要項","入力表・参加種目確認","申込確認シート","貼付（事務局）","①初期設定"],"not_rendered":{"charts":0,"images":0,"macros":1,"external_links":1,"defined_names":54,"comments":0,"pivot_tables":0},"unopened":[],"bounds":{"document_bytes":16777216,"sheet_cells":100000,"rows_first":2000,"rows_last":500,"rows_between":2000,"halvings":0,"cell_chars":16384,"cell_head_chars":4096},"cells_cut":0,"cells_raw":0,"read":"whole","date_system":"1900"}

{"sheet":"要項","index":0,"n_rows":90,"n_cols":41,"rows_kept":90,"cut":false,"hidden":false,"merged":[[67,3,67,5],[67,20,70,27],[68,3,68,5],[69,3,69,5],[70,3,70,5],[59,2,59,30],[60,0,60,11],[64,0,64,30],[65,1,65,2],[65,3,65,5],[66,3,66,5],[53,0,53,4],[54,1,54,30],[55,0,55,4],[56,2,56,30],[57,2,57,30],[58,2,58,30],[51,0,51,4],[52,1,52,7],[52,8,52,10],[52,11,52,15],[52,16,52,18],[52,19,52,29],[48,1,48,5],[48,6,48,9],[48,10,48,13],[48,14,48,17],[48,18,48,21],[49,1,49,5],[49,6,49,9],[49,10,49,13],[49,14,49,17],[49,18,49,21],[46,1,46,5],[46,6,46,9],[46,10,46,13],[46,14,46,17],[46,18,46,21],[47,1,47,5],[47,6,47,9],[47,10,47,13],[47,14,47,17],[47,18,47,21],[43,1,43,2],[43,3,43,6],[43,7,43,30],[44,0,44,4],[45,1,45,5],[45,6,45,9],[45,10,45,13],[45,14,45,17],[45,18,45,21],[45,23,49,30],[40,0,40,4],[40,5,40,30],[41,1,41,2],[41,3,41,6],[41,7,41,30],[42,1,42,2],[42,3,42,6],[42,7,42,30],[37,3,37,4],[37,5,37,30],[38,0,38,4],[38,5,38,30],[39,0,39,4],[39,5,39,30],[30,3,30,30],[31,3,31,30],[32,3,32,30],[33,0,33,4],[34,2,34,30],[36,0,36,4],[27,16,27,17],[27,18,27,19],[27,20,27,21],[27,22,27,23],[27,24,27,25],[28,1,28,5],[26,18,26,19],[26,22,26,23],[26,24,26,25],[26,26,27,28],[27,4,27,5],[27,6,27,7],[27,8,27,9],[27,10,27,11],[27,12,27,13],[27,14,27,15],[25,22,25,23],[25,24,25,25],[26,1,27,3],[26,4,26,5],[26,6,26,7],[26,8,26,9],[26,10,26,11],[26,12,26,13],[26,14,26,15],[26,16,26,17],[24,26,25,28],[25,4,25,5],[25,6,25,7],[25,8,25,9],[25,10,25,11],[25,12,25,13],[25,14,25,15],[25,16,25,17],[25,18,25,19],[25,20,25,21],[24,14,24,15],[24,16,24,17],[24,18,24,19],[24,20,24,21],[24,22,24,23],[24,24,24,25],[24,1,25,3],[24,4,24,5],[24,6,24,7],[24,8,24,9],[24,10,24,11],[24,12,24,13],[23,14,23,15],[23,16,23,17],[23,18,23,19],[23,20,23,21],[23,22,23,23],[23,24,23,25],[22,18,22,19],[22,20,22,21],[22,22,22,23],[22,24,22,25],[22,26,23,28],[23,4,23,5],[23,6,23,7],[23,8,23,9],[23,10,23,11],[23,12,23,13],[21,22,21,23],[21,24,21,25],[22,1,23,3],[22,4,22,5],[22,6,22,7],[22,8,22,9],[22,10,22,11],[22,12,22,13],[22,14,22,15],[22,16,22,17],[20,26,21,28],[21,4,21,5],[21,6,21,7],[21,8,21,9],[21,10,21,11],[21,12,21,13],[21,14,21,15],[21,16,21,17],[21,18,21,19],[21,20,21,21],[20,14,20,15],[20,16,20,17],[20,18,20,19],[20,20,20,21],[20,22,20,23],[20,24,20,25],[20,1,21,3],[20,4,20,5],[20,6,20,7],[20,8,20,9],[20,10,20,11],[20,12,20,13],[19,14,19,15],[19,16,19,17],[19,18,19,19],[19,20,19,21],[19,22,19,23],[19,24,19,25],[18,18,18,19],[18,20,18,21],[18,22,18,23],[18,24,18,25],[18,26,19,28],[19,4,19,5],[19,6,19,7],[19,8,19,9],[19,10,19,11],[19,12,19,13],[17,22,17,23],[17,24,17,25],[18,1,19,3],[18,4,18,5],[18,6,18,7],[18,8,18,9],[18,10,18,11],[18,12,18,13],[18,14,18,15],[18,16,18,17],[16,26,17,28],[17,4,17,5],[17,6,17,7],[17,8,17,9],[17,10,17,11],[17,12,17,13],[17,14,17,15],[17,16,17,17],[17,18,17,19],[17,20,17,21],[16,14,16,15],[16,16,16,17],[16,18,16,19],[16,20,16,21],[16,22,16,23],[16,24,16,25],[16,1,17,3],[16,4,16,5],[16,6,16,7],[16,8,16,9],[16,10,16,11],[16,12,16,13],[15,14,15,15],[15,16,15,17],[15,18,15,19],[15,20,15,21],[15,22,15,23],[15,24,15,25],[14,18,14,19],[14,20,14,21],[14,22,14,23],[14,24,14,25],[14,26,15,28],[15,4,15,5],[15,6,15,7],[15,8,15,9],[15,10,15,11],[15,12,15,13],[13,22,13,23],[13,24,13,25],[14,1,15,3],[14,4,14,5],[14,6,14,7],[14,8,14,9],[14,10,14,11],[14,12,14,13],[14,14,14,15],[14,16,14,17],[12,26,13,28],[13,4,13,5],[13,6,13,7],[13,8,13,9],[13,10,13,11],[13,12,13,13],[13,14,13,15],[13,16,13,17],[13,18,13,19],[13,20,13,21],[12,14,12,15],[12,16,12,17],[12,18,12,19],[12,20,12,21],[12,22,12,23],[12,24,12,25],[8,0,8,4],[11,1,11,3],[11,4,11,25],[11,26,11,28],[12,1,13,3],[12,4,12,5],[12,6,12,7],[12,8,12,9],[12,10,12,11],[12,12,12,13],[5,0,5,4],[6,0,6,4],[6,5,6,12],[6,13,6,16],[6,17,6,22],[7,0,7,4],[7,5,7,22],[0,0,0,30],[1,0,1,30],[2,0,2,30],[3,0,3,9],[4,0,4,4],[4,5,4,30]]}
["各　　位　　下記要領により、本競技会を開催しますので多数参加下さるようご案内致します。"]
["オホーツク陸上競技協会　　会　長　　柿　本　弘　之"]
["オホーツク陸上選手権大会兼国体北海道選手選考予選会　大会要項"]
[]
[" 1. 主　  催",null,null,null,null,"オホーツク陸上競技協会"]
[" 2. 主　  管",null,null,null,null,"オホーツク陸上競技協会"]
[" 3. 期　  日",null,null,null,null,"平成３０年５月１２・１３日（土・日）",null,null,null,null,null,null,null,"競技開始",null,null,null,"午前９：００"]
[" 4. 会　  場",null,null,null,null,"北見市東陵公園陸上競技場（第３種公認）"]
[" 5. 競技種目"]
[null,null,null,null,1,null,2,null,3,null,4,null,5,null,6,null,7,null,8,null,9,null,10,null,11]
[null,null,null,null,12,null,13,null,14,null,15,null,16,null,17,null,18,null,19,null,20,null,21,null,22]
[null,"種　別",null,null,"競技種目",null,null,null,null,null,null,null,null,null,null,null,null,null,null,null,null,null,null,null,null,null,"種目数",null,null,null,null,null,null,0,"男",0,"高男",0,"中男",0,"小男"]
[null,"男　子",null,null,"100m",null,"200m",null,"400m",null,"800m",null,"1500m",null,"5000m",null,"110mH(1.067m)",null,"400mH(0.914m)",null,"3000mSC",null,"5000mW",null,"4X100mR",null,20,null,null,null,null,null,null,1,"100m",1,"高男100m",0,"中男1年100m",0,"小男幼児60m"]
[null,null,null,null,"4X400mR",null,"走高跳",null,"棒高跳",null,"走幅跳",null,"三段跳",null,"砲丸投",null,"円盤投",null,"ハンマー投",null,"やり投",null,null,null,"",null,null,null,null,null,null,null,null,2,"200m",2,"高男200m",0,"中男2年100m",0,"小男1年60m"]
[null,"高校男子",null,null,"100m",null,"200m",null,"400m",null,"800m",null,"1500m",null,"5000m",null,"110mH(1.067m)",null,"400mH(0.914m)",null,"3000mSC",null,"5000mW",null,"4X100mR",null,21,null,null,null,null,null,null,3,"400m",3,"高男400m",0,"中男3年100m",0,"小男2年60m"]
[null,null,null,null,"4X400mR",null,"走高跳",null,"棒高跳",null,"走幅跳",null,"三段跳",null,"砲丸投(6.000kg)",null,"円盤投(1.750kg)",null,"ハンマー投（6.000kg）",null,"やり投",null,"八種競技",null,"",null,null,null,null,null,null,null,null,4,"800m",4,"高男800m",0,"中男2･3年100m",0,"小男3年100m"]
[null,"中学男子",null,null,"100m",null,"200m",null,"400m",null,"800m",null,"1500m",null,"3000m",null,"110mH(0.914m)",null,"4X100mR",null,"走高跳",null,"棒高跳",null,"走幅跳",null,15,null,null,null,null,null,null,4,"1000m",4,"高男1000m",1,"中男100m",0,"小男4年100m"]
[null,null,null,null,"砲丸投(5.000kg)",null,"円盤投(1.500kg)",null,"ジャベリックスロー",null,"四種競技",null,null,null,"",null,"",null,"",null,"",null,"",null,"",null,null,null,null,null,null,null,null,5,"1500m",5,"高男1500m",2,"中男200m",0,"小男5年100m"]
[null,"小学男子\n",null,null,"100m",null,"800m",null,"1500m",null,"80mH",null,"4X100mR",null,"走高跳",null,"走幅跳",null,"砲丸投",null,"ソフトボール投",null,"",null,"",null,9,null,null,null,null,null,null,6,"5000m",6,"高男5000m",3,"中男400m",0,"小男6年100m"]
[null,null,null,null,"（３～６年）",null,"（３～４年）",null,"（５～６年）",null,"（５～６年）",null,"（４～６年）",null,"（５～６年）",null,"（４～６年）",null,"（６年）",null,"（４～６年）",null,"",null,"",null,null,null,null,null,null,null,null,7,"110mH(1.067m)",7,"高男110mH(1.067m)",4,"中男800m",1,"３～６年100m"]
[null,"女　子",null,null,"100m",null,"200m",null,"400m",null,"800m",null,"1500m",null,"3000m",null,"100mH",null,"400mH",null,"5000mW",null,"4X100mR",null,"4X400mR",null,19,null,null,null,null,null,null,8,"400mH(0.914m)",8,"高男400mH(0.914m)",4,"中男1年1500m",2,"３・４年800m"]
[null,null,null,null,"走高跳",null,"棒高跳",null,"走幅跳",null,"三段跳",null,"砲丸投",null,"円盤投",null,"ハンマー投",null,"やり投",null,null,null,"",null,"",null,null,null,null,null,null,null,null,9,"3000mSC",9,"高男3000mSC",4,"中男2年1500m",2,"小男共通800m"]
[null,"高校女子",null,null,"100m",null,"200m",null,"400m",null,"800m",null,"1500m",null,"3000m",null,"100mH",null,"400mH",null,"5000mW",null,"4X100mR",null,"4X400mR",null,20,null,null,null,null,null,null,10,"5000mW",10,"高男5000mW",4,"中男2･3年1500m",3,"５・６年1500m"]
[null,null,null,null,"走高跳",null,"棒高跳",null,"走幅跳",null,"三段跳",null,"砲丸投",null,"円盤投",null,"ハンマー投",null,"やり投",null,"七種競技",null,"",null,"",null,null,null,null,null,null,null,null,11,"4X100mR",11,"高男4X100mR",5,"中男1500m",3,"小男5年1500m"]
[null,"中学女子",null,null,"100m",null,"200m",null,"400m",null,"800m",null,"1500m",null,"3000m",null,"100mH(0.762m)",null,"4X100mR",null,"走高跳",null,"走幅跳",null,"砲丸投（2.721kg）",null,14,null,null,null,null,null,null,12,"4X400mR",12,"高男4X400mR",6,"中男3000m",3,"小男6年1500m"]
[null,null,null,null,"円盤投（1.000kg）",null,"ジャベリックスロー",null,"四種競技",null,"",null,"",null,"",null,"",null,"",null,"",null,"",null,"",null,null,null,null,null,null,null,null,13,"走高跳",13,"高男走高跳",6,"中男1年100mH",3,"小男4年1500m"]
[null,"小学女子\n",null,null,"100m",null,"800m",null,"80mH",null,"4X100mR",null,"走高跳",null,"走幅跳",null,"砲丸投",null,"ソフトボール投",null,null,null,null,null,"",null,8,null,null,null,null,null,null,14,"棒高跳",14,"高男棒高跳",7,"中男110mH(0.914m)",3,"小男共通1500m"]
[null,null,null,null,"（３～６年）",null,"（３～６年）",null,"（５～６年）",null,"（４～６年）",null,"（５～６年）",null,"（４～６年）",null,"（６年）",null,"（４～６年）",null,"",null,"",null,"",null,null,null,null,null,null,null,null,15,"走幅跳",15,"高男走幅跳",8,"中男4X100mR",4,"５･６年80mH"]
[null,"種目について",null,null,null,null,null,null,null,null,null,null,null,null,null,null,null,null,null,null,null,null,null,null,null,null,null,null,null,null,null,null,null,16,"三段跳",16,"高男三段跳",8,"中男4X100mR",4,"小男5年80mH"]
[null,null,"①","200m、400m、800m、1500m、女子3000m、5000m、400mH、3000msc、5000mw　は共通種目とする。",null,null,null,null,null,null,null,null,null,null,null,null,null,null,null,null,null,null,null,null,null,null,null,null,null,null,null,null,null,17,"砲丸投",17,"高男砲丸投(6.000kg)",9,"中男走高跳",4,"小男6年80mH"]
[null,null,"②","但し200m、400m、800m、1500m、女子3000mは中学生以上。5000m、400mH、3000msc、5000mwは高校生以上とする。",null,null,null,null,null,null,null,null,null,null,null,null,null,null,null,null,null,null,null,null,null,null,null,null,null,null,null,null,null,18,"円盤投",18,"高男円盤投(1.750kg)",10,"中男棒高跳",4,"小男4年80mH"]
[null,null,"③","高さ、重さの規格仕様は、一般、高校、中学、小学の区分とする。"]
[null,null,"④","小学男女リレーは３年生からエントリーできる。但し３年生単独チームは不可。"]
[" 6. 参加資格",null,null,null,null,null,null,null,null,null,null,null,null,null,null,null,null,null,null,null,null,null,null,null,null,null,null,null,null,null,null,null,null,19,"ハンマー投",19,"高男ハンマー投(6.000kg)",11,"中男走幅跳",5,"小男6年4X100mR"]
[null,"(1)","2018年度日本陸上競技連盟登録者（小中学生を除く）であること。",null,null,null,null,null,null,null,null,null,null,null,null,null,null,null,null,null,null,null,null,null,null,null,null,null,null,null,null,null,null,20,"やり投",20,"高男やり投",12,"中男1年砲丸投",5,"小男4年走高跳"]
[null,"(2)","大会参加者は、運営上必要なプログラム、記録表、掲示板、HP等へ氏名、所属、学年の記載を了承するものとする。",null,null,null,null,null,null,null,null,null,null,null,null,null,null,null,null,null,null,null,null,null,null,null,null,null,null,null,null,null,null,21,"十種競技",21,"高男八種競技",13,"中男砲丸投(5.000kg)",6,"５・６年走高跳"]
[" 7. 出場制限",null,null,null,null,null,null,null,null,null,null,null,null,null,null,null,null,null,null,null,null,null,null,null,null,null,null,null,null,null,null,null,null,0,"300m",0,"高男300m",14,"中男円盤投(1.500kg)",6,"小男6年走高跳"]
[null,"(1)","1人","2種目",null,"まで(リレーは除く)とする。",null,null,null,null,null,null,null,null,null,null,null,null,null,null,null,null,null,null,null,null,null,null,null,null,null,null,null,0,0,0,0,null,"中男四種競技",6,"小男走高跳"]
[" 8. 競技方法",null,null,null,null,"2018年度日本陸上競技連盟競技規則による。",null,null,null,null,null,null,null,null,null,null,null,null,null,null,null,null,null,null,null,null,null,null,null,null,null,null,null,0,0,0,0,15,"中男ジャベリックスロー",6,"小男5年走幅跳"]
[" 9. 表　  彰",null,null,null,null,"各種目8位まで表彰します。",null,null,null,null,null,null,null,null,null,null,null,null,null,null,null,null,null,null,null,null,null,null,null,null,null,null,null,0,0,0,0,null,"中男300m",6,"小男6年走幅跳"]
["10. 申込方法",null,null,null,null,"※記録は、番組編成時に必要となります。参考でもよろしいので必ず記入して下さい。",null,null,null,null,null,null,null,null,null,null,null,null,null,null,null,null,null,null,null,null,null,null,null,null,null,null,null,0,0,0,0,null,0,7,"４～６年走幅跳"]
[null,null,null,"必要書類",null,null,null,"作成方法・提出先",null,null,null,null,null,null,null,null,null,null,null,null,null,null,null,null,null,null,null,null,null,null,null,null,null,0,0,0,0,null,0,7,"小男5年砲丸投"]
[null,null,null,"入力表・確認書・参加料",null,null,null,"　オホーツク陸協HPよりダウンロードして必要事項を記入し、オホーツク陸協アドレス（orkkiroku@gmail.com）まで送信（メールの件名に選手権申込・団体名・申込責任者名を明記のこと）して下さい。さらにプリントアウトしたものを、４月２７日（金）までに参加料と合わせて郵送するかFAXで下記担当者まで送信してください。参加料については、４月２９日（日）の記録会に持参のうえ納めてくれても構いません。",null,null,null,null,null,null,null,null,null,null,null,null,null,null,null,null,null,null,null,null,null,null,null,null,null,0,0,0,0,null,0,8,"６年砲丸投"]
[null,null,null,null,null,null,null,null,null,null,null,null,null,null,null,null,null,null,null,null,null,null,null,null,null,null,null,null,null,null,null,null,null,null,null,0]
["11. 申込み料",null,null,null,null,null,null,null,null,null,null,null,null,null,null,null,null,null,null,null,null,null,null,null,null,null,null,null,null,null,null,null,null,0,0,0,0,null,0,8,"小男5年ｿﾌﾄﾎﾞｰﾙ投"]
[null,null,null,null,null,null,"一  般",null,null,null,"高校生",null,null,null,"中学生",null,null,null,"小学生",null,null,null,null,"申し込み締切\n4月27日(金)17:00",null,null,null,null,null,null,null,null,null,0,0,0,0,null,0,8,"小男4年ｿﾌﾄﾎﾞｰﾙ投"]
[null,"１種目の出場者",null,null,null,null,2000,null,null,null,1500,null,null,null,1000,null,null,null,800,null,null,null,null,null,null,null,null,null,null,null,null,null,null,0,0,0,0,null,0,9,"４～６年ソフトボール投"]
[null,"２種目の出場者",null,null,null,null,3000,null,null,null,2000,null,null,null,1500,null,null,null,1000,null,null,null,null,null,null,null,null,null,null,null,null,null,null,0,0,0,0,null,0,9,0]
[null,null,null,null,null,null,0,null,null,null,0,null,null,null,0,null,null,null,0,null,null,null,null,null,null,null,null,null,null,null,null,null,null,0,0,0,0,null,0,9,0]
[null,"ﾘﾚｰ１ﾁｰﾑ",null,null,null,null,2000,null,null,null,2000,null,null,null,1500,null,null,null,1000,null,null,null,null,null,null,null,null,null,null,null,null,null,null,0,0,0,0,0,0,0,0]
[null,null,null,null,null,null,null,null,null,null,null,null,null,null,null,null,null,null,null,null,null,null,null,"＊期限遅れ、当日及び電話等による申込み受付はしない。"]
["12. 担当者",null,null,null,null,null,null,null,null,null,null,null,null,null,null,null,null,null,null,null,null,null,null,null,null,null,null,null,null,null,null,null,null,0,"女",0,"高女",0,"中女",0,"小女"]
[null,"伊藤　浩紀",null,null,null,null,null,null,"連絡先",null,null,"090-6214-7360",null,null,null,null,"勤務先",null,null,"　北見緑陵高校(FAX　0157-36-4667)",null,null,null,null,null,null,null,null,null,null,null,null,null,1,"女100m",1,"高女100m",0,"中女1年100m",0,"小女幼児60m"]
["13. ﾅﾝﾊﾞｰｶｰﾄﾞ",null,null,null,null,null,null,null,null,null,null,null,null,null,null,null,null,null,null,null,null,null,null,null,null,null,null,null,null,null,null,null,null,2,"女200m",2,"高女200m",0,"中女2年100m",0,"小女1年60m"]
[null,"ﾅﾝﾊﾞｰｶｰﾄﾞは、割当番号を使用し各自用意すること。不足及び管外から申込者のﾅﾝﾊﾞｰｶｰﾄﾞは、事務局で準備する。",null,null,null,null,null,null,null,null,null,null,null,null,null,null,null,null,null,null,null,null,null,null,null,null,null,null,null,null,null,null,null,3,"女400m",3,"高女400m",0,"中女3年100m",0,"小女2年60m"]
["14. そ の 他",null,null,null,null,null,null,null,null,null,null,null,null,null,null,null,null,null,null,null,null,null,null,null,null,null,null,null,null,null,null,null,null,4,"女800m",4,"高女800m",0,"中女2･3年100m",0,"小女3年100m"]
[null,"(1)","万一事故が起こった場合、応急処置までの用意はありますが、それ以上の場合は本人の負担で処置願います。",null,null,null,null,null,null,null,null,null,null,null,null,null,null,null,null,null,null,null,null,null,null,null,null,null,null,null,null,null,null,4,"女1000m",4,"高女1000m",1,"中女100m",0,"小女4年100m"]
[null,"(2)","競技場は全天候型ウレタン舗装のため、スパイクピンは全天候用で長さは９ｍｍ以下を使用して下さい。",null,null,null,null,null,null,null,null,null,null,null,null,null,null,null,null,null,null,null,null,null,null,null,null,null,null,null,null,null,null,5,"女1500m",5,"高女1500m",2,"中女200m",0,"小女5年100m"]
[null,"(3)","競技日程は、プログラム編成後HPに掲載するので、御確認下さい。参加者には送付しません。",null,null,null,null,null,null,null,null,null,null,null,null,null,null,null,null,null,null,null,null,null,null,null,null,null,null,null,null,null,null,6,"女3000m",6,"高女3000m",null,null,0,"小女6年100m"]
[null,"(4)","トラック競技で予選を行う種目は、予選ベスト８で決勝を行う場合もある。800m以上は決勝タイムレースとする。",null,null,null,null,null,null,null,null,null,null,null,null,null,null,null,null,null,null,null,null,null,null,null,null,null,null,null,null,null,null,7,"女100mH",7,"高女100mH",3,"中女400m",1,"３～６年100m"]
["15. 競技役員の派遣について",null,null,null,null,null,null,null,null,null,null,null,null,null,null,null,null,null,null,null,null,null,null,null,null,null,null,null,null,null,null,null,null,8,"女400mH",8,"高女400mH",null,null,1,"小女4年800m"]
["　　　　本大会の競技運営につきまして、審判員が少なく補助生徒がいないため、各参加校から１名以上競技役員としてご協",null,null,null,null,null,null,null,null,null,null,null,null,null,null,null,null,null,null,null,null,null,null,null,null,null,null,null,null,null,null,null,null,9,"女5000mW",9,"高女5000mW",4,"中女800m",1,"小女5年800m"]
["　　　力下さるようお願い致します。なお、申込一覧表にて希望審判名を入力して下さい。",null,null,null,null,null,null,null,null,null,null,null,null,null,null,null,null,null,null,null,null,null,null,null,null,null,null,null,null,null,null,null,null,10,"女4X100mR",10,"高女4X100mR",null,null,1,"小女6年800m"]
[null,null,null,null,null,null,null,null,null,null,null,null,null,null,null,null,null,null,null,null,null,null,null,null,null,null,null,null,null,null,null,null,null,11,"女4X400mR",11,"高女4X400mR",null,"中女1000m",2,"３～６年800m"]
["16.競技日程について　＊参加人数により変更になる場合があります。",null,null,null,null,null,null,null,null,null,null,null,null,null,null,null,null,null,null,null,null,null,null,null,null,null,null,null,null,null,null,null,null,12,"女走高跳",12,"高女走高跳",5,"中女1500m",3,"５･６年80mH"]
[null,"１日目",null,"男　　子",null,null,"200m、800m、5000m、400mH、4×100mR、走高跳、棒高跳、三段跳、砲丸投、ヤリ投、八種（前半）　",null,null,null,null,null,null,null,null,null,null,null,null,null,null,null,null,null,null,null,null,null,null,null,null,null,null,13,"女棒高跳",13,"高女棒高跳",null,null,3,"小女5年80mH"]
[null,null,null,"女　　子",null,null,"200m、800m、3000m、400mH、4×100mR、走高跳、棒高跳、三段跳、砲丸投、ヤリ投、七種（前半）　",null,null,null,null,null,null,null,null,null,null,null,null,null,null,null,null,null,null,null,null,null,null,null,null,null,null,14,"女走幅跳",14,"高女走幅跳",6,"中女3000m",3,"小女6年80mH"]
[null,null,null,null,null,null,null,null,null,null,null,null,null,null,null,null,null,null,null,null,"競技日程は、５月８日にホームページに掲載予定です。必ずご確認ください。",null,null,null,null,null,null,null,null,null,null,null,null,14,"女走高跳",14,"高女走高跳",null,"中女3000m",3,"小女4年80mH"]
[null,null,null,"中学男子",null,null,"１00m、棒高跳、走幅跳、円盤投、ジャベリック投、四種（前半）",null,null,null,null,null,null,null,null,null,null,null,null,null,null,null,null,null,null,null,null,null,null,null,null,null,null,15,"女三段跳",15,"高女三段跳",null,"中女1年80mH",4,"４年以上4X100mR"]
[null,null,null,"中学女子",null,null,"100m、走幅跳、円盤投、ジャベリック投、四種（前半）"]
[null,null,null,"小学男女",null,null,"100m、走幅跳を除く種目(100m、走幅跳は2日目)",null,null,null,null,null,null,null,null,null,null,null,null,null,null,null,null,null,null,null,null,null,null,null,null,null,null,16,"女砲丸投",16,"高女砲丸投",7,"中女100mH(0.762m)",5,"小女5年4X100mR"]
[null,null,null,null,null,null,null,null,null,null,null,null,null,null,null,null,null,null,null,null,null,null,null,null,null,null,null,null,null,null,null,null,null,17,"女円盤投",17,"高女円盤投",8,"中女走高跳",6,"小女6年4X100mR"]
[null,null,null,null,null,null,null,null,null,null,null,null,null,null,null,null,null,null,null,null,null,null,null,null,null,null,null,null,null,null,null,null,null,18,"女ハンマー投",18,"高女ハンマー投",9,"中女走幅跳",6,"小女5年走高跳"]
[null,null,null,null,null,null,null,null,null,null,null,null,null,null,null,null,null,null,null,null,null,null,null,null,null,null,null,null,null,null,null,null,null,19,"女やり投",19,"高女やり投",10,"中女砲丸投(2.721kg)",6,"小女6年走高跳"]
[null,null,null,null,null,null,null,null,null,null,null,null,null,null,null,null,null,null,null,null,null,null,null,null,null,null,null,null,null,null,null,null,null,20,"女七種競技",20,"高女七種競技",11,"中女円盤投(1.000kg)",6,"小女4年走高跳"]
[null,null,null,null,null,null,null,null,null,null,null,null,null,null,null,null,null,null,null,null,null,null,null,null,null,null,null,null,null,null,null,null,null,20,"女300m",20,"高女300m",12,"中女ジャベリックスロー",7,"５・６走高跳"]
[null,null,null,null,null,null,null,null,null,null,null,null,null,null,null,null,null,null,null,null,null,null,null,null,null,null,null,null,null,null,null,null,null,20,0,20,0,null,"中女300m",7,"小女4年走幅跳"]
[null,null,null,null,null,null,null,null,null,null,null,null,null,null,null,null,null,null,null,null,null,null,null,null,null,null,null,null,null,null,null,null,null,20,0,20,0,13,"中女4X100mR",7,"小女5年走幅跳"]
[null,null,null,null,null,null,null,null,null,null,null,null,null,null,null,null,null,null,null,null,null,null,null,null,null,null,null,null,null,null,null,null,null,20,0,20,0,14,"中女四種競技",7,"小女6年走幅跳"]
[null,null,null,null,null,null,null,null,null,null,null,null,null,null,null,null,null,null,null,null,null,null,null,null,null,null,null,null,null,null,null,null,null,20,0,20,0,null,0,8,"４～６年走幅跳"]
[null,null,null,null,null,null,null,null,null,null,null,null,null,null,null,null,null,null,null,null,null,null,null,null,null,null,null,null,null,null,null,null,null,20,0,20,0,null,0,8,"小女5年砲丸投"]
[null,null,null,null,null,null,null,null,null,null,null,null,null,null,null,null,null,null,null,null,null,null,null,null,null,null,null,null,null,null,null,null,null,20,0,20,0,null,0,9,"６年砲丸投"]
[null,null,null,null,null,null,null,null,null,null,null,null,null,null,null,null,null,null,null,null,null,null,null,null,null,null,null,null,null,null,null,null,null,20,0,20,0,null,0,9,"小女砲丸投(2.721kg)"]
[null,null,null,null,null,null,null,null,null,null,null,null,null,null,null,null,null,null,null,null,null,null,null,null,null,null,null,null,null,null,null,null,null,20,0,20,0,null,0,9,"小女6年ｿﾌﾄﾎﾞｰﾙ投"]
[null,null,null,null,null,null,null,null,null,null,null,null,null,null,null,null,null,null,null,null,null,null,null,null,null,null,null,null,null,null,null,null,null,20,0,20,0,null,0,9,"小女5年ｿﾌﾄﾎﾞｰﾙ投"]
[null,null,null,null,null,null,null,null,null,null,null,null,null,null,null,null,null,null,null,null,null,null,null,null,null,null,null,null,null,null,null,null,null,20,0,20,0,null,0,9,"小女4年ｿﾌﾄﾎﾞｰﾙ投"]
[null,null,null,null,null,null,null,null,null,null,null,null,null,null,null,null,null,null,null,null,null,null,null,null,null,null,null,null,null,null,null,null,null,20,0,20,0,null,0,10,"４～６年ソフトボール投"]
[null,null,null,null,null,null,null,null,null,null,null,null,null,null,null,null,null,null,null,null,null,null,null,null,null,null,null,null,null,null,null,null,null,20,0,20,0,null,0,10,0]
[null,null,null,null,null,null,null,null,null,null,null,null,null,null,null,null,null,null,null,null,null,null,null,null,null,null,null,null,null,null,null,null,null,20,0,20,0,null,0,10,0]
[null,null,null,null,null,null,null,null,null,null,null,null,null,null,null,null,null,null,null,null,null,null,null,null,null,null,null,null,null,null,null,null,null,20,0,20,0,null,0,10,0]

{"sheet":"入力表・参加種目確認","index":1,"n_rows":122,"n_cols":125,"rows_kept":122,"cut":false,"hidden":false,"merged":[[59,6,59,16],[60,6,60,16],[61,6,61,16],[62,6,62,16],[63,6,63,16],[64,6,64,16],[65,6,65,16],[66,6,66,16],[67,6,67,16],[68,6,68,16],[69,6,69,16],[70,6,70,16],[71,6,71,16],[72,6,72,16],[104,6,104,16],[105,6,105,16],[106,6,106,16],[87,6,87,16],[88,6,88,16],[89,6,89,16],[90,6,90,16],[91,6,91,16],[92,6,92,16],[93,6,93,16],[94,6,94,16],[95,6,95,16],[96,6,96,16],[97,6,97,16],[98,6,98,16],[99,6,99,16],[100,6,100,16],[101,6,101,16],[107,6,107,16],[109,25,109,28],[109,29,109,32],[109,33,109,36],[109,37,109,40],[109,41,109,44],[109,45,109,48],[109,52,109,56],[109,57,109,60],[109,61,109,64],[109,65,109,68],[109,69,109,72],[109,73,109,76],[103,6,103,16],[109,77,109,80],[104,17,104,20],[104,21,104,24],[104,25,104,28],[104,29,104,32],[104,33,104,36],[104,37,104,40],[104,41,104,44],[104,45,104,48],[104,49,104,52],[104,53,104,56],[104,57,104,60],[104,61,104,64],[104,65,104,68],[104,69,104,72],[104,73,104,76],[104,77,104,80],[105,69,105,72],[102,6,102,16],[12,39,12,46],[12,53,12,60],[12,67,12,74],[12,116,12,117],[12,78,12,80],[12,75,12,77],[12,61,12,66],[10,104,12,104],[10,106,12,106],[10,108,12,108],[10,110,12,110],[10,112,12,112],[10,114,12,114],[10,98,12,98],[10,99,12,99],[10,101,12,101],[10,100,12,100],[10,102,12,102],[10,88,12,88],[10,89,11,93],[10,94,12,94],[10,95,12,95],[10,96,12,96],[10,103,12,103],[10,105,12,105],[10,107,12,107],[10,109,12,109],[10,111,12,111],[10,113,12,113],[11,33,11,67],[10,115,12,115],[10,116,11,121],[10,97,12,97],[25,75,25,77],[13,78,13,80],[14,78,14,80],[15,78,15,80],[16,78,16,80],[17,78,17,80],[18,78,18,80],[19,78,19,80],[19,75,19,77],[20,75,20,77],[22,75,22,77],[23,75,23,77],[24,75,24,77],[13,75,13,77],[14,75,14,77],[15,75,15,77],[16,75,16,77],[17,75,17,77],[18,75,18,77],[21,75,21,77],[26,78,26,80],[27,78,27,80],[28,78,28,80],[29,78,29,80],[30,78,30,80],[51,75,51,77],[52,75,52,77],[43,75,43,77],[44,75,44,77],[45,75,45,77],[46,75,46,77],[47,75,47,77],[48,75,48,77],[37,75,37,77],[38,75,38,77],[39,75,39,77],[40,75,40,77],[41,75,41,77],[42,75,42,77],[49,75,49,77],[50,75,50,77],[31,75,31,77],[32,75,32,77],[33,75,33,77],[34,75,34,77],[35,75,35,77],[36,75,36,77],[50,78,50,80],[51,78,51,80],[52,78,52,80],[44,78,44,80],[45,78,45,80],[46,78,46,80],[47,78,47,80],[48,78,48,80],[49,78,49,80],[40,78,40,80],[41,78,41,80],[42,78,42,80],[43,78,43,80],[32,78,32,80],[33,78,33,80],[34,78,34,80],[35,78,35,80],[36,78,36,80],[37,78,37,80],[38,78,38,80],[39,78,39,80],[35,0,35,1],[36,0,36,1],[37,0,37,1],[38,0,38,1],[42,13,42,19],[43,13,43,19],[44,13,44,19],[45,13,45,19],[46,13,46,19],[35,13,35,19],[36,13,36,19],[37,13,37,19],[38,13,38,19],[39,13,39,19],[40,13,40,19],[48,30,48,32],[27,0,27,1],[28,0,28,1],[29,0,29,1],[30,0,30,1],[31,0,31,1],[32,0,32,1],[21,0,21,1],[22,0,22,1],[23,0,23,1],[24,0,24,1],[25,0,25,1],[26,0,26,1],[12,0,12,1],[13,0,13,1],[14,0,14,1],[15,0,15,1],[16,0,16,1],[17,0,17,1],[18,0,18,1],[19,0,19,1],[20,0,20,1],[30,2,30,6],[31,2,31,6],[20,2,20,6],[21,2,21,6],[22,2,22,6],[23,2,23,6],[24,2,24,6],[25,2,25,6],[51,0,51,1],[52,0,52,1],[12,2,12,6],[13,2,13,6],[14,2,14,6],[15,2,15,6],[16,2,16,6],[17,2,17,6],[18,2,18,6],[19,2,19,6],[45,0,45,1],[46,0,46,1],[47,0,47,1],[48,0,48,1],[49,0,49,1],[50,0,50,1],[39,0,39,1],[40,0,40,1],[41,0,41,1],[42,0,42,1],[43,0,43,1],[44,0,44,1],[33,0,33,1],[34,0,34,1],[50,2,50,6],[51,2,51,6],[52,2,52,6],[12,7,12,8],[13,7,13,8],[14,7,14,8],[15,7,15,8],[16,7,16,8],[17,7,17,8],[18,7,18,8],[44,2,44,6],[45,2,45,6],[46,2,46,6],[47,2,47,6],[48,2,48,6],[49,2,49,6],[38,2,38,6],[39,2,39,6],[40,2,40,6],[41,2,41,6],[42,2,42,6],[43,2,43,6],[32,2,32,6],[33,2,33,6],[34,2,34,6],[35,2,35,6],[36,2,36,6],[37,2,37,6],[26,2,26,6],[27,2,27,6],[28,2,28,6],[29,2,29,6],[12,9,12,12],[13,9,13,12],[14,9,14,12],[15,9,15,12],[16,9,16,12],[17,9,17,12],[43,7,43,8],[44,7,44,8],[45,7,45,8],[46,7,46,8],[47,7,47,8],[48,7,48,8],[37,7,37,8],[38,7,38,8],[39,7,39,8],[40,7,40,8],[41,7,41,8],[42,7,42,8],[31,7,31,8],[32,7,32,8],[33,7,33,8],[34,7,34,8],[35,7,35,8],[48,9,48,12],[18,9,18,12],[19,9,19,12],[20,9,20,12],[21,9,21,12],[22,9,22,12],[23,9,23,12],[52,13,52,19],[41,13,41,19],[50,7,50,8],[51,7,51,8],[36,7,36,8],[25,7,25,8],[26,7,26,8],[27,7,27,8],[28,7,28,8],[29,7,29,8],[30,7,30,8],[19,7,19,8],[20,7,20,8],[21,7,21,8],[22,7,22,8],[23,7,23,8],[24,7,24,8],[32,9,32,12],[33,9,33,12],[49,9,49,12],[50,9,50,12],[51,9,51,12],[52,7,52,8],[49,7,49,8],[18,26,18,29],[19,26,19,29],[52,9,52,12],[12,13,12,19],[13,13,13,19],[14,13,14,19],[15,13,15,19],[16,13,16,19],[42,9,42,12],[43,9,43,12],[44,9,44,12],[45,9,45,12],[46,9,46,12],[47,9,47,12],[36,9,36,12],[37,9,37,12],[38,9,38,12],[39,9,39,12],[40,9,40,12],[41,9,41,12],[30,9,30,12],[31,9,31,12],[34,13,34,19],[34,9,34,12],[35,9,35,12],[24,9,24,12],[25,9,25,12],[26,9,26,12],[27,9,27,12],[28,9,28,12],[29,9,29,12],[51,13,51,19],[12,26,12,29],[47,13,47,19],[48,13,48,19],[49,13,49,19],[50,13,50,19],[23,13,23,19],[24,13,24,19],[25,13,25,19],[26,13,26,19],[27,13,27,19],[28,13,28,19],[17,13,17,19],[18,13,18,19],[19,13,19,19],[20,13,20,19],[21,13,21,19],[22,13,22,19],[29,13,29,19],[30,13,30,19],[31,13,31,19],[32,13,32,19],[33,13,33,19],[21,26,21,29],[22,26,22,29],[23,26,23,29],[24,26,24,29],[25,26,25,29],[13,26,13,29],[14,26,14,29],[15,26,15,29],[16,26,16,29],[17,26,17,29],[52,26,52,29],[12,20,12,25],[13,20,13,25],[14,20,14,25],[15,20,15,25],[16,20,16,25],[17,20,17,25],[18,20,18,25],[44,26,44,29],[45,26,45,29],[46,26,46,29],[47,26,47,29],[48,26,48,29],[49,26,49,29],[38,26,38,29],[39,26,39,29],[40,26,40,29],[41,26,41,29],[42,26,42,29],[43,26,43,29],[32,26,32,29],[33,26,33,29],[34,26,34,29],[35,26,35,29],[36,26,36,29],[37,26,37,29],[26,26,26,29],[27,26,27,29],[28,26,28,29],[29,26,29,29],[30,26,30,29],[31,26,31,29],[52,20,52,25],[43,20,43,25],[44,20,44,25],[45,20,45,25],[46,20,46,25],[47,20,47,25],[48,20,48,25],[37,20,37,25],[38,20,38,25],[39,20,39,25],[40,20,40,25],[41,20,41,25],[42,20,42,25],[31,20,31,25],[32,20,32,25],[33,20,33,25],[34,20,34,25],[35,20,35,25],[36,20,36,25],[16,30,16,32],[46,30,46,32],[47,30,47,32],[36,30,36,32],[37,30,37,32],[38,30,38,32],[39,30,39,32],[34,30,34,32],[35,30,35,32],[24,30,24,32],[25,30,25,32],[26,30,26,32],[27,30,27,32],[23,30,23,32],[49,20,49,25],[50,20,50,25],[51,20,51,25],[25,20,25,25],[26,20,26,25],[27,20,27,25],[28,20,28,25],[29,20,29,25],[30,20,30,25],[19,20,19,25],[20,20,20,25],[21,20,21,25],[22,20,22,25],[23,20,23,25],[24,20,24,25],[50,26,50,29],[51,26,51,29],[20,26,20,29],[49,30,49,32],[50,30,50,32],[51,30,51,32],[52,30,52,32],[12,33,12,38],[13,33,13,38],[14,33,14,38],[15,33,15,38],[16,33,16,38],[40,30,40,32],[41,30,41,32],[42,30,42,32],[43,30,43,32],[44,30,44,32],[45,30,45,32],[28,30,28,32],[29,30,29,32],[30,30,30,32],[31,30,31,32],[32,30,32,32],[33,30,33,32],[17,30,17,32],[18,30,18,32],[19,30,19,32],[20,30,20,32],[21,30,21,32],[22,30,22,32],[12,30,12,32],[13,30,13,32],[14,30,14,32],[15,30,15,32],[50,33,50,38],[51,33,51,38],[52,33,52,38],[41,33,41,38],[42,33,42,38],[43,33,43,38],[44,33,44,38],[45,33,45,38],[46,33,46,38],[26,33,26,38],[27,33,27,38],[28,33,28,38],[17,33,17,38],[18,33,18,38],[19,33,19,38],[20,33,20,38],[21,33,21,38],[22,33,22,38],[47,33,47,38],[48,33,48,38],[49,33,49,38],[35,33,35,38],[36,33,36,38],[37,33,37,38],[38,33,38,38],[39,33,39,38],[40,33,40,38],[29,33,29,38],[30,33,30,38],[31,33,31,38],[32,33,32,38],[33,33,33,38],[34,33,34,38],[23,33,23,38],[24,33,24,38],[25,33,25,38],[52,61,52,66],[12,47,12,52],[13,47,13,52],[14,47,14,52],[15,47,15,52],[16,47,16,52],[17,47,17,52],[43,61,43,66],[44,61,44,66],[45,61,45,66],[46,61,46,66],[47,61,47,66],[48,61,48,66],[37,61,37,66],[38,61,38,66],[39,61,39,66],[40,61,40,66],[41,61,41,66],[42,61,42,66],[31,61,31,66],[32,61,32,66],[33,61,33,66],[34,61,34,66],[35,61,35,66],[13,61,13,66],[14,61,14,66],[15,61,15,66],[16,61,16,66],[17,61,17,66],[18,61,18,66],[49,61,49,66],[50,61,50,66],[51,61,51,66],[36,61,36,66],[25,61,25,66],[26,61,26,66],[27,61,27,66],[28,61,28,66],[29,61,29,66],[30,61,30,66],[19,61,19,66],[20,61,20,66],[21,61,21,66],[22,61,22,66],[23,61,23,66],[24,61,24,66],[32,47,32,52],[33,47,33,52],[40,47,40,52],[41,47,41,52],[30,47,30,52],[31,47,31,52],[11,68,11,80],[34,47,34,52],[35,47,35,52],[24,47,24,52],[25,47,25,52],[26,47,26,52],[27,47,27,52],[28,47,28,52],[29,47,29,52],[48,47,48,52],[18,47,18,52],[19,47,19,52],[20,47,20,52],[21,47,21,52],[22,47,22,52],[23,47,23,52],[31,78,31,80],[20,78,20,80],[21,78,21,80],[22,78,22,80],[23,78,23,80],[24,78,24,80],[25,78,25,80],[26,75,26,77],[27,75,27,77],[28,75,28,77],[29,75,29,77],[30,75,30,77],[7,59,7,80],[9,2,10,6],[9,7,10,9],[9,10,10,21],[9,0,10,1],[5,0,6,3],[3,7,4,10],[3,0,4,3],[5,4,6,12],[9,23,10,26],[9,27,10,37],[8,23,8,26],[8,27,8,29],[8,30,8,33],[8,34,8,37],[5,34,5,37],[6,23,6,26],[6,27,6,29],[6,30,6,33],[6,34,6,37],[7,23,7,26],[7,27,7,29],[7,30,7,33],[3,34,4,37],[8,59,8,62],[9,59,9,62],[10,59,10,62],[8,70,8,73],[9,70,9,73],[10,70,10,73],[49,47,49,52],[50,47,50,52],[51,47,51,52],[52,47,52,52],[42,47,42,52],[43,47,43,52],[44,47,44,52],[45,47,45,52],[46,47,46,52],[47,47,47,52],[36,47,36,52],[37,47,37,52],[38,47,38,52],[39,47,39,52],[0,59,0,80],[0,24,1,33],[1,59,1,62],[2,59,2,62],[3,59,3,62],[4,59,4,62],[5,59,5,62],[6,59,6,62],[1,70,1,73],[2,70,2,73],[3,70,3,73],[4,70,4,73],[5,70,5,73],[6,70,6,73],[5,23,5,26],[5,27,5,29],[5,30,5,33],[3,30,4,33],[7,39,10,57],[0,0,1,23],[3,4,4,6],[3,11,4,21],[5,13,6,21],[7,0,8,3],[7,4,8,12],[7,13,8,21],[3,23,4,26],[3,27,4,29],[3,52,3,57],[3,46,3,51],[0,43,1,57],[0,39,1,42],[7,34,7,37],[4,46,4,51],[5,46,5,51],[4,39,4,45],[5,39,5,45],[3,39,3,45],[6,39,6,57],[4,52,4,57],[5,52,5,57],[78,3,78,5],[78,17,78,20],[78,21,78,24],[78,25,78,28],[78,29,78,32],[77,3,77,5],[76,17,76,20],[76,21,76,24],[76,25,76,28],[76,29,76,32],[74,17,74,20],[74,21,74,24],[74,25,74,28],[74,29,74,32],[76,6,76,16],[77,6,77,16],[78,6,78,16],[74,6,74,16],[75,6,75,16],[80,6,80,16],[81,6,81,16],[82,6,82,16],[83,6,83,16],[84,6,84,16],[85,6,85,16],[86,6,86,16],[72,17,72,20],[72,21,72,24],[72,25,72,28],[72,29,72,32],[70,17,70,20],[70,21,70,24],[70,25,70,28],[70,29,70,32],[68,17,68,20],[68,21,68,24],[68,25,68,28],[68,29,68,32],[79,6,79,16],[73,6,73,16],[59,77,59,80],[59,17,59,20],[59,21,59,24],[59,25,59,28],[59,29,59,32],[59,33,59,36],[59,37,59,40],[59,41,59,44],[59,45,59,48],[59,49,59,52],[59,53,59,56],[59,57,59,60],[59,61,59,64],[59,65,59,68],[59,69,59,72],[59,73,59,76],[94,17,94,20],[94,21,94,24],[94,25,94,28],[94,29,94,32],[92,17,92,20],[92,21,92,24],[92,25,92,28],[92,29,92,32],[90,17,90,20],[90,21,90,24],[90,25,90,28],[90,29,90,32],[88,17,88,20],[88,21,88,24],[88,25,88,28],[88,29,88,32],[56,33,57,51],[56,18,57,27],[56,0,57,17],[76,3,76,5],[59,0,59,2],[99,3,99,5],[100,3,100,5],[101,3,101,5],[102,3,102,5],[103,3,103,5],[104,3,104,5],[105,3,105,5],[106,3,106,5],[107,3,107,5],[89,3,89,5],[90,3,90,5],[91,3,91,5],[103,21,103,24],[103,25,103,28],[103,29,103,32],[100,17,100,20],[100,21,100,24],[100,25,100,28],[100,29,100,32],[98,3,98,5],[98,17,98,20],[98,21,98,24],[98,25,98,28],[98,29,98,32],[96,17,96,20],[96,21,96,24],[96,25,96,28],[56,53,57,80],[60,3,60,5],[61,3,61,5],[62,3,62,5],[63,3,63,5],[64,3,64,5],[65,3,65,5],[66,3,66,5],[67,3,67,5],[68,3,68,5],[69,3,69,5],[70,3,70,5],[71,3,71,5],[72,3,72,5],[73,3,73,5],[74,3,74,5],[75,3,75,5],[59,3,59,5],[56,29,57,32],[62,57,62,60],[62,61,62,64],[62,65,62,68],[62,69,62,72],[62,73,62,76],[62,77,62,80],[60,77,60,80],[61,17,61,20],[61,21,61,24],[61,25,61,28],[61,29,61,32],[61,33,61,36],[61,37,61,40],[97,3,97,5],[60,57,60,60],[60,61,60,64],[60,65,60,68],[60,69,60,72],[60,73,60,76],[60,0,83,2],[60,17,60,20],[60,21,60,24],[60,25,60,28],[60,29,60,32],[60,33,60,36],[60,37,60,40],[62,17,62,20],[62,21,62,24],[62,25,62,28],[62,29,62,32],[62,33,62,36],[62,37,62,40],[63,17,63,20],[63,21,63,24],[63,25,63,28],[63,29,63,32],[63,33,63,36],[79,3,79,5],[80,3,80,5],[81,3,81,5],[62,45,62,48],[62,49,62,52],[62,53,62,56],[84,0,107,2],[107,17,107,20],[60,41,60,44],[60,45,60,48],[60,49,60,52],[60,53,60,56],[65,45,65,48],[63,73,63,76],[63,77,63,80],[65,49,65,52],[65,53,65,56],[65,57,65,60],[65,61,65,64],[65,65,65,68],[65,69,65,72],[65,73,65,76],[65,77,65,80],[95,3,95,5],[96,3,96,5],[82,3,82,5],[83,3,83,5],[84,3,84,5],[85,3,85,5],[86,3,86,5],[87,3,87,5],[96,29,96,32],[88,3,88,5],[92,3,92,5],[93,3,93,5],[94,3,94,5],[86,17,86,20],[86,21,86,24],[86,25,86,28],[86,29,86,32],[64,57,64,60],[64,61,64,64],[64,65,64,68],[64,69,64,72],[64,73,64,76],[64,77,64,80],[63,37,63,40],[63,41,63,44],[63,45,63,48],[63,49,63,52],[63,53,63,56],[63,57,63,60],[63,61,63,64],[63,65,63,68],[63,69,63,72],[61,41,61,44],[61,45,61,48],[61,49,61,52],[61,53,61,56],[61,57,61,60],[61,61,61,64],[61,65,61,68],[61,69,61,72],[61,73,61,76],[61,77,61,80],[62,41,62,44],[65,17,65,20],[65,21,65,24],[65,25,65,28],[65,29,65,32],[65,33,65,36],[65,37,65,40],[65,41,65,44],[64,17,64,20],[64,21,64,24],[64,25,64,28],[64,29,64,32],[64,33,64,36],[64,37,64,40],[64,41,64,44],[64,45,64,48],[64,49,64,52],[64,53,64,56],[66,73,66,76],[66,77,66,80],[67,17,67,20],[67,21,67,24],[67,25,67,28],[67,29,67,32],[67,33,67,36],[67,37,67,40],[67,41,67,44],[67,45,67,48],[67,49,67,52],[67,53,67,56],[67,57,67,60],[67,61,67,64],[67,65,67,68],[67,69,67,72],[67,73,67,76],[67,77,67,80],[66,17,66,20],[66,21,66,24],[66,25,66,28],[66,29,66,32],[66,33,66,36],[66,37,66,40],[66,41,66,44],[66,45,66,48],[66,49,66,52],[66,53,66,56],[66,57,66,60],[66,61,66,64],[66,65,66,68],[66,69,66,72],[68,69,68,72],[68,73,68,76],[68,77,68,80],[69,17,69,20],[69,21,69,24],[69,25,69,28],[69,29,69,32],[69,33,69,36],[69,37,69,40],[69,41,69,44],[69,45,69,48],[69,49,69,52],[69,53,69,56],[69,57,69,60],[69,61,69,64],[69,65,69,68],[69,69,69,72],[69,73,69,76],[69,77,69,80],[68,33,68,36],[68,37,68,40],[68,41,68,44],[68,45,68,48],[68,49,68,52],[68,53,68,56]],"merged_total":1676,"flags":["merged_cut"]}
[{"$f":"①初期設定!M1","v":"オホーツク陸上競技選手権大会"},null,null,null,null,null,null,null,null,null,null,null,null,null,null,null,null,null,null,null,null,null,null,null,"参加申込用紙",null,null,null,null,null,null,null,null,null,null,null,null,null,null,"〆切",null,null,null,{"$f":"CONCATENATE(①初期設定!B23,①初期設定!C23,①初期設定!D23,①初期設定!E23,①初期設定!F23,①初期設定!G23,①初期設定!H23,①初期設定!I23,①初期設定!J23,①初期設定!K23)","v":"4月27日（金）17：00"},null,null,null,null,null,null,null,null,null,null,null,null,null,null,null,"400mRベスト記録"]
[null,null,null,null,null,null,null,null,null,null,null,null,null,null,null,null,null,null,null,null,null,null,null,null,null,null,null,null,null,null,null,null,null,null,null,null,null,null,null,null,null,null,null,null,null,null,null,null,null,null,null,null,null,null,null,null,null,null,null,"男子A",null,null,null,null,"分",null,null,"秒",null,null,"女子A",null,null,null,null,"分",null,null,"秒",null,null,null,{"$f":"IF(COUNTIF($BX$14:$BZ$53,BH2)>0,\"○\",\"0\")","v":"0"},{"$f":"IF(COUNTIF($BX$14:$BZ$53,BS2)>0,\"○\",\"0\")","v":"0"},"男4R","女4R","男16R","女16R"]
[null,null,null,null,null,null,null,null,null,null,null,null,null,null,null,null,null,null,null,null,null,null,null,null,null,null,null,null,null,null,null,null,null,null,null,null,null,null,null,null,null,null,null,null,null,null,null,null,null,null,null,null,null,null,null,null,null,null,null,"男子B",null,null,null,null,"分",null,null,"秒",null,null,"女子B",null,null,null,null,"分",null,null,"秒",null,null,null,{"$f":"IF(COUNTIF($BX$14:$BZ$53,BH3)>0,\"○\",\"0\")","v":"0"},{"$f":"IF(COUNTIF($BX$14:$BZ$53,BS3)>0,\"○\",\"0\")","v":"0"},{"$f":"COUNTIF(CE2:CE7,\"○\")","v":0},{"$f":"COUNTIF(CF2:CF7,\"○\")","v":0},{"$f":"COUNTIF(CE9:CE11,\"○\")","v":0},{"$f":"COUNTIF(CF9:CF11,\"○\")","v":0}]
["クラス",null,null,null,null,null,null,"団体名",null,null,null,null,null,null,null,null,null,null,null,null,null,null,null,"内訳",null,null,null,"数",null,null,"参加料",null,null,null,"小計",null,null,null,null,"審判員氏名",null,null,null,null,null,null,"希望役職①",null,null,null,null,null,"希望役職②",null,null,null,null,null,null,"男子C",null,null,null,null,"分",null,null,"秒",null,null,"女子C",null,null,null,null,"分",null,null,"秒",null,null,null,"0","0"]
[null,null,null,null,null,null,null,null,null,null,null,null,null,null,null,null,null,null,null,null,null,null,null,null,null,null,null,null,null,null,null,null,null,null,null,null,null,null,null,null,null,null,null,null,null,null,null,null,null,null,null,null,null,null,null,null,null,null,null,"男子D",null,null,null,null,"分",null,null,"秒",null,null,"女子D",null,null,null,null,"分",null,null,"秒",null,null,null,"0","0"]
["責任者",null,null,null,null,null,null,null,null,null,null,null,null,"所属陸協",null,null,null,null,null,null,null,null,null,"1種目",null,null,null,{"$f":"COUNTIF($CE$14:$CE$53,1)","v":0},null,null,{"$f":"VLOOKUP($E$4&X6,①初期設定!$B$29:$G$47,4,FALSE)","v":{"$error":"#N/A"}},null,null,null,{"$f":"AB6*AE6","v":{"$error":"#N/A"}},null,null,null,null,null,null,null,null,null,null,null,null,null,null,null,null,null,null,null,null,null,null,null,null,"男子E",null,null,null,null,"分",null,null,"秒",null,null,"女子E",null,null,null,null,"分",null,null,"秒",null,null,null,"0","0"]
[null,null,null,null,null,null,null,null,null,null,null,null,null,null,null,null,null,null,null,null,null,null,null,"2種目",null,null,null,{"$f":"COUNTIF($CE$14:$CE$53,2)","v":0},null,null,{"$f":"VLOOKUP($E$4&X7,①初期設定!$B$29:$G$47,4,FALSE)","v":{"$error":"#N/A"}},null,null,null,{"$f":"AB7*AE7","v":{"$error":"#N/A"}},null,null,null,null,"何かあれば、下記の欄にご記入ください！",null,null,null,null,null,null,null,null,null,null,null,null,null,null,null,null,null,null,null,"男子F",null,null,null,null,"分",null,null,"秒",null,null,"女子F",null,null,null,null,"分",null,null,"秒",null,null,null,"0",{"$f":"IF(COUNTIF($BX$14:$BZ$53,BS7)>0,\"○\",\"0\")","v":"0"}]
["携帯",null,null,null,null,null,null,null,null,null,null,null,null,null,null,null,null,null,null,null,null,null,null,"3種目",null,null,null,{"$f":"COUNTIF($CE$14:$CE$53,3)","v":0},null,null,{"$f":"VLOOKUP($E$4&X8,①初期設定!$B$29:$G$47,4,FALSE)","v":{"$error":"#N/A"}},null,null,null,{"$error":"#N/A"},null,null,null,null,null,null,null,null,null,null,null,null,null,null,null,null,null,null,null,null,null,null,null,null,"1600mRベスト記録"]
[null,null,null,null,null,null,null,null,null,null,null,null,null,null,null,null,null,null,null,null,null,null,null,"リレー",null,null,null,{"$f":"COUNTIF(CE2:CF11,\"○\")","v":0},null,null,{"$f":"IF(ISERROR(VLOOKUP($E$4&X9,①初期設定!$B$29:$G$47,4,FALSE)),0,VLOOKUP($E$4&X9,①初期設定!$B$29:$G$47,4,FALSE))","v":0},null,null,null,0,null,null,null,null,null,null,null,null,null,null,null,null,null,null,null,null,null,null,null,null,null,null,null,null,"男子A",null,null,null,null,"分",null,null,"秒",null,null,"女子A",null,null,null,null,"分",null,null,"秒",null,null,null,{"$f":"IF(COUNTIF($CA$14:$CC$53,BH9)>0,\"○\",\"0\")","v":"0"},{"$f":"IF(COUNTIF($CA$14:$CC$53,BS9)>0,\"○\",\"0\")","v":"0"}]
["〒",null,null,null,null,null,null,"住所",null,null,null,null,null,null,null,null,null,null,null,null,null,null,null,"合計",null,null,null,{"$f":"SUM(AI6:AL9)","v":{"$error":"#N/A"}},null,null,null,null,null,null,null,null,null,null,null,null,null,null,null,null,null,null,null,null,null,null,null,null,null,null,null,null,null,null,null,"男子B",null,null,null,null,"分",null,null,"秒",null,null,"女子B",null,null,null,null,"分",null,null,"秒",null,null,null,{"$f":"IF(COUNTIF($CA$14:$CC$53,BH10)>0,\"○\",\"0\")","v":"0"},{"$f":"IF(COUNTIF($CA$14:$CC$53,BS10)>0,\"○\",\"0\")","v":"0"}]
[null,null,null,null,null,null,null,null,null,null,null,null,null,null,null,null,null,null,null,null,null,null,null,null,null,null,null,null,null,null,null,null,null,null,null,null,null,null,null,null,null,null,null,null,null,null,null,null,null,null,null,null,null,null,null,null,null,null,null,"男子C",null,null,null,null,"分",null,null,"秒",null,null,"女子C",null,null,null,null,"分",null,null,"秒",null,null,null,{"$f":"IF(COUNTIF($CA$14:$CC$53,BH11)>0,\"○\",\"0\")","v":"0"},{"$f":"IF(COUNTIF($CA$14:$CC$53,BS11)>0,\"○\",\"0\")","v":"0"},null,null,null,null,"種別","出場団体名",null,null,null,null,"役員希望","性別","生年","陸協","年","数","小学男","小学男選択リスト","小学女","小学女選択リスト","中学男","中学男選択リスト","中学女","中学女選択リスト","高校男","高校男選択リスト","高校女","高校女選択リスト","一般男","一般男選択リスト","一般女","一般女選択リスト","リレー"]
[null,null,null,null,null,null,null,null,null,null,null,null,null,null,null,null,null,null,null,null,null,null,null,null,null,null,null,null,null,null,null,null,null,"長距離種目についてもベスト記録は1/100まで必ず入力して下さい。",null,null,null,null,null,null,null,null,null,null,null,null,null,null,null,null,null,null,null,null,null,null,null,null,null,null,null,null,null,null,null,null,null,null,"混成競技は、記入不要！"]
["数",null,"JAAF登録番号",null,null,null,null,"性",null,"ゼッケン",null,null,null,"氏名",null,null,null,null,null,null,"ﾌﾘｶﾞﾅ",null,null,null,null,null,"生年",null,null,null,"年",null,null,"種目１",null,null,null,null,null,"種目１ベスト",null,null,null,null,null,null,null,"種目２",null,null,null,null,null,"種目２ベスト",null,null,null,null,null,null,null,"種目３",null,null,null,null,null,"種目３ベスト",null,null,null,null,null,null,null,"400R",null,null,"MR",null,null,null,"種目カウント",null,null,null,null,null,null,"幼児","小学","中学","高校","一般",null,null,null,null,null,null,null,null,null,null,null,null,null,null,null,null,null,null,null,null,null,null,"種別",null,"男400R","女400R","男MR","女MR"]
[1,null,null,null,null,null,null,null,null,null,null,null,null,null,null,null,null,null,null,null,null,null,null,null,null,null,null,null,null,null,null,null,null,null,null,null,null,null,null,null,null,{"$f":"IF(AH14=\"\",\"\",IF(CG14=0,\"\",\"分\"))","v":""},null,null,{"$f":"IF(AH14=\"\",\"\",IF(CG14=0,\"m\",\"秒\"))","v":""},null,null,null,null,null,null,null,null,null,null,{"$f":"IF(AV14=\"\",\"\",IF(CH14=0,\"\",\"分\"))","v":""},null,null,{"$f":"IF(AV14=\"\",\"\",IF(CH14=0,\"m\",\"秒\"))","v":""},null,null,null,null,null,null,null,null,null,null,{"$f":"IF(BJ14=\"\",\"\",IF(CI14=0,\"\",\"分\"))","v":""},null,null,{"$f":"IF(BJ14=\"\",\"\",IF(CI14=0,\"m\",\"秒\"))","v":""},null,null,null,null,null,null,null,null,null,{"$f":"COUNTA(AH14,AV14,BJ14)","v":0},{"$f":"$E$4&H14&\"種目\"","v":"種目"},{"$f":"LEN(AH14)-LEN(SUBSTITUTE(AH14,\"m\",\"\"))","v":0},{"$f":"LEN(AV14)-LEN(SUBSTITUTE(AV14,\"m\",\"\"))","v":0},{"$f":"LEN(BJ14)-LEN(SUBSTITUTE(BJ14,\"m\",\"\"))","v":0},null,null,null,null,null,null,null,null,null,null,null,null,null,null,null,null,null,null,null,null,null,null,null,null,null,null,null,null,null,null,null,null,null,null,null,null,"小学女","小学女"]
[2,null,null,null,null,null,null,null,null,null,null,null,null,null,null,null,null,null,null,null,null,null,null,null,null,null,null,null,null,null,null,null,null,null,null,null,null,null,null,null,null,"",null,null,"",null,null,null,null,null,null,null,null,null,null,"",null,null,"",null,null,null,null,null,null,null,null,null,null,"",null,null,"",null,null,null,null,null,null,null,null,null,0,"種目",0,0,0,null,"幼児","美幌保育園","斜里小","斜里中","北見北斗高","JR東海","一任","男",1970,"オホーツク","幼児",1,{"$f":"IF(ISERROR(VLOOKUP(CV15,①初期設定!$Z$55:$AD$201,5,FALSE)),\"*\",VLOOKUP(CV15,①初期設定!$Z$55:$AD$201,5,FALSE))","v":"小学男子6年100m"},{"$f":"IF(ISERROR(RIGHT(CW15,LEN(CW15)-4)),\"*\",RIGHT(CW15,LEN(CW15)-4))","v":"6年100m"},{"$f":"IF(ISERROR(VLOOKUP(CV15,①初期設定!$AL$55:$AV$201,5,FALSE)),\"*\",VLOOKUP(CV15,①初期設定!$AL$55:$AV$201,5,FALSE))","v":"小学女子6年100m"},{"$f":"IF(ISERROR(RIGHT(CY15,LEN(CY15)-4)),\"*\",RIGHT(CY15,LEN(CY15)-4))","v":"6年100m"},{"$f":"IF(ISERROR(VLOOKUP(CV15,①初期設定!$AA$55:$AD$201,4,FALSE)),\"*\",VLOOKUP(CV15,①初期設定!$AA$55:$AD$201,4,FALSE))","v":"共通男子200m"},{"$f":"IF(ISERROR(RIGHT(DA15,LEN(DA15)-4)),\"*\",RIGHT(DA15,LEN(DA15)-4))","v":"200m"},{"$f":"IF(ISERROR(VLOOKUP(CV15,①初期設定!$AM$55:$AV$201,4,FALSE)),\"*\",VLOOKUP(CV15,①初期設定!$AM$55:$AV$201,4,FALSE))","v":"共通女子200m"},{"$f":"IF(ISERROR(RIGHT(DC15,LEN(DC15)-4)),\"*\",RIGHT(DC15,LEN(DC15)-4))","v":"200m"},{"$f":"IF(ISERROR(VLOOKUP(CV15,①初期設定!$AB$55:$AD$201,3,FALSE)),\"\",VLOOKUP(CV15,①初期設定!$AB$55:$AD$201,3,FALSE))","v":"共通男子100m"},{"$f":"IF(ISERROR(RIGHT(DE15,LEN(DE15)-4)),\"*\",RIGHT(DE15,LEN(DE15)-4))","v":"100m"},{"$f":"IF(ISERROR(VLOOKUP(CV15,①初期設定!$AN$55:$AV$201,3,FALSE)),\"*\",VLOOKUP(CV15,①初期設定!$AN$55:$AV$201,3,FALSE))","v":"共通女子100m"},{"$f":"IF(ISERROR(RIGHT(DG15,LEN(DG15)-4)),\"*\",RIGHT(DG15,LEN(DG15)-4))","v":"100m"},{"$f":"IF(ISERROR(VLOOKUP(CV15,①初期設定!$AC$55:$AD$201,2,FALSE)),\"\",VLOOKUP(CV15,①初期設定!$AC$55:$AD$201,2,FALSE))","v":"共通男子100m"},{"$f":"IF(ISERROR(RIGHT(DI15,LEN(DI15)-4)),\"*\",RIGHT(DI15,LEN(DI15)-4))","v":"100m"},{"$f":"IF(ISERROR(VLOOKUP(CV15,①初期設定!$AO$55:$AV$201,2,FALSE)),\"*\",VLOOKUP(CV15,①初期設定!$AO$55:$AV$201,2,FALSE))","v":"共通女子100m"},{"$f":"IF(ISERROR(RIGHT(DK15,LEN(DK15)-4)),\"*\",RIGHT(DK15,LEN(DK15)-4))","v":"100m"},"幼児","幼児","男子A","女子A","男子A","女子A",null,"小学男","小学男"]
[3,null,null,null,null,null,null,null,null,null,null,null,null,null,null,null,null,null,null,null,null,null,null,null,null,null,null,null,null,null,null,null,null,null,null,null,null,null,null,null,null,"",null,null,"",null,null,null,null,null,null,null,null,null,null,"",null,null,"",null,null,null,null,null,null,null,null,null,null,"",null,null,"",null,null,null,null,null,null,null,null,null,0,"種目",0,0,0,null,"小学","大谷幼稚園","斜里朝日小","斜里知床ｳﾄﾛ学校","北見柏陽高","ｵﾎｰﾂｸAC","技術総務","女",1971,"道南","小1",2,{"$f":"IF(ISERROR(VLOOKUP(CV16,①初期設定!$Z$55:$AD$201,5,FALSE)),\"*\",VLOOKUP(CV16,①初期設定!$Z$55:$AD$201,5,FALSE))","v":"小学男子5年100m"},{"$f":"IF(ISERROR(RIGHT(CW16,LEN(CW16)-4)),\"*\",RIGHT(CW16,LEN(CW16)-4))","v":"5年100m"},{"$f":"IF(ISERROR(VLOOKUP(CV16,①初期設定!$AL$55:$AV$201,5,FALSE)),\"*\",VLOOKUP(CV16,①初期設定!$AL$55:$AV$201,5,FALSE))","v":"小学女子5年100m"},"5年100m",{"$f":"IF(ISERROR(VLOOKUP(CV16,①初期設定!$AA$55:$AD$201,4,FALSE)),\"*\",VLOOKUP(CV16,①初期設定!$AA$55:$AD$201,4,FALSE))","v":"共通男子400m"},{"$f":"IF(ISERROR(RIGHT(DA16,LEN(DA16)-4)),\"*\",RIGHT(DA16,LEN(DA16)-4))","v":"400m"},{"$f":"IF(ISERROR(VLOOKUP(CV16,①初期設定!$AM$55:$AV$201,4,FALSE)),\"*\",VLOOKUP(CV16,①初期設定!$AM$55:$AV$201,4,FALSE))","v":"共通女子400m"},{"$f":"IF(ISERROR(RIGHT(DC16,LEN(DC16)-4)),\"*\",RIGHT(DC16,LEN(DC16)-4))","v":"400m"},{"$f":"IF(ISERROR(VLOOKUP(CV16,①初期設定!$AB$55:$AD$201,3,FALSE)),\"\",VLOOKUP(CV16,①初期設定!$AB$55:$AD$201,3,FALSE))","v":"共通男子200m"},{"$f":"IF(ISERROR(RIGHT(DE16,LEN(DE16)-4)),\"*\",RIGHT(DE16,LEN(DE16)-4))","v":"200m"},{"$f":"IF(ISERROR(VLOOKUP(CV16,①初期設定!$AN$55:$AV$201,3,FALSE)),\"*\",VLOOKUP(CV16,①初期設定!$AN$55:$AV$201,3,FALSE))","v":"共通女子200m"},{"$f":"IF(ISERROR(RIGHT(DG16,LEN(DG16)-4)),\"*\",RIGHT(DG16,LEN(DG16)-4))","v":"200m"},{"$f":"IF(ISERROR(VLOOKUP(CV16,①初期設定!$AC$55:$AD$201,2,FALSE)),\"\",VLOOKUP(CV16,①初期設定!$AC$55:$AD$201,2,FALSE))","v":"共通男子200m"},{"$f":"IF(ISERROR(RIGHT(DI16,LEN(DI16)-4)),\"*\",RIGHT(DI16,LEN(DI16)-4))","v":"200m"},{"$f":"IF(ISERROR(VLOOKUP(CV16,①初期設定!$AO$55:$AV$201,2,FALSE)),\"*\",VLOOKUP(CV16,①初期設定!$AO$55:$AV$201,2,FALSE))","v":"共通女子200m"},{"$f":"IF(ISERROR(RIGHT(DK16,LEN(DK16)-4)),\"*\",RIGHT(DK16,LEN(DK16)-4))","v":"200m"},"小1","小学","男子B","女子B","男子B","女子B",null,"中学男","中学男"]
[4,null,null,null,null,null,null,null,null,null,null,null,null,null,null,null,null,null,null,null,null,null,null,null,null,null,null,null,null,null,null,null,null,null,null,null,null,null,null,null,null,"",null,null,"",null,null,null,null,null,null,null,null,null,null,"",null,null,"",null,null,null,null,null,null,null,null,null,null,"",null,null,"",null,null,null,null,null,null,null,null,null,0,"種目",0,0,0,null,"中学","くるみ幼稚園","斜里以久科小","清里中","北見緑陵高","ｵﾎｰﾂｸ陸協(海老名)","番組編成",null,1972,"小樽後志","小2",3,{"$f":"IF(ISERROR(VLOOKUP(CV17,①初期設定!$Z$55:$AD$201,5,FALSE)),\"*\",VLOOKUP(CV17,①初期設定!$Z$55:$AD$201,5,FALSE))","v":"小学男子4年100m"},"4年100m",{"$f":"IF(ISERROR(VLOOKUP(CV17,①初期設定!$AL$55:$AV$201,5,FALSE)),\"*\",VLOOKUP(CV17,①初期設定!$AL$55:$AV$201,5,FALSE))","v":"小学女子4年100m"},"4年100m",{"$f":"IF(ISERROR(VLOOKUP(CV17,①初期設定!$AA$55:$AD$201,4,FALSE)),\"*\",VLOOKUP(CV17,①初期設定!$AA$55:$AD$201,4,FALSE))","v":"共通男子800m"},{"$f":"IF(ISERROR(RIGHT(DA17,LEN(DA17)-4)),\"*\",RIGHT(DA17,LEN(DA17)-4))","v":"800m"},{"$f":"IF(ISERROR(VLOOKUP(CV17,①初期設定!$AM$55:$AV$201,4,FALSE)),\"*\",VLOOKUP(CV17,①初期設定!$AM$55:$AV$201,4,FALSE))","v":"共通女子800m"},{"$f":"IF(ISERROR(RIGHT(DC17,LEN(DC17)-4)),\"*\",RIGHT(DC17,LEN(DC17)-4))","v":"800m"},{"$f":"IF(ISERROR(VLOOKUP(CV17,①初期設定!$AB$55:$AD$201,3,FALSE)),\"\",VLOOKUP(CV17,①初期設定!$AB$55:$AD$201,3,FALSE))","v":"共通男子400m"},{"$f":"IF(ISERROR(RIGHT(DE17,LEN(DE17)-4)),\"*\",RIGHT(DE17,LEN(DE17)-4))","v":"400m"},{"$f":"IF(ISERROR(VLOOKUP(CV17,①初期設定!$AN$55:$AV$201,3,FALSE)),\"*\",VLOOKUP(CV17,①初期設定!$AN$55:$AV$201,3,FALSE))","v":"共通女子400m"},{"$f":"IF(ISERROR(RIGHT(DG17,LEN(DG17)-4)),\"*\",RIGHT(DG17,LEN(DG17)-4))","v":"400m"},{"$f":"IF(ISERROR(VLOOKUP(CV17,①初期設定!$AC$55:$AD$201,2,FALSE)),\"\",VLOOKUP(CV17,①初期設定!$AC$55:$AD$201,2,FALSE))","v":"共通男子400m"},{"$f":"IF(ISERROR(RIGHT(DI17,LEN(DI17)-4)),\"*\",RIGHT(DI17,LEN(DI17)-4))","v":"400m"},{"$f":"IF(ISERROR(VLOOKUP(CV17,①初期設定!$AO$55:$AV$201,2,FALSE)),\"*\",VLOOKUP(CV17,①初期設定!$AO$55:$AV$201,2,FALSE))","v":"共通女子400m"},{"$f":"IF(ISERROR(RIGHT(DK17,LEN(DK17)-4)),\"*\",RIGHT(DK17,LEN(DK17)-4))","v":"400m"},"小2","小学","男子C","女子C","男子C","女子C",null,"中学女","中学女"]
[5,null,null,null,null,null,null,null,null,null,null,null,null,null,null,null,null,null,null,null,null,null,null,null,null,null,null,null,null,null,null,null,null,null,null,null,null,null,null,null,null,"",null,null,"",null,null,null,null,null,null,null,null,null,null,"",null,null,"",null,null,null,null,null,null,null,null,null,null,"",null,null,"",null,null,null,null,null,null,null,null,null,0,"種目",0,0,0,null,"高校","北見藤幼稚園","斜里川上小","小清水中","北見工業高","ｵﾎｰﾂｸ陸協(古城)","記録情報",null,1973,"室蘭地方","小3",4,{"$f":"IF(ISERROR(VLOOKUP(CV18,①初期設定!$Z$55:$AD$201,5,FALSE)),\"*\",VLOOKUP(CV18,①初期設定!$Z$55:$AD$201,5,FALSE))","v":"小学男子3年100m"},"3年100m",{"$f":"IF(ISERROR(VLOOKUP(CV18,①初期設定!$AL$55:$AV$201,5,FALSE)),\"*\",VLOOKUP(CV18,①初期設定!$AL$55:$AV$201,5,FALSE))","v":"小学女子3年100m"},"3年100m",{"$f":"IF(ISERROR(VLOOKUP(CV18,①初期設定!$AA$55:$AD$201,4,FALSE)),\"*\",VLOOKUP(CV18,①初期設定!$AA$55:$AD$201,4,FALSE))","v":"共通男子1500m"},{"$f":"IF(ISERROR(RIGHT(DA18,LEN(DA18)-4)),\"*\",RIGHT(DA18,LEN(DA18)-4))","v":"1500m"},{"$f":"IF(ISERROR(VLOOKUP(CV18,①初期設定!$AM$55:$AV$201,4,FALSE)),\"*\",VLOOKUP(CV18,①初期設定!$AM$55:$AV$201,4,FALSE))","v":"共通女子1500m"},{"$f":"IF(ISERROR(RIGHT(DC18,LEN(DC18)-4)),\"*\",RIGHT(DC18,LEN(DC18)-4))","v":"1500m"},{"$f":"IF(ISERROR(VLOOKUP(CV18,①初期設定!$AB$55:$AD$201,3,FALSE)),\"\",VLOOKUP(CV18,①初期設定!$AB$55:$AD$201,3,FALSE))","v":"共通男子800m"},{"$f":"IF(ISERROR(RIGHT(DE18,LEN(DE18)-4)),\"*\",RIGHT(DE18,LEN(DE18)-4))","v":"800m"},{"$f":"IF(ISERROR(VLOOKUP(CV18,①初期設定!$AN$55:$AV$201,3,FALSE)),\"*\",VLOOKUP(CV18,①初期設定!$AN$55:$AV$201,3,FALSE))","v":"共通女子800m"},{"$f":"IF(ISERROR(RIGHT(DG18,LEN(DG18)-4)),\"*\",RIGHT(DG18,LEN(DG18)-4))","v":"800m"},{"$f":"IF(ISERROR(VLOOKUP(CV18,①初期設定!$AC$55:$AD$201,2,FALSE)),\"\",VLOOKUP(CV18,①初期設定!$AC$55:$AD$201,2,FALSE))","v":"共通男子800m"},{"$f":"IF(ISERROR(RIGHT(DI18,LEN(DI18)-4)),\"*\",RIGHT(DI18,LEN(DI18)-4))","v":"800m"},{"$f":"IF(ISERROR(VLOOKUP(CV18,①初期設定!$AO$55:$AV$201,2,FALSE)),\"*\",VLOOKUP(CV18,①初期設定!$AO$55:$AV$201,2,FALSE))","v":"共通女子800m"},{"$f":"IF(ISERROR(RIGHT(DK18,LEN(DK18)-4)),\"*\",RIGHT(DK18,LEN(DK18)-4))","v":"800m"},"小3","小学","男子D","女子D",null,null,null,"高校男","高校男"]
[6,null,null,null,null,null,null,null,null,null,null,null,null,null,null,null,null,null,null,null,null,null,null,null,null,null,null,null,null,null,null,null,null,null,null,null,null,null,null,null,null,"",null,null,"",null,null,null,null,null,null,null,null,null,null,"",null,null,"",null,null,null,null,null,null,null,null,null,null,"",null,null,"",null,null,null,null,null,null,null,null,null,0,"種目",0,0,0,null,"一般","常呂保育園","訓子府小","大空女満別中","北見商業高","ｵﾎｰﾂｸ陸協(今枝)","ｱﾅｳﾝｻｰ",null,1974,"苫小牧地方","小4",5,{"$f":"IF(ISERROR(VLOOKUP(CV19,①初期設定!$Z$55:$AD$201,5,FALSE)),\"*\",VLOOKUP(CV19,①初期設定!$Z$55:$AD$201,5,FALSE))","v":"小学男子4年800m"},"4年800m",{"$f":"IF(ISERROR(VLOOKUP(CV19,①初期設定!$AL$55:$AV$201,5,FALSE)),\"*\",VLOOKUP(CV19,①初期設定!$AL$55:$AV$201,5,FALSE))","v":"小学女子6年800m"},"6年800m",{"$f":"IF(ISERROR(VLOOKUP(CV19,①初期設定!$AA$55:$AD$201,4,FALSE)),\"*\",VLOOKUP(CV19,①初期設定!$AA$55:$AD$201,4,FALSE))","v":"共通男子3000m"},{"$f":"IF(ISERROR(RIGHT(DA19,LEN(DA19)-4)),\"*\",RIGHT(DA19,LEN(DA19)-4))","v":"3000m"},{"$f":"IF(ISERROR(VLOOKUP(CV19,①初期設定!$AM$55:$AV$201,4,FALSE)),\"*\",VLOOKUP(CV19,①初期設定!$AM$55:$AV$201,4,FALSE))","v":"共通女子3000m"},{"$f":"IF(ISERROR(RIGHT(DC19,LEN(DC19)-4)),\"*\",RIGHT(DC19,LEN(DC19)-4))","v":"3000m"},{"$f":"IF(ISERROR(VLOOKUP(CV19,①初期設定!$AB$55:$AD$201,3,FALSE)),\"\",VLOOKUP(CV19,①初期設定!$AB$55:$AD$201,3,FALSE))","v":"共通男子1500m"},{"$f":"IF(ISERROR(RIGHT(DE19,LEN(DE19)-4)),\"*\",RIGHT(DE19,LEN(DE19)-4))","v":"1500m"},{"$f":"IF(ISERROR(VLOOKUP(CV19,①初期設定!$AN$55:$AV$201,3,FALSE)),\"*\",VLOOKUP(CV19,①初期設定!$AN$55:$AV$201,3,FALSE))","v":"共通女子1500m"},{"$f":"IF(ISERROR(RIGHT(DG19,LEN(DG19)-4)),\"*\",RIGHT(DG19,LEN(DG19)-4))","v":"1500m"},{"$f":"IF(ISERROR(VLOOKUP(CV19,①初期設定!$AC$55:$AD$201,2,FALSE)),\"\",VLOOKUP(CV19,①初期設定!$AC$55:$AD$201,2,FALSE))","v":"共通男子1500m"},{"$f":"IF(ISERROR(RIGHT(DI19,LEN(DI19)-4)),\"*\",RIGHT(DI19,LEN(DI19)-4))","v":"1500m"},{"$f":"IF(ISERROR(VLOOKUP(CV19,①初期設定!$AO$55:$AV$201,2,FALSE)),\"*\",VLOOKUP(CV19,①初期設定!$AO$55:$AV$201,2,FALSE))","v":"共通女子1500m"},{"$f":"IF(ISERROR(RIGHT(DK19,LEN(DK19)-4)),\"*\",RIGHT(DK19,LEN(DK19)-4))","v":"1500m"},"小4","小学","男子E","女子E",null,null,null,"高校女","高校女"]
[7,null,null,null,null,null,null,null,null,null,null,null,null,null,null,null,null,null,null,null,null,null,null,null,null,null,null,null,null,null,null,null,null,null,null,null,null,null,null,null,null,"",null,null,"",null,null,null,null,null,null,null,null,null,null,"",null,null,"",null,null,null,null,null,null,null,null,null,null,"",null,null,"",null,null,null,null,null,null,null,null,null,0,"種目",0,0,0,null,null,"北光幼稚園こどもOB","遠軽南小","大空東藻琴中","網走南ヶ丘高","ｵﾎｰﾂｸ陸協(佐々木)","風力計測",null,1975,"道央","小5",6,{"$f":"IF(ISERROR(VLOOKUP(CV20,①初期設定!$Z$55:$AD$201,5,FALSE)),\"*\",VLOOKUP(CV20,①初期設定!$Z$55:$AD$201,5,FALSE))","v":"小学男子3年800m"},"3年800m",{"$f":"IF(ISERROR(VLOOKUP(CV20,①初期設定!$AL$55:$AV$201,5,FALSE)),\"*\",VLOOKUP(CV20,①初期設定!$AL$55:$AV$201,5,FALSE))","v":"小学女子5年800m"},"5年800m",{"$f":"IF(ISERROR(VLOOKUP(CV20,①初期設定!$AA$55:$AD$201,4,FALSE)),\"*\",VLOOKUP(CV20,①初期設定!$AA$55:$AD$201,4,FALSE))","v":"中学男子100m"},{"$f":"IF(ISERROR(RIGHT(DA20,LEN(DA20)-4)),\"*\",RIGHT(DA20,LEN(DA20)-4))","v":"100m"},{"$f":"IF(ISERROR(VLOOKUP(CV20,①初期設定!$AM$55:$AV$201,4,FALSE)),\"*\",VLOOKUP(CV20,①初期設定!$AM$55:$AV$201,4,FALSE))","v":"中学女子100m"},{"$f":"IF(ISERROR(RIGHT(DC20,LEN(DC20)-4)),\"*\",RIGHT(DC20,LEN(DC20)-4))","v":"100m"},{"$f":"IF(ISERROR(VLOOKUP(CV20,①初期設定!$AB$55:$AD$201,3,FALSE)),\"\",VLOOKUP(CV20,①初期設定!$AB$55:$AD$201,3,FALSE))","v":"共通男子5000m"},{"$f":"IF(ISERROR(RIGHT(DE20,LEN(DE20)-4)),\"*\",RIGHT(DE20,LEN(DE20)-4))","v":"5000m"},{"$f":"IF(ISERROR(VLOOKUP(CV20,①初期設定!$AN$55:$AV$201,3,FALSE)),\"*\",VLOOKUP(CV20,①初期設定!$AN$55:$AV$201,3,FALSE))","v":"共通女子3000m"},{"$f":"IF(ISERROR(RIGHT(DG20,LEN(DG20)-4)),\"*\",RIGHT(DG20,LEN(DG20)-4))","v":"3000m"},{"$f":"IF(ISERROR(VLOOKUP(CV20,①初期設定!$AC$55:$AD$201,2,FALSE)),\"\",VLOOKUP(CV20,①初期設定!$AC$55:$AD$201,2,FALSE))","v":"共通男子5000m"},{"$f":"IF(ISERROR(RIGHT(DI20,LEN(DI20)-4)),\"*\",RIGHT(DI20,LEN(DI20)-4))","v":"5000m"},{"$f":"IF(ISERROR(VLOOKUP(CV20,①初期設定!$AO$55:$AV$201,2,FALSE)),\"*\",VLOOKUP(CV20,①初期設定!$AO$55:$AV$201,2,FALSE))","v":"共通女子3000m"},{"$f":"IF(ISERROR(RIGHT(DK20,LEN(DK20)-4)),\"*\",RIGHT(DK20,LEN(DK20)-4))","v":"3000m"},"小5","小学","男子F","女子F",null,null,null,"一般男","一般男"]
[8,null,null,null,null,null,null,null,null,null,null,null,null,null,null,null,null,null,null,null,null,null,null,null,null,null,null,null,null,null,null,null,null,null,null,null,null,null,null,null,null,"",null,null,"",null,null,null,null,null,null,null,null,null,null,"",null,null,"",null,null,null,null,null,null,null,null,null,null,"",null,null,"",null,null,null,null,null,null,null,null,null,0,"種目",0,0,0,null,null,"北見ﾏﾘｱ幼稚園","遠軽白滝小","美幌中","網走桂陽高","ｵﾎｰﾂｸ陸協(榊)","用器具",null,1976,"空知","小6",7,{"$f":"IF(ISERROR(VLOOKUP(CV21,①初期設定!$Z$55:$AD$201,5,FALSE)),\"*\",VLOOKUP(CV21,①初期設定!$Z$55:$AD$201,5,FALSE))","v":"小学男子6年1500m"},"6年1500m",{"$f":"IF(ISERROR(VLOOKUP(CV21,①初期設定!$AL$55:$AV$201,5,FALSE)),\"*\",VLOOKUP(CV21,①初期設定!$AL$55:$AV$201,5,FALSE))","v":"小学女子4年800m"},"4年800m",{"$f":"IF(ISERROR(VLOOKUP(CV21,①初期設定!$AA$55:$AD$201,4,FALSE)),\"*\",VLOOKUP(CV21,①初期設定!$AA$55:$AD$201,4,FALSE))","v":"中学男子110mH(0.914m)"},{"$f":"IF(ISERROR(RIGHT(DA21,LEN(DA21)-4)),\"*\",RIGHT(DA21,LEN(DA21)-4))","v":"110mH(0.914m)"},{"$f":"IF(ISERROR(VLOOKUP(CV21,①初期設定!$AM$55:$AV$201,4,FALSE)),\"*\",VLOOKUP(CV21,①初期設定!$AM$55:$AV$201,4,FALSE))","v":"中学女子100mH(0.762m)"},{"$f":"IF(ISERROR(RIGHT(DC21,LEN(DC21)-4)),\"*\",RIGHT(DC21,LEN(DC21)-4))","v":"100mH(0.762m)"},{"$f":"IF(ISERROR(VLOOKUP(CV21,①初期設定!$AB$55:$AD$201,3,FALSE)),\"\",VLOOKUP(CV21,①初期設定!$AB$55:$AD$201,3,FALSE))","v":"共通男子110mH(1.067m)"},{"$f":"IF(ISERROR(RIGHT(DE21,LEN(DE21)-4)),\"*\",RIGHT(DE21,LEN(DE21)-4))","v":"110mH(1.067m)"},{"$f":"IF(ISERROR(VLOOKUP(CV21,①初期設定!$AN$55:$AV$201,3,FALSE)),\"*\",VLOOKUP(CV21,①初期設定!$AN$55:$AV$201,3,FALSE))","v":"共通女子100mH(0.838m)"},{"$f":"IF(ISERROR(RIGHT(DG21,LEN(DG21)-4)),\"*\",RIGHT(DG21,LEN(DG21)-4))","v":"100mH(0.838m)"},{"$f":"IF(ISERROR(VLOOKUP(CV21,①初期設定!$AC$55:$AD$201,2,FALSE)),\"\",VLOOKUP(CV21,①初期設定!$AC$55:$AD$201,2,FALSE))","v":"共通男子110mH(1.067m)"},{"$f":"IF(ISERROR(RIGHT(DI21,LEN(DI21)-4)),\"*\",RIGHT(DI21,LEN(DI21)-4))","v":"110mH(1.067m)"},{"$f":"IF(ISERROR(VLOOKUP(CV21,①初期設定!$AO$55:$AV$201,2,FALSE)),\"*\",VLOOKUP(CV21,①初期設定!$AO$55:$AV$201,2,FALSE))","v":"共通女子100mH(0.838m)"},{"$f":"IF(ISERROR(RIGHT(DK21,LEN(DK21)-4)),\"*\",RIGHT(DK21,LEN(DK21)-4))","v":"100mH(0.838m)"},"小6","小学",null,null,null,null,null,"一般女","一般女"]
[9,null,null,null,null,null,null,null,null,null,null,null,null,null,null,null,null,null,null,null,null,null,null,null,null,null,null,null,null,null,null,null,null,null,null,null,null,null,null,null,null,"",null,null,"",null,null,null,null,null,null,null,null,null,null,"",null,null,"",null,null,null,null,null,null,null,null,null,null,"",null,null,"",null,null,null,null,null,null,null,null,null,0,"種目",0,0,0,null,null,"QP-JSRC","興部小","美幌北中","紋別高","ｵﾎｰﾂｸ陸協(三浦)","写真判定",null,1977,"道北","中1",8,{"$f":"IF(ISERROR(VLOOKUP(CV22,①初期設定!$Z$55:$AD$201,5,FALSE)),\"*\",VLOOKUP(CV22,①初期設定!$Z$55:$AD$201,5,FALSE))","v":"小学男子5年1500m"},"5年1500m",{"$f":"IF(ISERROR(VLOOKUP(CV22,①初期設定!$AL$55:$AV$201,5,FALSE)),\"*\",VLOOKUP(CV22,①初期設定!$AL$55:$AV$201,5,FALSE))","v":"小学女子3年800m"},"3年800m",{"$f":"IF(ISERROR(VLOOKUP(CV22,①初期設定!$AA$55:$AD$201,4,FALSE)),\"*\",VLOOKUP(CV22,①初期設定!$AA$55:$AD$201,4,FALSE))","v":"中学男子走高跳"},{"$f":"IF(ISERROR(RIGHT(DA22,LEN(DA22)-4)),\"*\",RIGHT(DA22,LEN(DA22)-4))","v":"走高跳"},{"$f":"IF(ISERROR(VLOOKUP(CV22,①初期設定!$AM$55:$AV$201,4,FALSE)),\"*\",VLOOKUP(CV22,①初期設定!$AM$55:$AV$201,4,FALSE))","v":"中学女子走高跳"},{"$f":"IF(ISERROR(RIGHT(DC22,LEN(DC22)-4)),\"*\",RIGHT(DC22,LEN(DC22)-4))","v":"走高跳"},{"$f":"IF(ISERROR(VLOOKUP(CV22,①初期設定!$AB$55:$AD$201,3,FALSE)),\"\",VLOOKUP(CV22,①初期設定!$AB$55:$AD$201,3,FALSE))","v":"共通男子400mH(0.914m)"},{"$f":"IF(ISERROR(RIGHT(DE22,LEN(DE22)-4)),\"*\",RIGHT(DE22,LEN(DE22)-4))","v":"400mH(0.914m)"},{"$f":"IF(ISERROR(VLOOKUP(CV22,①初期設定!$AN$55:$AV$201,3,FALSE)),\"*\",VLOOKUP(CV22,①初期設定!$AN$55:$AV$201,3,FALSE))","v":"共通女子400mH(0.762m)"},{"$f":"IF(ISERROR(RIGHT(DG22,LEN(DG22)-4)),\"*\",RIGHT(DG22,LEN(DG22)-4))","v":"400mH(0.762m)"},{"$f":"IF(ISERROR(VLOOKUP(CV22,①初期設定!$AC$55:$AD$201,2,FALSE)),\"\",VLOOKUP(CV22,①初期設定!$AC$55:$AD$201,2,FALSE))","v":"共通男子400mH(0.914m)"},{"$f":"IF(ISERROR(RIGHT(DI22,LEN(DI22)-4)),\"*\",RIGHT(DI22,LEN(DI22)-4))","v":"400mH(0.914m)"},{"$f":"IF(ISERROR(VLOOKUP(CV22,①初期設定!$AO$55:$AV$201,2,FALSE)),\"*\",VLOOKUP(CV22,①初期設定!$AO$55:$AV$201,2,FALSE))","v":"共通女子400mH(0.762m)"},{"$f":"IF(ISERROR(RIGHT(DK22,LEN(DK22)-4)),\"*\",RIGHT(DK22,LEN(DK22)-4))","v":"400mH(0.762m)"},"中1","中学"]
[10,null,null,null,null,null,null,null,null,null,null,null,null,null,null,null,null,null,null,null,null,null,null,null,null,null,null,null,null,null,null,null,null,null,null,null,null,null,null,null,null,"",null,null,"",null,null,null,null,null,null,null,null,null,null,"",null,null,"",null,null,null,null,null,null,null,null,null,null,"",null,null,"",null,null,null,null,null,null,null,null,null,0,"種目",0,0,0,null,null,null,"美幌小","遠軽中","美幌高","ｵﾎｰﾂｸ陸協(小川)","ｽﾀｰﾀｰ・ﾘｺｰﾗｰ",null,1978,"十勝","中2",9,{"$f":"IF(ISERROR(VLOOKUP(CV23,①初期設定!$Z$55:$AD$201,5,FALSE)),\"*\",VLOOKUP(CV23,①初期設定!$Z$55:$AD$201,5,FALSE))","v":"小学男子6年80mH"},"6年80mH",{"$f":"IF(ISERROR(VLOOKUP(CV23,①初期設定!$AL$55:$AV$201,5,FALSE)),\"*\",VLOOKUP(CV23,①初期設定!$AL$55:$AV$201,5,FALSE))","v":"小学女子6年80mH"},"6年80mH",{"$f":"IF(ISERROR(VLOOKUP(CV23,①初期設定!$AA$55:$AD$201,4,FALSE)),\"*\",VLOOKUP(CV23,①初期設定!$AA$55:$AD$201,4,FALSE))","v":"中学男子棒高跳"},{"$f":"IF(ISERROR(RIGHT(DA23,LEN(DA23)-4)),\"*\",RIGHT(DA23,LEN(DA23)-4))","v":"棒高跳"},{"$f":"IF(ISERROR(VLOOKUP(CV23,①初期設定!$AM$55:$AV$201,4,FALSE)),\"*\",VLOOKUP(CV23,①初期設定!$AM$55:$AV$201,4,FALSE))","v":"中学女子走幅跳"},{"$f":"IF(ISERROR(RIGHT(DC23,LEN(DC23)-4)),\"*\",RIGHT(DC23,LEN(DC23)-4))","v":"走幅跳"},{"$f":"IF(ISERROR(VLOOKUP(CV23,①初期設定!$AB$55:$AD$201,3,FALSE)),\"\",VLOOKUP(CV23,①初期設定!$AB$55:$AD$201,3,FALSE))","v":"共通男子3000mSC(0.914m)"},{"$f":"IF(ISERROR(RIGHT(DE23,LEN(DE23)-4)),\"*\",RIGHT(DE23,LEN(DE23)-4))","v":"3000mSC(0.914m)"},{"$f":"IF(ISERROR(VLOOKUP(CV23,①初期設定!$AN$55:$AV$201,3,FALSE)),\"*\",VLOOKUP(CV23,①初期設定!$AN$55:$AV$201,3,FALSE))","v":"共通女子5000mW"},{"$f":"IF(ISERROR(RIGHT(DG23,LEN(DG23)-4)),\"*\",RIGHT(DG23,LEN(DG23)-4))","v":"5000mW"},{"$f":"IF(ISERROR(VLOOKUP(CV23,①初期設定!$AC$55:$AD$201,2,FALSE)),\"\",VLOOKUP(CV23,①初期設定!$AC$55:$AD$201,2,FALSE))","v":"共通男子3000mSC(0.914m)"},{"$f":"IF(ISERROR(RIGHT(DI23,LEN(DI23)-4)),\"*\",RIGHT(DI23,LEN(DI23)-4))","v":"3000mSC(0.914m)"},{"$f":"IF(ISERROR(VLOOKUP(CV23,①初期設定!$AO$55:$AV$201,2,FALSE)),\"*\",VLOOKUP(CV23,①初期設定!$AO$55:$AV$201,2,FALSE))","v":"共通女子5000mW"},{"$f":"IF(ISERROR(RIGHT(DK23,LEN(DK23)-4)),\"*\",RIGHT(DK23,LEN(DK23)-4))","v":"5000mW"},"中2","中学"]
[11,null,null,null,null,null,null,null,null,null,null,null,null,null,null,null,null,null,null,null,null,null,null,null,null,null,null,null,null,null,null,null,null,null,null,null,null,null,null,null,null,"",null,null,"",null,null,null,null,null,null,null,null,null,null,"",null,null,"",null,null,null,null,null,null,null,null,null,null,"",null,null,"",null,null,null,null,null,null,null,null,null,0,"種目",0,0,0,null,null,null,"北見東小","遠軽南中","斜里高","ｵﾎｰﾂｸ陸協(小倉)","計時・決審",null,1979,"釧路地方","中3",10,{"$f":"IF(ISERROR(VLOOKUP(CV24,①初期設定!$Z$55:$AD$201,5,FALSE)),\"*\",VLOOKUP(CV24,①初期設定!$Z$55:$AD$201,5,FALSE))","v":"小学男子5年80mH"},"5年80mH",{"$f":"IF(ISERROR(VLOOKUP(CV24,①初期設定!$AL$55:$AV$201,5,FALSE)),\"*\",VLOOKUP(CV24,①初期設定!$AL$55:$AV$201,5,FALSE))","v":"小学女子5年80mH"},"5年80mH",{"$f":"IF(ISERROR(VLOOKUP(CV24,①初期設定!$AA$55:$AD$201,4,FALSE)),\"*\",VLOOKUP(CV24,①初期設定!$AA$55:$AD$201,4,FALSE))","v":"中学男子走幅跳"},{"$f":"IF(ISERROR(RIGHT(DA24,LEN(DA24)-4)),\"*\",RIGHT(DA24,LEN(DA24)-4))","v":"走幅跳"},{"$f":"IF(ISERROR(VLOOKUP(CV24,①初期設定!$AM$55:$AV$201,4,FALSE)),\"*\",VLOOKUP(CV24,①初期設定!$AM$55:$AV$201,4,FALSE))","v":"中学女子砲丸投(2.721kg)"},{"$f":"IF(ISERROR(RIGHT(DC24,LEN(DC24)-4)),\"*\",RIGHT(DC24,LEN(DC24)-4))","v":"砲丸投(2.721kg)"},{"$f":"IF(ISERROR(VLOOKUP(CV24,①初期設定!$AB$55:$AD$201,3,FALSE)),\"\",VLOOKUP(CV24,①初期設定!$AB$55:$AD$201,3,FALSE))","v":"共通男子5000mW"},{"$f":"IF(ISERROR(RIGHT(DE24,LEN(DE24)-4)),\"*\",RIGHT(DE24,LEN(DE24)-4))","v":"5000mW"},{"$f":"IF(ISERROR(VLOOKUP(CV24,①初期設定!$AN$55:$AV$201,3,FALSE)),\"*\",VLOOKUP(CV24,①初期設定!$AN$55:$AV$201,3,FALSE))","v":"共通女子走高跳"},{"$f":"IF(ISERROR(RIGHT(DG24,LEN(DG24)-4)),\"*\",RIGHT(DG24,LEN(DG24)-4))","v":"走高跳"},{"$f":"IF(ISERROR(VLOOKUP(CV24,①初期設定!$AC$55:$AD$201,2,FALSE)),\"\",VLOOKUP(CV24,①初期設定!$AC$55:$AD$201,2,FALSE))","v":"共通男子5000mW"},{"$f":"IF(ISERROR(RIGHT(DI24,LEN(DI24)-4)),\"*\",RIGHT(DI24,LEN(DI24)-4))","v":"5000mW"},{"$f":"IF(ISERROR(VLOOKUP(CV24,①初期設定!$AO$55:$AV$201,2,FALSE)),\"*\",VLOOKUP(CV24,①初期設定!$AO$55:$AV$201,2,FALSE))","v":"共通女子走高跳"},{"$f":"IF(ISERROR(RIGHT(DK24,LEN(DK24)-4)),\"*\",RIGHT(DK24,LEN(DK24)-4))","v":"走高跳"},"中3","中学"]
[12,null,null,null,null,null,null,null,null,null,null,null,null,null,null,null,null,null,null,null,null,null,null,null,null,null,null,null,null,null,null,null,null,null,null,null,null,null,null,null,null,"",null,null,"",null,null,null,null,null,null,null,null,null,null,"",null,null,"",null,null,null,null,null,null,null,null,null,null,"",null,null,"",null,null,null,null,null,null,null,null,null,0,"種目",0,0,0,null,null,null,"北見西小","遠軽丸瀬布中","置戸高","ｵﾎｰﾂｸ陸協(松田)","競技者係",null,1980,"北海道","高1",11,{"$f":"IF(ISERROR(VLOOKUP(CV25,①初期設定!$Z$55:$AD$201,5,FALSE)),\"*\",VLOOKUP(CV25,①初期設定!$Z$55:$AD$201,5,FALSE))","v":"小学男子6年走高跳"},"6年走高跳",{"$f":"IF(ISERROR(VLOOKUP(CV25,①初期設定!$AL$55:$AV$201,5,FALSE)),\"*\",VLOOKUP(CV25,①初期設定!$AL$55:$AV$201,5,FALSE))","v":"小学女子6年走高跳"},"6年走高跳",{"$f":"IF(ISERROR(VLOOKUP(CV25,①初期設定!$AA$55:$AD$201,4,FALSE)),\"*\",VLOOKUP(CV25,①初期設定!$AA$55:$AD$201,4,FALSE))","v":"中学男子砲丸投(5.000kg)"},{"$f":"IF(ISERROR(RIGHT(DA25,LEN(DA25)-4)),\"*\",RIGHT(DA25,LEN(DA25)-4))","v":"砲丸投(5.000kg)"},{"$f":"IF(ISERROR(VLOOKUP(CV25,①初期設定!$AM$55:$AV$201,4,FALSE)),\"*\",VLOOKUP(CV25,①初期設定!$AM$55:$AV$201,4,FALSE))","v":"中学女子円盤投(1.000kg)"},{"$f":"IF(ISERROR(RIGHT(DC25,LEN(DC25)-4)),\"*\",RIGHT(DC25,LEN(DC25)-4))","v":"円盤投(1.000kg)"},{"$f":"IF(ISERROR(VLOOKUP(CV25,①初期設定!$AB$55:$AD$201,3,FALSE)),\"\",VLOOKUP(CV25,①初期設定!$AB$55:$AD$201,3,FALSE))","v":"共通男子走高跳"},{"$f":"IF(ISERROR(RIGHT(DE25,LEN(DE25)-4)),\"*\",RIGHT(DE25,LEN(DE25)-4))","v":"走高跳"},{"$f":"IF(ISERROR(VLOOKUP(CV25,①初期設定!$AN$55:$AV$201,3,FALSE)),\"*\",VLOOKUP(CV25,①初期設定!$AN$55:$AV$201,3,FALSE))","v":"共通女子棒高跳"},{"$f":"IF(ISERROR(RIGHT(DG25,LEN(DG25)-4)),\"*\",RIGHT(DG25,LEN(DG25)-4))","v":"棒高跳"},{"$f":"IF(ISERROR(VLOOKUP(CV25,①初期設定!$AC$55:$AD$201,2,FALSE)),\"\",VLOOKUP(CV25,①初期設定!$AC$55:$AD$201,2,FALSE))","v":"共通男子走高跳"},{"$f":"IF(ISERROR(RIGHT(DI25,LEN(DI25)-4)),\"*\",RIGHT(DI25,LEN(DI25)-4))","v":"走高跳"},{"$f":"IF(ISERROR(VLOOKUP(CV25,①初期設定!$AO$55:$AV$201,2,FALSE)),\"*\",VLOOKUP(CV25,①初期設定!$AO$55:$AV$201,2,FALSE))","v":"共通女子棒高跳"},{"$f":"IF(ISERROR(RIGHT(DK25,LEN(DK25)-4)),\"*\",RIGHT(DK25,LEN(DK25)-4))","v":"棒高跳"},"高1","高校"]
[13,null,null,null,null,null,null,null,null,null,null,null,null,null,null,null,null,null,null,null,null,null,null,null,null,null,null,null,null,null,null,null,null,null,null,null,null,null,null,null,null,"",null,null,"",null,null,null,null,null,null,null,null,null,null,"",null,null,"",null,null,null,null,null,null,null,null,null,null,"",null,null,"",null,null,null,null,null,null,null,null,null,0,"種目",0,0,0,null,null,null,"北見北小","遠軽白滝中","留辺蘂高","ｵﾎｰﾂｸ陸協(沼田)","出発係",null,1981,"愛知","高2",12,{"$f":"IF(ISERROR(VLOOKUP(CV26,①初期設定!$Z$55:$AD$201,5,FALSE)),\"*\",VLOOKUP(CV26,①初期設定!$Z$55:$AD$201,5,FALSE))","v":"小学男子5年走高跳"},"5年走高跳",{"$f":"IF(ISERROR(VLOOKUP(CV26,①初期設定!$AL$55:$AV$201,5,FALSE)),\"*\",VLOOKUP(CV26,①初期設定!$AL$55:$AV$201,5,FALSE))","v":"小学女子5年走高跳"},"5年走高跳",{"$f":"IF(ISERROR(VLOOKUP(CV26,①初期設定!$AA$55:$AD$201,4,FALSE)),\"*\",VLOOKUP(CV26,①初期設定!$AA$55:$AD$201,4,FALSE))","v":"中学男子円盤投(1.500kg)"},{"$f":"IF(ISERROR(RIGHT(DA26,LEN(DA26)-4)),\"*\",RIGHT(DA26,LEN(DA26)-4))","v":"円盤投(1.500kg)"},{"$f":"IF(ISERROR(VLOOKUP(CV26,①初期設定!$AM$55:$AV$201,4,FALSE)),\"*\",VLOOKUP(CV26,①初期設定!$AM$55:$AV$201,4,FALSE))","v":"中学女子ｼﾞｬﾍﾞﾘｯｸｽﾛｰ"},{"$f":"IF(ISERROR(RIGHT(DC26,LEN(DC26)-4)),\"*\",RIGHT(DC26,LEN(DC26)-4))","v":"ｼﾞｬﾍﾞﾘｯｸｽﾛｰ"},{"$f":"IF(ISERROR(VLOOKUP(CV26,①初期設定!$AB$55:$AD$201,3,FALSE)),\"\",VLOOKUP(CV26,①初期設定!$AB$55:$AD$201,3,FALSE))","v":"共通男子棒高跳"},{"$f":"IF(ISERROR(RIGHT(DE26,LEN(DE26)-4)),\"*\",RIGHT(DE26,LEN(DE26)-4))","v":"棒高跳"},{"$f":"IF(ISERROR(VLOOKUP(CV26,①初期設定!$AN$55:$AV$201,3,FALSE)),\"*\",VLOOKUP(CV26,①初期設定!$AN$55:$AV$201,3,FALSE))","v":"共通女子走幅跳"},{"$f":"IF(ISERROR(RIGHT(DG26,LEN(DG26)-4)),\"*\",RIGHT(DG26,LEN(DG26)-4))","v":"走幅跳"},{"$f":"IF(ISERROR(VLOOKUP(CV26,①初期設定!$AC$55:$AD$201,2,FALSE)),\"\",VLOOKUP(CV26,①初期設定!$AC$55:$AD$201,2,FALSE))","v":"共通男子棒高跳"},{"$f":"IF(ISERROR(RIGHT(DI26,LEN(DI26)-4)),\"*\",RIGHT(DI26,LEN(DI26)-4))","v":"棒高跳"},{"$f":"IF(ISERROR(VLOOKUP(CV26,①初期設定!$AO$55:$AV$201,2,FALSE)),\"*\",VLOOKUP(CV26,①初期設定!$AO$55:$AV$201,2,FALSE))","v":"共通女子走幅跳"},{"$f":"IF(ISERROR(RIGHT(DK26,LEN(DK26)-4)),\"*\",RIGHT(DK26,LEN(DK26)-4))","v":"走幅跳"},"高2","高校"]
[14,null,null,null,null,null,null,null,null,null,null,null,null,null,null,null,null,null,null,null,null,null,null,null,null,null,null,null,null,null,null,null,null,null,null,null,null,null,null,null,null,"",null,null,"",null,null,null,null,null,null,null,null,null,null,"",null,null,"",null,null,null,null,null,null,null,null,null,null,"",null,null,"",null,null,null,null,null,null,null,null,null,0,"種目",0,0,0,null,null,null,"北見小泉小","上湧別中","常呂高","ｵﾎｰﾂｸ陸協(神代)","周回記録",null,1982,"愛媛","高3",13,{"$f":"IF(ISERROR(VLOOKUP(CV27,①初期設定!$Z$55:$AD$201,5,FALSE)),\"*\",VLOOKUP(CV27,①初期設定!$Z$55:$AD$201,5,FALSE))","v":"小学男子6年走幅跳"},"6年走幅跳",{"$f":"IF(ISERROR(VLOOKUP(CV27,①初期設定!$AL$55:$AV$201,5,FALSE)),\"*\",VLOOKUP(CV27,①初期設定!$AL$55:$AV$201,5,FALSE))","v":"小学女子6年走幅跳"},"6年走幅跳",{"$f":"IF(ISERROR(VLOOKUP(CV27,①初期設定!$AA$55:$AD$201,4,FALSE)),\"*\",VLOOKUP(CV27,①初期設定!$AA$55:$AD$201,4,FALSE))","v":"中学男子ｼﾞｬﾍﾞﾘｯｸｽﾛｰ"},{"$f":"IF(ISERROR(RIGHT(DA27,LEN(DA27)-4)),\"*\",RIGHT(DA27,LEN(DA27)-4))","v":"ｼﾞｬﾍﾞﾘｯｸｽﾛｰ"},{"$f":"IF(ISERROR(VLOOKUP(CV27,①初期設定!$AM$55:$AV$201,4,FALSE)),\"*\",VLOOKUP(CV27,①初期設定!$AM$55:$AV$201,4,FALSE))","v":"中学女子四種競技"},{"$f":"IF(ISERROR(RIGHT(DC27,LEN(DC27)-4)),\"*\",RIGHT(DC27,LEN(DC27)-4))","v":"四種競技"},{"$f":"IF(ISERROR(VLOOKUP(CV27,①初期設定!$AB$55:$AD$201,3,FALSE)),\"\",VLOOKUP(CV27,①初期設定!$AB$55:$AD$201,3,FALSE))","v":"共通男子走幅跳"},{"$f":"IF(ISERROR(RIGHT(DE27,LEN(DE27)-4)),\"*\",RIGHT(DE27,LEN(DE27)-4))","v":"走幅跳"},{"$f":"IF(ISERROR(VLOOKUP(CV27,①初期設定!$AN$55:$AV$201,3,FALSE)),\"*\",VLOOKUP(CV27,①初期設定!$AN$55:$AV$201,3,FALSE))","v":"共通女子三段跳"},{"$f":"IF(ISERROR(RIGHT(DG27,LEN(DG27)-4)),\"*\",RIGHT(DG27,LEN(DG27)-4))","v":"三段跳"},{"$f":"IF(ISERROR(VLOOKUP(CV27,①初期設定!$AC$55:$AD$201,2,FALSE)),\"\",VLOOKUP(CV27,①初期設定!$AC$55:$AD$201,2,FALSE))","v":"共通男子走幅跳"},{"$f":"IF(ISERROR(RIGHT(DI27,LEN(DI27)-4)),\"*\",RIGHT(DI27,LEN(DI27)-4))","v":"走幅跳"},{"$f":"IF(ISERROR(VLOOKUP(CV27,①初期設定!$AO$55:$AV$201,2,FALSE)),\"*\",VLOOKUP(CV27,①初期設定!$AO$55:$AV$201,2,FALSE))","v":"共通女子三段跳"},{"$f":"IF(ISERROR(RIGHT(DK27,LEN(DK27)-4)),\"*\",RIGHT(DK27,LEN(DK27)-4))","v":"三段跳"},"高3","高校"]
[15,null,null,null,null,null,null,null,null,null,null,null,null,null,null,null,null,null,null,null,null,null,null,null,null,null,null,null,null,null,null,null,null,null,null,null,null,null,null,null,null,"",null,null,"",null,null,null,null,null,null,null,null,null,null,"",null,null,"",null,null,null,null,null,null,null,null,null,null,"",null,null,"",null,null,null,null,null,null,null,null,null,0,"種目",0,0,0,null,null,null,"北見三輪小","湧別中","遠軽高","ｵﾎｰﾂｸ陸協(水島)","役員係",null,1983,"茨城","一般",14,{"$f":"IF(ISERROR(VLOOKUP(CV28,①初期設定!$Z$55:$AD$201,5,FALSE)),\"*\",VLOOKUP(CV28,①初期設定!$Z$55:$AD$201,5,FALSE))","v":"小学男子5年走幅跳"},"5年走幅跳",{"$f":"IF(ISERROR(VLOOKUP(CV28,①初期設定!$AL$55:$AV$201,5,FALSE)),\"*\",VLOOKUP(CV28,①初期設定!$AL$55:$AV$201,5,FALSE))","v":"小学女子5年走幅跳"},"5年走幅跳",{"$f":"IF(ISERROR(VLOOKUP(CV28,①初期設定!$AA$55:$AD$201,4,FALSE)),\"*\",VLOOKUP(CV28,①初期設定!$AA$55:$AD$201,4,FALSE))","v":"中学男子四種競技"},{"$f":"IF(ISERROR(RIGHT(DA28,LEN(DA28)-4)),\"*\",RIGHT(DA28,LEN(DA28)-4))","v":"四種競技"},{"$f":"IF(ISERROR(VLOOKUP(CV28,①初期設定!$AM$55:$AV$201,4,FALSE)),\"*\",VLOOKUP(CV28,①初期設定!$AM$55:$AV$201,4,FALSE))","v":"*"},{"$f":"IF(ISERROR(RIGHT(DC28,LEN(DC28)-4)),\"*\",RIGHT(DC28,LEN(DC28)-4))","v":"*"},{"$f":"IF(ISERROR(VLOOKUP(CV28,①初期設定!$AB$55:$AD$201,3,FALSE)),\"\",VLOOKUP(CV28,①初期設定!$AB$55:$AD$201,3,FALSE))","v":"共通男子やり投(800g)"},{"$f":"IF(ISERROR(RIGHT(DE28,LEN(DE28)-4)),\"*\",RIGHT(DE28,LEN(DE28)-4))","v":"やり投(800g)"},{"$f":"IF(ISERROR(VLOOKUP(CV28,①初期設定!$AN$55:$AV$201,3,FALSE)),\"*\",VLOOKUP(CV28,①初期設定!$AN$55:$AV$201,3,FALSE))","v":"共通女子砲丸投(4.000kg)"},{"$f":"IF(ISERROR(RIGHT(DG28,LEN(DG28)-4)),\"*\",RIGHT(DG28,LEN(DG28)-4))","v":"砲丸投(4.000kg)"},{"$f":"IF(ISERROR(VLOOKUP(CV28,①初期設定!$AC$55:$AD$201,2,FALSE)),\"\",VLOOKUP(CV28,①初期設定!$AC$55:$AD$201,2,FALSE))","v":"共通男子やり投(800g)"},{"$f":"IF(ISERROR(RIGHT(DI28,LEN(DI28)-4)),\"*\",RIGHT(DI28,LEN(DI28)-4))","v":"やり投(800g)"},{"$f":"IF(ISERROR(VLOOKUP(CV28,①初期設定!$AO$55:$AV$201,2,FALSE)),\"*\",VLOOKUP(CV28,①初期設定!$AO$55:$AV$201,2,FALSE))","v":"共通女子砲丸投(4.000kg)"},{"$f":"IF(ISERROR(RIGHT(DK28,LEN(DK28)-4)),\"*\",RIGHT(DK28,LEN(DK28)-4))","v":"砲丸投(4.000kg)"},"一般","一般"]
[16,null,null,null,null,null,null,null,null,null,null,null,null,null,null,null,null,null,null,null,null,null,null,null,null,null,null,null,null,null,null,null,null,null,null,null,null,null,null,null,null,"",null,null,"",null,null,null,null,null,null,null,null,null,null,"",null,null,"",null,null,null,null,null,null,null,null,null,null,"",null,null,"",null,null,null,null,null,null,null,null,null,0,"種目",0,0,0,null,null,null,"北見北光小","湧別上湧別中","湧別高","ｵﾎｰﾂｸ陸協(菅野)","監察員",null,1984,"岡山",null,15,{"$f":"IF(ISERROR(VLOOKUP(CV29,①初期設定!$Z$55:$AD$201,5,FALSE)),\"*\",VLOOKUP(CV29,①初期設定!$Z$55:$AD$201,5,FALSE))","v":"小学男子4年走幅跳"},"4年走幅跳",{"$f":"IF(ISERROR(VLOOKUP(CV29,①初期設定!$AL$55:$AV$201,5,FALSE)),\"*\",VLOOKUP(CV29,①初期設定!$AL$55:$AV$201,5,FALSE))","v":"小学女子4年走幅跳"},"4年走幅跳",{"$f":"IF(ISERROR(VLOOKUP(CV29,①初期設定!$AA$55:$AD$201,4,FALSE)),\"*\",VLOOKUP(CV29,①初期設定!$AA$55:$AD$201,4,FALSE))","v":"*"},{"$f":"IF(ISERROR(RIGHT(DA29,LEN(DA29)-4)),\"*\",RIGHT(DA29,LEN(DA29)-4))","v":"*"},{"$f":"IF(ISERROR(VLOOKUP(CV29,①初期設定!$AM$55:$AV$201,4,FALSE)),\"*\",VLOOKUP(CV29,①初期設定!$AM$55:$AV$201,4,FALSE))","v":"*"},{"$f":"IF(ISERROR(RIGHT(DC29,LEN(DC29)-4)),\"*\",RIGHT(DC29,LEN(DC29)-4))","v":"*"},{"$f":"IF(ISERROR(VLOOKUP(CV29,①初期設定!$AB$55:$AD$201,3,FALSE)),\"\",VLOOKUP(CV29,①初期設定!$AB$55:$AD$201,3,FALSE))","v":"高校男子砲丸投(6.000kg)"},{"$f":"IF(ISERROR(RIGHT(DE29,LEN(DE29)-4)),\"*\",RIGHT(DE29,LEN(DE29)-4))","v":"砲丸投(6.000kg)"},{"$f":"IF(ISERROR(VLOOKUP(CV29,①初期設定!$AN$55:$AV$201,3,FALSE)),\"*\",VLOOKUP(CV29,①初期設定!$AN$55:$AV$201,3,FALSE))","v":"共通女子円盤投(1.000kg)"},{"$f":"IF(ISERROR(RIGHT(DG29,LEN(DG29)-4)),\"*\",RIGHT(DG29,LEN(DG29)-4))","v":"円盤投(1.000kg)"},{"$f":"IF(ISERROR(VLOOKUP(CV29,①初期設定!$AC$55:$AD$201,2,FALSE)),\"\",VLOOKUP(CV29,①初期設定!$AC$55:$AD$201,2,FALSE))","v":"一般男子砲丸投(7.260kg)"},{"$f":"IF(ISERROR(RIGHT(DI29,LEN(DI29)-4)),\"*\",RIGHT(DI29,LEN(DI29)-4))","v":"砲丸投(7.260kg)"},{"$f":"IF(ISERROR(VLOOKUP(CV29,①初期設定!$AO$55:$AV$201,2,FALSE)),\"*\",VLOOKUP(CV29,①初期設定!$AO$55:$AV$201,2,FALSE))","v":"共通女子円盤投(1.000kg)"},{"$f":"IF(ISERROR(RIGHT(DK29,LEN(DK29)-4)),\"*\",RIGHT(DK29,LEN(DK29)-4))","v":"円盤投(1.000kg)"}]
[17,null,null,null,null,null,null,null,null,null,null,null,null,null,null,null,null,null,null,null,null,null,null,null,null,null,null,null,null,null,null,null,null,null,null,null,null,null,null,null,null,"",null,null,"",null,null,null,null,null,null,null,null,null,null,"",null,null,"",null,null,null,null,null,null,null,null,null,null,"",null,null,"",null,null,null,null,null,null,null,null,null,0,"種目",0,0,0,null,null,null,"北見美山小","興部沙留中","興部高","ｵﾎｰﾂｸ陸協(清水)","表彰係",null,1985,"沖縄",null,16,{"$f":"IF(ISERROR(VLOOKUP(CV30,①初期設定!$Z$55:$AD$201,5,FALSE)),\"*\",VLOOKUP(CV30,①初期設定!$Z$55:$AD$201,5,FALSE))","v":"小学男子6年砲丸投(2.721kg)"},"6年砲丸投(2.721kg)",{"$f":"IF(ISERROR(VLOOKUP(CV30,①初期設定!$AL$55:$AV$201,5,FALSE)),\"*\",VLOOKUP(CV30,①初期設定!$AL$55:$AV$201,5,FALSE))","v":"小学女子6年砲丸投(2.721kg)"},"6年砲丸投(2.721kg)",{"$f":"IF(ISERROR(VLOOKUP(CV30,①初期設定!$AA$55:$AD$201,4,FALSE)),\"*\",VLOOKUP(CV30,①初期設定!$AA$55:$AD$201,4,FALSE))","v":"*"},{"$f":"IF(ISERROR(RIGHT(DA30,LEN(DA30)-4)),\"*\",RIGHT(DA30,LEN(DA30)-4))","v":"*"},{"$f":"IF(ISERROR(VLOOKUP(CV30,①初期設定!$AM$55:$AV$201,4,FALSE)),\"*\",VLOOKUP(CV30,①初期設定!$AM$55:$AV$201,4,FALSE))","v":"*"},{"$f":"IF(ISERROR(RIGHT(DC30,LEN(DC30)-4)),\"*\",RIGHT(DC30,LEN(DC30)-4))","v":"*"},{"$f":"IF(ISERROR(VLOOKUP(CV30,①初期設定!$AB$55:$AD$201,3,FALSE)),\"\",VLOOKUP(CV30,①初期設定!$AB$55:$AD$201,3,FALSE))","v":"高校男子円盤投(1.750kg)"},{"$f":"IF(ISERROR(RIGHT(DE30,LEN(DE30)-4)),\"*\",RIGHT(DE30,LEN(DE30)-4))","v":"円盤投(1.750kg)"},{"$f":"IF(ISERROR(VLOOKUP(CV30,①初期設定!$AN$55:$AV$201,3,FALSE)),\"*\",VLOOKUP(CV30,①初期設定!$AN$55:$AV$201,3,FALSE))","v":"共通女子ﾊﾝﾏｰ投(4.000kg)"},{"$f":"IF(ISERROR(RIGHT(DG30,LEN(DG30)-4)),\"*\",RIGHT(DG30,LEN(DG30)-4))","v":"ﾊﾝﾏｰ投(4.000kg)"},{"$f":"IF(ISERROR(VLOOKUP(CV30,①初期設定!$AC$55:$AD$201,2,FALSE)),\"\",VLOOKUP(CV30,①初期設定!$AC$55:$AD$201,2,FALSE))","v":"一般男子円盤投(2.000kg)"},{"$f":"IF(ISERROR(RIGHT(DI30,LEN(DI30)-4)),\"*\",RIGHT(DI30,LEN(DI30)-4))","v":"円盤投(2.000kg)"},{"$f":"IF(ISERROR(VLOOKUP(CV30,①初期設定!$AO$55:$AV$201,2,FALSE)),\"*\",VLOOKUP(CV30,①初期設定!$AO$55:$AV$201,2,FALSE))","v":"共通女子ﾊﾝﾏｰ投(4.000kg)"},{"$f":"IF(ISERROR(RIGHT(DK30,LEN(DK30)-4)),\"*\",RIGHT(DK30,LEN(DK30)-4))","v":"ﾊﾝﾏｰ投(4.000kg)"}]
[18,null,null,null,null,null,null,null,null,null,null,null,null,null,null,null,null,null,null,null,null,null,null,null,null,null,null,null,null,null,null,null,null,null,null,null,null,null,null,null,null,"",null,null,"",null,null,null,null,null,null,null,null,null,null,"",null,null,"",null,null,null,null,null,null,null,null,null,null,"",null,null,"",null,null,null,null,null,null,null,null,null,0,"種目",0,0,0,null,null,null,"北見留辺蘂小","雄武中","滝上高","ｵﾎｰﾂｸ陸協(石川)","跳躍審判",null,1986,"韓国",null,17,{"$f":"IF(ISERROR(VLOOKUP(CV31,①初期設定!$Z$55:$AD$201,5,FALSE)),\"*\",VLOOKUP(CV31,①初期設定!$Z$55:$AD$201,5,FALSE))","v":"小学男子6年ｼﾞｬﾍﾞﾘｯｸﾎﾞｰﾙｽﾛｰ"},"6年ｼﾞｬﾍﾞﾘｯｸﾎﾞｰﾙｽﾛｰ",{"$f":"IF(ISERROR(VLOOKUP(CV31,①初期設定!$AL$55:$AV$201,5,FALSE)),\"*\",VLOOKUP(CV31,①初期設定!$AL$55:$AV$201,5,FALSE))","v":"小学女子6年ｼﾞｬﾍﾞﾘｯｸﾎﾞｰﾙｽﾛｰ"},"6年ｼﾞｬﾍﾞﾘｯｸﾎﾞｰﾙｽﾛｰ",{"$f":"IF(ISERROR(VLOOKUP(CV31,①初期設定!$AA$55:$AD$201,4,FALSE)),\"*\",VLOOKUP(CV31,①初期設定!$AA$55:$AD$201,4,FALSE))","v":"*"},{"$f":"IF(ISERROR(RIGHT(DA31,LEN(DA31)-4)),\"*\",RIGHT(DA31,LEN(DA31)-4))","v":"*"},{"$f":"IF(ISERROR(VLOOKUP(CV31,①初期設定!$AM$55:$AV$201,4,FALSE)),\"*\",VLOOKUP(CV31,①初期設定!$AM$55:$AV$201,4,FALSE))","v":"*"},{"$f":"IF(ISERROR(RIGHT(DC31,LEN(DC31)-4)),\"*\",RIGHT(DC31,LEN(DC31)-4))","v":"*"},{"$f":"IF(ISERROR(VLOOKUP(CV31,①初期設定!$AB$55:$AD$201,3,FALSE)),\"\",VLOOKUP(CV31,①初期設定!$AB$55:$AD$201,3,FALSE))","v":"高校男子ﾊﾝﾏｰ投(6.000kg)"},{"$f":"IF(ISERROR(RIGHT(DE31,LEN(DE31)-4)),\"*\",RIGHT(DE31,LEN(DE31)-4))","v":"ﾊﾝﾏｰ投(6.000kg)"},{"$f":"IF(ISERROR(VLOOKUP(CV31,①初期設定!$AN$55:$AV$201,3,FALSE)),\"*\",VLOOKUP(CV31,①初期設定!$AN$55:$AV$201,3,FALSE))","v":"共通女子やり投(600g)"},{"$f":"IF(ISERROR(RIGHT(DG31,LEN(DG31)-4)),\"*\",RIGHT(DG31,LEN(DG31)-4))","v":"やり投(600g)"},{"$f":"IF(ISERROR(VLOOKUP(CV31,①初期設定!$AC$55:$AD$201,2,FALSE)),\"\",VLOOKUP(CV31,①初期設定!$AC$55:$AD$201,2,FALSE))","v":"一般男子ﾊﾝﾏｰ投(7.260kg)"},{"$f":"IF(ISERROR(RIGHT(DI31,LEN(DI31)-4)),\"*\",RIGHT(DI31,LEN(DI31)-4))","v":"ﾊﾝﾏｰ投(7.260kg)"},{"$f":"IF(ISERROR(VLOOKUP(CV31,①初期設定!$AO$55:$AV$201,2,FALSE)),\"*\",VLOOKUP(CV31,①初期設定!$AO$55:$AV$201,2,FALSE))","v":"共通女子やり投(600g)"},{"$f":"IF(ISERROR(RIGHT(DK31,LEN(DK31)-4)),\"*\",RIGHT(DK31,LEN(DK31)-4))","v":"やり投(600g)"}]
[19,null,null,null,null,null,null,null,null,null,null,null,null,null,null,null,null,null,null,null,null,null,null,null,null,null,null,null,null,null,null,null,null,null,null,null,null,null,null,null,null,"",null,null,"",null,null,null,null,null,null,null,null,null,null,"",null,null,"",null,null,null,null,null,null,null,null,null,null,"",null,null,"",null,null,null,null,null,null,null,null,null,0,"種目",0,0,0,null,null,null,"北見常呂小","北見東陵中","雄武高","ｵﾎｰﾂｸ陸協(川田)","投擲審判",null,1987,"岩手",null,18,{"$f":"IF(ISERROR(VLOOKUP(CV32,①初期設定!$Z$55:$AD$201,5,FALSE)),\"*\",VLOOKUP(CV32,①初期設定!$Z$55:$AD$201,5,FALSE))","v":"小学男子5年ｼﾞｬﾍﾞﾘｯｸﾎﾞｰﾙｽﾛｰ"},"5年ｼﾞｬﾍﾞﾘｯｸﾎﾞｰﾙｽﾛｰ",{"$f":"IF(ISERROR(VLOOKUP(CV32,①初期設定!$AL$55:$AV$201,5,FALSE)),\"*\",VLOOKUP(CV32,①初期設定!$AL$55:$AV$201,5,FALSE))","v":"小学女子5年ｼﾞｬﾍﾞﾘｯｸﾎﾞｰﾙｽﾛｰ"},"5年ｼﾞｬﾍﾞﾘｯｸﾎﾞｰﾙｽﾛｰ",{"$f":"IF(ISERROR(VLOOKUP(CV32,①初期設定!$AA$55:$AD$201,4,FALSE)),\"*\",VLOOKUP(CV32,①初期設定!$AA$55:$AD$201,4,FALSE))","v":"*"},{"$f":"IF(ISERROR(RIGHT(DA32,LEN(DA32)-4)),\"*\",RIGHT(DA32,LEN(DA32)-4))","v":"*"},{"$f":"IF(ISERROR(VLOOKUP(CV32,①初期設定!$AM$55:$AV$201,4,FALSE)),\"*\",VLOOKUP(CV32,①初期設定!$AM$55:$AV$201,4,FALSE))","v":"*"},{"$f":"IF(ISERROR(RIGHT(DC32,LEN(DC32)-4)),\"*\",RIGHT(DC32,LEN(DC32)-4))","v":"*"},{"$f":"IF(ISERROR(VLOOKUP(CV32,①初期設定!$AB$55:$AD$201,3,FALSE)),\"\",VLOOKUP(CV32,①初期設定!$AB$55:$AD$201,3,FALSE))","v":"高校男子八種競技"},{"$f":"IF(ISERROR(RIGHT(DE32,LEN(DE32)-4)),\"*\",RIGHT(DE32,LEN(DE32)-4))","v":"八種競技"},{"$f":"IF(ISERROR(VLOOKUP(CV32,①初期設定!$AN$55:$AV$201,3,FALSE)),\"*\",VLOOKUP(CV32,①初期設定!$AN$55:$AV$201,3,FALSE))","v":"共通女子七種競技"},{"$f":"IF(ISERROR(RIGHT(DG32,LEN(DG32)-4)),\"*\",RIGHT(DG32,LEN(DG32)-4))","v":"七種競技"},{"$f":"IF(ISERROR(VLOOKUP(CV32,①初期設定!$AC$55:$AD$201,2,FALSE)),\"\",VLOOKUP(CV32,①初期設定!$AC$55:$AD$201,2,FALSE))","v":"共通男子三段跳"},{"$f":"IF(ISERROR(RIGHT(DI32,LEN(DI32)-4)),\"*\",RIGHT(DI32,LEN(DI32)-4))","v":"三段跳"},{"$f":"IF(ISERROR(VLOOKUP(CV32,①初期設定!$AO$55:$AV$201,2,FALSE)),\"*\",VLOOKUP(CV32,①初期設定!$AO$55:$AV$201,2,FALSE))","v":"*"},{"$f":"IF(ISERROR(RIGHT(DK32,LEN(DK32)-4)),\"*\",RIGHT(DK32,LEN(DK32)-4))","v":"*"}]
[20,null,null,null,null,null,null,null,null,null,null,null,null,null,null,null,null,null,null,null,null,null,null,null,null,null,null,null,null,null,null,null,null,null,null,null,null,null,null,null,null,"",null,null,"",null,null,null,null,null,null,null,null,null,null,"",null,null,"",null,null,null,null,null,null,null,null,null,null,"",null,null,"",null,null,null,null,null,null,null,null,null,0,"種目",0,0,0,null,null,null,"北見川沿小","北見光西中","訓子府高","ｵﾎｰﾂｸ陸協(川内)",null,null,1988,"岐阜",null,19,{"$f":"IF(ISERROR(VLOOKUP(CV33,①初期設定!$Z$55:$AD$201,5,FALSE)),\"*\",VLOOKUP(CV33,①初期設定!$Z$55:$AD$201,5,FALSE))","v":"小学男子4年ｼﾞｬﾍﾞﾘｯｸﾎﾞｰﾙｽﾛｰ"},"4年ｼﾞｬﾍﾞﾘｯｸﾎﾞｰﾙｽﾛｰ",{"$f":"IF(ISERROR(VLOOKUP(CV33,①初期設定!$AL$55:$AV$201,5,FALSE)),\"*\",VLOOKUP(CV33,①初期設定!$AL$55:$AV$201,5,FALSE))","v":"小学女子4年ｼﾞｬﾍﾞﾘｯｸﾎﾞｰﾙｽﾛｰ"},"4年ｼﾞｬﾍﾞﾘｯｸﾎﾞｰﾙｽﾛｰ",{"$f":"IF(ISERROR(VLOOKUP(CV33,①初期設定!$AA$55:$AD$201,4,FALSE)),\"*\",VLOOKUP(CV33,①初期設定!$AA$55:$AD$201,4,FALSE))","v":"*"},{"$f":"IF(ISERROR(RIGHT(DA33,LEN(DA33)-4)),\"*\",RIGHT(DA33,LEN(DA33)-4))","v":"*"},{"$f":"IF(ISERROR(VLOOKUP(CV33,①初期設定!$AM$55:$AV$201,4,FALSE)),\"*\",VLOOKUP(CV33,①初期設定!$AM$55:$AV$201,4,FALSE))","v":"*"},{"$f":"IF(ISERROR(RIGHT(DC33,LEN(DC33)-4)),\"*\",RIGHT(DC33,LEN(DC33)-4))","v":"*"},{"$f":"IF(ISERROR(VLOOKUP(CV33,①初期設定!$AB$55:$AD$201,3,FALSE)),\"\",VLOOKUP(CV33,①初期設定!$AB$55:$AD$201,3,FALSE))","v":"共通男子三段跳"},{"$f":"IF(ISERROR(RIGHT(DE33,LEN(DE33)-4)),\"*\",RIGHT(DE33,LEN(DE33)-4))","v":"三段跳"},{"$f":"IF(ISERROR(VLOOKUP(CV33,①初期設定!$AN$55:$AV$201,3,FALSE)),\"*\",VLOOKUP(CV33,①初期設定!$AN$55:$AV$201,3,FALSE))","v":"*"},{"$f":"IF(ISERROR(RIGHT(DG33,LEN(DG33)-4)),\"*\",RIGHT(DG33,LEN(DG33)-4))","v":"*"},{"$f":"IF(ISERROR(VLOOKUP(CV33,①初期設定!$AC$55:$AD$201,2,FALSE)),\"\",VLOOKUP(CV33,①初期設定!$AC$55:$AD$201,2,FALSE))","v":""},{"$f":"IF(ISERROR(RIGHT(DI33,LEN(DI33)-4)),\"*\",RIGHT(DI33,LEN(DI33)-4))","v":"*"},{"$f":"IF(ISERROR(VLOOKUP(CV33,①初期設定!$AO$55:$AV$201,2,FALSE)),\"*\",VLOOKUP(CV33,①初期設定!$AO$55:$AV$201,2,FALSE))","v":"*"},{"$f":"IF(ISERROR(RIGHT(DK33,LEN(DK33)-4)),\"*\",RIGHT(DK33,LEN(DK33)-4))","v":"*"}]
[21,null,null,null,null,null,null,null,null,null,null,null,null,null,null,null,null,null,null,null,null,null,null,null,null,null,null,null,null,null,null,null,null,null,null,null,null,null,null,null,null,"",null,null,"",null,null,null,null,null,null,null,null,null,null,"",null,null,"",null,null,null,null,null,null,null,null,null,null,"",null,null,"",null,null,null,null,null,null,null,null,null,0,"種目",0,0,0,null,null,null,"網走中央小","北見南中","清里高","ｵﾎｰﾂｸ陸協(村上)",null,null,1989,"宮崎",null,20,{"$f":"IF(ISERROR(VLOOKUP(CV34,①初期設定!$Z$55:$AD$201,5,FALSE)),\"*\",VLOOKUP(CV34,①初期設定!$Z$55:$AD$201,5,FALSE))","v":"*"},"*",{"$f":"IF(ISERROR(VLOOKUP(CV34,①初期設定!$AL$55:$AV$201,5,FALSE)),\"*\",VLOOKUP(CV34,①初期設定!$AL$55:$AV$201,5,FALSE))","v":"*"},"*",{"$f":"IF(ISERROR(VLOOKUP(CV34,①初期設定!$AA$55:$AD$201,4,FALSE)),\"*\",VLOOKUP(CV34,①初期設定!$AA$55:$AD$201,4,FALSE))","v":"*"},{"$f":"IF(ISERROR(RIGHT(DA34,LEN(DA34)-4)),\"*\",RIGHT(DA34,LEN(DA34)-4))","v":"*"},{"$f":"IF(ISERROR(VLOOKUP(CV34,①初期設定!$AM$55:$AV$201,4,FALSE)),\"*\",VLOOKUP(CV34,①初期設定!$AM$55:$AV$201,4,FALSE))","v":"*"},{"$f":"IF(ISERROR(RIGHT(DC34,LEN(DC34)-4)),\"*\",RIGHT(DC34,LEN(DC34)-4))","v":"*"},{"$f":"IF(ISERROR(VLOOKUP(CV34,①初期設定!$AB$55:$AD$201,3,FALSE)),\"\",VLOOKUP(CV34,①初期設定!$AB$55:$AD$201,3,FALSE))","v":""},{"$f":"IF(ISERROR(RIGHT(DE34,LEN(DE34)-4)),\"*\",RIGHT(DE34,LEN(DE34)-4))","v":"*"},{"$f":"IF(ISERROR(VLOOKUP(CV34,①初期設定!$AN$55:$AV$201,3,FALSE)),\"*\",VLOOKUP(CV34,①初期設定!$AN$55:$AV$201,3,FALSE))","v":"*"},{"$f":"IF(ISERROR(RIGHT(DG34,LEN(DG34)-4)),\"*\",RIGHT(DG34,LEN(DG34)-4))","v":"*"},{"$f":"IF(ISERROR(VLOOKUP(CV34,①初期設定!$AC$55:$AD$201,2,FALSE)),\"\",VLOOKUP(CV34,①初期設定!$AC$55:$AD$201,2,FALSE))","v":""},{"$f":"IF(ISERROR(RIGHT(DI34,LEN(DI34)-4)),\"*\",RIGHT(DI34,LEN(DI34)-4))","v":"*"},{"$f":"IF(ISERROR(VLOOKUP(CV34,①初期設定!$AO$55:$AV$201,2,FALSE)),\"*\",VLOOKUP(CV34,①初期設定!$AO$55:$AV$201,2,FALSE))","v":"*"},{"$f":"IF(ISERROR(RIGHT(DK34,LEN(DK34)-4)),\"*\",RIGHT(DK34,LEN(DK34)-4))","v":"*"}]
[22,null,null,null,null,null,null,null,null,null,null,null,null,null,null,null,null,null,null,null,null,null,null,null,null,null,null,null,null,null,null,null,null,null,null,null,null,null,null,null,null,"",null,null,"",null,null,null,null,null,null,null,null,null,null,"",null,null,"",null,null,null,null,null,null,null,null,null,null,"",null,null,"",null,null,null,null,null,null,null,null,null,0,"種目",0,0,0,null,null,null,"網走東小","北見北中","女満別高","ｵﾎｰﾂｸ陸協(長谷川)",null,null,1990,"宮城",null,21,{"$f":"IF(ISERROR(VLOOKUP(CV35,①初期設定!$Z$55:$AD$201,5,FALSE)),\"*\",VLOOKUP(CV35,①初期設定!$Z$55:$AD$201,5,FALSE))","v":"*"},"*",{"$f":"IF(ISERROR(VLOOKUP(CV35,①初期設定!$AL$55:$AV$201,5,FALSE)),\"*\",VLOOKUP(CV35,①初期設定!$AL$55:$AV$201,5,FALSE))","v":"*"},"*",{"$f":"IF(ISERROR(VLOOKUP(CV35,①初期設定!$AA$55:$AD$201,4,FALSE)),\"*\",VLOOKUP(CV35,①初期設定!$AA$55:$AD$201,4,FALSE))","v":"*"},{"$f":"IF(ISERROR(RIGHT(DA35,LEN(DA35)-4)),\"*\",RIGHT(DA35,LEN(DA35)-4))","v":"*"},{"$f":"IF(ISERROR(VLOOKUP(CV35,①初期設定!$AM$55:$AV$201,4,FALSE)),\"*\",VLOOKUP(CV35,①初期設定!$AM$55:$AV$201,4,FALSE))","v":"*"},{"$f":"IF(ISERROR(RIGHT(DC35,LEN(DC35)-4)),\"*\",RIGHT(DC35,LEN(DC35)-4))","v":"*"},{"$f":"IF(ISERROR(VLOOKUP(CV35,①初期設定!$AB$55:$AD$201,3,FALSE)),\"\",VLOOKUP(CV35,①初期設定!$AB$55:$AD$201,3,FALSE))","v":""},{"$f":"IF(ISERROR(RIGHT(DE35,LEN(DE35)-4)),\"*\",RIGHT(DE35,LEN(DE35)-4))","v":"*"},{"$f":"IF(ISERROR(VLOOKUP(CV35,①初期設定!$AN$55:$AV$201,3,FALSE)),\"*\",VLOOKUP(CV35,①初期設定!$AN$55:$AV$201,3,FALSE))","v":"*"},{"$f":"IF(ISERROR(RIGHT(DG35,LEN(DG35)-4)),\"*\",RIGHT(DG35,LEN(DG35)-4))","v":"*"},{"$f":"IF(ISERROR(VLOOKUP(CV35,①初期設定!$AC$55:$AD$201,2,FALSE)),\"\",VLOOKUP(CV35,①初期設定!$AC$55:$AD$201,2,FALSE))","v":""},{"$f":"IF(ISERROR(RIGHT(DI35,LEN(DI35)-4)),\"*\",RIGHT(DI35,LEN(DI35)-4))","v":"*"},{"$f":"IF(ISERROR(VLOOKUP(CV35,①初期設定!$AO$55:$AV$201,2,FALSE)),\"*\",VLOOKUP(CV35,①初期設定!$AO$55:$AV$201,2,FALSE))","v":"*"},{"$f":"IF(ISERROR(RIGHT(DK35,LEN(DK35)-4)),\"*\",RIGHT(DK35,LEN(DK35)-4))","v":"*"}]
[23,null,null,null,null,null,null,null,null,null,null,null,null,null,null,null,null,null,null,null,null,null,null,null,null,null,null,null,null,null,null,null,null,null,null,null,null,null,null,null,null,"",null,null,"",null,null,null,null,null,null,null,null,null,null,"",null,null,"",null,null,null,null,null,null,null,null,null,null,"",null,null,"",null,null,null,null,null,null,null,null,null,0,"種目",0,0,0,null,null,null,"網走白鳥台小","北見高栄中","東藻琴高","ｵﾎｰﾂｸ陸協(天野)",null,null,1991,"京都",null,22,{"$f":"IF(ISERROR(VLOOKUP(CV36,①初期設定!$Z$55:$AD$201,5,FALSE)),\"*\",VLOOKUP(CV36,①初期設定!$Z$55:$AD$201,5,FALSE))","v":"*"},"*",{"$f":"IF(ISERROR(VLOOKUP(CV36,①初期設定!$AL$55:$AV$201,5,FALSE)),\"*\",VLOOKUP(CV36,①初期設定!$AL$55:$AV$201,5,FALSE))","v":"*"},"*",{"$f":"IF(ISERROR(VLOOKUP(CV36,①初期設定!$AA$55:$AD$201,4,FALSE)),\"*\",VLOOKUP(CV36,①初期設定!$AA$55:$AD$201,4,FALSE))","v":"*"},{"$f":"IF(ISERROR(RIGHT(DA36,LEN(DA36)-4)),\"*\",RIGHT(DA36,LEN(DA36)-4))","v":"*"},{"$f":"IF(ISERROR(VLOOKUP(CV36,①初期設定!$AM$55:$AV$201,4,FALSE)),\"*\",VLOOKUP(CV36,①初期設定!$AM$55:$AV$201,4,FALSE))","v":"*"},{"$f":"IF(ISERROR(RIGHT(DC36,LEN(DC36)-4)),\"*\",RIGHT(DC36,LEN(DC36)-4))","v":"*"},{"$f":"IF(ISERROR(VLOOKUP(CV36,①初期設定!$AB$55:$AD$201,3,FALSE)),\"\",VLOOKUP(CV36,①初期設定!$AB$55:$AD$201,3,FALSE))","v":""},{"$f":"IF(ISERROR(RIGHT(DE36,LEN(DE36)-4)),\"*\",RIGHT(DE36,LEN(DE36)-4))","v":"*"},{"$f":"IF(ISERROR(VLOOKUP(CV36,①初期設定!$AN$55:$AV$201,3,FALSE)),\"*\",VLOOKUP(CV36,①初期設定!$AN$55:$AV$201,3,FALSE))","v":"*"},{"$f":"IF(ISERROR(RIGHT(DG36,LEN(DG36)-4)),\"*\",RIGHT(DG36,LEN(DG36)-4))","v":"*"},{"$f":"IF(ISERROR(VLOOKUP(CV36,①初期設定!$AC$55:$AD$201,2,FALSE)),\"\",VLOOKUP(CV36,①初期設定!$AC$55:$AD$201,2,FALSE))","v":""},{"$f":"IF(ISERROR(RIGHT(DI36,LEN(DI36)-4)),\"*\",RIGHT(DI36,LEN(DI36)-4))","v":"*"},{"$f":"IF(ISERROR(VLOOKUP(CV36,①初期設定!$AO$55:$AV$201,2,FALSE)),\"*\",VLOOKUP(CV36,①初期設定!$AO$55:$AV$201,2,FALSE))","v":"*"},{"$f":"IF(ISERROR(RIGHT(DK36,LEN(DK36)-4)),\"*\",RIGHT(DK36,LEN(DK36)-4))","v":"*"}]
[24,null,null,null,null,null,null,null,null,null,null,null,null,null,null,null,null,null,null,null,null,null,null,null,null,null,null,null,null,null,null,null,null,null,null,null,null,null,null,null,null,"",null,null,"",null,null,null,null,null,null,null,null,null,null,"",null,null,"",null,null,null,null,null,null,null,null,null,null,"",null,null,"",null,null,null,null,null,null,null,null,null,0,"種目",0,0,0,null,null,null,"紋別潮見小","北見小泉中","北見藤女子高","ｵﾎｰﾂｸ陸協(飯島)",null,null,1992,"熊本",null,23,{"$f":"IF(ISERROR(VLOOKUP(CV37,①初期設定!$Z$55:$AD$201,5,FALSE)),\"*\",VLOOKUP(CV37,①初期設定!$Z$55:$AD$201,5,FALSE))","v":"*"},"*",{"$f":"IF(ISERROR(VLOOKUP(CV37,①初期設定!$AL$55:$AV$201,5,FALSE)),\"*\",VLOOKUP(CV37,①初期設定!$AL$55:$AV$201,5,FALSE))","v":"*"},"*",{"$f":"IF(ISERROR(VLOOKUP(CV37,①初期設定!$AA$55:$AD$201,4,FALSE)),\"*\",VLOOKUP(CV37,①初期設定!$AA$55:$AD$201,4,FALSE))","v":"*"},{"$f":"IF(ISERROR(RIGHT(DA37,LEN(DA37)-4)),\"*\",RIGHT(DA37,LEN(DA37)-4))","v":"*"},{"$f":"IF(ISERROR(VLOOKUP(CV37,①初期設定!$AM$55:$AV$201,4,FALSE)),\"*\",VLOOKUP(CV37,①初期設定!$AM$55:$AV$201,4,FALSE))","v":"*"},{"$f":"IF(ISERROR(RIGHT(DC37,LEN(DC37)-4)),\"*\",RIGHT(DC37,LEN(DC37)-4))","v":"*"},{"$f":"IF(ISERROR(VLOOKUP(CV37,①初期設定!$AB$55:$AD$201,3,FALSE)),\"\",VLOOKUP(CV37,①初期設定!$AB$55:$AD$201,3,FALSE))","v":""},{"$f":"IF(ISERROR(RIGHT(DE37,LEN(DE37)-4)),\"*\",RIGHT(DE37,LEN(DE37)-4))","v":"*"},{"$f":"IF(ISERROR(VLOOKUP(CV37,①初期設定!$AN$55:$AV$201,3,FALSE)),\"*\",VLOOKUP(CV37,①初期設定!$AN$55:$AV$201,3,FALSE))","v":"*"},{"$f":"IF(ISERROR(RIGHT(DG37,LEN(DG37)-4)),\"*\",RIGHT(DG37,LEN(DG37)-4))","v":"*"},{"$f":"IF(ISERROR(VLOOKUP(CV37,①初期設定!$AC$55:$AD$201,2,FALSE)),\"\",VLOOKUP(CV37,①初期設定!$AC$55:$AD$201,2,FALSE))","v":""},{"$f":"IF(ISERROR(RIGHT(DI37,LEN(DI37)-4)),\"*\",RIGHT(DI37,LEN(DI37)-4))","v":"*"},{"$f":"IF(ISERROR(VLOOKUP(CV37,①初期設定!$AO$55:$AV$201,2,FALSE)),\"*\",VLOOKUP(CV37,①初期設定!$AO$55:$AV$201,2,FALSE))","v":"*"},{"$f":"IF(ISERROR(RIGHT(DK37,LEN(DK37)-4)),\"*\",RIGHT(DK37,LEN(DK37)-4))","v":"*"}]
[25,null,null,null,null,null,null,null,null,null,null,null,null,null,null,null,null,null,null,null,null,null,null,null,null,null,null,null,null,null,null,null,null,null,null,null,null,null,null,null,null,"",null,null,"",null,null,null,null,null,null,null,null,null,null,"",null,null,"",null,null,null,null,null,null,null,null,null,null,"",null,null,"",null,null,null,null,null,null,null,null,null,0,"種目",0,0,0,null,null,null,"ｵﾎｰﾂｸACｼﾞｭﾆｱ","北見北光中","日体大附属高","ｵﾎｰﾂｸ陸協(平野)",null,null,1993,"群馬",null,24,{"$f":"IF(ISERROR(VLOOKUP(CV38,①初期設定!$Z$55:$AD$201,5,FALSE)),\"*\",VLOOKUP(CV38,①初期設定!$Z$55:$AD$201,5,FALSE))","v":"*"},"*",{"$f":"IF(ISERROR(VLOOKUP(CV38,①初期設定!$AL$55:$AV$201,5,FALSE)),\"*\",VLOOKUP(CV38,①初期設定!$AL$55:$AV$201,5,FALSE))","v":"*"},"*",{"$f":"IF(ISERROR(VLOOKUP(CV38,①初期設定!$AA$55:$AD$201,4,FALSE)),\"*\",VLOOKUP(CV38,①初期設定!$AA$55:$AD$201,4,FALSE))","v":"*"},{"$f":"IF(ISERROR(RIGHT(DA38,LEN(DA38)-4)),\"*\",RIGHT(DA38,LEN(DA38)-4))","v":"*"},{"$f":"IF(ISERROR(VLOOKUP(CV38,①初期設定!$AM$55:$AV$201,4,FALSE)),\"*\",VLOOKUP(CV38,①初期設定!$AM$55:$AV$201,4,FALSE))","v":"*"},{"$f":"IF(ISERROR(RIGHT(DC38,LEN(DC38)-4)),\"*\",RIGHT(DC38,LEN(DC38)-4))","v":"*"},{"$f":"IF(ISERROR(VLOOKUP(CV38,①初期設定!$AB$55:$AD$201,3,FALSE)),\"\",VLOOKUP(CV38,①初期設定!$AB$55:$AD$201,3,FALSE))","v":""},{"$f":"IF(ISERROR(RIGHT(DE38,LEN(DE38)-4)),\"*\",RIGHT(DE38,LEN(DE38)-4))","v":"*"},{"$f":"IF(ISERROR(VLOOKUP(CV38,①初期設定!$AN$55:$AV$201,3,FALSE)),\"*\",VLOOKUP(CV38,①初期設定!$AN$55:$AV$201,3,FALSE))","v":"*"},{"$f":"IF(ISERROR(RIGHT(DG38,LEN(DG38)-4)),\"*\",RIGHT(DG38,LEN(DG38)-4))","v":"*"},{"$f":"IF(ISERROR(VLOOKUP(CV38,①初期設定!$AC$55:$AD$201,2,FALSE)),\"\",VLOOKUP(CV38,①初期設定!$AC$55:$AD$201,2,FALSE))","v":""},{"$f":"IF(ISERROR(RIGHT(DI38,LEN(DI38)-4)),\"*\",RIGHT(DI38,LEN(DI38)-4))","v":"*"},{"$f":"IF(ISERROR(VLOOKUP(CV38,①初期設定!$AO$55:$AV$201,2,FALSE)),\"*\",VLOOKUP(CV38,①初期設定!$AO$55:$AV$201,2,FALSE))","v":"*"},{"$f":"IF(ISERROR(RIGHT(DK38,LEN(DK38)-4)),\"*\",RIGHT(DK38,LEN(DK38)-4))","v":"*"}]
[26,null,null,null,null,null,null,null,null,null,null,null,null,null,null,null,null,null,null,null,null,null,null,null,null,null,null,null,null,null,null,null,null,null,null,null,null,null,null,null,null,"",null,null,"",null,null,null,null,null,null,null,null,null,null,"",null,null,"",null,null,null,null,null,null,null,null,null,null,"",null,null,"",null,null,null,null,null,null,null,null,null,0,"種目",0,0,0,null,null,null,"ｵﾎｰﾂｸSS","北見相内中","北海道栄高","ｵﾎｰﾂｸ陸協(平野)",null,null,1994,"広島",null,25,{"$f":"IF(ISERROR(VLOOKUP(CV39,①初期設定!$Z$55:$AD$201,5,FALSE)),\"*\",VLOOKUP(CV39,①初期設定!$Z$55:$AD$201,5,FALSE))","v":"*"},"*",{"$f":"IF(ISERROR(VLOOKUP(CV39,①初期設定!$AL$55:$AV$201,5,FALSE)),\"*\",VLOOKUP(CV39,①初期設定!$AL$55:$AV$201,5,FALSE))","v":"*"},"*",{"$f":"IF(ISERROR(VLOOKUP(CV39,①初期設定!$AA$55:$AD$201,4,FALSE)),\"*\",VLOOKUP(CV39,①初期設定!$AA$55:$AD$201,4,FALSE))","v":"*"},{"$f":"IF(ISERROR(RIGHT(DA39,LEN(DA39)-4)),\"*\",RIGHT(DA39,LEN(DA39)-4))","v":"*"},{"$f":"IF(ISERROR(VLOOKUP(CV39,①初期設定!$AM$55:$AV$201,4,FALSE)),\"*\",VLOOKUP(CV39,①初期設定!$AM$55:$AV$201,4,FALSE))","v":"*"},{"$f":"IF(ISERROR(RIGHT(DC39,LEN(DC39)-4)),\"*\",RIGHT(DC39,LEN(DC39)-4))","v":"*"},{"$f":"IF(ISERROR(VLOOKUP(CV39,①初期設定!$AB$55:$AD$201,3,FALSE)),\"\",VLOOKUP(CV39,①初期設定!$AB$55:$AD$201,3,FALSE))","v":""},{"$f":"IF(ISERROR(RIGHT(DE39,LEN(DE39)-4)),\"*\",RIGHT(DE39,LEN(DE39)-4))","v":"*"},{"$f":"IF(ISERROR(VLOOKUP(CV39,①初期設定!$AN$55:$AV$201,3,FALSE)),\"*\",VLOOKUP(CV39,①初期設定!$AN$55:$AV$201,3,FALSE))","v":"*"},{"$f":"IF(ISERROR(RIGHT(DG39,LEN(DG39)-4)),\"*\",RIGHT(DG39,LEN(DG39)-4))","v":"*"},{"$f":"IF(ISERROR(VLOOKUP(CV39,①初期設定!$AC$55:$AD$201,2,FALSE)),\"\",VLOOKUP(CV39,①初期設定!$AC$55:$AD$201,2,FALSE))","v":""},{"$f":"IF(ISERROR(RIGHT(DI39,LEN(DI39)-4)),\"*\",RIGHT(DI39,LEN(DI39)-4))","v":"*"},{"$f":"IF(ISERROR(VLOOKUP(CV39,①初期設定!$AO$55:$AV$201,2,FALSE)),\"*\",VLOOKUP(CV39,①初期設定!$AO$55:$AV$201,2,FALSE))","v":"*"},{"$f":"IF(ISERROR(RIGHT(DK39,LEN(DK39)-4)),\"*\",RIGHT(DK39,LEN(DK39)-4))","v":"*"}]
[27,null,null,null,null,null,null,null,null,null,null,null,null,null,null,null,null,null,null,null,null,null,null,null,null,null,null,null,null,null,null,null,null,null,null,null,null,null,null,null,null,"",null,null,"",null,null,null,null,null,null,null,null,null,null,"",null,null,"",null,null,null,null,null,null,null,null,null,null,"",null,null,"",null,null,null,null,null,null,null,null,null,0,"種目",0,0,0,null,null,null,"ｵﾎｰﾂｸｷｯｽﾞ","北見東相内中","旭川北高","ｵﾎｰﾂｸ陸協(野村)",null,null,1995,"香川",null,26,{"$f":"IF(ISERROR(VLOOKUP(CV40,①初期設定!$Z$55:$AD$201,5,FALSE)),\"*\",VLOOKUP(CV40,①初期設定!$Z$55:$AD$201,5,FALSE))","v":"*"},"*",{"$f":"IF(ISERROR(VLOOKUP(CV40,①初期設定!$AL$55:$AV$201,5,FALSE)),\"*\",VLOOKUP(CV40,①初期設定!$AL$55:$AV$201,5,FALSE))","v":"*"},"*",{"$f":"IF(ISERROR(VLOOKUP(CV40,①初期設定!$AA$55:$AD$201,4,FALSE)),\"*\",VLOOKUP(CV40,①初期設定!$AA$55:$AD$201,4,FALSE))","v":"*"},{"$f":"IF(ISERROR(RIGHT(DA40,LEN(DA40)-4)),\"*\",RIGHT(DA40,LEN(DA40)-4))","v":"*"},{"$f":"IF(ISERROR(VLOOKUP(CV40,①初期設定!$AM$55:$AV$201,4,FALSE)),\"*\",VLOOKUP(CV40,①初期設定!$AM$55:$AV$201,4,FALSE))","v":"*"},{"$f":"IF(ISERROR(RIGHT(DC40,LEN(DC40)-4)),\"*\",RIGHT(DC40,LEN(DC40)-4))","v":"*"},{"$f":"IF(ISERROR(VLOOKUP(CV40,①初期設定!$AB$55:$AD$201,3,FALSE)),\"\",VLOOKUP(CV40,①初期設定!$AB$55:$AD$201,3,FALSE))","v":""},{"$f":"IF(ISERROR(RIGHT(DE40,LEN(DE40)-4)),\"*\",RIGHT(DE40,LEN(DE40)-4))","v":"*"},{"$f":"IF(ISERROR(VLOOKUP(CV40,①初期設定!$AN$55:$AV$201,3,FALSE)),\"*\",VLOOKUP(CV40,①初期設定!$AN$55:$AV$201,3,FALSE))","v":"*"},{"$f":"IF(ISERROR(RIGHT(DG40,LEN(DG40)-4)),\"*\",RIGHT(DG40,LEN(DG40)-4))","v":"*"},{"$f":"IF(ISERROR(VLOOKUP(CV40,①初期設定!$AC$55:$AD$201,2,FALSE)),\"\",VLOOKUP(CV40,①初期設定!$AC$55:$AD$201,2,FALSE))","v":""},{"$f":"IF(ISERROR(RIGHT(DI40,LEN(DI40)-4)),\"*\",RIGHT(DI40,LEN(DI40)-4))","v":"*"},{"$f":"IF(ISERROR(VLOOKUP(CV40,①初期設定!$AO$55:$AV$201,2,FALSE)),\"*\",VLOOKUP(CV40,①初期設定!$AO$55:$AV$201,2,FALSE))","v":"*"},{"$f":"IF(ISERROR(RIGHT(DK40,LEN(DK40)-4)),\"*\",RIGHT(DK40,LEN(DK40)-4))","v":"*"}]
[28,null,null,null,null,null,null,null,null,null,null,null,null,null,null,null,null,null,null,null,null,null,null,null,null,null,null,null,null,null,null,null,null,null,null,null,null,null,null,null,null,"",null,null,"",null,null,null,null,null,null,null,null,null,null,"",null,null,"",null,null,null,null,null,null,null,null,null,null,"",null,null,"",null,null,null,null,null,null,null,null,null,0,"種目",0,0,0,null,null,null,"美幌RC","北見留辺蘂中","富良野緑峰高","ｵﾎｰﾂｸ陸協(齊藤)",null,null,1996,"高知",null,27,{"$f":"IF(ISERROR(VLOOKUP(CV41,①初期設定!$Z$55:$AD$201,5,FALSE)),\"*\",VLOOKUP(CV41,①初期設定!$Z$55:$AD$201,5,FALSE))","v":"*"},"*",{"$f":"IF(ISERROR(VLOOKUP(CV41,①初期設定!$AL$55:$AV$201,5,FALSE)),\"*\",VLOOKUP(CV41,①初期設定!$AL$55:$AV$201,5,FALSE))","v":"*"},"*",{"$f":"IF(ISERROR(VLOOKUP(CV41,①初期設定!$AA$55:$AD$201,4,FALSE)),\"*\",VLOOKUP(CV41,①初期設定!$AA$55:$AD$201,4,FALSE))","v":"*"},{"$f":"IF(ISERROR(RIGHT(DA41,LEN(DA41)-4)),\"*\",RIGHT(DA41,LEN(DA41)-4))","v":"*"},{"$f":"IF(ISERROR(VLOOKUP(CV41,①初期設定!$AM$55:$AV$201,4,FALSE)),\"*\",VLOOKUP(CV41,①初期設定!$AM$55:$AV$201,4,FALSE))","v":"*"},{"$f":"IF(ISERROR(RIGHT(DC41,LEN(DC41)-4)),\"*\",RIGHT(DC41,LEN(DC41)-4))","v":"*"},{"$f":"IF(ISERROR(VLOOKUP(CV41,①初期設定!$AB$55:$AD$201,3,FALSE)),\"\",VLOOKUP(CV41,①初期設定!$AB$55:$AD$201,3,FALSE))","v":""},{"$f":"IF(ISERROR(RIGHT(DE41,LEN(DE41)-4)),\"*\",RIGHT(DE41,LEN(DE41)-4))","v":"*"},{"$f":"IF(ISERROR(VLOOKUP(CV41,①初期設定!$AN$55:$AV$201,3,FALSE)),\"*\",VLOOKUP(CV41,①初期設定!$AN$55:$AV$201,3,FALSE))","v":"*"},{"$f":"IF(ISERROR(RIGHT(DG41,LEN(DG41)-4)),\"*\",RIGHT(DG41,LEN(DG41)-4))","v":"*"},{"$f":"IF(ISERROR(VLOOKUP(CV41,①初期設定!$AC$55:$AD$201,2,FALSE)),\"\",VLOOKUP(CV41,①初期設定!$AC$55:$AD$201,2,FALSE))","v":""},{"$f":"IF(ISERROR(RIGHT(DI41,LEN(DI41)-4)),\"*\",RIGHT(DI41,LEN(DI41)-4))","v":"*"},{"$f":"IF(ISERROR(VLOOKUP(CV41,①初期設定!$AO$55:$AV$201,2,FALSE)),\"*\",VLOOKUP(CV41,①初期設定!$AO$55:$AV$201,2,FALSE))","v":"*"},{"$f":"IF(ISERROR(RIGHT(DK41,LEN(DK41)-4)),\"*\",RIGHT(DK41,LEN(DK41)-4))","v":"*"}]
[29,null,null,null,null,null,null,null,null,null,null,null,null,null,null,null,null,null,null,null,null,null,null,null,null,null,null,null,null,null,null,null,null,null,null,null,null,null,null,null,null,"",null,null,"",null,null,null,null,null,null,null,null,null,null,"",null,null,"",null,null,null,null,null,null,null,null,null,null,"",null,null,"",null,null,null,null,null,null,null,null,null,0,"種目",0,0,0,null,null,null,"美幌XC少年団","北見温根湯中","名寄高","トヨタＬ＆Ｆ旭川",null,null,1997,"佐賀",null,28,{"$f":"IF(ISERROR(VLOOKUP(CV42,①初期設定!$Z$55:$AD$201,5,FALSE)),\"*\",VLOOKUP(CV42,①初期設定!$Z$55:$AD$201,5,FALSE))","v":"*"},"*",{"$f":"IF(ISERROR(VLOOKUP(CV42,①初期設定!$AL$55:$AV$201,5,FALSE)),\"*\",VLOOKUP(CV42,①初期設定!$AL$55:$AV$201,5,FALSE))","v":"*"},"*",{"$f":"IF(ISERROR(VLOOKUP(CV42,①初期設定!$AA$55:$AD$201,4,FALSE)),\"*\",VLOOKUP(CV42,①初期設定!$AA$55:$AD$201,4,FALSE))","v":"*"},{"$f":"IF(ISERROR(RIGHT(DA42,LEN(DA42)-4)),\"*\",RIGHT(DA42,LEN(DA42)-4))","v":"*"},{"$f":"IF(ISERROR(VLOOKUP(CV42,①初期設定!$AM$55:$AV$201,4,FALSE)),\"*\",VLOOKUP(CV42,①初期設定!$AM$55:$AV$201,4,FALSE))","v":"*"},{"$f":"IF(ISERROR(RIGHT(DC42,LEN(DC42)-4)),\"*\",RIGHT(DC42,LEN(DC42)-4))","v":"*"},{"$f":"IF(ISERROR(VLOOKUP(CV42,①初期設定!$AB$55:$AD$201,3,FALSE)),\"\",VLOOKUP(CV42,①初期設定!$AB$55:$AD$201,3,FALSE))","v":""},{"$f":"IF(ISERROR(RIGHT(DE42,LEN(DE42)-4)),\"*\",RIGHT(DE42,LEN(DE42)-4))","v":"*"},{"$f":"IF(ISERROR(VLOOKUP(CV42,①初期設定!$AN$55:$AV$201,3,FALSE)),\"*\",VLOOKUP(CV42,①初期設定!$AN$55:$AV$201,3,FALSE))","v":"*"},{"$f":"IF(ISERROR(RIGHT(DG42,LEN(DG42)-4)),\"*\",RIGHT(DG42,LEN(DG42)-4))","v":"*"},{"$f":"IF(ISERROR(VLOOKUP(CV42,①初期設定!$AC$55:$AD$201,2,FALSE)),\"\",VLOOKUP(CV42,①初期設定!$AC$55:$AD$201,2,FALSE))","v":""},{"$f":"IF(ISERROR(RIGHT(DI42,LEN(DI42)-4)),\"*\",RIGHT(DI42,LEN(DI42)-4))","v":"*"},{"$f":"IF(ISERROR(VLOOKUP(CV42,①初期設定!$AO$55:$AV$201,2,FALSE)),\"*\",VLOOKUP(CV42,①初期設定!$AO$55:$AV$201,2,FALSE))","v":"*"},{"$f":"IF(ISERROR(RIGHT(DK42,LEN(DK42)-4)),\"*\",RIGHT(DK42,LEN(DK42)-4))","v":"*"}]
[30,null,null,null,null,null,null,null,null,null,null,null,null,null,null,null,null,null,null,null,null,null,null,null,null,null,null,null,null,null,null,null,null,null,null,null,null,null,null,null,null,"",null,null,"",null,null,null,null,null,null,null,null,null,null,"",null,null,"",null,null,null,null,null,null,null,null,null,null,"",null,null,"",null,null,null,null,null,null,null,null,null,0,"種目",0,0,0,null,null,null,"網走陸上少年団","北見端野中","名寄産業高","フロスト札幌",null,null,1998,"埼玉",null,29,{"$f":"IF(ISERROR(VLOOKUP(CV43,①初期設定!$Z$55:$AD$201,5,FALSE)),\"*\",VLOOKUP(CV43,①初期設定!$Z$55:$AD$201,5,FALSE))","v":"*"},"*",{"$f":"IF(ISERROR(VLOOKUP(CV43,①初期設定!$AL$55:$AV$201,5,FALSE)),\"*\",VLOOKUP(CV43,①初期設定!$AL$55:$AV$201,5,FALSE))","v":"*"},"*",{"$f":"IF(ISERROR(VLOOKUP(CV43,①初期設定!$AA$55:$AD$201,4,FALSE)),\"*\",VLOOKUP(CV43,①初期設定!$AA$55:$AD$201,4,FALSE))","v":"*"},{"$f":"IF(ISERROR(RIGHT(DA43,LEN(DA43)-4)),\"*\",RIGHT(DA43,LEN(DA43)-4))","v":"*"},{"$f":"IF(ISERROR(VLOOKUP(CV43,①初期設定!$AM$55:$AV$201,4,FALSE)),\"*\",VLOOKUP(CV43,①初期設定!$AM$55:$AV$201,4,FALSE))","v":"*"},{"$f":"IF(ISERROR(RIGHT(DC43,LEN(DC43)-4)),\"*\",RIGHT(DC43,LEN(DC43)-4))","v":"*"},{"$f":"IF(ISERROR(VLOOKUP(CV43,①初期設定!$AB$55:$AD$201,3,FALSE)),\"\",VLOOKUP(CV43,①初期設定!$AB$55:$AD$201,3,FALSE))","v":""},{"$f":"IF(ISERROR(RIGHT(DE43,LEN(DE43)-4)),\"*\",RIGHT(DE43,LEN(DE43)-4))","v":"*"},{"$f":"IF(ISERROR(VLOOKUP(CV43,①初期設定!$AN$55:$AV$201,3,FALSE)),\"*\",VLOOKUP(CV43,①初期設定!$AN$55:$AV$201,3,FALSE))","v":"*"},{"$f":"IF(ISERROR(RIGHT(DG43,LEN(DG43)-4)),\"*\",RIGHT(DG43,LEN(DG43)-4))","v":"*"},{"$f":"IF(ISERROR(VLOOKUP(CV43,①初期設定!$AC$55:$AD$201,2,FALSE)),\"\",VLOOKUP(CV43,①初期設定!$AC$55:$AD$201,2,FALSE))","v":""},{"$f":"IF(ISERROR(RIGHT(DI43,LEN(DI43)-4)),\"*\",RIGHT(DI43,LEN(DI43)-4))","v":"*"},{"$f":"IF(ISERROR(VLOOKUP(CV43,①初期設定!$AO$55:$AV$201,2,FALSE)),\"*\",VLOOKUP(CV43,①初期設定!$AO$55:$AV$201,2,FALSE))","v":"*"},{"$f":"IF(ISERROR(RIGHT(DK43,LEN(DK43)-4)),\"*\",RIGHT(DK43,LEN(DK43)-4))","v":"*"}]
[31,null,null,null,null,null,null,null,null,null,null,null,null,null,null,null,null,null,null,null,null,null,null,null,null,null,null,null,null,null,null,null,null,null,null,null,null,null,null,null,null,"",null,null,"",null,null,null,null,null,null,null,null,null,null,"",null,null,"",null,null,null,null,null,null,null,null,null,null,"",null,null,"",null,null,null,null,null,null,null,null,null,0,"種目",0,0,0,null,null,null,"遠軽陸上ｸﾗﾌﾞ","北見常呂中","帯広農業高","立教大",null,null,1999,"三重",null,30,{"$f":"IF(ISERROR(VLOOKUP(CV44,①初期設定!$Z$55:$AD$201,5,FALSE)),\"*\",VLOOKUP(CV44,①初期設定!$Z$55:$AD$201,5,FALSE))","v":"*"},"*",{"$f":"IF(ISERROR(VLOOKUP(CV44,①初期設定!$AL$55:$AV$201,5,FALSE)),\"*\",VLOOKUP(CV44,①初期設定!$AL$55:$AV$201,5,FALSE))","v":"*"},"*",{"$f":"IF(ISERROR(VLOOKUP(CV44,①初期設定!$AA$55:$AD$201,4,FALSE)),\"*\",VLOOKUP(CV44,①初期設定!$AA$55:$AD$201,4,FALSE))","v":"*"},{"$f":"IF(ISERROR(RIGHT(DA44,LEN(DA44)-4)),\"*\",RIGHT(DA44,LEN(DA44)-4))","v":"*"},{"$f":"IF(ISERROR(VLOOKUP(CV44,①初期設定!$AM$55:$AV$201,4,FALSE)),\"*\",VLOOKUP(CV44,①初期設定!$AM$55:$AV$201,4,FALSE))","v":"*"},{"$f":"IF(ISERROR(RIGHT(DC44,LEN(DC44)-4)),\"*\",RIGHT(DC44,LEN(DC44)-4))","v":"*"},{"$f":"IF(ISERROR(VLOOKUP(CV44,①初期設定!$AB$55:$AD$201,3,FALSE)),\"\",VLOOKUP(CV44,①初期設定!$AB$55:$AD$201,3,FALSE))","v":""},{"$f":"IF(ISERROR(RIGHT(DE44,LEN(DE44)-4)),\"*\",RIGHT(DE44,LEN(DE44)-4))","v":"*"},{"$f":"IF(ISERROR(VLOOKUP(CV44,①初期設定!$AN$55:$AV$201,3,FALSE)),\"*\",VLOOKUP(CV44,①初期設定!$AN$55:$AV$201,3,FALSE))","v":"*"},{"$f":"IF(ISERROR(RIGHT(DG44,LEN(DG44)-4)),\"*\",RIGHT(DG44,LEN(DG44)-4))","v":"*"},{"$f":"IF(ISERROR(VLOOKUP(CV44,①初期設定!$AC$55:$AD$201,2,FALSE)),\"\",VLOOKUP(CV44,①初期設定!$AC$55:$AD$201,2,FALSE))","v":""},{"$f":"IF(ISERROR(RIGHT(DI44,LEN(DI44)-4)),\"*\",RIGHT(DI44,LEN(DI44)-4))","v":"*"},{"$f":"IF(ISERROR(VLOOKUP(CV44,①初期設定!$AO$55:$AV$201,2,FALSE)),\"*\",VLOOKUP(CV44,①初期設定!$AO$55:$AV$201,2,FALSE))","v":"*"},{"$f":"IF(ISERROR(RIGHT(DK44,LEN(DK44)-4)),\"*\",RIGHT(DK44,LEN(DK44)-4))","v":"*"}]
[32,null,null,null,null,null,null,null,null,null,null,null,null,null,null,null,null,null,null,null,null,null,null,null,null,null,null,null,null,null,null,null,null,null,null,null,null,null,null,null,null,"",null,null,"",null,null,null,null,null,null,null,null,null,null,"",null,null,"",null,null,null,null,null,null,null,null,null,null,"",null,null,"",null,null,null,null,null,null,null,null,null,0,"種目",0,0,0,null,null,null,"遠軽陸上少年団","網走第一中","釧路明輝高","旭川医科大",null,null,2000,"山形",null,31,{"$f":"IF(ISERROR(VLOOKUP(CV45,①初期設定!$Z$55:$AD$201,5,FALSE)),\"*\",VLOOKUP(CV45,①初期設定!$Z$55:$AD$201,5,FALSE))","v":"*"},"*",{"$f":"IF(ISERROR(VLOOKUP(CV45,①初期設定!$AL$55:$AV$201,5,FALSE)),\"*\",VLOOKUP(CV45,①初期設定!$AL$55:$AV$201,5,FALSE))","v":"*"},"*",{"$f":"IF(ISERROR(VLOOKUP(CV45,①初期設定!$AA$55:$AD$201,4,FALSE)),\"*\",VLOOKUP(CV45,①初期設定!$AA$55:$AD$201,4,FALSE))","v":"*"},{"$f":"IF(ISERROR(RIGHT(DA45,LEN(DA45)-4)),\"*\",RIGHT(DA45,LEN(DA45)-4))","v":"*"},{"$f":"IF(ISERROR(VLOOKUP(CV45,①初期設定!$AM$55:$AV$201,4,FALSE)),\"*\",VLOOKUP(CV45,①初期設定!$AM$55:$AV$201,4,FALSE))","v":"*"},{"$f":"IF(ISERROR(RIGHT(DC45,LEN(DC45)-4)),\"*\",RIGHT(DC45,LEN(DC45)-4))","v":"*"},{"$f":"IF(ISERROR(VLOOKUP(CV45,①初期設定!$AB$55:$AD$201,3,FALSE)),\"\",VLOOKUP(CV45,①初期設定!$AB$55:$AD$201,3,FALSE))","v":""},{"$f":"IF(ISERROR(RIGHT(DE45,LEN(DE45)-4)),\"*\",RIGHT(DE45,LEN(DE45)-4))","v":"*"},{"$f":"IF(ISERROR(VLOOKUP(CV45,①初期設定!$AN$55:$AV$201,3,FALSE)),\"*\",VLOOKUP(CV45,①初期設定!$AN$55:$AV$201,3,FALSE))","v":"*"},{"$f":"IF(ISERROR(RIGHT(DG45,LEN(DG45)-4)),\"*\",RIGHT(DG45,LEN(DG45)-4))","v":"*"},{"$f":"IF(ISERROR(VLOOKUP(CV45,①初期設定!$AC$55:$AD$201,2,FALSE)),\"\",VLOOKUP(CV45,①初期設定!$AC$55:$AD$201,2,FALSE))","v":""},{"$f":"IF(ISERROR(RIGHT(DI45,LEN(DI45)-4)),\"*\",RIGHT(DI45,LEN(DI45)-4))","v":"*"},{"$f":"IF(ISERROR(VLOOKUP(CV45,①初期設定!$AO$55:$AV$201,2,FALSE)),\"*\",VLOOKUP(CV45,①初期設定!$AO$55:$AV$201,2,FALSE))","v":"*"},{"$f":"IF(ISERROR(RIGHT(DK45,LEN(DK45)-4)),\"*\",RIGHT(DK45,LEN(DK45)-4))","v":"*"}]
[33,null,null,null,null,null,null,null,null,null,null,null,null,null,null,null,null,null,null,null,null,null,null,null,null,null,null,null,null,null,null,null,null,null,null,null,null,null,null,null,null,"",null,null,"",null,null,null,null,null,null,null,null,null,null,"",null,null,"",null,null,null,null,null,null,null,null,null,null,"",null,null,"",null,null,null,null,null,null,null,null,null,0,"種目",0,0,0,null,null,null,"訓子府陸上少年団","網走第二中","弟子屈高","釧路公立大",null,null,2001,"山口",null,32,{"$f":"IF(ISERROR(VLOOKUP(CV46,①初期設定!$Z$55:$AD$201,5,FALSE)),\"*\",VLOOKUP(CV46,①初期設定!$Z$55:$AD$201,5,FALSE))","v":"*"},"*",{"$f":"IF(ISERROR(VLOOKUP(CV46,①初期設定!$AL$55:$AV$201,5,FALSE)),\"*\",VLOOKUP(CV46,①初期設定!$AL$55:$AV$201,5,FALSE))","v":"*"},"*",{"$f":"IF(ISERROR(VLOOKUP(CV46,①初期設定!$AA$55:$AD$201,4,FALSE)),\"*\",VLOOKUP(CV46,①初期設定!$AA$55:$AD$201,4,FALSE))","v":"*"},{"$f":"IF(ISERROR(RIGHT(DA46,LEN(DA46)-4)),\"*\",RIGHT(DA46,LEN(DA46)-4))","v":"*"},{"$f":"IF(ISERROR(VLOOKUP(CV46,①初期設定!$AM$55:$AV$201,4,FALSE)),\"*\",VLOOKUP(CV46,①初期設定!$AM$55:$AV$201,4,FALSE))","v":"*"},{"$f":"IF(ISERROR(RIGHT(DC46,LEN(DC46)-4)),\"*\",RIGHT(DC46,LEN(DC46)-4))","v":"*"},{"$f":"IF(ISERROR(VLOOKUP(CV46,①初期設定!$AB$55:$AD$201,3,FALSE)),\"\",VLOOKUP(CV46,①初期設定!$AB$55:$AD$201,3,FALSE))","v":""},{"$f":"IF(ISERROR(RIGHT(DE46,LEN(DE46)-4)),\"*\",RIGHT(DE46,LEN(DE46)-4))","v":"*"},{"$f":"IF(ISERROR(VLOOKUP(CV46,①初期設定!$AN$55:$AV$201,3,FALSE)),\"*\",VLOOKUP(CV46,①初期設定!$AN$55:$AV$201,3,FALSE))","v":"*"},{"$f":"IF(ISERROR(RIGHT(DG46,LEN(DG46)-4)),\"*\",RIGHT(DG46,LEN(DG46)-4))","v":"*"},{"$f":"IF(ISERROR(VLOOKUP(CV46,①初期設定!$AC$55:$AD$201,2,FALSE)),\"\",VLOOKUP(CV46,①初期設定!$AC$55:$AD$201,2,FALSE))","v":""},{"$f":"IF(ISERROR(RIGHT(DI46,LEN(DI46)-4)),\"*\",RIGHT(DI46,LEN(DI46)-4))","v":"*"},{"$f":"IF(ISERROR(VLOOKUP(CV46,①初期設定!$AO$55:$AV$201,2,FALSE)),\"*\",VLOOKUP(CV46,①初期設定!$AO$55:$AV$201,2,FALSE))","v":"*"},{"$f":"IF(ISERROR(RIGHT(DK46,LEN(DK46)-4)),\"*\",RIGHT(DK46,LEN(DK46)-4))","v":"*"}]
[34,null,null,null,null,null,null,null,null,null,null,null,null,null,null,null,null,null,null,null,null,null,null,null,null,null,null,null,null,null,null,null,null,null,null,null,null,null,null,null,null,"",null,null,"",null,null,null,null,null,null,null,null,null,null,"",null,null,"",null,null,null,null,null,null,null,null,null,null,"",null,null,"",null,null,null,null,null,null,null,null,null,0,"種目",0,0,0,null,null,null,"常呂陸上少年団","網走第三中","標茶高","釧路高専",null,null,2002,"山梨",null,33,{"$f":"IF(ISERROR(VLOOKUP(CV47,①初期設定!$Z$55:$AD$201,5,FALSE)),\"*\",VLOOKUP(CV47,①初期設定!$Z$55:$AD$201,5,FALSE))","v":"*"},"*",{"$f":"IF(ISERROR(VLOOKUP(CV47,①初期設定!$AL$55:$AV$201,5,FALSE)),\"*\",VLOOKUP(CV47,①初期設定!$AL$55:$AV$201,5,FALSE))","v":"*"},"*",{"$f":"IF(ISERROR(VLOOKUP(CV47,①初期設定!$AA$55:$AD$201,4,FALSE)),\"*\",VLOOKUP(CV47,①初期設定!$AA$55:$AD$201,4,FALSE))","v":"*"},{"$f":"IF(ISERROR(RIGHT(DA47,LEN(DA47)-4)),\"*\",RIGHT(DA47,LEN(DA47)-4))","v":"*"},{"$f":"IF(ISERROR(VLOOKUP(CV47,①初期設定!$AM$55:$AV$201,4,FALSE)),\"*\",VLOOKUP(CV47,①初期設定!$AM$55:$AV$201,4,FALSE))","v":"*"},{"$f":"IF(ISERROR(RIGHT(DC47,LEN(DC47)-4)),\"*\",RIGHT(DC47,LEN(DC47)-4))","v":"*"},{"$f":"IF(ISERROR(VLOOKUP(CV47,①初期設定!$AB$55:$AD$201,3,FALSE)),\"\",VLOOKUP(CV47,①初期設定!$AB$55:$AD$201,3,FALSE))","v":""},{"$f":"IF(ISERROR(RIGHT(DE47,LEN(DE47)-4)),\"*\",RIGHT(DE47,LEN(DE47)-4))","v":"*"},{"$f":"IF(ISERROR(VLOOKUP(CV47,①初期設定!$AN$55:$AV$201,3,FALSE)),\"*\",VLOOKUP(CV47,①初期設定!$AN$55:$AV$201,3,FALSE))","v":"*"},{"$f":"IF(ISERROR(RIGHT(DG47,LEN(DG47)-4)),\"*\",RIGHT(DG47,LEN(DG47)-4))","v":"*"},{"$f":"IF(ISERROR(VLOOKUP(CV47,①初期設定!$AC$55:$AD$201,2,FALSE)),\"\",VLOOKUP(CV47,①初期設定!$AC$55:$AD$201,2,FALSE))","v":""},{"$f":"IF(ISERROR(RIGHT(DI47,LEN(DI47)-4)),\"*\",RIGHT(DI47,LEN(DI47)-4))","v":"*"},{"$f":"IF(ISERROR(VLOOKUP(CV47,①初期設定!$AO$55:$AV$201,2,FALSE)),\"*\",VLOOKUP(CV47,①初期設定!$AO$55:$AV$201,2,FALSE))","v":"*"},{"$f":"IF(ISERROR(RIGHT(DK47,LEN(DK47)-4)),\"*\",RIGHT(DK47,LEN(DK47)-4))","v":"*"}]
[35,null,null,null,null,null,null,null,null,null,null,null,null,null,null,null,null,null,null,null,null,null,null,null,null,null,null,null,null,null,null,null,null,null,null,null,null,null,null,null,null,"",null,null,"",null,null,null,null,null,null,null,null,null,null,"",null,null,"",null,null,null,null,null,null,null,null,null,null,"",null,null,"",null,null,null,null,null,null,null,null,null,0,"種目",0,0,0,null,null,null,"清里陸上少年団","網走第四中","早稲田実業高","釧路地方(井上)",null,null,2003,"滋賀",null,34,{"$f":"IF(ISERROR(VLOOKUP(CV48,①初期設定!$Z$55:$AD$201,5,FALSE)),\"*\",VLOOKUP(CV48,①初期設定!$Z$55:$AD$201,5,FALSE))","v":"*"},"*",{"$f":"IF(ISERROR(VLOOKUP(CV48,①初期設定!$AL$55:$AV$201,5,FALSE)),\"*\",VLOOKUP(CV48,①初期設定!$AL$55:$AV$201,5,FALSE))","v":"*"},"*",{"$f":"IF(ISERROR(VLOOKUP(CV48,①初期設定!$AA$55:$AD$201,4,FALSE)),\"*\",VLOOKUP(CV48,①初期設定!$AA$55:$AD$201,4,FALSE))","v":"*"},{"$f":"IF(ISERROR(RIGHT(DA48,LEN(DA48)-4)),\"*\",RIGHT(DA48,LEN(DA48)-4))","v":"*"},{"$f":"IF(ISERROR(VLOOKUP(CV48,①初期設定!$AM$55:$AV$201,4,FALSE)),\"*\",VLOOKUP(CV48,①初期設定!$AM$55:$AV$201,4,FALSE))","v":"*"},{"$f":"IF(ISERROR(RIGHT(DC48,LEN(DC48)-4)),\"*\",RIGHT(DC48,LEN(DC48)-4))","v":"*"},{"$f":"IF(ISERROR(VLOOKUP(CV48,①初期設定!$AB$55:$AD$201,3,FALSE)),\"\",VLOOKUP(CV48,①初期設定!$AB$55:$AD$201,3,FALSE))","v":""},{"$f":"IF(ISERROR(RIGHT(DE48,LEN(DE48)-4)),\"*\",RIGHT(DE48,LEN(DE48)-4))","v":"*"},{"$f":"IF(ISERROR(VLOOKUP(CV48,①初期設定!$AN$55:$AV$201,3,FALSE)),\"*\",VLOOKUP(CV48,①初期設定!$AN$55:$AV$201,3,FALSE))","v":"*"},{"$f":"IF(ISERROR(RIGHT(DG48,LEN(DG48)-4)),\"*\",RIGHT(DG48,LEN(DG48)-4))","v":"*"},{"$f":"IF(ISERROR(VLOOKUP(CV48,①初期設定!$AC$55:$AD$201,2,FALSE)),\"\",VLOOKUP(CV48,①初期設定!$AC$55:$AD$201,2,FALSE))","v":""},{"$f":"IF(ISERROR(RIGHT(DI48,LEN(DI48)-4)),\"*\",RIGHT(DI48,LEN(DI48)-4))","v":"*"},{"$f":"IF(ISERROR(VLOOKUP(CV48,①初期設定!$AO$55:$AV$201,2,FALSE)),\"*\",VLOOKUP(CV48,①初期設定!$AO$55:$AV$201,2,FALSE))","v":"*"},{"$f":"IF(ISERROR(RIGHT(DK48,LEN(DK48)-4)),\"*\",RIGHT(DK48,LEN(DK48)-4))","v":"*"}]
[36,null,null,null,null,null,null,null,null,null,null,null,null,null,null,null,null,null,null,null,null,null,null,null,null,null,null,null,null,null,null,null,null,null,null,null,null,null,null,null,null,"",null,null,"",null,null,null,null,null,null,null,null,null,null,"",null,null,"",null,null,null,null,null,null,null,null,null,null,"",null,null,"",null,null,null,null,null,null,null,null,null,0,"種目",0,0,0,null,null,null,"知床斜里RC","紋別中",null,"釧路地方(川端)",null,null,2004,"鹿児島",null,35,{"$f":"IF(ISERROR(VLOOKUP(CV49,①初期設定!$Z$55:$AD$201,5,FALSE)),\"*\",VLOOKUP(CV49,①初期設定!$Z$55:$AD$201,5,FALSE))","v":"*"},"*",{"$f":"IF(ISERROR(VLOOKUP(CV49,①初期設定!$AL$55:$AV$201,5,FALSE)),\"*\",VLOOKUP(CV49,①初期設定!$AL$55:$AV$201,5,FALSE))","v":"*"},"*",{"$f":"IF(ISERROR(VLOOKUP(CV49,①初期設定!$AA$55:$AD$201,4,FALSE)),\"*\",VLOOKUP(CV49,①初期設定!$AA$55:$AD$201,4,FALSE))","v":"*"},{"$f":"IF(ISERROR(RIGHT(DA49,LEN(DA49)-4)),\"*\",RIGHT(DA49,LEN(DA49)-4))","v":"*"},{"$f":"IF(ISERROR(VLOOKUP(CV49,①初期設定!$AM$55:$AV$201,4,FALSE)),\"*\",VLOOKUP(CV49,①初期設定!$AM$55:$AV$201,4,FALSE))","v":"*"},{"$f":"IF(ISERROR(RIGHT(DC49,LEN(DC49)-4)),\"*\",RIGHT(DC49,LEN(DC49)-4))","v":"*"},{"$f":"IF(ISERROR(VLOOKUP(CV49,①初期設定!$AB$55:$AD$201,3,FALSE)),\"\",VLOOKUP(CV49,①初期設定!$AB$55:$AD$201,3,FALSE))","v":""},{"$f":"IF(ISERROR(RIGHT(DE49,LEN(DE49)-4)),\"*\",RIGHT(DE49,LEN(DE49)-4))","v":"*"},{"$f":"IF(ISERROR(VLOOKUP(CV49,①初期設定!$AN$55:$AV$201,3,FALSE)),\"*\",VLOOKUP(CV49,①初期設定!$AN$55:$AV$201,3,FALSE))","v":"*"},{"$f":"IF(ISERROR(RIGHT(DG49,LEN(DG49)-4)),\"*\",RIGHT(DG49,LEN(DG49)-4))","v":"*"},{"$f":"IF(ISERROR(VLOOKUP(CV49,①初期設定!$AC$55:$AD$201,2,FALSE)),\"\",VLOOKUP(CV49,①初期設定!$AC$55:$AD$201,2,FALSE))","v":""},{"$f":"IF(ISERROR(RIGHT(DI49,LEN(DI49)-4)),\"*\",RIGHT(DI49,LEN(DI49)-4))","v":"*"},{"$f":"IF(ISERROR(VLOOKUP(CV49,①初期設定!$AO$55:$AV$201,2,FALSE)),\"*\",VLOOKUP(CV49,①初期設定!$AO$55:$AV$201,2,FALSE))","v":"*"},{"$f":"IF(ISERROR(RIGHT(DK49,LEN(DK49)-4)),\"*\",RIGHT(DK49,LEN(DK49)-4))","v":"*"}]
[37,null,null,null,null,null,null,null,null,null,null,null,null,null,null,null,null,null,null,null,null,null,null,null,null,null,null,null,null,null,null,null,null,null,null,null,null,null,null,null,null,"",null,null,"",null,null,null,null,null,null,null,null,null,null,"",null,null,"",null,null,null,null,null,null,null,null,null,null,"",null,null,"",null,null,null,null,null,null,null,null,null,0,"種目",0,0,0,null,null,null,"弟子屈陸少","紋別潮見中",null,"釧路地方陸協",null,null,2005,"秋田",null,36,{"$f":"IF(ISERROR(VLOOKUP(CV50,①初期設定!$Z$55:$AD$201,5,FALSE)),\"*\",VLOOKUP(CV50,①初期設定!$Z$55:$AD$201,5,FALSE))","v":"*"},"*",{"$f":"IF(ISERROR(VLOOKUP(CV50,①初期設定!$AL$55:$AV$201,5,FALSE)),\"*\",VLOOKUP(CV50,①初期設定!$AL$55:$AV$201,5,FALSE))","v":"*"},"*",{"$f":"IF(ISERROR(VLOOKUP(CV50,①初期設定!$AA$55:$AD$201,4,FALSE)),\"*\",VLOOKUP(CV50,①初期設定!$AA$55:$AD$201,4,FALSE))","v":"*"},{"$f":"IF(ISERROR(RIGHT(DA50,LEN(DA50)-4)),\"*\",RIGHT(DA50,LEN(DA50)-4))","v":"*"},{"$f":"IF(ISERROR(VLOOKUP(CV50,①初期設定!$AM$55:$AV$201,4,FALSE)),\"*\",VLOOKUP(CV50,①初期設定!$AM$55:$AV$201,4,FALSE))","v":"*"},{"$f":"IF(ISERROR(RIGHT(DC50,LEN(DC50)-4)),\"*\",RIGHT(DC50,LEN(DC50)-4))","v":"*"},{"$f":"IF(ISERROR(VLOOKUP(CV50,①初期設定!$AB$55:$AD$201,3,FALSE)),\"\",VLOOKUP(CV50,①初期設定!$AB$55:$AD$201,3,FALSE))","v":""},{"$f":"IF(ISERROR(RIGHT(DE50,LEN(DE50)-4)),\"*\",RIGHT(DE50,LEN(DE50)-4))","v":"*"},{"$f":"IF(ISERROR(VLOOKUP(CV50,①初期設定!$AN$55:$AV$201,3,FALSE)),\"*\",VLOOKUP(CV50,①初期設定!$AN$55:$AV$201,3,FALSE))","v":"*"},{"$f":"IF(ISERROR(RIGHT(DG50,LEN(DG50)-4)),\"*\",RIGHT(DG50,LEN(DG50)-4))","v":"*"},{"$f":"IF(ISERROR(VLOOKUP(CV50,①初期設定!$AC$55:$AD$201,2,FALSE)),\"\",VLOOKUP(CV50,①初期設定!$AC$55:$AD$201,2,FALSE))","v":""},{"$f":"IF(ISERROR(RIGHT(DI50,LEN(DI50)-4)),\"*\",RIGHT(DI50,LEN(DI50)-4))","v":"*"},{"$f":"IF(ISERROR(VLOOKUP(CV50,①初期設定!$AO$55:$AV$201,2,FALSE)),\"*\",VLOOKUP(CV50,①初期設定!$AO$55:$AV$201,2,FALSE))","v":"*"},{"$f":"IF(ISERROR(RIGHT(DK50,LEN(DK50)-4)),\"*\",RIGHT(DK50,LEN(DK50)-4))","v":"*"}]
[38,null,null,null,null,null,null,null,null,null,null,null,null,null,null,null,null,null,null,null,null,null,null,null,null,null,null,null,null,null,null,null,null,null,null,null,null,null,null,null,null,"",null,null,"",null,null,null,null,null,null,null,null,null,null,"",null,null,"",null,null,null,null,null,null,null,null,null,null,"",null,null,"",null,null,null,null,null,null,null,null,null,0,"種目",0,0,0,null,null,null,"弟子屈RC","紋別上渚滑中",null,"弘前大",null,null,2006,"新潟"]
[39,null,null,null,null,null,null,null,null,null,null,null,null,null,null,null,null,null,null,null,null,null,null,null,null,null,null,null,null,null,null,null,null,null,null,null,null,null,null,null,null,"",null,null,"",null,null,null,null,null,null,null,null,null,null,"",null,null,"",null,null,null,null,null,null,null,null,null,null,"",null,null,"",null,null,null,null,null,null,null,null,null,0,"種目",0,0,0,null,null,null,"別海AC","ｵﾎｰﾂｸAC(中学)",null,"国際武道大",null,null,2007,"神奈川"]
[40,null,null,null,null,null,null,null,null,null,null,null,null,null,null,null,null,null,null,null,null,null,null,null,null,null,null,null,null,null,null,null,null,null,null,null,null,null,null,null,null,"",null,null,"",null,null,null,null,null,null,null,null,null,null,"",null,null,"",null,null,null,null,null,null,null,null,null,null,"",null,null,"",null,null,null,null,null,null,null,null,null,0,"種目",0,0,0,null,null,null,null,"別海中央中",null,"佐藤農場T&F",null,null,2008,"青森"]
[null,null,null,null,null,null,null,null,null,null,null,null,null,null,null,null,null,null,null,null,null,null,null,null,null,null,null,null,null,null,null,null,null,null,null,null,null,null,null,null,null,null,null,null,null,null,null,null,null,null,null,null,null,null,null,null,null,null,null,null,null,null,null,null,null,null,null,null,null,null,null,null,null,null,null,null,null,null,null,null,null,null,null,null,null,null,null,null,null,null,null,null,null,"作．AC札幌",null,null,2009,"静岡"]
[null,null,null,null,null,null,null,null,null,null,null,null,null,null,null,null,null,null,null,null,null,null,null,null,null,null,null,null,null,null,null,null,null,null,null,null,null,null,null,null,null,null,null,null,null,null,null,null,null,null,null,null,null,null,null,null,null,null,null,null,null,null,null,null,null,null,null,null,null,null,null,null,null,null,null,null,null,null,null,null,null,null,null,null,null,null,null,null,null,null,null,null,null,"札幌大",null,null,2010,"石川"]
[null,null,null,null,null,null,null,null,null,null,null,null,null,null,null,null,null,null,null,null,null,null,null,null,null,null,null,null,null,null,null,null,null,null,null,null,null,null,null,null,null,null,null,null,null,null,null,null,null,null,null,null,null,null,null,null,null,null,null,null,null,null,null,null,null,null,null,null,null,null,null,null,null,null,null,null,null,null,null,null,null,null,null,null,null,null,null,null,null,null,null,null,null,"札幌陸協(玉木)",null,null,2011,"千葉"]
[{"$f":"A1","v":"オホーツク陸上競技選手権大会"},null,null,null,null,null,null,null,null,null,null,null,null,null,null,null,null,null,"確認書",null,null,null,null,null,null,null,null,null,null,"団体名",null,null,null,{"$f":"L4","v":0},null,null,null,null,null,null,null,null,null,null,null,null,null,null,null,null,null,null,null,"１６人以上同一種目に参加した場合、１６人目からは氏名が出ませんので、別途確認して下さい。",null,null,null,null,null,null,null,null,null,null,null,null,null,null,null,null,null,null,null,null,null,null,null,null,null,null,null,null,null,null,null,null,null,null,null,null,null,null,null,"札幌陸協(本間)",null,null,2012,"大阪"]
[null,null,null,null,null,null,null,null,null,null,null,null,null,null,null,null,null,null,null,null,null,null,null,null,null,null,null,null,null,null,null,null,null,null,null,null,null,null,null,null,null,null,null,null,null,null,null,null,null,null,null,null,null,null,null,null,null,null,null,null,null,null,null,null,null,null,null,null,null,null,null,null,null,null,null,null,null,null,null,null,null,null,null,null,null,null,null,null,null,null,null,null,null,"小樽後志陸協（野宮）",null,null,null,"大分"]
[null,null,null,null,null,null,null,null,null,null,null,null,null,null,null,null,null,null,null,null,null,null,null,null,null,null,null,null,null,null,null,null,null,null,null,null,null,null,null,null,null,null,null,null,null,null,null,null,null,null,null,null,null,null,null,null,null,null,null,null,null,null,null,null,null,null,null,null,null,null,null,null,null,null,null,null,null,null,null,null,null,null,null,null,null,null,null,null,null,null,null,null,null,"中京大",null,null,null,"長崎"]
["性別",null,null,"番号",null,null,"種目",null,null,null,null,null,null,null,null,null,null,1,null,null,null,2,null,null,null,3,null,null,null,4,null,null,null,5,null,null,null,6,null,null,null,7,null,null,null,8,null,null,null,9,null,null,null,10,null,null,null,11,null,null,null,12,null,null,null,13,null,null,null,14,null,null,null,15,null,null,null,"実人数",null,null,null,null,null,null,null,null,null,null,null,null,null,null,null,"東海大学北海道",null,null,null,"長野"]
["男子",null,null,1,null,null,{"$f":"IF(HLOOKUP($E$4&\"男選択リスト\",$CW$11:$DL$38,D61+4,FALSE)=\"*\",\"\",$E$4&\"男子\"&HLOOKUP($E$4&\"男選択リスト\",$CW$11:$DL$38,D61+4,FALSE))","v":{"$error":"#N/A"}},null,null,null,null,null,null,null,null,null,null,{"$f":"VLOOKUP($G61&R$60,申込確認シート!$E$1:$F$200,2,FALSE)","v":{"$error":"#N/A"}},null,null,null,{"$f":"VLOOKUP($G61&V$60,申込確認シート!$E$1:$F$200,2,FALSE)","v":{"$error":"#N/A"}},null,null,null,{"$f":"VLOOKUP($G61&Z$60,申込確認シート!$E$1:$F$200,2,FALSE)","v":{"$error":"#N/A"}},null,null,null,{"$f":"VLOOKUP($G61&AD$60,申込確認シート!$E$1:$F$200,2,FALSE)","v":{"$error":"#N/A"}},null,null,null,{"$f":"VLOOKUP($G61&AH$60,申込確認シート!$E$1:$F$200,2,FALSE)","v":{"$error":"#N/A"}},null,null,null,{"$f":"VLOOKUP($G61&AL$60,申込確認シート!$E$1:$F$200,2,FALSE)","v":{"$error":"#N/A"}},null,null,null,{"$f":"VLOOKUP($G61&AP$60,申込確認シート!$E$1:$F$200,2,FALSE)","v":{"$error":"#N/A"}},null,null,null,{"$f":"VLOOKUP($G61&AT$60,申込確認シート!$E$1:$F$200,2,FALSE)","v":{"$error":"#N/A"}},null,null,null,{"$f":"VLOOKUP($G61&AX$60,申込確認シート!$E$1:$F$200,2,FALSE)","v":{"$error":"#N/A"}},null,null,null,{"$f":"VLOOKUP($G61&BB$60,申込確認シート!$E$1:$F$200,2,FALSE)","v":{"$error":"#N/A"}},null,null,null,{"$f":"VLOOKUP($G61&BF$60,申込確認シート!$E$1:$F$200,2,FALSE)","v":{"$error":"#N/A"}},null,null,null,{"$f":"VLOOKUP($G61&BJ$60,申込確認シート!$E$1:$F$200,2,FALSE)","v":{"$error":"#N/A"}},null,null,null,{"$f":"VLOOKUP($G61&BN$60,申込確認シート!$E$1:$F$200,2,FALSE)","v":{"$error":"#N/A"}},null,null,null,{"$f":"VLOOKUP($G61&BR$60,申込確認シート!$E$1:$F$200,2,FALSE)","v":{"$error":"#N/A"}},null,null,null,{"$f":"VLOOKUP($G61&BV$60,申込確認シート!$E$1:$F$200,2,FALSE)","v":{"$error":"#N/A"}},null,null,null,{"$f":"COUNTIF(申込確認シート!$C$1:$C$200,G61)","v":0},null,null,null,null,null,null,null,null,null,null,null,null,null,null,null,"東京農大",null,null,null,"東京"]
[null,null,null,2,null,null,{"$f":"IF(HLOOKUP($E$4&\"男選択リスト\",$CW$11:$DL$38,D62+4,FALSE)=\"*\",\"\",$E$4&\"男子\"&HLOOKUP($E$4&\"男選択リスト\",$CW$11:$DL$38,D62+4,FALSE))","v":{"$error":"#N/A"}},null,null,null,null,null,null,null,null,null,null,{"$f":"VLOOKUP($G62&R$60,申込確認シート!$E$1:$F$200,2,FALSE)","v":{"$error":"#N/A"}},null,null,null,{"$f":"VLOOKUP($G62&V$60,申込確認シート!$E$1:$F$200,2,FALSE)","v":{"$error":"#N/A"}},null,null,null,{"$f":"VLOOKUP($G62&Z$60,申込確認シート!$E$1:$F$200,2,FALSE)","v":{"$error":"#N/A"}},null,null,null,{"$f":"VLOOKUP($G62&AD$60,申込確認シート!$E$1:$F$200,2,FALSE)","v":{"$error":"#N/A"}},null,null,null,{"$f":"VLOOKUP($G62&AH$60,申込確認シート!$E$1:$F$200,2,FALSE)","v":{"$error":"#N/A"}},null,null,null,{"$f":"VLOOKUP($G62&AL$60,申込確認シート!$E$1:$F$200,2,FALSE)","v":{"$error":"#N/A"}},null,null,null,{"$f":"VLOOKUP($G62&AP$60,申込確認シート!$E$1:$F$200,2,FALSE)","v":{"$error":"#N/A"}},null,null,null,{"$f":"VLOOKUP($G62&AT$60,申込確認シート!$E$1:$F$200,2,FALSE)","v":{"$error":"#N/A"}},null,null,null,{"$f":"VLOOKUP($G62&AX$60,申込確認シート!$E$1:$F$200,2,FALSE)","v":{"$error":"#N/A"}},null,null,null,{"$f":"VLOOKUP($G62&BB$60,申込確認シート!$E$1:$F$200,2,FALSE)","v":{"$error":"#N/A"}},null,null,null,{"$f":"VLOOKUP($G62&BF$60,申込確認シート!$E$1:$F$200,2,FALSE)","v":{"$error":"#N/A"}},null,null,null,{"$f":"VLOOKUP($G62&BJ$60,申込確認シート!$E$1:$F$200,2,FALSE)","v":{"$error":"#N/A"}},null,null,null,{"$f":"VLOOKUP($G62&BN$60,申込確認シート!$E$1:$F$200,2,FALSE)","v":{"$error":"#N/A"}},null,null,null,{"$f":"VLOOKUP($G62&BR$60,申込確認シート!$E$1:$F$200,2,FALSE)","v":{"$error":"#N/A"}},null,null,null,{"$f":"VLOOKUP($G62&BV$60,申込確認シート!$E$1:$F$200,2,FALSE)","v":{"$error":"#N/A"}},null,null,null,{"$f":"COUNTIF(申込確認シート!$C$1:$C$200,G62)","v":0},null,null,null,null,null,null,null,null,null,null,null,null,null,null,null,"東農大ｵﾎｰﾂｸ",null,null,null,"徳島"]
[null,null,null,3,null,null,{"$error":"#N/A"},null,null,null,null,null,null,null,null,null,null,{"$f":"VLOOKUP($G63&R$60,申込確認シート!$E$1:$F$200,2,FALSE)","v":{"$error":"#N/A"}},null,null,null,{"$f":"VLOOKUP($G63&V$60,申込確認シート!$E$1:$F$200,2,FALSE)","v":{"$error":"#N/A"}},null,null,null,{"$f":"VLOOKUP($G63&Z$60,申込確認シート!$E$1:$F$200,2,FALSE)","v":{"$error":"#N/A"}},null,null,null,{"$f":"VLOOKUP($G63&AD$60,申込確認シート!$E$1:$F$200,2,FALSE)","v":{"$error":"#N/A"}},null,null,null,{"$f":"VLOOKUP($G63&AH$60,申込確認シート!$E$1:$F$200,2,FALSE)","v":{"$error":"#N/A"}},null,null,null,{"$f":"VLOOKUP($G63&AL$60,申込確認シート!$E$1:$F$200,2,FALSE)","v":{"$error":"#N/A"}},null,null,null,{"$f":"VLOOKUP($G63&AP$60,申込確認シート!$E$1:$F$200,2,FALSE)","v":{"$error":"#N/A"}},null,null,null,{"$f":"VLOOKUP($G63&AT$60,申込確認シート!$E$1:$F$200,2,FALSE)","v":{"$error":"#N/A"}},null,null,null,{"$f":"VLOOKUP($G63&AX$60,申込確認シート!$E$1:$F$200,2,FALSE)","v":{"$error":"#N/A"}},null,null,null,{"$f":"VLOOKUP($G63&BB$60,申込確認シート!$E$1:$F$200,2,FALSE)","v":{"$error":"#N/A"}},null,null,null,{"$f":"VLOOKUP($G63&BF$60,申込確認シート!$E$1:$F$200,2,FALSE)","v":{"$error":"#N/A"}},null,null,null,{"$f":"VLOOKUP($G63&BJ$60,申込確認シート!$E$1:$F$200,2,FALSE)","v":{"$error":"#N/A"}},null,null,null,{"$f":"VLOOKUP($G63&BN$60,申込確認シート!$E$1:$F$200,2,FALSE)","v":{"$error":"#N/A"}},null,null,null,{"$f":"VLOOKUP($G63&BR$60,申込確認シート!$E$1:$F$200,2,FALSE)","v":{"$error":"#N/A"}},null,null,null,{"$f":"VLOOKUP($G63&BV$60,申込確認シート!$E$1:$F$200,2,FALSE)","v":{"$error":"#N/A"}},null,null,null,{"$f":"COUNTIF(申込確認シート!$C$1:$C$200,G63)","v":0},null,null,null,null,null,null,null,null,null,null,null,null,null,null,null,"道央(佐々木)",null,null,null,"栃木"]
[null,null,null,4,null,null,{"$error":"#N/A"},null,null,null,null,null,null,null,null,null,null,{"$f":"VLOOKUP($G64&R$60,申込確認シート!$E$1:$F$200,2,FALSE)","v":{"$error":"#N/A"}},null,null,null,{"$f":"VLOOKUP($G64&V$60,申込確認シート!$E$1:$F$200,2,FALSE)","v":{"$error":"#N/A"}},null,null,null,{"$f":"VLOOKUP($G64&Z$60,申込確認シート!$E$1:$F$200,2,FALSE)","v":{"$error":"#N/A"}},null,null,null,{"$f":"VLOOKUP($G64&AD$60,申込確認シート!$E$1:$F$200,2,FALSE)","v":{"$error":"#N/A"}},null,null,null,{"$f":"VLOOKUP($G64&AH$60,申込確認シート!$E$1:$F$200,2,FALSE)","v":{"$error":"#N/A"}},null,null,null,{"$f":"VLOOKUP($G64&AL$60,申込確認シート!$E$1:$F$200,2,FALSE)","v":{"$error":"#N/A"}},null,null,null,{"$f":"VLOOKUP($G64&AP$60,申込確認シート!$E$1:$F$200,2,FALSE)","v":{"$error":"#N/A"}},null,null,null,{"$f":"VLOOKUP($G64&AT$60,申込確認シート!$E$1:$F$200,2,FALSE)","v":{"$error":"#N/A"}},null,null,null,{"$f":"VLOOKUP($G64&AX$60,申込確認シート!$E$1:$F$200,2,FALSE)","v":{"$error":"#N/A"}},null,null,null,{"$f":"VLOOKUP($G64&BB$60,申込確認シート!$E$1:$F$200,2,FALSE)","v":{"$error":"#N/A"}},null,null,null,{"$f":"VLOOKUP($G64&BF$60,申込確認シート!$E$1:$F$200,2,FALSE)","v":{"$error":"#N/A"}},null,null,null,{"$f":"VLOOKUP($G64&BJ$60,申込確認シート!$E$1:$F$200,2,FALSE)","v":{"$error":"#N/A"}},null,null,null,{"$f":"VLOOKUP($G64&BN$60,申込確認シート!$E$1:$F$200,2,FALSE)","v":{"$error":"#N/A"}},null,null,null,{"$f":"VLOOKUP($G64&BR$60,申込確認シート!$E$1:$F$200,2,FALSE)","v":{"$error":"#N/A"}},null,null,null,{"$f":"VLOOKUP($G64&BV$60,申込確認シート!$E$1:$F$200,2,FALSE)","v":{"$error":"#N/A"}},null,null,null,{"$f":"COUNTIF(申込確認シート!$C$1:$C$200,G64)","v":0},null,null,null,null,null,null,null,null,null,null,null,null,null,null,null,"日赤看護大",null,null,null,"奈良"]
[null,null,null,5,null,null,{"$error":"#N/A"},null,null,null,null,null,null,null,null,null,null,{"$f":"VLOOKUP($G65&R$60,申込確認シート!$E$1:$F$200,2,FALSE)","v":{"$error":"#N/A"}},null,null,null,{"$f":"VLOOKUP($G65&V$60,申込確認シート!$E$1:$F$200,2,FALSE)","v":{"$error":"#N/A"}},null,null,null,{"$f":"VLOOKUP($G65&Z$60,申込確認シート!$E$1:$F$200,2,FALSE)","v":{"$error":"#N/A"}},null,null,null,{"$f":"VLOOKUP($G65&AD$60,申込確認シート!$E$1:$F$200,2,FALSE)","v":{"$error":"#N/A"}},null,null,null,{"$f":"VLOOKUP($G65&AH$60,申込確認シート!$E$1:$F$200,2,FALSE)","v":{"$error":"#N/A"}},null,null,null,{"$f":"VLOOKUP($G65&AL$60,申込確認シート!$E$1:$F$200,2,FALSE)","v":{"$error":"#N/A"}},null,null,null,{"$f":"VLOOKUP($G65&AP$60,申込確認シート!$E$1:$F$200,2,FALSE)","v":{"$error":"#N/A"}},null,null,null,{"$f":"VLOOKUP($G65&AT$60,申込確認シート!$E$1:$F$200,2,FALSE)","v":{"$error":"#N/A"}},null,null,null,{"$f":"VLOOKUP($G65&AX$60,申込確認シート!$E$1:$F$200,2,FALSE)","v":{"$error":"#N/A"}},null,null,null,{"$f":"VLOOKUP($G65&BB$60,申込確認シート!$E$1:$F$200,2,FALSE)","v":{"$error":"#N/A"}},null,null,null,{"$f":"VLOOKUP($G65&BF$60,申込確認シート!$E$1:$F$200,2,FALSE)","v":{"$error":"#N/A"}},null,null,null,{"$f":"VLOOKUP($G65&BJ$60,申込確認シート!$E$1:$F$200,2,FALSE)","v":{"$error":"#N/A"}},null,null,null,{"$f":"VLOOKUP($G65&BN$60,申込確認シート!$E$1:$F$200,2,FALSE)","v":{"$error":"#N/A"}},null,null,null,{"$f":"VLOOKUP($G65&BR$60,申込確認シート!$E$1:$F$200,2,FALSE)","v":{"$error":"#N/A"}},null,null,null,{"$f":"VLOOKUP($G65&BV$60,申込確認シート!$E$1:$F$200,2,FALSE)","v":{"$error":"#N/A"}},null,null,null,{"$f":"COUNTIF(申込確認シート!$C$1:$C$200,G65)","v":0},null,null,null,null,null,null,null,null,null,null,null,null,null,null,null,"別海AC",null,null,null,"富山"]
[null,null,null,6,null,null,{"$error":"#N/A"},null,null,null,null,null,null,null,null,null,null,{"$f":"VLOOKUP($G66&R$60,申込確認シート!$E$1:$F$200,2,FALSE)","v":{"$error":"#N/A"}},null,null,null,{"$f":"VLOOKUP($G66&V$60,申込確認シート!$E$1:$F$200,2,FALSE)","v":{"$error":"#N/A"}},null,null,null,{"$f":"VLOOKUP($G66&Z$60,申込確認シート!$E$1:$F$200,2,FALSE)","v":{"$error":"#N/A"}},null,null,null,{"$f":"VLOOKUP($G66&AD$60,申込確認シート!$E$1:$F$200,2,FALSE)","v":{"$error":"#N/A"}},null,null,null,{"$f":"VLOOKUP($G66&AH$60,申込確認シート!$E$1:$F$200,2,FALSE)","v":{"$error":"#N/A"}},null,null,null,{"$f":"VLOOKUP($G66&AL$60,申込確認シート!$E$1:$F$200,2,FALSE)","v":{"$error":"#N/A"}},null,null,null,{"$f":"VLOOKUP($G66&AP$60,申込確認シート!$E$1:$F$200,2,FALSE)","v":{"$error":"#N/A"}},null,null,null,{"$f":"VLOOKUP($G66&AT$60,申込確認シート!$E$1:$F$200,2,FALSE)","v":{"$error":"#N/A"}},null,null,null,{"$f":"VLOOKUP($G66&AX$60,申込確認シート!$E$1:$F$200,2,FALSE)","v":{"$error":"#N/A"}},null,null,null,{"$f":"VLOOKUP($G66&BB$60,申込確認シート!$E$1:$F$200,2,FALSE)","v":{"$error":"#N/A"}},null,null,null,{"$f":"VLOOKUP($G66&BF$60,申込確認シート!$E$1:$F$200,2,FALSE)","v":{"$error":"#N/A"}},null,null,null,{"$f":"VLOOKUP($G66&BJ$60,申込確認シート!$E$1:$F$200,2,FALSE)","v":{"$error":"#N/A"}},null,null,null,{"$f":"VLOOKUP($G66&BN$60,申込確認シート!$E$1:$F$200,2,FALSE)","v":{"$error":"#N/A"}},null,null,null,{"$f":"VLOOKUP($G66&BR$60,申込確認シート!$E$1:$F$200,2,FALSE)","v":{"$error":"#N/A"}},null,null,null,{"$f":"VLOOKUP($G66&BV$60,申込確認シート!$E$1:$F$200,2,FALSE)","v":{"$error":"#N/A"}},null,null,null,{"$f":"COUNTIF(申込確認シート!$C$1:$C$200,G66)","v":0},null,null,null,null,null,null,null,null,null,null,null,null,null,null,null,"北海道教育大",null,null,null,"福岡"]
[null,null,null,7,null,null,{"$error":"#N/A"},null,null,null,null,null,null,null,null,null,null,{"$f":"VLOOKUP($G67&R$60,申込確認シート!$E$1:$F$200,2,FALSE)","v":{"$error":"#N/A"}},null,null,null,{"$f":"VLOOKUP($G67&V$60,申込確認シート!$E$1:$F$200,2,FALSE)","v":{"$error":"#N/A"}},null,null,null,{"$f":"VLOOKUP($G67&Z$60,申込確認シート!$E$1:$F$200,2,FALSE)","v":{"$error":"#N/A"}},null,null,null,{"$f":"VLOOKUP($G67&AD$60,申込確認シート!$E$1:$F$200,2,FALSE)","v":{"$error":"#N/A"}},null,null,null,{"$f":"VLOOKUP($G67&AH$60,申込確認シート!$E$1:$F$200,2,FALSE)","v":{"$error":"#N/A"}},null,null,null,{"$f":"VLOOKUP($G67&AL$60,申込確認シート!$E$1:$F$200,2,FALSE)","v":{"$error":"#N/A"}},null,null,null,{"$f":"VLOOKUP($G67&AP$60,申込確認シート!$E$1:$F$200,2,FALSE)","v":{"$error":"#N/A"}},null,null,null,{"$f":"VLOOKUP($G67&AT$60,申込確認シート!$E$1:$F$200,2,FALSE)","v":{"$error":"#N/A"}},null,null,null,{"$f":"VLOOKUP($G67&AX$60,申込確認シート!$E$1:$F$200,2,FALSE)","v":{"$error":"#N/A"}},null,null,null,{"$f":"VLOOKUP($G67&BB$60,申込確認シート!$E$1:$F$200,2,FALSE)","v":{"$error":"#N/A"}},null,null,null,{"$f":"VLOOKUP($G67&BF$60,申込確認シート!$E$1:$F$200,2,FALSE)","v":{"$error":"#N/A"}},null,null,null,{"$f":"VLOOKUP($G67&BJ$60,申込確認シート!$E$1:$F$200,2,FALSE)","v":{"$error":"#N/A"}},null,null,null,{"$f":"VLOOKUP($G67&BN$60,申込確認シート!$E$1:$F$200,2,FALSE)","v":{"$error":"#N/A"}},null,null,null,{"$f":"VLOOKUP($G67&BR$60,申込確認シート!$E$1:$F$200,2,FALSE)","v":{"$error":"#N/A"}},null,null,null,{"$f":"VLOOKUP($G67&BV$60,申込確認シート!$E$1:$F$200,2,FALSE)","v":{"$error":"#N/A"}},null,null,null,{"$f":"COUNTIF(申込確認シート!$C$1:$C$200,G67)","v":0},null,null,null,null,null,null,null,null,null,null,null,null,null,null,null,"北海道大",null,null,null,"福島"]
[null,null,null,8,null,null,{"$error":"#N/A"},null,null,null,null,null,null,null,null,null,null,{"$f":"VLOOKUP($G68&R$60,申込確認シート!$E$1:$F$200,2,FALSE)","v":{"$error":"#N/A"}},null,null,null,{"$f":"VLOOKUP($G68&V$60,申込確認シート!$E$1:$F$200,2,FALSE)","v":{"$error":"#N/A"}},null,null,null,{"$f":"VLOOKUP($G68&Z$60,申込確認シート!$E$1:$F$200,2,FALSE)","v":{"$error":"#N/A"}},null,null,null,{"$f":"VLOOKUP($G68&AD$60,申込確認シート!$E$1:$F$200,2,FALSE)","v":{"$error":"#N/A"}},null,null,null,{"$f":"VLOOKUP($G68&AH$60,申込確認シート!$E$1:$F$200,2,FALSE)","v":{"$error":"#N/A"}},null,null,null,{"$f":"VLOOKUP($G68&AL$60,申込確認シート!$E$1:$F$200,2,FALSE)","v":{"$error":"#N/A"}},null,null,null,{"$f":"VLOOKUP($G68&AP$60,申込確認シート!$E$1:$F$200,2,FALSE)","v":{"$error":"#N/A"}},null,null,null,{"$f":"VLOOKUP($G68&AT$60,申込確認シート!$E$1:$F$200,2,FALSE)","v":{"$error":"#N/A"}},null,null,null,{"$f":"VLOOKUP($G68&AX$60,申込確認シート!$E$1:$F$200,2,FALSE)","v":{"$error":"#N/A"}},null,null,null,{"$f":"VLOOKUP($G68&BB$60,申込確認シート!$E$1:$F$200,2,FALSE)","v":{"$error":"#N/A"}},null,null,null,{"$f":"VLOOKUP($G68&BF$60,申込確認シート!$E$1:$F$200,2,FALSE)","v":{"$error":"#N/A"}},null,null,null,{"$f":"VLOOKUP($G68&BJ$60,申込確認シート!$E$1:$F$200,2,FALSE)","v":{"$error":"#N/A"}},null,null,null,{"$f":"VLOOKUP($G68&BN$60,申込確認シート!$E$1:$F$200,2,FALSE)","v":{"$error":"#N/A"}},null,null,null,{"$f":"VLOOKUP($G68&BR$60,申込確認シート!$E$1:$F$200,2,FALSE)","v":{"$error":"#N/A"}},null,null,null,{"$f":"VLOOKUP($G68&BV$60,申込確認シート!$E$1:$F$200,2,FALSE)","v":{"$error":"#N/A"}},null,null,null,{"$f":"COUNTIF(申込確認シート!$C$1:$C$200,G68)","v":0},null,null,null,null,null,null,null,null,null,null,null,null,null,null,null,"北教大岩見沢",null,null,null,"兵庫"]
[null,null,null,9,null,null,{"$error":"#N/A"},null,null,null,null,null,null,null,null,null,null,{"$f":"VLOOKUP($G69&R$60,申込確認シート!$E$1:$F$200,2,FALSE)","v":{"$error":"#N/A"}},null,null,null,{"$f":"VLOOKUP($G69&V$60,申込確認シート!$E$1:$F$200,2,FALSE)","v":{"$error":"#N/A"}},null,null,null,{"$f":"VLOOKUP($G69&Z$60,申込確認シート!$E$1:$F$200,2,FALSE)","v":{"$error":"#N/A"}},null,null,null,{"$f":"VLOOKUP($G69&AD$60,申込確認シート!$E$1:$F$200,2,FALSE)","v":{"$error":"#N/A"}},null,null,null,{"$f":"VLOOKUP($G69&AH$60,申込確認シート!$E$1:$F$200,2,FALSE)","v":{"$error":"#N/A"}},null,null,null,{"$f":"VLOOKUP($G69&AL$60,申込確認シート!$E$1:$F$200,2,FALSE)","v":{"$error":"#N/A"}},null,null,null,{"$f":"VLOOKUP($G69&AP$60,申込確認シート!$E$1:$F$200,2,FALSE)","v":{"$error":"#N/A"}},null,null,null,{"$f":"VLOOKUP($G69&AT$60,申込確認シート!$E$1:$F$200,2,FALSE)","v":{"$error":"#N/A"}},null,null,null,{"$f":"VLOOKUP($G69&AX$60,申込確認シート!$E$1:$F$200,2,FALSE)","v":{"$error":"#N/A"}},null,null,null,{"$f":"VLOOKUP($G69&BB$60,申込確認シート!$E$1:$F$200,2,FALSE)","v":{"$error":"#N/A"}},null,null,null,{"$f":"VLOOKUP($G69&BF$60,申込確認シート!$E$1:$F$200,2,FALSE)","v":{"$error":"#N/A"}},null,null,null,{"$f":"VLOOKUP($G69&BJ$60,申込確認シート!$E$1:$F$200,2,FALSE)","v":{"$error":"#N/A"}},null,null,null,{"$f":"VLOOKUP($G69&BN$60,申込確認シート!$E$1:$F$200,2,FALSE)","v":{"$error":"#N/A"}},null,null,null,{"$f":"VLOOKUP($G69&BR$60,申込確認シート!$E$1:$F$200,2,FALSE)","v":{"$error":"#N/A"}},null,null,null,{"$f":"VLOOKUP($G69&BV$60,申込確認シート!$E$1:$F$200,2,FALSE)","v":{"$error":"#N/A"}},null,null,null,{"$f":"COUNTIF(申込確認シート!$C$1:$C$200,G69)","v":0},null,null,null,null,null,null,null,null,null,null,null,null,null,null,null,"北見工大",null,null,null,"和歌山"]
[null,null,null,10,null,null,{"$error":"#N/A"},null,null,null,null,null,null,null,null,null,null,{"$f":"VLOOKUP($G70&R$60,申込確認シート!$E$1:$F$200,2,FALSE)","v":{"$error":"#N/A"}},null,null,null,{"$f":"VLOOKUP($G70&V$60,申込確認シート!$E$1:$F$200,2,FALSE)","v":{"$error":"#N/A"}},null,null,null,{"$f":"VLOOKUP($G70&Z$60,申込確認シート!$E$1:$F$200,2,FALSE)","v":{"$error":"#N/A"}},null,null,null,{"$f":"VLOOKUP($G70&AD$60,申込確認シート!$E$1:$F$200,2,FALSE)","v":{"$error":"#N/A"}},null,null,null,{"$f":"VLOOKUP($G70&AH$60,申込確認シート!$E$1:$F$200,2,FALSE)","v":{"$error":"#N/A"}},null,null,null,{"$f":"VLOOKUP($G70&AL$60,申込確認シート!$E$1:$F$200,2,FALSE)","v":{"$error":"#N/A"}},null,null,null,{"$f":"VLOOKUP($G70&AP$60,申込確認シート!$E$1:$F$200,2,FALSE)","v":{"$error":"#N/A"}},null,null,null,{"$f":"VLOOKUP($G70&AT$60,申込確認シート!$E$1:$F$200,2,FALSE)","v":{"$error":"#N/A"}},null,null,null,{"$f":"VLOOKUP($G70&AX$60,申込確認シート!$E$1:$F$200,2,FALSE)","v":{"$error":"#N/A"}},null,null,null,{"$f":"VLOOKUP($G70&BB$60,申込確認シート!$E$1:$F$200,2,FALSE)","v":{"$error":"#N/A"}},null,null,null,{"$f":"VLOOKUP($G70&BF$60,申込確認シート!$E$1:$F$200,2,FALSE)","v":{"$error":"#N/A"}},null,null,null,{"$f":"VLOOKUP($G70&BJ$60,申込確認シート!$E$1:$F$200,2,FALSE)","v":{"$error":"#N/A"}},null,null,null,{"$f":"VLOOKUP($G70&BN$60,申込確認シート!$E$1:$F$200,2,FALSE)","v":{"$error":"#N/A"}},null,null,null,{"$f":"VLOOKUP($G70&BR$60,申込確認シート!$E$1:$F$200,2,FALSE)","v":{"$error":"#N/A"}},null,null,null,{"$f":"VLOOKUP($G70&BV$60,申込確認シート!$E$1:$F$200,2,FALSE)","v":{"$error":"#N/A"}},null,null,null,{"$f":"COUNTIF(申込確認シート!$C$1:$C$200,G70)","v":0},null,null,null,null,null,null,null,null,null,null,null,null,null,null,null,"北見消防"]
[null,null,null,11,null,null,{"$error":"#N/A"},null,null,null,null,null,null,null,null,null,null,{"$f":"VLOOKUP($G71&R$60,申込確認シート!$E$1:$F$200,2,FALSE)","v":{"$error":"#N/A"}},null,null,null,{"$f":"VLOOKUP($G71&V$60,申込確認シート!$E$1:$F$200,2,FALSE)","v":{"$error":"#N/A"}},null,null,null,{"$f":"VLOOKUP($G71&Z$60,申込確認シート!$E$1:$F$200,2,FALSE)","v":{"$error":"#N/A"}},null,null,null,{"$f":"VLOOKUP($G71&AD$60,申込確認シート!$E$1:$F$200,2,FALSE)","v":{"$error":"#N/A"}},null,null,null,{"$f":"VLOOKUP($G71&AH$60,申込確認シート!$E$1:$F$200,2,FALSE)","v":{"$error":"#N/A"}},null,null,null,{"$f":"VLOOKUP($G71&AL$60,申込確認シート!$E$1:$F$200,2,FALSE)","v":{"$error":"#N/A"}},null,null,null,{"$f":"VLOOKUP($G71&AP$60,申込確認シート!$E$1:$F$200,2,FALSE)","v":{"$error":"#N/A"}},null,null,null,{"$f":"VLOOKUP($G71&AT$60,申込確認シート!$E$1:$F$200,2,FALSE)","v":{"$error":"#N/A"}},null,null,null,{"$f":"VLOOKUP($G71&AX$60,申込確認シート!$E$1:$F$200,2,FALSE)","v":{"$error":"#N/A"}},null,null,null,{"$f":"VLOOKUP($G71&BB$60,申込確認シート!$E$1:$F$200,2,FALSE)","v":{"$error":"#N/A"}},null,null,null,{"$f":"VLOOKUP($G71&BF$60,申込確認シート!$E$1:$F$200,2,FALSE)","v":{"$error":"#N/A"}},null,null,null,{"$f":"VLOOKUP($G71&BJ$60,申込確認シート!$E$1:$F$200,2,FALSE)","v":{"$error":"#N/A"}},null,null,null,{"$f":"VLOOKUP($G71&BN$60,申込確認シート!$E$1:$F$200,2,FALSE)","v":{"$error":"#N/A"}},null,null,null,{"$f":"VLOOKUP($G71&BR$60,申込確認シート!$E$1:$F$200,2,FALSE)","v":{"$error":"#N/A"}},null,null,null,{"$f":"VLOOKUP($G71&BV$60,申込確認シート!$E$1:$F$200,2,FALSE)","v":{"$error":"#N/A"}},null,null,null,{"$f":"COUNTIF(申込確認シート!$C$1:$C$200,G71)","v":0},null,null,null,null,null,null,null,null,null,null,null,null,null,null,null,"北翔大"]
[null,null,null,12,null,null,{"$error":"#N/A"},null,null,null,null,null,null,null,null,null,null,{"$f":"VLOOKUP($G72&R$60,申込確認シート!$E$1:$F$200,2,FALSE)","v":{"$error":"#N/A"}},null,null,null,{"$f":"VLOOKUP($G72&V$60,申込確認シート!$E$1:$F$200,2,FALSE)","v":{"$error":"#N/A"}},null,null,null,{"$f":"VLOOKUP($G72&Z$60,申込確認シート!$E$1:$F$200,2,FALSE)","v":{"$error":"#N/A"}},null,null,null,{"$f":"VLOOKUP($G72&AD$60,申込確認シート!$E$1:$F$200,2,FALSE)","v":{"$error":"#N/A"}},null,null,null,{"$f":"VLOOKUP($G72&AH$60,申込確認シート!$E$1:$F$200,2,FALSE)","v":{"$error":"#N/A"}},null,null,null,{"$f":"VLOOKUP($G72&AL$60,申込確認シート!$E$1:$F$200,2,FALSE)","v":{"$error":"#N/A"}},null,null,null,{"$f":"VLOOKUP($G72&AP$60,申込確認シート!$E$1:$F$200,2,FALSE)","v":{"$error":"#N/A"}},null,null,null,{"$f":"VLOOKUP($G72&AT$60,申込確認シート!$E$1:$F$200,2,FALSE)","v":{"$error":"#N/A"}},null,null,null,{"$f":"VLOOKUP($G72&AX$60,申込確認シート!$E$1:$F$200,2,FALSE)","v":{"$error":"#N/A"}},null,null,null,{"$f":"VLOOKUP($G72&BB$60,申込確認シート!$E$1:$F$200,2,FALSE)","v":{"$error":"#N/A"}},null,null,null,{"$f":"VLOOKUP($G72&BF$60,申込確認シート!$E$1:$F$200,2,FALSE)","v":{"$error":"#N/A"}},null,null,null,{"$f":"VLOOKUP($G72&BJ$60,申込確認シート!$E$1:$F$200,2,FALSE)","v":{"$error":"#N/A"}},null,null,null,{"$f":"VLOOKUP($G72&BN$60,申込確認シート!$E$1:$F$200,2,FALSE)","v":{"$error":"#N/A"}},null,null,null,{"$f":"VLOOKUP($G72&BR$60,申込確認シート!$E$1:$F$200,2,FALSE)","v":{"$error":"#N/A"}},null,null,null,{"$f":"VLOOKUP($G72&BV$60,申込確認シート!$E$1:$F$200,2,FALSE)","v":{"$error":"#N/A"}},null,null,null,{"$f":"COUNTIF(申込確認シート!$C$1:$C$200,G72)","v":0},null,null,null,null,null,null,null,null,null,null,null,null,null,null,null,"明治大"]
[null,null,null,13,null,null,{"$error":"#N/A"},null,null,null,null,null,null,null,null,null,null,{"$f":"VLOOKUP($G73&R$60,申込確認シート!$E$1:$F$200,2,FALSE)","v":{"$error":"#N/A"}},null,null,null,{"$f":"VLOOKUP($G73&V$60,申込確認シート!$E$1:$F$200,2,FALSE)","v":{"$error":"#N/A"}},null,null,null,{"$f":"VLOOKUP($G73&Z$60,申込確認シート!$E$1:$F$200,2,FALSE)","v":{"$error":"#N/A"}},null,null,null,{"$f":"VLOOKUP($G73&AD$60,申込確認シート!$E$1:$F$200,2,FALSE)","v":{"$error":"#N/A"}},null,null,null,{"$f":"VLOOKUP($G73&AH$60,申込確認シート!$E$1:$F$200,2,FALSE)","v":{"$error":"#N/A"}},null,null,null,{"$f":"VLOOKUP($G73&AL$60,申込確認シート!$E$1:$F$200,2,FALSE)","v":{"$error":"#N/A"}},null,null,null,{"$f":"VLOOKUP($G73&AP$60,申込確認シート!$E$1:$F$200,2,FALSE)","v":{"$error":"#N/A"}},null,null,null,{"$f":"VLOOKUP($G73&AT$60,申込確認シート!$E$1:$F$200,2,FALSE)","v":{"$error":"#N/A"}},null,null,null,{"$f":"VLOOKUP($G73&AX$60,申込確認シート!$E$1:$F$200,2,FALSE)","v":{"$error":"#N/A"}},null,null,null,{"$f":"VLOOKUP($G73&BB$60,申込確認シート!$E$1:$F$200,2,FALSE)","v":{"$error":"#N/A"}},null,null,null,{"$f":"VLOOKUP($G73&BF$60,申込確認シート!$E$1:$F$200,2,FALSE)","v":{"$error":"#N/A"}},null,null,null,{"$f":"VLOOKUP($G73&BJ$60,申込確認シート!$E$1:$F$200,2,FALSE)","v":{"$error":"#N/A"}},null,null,null,{"$f":"VLOOKUP($G73&BN$60,申込確認シート!$E$1:$F$200,2,FALSE)","v":{"$error":"#N/A"}},null,null,null,{"$f":"VLOOKUP($G73&BR$60,申込確認シート!$E$1:$F$200,2,FALSE)","v":{"$error":"#N/A"}},null,null,null,{"$f":"VLOOKUP($G73&BV$60,申込確認シート!$E$1:$F$200,2,FALSE)","v":{"$error":"#N/A"}},null,null,null,{"$f":"COUNTIF(申込確認シート!$C$1:$C$200,G73)","v":0}]
[null,null,null,14,null,null,{"$error":"#N/A"},null,null,null,null,null,null,null,null,null,null,{"$f":"VLOOKUP($G74&R$60,申込確認シート!$E$1:$F$200,2,FALSE)","v":{"$error":"#N/A"}},null,null,null,{"$f":"VLOOKUP($G74&V$60,申込確認シート!$E$1:$F$200,2,FALSE)","v":{"$error":"#N/A"}},null,null,null,{"$f":"VLOOKUP($G74&Z$60,申込確認シート!$E$1:$F$200,2,FALSE)","v":{"$error":"#N/A"}},null,null,null,{"$f":"VLOOKUP($G74&AD$60,申込確認シート!$E$1:$F$200,2,FALSE)","v":{"$error":"#N/A"}},null,null,null,{"$f":"VLOOKUP($G74&AH$60,申込確認シート!$E$1:$F$200,2,FALSE)","v":{"$error":"#N/A"}},null,null,null,{"$f":"VLOOKUP($G74&AL$60,申込確認シート!$E$1:$F$200,2,FALSE)","v":{"$error":"#N/A"}},null,null,null,{"$f":"VLOOKUP($G74&AP$60,申込確認シート!$E$1:$F$200,2,FALSE)","v":{"$error":"#N/A"}},null,null,null,{"$f":"VLOOKUP($G74&AT$60,申込確認シート!$E$1:$F$200,2,FALSE)","v":{"$error":"#N/A"}},null,null,null,{"$f":"VLOOKUP($G74&AX$60,申込確認シート!$E$1:$F$200,2,FALSE)","v":{"$error":"#N/A"}},null,null,null,{"$f":"VLOOKUP($G74&BB$60,申込確認シート!$E$1:$F$200,2,FALSE)","v":{"$error":"#N/A"}},null,null,null,{"$f":"VLOOKUP($G74&BF$60,申込確認シート!$E$1:$F$200,2,FALSE)","v":{"$error":"#N/A"}},null,null,null,{"$f":"VLOOKUP($G74&BJ$60,申込確認シート!$E$1:$F$200,2,FALSE)","v":{"$error":"#N/A"}},null,null,null,{"$f":"VLOOKUP($G74&BN$60,申込確認シート!$E$1:$F$200,2,FALSE)","v":{"$error":"#N/A"}},null,null,null,{"$f":"VLOOKUP($G74&BR$60,申込確認シート!$E$1:$F$200,2,FALSE)","v":{"$error":"#N/A"}},null,null,null,{"$f":"VLOOKUP($G74&BV$60,申込確認シート!$E$1:$F$200,2,FALSE)","v":{"$error":"#N/A"}},null,null,null,{"$f":"COUNTIF(申込確認シート!$C$1:$C$200,G74)","v":0}]
[null,null,null,15,null,null,{"$error":"#N/A"},null,null,null,null,null,null,null,null,null,null,{"$f":"VLOOKUP($G75&R$60,申込確認シート!$E$1:$F$200,2,FALSE)","v":{"$error":"#N/A"}},null,null,null,{"$f":"VLOOKUP($G75&V$60,申込確認シート!$E$1:$F$200,2,FALSE)","v":{"$error":"#N/A"}},null,null,null,{"$f":"VLOOKUP($G75&Z$60,申込確認シート!$E$1:$F$200,2,FALSE)","v":{"$error":"#N/A"}},null,null,null,{"$f":"VLOOKUP($G75&AD$60,申込確認シート!$E$1:$F$200,2,FALSE)","v":{"$error":"#N/A"}},null,null,null,{"$f":"VLOOKUP($G75&AH$60,申込確認シート!$E$1:$F$200,2,FALSE)","v":{"$error":"#N/A"}},null,null,null,{"$f":"VLOOKUP($G75&AL$60,申込確認シート!$E$1:$F$200,2,FALSE)","v":{"$error":"#N/A"}},null,null,null,{"$f":"VLOOKUP($G75&AP$60,申込確認シート!$E$1:$F$200,2,FALSE)","v":{"$error":"#N/A"}},null,null,null,{"$f":"VLOOKUP($G75&AT$60,申込確認シート!$E$1:$F$200,2,FALSE)","v":{"$error":"#N/A"}},null,null,null,{"$f":"VLOOKUP($G75&AX$60,申込確認シート!$E$1:$F$200,2,FALSE)","v":{"$error":"#N/A"}},null,null,null,{"$f":"VLOOKUP($G75&BB$60,申込確認シート!$E$1:$F$200,2,FALSE)","v":{"$error":"#N/A"}},null,null,null,{"$f":"VLOOKUP($G75&BF$60,申込確認シート!$E$1:$F$200,2,FALSE)","v":{"$error":"#N/A"}},null,null,null,{"$f":"VLOOKUP($G75&BJ$60,申込確認シート!$E$1:$F$200,2,FALSE)","v":{"$error":"#N/A"}},null,null,null,{"$f":"VLOOKUP($G75&BN$60,申込確認シート!$E$1:$F$200,2,FALSE)","v":{"$error":"#N/A"}},null,null,null,{"$f":"VLOOKUP($G75&BR$60,申込確認シート!$E$1:$F$200,2,FALSE)","v":{"$error":"#N/A"}},null,null,null,{"$f":"VLOOKUP($G75&BV$60,申込確認シート!$E$1:$F$200,2,FALSE)","v":{"$error":"#N/A"}},null,null,null,{"$f":"COUNTIF(申込確認シート!$C$1:$C$200,G75)","v":0}]
[null,null,null,16,null,null,{"$error":"#N/A"},null,null,null,null,null,null,null,null,null,null,{"$f":"VLOOKUP($G76&R$60,申込確認シート!$E$1:$F$200,2,FALSE)","v":{"$error":"#N/A"}},null,null,null,{"$f":"VLOOKUP($G76&V$60,申込確認シート!$E$1:$F$200,2,FALSE)","v":{"$error":"#N/A"}},null,null,null,{"$f":"VLOOKUP($G76&Z$60,申込確認シート!$E$1:$F$200,2,FALSE)","v":{"$error":"#N/A"}},null,null,null,{"$f":"VLOOKUP($G76&AD$60,申込確認シート!$E$1:$F$200,2,FALSE)","v":{"$error":"#N/A"}},null,null,null,{"$f":"VLOOKUP($G76&AH$60,申込確認シート!$E$1:$F$200,2,FALSE)","v":{"$error":"#N/A"}},null,null,null,{"$f":"VLOOKUP($G76&AL$60,申込確認シート!$E$1:$F$200,2,FALSE)","v":{"$error":"#N/A"}},null,null,null,{"$f":"VLOOKUP($G76&AP$60,申込確認シート!$E$1:$F$200,2,FALSE)","v":{"$error":"#N/A"}},null,null,null,{"$f":"VLOOKUP($G76&AT$60,申込確認シート!$E$1:$F$200,2,FALSE)","v":{"$error":"#N/A"}},null,null,null,{"$f":"VLOOKUP($G76&AX$60,申込確認シート!$E$1:$F$200,2,FALSE)","v":{"$error":"#N/A"}},null,null,null,{"$f":"VLOOKUP($G76&BB$60,申込確認シート!$E$1:$F$200,2,FALSE)","v":{"$error":"#N/A"}},null,null,null,{"$f":"VLOOKUP($G76&BF$60,申込確認シート!$E$1:$F$200,2,FALSE)","v":{"$error":"#N/A"}},null,null,null,{"$f":"VLOOKUP($G76&BJ$60,申込確認シート!$E$1:$F$200,2,FALSE)","v":{"$error":"#N/A"}},null,null,null,{"$f":"VLOOKUP($G76&BN$60,申込確認シート!$E$1:$F$200,2,FALSE)","v":{"$error":"#N/A"}},null,null,null,{"$f":"VLOOKUP($G76&BR$60,申込確認シート!$E$1:$F$200,2,FALSE)","v":{"$error":"#N/A"}},null,null,null,{"$f":"VLOOKUP($G76&BV$60,申込確認シート!$E$1:$F$200,2,FALSE)","v":{"$error":"#N/A"}},null,null,null,{"$f":"COUNTIF(申込確認シート!$C$1:$C$200,G76)","v":0}]
[null,null,null,17,null,null,{"$error":"#N/A"},null,null,null,null,null,null,null,null,null,null,{"$f":"VLOOKUP($G77&R$60,申込確認シート!$E$1:$F$200,2,FALSE)","v":{"$error":"#N/A"}},null,null,null,{"$f":"VLOOKUP($G77&V$60,申込確認シート!$E$1:$F$200,2,FALSE)","v":{"$error":"#N/A"}},null,null,null,{"$f":"VLOOKUP($G77&Z$60,申込確認シート!$E$1:$F$200,2,FALSE)","v":{"$error":"#N/A"}},null,null,null,{"$f":"VLOOKUP($G77&AD$60,申込確認シート!$E$1:$F$200,2,FALSE)","v":{"$error":"#N/A"}},null,null,null,{"$f":"VLOOKUP($G77&AH$60,申込確認シート!$E$1:$F$200,2,FALSE)","v":{"$error":"#N/A"}},null,null,null,{"$f":"VLOOKUP($G77&AL$60,申込確認シート!$E$1:$F$200,2,FALSE)","v":{"$error":"#N/A"}},null,null,null,{"$f":"VLOOKUP($G77&AP$60,申込確認シート!$E$1:$F$200,2,FALSE)","v":{"$error":"#N/A"}},null,null,null,{"$f":"VLOOKUP($G77&AT$60,申込確認シート!$E$1:$F$200,2,FALSE)","v":{"$error":"#N/A"}},null,null,null,{"$f":"VLOOKUP($G77&AX$60,申込確認シート!$E$1:$F$200,2,FALSE)","v":{"$error":"#N/A"}},null,null,null,{"$f":"VLOOKUP($G77&BB$60,申込確認シート!$E$1:$F$200,2,FALSE)","v":{"$error":"#N/A"}},null,null,null,{"$f":"VLOOKUP($G77&BF$60,申込確認シート!$E$1:$F$200,2,FALSE)","v":{"$error":"#N/A"}},null,null,null,{"$f":"VLOOKUP($G77&BJ$60,申込確認シート!$E$1:$F$200,2,FALSE)","v":{"$error":"#N/A"}},null,null,null,{"$f":"VLOOKUP($G77&BN$60,申込確認シート!$E$1:$F$200,2,FALSE)","v":{"$error":"#N/A"}},null,null,null,{"$f":"VLOOKUP($G77&BR$60,申込確認シート!$E$1:$F$200,2,FALSE)","v":{"$error":"#N/A"}},null,null,null,{"$f":"VLOOKUP($G77&BV$60,申込確認シート!$E$1:$F$200,2,FALSE)","v":{"$error":"#N/A"}},null,null,null,{"$f":"COUNTIF(申込確認シート!$C$1:$C$200,G77)","v":0}]
[null,null,null,18,null,null,{"$error":"#N/A"},null,null,null,null,null,null,null,null,null,null,{"$f":"VLOOKUP($G78&R$60,申込確認シート!$E$1:$F$200,2,FALSE)","v":{"$error":"#N/A"}},null,null,null,{"$f":"VLOOKUP($G78&V$60,申込確認シート!$E$1:$F$200,2,FALSE)","v":{"$error":"#N/A"}},null,null,null,{"$f":"VLOOKUP($G78&Z$60,申込確認シート!$E$1:$F$200,2,FALSE)","v":{"$error":"#N/A"}},null,null,null,{"$f":"VLOOKUP($G78&AD$60,申込確認シート!$E$1:$F$200,2,FALSE)","v":{"$error":"#N/A"}},null,null,null,{"$f":"VLOOKUP($G78&AH$60,申込確認シート!$E$1:$F$200,2,FALSE)","v":{"$error":"#N/A"}},null,null,null,{"$f":"VLOOKUP($G78&AL$60,申込確認シート!$E$1:$F$200,2,FALSE)","v":{"$error":"#N/A"}},null,null,null,{"$f":"VLOOKUP($G78&AP$60,申込確認シート!$E$1:$F$200,2,FALSE)","v":{"$error":"#N/A"}},null,null,null,{"$f":"VLOOKUP($G78&AT$60,申込確認シート!$E$1:$F$200,2,FALSE)","v":{"$error":"#N/A"}},null,null,null,{"$f":"VLOOKUP($G78&AX$60,申込確認シート!$E$1:$F$200,2,FALSE)","v":{"$error":"#N/A"}},null,null,null,{"$f":"VLOOKUP($G78&BB$60,申込確認シート!$E$1:$F$200,2,FALSE)","v":{"$error":"#N/A"}},null,null,null,{"$f":"VLOOKUP($G78&BF$60,申込確認シート!$E$1:$F$200,2,FALSE)","v":{"$error":"#N/A"}},null,null,null,{"$f":"VLOOKUP($G78&BJ$60,申込確認シート!$E$1:$F$200,2,FALSE)","v":{"$error":"#N/A"}},null,null,null,{"$f":"VLOOKUP($G78&BN$60,申込確認シート!$E$1:$F$200,2,FALSE)","v":{"$error":"#N/A"}},null,null,null,{"$f":"VLOOKUP($G78&BR$60,申込確認シート!$E$1:$F$200,2,FALSE)","v":{"$error":"#N/A"}},null,null,null,{"$f":"VLOOKUP($G78&BV$60,申込確認シート!$E$1:$F$200,2,FALSE)","v":{"$error":"#N/A"}},null,null,null,{"$f":"COUNTIF(申込確認シート!$C$1:$C$200,G78)","v":0}]
[null,null,null,19,null,null,{"$error":"#N/A"},null,null,null,null,null,null,null,null,null,null,{"$f":"VLOOKUP($G79&R$60,申込確認シート!$E$1:$F$200,2,FALSE)","v":{"$error":"#N/A"}},null,null,null,{"$f":"VLOOKUP($G79&V$60,申込確認シート!$E$1:$F$200,2,FALSE)","v":{"$error":"#N/A"}},null,null,null,{"$f":"VLOOKUP($G79&Z$60,申込確認シート!$E$1:$F$200,2,FALSE)","v":{"$error":"#N/A"}},null,null,null,{"$f":"VLOOKUP($G79&AD$60,申込確認シート!$E$1:$F$200,2,FALSE)","v":{"$error":"#N/A"}},null,null,null,{"$f":"VLOOKUP($G79&AH$60,申込確認シート!$E$1:$F$200,2,FALSE)","v":{"$error":"#N/A"}},null,null,null,{"$f":"VLOOKUP($G79&AL$60,申込確認シート!$E$1:$F$200,2,FALSE)","v":{"$error":"#N/A"}},null,null,null,{"$f":"VLOOKUP($G79&AP$60,申込確認シート!$E$1:$F$200,2,FALSE)","v":{"$error":"#N/A"}},null,null,null,{"$f":"VLOOKUP($G79&AT$60,申込確認シート!$E$1:$F$200,2,FALSE)","v":{"$error":"#N/A"}},null,null,null,{"$f":"VLOOKUP($G79&AX$60,申込確認シート!$E$1:$F$200,2,FALSE)","v":{"$error":"#N/A"}},null,null,null,{"$f":"VLOOKUP($G79&BB$60,申込確認シート!$E$1:$F$200,2,FALSE)","v":{"$error":"#N/A"}},null,null,null,{"$f":"VLOOKUP($G79&BF$60,申込確認シート!$E$1:$F$200,2,FALSE)","v":{"$error":"#N/A"}},null,null,null,{"$f":"VLOOKUP($G79&BJ$60,申込確認シート!$E$1:$F$200,2,FALSE)","v":{"$error":"#N/A"}},null,null,null,{"$f":"VLOOKUP($G79&BN$60,申込確認シート!$E$1:$F$200,2,FALSE)","v":{"$error":"#N/A"}},null,null,null,{"$f":"VLOOKUP($G79&BR$60,申込確認シート!$E$1:$F$200,2,FALSE)","v":{"$error":"#N/A"}},null,null,null,{"$f":"VLOOKUP($G79&BV$60,申込確認シート!$E$1:$F$200,2,FALSE)","v":{"$error":"#N/A"}},null,null,null,{"$f":"COUNTIF(申込確認シート!$C$1:$C$200,G79)","v":0}]
[null,null,null,20,null,null,{"$error":"#N/A"},null,null,null,null,null,null,null,null,null,null,{"$f":"VLOOKUP($G80&R$60,申込確認シート!$E$1:$F$200,2,FALSE)","v":{"$error":"#N/A"}},null,null,null,{"$f":"VLOOKUP($G80&V$60,申込確認シート!$E$1:$F$200,2,FALSE)","v":{"$error":"#N/A"}},null,null,null,{"$f":"VLOOKUP($G80&Z$60,申込確認シート!$E$1:$F$200,2,FALSE)","v":{"$error":"#N/A"}},null,null,null,{"$f":"VLOOKUP($G80&AD$60,申込確認シート!$E$1:$F$200,2,FALSE)","v":{"$error":"#N/A"}},null,null,null,{"$f":"VLOOKUP($G80&AH$60,申込確認シート!$E$1:$F$200,2,FALSE)","v":{"$error":"#N/A"}},null,null,null,{"$f":"VLOOKUP($G80&AL$60,申込確認シート!$E$1:$F$200,2,FALSE)","v":{"$error":"#N/A"}},null,null,null,{"$f":"VLOOKUP($G80&AP$60,申込確認シート!$E$1:$F$200,2,FALSE)","v":{"$error":"#N/A"}},null,null,null,{"$f":"VLOOKUP($G80&AT$60,申込確認シート!$E$1:$F$200,2,FALSE)","v":{"$error":"#N/A"}},null,null,null,{"$f":"VLOOKUP($G80&AX$60,申込確認シート!$E$1:$F$200,2,FALSE)","v":{"$error":"#N/A"}},null,null,null,{"$f":"VLOOKUP($G80&BB$60,申込確認シート!$E$1:$F$200,2,FALSE)","v":{"$error":"#N/A"}},null,null,null,{"$f":"VLOOKUP($G80&BF$60,申込確認シート!$E$1:$F$200,2,FALSE)","v":{"$error":"#N/A"}},null,null,null,{"$f":"VLOOKUP($G80&BJ$60,申込確認シート!$E$1:$F$200,2,FALSE)","v":{"$error":"#N/A"}},null,null,null,{"$f":"VLOOKUP($G80&BN$60,申込確認シート!$E$1:$F$200,2,FALSE)","v":{"$error":"#N/A"}},null,null,null,{"$f":"VLOOKUP($G80&BR$60,申込確認シート!$E$1:$F$200,2,FALSE)","v":{"$error":"#N/A"}},null,null,null,{"$f":"VLOOKUP($G80&BV$60,申込確認シート!$E$1:$F$200,2,FALSE)","v":{"$error":"#N/A"}},null,null,null,{"$f":"COUNTIF(申込確認シート!$C$1:$C$200,G80)","v":0}]
[null,null,null,21,null,null,{"$error":"#N/A"},null,null,null,null,null,null,null,null,null,null,{"$f":"VLOOKUP($G81&R$60,申込確認シート!$E$1:$F$200,2,FALSE)","v":{"$error":"#N/A"}},null,null,null,{"$f":"VLOOKUP($G81&V$60,申込確認シート!$E$1:$F$200,2,FALSE)","v":{"$error":"#N/A"}},null,null,null,{"$f":"VLOOKUP($G81&Z$60,申込確認シート!$E$1:$F$200,2,FALSE)","v":{"$error":"#N/A"}},null,null,null,{"$f":"VLOOKUP($G81&AD$60,申込確認シート!$E$1:$F$200,2,FALSE)","v":{"$error":"#N/A"}},null,null,null,{"$f":"VLOOKUP($G81&AH$60,申込確認シート!$E$1:$F$200,2,FALSE)","v":{"$error":"#N/A"}},null,null,null,{"$f":"VLOOKUP($G81&AL$60,申込確認シート!$E$1:$F$200,2,FALSE)","v":{"$error":"#N/A"}},null,null,null,{"$f":"VLOOKUP($G81&AP$60,申込確認シート!$E$1:$F$200,2,FALSE)","v":{"$error":"#N/A"}},null,null,null,{"$f":"VLOOKUP($G81&AT$60,申込確認シート!$E$1:$F$200,2,FALSE)","v":{"$error":"#N/A"}},null,null,null,{"$f":"VLOOKUP($G81&AX$60,申込確認シート!$E$1:$F$200,2,FALSE)","v":{"$error":"#N/A"}},null,null,null,{"$f":"VLOOKUP($G81&BB$60,申込確認シート!$E$1:$F$200,2,FALSE)","v":{"$error":"#N/A"}},null,null,null,{"$f":"VLOOKUP($G81&BF$60,申込確認シート!$E$1:$F$200,2,FALSE)","v":{"$error":"#N/A"}},null,null,null,{"$f":"VLOOKUP($G81&BJ$60,申込確認シート!$E$1:$F$200,2,FALSE)","v":{"$error":"#N/A"}},null,null,null,{"$f":"VLOOKUP($G81&BN$60,申込確認シート!$E$1:$F$200,2,FALSE)","v":{"$error":"#N/A"}},null,null,null,{"$f":"VLOOKUP($G81&BR$60,申込確認シート!$E$1:$F$200,2,FALSE)","v":{"$error":"#N/A"}},null,null,null,{"$f":"VLOOKUP($G81&BV$60,申込確認シート!$E$1:$F$200,2,FALSE)","v":{"$error":"#N/A"}},null,null,null,{"$f":"COUNTIF(申込確認シート!$C$1:$C$200,G81)","v":0}]
[null,null,null,22,null,null,{"$error":"#N/A"},null,null,null,null,null,null,null,null,null,null,{"$f":"VLOOKUP($G82&R$60,申込確認シート!$E$1:$F$200,2,FALSE)","v":{"$error":"#N/A"}},null,null,null,{"$f":"VLOOKUP($G82&V$60,申込確認シート!$E$1:$F$200,2,FALSE)","v":{"$error":"#N/A"}},null,null,null,{"$f":"VLOOKUP($G82&Z$60,申込確認シート!$E$1:$F$200,2,FALSE)","v":{"$error":"#N/A"}},null,null,null,{"$f":"VLOOKUP($G82&AD$60,申込確認シート!$E$1:$F$200,2,FALSE)","v":{"$error":"#N/A"}},null,null,null,{"$f":"VLOOKUP($G82&AH$60,申込確認シート!$E$1:$F$200,2,FALSE)","v":{"$error":"#N/A"}},null,null,null,{"$f":"VLOOKUP($G82&AL$60,申込確認シート!$E$1:$F$200,2,FALSE)","v":{"$error":"#N/A"}},null,null,null,{"$f":"VLOOKUP($G82&AP$60,申込確認シート!$E$1:$F$200,2,FALSE)","v":{"$error":"#N/A"}},null,null,null,{"$f":"VLOOKUP($G82&AT$60,申込確認シート!$E$1:$F$200,2,FALSE)","v":{"$error":"#N/A"}},null,null,null,{"$f":"VLOOKUP($G82&AX$60,申込確認シート!$E$1:$F$200,2,FALSE)","v":{"$error":"#N/A"}},null,null,null,{"$f":"VLOOKUP($G82&BB$60,申込確認シート!$E$1:$F$200,2,FALSE)","v":{"$error":"#N/A"}},null,null,null,{"$f":"VLOOKUP($G82&BF$60,申込確認シート!$E$1:$F$200,2,FALSE)","v":{"$error":"#N/A"}},null,null,null,{"$f":"VLOOKUP($G82&BJ$60,申込確認シート!$E$1:$F$200,2,FALSE)","v":{"$error":"#N/A"}},null,null,null,{"$f":"VLOOKUP($G82&BN$60,申込確認シート!$E$1:$F$200,2,FALSE)","v":{"$error":"#N/A"}},null,null,null,{"$f":"VLOOKUP($G82&BR$60,申込確認シート!$E$1:$F$200,2,FALSE)","v":{"$error":"#N/A"}},null,null,null,{"$f":"VLOOKUP($G82&BV$60,申込確認シート!$E$1:$F$200,2,FALSE)","v":{"$error":"#N/A"}},null,null,null,{"$f":"COUNTIF(申込確認シート!$C$1:$C$200,G82)","v":0}]
[null,null,null,23,null,null,{"$error":"#N/A"},null,null,null,null,null,null,null,null,null,null,{"$f":"VLOOKUP($G83&R$60,申込確認シート!$E$1:$F$200,2,FALSE)","v":{"$error":"#N/A"}},null,null,null,{"$f":"VLOOKUP($G83&V$60,申込確認シート!$E$1:$F$200,2,FALSE)","v":{"$error":"#N/A"}},null,null,null,{"$f":"VLOOKUP($G83&Z$60,申込確認シート!$E$1:$F$200,2,FALSE)","v":{"$error":"#N/A"}},null,null,null,{"$f":"VLOOKUP($G83&AD$60,申込確認シート!$E$1:$F$200,2,FALSE)","v":{"$error":"#N/A"}},null,null,null,{"$f":"VLOOKUP($G83&AH$60,申込確認シート!$E$1:$F$200,2,FALSE)","v":{"$error":"#N/A"}},null,null,null,{"$f":"VLOOKUP($G83&AL$60,申込確認シート!$E$1:$F$200,2,FALSE)","v":{"$error":"#N/A"}},null,null,null,{"$f":"VLOOKUP($G83&AP$60,申込確認シート!$E$1:$F$200,2,FALSE)","v":{"$error":"#N/A"}},null,null,null,{"$f":"VLOOKUP($G83&AT$60,申込確認シート!$E$1:$F$200,2,FALSE)","v":{"$error":"#N/A"}},null,null,null,{"$f":"VLOOKUP($G83&AX$60,申込確認シート!$E$1:$F$200,2,FALSE)","v":{"$error":"#N/A"}},null,null,null,{"$f":"VLOOKUP($G83&BB$60,申込確認シート!$E$1:$F$200,2,FALSE)","v":{"$error":"#N/A"}},null,null,null,{"$f":"VLOOKUP($G83&BF$60,申込確認シート!$E$1:$F$200,2,FALSE)","v":{"$error":"#N/A"}},null,null,null,{"$f":"VLOOKUP($G83&BJ$60,申込確認シート!$E$1:$F$200,2,FALSE)","v":{"$error":"#N/A"}},null,null,null,{"$f":"VLOOKUP($G83&BN$60,申込確認シート!$E$1:$F$200,2,FALSE)","v":{"$error":"#N/A"}},null,null,null,{"$f":"VLOOKUP($G83&BR$60,申込確認シート!$E$1:$F$200,2,FALSE)","v":{"$error":"#N/A"}},null,null,null,{"$f":"VLOOKUP($G83&BV$60,申込確認シート!$E$1:$F$200,2,FALSE)","v":{"$error":"#N/A"}},null,null,null,{"$f":"COUNTIF(申込確認シート!$C$1:$C$200,G83)","v":0}]
[null,null,null,24,null,null,{"$f":"IF(HLOOKUP($E$4&\"男選択リスト\",$CW$11:$DL$38,D84+4,FALSE)=\"*\",\"\",$E$4&\"男子\"&HLOOKUP($E$4&\"男選択リスト\",$CW$11:$DL$38,D84+4,FALSE))","v":{"$error":"#N/A"}},null,null,null,null,null,null,null,null,null,null,{"$f":"VLOOKUP($G84&R$60,申込確認シート!$E$1:$F$200,2,FALSE)","v":{"$error":"#N/A"}},null,null,null,{"$f":"VLOOKUP($G84&V$60,申込確認シート!$E$1:$F$200,2,FALSE)","v":{"$error":"#N/A"}},null,null,null,{"$f":"VLOOKUP($G84&Z$60,申込確認シート!$E$1:$F$200,2,FALSE)","v":{"$error":"#N/A"}},null,null,null,{"$f":"VLOOKUP($G84&AD$60,申込確認シート!$E$1:$F$200,2,FALSE)","v":{"$error":"#N/A"}},null,null,null,{"$f":"VLOOKUP($G84&AH$60,申込確認シート!$E$1:$F$200,2,FALSE)","v":{"$error":"#N/A"}},null,null,null,{"$f":"VLOOKUP($G84&AL$60,申込確認シート!$E$1:$F$200,2,FALSE)","v":{"$error":"#N/A"}},null,null,null,{"$f":"VLOOKUP($G84&AP$60,申込確認シート!$E$1:$F$200,2,FALSE)","v":{"$error":"#N/A"}},null,null,null,{"$f":"VLOOKUP($G84&AT$60,申込確認シート!$E$1:$F$200,2,FALSE)","v":{"$error":"#N/A"}},null,null,null,{"$f":"VLOOKUP($G84&AX$60,申込確認シート!$E$1:$F$200,2,FALSE)","v":{"$error":"#N/A"}},null,null,null,{"$f":"VLOOKUP($G84&BB$60,申込確認シート!$E$1:$F$200,2,FALSE)","v":{"$error":"#N/A"}},null,null,null,{"$f":"VLOOKUP($G84&BF$60,申込確認シート!$E$1:$F$200,2,FALSE)","v":{"$error":"#N/A"}},null,null,null,{"$f":"VLOOKUP($G84&BJ$60,申込確認シート!$E$1:$F$200,2,FALSE)","v":{"$error":"#N/A"}},null,null,null,{"$f":"VLOOKUP($G84&BN$60,申込確認シート!$E$1:$F$200,2,FALSE)","v":{"$error":"#N/A"}},null,null,null,{"$f":"VLOOKUP($G84&BR$60,申込確認シート!$E$1:$F$200,2,FALSE)","v":{"$error":"#N/A"}},null,null,null,{"$f":"VLOOKUP($G84&BV$60,申込確認シート!$E$1:$F$200,2,FALSE)","v":{"$error":"#N/A"}},null,null,null,{"$f":"COUNTIF(申込確認シート!$C$1:$C$200,G84)","v":0}]
["女子",null,null,1,null,null,{"$f":"IF(HLOOKUP($E$4&\"女選択リスト\",$CW$11:$DL$38,D85+4,FALSE)=\"*\",\"\",$E$4&\"女子\"&HLOOKUP($E$4&\"女選択リスト\",$CW$11:$DL$38,D85+4,FALSE))","v":{"$error":"#N/A"}},null,null,null,null,null,null,null,null,null,null,{"$f":"VLOOKUP($G85&R$60,申込確認シート!$E$1:$F$200,2,FALSE)","v":{"$error":"#N/A"}},null,null,null,{"$f":"VLOOKUP($G85&V$60,申込確認シート!$E$1:$F$200,2,FALSE)","v":{"$error":"#N/A"}},null,null,null,{"$f":"VLOOKUP($G85&Z$60,申込確認シート!$E$1:$F$200,2,FALSE)","v":{"$error":"#N/A"}},null,null,null,{"$f":"VLOOKUP($G85&AD$60,申込確認シート!$E$1:$F$200,2,FALSE)","v":{"$error":"#N/A"}},null,null,null,{"$f":"VLOOKUP($G85&AH$60,申込確認シート!$E$1:$F$200,2,FALSE)","v":{"$error":"#N/A"}},null,null,null,{"$f":"VLOOKUP($G85&AL$60,申込確認シート!$E$1:$F$200,2,FALSE)","v":{"$error":"#N/A"}},null,null,null,{"$f":"VLOOKUP($G85&AP$60,申込確認シート!$E$1:$F$200,2,FALSE)","v":{"$error":"#N/A"}},null,null,null,{"$f":"VLOOKUP($G85&AT$60,申込確認シート!$E$1:$F$200,2,FALSE)","v":{"$error":"#N/A"}},null,null,null,{"$f":"VLOOKUP($G85&AX$60,申込確認シート!$E$1:$F$200,2,FALSE)","v":{"$error":"#N/A"}},null,null,null,{"$f":"VLOOKUP($G85&BB$60,申込確認シート!$E$1:$F$200,2,FALSE)","v":{"$error":"#N/A"}},null,null,null,{"$f":"VLOOKUP($G85&BF$60,申込確認シート!$E$1:$F$200,2,FALSE)","v":{"$error":"#N/A"}},null,null,null,{"$f":"VLOOKUP($G85&BJ$60,申込確認シート!$E$1:$F$200,2,FALSE)","v":{"$error":"#N/A"}},null,null,null,{"$f":"VLOOKUP($G85&BN$60,申込確認シート!$E$1:$F$200,2,FALSE)","v":{"$error":"#N/A"}},null,null,null,{"$f":"VLOOKUP($G85&BR$60,申込確認シート!$E$1:$F$200,2,FALSE)","v":{"$error":"#N/A"}},null,null,null,{"$f":"VLOOKUP($G85&BV$60,申込確認シート!$E$1:$F$200,2,FALSE)","v":{"$error":"#N/A"}},null,null,null,{"$f":"COUNTIF(申込確認シート!$C$1:$C$200,G85)","v":0}]
[null,null,null,2,null,null,{"$f":"IF(HLOOKUP($E$4&\"女選択リスト\",$CW$11:$DL$38,D86+4,FALSE)=\"*\",\"\",$E$4&\"女子\"&HLOOKUP($E$4&\"女選択リスト\",$CW$11:$DL$38,D86+4,FALSE))","v":{"$error":"#N/A"}},null,null,null,null,null,null,null,null,null,null,{"$f":"VLOOKUP($G86&R$60,申込確認シート!$E$1:$F$200,2,FALSE)","v":{"$error":"#N/A"}},null,null,null,{"$f":"VLOOKUP($G86&V$60,申込確認シート!$E$1:$F$200,2,FALSE)","v":{"$error":"#N/A"}},null,null,null,{"$f":"VLOOKUP($G86&Z$60,申込確認シート!$E$1:$F$200,2,FALSE)","v":{"$error":"#N/A"}},null,null,null,{"$f":"VLOOKUP($G86&AD$60,申込確認シート!$E$1:$F$200,2,FALSE)","v":{"$error":"#N/A"}},null,null,null,{"$f":"VLOOKUP($G86&AH$60,申込確認シート!$E$1:$F$200,2,FALSE)","v":{"$error":"#N/A"}},null,null,null,{"$f":"VLOOKUP($G86&AL$60,申込確認シート!$E$1:$F$200,2,FALSE)","v":{"$error":"#N/A"}},null,null,null,{"$f":"VLOOKUP($G86&AP$60,申込確認シート!$E$1:$F$200,2,FALSE)","v":{"$error":"#N/A"}},null,null,null,{"$f":"VLOOKUP($G86&AT$60,申込確認シート!$E$1:$F$200,2,FALSE)","v":{"$error":"#N/A"}},null,null,null,{"$f":"VLOOKUP($G86&AX$60,申込確認シート!$E$1:$F$200,2,FALSE)","v":{"$error":"#N/A"}},null,null,null,{"$f":"VLOOKUP($G86&BB$60,申込確認シート!$E$1:$F$200,2,FALSE)","v":{"$error":"#N/A"}},null,null,null,{"$f":"VLOOKUP($G86&BF$60,申込確認シート!$E$1:$F$200,2,FALSE)","v":{"$error":"#N/A"}},null,null,null,{"$f":"VLOOKUP($G86&BJ$60,申込確認シート!$E$1:$F$200,2,FALSE)","v":{"$error":"#N/A"}},null,null,null,{"$f":"VLOOKUP($G86&BN$60,申込確認シート!$E$1:$F$200,2,FALSE)","v":{"$error":"#N/A"}},null,null,null,{"$f":"VLOOKUP($G86&BR$60,申込確認シート!$E$1:$F$200,2,FALSE)","v":{"$error":"#N/A"}},null,null,null,{"$f":"VLOOKUP($G86&BV$60,申込確認シート!$E$1:$F$200,2,FALSE)","v":{"$error":"#N/A"}},null,null,null,{"$f":"COUNTIF(申込確認シート!$C$1:$C$200,G86)","v":0}]
[null,null,null,3,null,null,{"$error":"#N/A"},null,null,null,null,null,null,null,null,null,null,{"$f":"VLOOKUP($G87&R$60,申込確認シート!$E$1:$F$200,2,FALSE)","v":{"$error":"#N/A"}},null,null,null,{"$f":"VLOOKUP($G87&V$60,申込確認シート!$E$1:$F$200,2,FALSE)","v":{"$error":"#N/A"}},null,null,null,{"$f":"VLOOKUP($G87&Z$60,申込確認シート!$E$1:$F$200,2,FALSE)","v":{"$error":"#N/A"}},null,null,null,{"$f":"VLOOKUP($G87&AD$60,申込確認シート!$E$1:$F$200,2,FALSE)","v":{"$error":"#N/A"}},null,null,null,{"$f":"VLOOKUP($G87&AH$60,申込確認シート!$E$1:$F$200,2,FALSE)","v":{"$error":"#N/A"}},null,null,null,{"$f":"VLOOKUP($G87&AL$60,申込確認シート!$E$1:$F$200,2,FALSE)","v":{"$error":"#N/A"}},null,null,null,{"$f":"VLOOKUP($G87&AP$60,申込確認シート!$E$1:$F$200,2,FALSE)","v":{"$error":"#N/A"}},null,null,null,{"$f":"VLOOKUP($G87&AT$60,申込確認シート!$E$1:$F$200,2,FALSE)","v":{"$error":"#N/A"}},null,null,null,{"$f":"VLOOKUP($G87&AX$60,申込確認シート!$E$1:$F$200,2,FALSE)","v":{"$error":"#N/A"}},null,null,null,{"$f":"VLOOKUP($G87&BB$60,申込確認シート!$E$1:$F$200,2,FALSE)","v":{"$error":"#N/A"}},null,null,null,{"$f":"VLOOKUP($G87&BF$60,申込確認シート!$E$1:$F$200,2,FALSE)","v":{"$error":"#N/A"}},null,null,null,{"$f":"VLOOKUP($G87&BJ$60,申込確認シート!$E$1:$F$200,2,FALSE)","v":{"$error":"#N/A"}},null,null,null,{"$f":"VLOOKUP($G87&BN$60,申込確認シート!$E$1:$F$200,2,FALSE)","v":{"$error":"#N/A"}},null,null,null,{"$f":"VLOOKUP($G87&BR$60,申込確認シート!$E$1:$F$200,2,FALSE)","v":{"$error":"#N/A"}},null,null,null,{"$f":"VLOOKUP($G87&BV$60,申込確認シート!$E$1:$F$200,2,FALSE)","v":{"$error":"#N/A"}},null,null,null,{"$f":"COUNTIF(申込確認シート!$C$1:$C$200,G87)","v":0}]
[null,null,null,4,null,null,{"$error":"#N/A"},null,null,null,null,null,null,null,null,null,null,{"$f":"VLOOKUP($G88&R$60,申込確認シート!$E$1:$F$200,2,FALSE)","v":{"$error":"#N/A"}},null,null,null,{"$f":"VLOOKUP($G88&V$60,申込確認シート!$E$1:$F$200,2,FALSE)","v":{"$error":"#N/A"}},null,null,null,{"$f":"VLOOKUP($G88&Z$60,申込確認シート!$E$1:$F$200,2,FALSE)","v":{"$error":"#N/A"}},null,null,null,{"$f":"VLOOKUP($G88&AD$60,申込確認シート!$E$1:$F$200,2,FALSE)","v":{"$error":"#N/A"}},null,null,null,{"$f":"VLOOKUP($G88&AH$60,申込確認シート!$E$1:$F$200,2,FALSE)","v":{"$error":"#N/A"}},null,null,null,{"$f":"VLOOKUP($G88&AL$60,申込確認シート!$E$1:$F$200,2,FALSE)","v":{"$error":"#N/A"}},null,null,null,{"$f":"VLOOKUP($G88&AP$60,申込確認シート!$E$1:$F$200,2,FALSE)","v":{"$error":"#N/A"}},null,null,null,{"$f":"VLOOKUP($G88&AT$60,申込確認シート!$E$1:$F$200,2,FALSE)","v":{"$error":"#N/A"}},null,null,null,{"$f":"VLOOKUP($G88&AX$60,申込確認シート!$E$1:$F$200,2,FALSE)","v":{"$error":"#N/A"}},null,null,null,{"$f":"VLOOKUP($G88&BB$60,申込確認シート!$E$1:$F$200,2,FALSE)","v":{"$error":"#N/A"}},null,null,null,{"$f":"VLOOKUP($G88&BF$60,申込確認シート!$E$1:$F$200,2,FALSE)","v":{"$error":"#N/A"}},null,null,null,{"$f":"VLOOKUP($G88&BJ$60,申込確認シート!$E$1:$F$200,2,FALSE)","v":{"$error":"#N/A"}},null,null,null,{"$f":"VLOOKUP($G88&BN$60,申込確認シート!$E$1:$F$200,2,FALSE)","v":{"$error":"#N/A"}},null,null,null,{"$f":"VLOOKUP($G88&BR$60,申込確認シート!$E$1:$F$200,2,FALSE)","v":{"$error":"#N/A"}},null,null,null,{"$f":"VLOOKUP($G88&BV$60,申込確認シート!$E$1:$F$200,2,FALSE)","v":{"$error":"#N/A"}},null,null,null,{"$f":"COUNTIF(申込確認シート!$C$1:$C$200,G88)","v":0}]
[null,null,null,5,null,null,{"$error":"#N/A"},null,null,null,null,null,null,null,null,null,null,{"$f":"VLOOKUP($G89&R$60,申込確認シート!$E$1:$F$200,2,FALSE)","v":{"$error":"#N/A"}},null,null,null,{"$f":"VLOOKUP($G89&V$60,申込確認シート!$E$1:$F$200,2,FALSE)","v":{"$error":"#N/A"}},null,null,null,{"$f":"VLOOKUP($G89&Z$60,申込確認シート!$E$1:$F$200,2,FALSE)","v":{"$error":"#N/A"}},null,null,null,{"$f":"VLOOKUP($G89&AD$60,申込確認シート!$E$1:$F$200,2,FALSE)","v":{"$error":"#N/A"}},null,null,null,{"$f":"VLOOKUP($G89&AH$60,申込確認シート!$E$1:$F$200,2,FALSE)","v":{"$error":"#N/A"}},null,null,null,{"$f":"VLOOKUP($G89&AL$60,申込確認シート!$E$1:$F$200,2,FALSE)","v":{"$error":"#N/A"}},null,null,null,{"$f":"VLOOKUP($G89&AP$60,申込確認シート!$E$1:$F$200,2,FALSE)","v":{"$error":"#N/A"}},null,null,null,{"$f":"VLOOKUP($G89&AT$60,申込確認シート!$E$1:$F$200,2,FALSE)","v":{"$error":"#N/A"}},null,null,null,{"$f":"VLOOKUP($G89&AX$60,申込確認シート!$E$1:$F$200,2,FALSE)","v":{"$error":"#N/A"}},null,null,null,{"$f":"VLOOKUP($G89&BB$60,申込確認シート!$E$1:$F$200,2,FALSE)","v":{"$error":"#N/A"}},null,null,null,{"$f":"VLOOKUP($G89&BF$60,申込確認シート!$E$1:$F$200,2,FALSE)","v":{"$error":"#N/A"}},null,null,null,{"$f":"VLOOKUP($G89&BJ$60,申込確認シート!$E$1:$F$200,2,FALSE)","v":{"$error":"#N/A"}},null,null,null,{"$f":"VLOOKUP($G89&BN$60,申込確認シート!$E$1:$F$200,2,FALSE)","v":{"$error":"#N/A"}},null,null,null,{"$f":"VLOOKUP($G89&BR$60,申込確認シート!$E$1:$F$200,2,FALSE)","v":{"$error":"#N/A"}},null,null,null,{"$f":"VLOOKUP($G89&BV$60,申込確認シート!$E$1:$F$200,2,FALSE)","v":{"$error":"#N/A"}},null,null,null,{"$f":"COUNTIF(申込確認シート!$C$1:$C$200,G89)","v":0}]
[null,null,null,6,null,null,{"$error":"#N/A"},null,null,null,null,null,null,null,null,null,null,{"$f":"VLOOKUP($G90&R$60,申込確認シート!$E$1:$F$200,2,FALSE)","v":{"$error":"#N/A"}},null,null,null,{"$f":"VLOOKUP($G90&V$60,申込確認シート!$E$1:$F$200,2,FALSE)","v":{"$error":"#N/A"}},null,null,null,{"$f":"VLOOKUP($G90&Z$60,申込確認シート!$E$1:$F$200,2,FALSE)","v":{"$error":"#N/A"}},null,null,null,{"$f":"VLOOKUP($G90&AD$60,申込確認シート!$E$1:$F$200,2,FALSE)","v":{"$error":"#N/A"}},null,null,null,{"$f":"VLOOKUP($G90&AH$60,申込確認シート!$E$1:$F$200,2,FALSE)","v":{"$error":"#N/A"}},null,null,null,{"$f":"VLOOKUP($G90&AL$60,申込確認シート!$E$1:$F$200,2,FALSE)","v":{"$error":"#N/A"}},null,null,null,{"$f":"VLOOKUP($G90&AP$60,申込確認シート!$E$1:$F$200,2,FALSE)","v":{"$error":"#N/A"}},null,null,null,{"$f":"VLOOKUP($G90&AT$60,申込確認シート!$E$1:$F$200,2,FALSE)","v":{"$error":"#N/A"}},null,null,null,{"$f":"VLOOKUP($G90&AX$60,申込確認シート!$E$1:$F$200,2,FALSE)","v":{"$error":"#N/A"}},null,null,null,{"$f":"VLOOKUP($G90&BB$60,申込確認シート!$E$1:$F$200,2,FALSE)","v":{"$error":"#N/A"}},null,null,null,{"$f":"VLOOKUP($G90&BF$60,申込確認シート!$E$1:$F$200,2,FALSE)","v":{"$error":"#N/A"}},null,null,null,{"$f":"VLOOKUP($G90&BJ$60,申込確認シート!$E$1:$F$200,2,FALSE)","v":{"$error":"#N/A"}},null,null,null,{"$f":"VLOOKUP($G90&BN$60,申込確認シート!$E$1:$F$200,2,FALSE)","v":{"$error":"#N/A"}},null,null,null,{"$f":"VLOOKUP($G90&BR$60,申込確認シート!$E$1:$F$200,2,FALSE)","v":{"$error":"#N/A"}},null,null,null,{"$f":"VLOOKUP($G90&BV$60,申込確認シート!$E$1:$F$200,2,FALSE)","v":{"$error":"#N/A"}},null,null,null,{"$f":"COUNTIF(申込確認シート!$C$1:$C$200,G90)","v":0}]
[null,null,null,7,null,null,{"$error":"#N/A"},null,null,null,null,null,null,null,null,null,null,{"$f":"VLOOKUP($G91&R$60,申込確認シート!$E$1:$F$200,2,FALSE)","v":{"$error":"#N/A"}},null,null,null,{"$f":"VLOOKUP($G91&V$60,申込確認シート!$E$1:$F$200,2,FALSE)","v":{"$error":"#N/A"}},null,null,null,{"$f":"VLOOKUP($G91&Z$60,申込確認シート!$E$1:$F$200,2,FALSE)","v":{"$error":"#N/A"}},null,null,null,{"$f":"VLOOKUP($G91&AD$60,申込確認シート!$E$1:$F$200,2,FALSE)","v":{"$error":"#N/A"}},null,null,null,{"$f":"VLOOKUP($G91&AH$60,申込確認シート!$E$1:$F$200,2,FALSE)","v":{"$error":"#N/A"}},null,null,null,{"$f":"VLOOKUP($G91&AL$60,申込確認シート!$E$1:$F$200,2,FALSE)","v":{"$error":"#N/A"}},null,null,null,{"$f":"VLOOKUP($G91&AP$60,申込確認シート!$E$1:$F$200,2,FALSE)","v":{"$error":"#N/A"}},null,null,null,{"$f":"VLOOKUP($G91&AT$60,申込確認シート!$E$1:$F$200,2,FALSE)","v":{"$error":"#N/A"}},null,null,null,{"$f":"VLOOKUP($G91&AX$60,申込確認シート!$E$1:$F$200,2,FALSE)","v":{"$error":"#N/A"}},null,null,null,{"$f":"VLOOKUP($G91&BB$60,申込確認シート!$E$1:$F$200,2,FALSE)","v":{"$error":"#N/A"}},null,null,null,{"$f":"VLOOKUP($G91&BF$60,申込確認シート!$E$1:$F$200,2,FALSE)","v":{"$error":"#N/A"}},null,null,null,{"$f":"VLOOKUP($G91&BJ$60,申込確認シート!$E$1:$F$200,2,FALSE)","v":{"$error":"#N/A"}},null,null,null,{"$f":"VLOOKUP($G91&BN$60,申込確認シート!$E$1:$F$200,2,FALSE)","v":{"$error":"#N/A"}},null,null,null,{"$f":"VLOOKUP($G91&BR$60,申込確認シート!$E$1:$F$200,2,FALSE)","v":{"$error":"#N/A"}},null,null,null,{"$f":"VLOOKUP($G91&BV$60,申込確認シート!$E$1:$F$200,2,FALSE)","v":{"$error":"#N/A"}},null,null,null,{"$f":"COUNTIF(申込確認シート!$C$1:$C$200,G91)","v":0}]
[null,null,null,8,null,null,{"$error":"#N/A"},null,null,null,null,null,null,null,null,null,null,{"$f":"VLOOKUP($G92&R$60,申込確認シート!$E$1:$F$200,2,FALSE)","v":{"$error":"#N/A"}},null,null,null,{"$f":"VLOOKUP($G92&V$60,申込確認シート!$E$1:$F$200,2,FALSE)","v":{"$error":"#N/A"}},null,null,null,{"$f":"VLOOKUP($G92&Z$60,申込確認シート!$E$1:$F$200,2,FALSE)","v":{"$error":"#N/A"}},null,null,null,{"$f":"VLOOKUP($G92&AD$60,申込確認シート!$E$1:$F$200,2,FALSE)","v":{"$error":"#N/A"}},null,null,null,{"$f":"VLOOKUP($G92&AH$60,申込確認シート!$E$1:$F$200,2,FALSE)","v":{"$error":"#N/A"}},null,null,null,{"$f":"VLOOKUP($G92&AL$60,申込確認シート!$E$1:$F$200,2,FALSE)","v":{"$error":"#N/A"}},null,null,null,{"$f":"VLOOKUP($G92&AP$60,申込確認シート!$E$1:$F$200,2,FALSE)","v":{"$error":"#N/A"}},null,null,null,{"$f":"VLOOKUP($G92&AT$60,申込確認シート!$E$1:$F$200,2,FALSE)","v":{"$error":"#N/A"}},null,null,null,{"$f":"VLOOKUP($G92&AX$60,申込確認シート!$E$1:$F$200,2,FALSE)","v":{"$error":"#N/A"}},null,null,null,{"$f":"VLOOKUP($G92&BB$60,申込確認シート!$E$1:$F$200,2,FALSE)","v":{"$error":"#N/A"}},null,null,null,{"$f":"VLOOKUP($G92&BF$60,申込確認シート!$E$1:$F$200,2,FALSE)","v":{"$error":"#N/A"}},null,null,null,{"$f":"VLOOKUP($G92&BJ$60,申込確認シート!$E$1:$F$200,2,FALSE)","v":{"$error":"#N/A"}},null,null,null,{"$f":"VLOOKUP($G92&BN$60,申込確認シート!$E$1:$F$200,2,FALSE)","v":{"$error":"#N/A"}},null,null,null,{"$f":"VLOOKUP($G92&BR$60,申込確認シート!$E$1:$F$200,2,FALSE)","v":{"$error":"#N/A"}},null,null,null,{"$f":"VLOOKUP($G92&BV$60,申込確認シート!$E$1:$F$200,2,FALSE)","v":{"$error":"#N/A"}},null,null,null,{"$f":"COUNTIF(申込確認シート!$C$1:$C$200,G92)","v":0}]
[null,null,null,9,null,null,{"$error":"#N/A"},null,null,null,null,null,null,null,null,null,null,{"$f":"VLOOKUP($G93&R$60,申込確認シート!$E$1:$F$200,2,FALSE)","v":{"$error":"#N/A"}},null,null,null,{"$f":"VLOOKUP($G93&V$60,申込確認シート!$E$1:$F$200,2,FALSE)","v":{"$error":"#N/A"}},null,null,null,{"$f":"VLOOKUP($G93&Z$60,申込確認シート!$E$1:$F$200,2,FALSE)","v":{"$error":"#N/A"}},null,null,null,{"$f":"VLOOKUP($G93&AD$60,申込確認シート!$E$1:$F$200,2,FALSE)","v":{"$error":"#N/A"}},null,null,null,{"$f":"VLOOKUP($G93&AH$60,申込確認シート!$E$1:$F$200,2,FALSE)","v":{"$error":"#N/A"}},null,null,null,{"$f":"VLOOKUP($G93&AL$60,申込確認シート!$E$1:$F$200,2,FALSE)","v":{"$error":"#N/A"}},null,null,null,{"$f":"VLOOKUP($G93&AP$60,申込確認シート!$E$1:$F$200,2,FALSE)","v":{"$error":"#N/A"}},null,null,null,{"$f":"VLOOKUP($G93&AT$60,申込確認シート!$E$1:$F$200,2,FALSE)","v":{"$error":"#N/A"}},null,null,null,{"$f":"VLOOKUP($G93&AX$60,申込確認シート!$E$1:$F$200,2,FALSE)","v":{"$error":"#N/A"}},null,null,null,{"$f":"VLOOKUP($G93&BB$60,申込確認シート!$E$1:$F$200,2,FALSE)","v":{"$error":"#N/A"}},null,null,null,{"$f":"VLOOKUP($G93&BF$60,申込確認シート!$E$1:$F$200,2,FALSE)","v":{"$error":"#N/A"}},null,null,null,{"$f":"VLOOKUP($G93&BJ$60,申込確認シート!$E$1:$F$200,2,FALSE)","v":{"$error":"#N/A"}},null,null,null,{"$f":"VLOOKUP($G93&BN$60,申込確認シート!$E$1:$F$200,2,FALSE)","v":{"$error":"#N/A"}},null,null,null,{"$f":"VLOOKUP($G93&BR$60,申込確認シート!$E$1:$F$200,2,FALSE)","v":{"$error":"#N/A"}},null,null,null,{"$f":"VLOOKUP($G93&BV$60,申込確認シート!$E$1:$F$200,2,FALSE)","v":{"$error":"#N/A"}},null,null,null,{"$f":"COUNTIF(申込確認シート!$C$1:$C$200,G93)","v":0}]
[null,null,null,10,null,null,{"$error":"#N/A"},null,null,null,null,null,null,null,null,null,null,{"$f":"VLOOKUP($G94&R$60,申込確認シート!$E$1:$F$200,2,FALSE)","v":{"$error":"#N/A"}},null,null,null,{"$f":"VLOOKUP($G94&V$60,申込確認シート!$E$1:$F$200,2,FALSE)","v":{"$error":"#N/A"}},null,null,null,{"$f":"VLOOKUP($G94&Z$60,申込確認シート!$E$1:$F$200,2,FALSE)","v":{"$error":"#N/A"}},null,null,null,{"$f":"VLOOKUP($G94&AD$60,申込確認シート!$E$1:$F$200,2,FALSE)","v":{"$error":"#N/A"}},null,null,null,{"$f":"VLOOKUP($G94&AH$60,申込確認シート!$E$1:$F$200,2,FALSE)","v":{"$error":"#N/A"}},null,null,null,{"$f":"VLOOKUP($G94&AL$60,申込確認シート!$E$1:$F$200,2,FALSE)","v":{"$error":"#N/A"}},null,null,null,{"$f":"VLOOKUP($G94&AP$60,申込確認シート!$E$1:$F$200,2,FALSE)","v":{"$error":"#N/A"}},null,null,null,{"$f":"VLOOKUP($G94&AT$60,申込確認シート!$E$1:$F$200,2,FALSE)","v":{"$error":"#N/A"}},null,null,null,{"$f":"VLOOKUP($G94&AX$60,申込確認シート!$E$1:$F$200,2,FALSE)","v":{"$error":"#N/A"}},null,null,null,{"$f":"VLOOKUP($G94&BB$60,申込確認シート!$E$1:$F$200,2,FALSE)","v":{"$error":"#N/A"}},null,null,null,{"$f":"VLOOKUP($G94&BF$60,申込確認シート!$E$1:$F$200,2,FALSE)","v":{"$error":"#N/A"}},null,null,null,{"$f":"VLOOKUP($G94&BJ$60,申込確認シート!$E$1:$F$200,2,FALSE)","v":{"$error":"#N/A"}},null,null,null,{"$f":"VLOOKUP($G94&BN$60,申込確認シート!$E$1:$F$200,2,FALSE)","v":{"$error":"#N/A"}},null,null,null,{"$f":"VLOOKUP($G94&BR$60,申込確認シート!$E$1:$F$200,2,FALSE)","v":{"$error":"#N/A"}},null,null,null,{"$f":"VLOOKUP($G94&BV$60,申込確認シート!$E$1:$F$200,2,FALSE)","v":{"$error":"#N/A"}},null,null,null,{"$f":"COUNTIF(申込確認シート!$C$1:$C$200,G94)","v":0}]
[null,null,null,11,null,null,{"$error":"#N/A"},null,null,null,null,null,null,null,null,null,null,{"$f":"VLOOKUP($G95&R$60,申込確認シート!$E$1:$F$200,2,FALSE)","v":{"$error":"#N/A"}},null,null,null,{"$f":"VLOOKUP($G95&V$60,申込確認シート!$E$1:$F$200,2,FALSE)","v":{"$error":"#N/A"}},null,null,null,{"$f":"VLOOKUP($G95&Z$60,申込確認シート!$E$1:$F$200,2,FALSE)","v":{"$error":"#N/A"}},null,null,null,{"$f":"VLOOKUP($G95&AD$60,申込確認シート!$E$1:$F$200,2,FALSE)","v":{"$error":"#N/A"}},null,null,null,{"$f":"VLOOKUP($G95&AH$60,申込確認シート!$E$1:$F$200,2,FALSE)","v":{"$error":"#N/A"}},null,null,null,{"$f":"VLOOKUP($G95&AL$60,申込確認シート!$E$1:$F$200,2,FALSE)","v":{"$error":"#N/A"}},null,null,null,{"$f":"VLOOKUP($G95&AP$60,申込確認シート!$E$1:$F$200,2,FALSE)","v":{"$error":"#N/A"}},null,null,null,{"$f":"VLOOKUP($G95&AT$60,申込確認シート!$E$1:$F$200,2,FALSE)","v":{"$error":"#N/A"}},null,null,null,{"$f":"VLOOKUP($G95&AX$60,申込確認シート!$E$1:$F$200,2,FALSE)","v":{"$error":"#N/A"}},null,null,null,{"$f":"VLOOKUP($G95&BB$60,申込確認シート!$E$1:$F$200,2,FALSE)","v":{"$error":"#N/A"}},null,null,null,{"$f":"VLOOKUP($G95&BF$60,申込確認シート!$E$1:$F$200,2,FALSE)","v":{"$error":"#N/A"}},null,null,null,{"$f":"VLOOKUP($G95&BJ$60,申込確認シート!$E$1:$F$200,2,FALSE)","v":{"$error":"#N/A"}},null,null,null,{"$f":"VLOOKUP($G95&BN$60,申込確認シート!$E$1:$F$200,2,FALSE)","v":{"$error":"#N/A"}},null,null,null,{"$f":"VLOOKUP($G95&BR$60,申込確認シート!$E$1:$F$200,2,FALSE)","v":{"$error":"#N/A"}},null,null,null,{"$f":"VLOOKUP($G95&BV$60,申込確認シート!$E$1:$F$200,2,FALSE)","v":{"$error":"#N/A"}},null,null,null,{"$f":"COUNTIF(申込確認シート!$C$1:$C$200,G95)","v":0}]
[null,null,null,12,null,null,{"$error":"#N/A"},null,null,null,null,null,null,null,null,null,null,{"$f":"VLOOKUP($G96&R$60,申込確認シート!$E$1:$F$200,2,FALSE)","v":{"$error":"#N/A"}},null,null,null,{"$f":"VLOOKUP($G96&V$60,申込確認シート!$E$1:$F$200,2,FALSE)","v":{"$error":"#N/A"}},null,null,null,{"$f":"VLOOKUP($G96&Z$60,申込確認シート!$E$1:$F$200,2,FALSE)","v":{"$error":"#N/A"}},null,null,null,{"$f":"VLOOKUP($G96&AD$60,申込確認シート!$E$1:$F$200,2,FALSE)","v":{"$error":"#N/A"}},null,null,null,{"$f":"VLOOKUP($G96&AH$60,申込確認シート!$E$1:$F$200,2,FALSE)","v":{"$error":"#N/A"}},null,null,null,{"$f":"VLOOKUP($G96&AL$60,申込確認シート!$E$1:$F$200,2,FALSE)","v":{"$error":"#N/A"}},null,null,null,{"$f":"VLOOKUP($G96&AP$60,申込確認シート!$E$1:$F$200,2,FALSE)","v":{"$error":"#N/A"}},null,null,null,{"$f":"VLOOKUP($G96&AT$60,申込確認シート!$E$1:$F$200,2,FALSE)","v":{"$error":"#N/A"}},null,null,null,{"$f":"VLOOKUP($G96&AX$60,申込確認シート!$E$1:$F$200,2,FALSE)","v":{"$error":"#N/A"}},null,null,null,{"$f":"VLOOKUP($G96&BB$60,申込確認シート!$E$1:$F$200,2,FALSE)","v":{"$error":"#N/A"}},null,null,null,{"$f":"VLOOKUP($G96&BF$60,申込確認シート!$E$1:$F$200,2,FALSE)","v":{"$error":"#N/A"}},null,null,null,{"$f":"VLOOKUP($G96&BJ$60,申込確認シート!$E$1:$F$200,2,FALSE)","v":{"$error":"#N/A"}},null,null,null,{"$f":"VLOOKUP($G96&BN$60,申込確認シート!$E$1:$F$200,2,FALSE)","v":{"$error":"#N/A"}},null,null,null,{"$f":"VLOOKUP($G96&BR$60,申込確認シート!$E$1:$F$200,2,FALSE)","v":{"$error":"#N/A"}},null,null,null,{"$f":"VLOOKUP($G96&BV$60,申込確認シート!$E$1:$F$200,2,FALSE)","v":{"$error":"#N/A"}},null,null,null,{"$f":"COUNTIF(申込確認シート!$C$1:$C$200,G96)","v":0}]
[null,null,null,13,null,null,{"$error":"#N/A"},null,null,null,null,null,null,null,null,null,null,{"$f":"VLOOKUP($G97&R$60,申込確認シート!$E$1:$F$200,2,FALSE)","v":{"$error":"#N/A"}},null,null,null,{"$f":"VLOOKUP($G97&V$60,申込確認シート!$E$1:$F$200,2,FALSE)","v":{"$error":"#N/A"}},null,null,null,{"$f":"VLOOKUP($G97&Z$60,申込確認シート!$E$1:$F$200,2,FALSE)","v":{"$error":"#N/A"}},null,null,null,{"$f":"VLOOKUP($G97&AD$60,申込確認シート!$E$1:$F$200,2,FALSE)","v":{"$error":"#N/A"}},null,null,null,{"$f":"VLOOKUP($G97&AH$60,申込確認シート!$E$1:$F$200,2,FALSE)","v":{"$error":"#N/A"}},null,null,null,{"$f":"VLOOKUP($G97&AL$60,申込確認シート!$E$1:$F$200,2,FALSE)","v":{"$error":"#N/A"}},null,null,null,{"$f":"VLOOKUP($G97&AP$60,申込確認シート!$E$1:$F$200,2,FALSE)","v":{"$error":"#N/A"}},null,null,null,{"$f":"VLOOKUP($G97&AT$60,申込確認シート!$E$1:$F$200,2,FALSE)","v":{"$error":"#N/A"}},null,null,null,{"$f":"VLOOKUP($G97&AX$60,申込確認シート!$E$1:$F$200,2,FALSE)","v":{"$error":"#N/A"}},null,null,null,{"$f":"VLOOKUP($G97&BB$60,申込確認シート!$E$1:$F$200,2,FALSE)","v":{"$error":"#N/A"}},null,null,null,{"$f":"VLOOKUP($G97&BF$60,申込確認シート!$E$1:$F$200,2,FALSE)","v":{"$error":"#N/A"}},null,null,null,{"$f":"VLOOKUP($G97&BJ$60,申込確認シート!$E$1:$F$200,2,FALSE)","v":{"$error":"#N/A"}},null,null,null,{"$f":"VLOOKUP($G97&BN$60,申込確認シート!$E$1:$F$200,2,FALSE)","v":{"$error":"#N/A"}},null,null,null,{"$f":"VLOOKUP($G97&BR$60,申込確認シート!$E$1:$F$200,2,FALSE)","v":{"$error":"#N/A"}},null,null,null,{"$f":"VLOOKUP($G97&BV$60,申込確認シート!$E$1:$F$200,2,FALSE)","v":{"$error":"#N/A"}},null,null,null,{"$f":"COUNTIF(申込確認シート!$C$1:$C$200,G97)","v":0}]
[null,null,null,14,null,null,{"$error":"#N/A"},null,null,null,null,null,null,null,null,null,null,{"$f":"VLOOKUP($G98&R$60,申込確認シート!$E$1:$F$200,2,FALSE)","v":{"$error":"#N/A"}},null,null,null,{"$f":"VLOOKUP($G98&V$60,申込確認シート!$E$1:$F$200,2,FALSE)","v":{"$error":"#N/A"}},null,null,null,{"$f":"VLOOKUP($G98&Z$60,申込確認シート!$E$1:$F$200,2,FALSE)","v":{"$error":"#N/A"}},null,null,null,{"$f":"VLOOKUP($G98&AD$60,申込確認シート!$E$1:$F$200,2,FALSE)","v":{"$error":"#N/A"}},null,null,null,{"$f":"VLOOKUP($G98&AH$60,申込確認シート!$E$1:$F$200,2,FALSE)","v":{"$error":"#N/A"}},null,null,null,{"$f":"VLOOKUP($G98&AL$60,申込確認シート!$E$1:$F$200,2,FALSE)","v":{"$error":"#N/A"}},null,null,null,{"$f":"VLOOKUP($G98&AP$60,申込確認シート!$E$1:$F$200,2,FALSE)","v":{"$error":"#N/A"}},null,null,null,{"$f":"VLOOKUP($G98&AT$60,申込確認シート!$E$1:$F$200,2,FALSE)","v":{"$error":"#N/A"}},null,null,null,{"$f":"VLOOKUP($G98&AX$60,申込確認シート!$E$1:$F$200,2,FALSE)","v":{"$error":"#N/A"}},null,null,null,{"$f":"VLOOKUP($G98&BB$60,申込確認シート!$E$1:$F$200,2,FALSE)","v":{"$error":"#N/A"}},null,null,null,{"$f":"VLOOKUP($G98&BF$60,申込確認シート!$E$1:$F$200,2,FALSE)","v":{"$error":"#N/A"}},null,null,null,{"$f":"VLOOKUP($G98&BJ$60,申込確認シート!$E$1:$F$200,2,FALSE)","v":{"$error":"#N/A"}},null,null,null,{"$f":"VLOOKUP($G98&BN$60,申込確認シート!$E$1:$F$200,2,FALSE)","v":{"$error":"#N/A"}},null,null,null,{"$f":"VLOOKUP($G98&BR$60,申込確認シート!$E$1:$F$200,2,FALSE)","v":{"$error":"#N/A"}},null,null,null,{"$f":"VLOOKUP($G98&BV$60,申込確認シート!$E$1:$F$200,2,FALSE)","v":{"$error":"#N/A"}},null,null,null,{"$f":"COUNTIF(申込確認シート!$C$1:$C$200,G98)","v":0}]
[null,null,null,15,null,null,{"$error":"#N/A"},null,null,null,null,null,null,null,null,null,null,{"$f":"VLOOKUP($G99&R$60,申込確認シート!$E$1:$F$200,2,FALSE)","v":{"$error":"#N/A"}},null,null,null,{"$f":"VLOOKUP($G99&V$60,申込確認シート!$E$1:$F$200,2,FALSE)","v":{"$error":"#N/A"}},null,null,null,{"$f":"VLOOKUP($G99&Z$60,申込確認シート!$E$1:$F$200,2,FALSE)","v":{"$error":"#N/A"}},null,null,null,{"$f":"VLOOKUP($G99&AD$60,申込確認シート!$E$1:$F$200,2,FALSE)","v":{"$error":"#N/A"}},null,null,null,{"$f":"VLOOKUP($G99&AH$60,申込確認シート!$E$1:$F$200,2,FALSE)","v":{"$error":"#N/A"}},null,null,null,{"$f":"VLOOKUP($G99&AL$60,申込確認シート!$E$1:$F$200,2,FALSE)","v":{"$error":"#N/A"}},null,null,null,{"$f":"VLOOKUP($G99&AP$60,申込確認シート!$E$1:$F$200,2,FALSE)","v":{"$error":"#N/A"}},null,null,null,{"$f":"VLOOKUP($G99&AT$60,申込確認シート!$E$1:$F$200,2,FALSE)","v":{"$error":"#N/A"}},null,null,null,{"$f":"VLOOKUP($G99&AX$60,申込確認シート!$E$1:$F$200,2,FALSE)","v":{"$error":"#N/A"}},null,null,null,{"$f":"VLOOKUP($G99&BB$60,申込確認シート!$E$1:$F$200,2,FALSE)","v":{"$error":"#N/A"}},null,null,null,{"$f":"VLOOKUP($G99&BF$60,申込確認シート!$E$1:$F$200,2,FALSE)","v":{"$error":"#N/A"}},null,null,null,{"$f":"VLOOKUP($G99&BJ$60,申込確認シート!$E$1:$F$200,2,FALSE)","v":{"$error":"#N/A"}},null,null,null,{"$f":"VLOOKUP($G99&BN$60,申込確認シート!$E$1:$F$200,2,FALSE)","v":{"$error":"#N/A"}},null,null,null,{"$f":"VLOOKUP($G99&BR$60,申込確認シート!$E$1:$F$200,2,FALSE)","v":{"$error":"#N/A"}},null,null,null,{"$f":"VLOOKUP($G99&BV$60,申込確認シート!$E$1:$F$200,2,FALSE)","v":{"$error":"#N/A"}},null,null,null,{"$f":"COUNTIF(申込確認シート!$C$1:$C$200,G99)","v":0}]
[null,null,null,16,null,null,{"$error":"#N/A"},null,null,null,null,null,null,null,null,null,null,{"$f":"VLOOKUP($G100&R$60,申込確認シート!$E$1:$F$200,2,FALSE)","v":{"$error":"#N/A"}},null,null,null,{"$f":"VLOOKUP($G100&V$60,申込確認シート!$E$1:$F$200,2,FALSE)","v":{"$error":"#N/A"}},null,null,null,{"$f":"VLOOKUP($G100&Z$60,申込確認シート!$E$1:$F$200,2,FALSE)","v":{"$error":"#N/A"}},null,null,null,{"$f":"VLOOKUP($G100&AD$60,申込確認シート!$E$1:$F$200,2,FALSE)","v":{"$error":"#N/A"}},null,null,null,{"$f":"VLOOKUP($G100&AH$60,申込確認シート!$E$1:$F$200,2,FALSE)","v":{"$error":"#N/A"}},null,null,null,{"$f":"VLOOKUP($G100&AL$60,申込確認シート!$E$1:$F$200,2,FALSE)","v":{"$error":"#N/A"}},null,null,null,{"$f":"VLOOKUP($G100&AP$60,申込確認シート!$E$1:$F$200,2,FALSE)","v":{"$error":"#N/A"}},null,null,null,{"$f":"VLOOKUP($G100&AT$60,申込確認シート!$E$1:$F$200,2,FALSE)","v":{"$error":"#N/A"}},null,null,null,{"$f":"VLOOKUP($G100&AX$60,申込確認シート!$E$1:$F$200,2,FALSE)","v":{"$error":"#N/A"}},null,null,null,{"$f":"VLOOKUP($G100&BB$60,申込確認シート!$E$1:$F$200,2,FALSE)","v":{"$error":"#N/A"}},null,null,null,{"$f":"VLOOKUP($G100&BF$60,申込確認シート!$E$1:$F$200,2,FALSE)","v":{"$error":"#N/A"}},null,null,null,{"$f":"VLOOKUP($G100&BJ$60,申込確認シート!$E$1:$F$200,2,FALSE)","v":{"$error":"#N/A"}},null,null,null,{"$f":"VLOOKUP($G100&BN$60,申込確認シート!$E$1:$F$200,2,FALSE)","v":{"$error":"#N/A"}},null,null,null,{"$f":"VLOOKUP($G100&BR$60,申込確認シート!$E$1:$F$200,2,FALSE)","v":{"$error":"#N/A"}},null,null,null,{"$f":"VLOOKUP($G100&BV$60,申込確認シート!$E$1:$F$200,2,FALSE)","v":{"$error":"#N/A"}},null,null,null,{"$f":"COUNTIF(申込確認シート!$C$1:$C$200,G100)","v":0}]
[null,null,null,17,null,null,{"$error":"#N/A"},null,null,null,null,null,null,null,null,null,null,{"$f":"VLOOKUP($G101&R$60,申込確認シート!$E$1:$F$200,2,FALSE)","v":{"$error":"#N/A"}},null,null,null,{"$f":"VLOOKUP($G101&V$60,申込確認シート!$E$1:$F$200,2,FALSE)","v":{"$error":"#N/A"}},null,null,null,{"$f":"VLOOKUP($G101&Z$60,申込確認シート!$E$1:$F$200,2,FALSE)","v":{"$error":"#N/A"}},null,null,null,{"$f":"VLOOKUP($G101&AD$60,申込確認シート!$E$1:$F$200,2,FALSE)","v":{"$error":"#N/A"}},null,null,null,{"$f":"VLOOKUP($G101&AH$60,申込確認シート!$E$1:$F$200,2,FALSE)","v":{"$error":"#N/A"}},null,null,null,{"$f":"VLOOKUP($G101&AL$60,申込確認シート!$E$1:$F$200,2,FALSE)","v":{"$error":"#N/A"}},null,null,null,{"$f":"VLOOKUP($G101&AP$60,申込確認シート!$E$1:$F$200,2,FALSE)","v":{"$error":"#N/A"}},null,null,null,{"$f":"VLOOKUP($G101&AT$60,申込確認シート!$E$1:$F$200,2,FALSE)","v":{"$error":"#N/A"}},null,null,null,{"$f":"VLOOKUP($G101&AX$60,申込確認シート!$E$1:$F$200,2,FALSE)","v":{"$error":"#N/A"}},null,null,null,{"$f":"VLOOKUP($G101&BB$60,申込確認シート!$E$1:$F$200,2,FALSE)","v":{"$error":"#N/A"}},null,null,null,{"$f":"VLOOKUP($G101&BF$60,申込確認シート!$E$1:$F$200,2,FALSE)","v":{"$error":"#N/A"}},null,null,null,{"$f":"VLOOKUP($G101&BJ$60,申込確認シート!$E$1:$F$200,2,FALSE)","v":{"$error":"#N/A"}},null,null,null,{"$f":"VLOOKUP($G101&BN$60,申込確認シート!$E$1:$F$200,2,FALSE)","v":{"$error":"#N/A"}},null,null,null,{"$f":"VLOOKUP($G101&BR$60,申込確認シート!$E$1:$F$200,2,FALSE)","v":{"$error":"#N/A"}},null,null,null,{"$f":"VLOOKUP($G101&BV$60,申込確認シート!$E$1:$F$200,2,FALSE)","v":{"$error":"#N/A"}},null,null,null,{"$f":"COUNTIF(申込確認シート!$C$1:$C$200,G101)","v":0}]
[null,null,null,18,null,null,{"$error":"#N/A"},null,null,null,null,null,null,null,null,null,null,{"$f":"VLOOKUP($G102&R$60,申込確認シート!$E$1:$F$200,2,FALSE)","v":{"$error":"#N/A"}},null,null,null,{"$f":"VLOOKUP($G102&V$60,申込確認シート!$E$1:$F$200,2,FALSE)","v":{"$error":"#N/A"}},null,null,null,{"$f":"VLOOKUP($G102&Z$60,申込確認シート!$E$1:$F$200,2,FALSE)","v":{"$error":"#N/A"}},null,null,null,{"$f":"VLOOKUP($G102&AD$60,申込確認シート!$E$1:$F$200,2,FALSE)","v":{"$error":"#N/A"}},null,null,null,{"$f":"VLOOKUP($G102&AH$60,申込確認シート!$E$1:$F$200,2,FALSE)","v":{"$error":"#N/A"}},null,null,null,{"$f":"VLOOKUP($G102&AL$60,申込確認シート!$E$1:$F$200,2,FALSE)","v":{"$error":"#N/A"}},null,null,null,{"$f":"VLOOKUP($G102&AP$60,申込確認シート!$E$1:$F$200,2,FALSE)","v":{"$error":"#N/A"}},null,null,null,{"$f":"VLOOKUP($G102&AT$60,申込確認シート!$E$1:$F$200,2,FALSE)","v":{"$error":"#N/A"}},null,null,null,{"$f":"VLOOKUP($G102&AX$60,申込確認シート!$E$1:$F$200,2,FALSE)","v":{"$error":"#N/A"}},null,null,null,{"$f":"VLOOKUP($G102&BB$60,申込確認シート!$E$1:$F$200,2,FALSE)","v":{"$error":"#N/A"}},null,null,null,{"$f":"VLOOKUP($G102&BF$60,申込確認シート!$E$1:$F$200,2,FALSE)","v":{"$error":"#N/A"}},null,null,null,{"$f":"VLOOKUP($G102&BJ$60,申込確認シート!$E$1:$F$200,2,FALSE)","v":{"$error":"#N/A"}},null,null,null,{"$f":"VLOOKUP($G102&BN$60,申込確認シート!$E$1:$F$200,2,FALSE)","v":{"$error":"#N/A"}},null,null,null,{"$f":"VLOOKUP($G102&BR$60,申込確認シート!$E$1:$F$200,2,FALSE)","v":{"$error":"#N/A"}},null,null,null,{"$f":"VLOOKUP($G102&BV$60,申込確認シート!$E$1:$F$200,2,FALSE)","v":{"$error":"#N/A"}},null,null,null,{"$f":"COUNTIF(申込確認シート!$C$1:$C$200,G102)","v":0}]
[null,null,null,19,null,null,{"$error":"#N/A"},null,null,null,null,null,null,null,null,null,null,{"$f":"VLOOKUP($G103&R$60,申込確認シート!$E$1:$F$200,2,FALSE)","v":{"$error":"#N/A"}},null,null,null,{"$f":"VLOOKUP($G103&V$60,申込確認シート!$E$1:$F$200,2,FALSE)","v":{"$error":"#N/A"}},null,null,null,{"$f":"VLOOKUP($G103&Z$60,申込確認シート!$E$1:$F$200,2,FALSE)","v":{"$error":"#N/A"}},null,null,null,{"$f":"VLOOKUP($G103&AD$60,申込確認シート!$E$1:$F$200,2,FALSE)","v":{"$error":"#N/A"}},null,null,null,{"$f":"VLOOKUP($G103&AH$60,申込確認シート!$E$1:$F$200,2,FALSE)","v":{"$error":"#N/A"}},null,null,null,{"$f":"VLOOKUP($G103&AL$60,申込確認シート!$E$1:$F$200,2,FALSE)","v":{"$error":"#N/A"}},null,null,null,{"$f":"VLOOKUP($G103&AP$60,申込確認シート!$E$1:$F$200,2,FALSE)","v":{"$error":"#N/A"}},null,null,null,{"$f":"VLOOKUP($G103&AT$60,申込確認シート!$E$1:$F$200,2,FALSE)","v":{"$error":"#N/A"}},null,null,null,{"$f":"VLOOKUP($G103&AX$60,申込確認シート!$E$1:$F$200,2,FALSE)","v":{"$error":"#N/A"}},null,null,null,{"$f":"VLOOKUP($G103&BB$60,申込確認シート!$E$1:$F$200,2,FALSE)","v":{"$error":"#N/A"}},null,null,null,{"$f":"VLOOKUP($G103&BF$60,申込確認シート!$E$1:$F$200,2,FALSE)","v":{"$error":"#N/A"}},null,null,null,{"$f":"VLOOKUP($G103&BJ$60,申込確認シート!$E$1:$F$200,2,FALSE)","v":{"$error":"#N/A"}},null,null,null,{"$f":"VLOOKUP($G103&BN$60,申込確認シート!$E$1:$F$200,2,FALSE)","v":{"$error":"#N/A"}},null,null,null,{"$f":"VLOOKUP($G103&BR$60,申込確認シート!$E$1:$F$200,2,FALSE)","v":{"$error":"#N/A"}},null,null,null,{"$f":"VLOOKUP($G103&BV$60,申込確認シート!$E$1:$F$200,2,FALSE)","v":{"$error":"#N/A"}},null,null,null,{"$f":"COUNTIF(申込確認シート!$C$1:$C$200,G103)","v":0}]
[null,null,null,20,null,null,{"$error":"#N/A"},null,null,null,null,null,null,null,null,null,null,{"$f":"VLOOKUP($G104&R$60,申込確認シート!$E$1:$F$200,2,FALSE)","v":{"$error":"#N/A"}},null,null,null,{"$f":"VLOOKUP($G104&V$60,申込確認シート!$E$1:$F$200,2,FALSE)","v":{"$error":"#N/A"}},null,null,null,{"$f":"VLOOKUP($G104&Z$60,申込確認シート!$E$1:$F$200,2,FALSE)","v":{"$error":"#N/A"}},null,null,null,{"$f":"VLOOKUP($G104&AD$60,申込確認シート!$E$1:$F$200,2,FALSE)","v":{"$error":"#N/A"}},null,null,null,{"$f":"VLOOKUP($G104&AH$60,申込確認シート!$E$1:$F$200,2,FALSE)","v":{"$error":"#N/A"}},null,null,null,{"$f":"VLOOKUP($G104&AL$60,申込確認シート!$E$1:$F$200,2,FALSE)","v":{"$error":"#N/A"}},null,null,null,{"$f":"VLOOKUP($G104&AP$60,申込確認シート!$E$1:$F$200,2,FALSE)","v":{"$error":"#N/A"}},null,null,null,{"$f":"VLOOKUP($G104&AT$60,申込確認シート!$E$1:$F$200,2,FALSE)","v":{"$error":"#N/A"}},null,null,null,{"$f":"VLOOKUP($G104&AX$60,申込確認シート!$E$1:$F$200,2,FALSE)","v":{"$error":"#N/A"}},null,null,null,{"$f":"VLOOKUP($G104&BB$60,申込確認シート!$E$1:$F$200,2,FALSE)","v":{"$error":"#N/A"}},null,null,null,{"$f":"VLOOKUP($G104&BF$60,申込確認シート!$E$1:$F$200,2,FALSE)","v":{"$error":"#N/A"}},null,null,null,{"$f":"VLOOKUP($G104&BJ$60,申込確認シート!$E$1:$F$200,2,FALSE)","v":{"$error":"#N/A"}},null,null,null,{"$f":"VLOOKUP($G104&BN$60,申込確認シート!$E$1:$F$200,2,FALSE)","v":{"$error":"#N/A"}},null,null,null,{"$f":"VLOOKUP($G104&BR$60,申込確認シート!$E$1:$F$200,2,FALSE)","v":{"$error":"#N/A"}},null,null,null,{"$f":"VLOOKUP($G104&BV$60,申込確認シート!$E$1:$F$200,2,FALSE)","v":{"$error":"#N/A"}},null,null,null,{"$f":"COUNTIF(申込確認シート!$C$1:$C$200,G104)","v":0}]
[null,null,null,21,null,null,{"$error":"#N/A"},null,null,null,null,null,null,null,null,null,null,{"$f":"VLOOKUP($G105&R$60,申込確認シート!$E$1:$F$200,2,FALSE)","v":{"$error":"#N/A"}},null,null,null,{"$f":"VLOOKUP($G105&V$60,申込確認シート!$E$1:$F$200,2,FALSE)","v":{"$error":"#N/A"}},null,null,null,{"$f":"VLOOKUP($G105&Z$60,申込確認シート!$E$1:$F$200,2,FALSE)","v":{"$error":"#N/A"}},null,null,null,{"$f":"VLOOKUP($G105&AD$60,申込確認シート!$E$1:$F$200,2,FALSE)","v":{"$error":"#N/A"}},null,null,null,{"$f":"VLOOKUP($G105&AH$60,申込確認シート!$E$1:$F$200,2,FALSE)","v":{"$error":"#N/A"}},null,null,null,{"$f":"VLOOKUP($G105&AL$60,申込確認シート!$E$1:$F$200,2,FALSE)","v":{"$error":"#N/A"}},null,null,null,{"$f":"VLOOKUP($G105&AP$60,申込確認シート!$E$1:$F$200,2,FALSE)","v":{"$error":"#N/A"}},null,null,null,{"$f":"VLOOKUP($G105&AT$60,申込確認シート!$E$1:$F$200,2,FALSE)","v":{"$error":"#N/A"}},null,null,null,{"$f":"VLOOKUP($G105&AX$60,申込確認シート!$E$1:$F$200,2,FALSE)","v":{"$error":"#N/A"}},null,null,null,{"$f":"VLOOKUP($G105&BB$60,申込確認シート!$E$1:$F$200,2,FALSE)","v":{"$error":"#N/A"}},null,null,null,{"$f":"VLOOKUP($G105&BF$60,申込確認シート!$E$1:$F$200,2,FALSE)","v":{"$error":"#N/A"}},null,null,null,{"$f":"VLOOKUP($G105&BJ$60,申込確認シート!$E$1:$F$200,2,FALSE)","v":{"$error":"#N/A"}},null,null,null,{"$f":"VLOOKUP($G105&BN$60,申込確認シート!$E$1:$F$200,2,FALSE)","v":{"$error":"#N/A"}},null,null,null,{"$f":"VLOOKUP($G105&BR$60,申込確認シート!$E$1:$F$200,2,FALSE)","v":{"$error":"#N/A"}},null,null,null,{"$f":"VLOOKUP($G105&BV$60,申込確認シート!$E$1:$F$200,2,FALSE)","v":{"$error":"#N/A"}},null,null,null,{"$f":"COUNTIF(申込確認シート!$C$1:$C$200,G105)","v":0}]
[null,null,null,22,null,null,{"$error":"#N/A"},null,null,null,null,null,null,null,null,null,null,{"$f":"VLOOKUP($G106&R$60,申込確認シート!$E$1:$F$200,2,FALSE)","v":{"$error":"#N/A"}},null,null,null,{"$f":"VLOOKUP($G106&V$60,申込確認シート!$E$1:$F$200,2,FALSE)","v":{"$error":"#N/A"}},null,null,null,{"$f":"VLOOKUP($G106&Z$60,申込確認シート!$E$1:$F$200,2,FALSE)","v":{"$error":"#N/A"}},null,null,null,{"$f":"VLOOKUP($G106&AD$60,申込確認シート!$E$1:$F$200,2,FALSE)","v":{"$error":"#N/A"}},null,null,null,{"$f":"VLOOKUP($G106&AH$60,申込確認シート!$E$1:$F$200,2,FALSE)","v":{"$error":"#N/A"}},null,null,null,{"$f":"VLOOKUP($G106&AL$60,申込確認シート!$E$1:$F$200,2,FALSE)","v":{"$error":"#N/A"}},null,null,null,{"$f":"VLOOKUP($G106&AP$60,申込確認シート!$E$1:$F$200,2,FALSE)","v":{"$error":"#N/A"}},null,null,null,{"$f":"VLOOKUP($G106&AT$60,申込確認シート!$E$1:$F$200,2,FALSE)","v":{"$error":"#N/A"}},null,null,null,{"$f":"VLOOKUP($G106&AX$60,申込確認シート!$E$1:$F$200,2,FALSE)","v":{"$error":"#N/A"}},null,null,null,{"$f":"VLOOKUP($G106&BB$60,申込確認シート!$E$1:$F$200,2,FALSE)","v":{"$error":"#N/A"}},null,null,null,{"$f":"VLOOKUP($G106&BF$60,申込確認シート!$E$1:$F$200,2,FALSE)","v":{"$error":"#N/A"}},null,null,null,{"$f":"VLOOKUP($G106&BJ$60,申込確認シート!$E$1:$F$200,2,FALSE)","v":{"$error":"#N/A"}},null,null,null,{"$f":"VLOOKUP($G106&BN$60,申込確認シート!$E$1:$F$200,2,FALSE)","v":{"$error":"#N/A"}},null,null,null,{"$f":"VLOOKUP($G106&BR$60,申込確認シート!$E$1:$F$200,2,FALSE)","v":{"$error":"#N/A"}},null,null,null,{"$f":"VLOOKUP($G106&BV$60,申込確認シート!$E$1:$F$200,2,FALSE)","v":{"$error":"#N/A"}},null,null,null,{"$f":"COUNTIF(申込確認シート!$C$1:$C$200,G106)","v":0}]
[null,null,null,23,null,null,{"$error":"#N/A"},null,null,null,null,null,null,null,null,null,null,{"$f":"VLOOKUP($G107&R$60,申込確認シート!$E$1:$F$200,2,FALSE)","v":{"$error":"#N/A"}},null,null,null,{"$f":"VLOOKUP($G107&V$60,申込確認シート!$E$1:$F$200,2,FALSE)","v":{"$error":"#N/A"}},null,null,null,{"$f":"VLOOKUP($G107&Z$60,申込確認シート!$E$1:$F$200,2,FALSE)","v":{"$error":"#N/A"}},null,null,null,{"$f":"VLOOKUP($G107&AD$60,申込確認シート!$E$1:$F$200,2,FALSE)","v":{"$error":"#N/A"}},null,null,null,{"$f":"VLOOKUP($G107&AH$60,申込確認シート!$E$1:$F$200,2,FALSE)","v":{"$error":"#N/A"}},null,null,null,{"$f":"VLOOKUP($G107&AL$60,申込確認シート!$E$1:$F$200,2,FALSE)","v":{"$error":"#N/A"}},null,null,null,{"$f":"VLOOKUP($G107&AP$60,申込確認シート!$E$1:$F$200,2,FALSE)","v":{"$error":"#N/A"}},null,null,null,{"$f":"VLOOKUP($G107&AT$60,申込確認シート!$E$1:$F$200,2,FALSE)","v":{"$error":"#N/A"}},null,null,null,{"$f":"VLOOKUP($G107&AX$60,申込確認シート!$E$1:$F$200,2,FALSE)","v":{"$error":"#N/A"}},null,null,null,{"$f":"VLOOKUP($G107&BB$60,申込確認シート!$E$1:$F$200,2,FALSE)","v":{"$error":"#N/A"}},null,null,null,{"$f":"VLOOKUP($G107&BF$60,申込確認シート!$E$1:$F$200,2,FALSE)","v":{"$error":"#N/A"}},null,null,null,{"$f":"VLOOKUP($G107&BJ$60,申込確認シート!$E$1:$F$200,2,FALSE)","v":{"$error":"#N/A"}},null,null,null,{"$f":"VLOOKUP($G107&BN$60,申込確認シート!$E$1:$F$200,2,FALSE)","v":{"$error":"#N/A"}},null,null,null,{"$f":"VLOOKUP($G107&BR$60,申込確認シート!$E$1:$F$200,2,FALSE)","v":{"$error":"#N/A"}},null,null,null,{"$f":"VLOOKUP($G107&BV$60,申込確認シート!$E$1:$F$200,2,FALSE)","v":{"$error":"#N/A"}},null,null,null,{"$f":"COUNTIF(申込確認シート!$C$1:$C$200,G107)","v":0}]
[null,null,null,24,null,null,{"$error":"#N/A"},null,null,null,null,null,null,null,null,null,null,{"$f":"VLOOKUP($G108&R$60,申込確認シート!$E$1:$F$200,2,FALSE)","v":{"$error":"#N/A"}},null,null,null,{"$f":"VLOOKUP($G108&V$60,申込確認シート!$E$1:$F$200,2,FALSE)","v":{"$error":"#N/A"}},null,null,null,{"$f":"VLOOKUP($G108&Z$60,申込確認シート!$E$1:$F$200,2,FALSE)","v":{"$error":"#N/A"}},null,null,null,{"$f":"VLOOKUP($G108&AD$60,申込確認シート!$E$1:$F$200,2,FALSE)","v":{"$error":"#N/A"}},null,null,null,{"$f":"VLOOKUP($G108&AH$60,申込確認シート!$E$1:$F$200,2,FALSE)","v":{"$error":"#N/A"}},null,null,null,{"$f":"VLOOKUP($G108&AL$60,申込確認シート!$E$1:$F$200,2,FALSE)","v":{"$error":"#N/A"}},null,null,null,{"$f":"VLOOKUP($G108&AP$60,申込確認シート!$E$1:$F$200,2,FALSE)","v":{"$error":"#N/A"}},null,null,null,{"$f":"VLOOKUP($G108&AT$60,申込確認シート!$E$1:$F$200,2,FALSE)","v":{"$error":"#N/A"}},null,null,null,{"$f":"VLOOKUP($G108&AX$60,申込確認シート!$E$1:$F$200,2,FALSE)","v":{"$error":"#N/A"}},null,null,null,{"$f":"VLOOKUP($G108&BB$60,申込確認シート!$E$1:$F$200,2,FALSE)","v":{"$error":"#N/A"}},null,null,null,{"$f":"VLOOKUP($G108&BF$60,申込確認シート!$E$1:$F$200,2,FALSE)","v":{"$error":"#N/A"}},null,null,null,{"$f":"VLOOKUP($G108&BJ$60,申込確認シート!$E$1:$F$200,2,FALSE)","v":{"$error":"#N/A"}},null,null,null,{"$f":"VLOOKUP($G108&BN$60,申込確認シート!$E$1:$F$200,2,FALSE)","v":{"$error":"#N/A"}},null,null,null,{"$f":"VLOOKUP($G108&BR$60,申込確認シート!$E$1:$F$200,2,FALSE)","v":{"$error":"#N/A"}},null,null,null,{"$f":"VLOOKUP($G108&BV$60,申込確認シート!$E$1:$F$200,2,FALSE)","v":{"$error":"#N/A"}},null,null,null,{"$f":"COUNTIF(申込確認シート!$C$1:$C$200,G108)","v":0}]
[]
[null,null,null,null,null,null,null,null,null,1,null,null,null,null,null,null,null,null,null,null,"◆400mR",null,null,null,null,1,null,null,null,2,null,null,null,3,null,null,null,4,null,null,null,5,null,null,null,6,null,null,null,null,null,null,"◆1600mR",null,null,null,null,1,null,null,null,2,null,null,null,3,null,null,null,4,null,null,null,5,null,null,null,6]
["不明な点は・・・\nオホーツク陸協　記録委員長\n豊原　隆之まで連絡お願いします。\n勤務先：美幌北中学校\n携　帯：090-2074-5692",null,null,null,null,null,null,null,null,null,null,null,null,null,null,null,null,null,null,null,"男子A",null,null,null,null,{"$f":"VLOOKUP($U111&Z$110,申込確認シート!$E$121:$F$160,2,FALSE)","v":{"$error":"#N/A"}},null,null,null,{"$f":"VLOOKUP($U111&AD$110,申込確認シート!$E$121:$F$160,2,FALSE)","v":{"$error":"#N/A"}},null,null,null,{"$f":"VLOOKUP($U111&AH$110,申込確認シート!$E$121:$F$160,2,FALSE)","v":{"$error":"#N/A"}},null,null,null,{"$f":"VLOOKUP($U111&AL$110,申込確認シート!$E$121:$F$160,2,FALSE)","v":{"$error":"#N/A"}},null,null,null,{"$f":"VLOOKUP($U111&AP$110,申込確認シート!$E$121:$F$160,2,FALSE)","v":{"$error":"#N/A"}},null,null,null,{"$f":"VLOOKUP($U111&AT$110,申込確認シート!$E$121:$F$160,2,FALSE)","v":{"$error":"#N/A"}},null,null,null,null,null,null,"男子A",null,null,null,null,{"$f":"VLOOKUP($BA111&BF$110,申込確認シート!$E$161:$F$200,2,FALSE)","v":{"$error":"#N/A"}},null,null,null,{"$f":"VLOOKUP($BA111&BJ$110,申込確認シート!$E$161:$F$200,2,FALSE)","v":{"$error":"#N/A"}},null,null,null,{"$f":"VLOOKUP($BA111&BN$110,申込確認シート!$E$161:$F$200,2,FALSE)","v":{"$error":"#N/A"}},null,null,null,{"$f":"VLOOKUP($BA111&BR$110,申込確認シート!$E$161:$F$200,2,FALSE)","v":{"$error":"#N/A"}},null,null,null,{"$f":"VLOOKUP($BA111&BV$110,申込確認シート!$E$161:$F$200,2,FALSE)","v":{"$error":"#N/A"}},null,null,null,{"$f":"VLOOKUP($BA111&BZ$110,申込確認シート!$E$161:$F$200,2,FALSE)","v":{"$error":"#N/A"}}]
[null,null,null,null,null,null,null,null,null,null,null,null,null,null,null,null,null,null,null,null,"男子B",null,null,null,null,{"$f":"VLOOKUP($U112&Z$110,申込確認シート!$E$121:$F$160,2,FALSE)","v":{"$error":"#N/A"}},null,null,null,{"$f":"VLOOKUP($U112&AD$110,申込確認シート!$E$121:$F$160,2,FALSE)","v":{"$error":"#N/A"}},null,null,null,{"$f":"VLOOKUP($U112&AH$110,申込確認シート!$E$121:$F$160,2,FALSE)","v":{"$error":"#N/A"}},null,null,null,{"$f":"VLOOKUP($U112&AL$110,申込確認シート!$E$121:$F$160,2,FALSE)","v":{"$error":"#N/A"}},null,null,null,{"$f":"VLOOKUP($U112&AP$110,申込確認シート!$E$121:$F$160,2,FALSE)","v":{"$error":"#N/A"}},null,null,null,{"$f":"VLOOKUP($U112&AT$110,申込確認シート!$E$121:$F$160,2,FALSE)","v":{"$error":"#N/A"}},null,null,null,null,null,null,"男子B",null,null,null,null,{"$f":"VLOOKUP($BA112&BF$110,申込確認シート!$E$161:$F$200,2,FALSE)","v":{"$error":"#N/A"}},null,null,null,{"$f":"VLOOKUP($BA112&BJ$110,申込確認シート!$E$161:$F$200,2,FALSE)","v":{"$error":"#N/A"}},null,null,null,{"$f":"VLOOKUP($BA112&BN$110,申込確認シート!$E$161:$F$200,2,FALSE)","v":{"$error":"#N/A"}},null,null,null,{"$f":"VLOOKUP($BA112&BR$110,申込確認シート!$E$161:$F$200,2,FALSE)","v":{"$error":"#N/A"}},null,null,null,{"$f":"VLOOKUP($BA112&BV$110,申込確認シート!$E$161:$F$200,2,FALSE)","v":{"$error":"#N/A"}},null,null,null,{"$f":"VLOOKUP($BA112&BZ$110,申込確認シート!$E$161:$F$200,2,FALSE)","v":{"$error":"#N/A"}}]
[null,null,null,null,null,null,null,null,null,null,null,null,null,null,null,null,null,null,null,null,"男子C",null,null,null,null,{"$f":"VLOOKUP($U113&Z$110,申込確認シート!$E$121:$F$160,2,FALSE)","v":{"$error":"#N/A"}},null,null,null,{"$f":"VLOOKUP($U113&AD$110,申込確認シート!$E$121:$F$160,2,FALSE)","v":{"$error":"#N/A"}},null,null,null,{"$f":"VLOOKUP($U113&AH$110,申込確認シート!$E$121:$F$160,2,FALSE)","v":{"$error":"#N/A"}},null,null,null,{"$f":"VLOOKUP($U113&AL$110,申込確認シート!$E$121:$F$160,2,FALSE)","v":{"$error":"#N/A"}},null,null,null,{"$f":"VLOOKUP($U113&AP$110,申込確認シート!$E$121:$F$160,2,FALSE)","v":{"$error":"#N/A"}},null,null,null,{"$f":"VLOOKUP($U113&AT$110,申込確認シート!$E$121:$F$160,2,FALSE)","v":{"$error":"#N/A"}},null,null,null,null,null,null,"男子C",null,null,null,null,{"$f":"VLOOKUP($BA113&BF$110,申込確認シート!$E$161:$F$200,2,FALSE)","v":{"$error":"#N/A"}},null,null,null,{"$f":"VLOOKUP($BA113&BJ$110,申込確認シート!$E$161:$F$200,2,FALSE)","v":{"$error":"#N/A"}},null,null,null,{"$f":"VLOOKUP($BA113&BN$110,申込確認シート!$E$161:$F$200,2,FALSE)","v":{"$error":"#N/A"}},null,null,null,{"$f":"VLOOKUP($BA113&BR$110,申込確認シート!$E$161:$F$200,2,FALSE)","v":{"$error":"#N/A"}},null,null,null,{"$f":"VLOOKUP($BA113&BV$110,申込確認シート!$E$161:$F$200,2,FALSE)","v":{"$error":"#N/A"}},null,null,null,{"$f":"VLOOKUP($BA113&BZ$110,申込確認シート!$E$161:$F$200,2,FALSE)","v":{"$error":"#N/A"}}]
[null,null,null,null,null,null,null,null,null,null,null,null,null,null,null,null,null,null,null,null,"男子D",null,null,null,null,{"$f":"VLOOKUP($U114&Z$110,申込確認シート!$E$121:$F$160,2,FALSE)","v":{"$error":"#N/A"}},null,null,null,{"$f":"VLOOKUP($U114&AD$110,申込確認シート!$E$121:$F$160,2,FALSE)","v":{"$error":"#N/A"}},null,null,null,{"$f":"VLOOKUP($U114&AH$110,申込確認シート!$E$121:$F$160,2,FALSE)","v":{"$error":"#N/A"}},null,null,null,{"$f":"VLOOKUP($U114&AL$110,申込確認シート!$E$121:$F$160,2,FALSE)","v":{"$error":"#N/A"}},null,null,null,{"$f":"VLOOKUP($U114&AP$110,申込確認シート!$E$121:$F$160,2,FALSE)","v":{"$error":"#N/A"}},null,null,null,{"$f":"VLOOKUP($U114&AT$110,申込確認シート!$E$121:$F$160,2,FALSE)","v":{"$error":"#N/A"}},null,null,null,null,null,null,"女子A",null,null,null,null,{"$f":"VLOOKUP($BA114&BF$110,申込確認シート!$E$161:$F$200,2,FALSE)","v":{"$error":"#N/A"}},null,null,null,{"$f":"VLOOKUP($BA114&BJ$110,申込確認シート!$E$161:$F$200,2,FALSE)","v":{"$error":"#N/A"}},null,null,null,{"$f":"VLOOKUP($BA114&BN$110,申込確認シート!$E$161:$F$200,2,FALSE)","v":{"$error":"#N/A"}},null,null,null,{"$f":"VLOOKUP($BA114&BR$110,申込確認シート!$E$161:$F$200,2,FALSE)","v":{"$error":"#N/A"}},null,null,null,{"$f":"VLOOKUP($BA114&BV$110,申込確認シート!$E$161:$F$200,2,FALSE)","v":{"$error":"#N/A"}},null,null,null,{"$f":"VLOOKUP($BA114&BZ$110,申込確認シート!$E$161:$F$200,2,FALSE)","v":{"$error":"#N/A"}}]
[null,null,null,null,null,null,null,null,null,null,null,null,null,null,null,null,null,null,null,null,"男子E",null,null,null,null,{"$f":"VLOOKUP($U115&Z$110,申込確認シート!$E$121:$F$160,2,FALSE)","v":{"$error":"#N/A"}},null,null,null,{"$f":"VLOOKUP($U115&AD$110,申込確認シート!$E$121:$F$160,2,FALSE)","v":{"$error":"#N/A"}},null,null,null,{"$f":"VLOOKUP($U115&AH$110,申込確認シート!$E$121:$F$160,2,FALSE)","v":{"$error":"#N/A"}},null,null,null,{"$f":"VLOOKUP($U115&AL$110,申込確認シート!$E$121:$F$160,2,FALSE)","v":{"$error":"#N/A"}},null,null,null,{"$f":"VLOOKUP($U115&AP$110,申込確認シート!$E$121:$F$160,2,FALSE)","v":{"$error":"#N/A"}},null,null,null,{"$f":"VLOOKUP($U115&AT$110,申込確認シート!$E$121:$F$160,2,FALSE)","v":{"$error":"#N/A"}},null,null,null,null,null,null,"女子B",null,null,null,null,{"$f":"VLOOKUP($BA115&BF$110,申込確認シート!$E$161:$F$200,2,FALSE)","v":{"$error":"#N/A"}},null,null,null,{"$f":"VLOOKUP($BA115&BJ$110,申込確認シート!$E$161:$F$200,2,FALSE)","v":{"$error":"#N/A"}},null,null,null,{"$f":"VLOOKUP($BA115&BN$110,申込確認シート!$E$161:$F$200,2,FALSE)","v":{"$error":"#N/A"}},null,null,null,{"$f":"VLOOKUP($BA115&BR$110,申込確認シート!$E$161:$F$200,2,FALSE)","v":{"$error":"#N/A"}},null,null,null,{"$f":"VLOOKUP($BA115&BV$110,申込確認シート!$E$161:$F$200,2,FALSE)","v":{"$error":"#N/A"}},null,null,null,{"$f":"VLOOKUP($BA115&BZ$110,申込確認シート!$E$161:$F$200,2,FALSE)","v":{"$error":"#N/A"}}]
[null,null,null,null,null,null,null,null,null,null,null,null,null,null,null,null,null,null,null,null,"男子F",null,null,null,null,{"$f":"VLOOKUP($U116&Z$110,申込確認シート!$E$121:$F$160,2,FALSE)","v":{"$error":"#N/A"}},null,null,null,{"$f":"VLOOKUP($U116&AD$110,申込確認シート!$E$121:$F$160,2,FALSE)","v":{"$error":"#N/A"}},null,null,null,{"$f":"VLOOKUP($U116&AH$110,申込確認シート!$E$121:$F$160,2,FALSE)","v":{"$error":"#N/A"}},null,null,null,{"$f":"VLOOKUP($U116&AL$110,申込確認シート!$E$121:$F$160,2,FALSE)","v":{"$error":"#N/A"}},null,null,null,{"$f":"VLOOKUP($U116&AP$110,申込確認シート!$E$121:$F$160,2,FALSE)","v":{"$error":"#N/A"}},null,null,null,{"$f":"VLOOKUP($U116&AT$110,申込確認シート!$E$121:$F$160,2,FALSE)","v":{"$error":"#N/A"}},null,null,null,null,null,null,"女子C",null,null,null,null,{"$f":"VLOOKUP($BA116&BF$110,申込確認シート!$E$161:$F$200,2,FALSE)","v":{"$error":"#N/A"}},null,null,null,{"$f":"VLOOKUP($BA116&BJ$110,申込確認シート!$E$161:$F$200,2,FALSE)","v":{"$error":"#N/A"}},null,null,null,{"$f":"VLOOKUP($BA116&BN$110,申込確認シート!$E$161:$F$200,2,FALSE)","v":{"$error":"#N/A"}},null,null,null,{"$f":"VLOOKUP($BA116&BR$110,申込確認シート!$E$161:$F$200,2,FALSE)","v":{"$error":"#N/A"}},null,null,null,{"$f":"VLOOKUP($BA116&BV$110,申込確認シート!$E$161:$F$200,2,FALSE)","v":{"$error":"#N/A"}},null,null,null,{"$f":"VLOOKUP($BA116&BZ$110,申込確認シート!$E$161:$F$200,2,FALSE)","v":{"$error":"#N/A"}}]
[null,null,null,null,null,null,null,null,null,null,null,null,null,null,null,null,null,null,null,null,"女子A",null,null,null,null,{"$f":"VLOOKUP($U117&Z$110,申込確認シート!$E$121:$F$160,2,FALSE)","v":{"$error":"#N/A"}},null,null,null,{"$f":"VLOOKUP($U117&AD$110,申込確認シート!$E$121:$F$160,2,FALSE)","v":{"$error":"#N/A"}},null,null,null,{"$f":"VLOOKUP($U117&AH$110,申込確認シート!$E$121:$F$160,2,FALSE)","v":{"$error":"#N/A"}},null,null,null,{"$f":"VLOOKUP($U117&AL$110,申込確認シート!$E$121:$F$160,2,FALSE)","v":{"$error":"#N/A"}},null,null,null,{"$f":"VLOOKUP($U117&AP$110,申込確認シート!$E$121:$F$160,2,FALSE)","v":{"$error":"#N/A"}},null,null,null,{"$f":"VLOOKUP($U117&AT$110,申込確認シート!$E$121:$F$160,2,FALSE)","v":{"$error":"#N/A"}}]
[null,null,null,null,null,null,null,null,null,null,null,null,null,null,null,null,null,null,null,null,"女子B",null,null,null,null,{"$f":"VLOOKUP($U118&Z$110,申込確認シート!$E$121:$F$160,2,FALSE)","v":{"$error":"#N/A"}},null,null,null,{"$f":"VLOOKUP($U118&AD$110,申込確認シート!$E$121:$F$160,2,FALSE)","v":{"$error":"#N/A"}},null,null,null,{"$f":"VLOOKUP($U118&AH$110,申込確認シート!$E$121:$F$160,2,FALSE)","v":{"$error":"#N/A"}},null,null,null,{"$f":"VLOOKUP($U118&AL$110,申込確認シート!$E$121:$F$160,2,FALSE)","v":{"$error":"#N/A"}},null,null,null,{"$f":"VLOOKUP($U118&AP$110,申込確認シート!$E$121:$F$160,2,FALSE)","v":{"$error":"#N/A"}},null,null,null,{"$f":"VLOOKUP($U118&AT$110,申込確認シート!$E$121:$F$160,2,FALSE)","v":{"$error":"#N/A"}},null,null,null,null,null,null,6]
[null,null,null,null,null,null,null,null,null,null,null,null,null,null,null,null,null,null,null,null,"女子C",null,null,null,null,{"$f":"VLOOKUP($U119&Z$110,申込確認シート!$E$121:$F$160,2,FALSE)","v":{"$error":"#N/A"}},null,null,null,{"$f":"VLOOKUP($U119&AD$110,申込確認シート!$E$121:$F$160,2,FALSE)","v":{"$error":"#N/A"}},null,null,null,{"$f":"VLOOKUP($U119&AH$110,申込確認シート!$E$121:$F$160,2,FALSE)","v":{"$error":"#N/A"}},null,null,null,{"$f":"VLOOKUP($U119&AL$110,申込確認シート!$E$121:$F$160,2,FALSE)","v":{"$error":"#N/A"}},null,null,null,{"$f":"VLOOKUP($U119&AP$110,申込確認シート!$E$121:$F$160,2,FALSE)","v":{"$error":"#N/A"}},null,null,null,{"$f":"VLOOKUP($U119&AT$110,申込確認シート!$E$121:$F$160,2,FALSE)","v":{"$error":"#N/A"}}]
[null,null,null,null,null,null,null,null,null,null,null,null,null,null,null,null,null,null,null,null,"女子D",null,null,null,null,{"$f":"VLOOKUP($U120&Z$110,申込確認シート!$E$121:$F$160,2,FALSE)","v":{"$error":"#N/A"}},null,null,null,{"$f":"VLOOKUP($U120&AD$110,申込確認シート!$E$121:$F$160,2,FALSE)","v":{"$error":"#N/A"}},null,null,null,{"$f":"VLOOKUP($U120&AH$110,申込確認シート!$E$121:$F$160,2,FALSE)","v":{"$error":"#N/A"}},null,null,null,{"$f":"VLOOKUP($U120&AL$110,申込確認シート!$E$121:$F$160,2,FALSE)","v":{"$error":"#N/A"}},null,null,null,{"$f":"VLOOKUP($U120&AP$110,申込確認シート!$E$121:$F$160,2,FALSE)","v":{"$error":"#N/A"}},null,null,null,{"$f":"VLOOKUP($U120&AT$110,申込確認シート!$E$121:$F$160,2,FALSE)","v":{"$error":"#N/A"}}]
[null,null,null,null,null,null,null,null,null,null,null,null,null,null,null,null,null,null,null,null,"女子E",null,null,null,null,{"$f":"VLOOKUP($U121&Z$110,申込確認シート!$E$121:$F$160,2,FALSE)","v":{"$error":"#N/A"}},null,null,null,{"$f":"VLOOKUP($U121&AD$110,申込確認シート!$E$121:$F$160,2,FALSE)","v":{"$error":"#N/A"}},null,null,null,{"$f":"VLOOKUP($U121&AH$110,申込確認シート!$E$121:$F$160,2,FALSE)","v":{"$error":"#N/A"}},null,null,null,{"$f":"VLOOKUP($U121&AL$110,申込確認シート!$E$121:$F$160,2,FALSE)","v":{"$error":"#N/A"}},null,null,null,{"$f":"VLOOKUP($U121&AP$110,申込確認シート!$E$121:$F$160,2,FALSE)","v":{"$error":"#N/A"}},null,null,null,{"$f":"VLOOKUP($U121&AT$110,申込確認シート!$E$121:$F$160,2,FALSE)","v":{"$error":"#N/A"}}]
[null,null,null,null,null,null,null,null,null,null,null,null,null,null,null,null,null,null,null,null,"女子F",null,null,null,null,{"$f":"VLOOKUP($U122&Z$110,申込確認シート!$E$121:$F$160,2,FALSE)","v":{"$error":"#N/A"}},null,null,null,{"$f":"VLOOKUP($U122&AD$110,申込確認シート!$E$121:$F$160,2,FALSE)","v":{"$error":"#N/A"}},null,null,null,{"$f":"VLOOKUP($U122&AH$110,申込確認シート!$E$121:$F$160,2,FALSE)","v":{"$error":"#N/A"}},null,null,null,{"$f":"VLOOKUP($U122&AL$110,申込確認シート!$E$121:$F$160,2,FALSE)","v":{"$error":"#N/A"}},null,null,null,{"$f":"VLOOKUP($U122&AP$110,申込確認シート!$E$121:$F$160,2,FALSE)","v":{"$error":"#N/A"}},null,null,null,{"$f":"VLOOKUP($U122&AT$110,申込確認シート!$E$121:$F$160,2,FALSE)","v":{"$error":"#N/A"}}]

{"sheet":"申込確認シート","index":2,"n_rows":200,"n_cols":7,"rows_kept":200,"cut":false,"hidden":true,"merged":[]}
["1種目",1,{"$f":"IF(入力表・参加種目確認!AH14=\"\",\"@\",入力表・参加種目確認!$E$4&入力表・参加種目確認!H14&\"子\"&入力表・参加種目確認!AH14)","v":"@"},{"$f":"COUNTIF($C$1:C1,C1)","v":1},{"$f":"C1&D1","v":"@1"},{"$f":"SUBSTITUTE(入力表・参加種目確認!N14,\"　\",\"\")","v":""},{"$f":"SUBSTITUTE(IF(#REF!=\"\",\"\",#REF!),\"　\",\"\")","v":{"$error":"#REF!"}}]
["1種目",2,{"$f":"IF(入力表・参加種目確認!AH15=\"\",\"@\",入力表・参加種目確認!$E$4&入力表・参加種目確認!H15&\"子\"&入力表・参加種目確認!AH15)","v":"@"},{"$f":"COUNTIF($C$1:C2,C2)","v":2},{"$f":"C2&D2","v":"@2"},{"$f":"SUBSTITUTE(入力表・参加種目確認!N15,\"　\",\"\")","v":""},{"$f":"SUBSTITUTE(IF(#REF!=\"\",\"\",#REF!),\"　\",\"\")","v":{"$error":"#REF!"}}]
["1種目",3,{"$f":"IF(入力表・参加種目確認!AH16=\"\",\"@\",入力表・参加種目確認!$E$4&入力表・参加種目確認!H16&\"子\"&入力表・参加種目確認!AH16)","v":"@"},{"$f":"COUNTIF($C$1:C3,C3)","v":3},"@3",{"$f":"SUBSTITUTE(入力表・参加種目確認!N16,\"　\",\"\")","v":""},{"$f":"SUBSTITUTE(IF(#REF!=\"\",\"\",#REF!),\"　\",\"\")","v":{"$error":"#REF!"}}]
["1種目",4,{"$f":"IF(入力表・参加種目確認!AH17=\"\",\"@\",入力表・参加種目確認!$E$4&入力表・参加種目確認!H17&\"子\"&入力表・参加種目確認!AH17)","v":"@"},{"$f":"COUNTIF($C$1:C4,C4)","v":4},"@4",{"$f":"SUBSTITUTE(入力表・参加種目確認!N17,\"　\",\"\")","v":""},{"$f":"SUBSTITUTE(IF(#REF!=\"\",\"\",#REF!),\"　\",\"\")","v":{"$error":"#REF!"}}]
["1種目",5,{"$f":"IF(入力表・参加種目確認!AH18=\"\",\"@\",入力表・参加種目確認!$E$4&入力表・参加種目確認!H18&\"子\"&入力表・参加種目確認!AH18)","v":"@"},{"$f":"COUNTIF($C$1:C5,C5)","v":5},"@5",{"$f":"SUBSTITUTE(入力表・参加種目確認!N18,\"　\",\"\")","v":""},{"$f":"SUBSTITUTE(IF(#REF!=\"\",\"\",#REF!),\"　\",\"\")","v":{"$error":"#REF!"}}]
["1種目",6,{"$f":"IF(入力表・参加種目確認!AH19=\"\",\"@\",入力表・参加種目確認!$E$4&入力表・参加種目確認!H19&\"子\"&入力表・参加種目確認!AH19)","v":"@"},{"$f":"COUNTIF($C$1:C6,C6)","v":6},"@6",{"$f":"SUBSTITUTE(入力表・参加種目確認!N19,\"　\",\"\")","v":""},{"$f":"SUBSTITUTE(IF(#REF!=\"\",\"\",#REF!),\"　\",\"\")","v":{"$error":"#REF!"}}]
["1種目",7,{"$f":"IF(入力表・参加種目確認!AH20=\"\",\"@\",入力表・参加種目確認!$E$4&入力表・参加種目確認!H20&\"子\"&入力表・参加種目確認!AH20)","v":"@"},{"$f":"COUNTIF($C$1:C7,C7)","v":7},"@7",{"$f":"SUBSTITUTE(入力表・参加種目確認!N20,\"　\",\"\")","v":""},{"$f":"SUBSTITUTE(IF(#REF!=\"\",\"\",#REF!),\"　\",\"\")","v":{"$error":"#REF!"}}]
["1種目",8,{"$f":"IF(入力表・参加種目確認!AH21=\"\",\"@\",入力表・参加種目確認!$E$4&入力表・参加種目確認!H21&\"子\"&入力表・参加種目確認!AH21)","v":"@"},{"$f":"COUNTIF($C$1:C8,C8)","v":8},"@8",{"$f":"SUBSTITUTE(入力表・参加種目確認!N21,\"　\",\"\")","v":""},{"$f":"SUBSTITUTE(IF(#REF!=\"\",\"\",#REF!),\"　\",\"\")","v":{"$error":"#REF!"}}]
["1種目",9,{"$f":"IF(入力表・参加種目確認!AH22=\"\",\"@\",入力表・参加種目確認!$E$4&入力表・参加種目確認!H22&\"子\"&入力表・参加種目確認!AH22)","v":"@"},{"$f":"COUNTIF($C$1:C9,C9)","v":9},"@9",{"$f":"SUBSTITUTE(入力表・参加種目確認!N22,\"　\",\"\")","v":""},{"$f":"SUBSTITUTE(IF(#REF!=\"\",\"\",#REF!),\"　\",\"\")","v":{"$error":"#REF!"}}]
["1種目",10,{"$f":"IF(入力表・参加種目確認!AH23=\"\",\"@\",入力表・参加種目確認!$E$4&入力表・参加種目確認!H23&\"子\"&入力表・参加種目確認!AH23)","v":"@"},{"$f":"COUNTIF($C$1:C10,C10)","v":10},"@10",{"$f":"SUBSTITUTE(入力表・参加種目確認!N23,\"　\",\"\")","v":""},{"$f":"SUBSTITUTE(IF(#REF!=\"\",\"\",#REF!),\"　\",\"\")","v":{"$error":"#REF!"}}]
["1種目",11,{"$f":"IF(入力表・参加種目確認!AH24=\"\",\"@\",入力表・参加種目確認!$E$4&入力表・参加種目確認!H24&\"子\"&入力表・参加種目確認!AH24)","v":"@"},{"$f":"COUNTIF($C$1:C11,C11)","v":11},"@11",{"$f":"SUBSTITUTE(入力表・参加種目確認!N24,\"　\",\"\")","v":""},{"$f":"SUBSTITUTE(IF(#REF!=\"\",\"\",#REF!),\"　\",\"\")","v":{"$error":"#REF!"}}]
["1種目",12,{"$f":"IF(入力表・参加種目確認!AH25=\"\",\"@\",入力表・参加種目確認!$E$4&入力表・参加種目確認!H25&\"子\"&入力表・参加種目確認!AH25)","v":"@"},{"$f":"COUNTIF($C$1:C12,C12)","v":12},"@12",{"$f":"SUBSTITUTE(入力表・参加種目確認!N25,\"　\",\"\")","v":""},{"$f":"SUBSTITUTE(IF(#REF!=\"\",\"\",#REF!),\"　\",\"\")","v":{"$error":"#REF!"}}]
["1種目",13,{"$f":"IF(入力表・参加種目確認!AH26=\"\",\"@\",入力表・参加種目確認!$E$4&入力表・参加種目確認!H26&\"子\"&入力表・参加種目確認!AH26)","v":"@"},{"$f":"COUNTIF($C$1:C13,C13)","v":13},"@13",{"$f":"SUBSTITUTE(入力表・参加種目確認!N26,\"　\",\"\")","v":""},{"$f":"SUBSTITUTE(IF(#REF!=\"\",\"\",#REF!),\"　\",\"\")","v":{"$error":"#REF!"}}]
["1種目",14,{"$f":"IF(入力表・参加種目確認!AH27=\"\",\"@\",入力表・参加種目確認!$E$4&入力表・参加種目確認!H27&\"子\"&入力表・参加種目確認!AH27)","v":"@"},{"$f":"COUNTIF($C$1:C14,C14)","v":14},"@14",{"$f":"SUBSTITUTE(入力表・参加種目確認!N27,\"　\",\"\")","v":""},{"$f":"SUBSTITUTE(IF(#REF!=\"\",\"\",#REF!),\"　\",\"\")","v":{"$error":"#REF!"}}]
["1種目",15,{"$f":"IF(入力表・参加種目確認!AH28=\"\",\"@\",入力表・参加種目確認!$E$4&入力表・参加種目確認!H28&\"子\"&入力表・参加種目確認!AH28)","v":"@"},{"$f":"COUNTIF($C$1:C15,C15)","v":15},"@15",{"$f":"SUBSTITUTE(入力表・参加種目確認!N28,\"　\",\"\")","v":""},{"$f":"SUBSTITUTE(IF(#REF!=\"\",\"\",#REF!),\"　\",\"\")","v":{"$error":"#REF!"}}]
["1種目",16,{"$f":"IF(入力表・参加種目確認!AH29=\"\",\"@\",入力表・参加種目確認!$E$4&入力表・参加種目確認!H29&\"子\"&入力表・参加種目確認!AH29)","v":"@"},{"$f":"COUNTIF($C$1:C16,C16)","v":16},"@16",{"$f":"SUBSTITUTE(入力表・参加種目確認!N29,\"　\",\"\")","v":""},{"$f":"SUBSTITUTE(IF(#REF!=\"\",\"\",#REF!),\"　\",\"\")","v":{"$error":"#REF!"}}]
["1種目",17,{"$f":"IF(入力表・参加種目確認!AH30=\"\",\"@\",入力表・参加種目確認!$E$4&入力表・参加種目確認!H30&\"子\"&入力表・参加種目確認!AH30)","v":"@"},{"$f":"COUNTIF($C$1:C17,C17)","v":17},"@17",{"$f":"SUBSTITUTE(入力表・参加種目確認!N30,\"　\",\"\")","v":""},{"$f":"SUBSTITUTE(IF(#REF!=\"\",\"\",#REF!),\"　\",\"\")","v":{"$error":"#REF!"}}]
["1種目",18,{"$f":"IF(入力表・参加種目確認!AH31=\"\",\"@\",入力表・参加種目確認!$E$4&入力表・参加種目確認!H31&\"子\"&入力表・参加種目確認!AH31)","v":"@"},{"$f":"COUNTIF($C$1:C18,C18)","v":18},"@18",{"$f":"SUBSTITUTE(入力表・参加種目確認!N31,\"　\",\"\")","v":""},{"$f":"SUBSTITUTE(IF(#REF!=\"\",\"\",#REF!),\"　\",\"\")","v":{"$error":"#REF!"}}]
["1種目",19,{"$f":"IF(入力表・参加種目確認!AH32=\"\",\"@\",入力表・参加種目確認!$E$4&入力表・参加種目確認!H32&\"子\"&入力表・参加種目確認!AH32)","v":"@"},{"$f":"COUNTIF($C$1:C19,C19)","v":19},"@19",{"$f":"SUBSTITUTE(入力表・参加種目確認!N32,\"　\",\"\")","v":""},{"$f":"SUBSTITUTE(IF(#REF!=\"\",\"\",#REF!),\"　\",\"\")","v":{"$error":"#REF!"}}]
["1種目",20,{"$f":"IF(入力表・参加種目確認!AH33=\"\",\"@\",入力表・参加種目確認!$E$4&入力表・参加種目確認!H33&\"子\"&入力表・参加種目確認!AH33)","v":"@"},{"$f":"COUNTIF($C$1:C20,C20)","v":20},"@20",{"$f":"SUBSTITUTE(入力表・参加種目確認!N33,\"　\",\"\")","v":""},{"$f":"SUBSTITUTE(IF(#REF!=\"\",\"\",#REF!),\"　\",\"\")","v":{"$error":"#REF!"}}]
["1種目",21,{"$f":"IF(入力表・参加種目確認!AH34=\"\",\"@\",入力表・参加種目確認!$E$4&入力表・参加種目確認!H34&\"子\"&入力表・参加種目確認!AH34)","v":"@"},{"$f":"COUNTIF($C$1:C21,C21)","v":21},"@21",{"$f":"SUBSTITUTE(入力表・参加種目確認!N34,\"　\",\"\")","v":""},{"$f":"SUBSTITUTE(IF(#REF!=\"\",\"\",#REF!),\"　\",\"\")","v":{"$error":"#REF!"}}]
["1種目",22,{"$f":"IF(入力表・参加種目確認!AH35=\"\",\"@\",入力表・参加種目確認!$E$4&入力表・参加種目確認!H35&\"子\"&入力表・参加種目確認!AH35)","v":"@"},{"$f":"COUNTIF($C$1:C22,C22)","v":22},"@22",{"$f":"SUBSTITUTE(入力表・参加種目確認!N35,\"　\",\"\")","v":""},{"$f":"SUBSTITUTE(IF(#REF!=\"\",\"\",#REF!),\"　\",\"\")","v":{"$error":"#REF!"}}]
["1種目",23,{"$f":"IF(入力表・参加種目確認!AH36=\"\",\"@\",入力表・参加種目確認!$E$4&入力表・参加種目確認!H36&\"子\"&入力表・参加種目確認!AH36)","v":"@"},{"$f":"COUNTIF($C$1:C23,C23)","v":23},"@23",{"$f":"SUBSTITUTE(入力表・参加種目確認!N36,\"　\",\"\")","v":""},{"$f":"SUBSTITUTE(IF(#REF!=\"\",\"\",#REF!),\"　\",\"\")","v":{"$error":"#REF!"}}]
["1種目",24,{"$f":"IF(入力表・参加種目確認!AH37=\"\",\"@\",入力表・参加種目確認!$E$4&入力表・参加種目確認!H37&\"子\"&入力表・参加種目確認!AH37)","v":"@"},{"$f":"COUNTIF($C$1:C24,C24)","v":24},"@24",{"$f":"SUBSTITUTE(入力表・参加種目確認!N37,\"　\",\"\")","v":""},{"$f":"SUBSTITUTE(IF(#REF!=\"\",\"\",#REF!),\"　\",\"\")","v":{"$error":"#REF!"}}]
["1種目",25,{"$f":"IF(入力表・参加種目確認!AH38=\"\",\"@\",入力表・参加種目確認!$E$4&入力表・参加種目確認!H38&\"子\"&入力表・参加種目確認!AH38)","v":"@"},{"$f":"COUNTIF($C$1:C25,C25)","v":25},"@25",{"$f":"SUBSTITUTE(入力表・参加種目確認!N38,\"　\",\"\")","v":""},{"$f":"SUBSTITUTE(IF(#REF!=\"\",\"\",#REF!),\"　\",\"\")","v":{"$error":"#REF!"}}]
["1種目",26,{"$f":"IF(入力表・参加種目確認!AH39=\"\",\"@\",入力表・参加種目確認!$E$4&入力表・参加種目確認!H39&\"子\"&入力表・参加種目確認!AH39)","v":"@"},{"$f":"COUNTIF($C$1:C26,C26)","v":26},"@26",{"$f":"SUBSTITUTE(入力表・参加種目確認!N39,\"　\",\"\")","v":""},{"$f":"SUBSTITUTE(IF(#REF!=\"\",\"\",#REF!),\"　\",\"\")","v":{"$error":"#REF!"}}]
["1種目",27,{"$f":"IF(入力表・参加種目確認!AH40=\"\",\"@\",入力表・参加種目確認!$E$4&入力表・参加種目確認!H40&\"子\"&入力表・参加種目確認!AH40)","v":"@"},{"$f":"COUNTIF($C$1:C27,C27)","v":27},"@27",{"$f":"SUBSTITUTE(入力表・参加種目確認!N40,\"　\",\"\")","v":""},{"$f":"SUBSTITUTE(IF(#REF!=\"\",\"\",#REF!),\"　\",\"\")","v":{"$error":"#REF!"}}]
["1種目",28,{"$f":"IF(入力表・参加種目確認!AH41=\"\",\"@\",入力表・参加種目確認!$E$4&入力表・参加種目確認!H41&\"子\"&入力表・参加種目確認!AH41)","v":"@"},{"$f":"COUNTIF($C$1:C28,C28)","v":28},"@28",{"$f":"SUBSTITUTE(入力表・参加種目確認!N41,\"　\",\"\")","v":""},{"$f":"SUBSTITUTE(IF(#REF!=\"\",\"\",#REF!),\"　\",\"\")","v":{"$error":"#REF!"}}]
["1種目",29,{"$f":"IF(入力表・参加種目確認!AH42=\"\",\"@\",入力表・参加種目確認!$E$4&入力表・参加種目確認!H42&\"子\"&入力表・参加種目確認!AH42)","v":"@"},{"$f":"COUNTIF($C$1:C29,C29)","v":29},"@29",{"$f":"SUBSTITUTE(入力表・参加種目確認!N42,\"　\",\"\")","v":""},{"$f":"SUBSTITUTE(IF(#REF!=\"\",\"\",#REF!),\"　\",\"\")","v":{"$error":"#REF!"}}]
["1種目",30,{"$f":"IF(入力表・参加種目確認!AH43=\"\",\"@\",入力表・参加種目確認!$E$4&入力表・参加種目確認!H43&\"子\"&入力表・参加種目確認!AH43)","v":"@"},{"$f":"COUNTIF($C$1:C30,C30)","v":30},"@30",{"$f":"SUBSTITUTE(入力表・参加種目確認!N43,\"　\",\"\")","v":""},{"$f":"SUBSTITUTE(IF(#REF!=\"\",\"\",#REF!),\"　\",\"\")","v":{"$error":"#REF!"}}]
["1種目",31,{"$f":"IF(入力表・参加種目確認!AH44=\"\",\"@\",入力表・参加種目確認!$E$4&入力表・参加種目確認!H44&\"子\"&入力表・参加種目確認!AH44)","v":"@"},{"$f":"COUNTIF($C$1:C31,C31)","v":31},"@31",{"$f":"SUBSTITUTE(入力表・参加種目確認!N44,\"　\",\"\")","v":""},{"$f":"SUBSTITUTE(IF(#REF!=\"\",\"\",#REF!),\"　\",\"\")","v":{"$error":"#REF!"}}]
["1種目",32,{"$f":"IF(入力表・参加種目確認!AH45=\"\",\"@\",入力表・参加種目確認!$E$4&入力表・参加種目確認!H45&\"子\"&入力表・参加種目確認!AH45)","v":"@"},{"$f":"COUNTIF($C$1:C32,C32)","v":32},"@32",{"$f":"SUBSTITUTE(入力表・参加種目確認!N45,\"　\",\"\")","v":""},{"$f":"SUBSTITUTE(IF(#REF!=\"\",\"\",#REF!),\"　\",\"\")","v":{"$error":"#REF!"}}]
["1種目",33,{"$f":"IF(入力表・参加種目確認!AH46=\"\",\"@\",入力表・参加種目確認!$E$4&入力表・参加種目確認!H46&\"子\"&入力表・参加種目確認!AH46)","v":"@"},{"$f":"COUNTIF($C$1:C33,C33)","v":33},"@33",{"$f":"SUBSTITUTE(入力表・参加種目確認!N46,\"　\",\"\")","v":""},{"$f":"SUBSTITUTE(IF(#REF!=\"\",\"\",#REF!),\"　\",\"\")","v":{"$error":"#REF!"}}]
["1種目",34,{"$f":"IF(入力表・参加種目確認!AH47=\"\",\"@\",入力表・参加種目確認!$E$4&入力表・参加種目確認!H47&\"子\"&入力表・参加種目確認!AH47)","v":"@"},{"$f":"COUNTIF($C$1:C34,C34)","v":34},"@34",{"$f":"SUBSTITUTE(入力表・参加種目確認!N47,\"　\",\"\")","v":""},{"$f":"SUBSTITUTE(IF(#REF!=\"\",\"\",#REF!),\"　\",\"\")","v":{"$error":"#REF!"}}]
["1種目",35,{"$f":"IF(入力表・参加種目確認!AH48=\"\",\"@\",入力表・参加種目確認!$E$4&入力表・参加種目確認!H48&\"子\"&入力表・参加種目確認!AH48)","v":"@"},{"$f":"COUNTIF($C$1:C35,C35)","v":35},"@35",{"$f":"SUBSTITUTE(入力表・参加種目確認!N48,\"　\",\"\")","v":""},{"$f":"SUBSTITUTE(IF(#REF!=\"\",\"\",#REF!),\"　\",\"\")","v":{"$error":"#REF!"}}]
["1種目",36,{"$f":"IF(入力表・参加種目確認!AH49=\"\",\"@\",入力表・参加種目確認!$E$4&入力表・参加種目確認!H49&\"子\"&入力表・参加種目確認!AH49)","v":"@"},{"$f":"COUNTIF($C$1:C36,C36)","v":36},"@36",{"$f":"SUBSTITUTE(入力表・参加種目確認!N49,\"　\",\"\")","v":""},{"$f":"SUBSTITUTE(IF(#REF!=\"\",\"\",#REF!),\"　\",\"\")","v":{"$error":"#REF!"}}]
["1種目",37,{"$f":"IF(入力表・参加種目確認!AH50=\"\",\"@\",入力表・参加種目確認!$E$4&入力表・参加種目確認!H50&\"子\"&入力表・参加種目確認!AH50)","v":"@"},{"$f":"COUNTIF($C$1:C37,C37)","v":37},"@37",{"$f":"SUBSTITUTE(入力表・参加種目確認!N50,\"　\",\"\")","v":""},{"$f":"SUBSTITUTE(IF(#REF!=\"\",\"\",#REF!),\"　\",\"\")","v":{"$error":"#REF!"}}]
["1種目",38,{"$f":"IF(入力表・参加種目確認!AH51=\"\",\"@\",入力表・参加種目確認!$E$4&入力表・参加種目確認!H51&\"子\"&入力表・参加種目確認!AH51)","v":"@"},{"$f":"COUNTIF($C$1:C38,C38)","v":38},"@38",{"$f":"SUBSTITUTE(入力表・参加種目確認!N51,\"　\",\"\")","v":""},{"$f":"SUBSTITUTE(IF(#REF!=\"\",\"\",#REF!),\"　\",\"\")","v":{"$error":"#REF!"}}]
["1種目",39,{"$f":"IF(入力表・参加種目確認!AH52=\"\",\"@\",入力表・参加種目確認!$E$4&入力表・参加種目確認!H52&\"子\"&入力表・参加種目確認!AH52)","v":"@"},{"$f":"COUNTIF($C$1:C39,C39)","v":39},"@39",{"$f":"SUBSTITUTE(入力表・参加種目確認!N52,\"　\",\"\")","v":""},{"$f":"SUBSTITUTE(IF(#REF!=\"\",\"\",#REF!),\"　\",\"\")","v":{"$error":"#REF!"}}]
["1種目",40,{"$f":"IF(入力表・参加種目確認!AH53=\"\",\"@\",入力表・参加種目確認!$E$4&入力表・参加種目確認!H53&\"子\"&入力表・参加種目確認!AH53)","v":"@"},{"$f":"COUNTIF($C$1:C40,C40)","v":40},"@40",{"$f":"SUBSTITUTE(入力表・参加種目確認!N53,\"　\",\"\")","v":""},{"$f":"SUBSTITUTE(IF(#REF!=\"\",\"\",#REF!),\"　\",\"\")","v":{"$error":"#REF!"}}]
["2種目",1,{"$f":"IF(入力表・参加種目確認!AV14=\"\",\"@\",入力表・参加種目確認!$E$4&入力表・参加種目確認!H14&\"子\"&入力表・参加種目確認!AV14)","v":"@"},{"$f":"COUNTIF($C$1:C41,C41)","v":41},"@41",{"$f":"F1","v":""},{"$f":"SUBSTITUTE(IF(#REF!=\"\",\"\",#REF!),\"　\",\"\")","v":{"$error":"#REF!"}}]
["2種目",2,{"$f":"IF(入力表・参加種目確認!AV15=\"\",\"@\",入力表・参加種目確認!$E$4&入力表・参加種目確認!H15&\"子\"&入力表・参加種目確認!AV15)","v":"@"},{"$f":"COUNTIF($C$1:C42,C42)","v":42},"@42",{"$f":"F2","v":""},{"$f":"SUBSTITUTE(IF(#REF!=\"\",\"\",#REF!),\"　\",\"\")","v":{"$error":"#REF!"}}]
["2種目",3,{"$f":"IF(入力表・参加種目確認!AV16=\"\",\"@\",入力表・参加種目確認!$E$4&入力表・参加種目確認!H16&\"子\"&入力表・参加種目確認!AV16)","v":"@"},{"$f":"COUNTIF($C$1:C43,C43)","v":43},"@43","",{"$f":"SUBSTITUTE(IF(#REF!=\"\",\"\",#REF!),\"　\",\"\")","v":{"$error":"#REF!"}}]
["2種目",4,{"$f":"IF(入力表・参加種目確認!AV17=\"\",\"@\",入力表・参加種目確認!$E$4&入力表・参加種目確認!H17&\"子\"&入力表・参加種目確認!AV17)","v":"@"},{"$f":"COUNTIF($C$1:C44,C44)","v":44},"@44","",{"$f":"SUBSTITUTE(IF(#REF!=\"\",\"\",#REF!),\"　\",\"\")","v":{"$error":"#REF!"}}]
["2種目",5,{"$f":"IF(入力表・参加種目確認!AV18=\"\",\"@\",入力表・参加種目確認!$E$4&入力表・参加種目確認!H18&\"子\"&入力表・参加種目確認!AV18)","v":"@"},{"$f":"COUNTIF($C$1:C45,C45)","v":45},"@45","",{"$f":"SUBSTITUTE(IF(#REF!=\"\",\"\",#REF!),\"　\",\"\")","v":{"$error":"#REF!"}}]
["2種目",6,{"$f":"IF(入力表・参加種目確認!AV19=\"\",\"@\",入力表・参加種目確認!$E$4&入力表・参加種目確認!H19&\"子\"&入力表・参加種目確認!AV19)","v":"@"},{"$f":"COUNTIF($C$1:C46,C46)","v":46},"@46","",{"$f":"SUBSTITUTE(IF(#REF!=\"\",\"\",#REF!),\"　\",\"\")","v":{"$error":"#REF!"}}]
["2種目",7,{"$f":"IF(入力表・参加種目確認!AV20=\"\",\"@\",入力表・参加種目確認!$E$4&入力表・参加種目確認!H20&\"子\"&入力表・参加種目確認!AV20)","v":"@"},{"$f":"COUNTIF($C$1:C47,C47)","v":47},"@47","",{"$f":"SUBSTITUTE(IF(#REF!=\"\",\"\",#REF!),\"　\",\"\")","v":{"$error":"#REF!"}}]
["2種目",8,{"$f":"IF(入力表・参加種目確認!AV21=\"\",\"@\",入力表・参加種目確認!$E$4&入力表・参加種目確認!H21&\"子\"&入力表・参加種目確認!AV21)","v":"@"},{"$f":"COUNTIF($C$1:C48,C48)","v":48},"@48","",{"$f":"SUBSTITUTE(IF(#REF!=\"\",\"\",#REF!),\"　\",\"\")","v":{"$error":"#REF!"}}]
["2種目",9,{"$f":"IF(入力表・参加種目確認!AV22=\"\",\"@\",入力表・参加種目確認!$E$4&入力表・参加種目確認!H22&\"子\"&入力表・参加種目確認!AV22)","v":"@"},{"$f":"COUNTIF($C$1:C49,C49)","v":49},"@49","",{"$f":"SUBSTITUTE(IF(#REF!=\"\",\"\",#REF!),\"　\",\"\")","v":{"$error":"#REF!"}}]
["2種目",10,{"$f":"IF(入力表・参加種目確認!AV23=\"\",\"@\",入力表・参加種目確認!$E$4&入力表・参加種目確認!H23&\"子\"&入力表・参加種目確認!AV23)","v":"@"},{"$f":"COUNTIF($C$1:C50,C50)","v":50},"@50","",{"$f":"SUBSTITUTE(IF(#REF!=\"\",\"\",#REF!),\"　\",\"\")","v":{"$error":"#REF!"}}]
["2種目",11,{"$f":"IF(入力表・参加種目確認!AV24=\"\",\"@\",入力表・参加種目確認!$E$4&入力表・参加種目確認!H24&\"子\"&入力表・参加種目確認!AV24)","v":"@"},{"$f":"COUNTIF($C$1:C51,C51)","v":51},"@51","",{"$f":"SUBSTITUTE(IF(#REF!=\"\",\"\",#REF!),\"　\",\"\")","v":{"$error":"#REF!"}}]
["2種目",12,{"$f":"IF(入力表・参加種目確認!AV25=\"\",\"@\",入力表・参加種目確認!$E$4&入力表・参加種目確認!H25&\"子\"&入力表・参加種目確認!AV25)","v":"@"},{"$f":"COUNTIF($C$1:C52,C52)","v":52},"@52","",{"$f":"SUBSTITUTE(IF(#REF!=\"\",\"\",#REF!),\"　\",\"\")","v":{"$error":"#REF!"}}]
["2種目",13,{"$f":"IF(入力表・参加種目確認!AV26=\"\",\"@\",入力表・参加種目確認!$E$4&入力表・参加種目確認!H26&\"子\"&入力表・参加種目確認!AV26)","v":"@"},{"$f":"COUNTIF($C$1:C53,C53)","v":53},"@53","",{"$f":"SUBSTITUTE(IF(#REF!=\"\",\"\",#REF!),\"　\",\"\")","v":{"$error":"#REF!"}}]
["2種目",14,{"$f":"IF(入力表・参加種目確認!AV27=\"\",\"@\",入力表・参加種目確認!$E$4&入力表・参加種目確認!H27&\"子\"&入力表・参加種目確認!AV27)","v":"@"},{"$f":"COUNTIF($C$1:C54,C54)","v":54},"@54","",{"$f":"SUBSTITUTE(IF(#REF!=\"\",\"\",#REF!),\"　\",\"\")","v":{"$error":"#REF!"}}]
["2種目",15,{"$f":"IF(入力表・参加種目確認!AV28=\"\",\"@\",入力表・参加種目確認!$E$4&入力表・参加種目確認!H28&\"子\"&入力表・参加種目確認!AV28)","v":"@"},{"$f":"COUNTIF($C$1:C55,C55)","v":55},"@55","",{"$f":"SUBSTITUTE(IF(#REF!=\"\",\"\",#REF!),\"　\",\"\")","v":{"$error":"#REF!"}}]
["2種目",16,{"$f":"IF(入力表・参加種目確認!AV29=\"\",\"@\",入力表・参加種目確認!$E$4&入力表・参加種目確認!H29&\"子\"&入力表・参加種目確認!AV29)","v":"@"},{"$f":"COUNTIF($C$1:C56,C56)","v":56},"@56","",{"$f":"SUBSTITUTE(IF(#REF!=\"\",\"\",#REF!),\"　\",\"\")","v":{"$error":"#REF!"}}]
["2種目",17,{"$f":"IF(入力表・参加種目確認!AV30=\"\",\"@\",入力表・参加種目確認!$E$4&入力表・参加種目確認!H30&\"子\"&入力表・参加種目確認!AV30)","v":"@"},{"$f":"COUNTIF($C$1:C57,C57)","v":57},"@57","",{"$f":"SUBSTITUTE(IF(#REF!=\"\",\"\",#REF!),\"　\",\"\")","v":{"$error":"#REF!"}}]
["2種目",18,{"$f":"IF(入力表・参加種目確認!AV31=\"\",\"@\",入力表・参加種目確認!$E$4&入力表・参加種目確認!H31&\"子\"&入力表・参加種目確認!AV31)","v":"@"},{"$f":"COUNTIF($C$1:C58,C58)","v":58},"@58","",{"$f":"SUBSTITUTE(IF(#REF!=\"\",\"\",#REF!),\"　\",\"\")","v":{"$error":"#REF!"}}]
["2種目",19,{"$f":"IF(入力表・参加種目確認!AV32=\"\",\"@\",入力表・参加種目確認!$E$4&入力表・参加種目確認!H32&\"子\"&入力表・参加種目確認!AV32)","v":"@"},{"$f":"COUNTIF($C$1:C59,C59)","v":59},"@59","",{"$f":"SUBSTITUTE(IF(#REF!=\"\",\"\",#REF!),\"　\",\"\")","v":{"$error":"#REF!"}}]
["2種目",20,{"$f":"IF(入力表・参加種目確認!AV33=\"\",\"@\",入力表・参加種目確認!$E$4&入力表・参加種目確認!H33&\"子\"&入力表・参加種目確認!AV33)","v":"@"},{"$f":"COUNTIF($C$1:C60,C60)","v":60},"@60","",{"$f":"SUBSTITUTE(IF(#REF!=\"\",\"\",#REF!),\"　\",\"\")","v":{"$error":"#REF!"}}]
["2種目",21,{"$f":"IF(入力表・参加種目確認!AV34=\"\",\"@\",入力表・参加種目確認!$E$4&入力表・参加種目確認!H34&\"子\"&入力表・参加種目確認!AV34)","v":"@"},{"$f":"COUNTIF($C$1:C61,C61)","v":61},"@61","",{"$f":"SUBSTITUTE(IF(#REF!=\"\",\"\",#REF!),\"　\",\"\")","v":{"$error":"#REF!"}}]
["2種目",22,{"$f":"IF(入力表・参加種目確認!AV35=\"\",\"@\",入力表・参加種目確認!$E$4&入力表・参加種目確認!H35&\"子\"&入力表・参加種目確認!AV35)","v":"@"},{"$f":"COUNTIF($C$1:C62,C62)","v":62},"@62","",{"$f":"SUBSTITUTE(IF(#REF!=\"\",\"\",#REF!),\"　\",\"\")","v":{"$error":"#REF!"}}]
["2種目",23,{"$f":"IF(入力表・参加種目確認!AV36=\"\",\"@\",入力表・参加種目確認!$E$4&入力表・参加種目確認!H36&\"子\"&入力表・参加種目確認!AV36)","v":"@"},{"$f":"COUNTIF($C$1:C63,C63)","v":63},"@63","",{"$f":"SUBSTITUTE(IF(#REF!=\"\",\"\",#REF!),\"　\",\"\")","v":{"$error":"#REF!"}}]
["2種目",24,{"$f":"IF(入力表・参加種目確認!AV37=\"\",\"@\",入力表・参加種目確認!$E$4&入力表・参加種目確認!H37&\"子\"&入力表・参加種目確認!AV37)","v":"@"},{"$f":"COUNTIF($C$1:C64,C64)","v":64},"@64","",{"$f":"SUBSTITUTE(IF(#REF!=\"\",\"\",#REF!),\"　\",\"\")","v":{"$error":"#REF!"}}]
["2種目",25,{"$f":"IF(入力表・参加種目確認!AV38=\"\",\"@\",入力表・参加種目確認!$E$4&入力表・参加種目確認!H38&\"子\"&入力表・参加種目確認!AV38)","v":"@"},{"$f":"COUNTIF($C$1:C65,C65)","v":65},"@65","",{"$f":"SUBSTITUTE(IF(#REF!=\"\",\"\",#REF!),\"　\",\"\")","v":{"$error":"#REF!"}}]
["2種目",26,{"$f":"IF(入力表・参加種目確認!AV39=\"\",\"@\",入力表・参加種目確認!$E$4&入力表・参加種目確認!H39&\"子\"&入力表・参加種目確認!AV39)","v":"@"},{"$f":"COUNTIF($C$1:C66,C66)","v":66},{"$f":"C66&D66","v":"@66"},"",{"$f":"SUBSTITUTE(IF(#REF!=\"\",\"\",#REF!),\"　\",\"\")","v":{"$error":"#REF!"}}]
["2種目",27,{"$f":"IF(入力表・参加種目確認!AV40=\"\",\"@\",入力表・参加種目確認!$E$4&入力表・参加種目確認!H40&\"子\"&入力表・参加種目確認!AV40)","v":"@"},{"$f":"COUNTIF($C$1:C67,C67)","v":67},"@67","",{"$f":"SUBSTITUTE(IF(#REF!=\"\",\"\",#REF!),\"　\",\"\")","v":{"$error":"#REF!"}}]
["2種目",28,{"$f":"IF(入力表・参加種目確認!AV41=\"\",\"@\",入力表・参加種目確認!$E$4&入力表・参加種目確認!H41&\"子\"&入力表・参加種目確認!AV41)","v":"@"},{"$f":"COUNTIF($C$1:C68,C68)","v":68},"@68","",{"$f":"SUBSTITUTE(IF(#REF!=\"\",\"\",#REF!),\"　\",\"\")","v":{"$error":"#REF!"}}]
["2種目",29,{"$f":"IF(入力表・参加種目確認!AV42=\"\",\"@\",入力表・参加種目確認!$E$4&入力表・参加種目確認!H42&\"子\"&入力表・参加種目確認!AV42)","v":"@"},{"$f":"COUNTIF($C$1:C69,C69)","v":69},"@69","",{"$f":"SUBSTITUTE(IF(#REF!=\"\",\"\",#REF!),\"　\",\"\")","v":{"$error":"#REF!"}}]
["2種目",30,{"$f":"IF(入力表・参加種目確認!AV43=\"\",\"@\",入力表・参加種目確認!$E$4&入力表・参加種目確認!H43&\"子\"&入力表・参加種目確認!AV43)","v":"@"},{"$f":"COUNTIF($C$1:C70,C70)","v":70},"@70","",{"$f":"SUBSTITUTE(IF(#REF!=\"\",\"\",#REF!),\"　\",\"\")","v":{"$error":"#REF!"}}]
["2種目",31,{"$f":"IF(入力表・参加種目確認!AV44=\"\",\"@\",入力表・参加種目確認!$E$4&入力表・参加種目確認!H44&\"子\"&入力表・参加種目確認!AV44)","v":"@"},{"$f":"COUNTIF($C$1:C71,C71)","v":71},"@71","",{"$f":"SUBSTITUTE(IF(#REF!=\"\",\"\",#REF!),\"　\",\"\")","v":{"$error":"#REF!"}}]
["2種目",32,{"$f":"IF(入力表・参加種目確認!AV45=\"\",\"@\",入力表・参加種目確認!$E$4&入力表・参加種目確認!H45&\"子\"&入力表・参加種目確認!AV45)","v":"@"},{"$f":"COUNTIF($C$1:C72,C72)","v":72},"@72","",{"$f":"SUBSTITUTE(IF(#REF!=\"\",\"\",#REF!),\"　\",\"\")","v":{"$error":"#REF!"}}]
["2種目",33,{"$f":"IF(入力表・参加種目確認!AV46=\"\",\"@\",入力表・参加種目確認!$E$4&入力表・参加種目確認!H46&\"子\"&入力表・参加種目確認!AV46)","v":"@"},{"$f":"COUNTIF($C$1:C73,C73)","v":73},"@73","",{"$f":"SUBSTITUTE(IF(#REF!=\"\",\"\",#REF!),\"　\",\"\")","v":{"$error":"#REF!"}}]
["2種目",34,{"$f":"IF(入力表・参加種目確認!AV47=\"\",\"@\",入力表・参加種目確認!$E$4&入力表・参加種目確認!H47&\"子\"&入力表・参加種目確認!AV47)","v":"@"},{"$f":"COUNTIF($C$1:C74,C74)","v":74},"@74","",{"$f":"SUBSTITUTE(IF(#REF!=\"\",\"\",#REF!),\"　\",\"\")","v":{"$error":"#REF!"}}]
["2種目",35,{"$f":"IF(入力表・参加種目確認!AV48=\"\",\"@\",入力表・参加種目確認!$E$4&入力表・参加種目確認!H48&\"子\"&入力表・参加種目確認!AV48)","v":"@"},{"$f":"COUNTIF($C$1:C75,C75)","v":75},"@75","",{"$f":"SUBSTITUTE(IF(#REF!=\"\",\"\",#REF!),\"　\",\"\")","v":{"$error":"#REF!"}}]
["2種目",36,{"$f":"IF(入力表・参加種目確認!AV49=\"\",\"@\",入力表・参加種目確認!$E$4&入力表・参加種目確認!H49&\"子\"&入力表・参加種目確認!AV49)","v":"@"},{"$f":"COUNTIF($C$1:C76,C76)","v":76},"@76","",{"$f":"SUBSTITUTE(IF(#REF!=\"\",\"\",#REF!),\"　\",\"\")","v":{"$error":"#REF!"}}]
["2種目",37,{"$f":"IF(入力表・参加種目確認!AV50=\"\",\"@\",入力表・参加種目確認!$E$4&入力表・参加種目確認!H50&\"子\"&入力表・参加種目確認!AV50)","v":"@"},{"$f":"COUNTIF($C$1:C77,C77)","v":77},"@77","",{"$f":"SUBSTITUTE(IF(#REF!=\"\",\"\",#REF!),\"　\",\"\")","v":{"$error":"#REF!"}}]
["2種目",38,{"$f":"IF(入力表・参加種目確認!AV51=\"\",\"@\",入力表・参加種目確認!$E$4&入力表・参加種目確認!H51&\"子\"&入力表・参加種目確認!AV51)","v":"@"},{"$f":"COUNTIF($C$1:C78,C78)","v":78},"@78","",{"$f":"SUBSTITUTE(IF(#REF!=\"\",\"\",#REF!),\"　\",\"\")","v":{"$error":"#REF!"}}]
["2種目",39,{"$f":"IF(入力表・参加種目確認!AV52=\"\",\"@\",入力表・参加種目確認!$E$4&入力表・参加種目確認!H52&\"子\"&入力表・参加種目確認!AV52)","v":"@"},{"$f":"COUNTIF($C$1:C79,C79)","v":79},"@79","",{"$f":"SUBSTITUTE(IF(#REF!=\"\",\"\",#REF!),\"　\",\"\")","v":{"$error":"#REF!"}}]
["2種目",40,{"$f":"IF(入力表・参加種目確認!AV53=\"\",\"@\",入力表・参加種目確認!$E$4&入力表・参加種目確認!H53&\"子\"&入力表・参加種目確認!AV53)","v":"@"},{"$f":"COUNTIF($C$1:C80,C80)","v":80},"@80","",{"$f":"SUBSTITUTE(IF(#REF!=\"\",\"\",#REF!),\"　\",\"\")","v":{"$error":"#REF!"}}]
["3種目",1,{"$f":"IF(入力表・参加種目確認!BJ14=\"\",\"@\",入力表・参加種目確認!$E$4&入力表・参加種目確認!H14&\"子\"&入力表・参加種目確認!BJ14)","v":"@"},{"$f":"COUNTIF($C$1:C81,C81)","v":81},"@81",{"$f":"F1","v":""},{"$f":"SUBSTITUTE(IF(#REF!=\"\",\"\",#REF!),\"　\",\"\")","v":{"$error":"#REF!"}}]
["3種目",2,{"$f":"IF(入力表・参加種目確認!BJ15=\"\",\"@\",入力表・参加種目確認!$E$4&入力表・参加種目確認!H15&\"子\"&入力表・参加種目確認!BJ15)","v":"@"},{"$f":"COUNTIF($C$1:C82,C82)","v":82},"@82",{"$f":"F2","v":""},{"$f":"SUBSTITUTE(IF(#REF!=\"\",\"\",#REF!),\"　\",\"\")","v":{"$error":"#REF!"}}]
["3種目",3,{"$f":"IF(入力表・参加種目確認!BJ16=\"\",\"@\",入力表・参加種目確認!$E$4&入力表・参加種目確認!H16&\"子\"&入力表・参加種目確認!BJ16)","v":"@"},{"$f":"COUNTIF($C$1:C83,C83)","v":83},"@83","",{"$f":"SUBSTITUTE(IF(#REF!=\"\",\"\",#REF!),\"　\",\"\")","v":{"$error":"#REF!"}}]
["3種目",4,{"$f":"IF(入力表・参加種目確認!BJ17=\"\",\"@\",入力表・参加種目確認!$E$4&入力表・参加種目確認!H17&\"子\"&入力表・参加種目確認!BJ17)","v":"@"},{"$f":"COUNTIF($C$1:C84,C84)","v":84},"@84","",{"$f":"SUBSTITUTE(IF(#REF!=\"\",\"\",#REF!),\"　\",\"\")","v":{"$error":"#REF!"}}]
["3種目",5,{"$f":"IF(入力表・参加種目確認!BJ18=\"\",\"@\",入力表・参加種目確認!$E$4&入力表・参加種目確認!H18&\"子\"&入力表・参加種目確認!BJ18)","v":"@"},{"$f":"COUNTIF($C$1:C85,C85)","v":85},"@85","",{"$f":"SUBSTITUTE(IF(#REF!=\"\",\"\",#REF!),\"　\",\"\")","v":{"$error":"#REF!"}}]
["3種目",6,{"$f":"IF(入力表・参加種目確認!BJ19=\"\",\"@\",入力表・参加種目確認!$E$4&入力表・参加種目確認!H19&\"子\"&入力表・参加種目確認!BJ19)","v":"@"},{"$f":"COUNTIF($C$1:C86,C86)","v":86},"@86","",{"$f":"SUBSTITUTE(IF(#REF!=\"\",\"\",#REF!),\"　\",\"\")","v":{"$error":"#REF!"}}]
["3種目",7,{"$f":"IF(入力表・参加種目確認!BJ20=\"\",\"@\",入力表・参加種目確認!$E$4&入力表・参加種目確認!H20&\"子\"&入力表・参加種目確認!BJ20)","v":"@"},{"$f":"COUNTIF($C$1:C87,C87)","v":87},"@87","",{"$f":"SUBSTITUTE(IF(#REF!=\"\",\"\",#REF!),\"　\",\"\")","v":{"$error":"#REF!"}}]
["3種目",8,{"$f":"IF(入力表・参加種目確認!BJ21=\"\",\"@\",入力表・参加種目確認!$E$4&入力表・参加種目確認!H21&\"子\"&入力表・参加種目確認!BJ21)","v":"@"},{"$f":"COUNTIF($C$1:C88,C88)","v":88},"@88","",{"$f":"SUBSTITUTE(IF(#REF!=\"\",\"\",#REF!),\"　\",\"\")","v":{"$error":"#REF!"}}]
["3種目",9,{"$f":"IF(入力表・参加種目確認!BJ22=\"\",\"@\",入力表・参加種目確認!$E$4&入力表・参加種目確認!H22&\"子\"&入力表・参加種目確認!BJ22)","v":"@"},{"$f":"COUNTIF($C$1:C89,C89)","v":89},"@89","",{"$f":"SUBSTITUTE(IF(#REF!=\"\",\"\",#REF!),\"　\",\"\")","v":{"$error":"#REF!"}}]
["3種目",10,{"$f":"IF(入力表・参加種目確認!BJ23=\"\",\"@\",入力表・参加種目確認!$E$4&入力表・参加種目確認!H23&\"子\"&入力表・参加種目確認!BJ23)","v":"@"},{"$f":"COUNTIF($C$1:C90,C90)","v":90},"@90","",{"$f":"SUBSTITUTE(IF(#REF!=\"\",\"\",#REF!),\"　\",\"\")","v":{"$error":"#REF!"}}]
["3種目",11,{"$f":"IF(入力表・参加種目確認!BJ24=\"\",\"@\",入力表・参加種目確認!$E$4&入力表・参加種目確認!H24&\"子\"&入力表・参加種目確認!BJ24)","v":"@"},{"$f":"COUNTIF($C$1:C91,C91)","v":91},"@91","",{"$f":"SUBSTITUTE(IF(#REF!=\"\",\"\",#REF!),\"　\",\"\")","v":{"$error":"#REF!"}}]
["3種目",12,{"$f":"IF(入力表・参加種目確認!BJ25=\"\",\"@\",入力表・参加種目確認!$E$4&入力表・参加種目確認!H25&\"子\"&入力表・参加種目確認!BJ25)","v":"@"},{"$f":"COUNTIF($C$1:C92,C92)","v":92},"@92","",{"$f":"SUBSTITUTE(IF(#REF!=\"\",\"\",#REF!),\"　\",\"\")","v":{"$error":"#REF!"}}]
["3種目",13,{"$f":"IF(入力表・参加種目確認!BJ26=\"\",\"@\",入力表・参加種目確認!$E$4&入力表・参加種目確認!H26&\"子\"&入力表・参加種目確認!BJ26)","v":"@"},{"$f":"COUNTIF($C$1:C93,C93)","v":93},"@93","",{"$f":"SUBSTITUTE(IF(#REF!=\"\",\"\",#REF!),\"　\",\"\")","v":{"$error":"#REF!"}}]
["3種目",14,{"$f":"IF(入力表・参加種目確認!BJ27=\"\",\"@\",入力表・参加種目確認!$E$4&入力表・参加種目確認!H27&\"子\"&入力表・参加種目確認!BJ27)","v":"@"},{"$f":"COUNTIF($C$1:C94,C94)","v":94},"@94","",{"$f":"SUBSTITUTE(IF(#REF!=\"\",\"\",#REF!),\"　\",\"\")","v":{"$error":"#REF!"}}]
["3種目",15,{"$f":"IF(入力表・参加種目確認!BJ28=\"\",\"@\",入力表・参加種目確認!$E$4&入力表・参加種目確認!H28&\"子\"&入力表・参加種目確認!BJ28)","v":"@"},{"$f":"COUNTIF($C$1:C95,C95)","v":95},"@95","",{"$f":"SUBSTITUTE(IF(#REF!=\"\",\"\",#REF!),\"　\",\"\")","v":{"$error":"#REF!"}}]
["3種目",16,{"$f":"IF(入力表・参加種目確認!BJ29=\"\",\"@\",入力表・参加種目確認!$E$4&入力表・参加種目確認!H29&\"子\"&入力表・参加種目確認!BJ29)","v":"@"},{"$f":"COUNTIF($C$1:C96,C96)","v":96},"@96","",{"$f":"SUBSTITUTE(IF(#REF!=\"\",\"\",#REF!),\"　\",\"\")","v":{"$error":"#REF!"}}]
["3種目",17,{"$f":"IF(入力表・参加種目確認!BJ30=\"\",\"@\",入力表・参加種目確認!$E$4&入力表・参加種目確認!H30&\"子\"&入力表・参加種目確認!BJ30)","v":"@"},{"$f":"COUNTIF($C$1:C97,C97)","v":97},"@97","",{"$f":"SUBSTITUTE(IF(#REF!=\"\",\"\",#REF!),\"　\",\"\")","v":{"$error":"#REF!"}}]
["3種目",18,{"$f":"IF(入力表・参加種目確認!BJ31=\"\",\"@\",入力表・参加種目確認!$E$4&入力表・参加種目確認!H31&\"子\"&入力表・参加種目確認!BJ31)","v":"@"},{"$f":"COUNTIF($C$1:C98,C98)","v":98},"@98","",{"$f":"SUBSTITUTE(IF(#REF!=\"\",\"\",#REF!),\"　\",\"\")","v":{"$error":"#REF!"}}]
["3種目",19,{"$f":"IF(入力表・参加種目確認!BJ32=\"\",\"@\",入力表・参加種目確認!$E$4&入力表・参加種目確認!H32&\"子\"&入力表・参加種目確認!BJ32)","v":"@"},{"$f":"COUNTIF($C$1:C99,C99)","v":99},"@99","",{"$f":"SUBSTITUTE(IF(#REF!=\"\",\"\",#REF!),\"　\",\"\")","v":{"$error":"#REF!"}}]
["3種目",20,{"$f":"IF(入力表・参加種目確認!BJ33=\"\",\"@\",入力表・参加種目確認!$E$4&入力表・参加種目確認!H33&\"子\"&入力表・参加種目確認!BJ33)","v":"@"},{"$f":"COUNTIF($C$1:C100,C100)","v":100},"@100","",{"$f":"SUBSTITUTE(IF(#REF!=\"\",\"\",#REF!),\"　\",\"\")","v":{"$error":"#REF!"}}]
["3種目",21,{"$f":"IF(入力表・参加種目確認!BJ34=\"\",\"@\",入力表・参加種目確認!$E$4&入力表・参加種目確認!H34&\"子\"&入力表・参加種目確認!BJ34)","v":"@"},{"$f":"COUNTIF($C$1:C101,C101)","v":101},"@101","",{"$f":"SUBSTITUTE(IF(#REF!=\"\",\"\",#REF!),\"　\",\"\")","v":{"$error":"#REF!"}}]
["3種目",22,{"$f":"IF(入力表・参加種目確認!BJ35=\"\",\"@\",入力表・参加種目確認!$E$4&入力表・参加種目確認!H35&\"子\"&入力表・参加種目確認!BJ35)","v":"@"},{"$f":"COUNTIF($C$1:C102,C102)","v":102},"@102","",{"$f":"SUBSTITUTE(IF(#REF!=\"\",\"\",#REF!),\"　\",\"\")","v":{"$error":"#REF!"}}]
["3種目",23,{"$f":"IF(入力表・参加種目確認!BJ36=\"\",\"@\",入力表・参加種目確認!$E$4&入力表・参加種目確認!H36&\"子\"&入力表・参加種目確認!BJ36)","v":"@"},{"$f":"COUNTIF($C$1:C103,C103)","v":103},"@103","",{"$f":"SUBSTITUTE(IF(#REF!=\"\",\"\",#REF!),\"　\",\"\")","v":{"$error":"#REF!"}}]
["3種目",24,{"$f":"IF(入力表・参加種目確認!BJ37=\"\",\"@\",入力表・参加種目確認!$E$4&入力表・参加種目確認!H37&\"子\"&入力表・参加種目確認!BJ37)","v":"@"},{"$f":"COUNTIF($C$1:C104,C104)","v":104},"@104","",{"$f":"SUBSTITUTE(IF(#REF!=\"\",\"\",#REF!),\"　\",\"\")","v":{"$error":"#REF!"}}]
["3種目",25,{"$f":"IF(入力表・参加種目確認!BJ38=\"\",\"@\",入力表・参加種目確認!$E$4&入力表・参加種目確認!H38&\"子\"&入力表・参加種目確認!BJ38)","v":"@"},{"$f":"COUNTIF($C$1:C105,C105)","v":105},"@105","",{"$f":"SUBSTITUTE(IF(#REF!=\"\",\"\",#REF!),\"　\",\"\")","v":{"$error":"#REF!"}}]
["3種目",26,{"$f":"IF(入力表・参加種目確認!BJ39=\"\",\"@\",入力表・参加種目確認!$E$4&入力表・参加種目確認!H39&\"子\"&入力表・参加種目確認!BJ39)","v":"@"},{"$f":"COUNTIF($C$1:C106,C106)","v":106},"@106","",{"$f":"SUBSTITUTE(IF(#REF!=\"\",\"\",#REF!),\"　\",\"\")","v":{"$error":"#REF!"}}]
["3種目",27,{"$f":"IF(入力表・参加種目確認!BJ40=\"\",\"@\",入力表・参加種目確認!$E$4&入力表・参加種目確認!H40&\"子\"&入力表・参加種目確認!BJ40)","v":"@"},{"$f":"COUNTIF($C$1:C107,C107)","v":107},"@107","",{"$f":"SUBSTITUTE(IF(#REF!=\"\",\"\",#REF!),\"　\",\"\")","v":{"$error":"#REF!"}}]
["3種目",28,{"$f":"IF(入力表・参加種目確認!BJ41=\"\",\"@\",入力表・参加種目確認!$E$4&入力表・参加種目確認!H41&\"子\"&入力表・参加種目確認!BJ41)","v":"@"},{"$f":"COUNTIF($C$1:C108,C108)","v":108},"@108","",{"$f":"SUBSTITUTE(IF(#REF!=\"\",\"\",#REF!),\"　\",\"\")","v":{"$error":"#REF!"}}]
["3種目",29,{"$f":"IF(入力表・参加種目確認!BJ42=\"\",\"@\",入力表・参加種目確認!$E$4&入力表・参加種目確認!H42&\"子\"&入力表・参加種目確認!BJ42)","v":"@"},{"$f":"COUNTIF($C$1:C109,C109)","v":109},"@109","",{"$f":"SUBSTITUTE(IF(#REF!=\"\",\"\",#REF!),\"　\",\"\")","v":{"$error":"#REF!"}}]
["3種目",30,{"$f":"IF(入力表・参加種目確認!BJ43=\"\",\"@\",入力表・参加種目確認!$E$4&入力表・参加種目確認!H43&\"子\"&入力表・参加種目確認!BJ43)","v":"@"},{"$f":"COUNTIF($C$1:C110,C110)","v":110},"@110","",{"$f":"SUBSTITUTE(IF(#REF!=\"\",\"\",#REF!),\"　\",\"\")","v":{"$error":"#REF!"}}]
["3種目",31,{"$f":"IF(入力表・参加種目確認!BJ44=\"\",\"@\",入力表・参加種目確認!$E$4&入力表・参加種目確認!H44&\"子\"&入力表・参加種目確認!BJ44)","v":"@"},{"$f":"COUNTIF($C$1:C111,C111)","v":111},"@111","",{"$f":"SUBSTITUTE(IF(#REF!=\"\",\"\",#REF!),\"　\",\"\")","v":{"$error":"#REF!"}}]
["3種目",32,{"$f":"IF(入力表・参加種目確認!BJ45=\"\",\"@\",入力表・参加種目確認!$E$4&入力表・参加種目確認!H45&\"子\"&入力表・参加種目確認!BJ45)","v":"@"},{"$f":"COUNTIF($C$1:C112,C112)","v":112},"@112","",{"$f":"SUBSTITUTE(IF(#REF!=\"\",\"\",#REF!),\"　\",\"\")","v":{"$error":"#REF!"}}]
["3種目",33,{"$f":"IF(入力表・参加種目確認!BJ46=\"\",\"@\",入力表・参加種目確認!$E$4&入力表・参加種目確認!H46&\"子\"&入力表・参加種目確認!BJ46)","v":"@"},{"$f":"COUNTIF($C$1:C113,C113)","v":113},"@113","",{"$f":"SUBSTITUTE(IF(#REF!=\"\",\"\",#REF!),\"　\",\"\")","v":{"$error":"#REF!"}}]
["3種目",34,{"$f":"IF(入力表・参加種目確認!BJ47=\"\",\"@\",入力表・参加種目確認!$E$4&入力表・参加種目確認!H47&\"子\"&入力表・参加種目確認!BJ47)","v":"@"},{"$f":"COUNTIF($C$1:C114,C114)","v":114},"@114","",{"$f":"SUBSTITUTE(IF(#REF!=\"\",\"\",#REF!),\"　\",\"\")","v":{"$error":"#REF!"}}]
["3種目",35,{"$f":"IF(入力表・参加種目確認!BJ48=\"\",\"@\",入力表・参加種目確認!$E$4&入力表・参加種目確認!H48&\"子\"&入力表・参加種目確認!BJ48)","v":"@"},{"$f":"COUNTIF($C$1:C115,C115)","v":115},"@115","",{"$f":"SUBSTITUTE(IF(#REF!=\"\",\"\",#REF!),\"　\",\"\")","v":{"$error":"#REF!"}}]
["3種目",36,{"$f":"IF(入力表・参加種目確認!BJ49=\"\",\"@\",入力表・参加種目確認!$E$4&入力表・参加種目確認!H49&\"子\"&入力表・参加種目確認!BJ49)","v":"@"},{"$f":"COUNTIF($C$1:C116,C116)","v":116},"@116","",{"$f":"SUBSTITUTE(IF(#REF!=\"\",\"\",#REF!),\"　\",\"\")","v":{"$error":"#REF!"}}]
["3種目",37,{"$f":"IF(入力表・参加種目確認!BJ50=\"\",\"@\",入力表・参加種目確認!$E$4&入力表・参加種目確認!H50&\"子\"&入力表・参加種目確認!BJ50)","v":"@"},{"$f":"COUNTIF($C$1:C117,C117)","v":117},"@117","",{"$f":"SUBSTITUTE(IF(#REF!=\"\",\"\",#REF!),\"　\",\"\")","v":{"$error":"#REF!"}}]
["3種目",38,{"$f":"IF(入力表・参加種目確認!BJ51=\"\",\"@\",入力表・参加種目確認!$E$4&入力表・参加種目確認!H51&\"子\"&入力表・参加種目確認!BJ51)","v":"@"},{"$f":"COUNTIF($C$1:C118,C118)","v":118},"@118","",{"$f":"SUBSTITUTE(IF(#REF!=\"\",\"\",#REF!),\"　\",\"\")","v":{"$error":"#REF!"}}]
["3種目",39,{"$f":"IF(入力表・参加種目確認!BJ52=\"\",\"@\",入力表・参加種目確認!$E$4&入力表・参加種目確認!H52&\"子\"&入力表・参加種目確認!BJ52)","v":"@"},{"$f":"COUNTIF($C$1:C119,C119)","v":119},"@119","",{"$f":"SUBSTITUTE(IF(#REF!=\"\",\"\",#REF!),\"　\",\"\")","v":{"$error":"#REF!"}}]
["3種目",40,{"$f":"IF(入力表・参加種目確認!BJ53=\"\",\"@\",入力表・参加種目確認!$E$4&入力表・参加種目確認!H53&\"子\"&入力表・参加種目確認!BJ53)","v":"@"},{"$f":"COUNTIF($C$1:C120,C120)","v":120},"@120","",{"$f":"SUBSTITUTE(IF(#REF!=\"\",\"\",#REF!),\"　\",\"\")","v":{"$error":"#REF!"}}]
["400mR",1,{"$f":"IF(入力表・参加種目確認!BX14=\"\",\"@\",入力表・参加種目確認!BX14)","v":"@"},{"$f":"COUNTIF($C$121:C121,C121)","v":1},"@1",{"$f":"F81","v":""},{"$f":"#REF!","v":{"$error":"#REF!"}}]
["400mR",2,{"$f":"IF(入力表・参加種目確認!BX15=\"\",\"@\",入力表・参加種目確認!BX15)","v":"@"},{"$f":"COUNTIF($C$121:C122,C122)","v":2},"@2",{"$f":"F82","v":""},{"$f":"#REF!","v":{"$error":"#REF!"}}]
["400mR",3,{"$f":"IF(入力表・参加種目確認!BX16=\"\",\"@\",入力表・参加種目確認!BX16)","v":"@"},{"$f":"COUNTIF($C$121:C123,C123)","v":3},"@3","",{"$f":"#REF!","v":{"$error":"#REF!"}}]
["400mR",4,{"$f":"IF(入力表・参加種目確認!BX17=\"\",\"@\",入力表・参加種目確認!BX17)","v":"@"},{"$f":"COUNTIF($C$121:C124,C124)","v":4},"@4","",{"$f":"#REF!","v":{"$error":"#REF!"}}]
["400mR",5,{"$f":"IF(入力表・参加種目確認!BX18=\"\",\"@\",入力表・参加種目確認!BX18)","v":"@"},{"$f":"COUNTIF($C$121:C125,C125)","v":5},"@5","",{"$f":"#REF!","v":{"$error":"#REF!"}}]
["400mR",6,{"$f":"IF(入力表・参加種目確認!BX19=\"\",\"@\",入力表・参加種目確認!BX19)","v":"@"},{"$f":"COUNTIF($C$121:C126,C126)","v":6},"@6","",{"$f":"#REF!","v":{"$error":"#REF!"}}]
["400mR",7,{"$f":"IF(入力表・参加種目確認!BX20=\"\",\"@\",入力表・参加種目確認!BX20)","v":"@"},{"$f":"COUNTIF($C$121:C127,C127)","v":7},"@7","",{"$f":"#REF!","v":{"$error":"#REF!"}}]
["400mR",8,{"$f":"IF(入力表・参加種目確認!BX21=\"\",\"@\",入力表・参加種目確認!BX21)","v":"@"},{"$f":"COUNTIF($C$121:C128,C128)","v":8},"@8","",{"$f":"#REF!","v":{"$error":"#REF!"}}]
["400mR",9,{"$f":"IF(入力表・参加種目確認!BX22=\"\",\"@\",入力表・参加種目確認!BX22)","v":"@"},{"$f":"COUNTIF($C$121:C129,C129)","v":9},"@9","",{"$f":"#REF!","v":{"$error":"#REF!"}}]
["400mR",10,{"$f":"IF(入力表・参加種目確認!BX23=\"\",\"@\",入力表・参加種目確認!BX23)","v":"@"},{"$f":"COUNTIF($C$121:C130,C130)","v":10},{"$f":"C130&D130","v":"@10"},"",{"$f":"#REF!","v":{"$error":"#REF!"}}]
["400mR",11,{"$f":"IF(入力表・参加種目確認!BX24=\"\",\"@\",入力表・参加種目確認!BX24)","v":"@"},{"$f":"COUNTIF($C$121:C131,C131)","v":11},"@11","",{"$f":"#REF!","v":{"$error":"#REF!"}}]
["400mR",12,{"$f":"IF(入力表・参加種目確認!BX25=\"\",\"@\",入力表・参加種目確認!BX25)","v":"@"},{"$f":"COUNTIF($C$121:C132,C132)","v":12},"@12","",{"$f":"#REF!","v":{"$error":"#REF!"}}]
["400mR",13,{"$f":"IF(入力表・参加種目確認!BX26=\"\",\"@\",入力表・参加種目確認!BX26)","v":"@"},{"$f":"COUNTIF($C$121:C133,C133)","v":13},"@13","",{"$f":"#REF!","v":{"$error":"#REF!"}}]
["400mR",14,{"$f":"IF(入力表・参加種目確認!BX27=\"\",\"@\",入力表・参加種目確認!BX27)","v":"@"},{"$f":"COUNTIF($C$121:C134,C134)","v":14},"@14","",{"$f":"#REF!","v":{"$error":"#REF!"}}]
["400mR",15,{"$f":"IF(入力表・参加種目確認!BX28=\"\",\"@\",入力表・参加種目確認!BX28)","v":"@"},{"$f":"COUNTIF($C$121:C135,C135)","v":15},"@15","",{"$f":"#REF!","v":{"$error":"#REF!"}}]
["400mR",16,{"$f":"IF(入力表・参加種目確認!BX29=\"\",\"@\",入力表・参加種目確認!BX29)","v":"@"},{"$f":"COUNTIF($C$121:C136,C136)","v":16},"@16","",{"$f":"#REF!","v":{"$error":"#REF!"}}]
["400mR",17,{"$f":"IF(入力表・参加種目確認!BX30=\"\",\"@\",入力表・参加種目確認!BX30)","v":"@"},{"$f":"COUNTIF($C$121:C137,C137)","v":17},"@17","",{"$f":"#REF!","v":{"$error":"#REF!"}}]
["400mR",18,{"$f":"IF(入力表・参加種目確認!BX31=\"\",\"@\",入力表・参加種目確認!BX31)","v":"@"},{"$f":"COUNTIF($C$121:C138,C138)","v":18},"@18","",{"$f":"#REF!","v":{"$error":"#REF!"}}]
["400mR",19,{"$f":"IF(入力表・参加種目確認!BX32=\"\",\"@\",入力表・参加種目確認!BX32)","v":"@"},{"$f":"COUNTIF($C$121:C139,C139)","v":19},"@19","",{"$f":"#REF!","v":{"$error":"#REF!"}}]
["400mR",20,{"$f":"IF(入力表・参加種目確認!BX33=\"\",\"@\",入力表・参加種目確認!BX33)","v":"@"},{"$f":"COUNTIF($C$121:C140,C140)","v":20},"@20","",{"$f":"#REF!","v":{"$error":"#REF!"}}]
["400mR",21,{"$f":"IF(入力表・参加種目確認!BX34=\"\",\"@\",入力表・参加種目確認!BX34)","v":"@"},{"$f":"COUNTIF($C$121:C141,C141)","v":21},"@21","",{"$f":"#REF!","v":{"$error":"#REF!"}}]
["400mR",22,{"$f":"IF(入力表・参加種目確認!BX35=\"\",\"@\",入力表・参加種目確認!BX35)","v":"@"},{"$f":"COUNTIF($C$121:C142,C142)","v":22},"@22","",{"$f":"#REF!","v":{"$error":"#REF!"}}]
["400mR",23,{"$f":"IF(入力表・参加種目確認!BX36=\"\",\"@\",入力表・参加種目確認!BX36)","v":"@"},{"$f":"COUNTIF($C$121:C143,C143)","v":23},"@23","",{"$f":"#REF!","v":{"$error":"#REF!"}}]
["400mR",24,{"$f":"IF(入力表・参加種目確認!BX37=\"\",\"@\",入力表・参加種目確認!BX37)","v":"@"},{"$f":"COUNTIF($C$121:C144,C144)","v":24},"@24","",{"$f":"#REF!","v":{"$error":"#REF!"}}]
["400mR",25,{"$f":"IF(入力表・参加種目確認!BX38=\"\",\"@\",入力表・参加種目確認!BX38)","v":"@"},{"$f":"COUNTIF($C$121:C145,C145)","v":25},"@25","",{"$f":"#REF!","v":{"$error":"#REF!"}}]
["400mR",26,{"$f":"IF(入力表・参加種目確認!BX39=\"\",\"@\",入力表・参加種目確認!BX39)","v":"@"},{"$f":"COUNTIF($C$121:C146,C146)","v":26},"@26","",{"$f":"#REF!","v":{"$error":"#REF!"}}]
["400mR",27,{"$f":"IF(入力表・参加種目確認!BX40=\"\",\"@\",入力表・参加種目確認!BX40)","v":"@"},{"$f":"COUNTIF($C$121:C147,C147)","v":27},"@27","",{"$f":"#REF!","v":{"$error":"#REF!"}}]
["400mR",28,{"$f":"IF(入力表・参加種目確認!BX41=\"\",\"@\",入力表・参加種目確認!BX41)","v":"@"},{"$f":"COUNTIF($C$121:C148,C148)","v":28},"@28","",{"$f":"#REF!","v":{"$error":"#REF!"}}]
["400mR",29,{"$f":"IF(入力表・参加種目確認!BX42=\"\",\"@\",入力表・参加種目確認!BX42)","v":"@"},{"$f":"COUNTIF($C$121:C149,C149)","v":29},"@29","",{"$f":"#REF!","v":{"$error":"#REF!"}}]
["400mR",30,{"$f":"IF(入力表・参加種目確認!BX43=\"\",\"@\",入力表・参加種目確認!BX43)","v":"@"},{"$f":"COUNTIF($C$121:C150,C150)","v":30},"@30","",{"$f":"#REF!","v":{"$error":"#REF!"}}]
["400mR",31,{"$f":"IF(入力表・参加種目確認!BX44=\"\",\"@\",入力表・参加種目確認!BX44)","v":"@"},{"$f":"COUNTIF($C$121:C151,C151)","v":31},"@31","",{"$f":"#REF!","v":{"$error":"#REF!"}}]
["400mR",32,{"$f":"IF(入力表・参加種目確認!BX45=\"\",\"@\",入力表・参加種目確認!BX45)","v":"@"},{"$f":"COUNTIF($C$121:C152,C152)","v":32},"@32","",{"$f":"#REF!","v":{"$error":"#REF!"}}]
["400mR",33,{"$f":"IF(入力表・参加種目確認!BX46=\"\",\"@\",入力表・参加種目確認!BX46)","v":"@"},{"$f":"COUNTIF($C$121:C153,C153)","v":33},"@33","",{"$f":"#REF!","v":{"$error":"#REF!"}}]
["400mR",34,{"$f":"IF(入力表・参加種目確認!BX47=\"\",\"@\",入力表・参加種目確認!BX47)","v":"@"},{"$f":"COUNTIF($C$121:C154,C154)","v":34},"@34","",{"$f":"#REF!","v":{"$error":"#REF!"}}]
["400mR",35,{"$f":"IF(入力表・参加種目確認!BX48=\"\",\"@\",入力表・参加種目確認!BX48)","v":"@"},{"$f":"COUNTIF($C$121:C155,C155)","v":35},"@35","",{"$f":"#REF!","v":{"$error":"#REF!"}}]
["400mR",36,{"$f":"IF(入力表・参加種目確認!BX49=\"\",\"@\",入力表・参加種目確認!BX49)","v":"@"},{"$f":"COUNTIF($C$121:C156,C156)","v":36},"@36","",{"$f":"#REF!","v":{"$error":"#REF!"}}]
["400mR",37,{"$f":"IF(入力表・参加種目確認!BX50=\"\",\"@\",入力表・参加種目確認!BX50)","v":"@"},{"$f":"COUNTIF($C$121:C157,C157)","v":37},"@37","",{"$f":"#REF!","v":{"$error":"#REF!"}}]
["400mR",38,{"$f":"IF(入力表・参加種目確認!BX51=\"\",\"@\",入力表・参加種目確認!BX51)","v":"@"},{"$f":"COUNTIF($C$121:C158,C158)","v":38},"@38","",{"$f":"#REF!","v":{"$error":"#REF!"}}]
["400mR",39,{"$f":"IF(入力表・参加種目確認!BX52=\"\",\"@\",入力表・参加種目確認!BX52)","v":"@"},{"$f":"COUNTIF($C$121:C159,C159)","v":39},"@39","",{"$f":"#REF!","v":{"$error":"#REF!"}}]
["400mR",40,{"$f":"IF(入力表・参加種目確認!BX53=\"\",\"@\",入力表・参加種目確認!BX53)","v":"@"},{"$f":"COUNTIF($C$121:C160,C160)","v":40},"@40","",{"$f":"#REF!","v":{"$error":"#REF!"}}]
["1600mR",1,{"$f":"IF(入力表・参加種目確認!CA14=\"\",\"@\",入力表・参加種目確認!CA14)","v":"@"},{"$f":"COUNTIF($C$161:C161,C161)","v":1},"@1",{"$f":"F1","v":""},{"$f":"#REF!","v":{"$error":"#REF!"}}]
["1600mR",2,{"$f":"IF(入力表・参加種目確認!CA15=\"\",\"@\",入力表・参加種目確認!CA15)","v":"@"},{"$f":"COUNTIF($C$161:C162,C162)","v":2},"@2",{"$f":"F2","v":""},{"$f":"#REF!","v":{"$error":"#REF!"}}]
["1600mR",3,{"$f":"IF(入力表・参加種目確認!CA16=\"\",\"@\",入力表・参加種目確認!CA16)","v":"@"},{"$f":"COUNTIF($C$161:C163,C163)","v":3},"@3","",{"$f":"#REF!","v":{"$error":"#REF!"}}]
["1600mR",4,{"$f":"IF(入力表・参加種目確認!CA17=\"\",\"@\",入力表・参加種目確認!CA17)","v":"@"},{"$f":"COUNTIF($C$161:C164,C164)","v":4},"@4","",{"$f":"#REF!","v":{"$error":"#REF!"}}]
["1600mR",5,{"$f":"IF(入力表・参加種目確認!CA18=\"\",\"@\",入力表・参加種目確認!CA18)","v":"@"},{"$f":"COUNTIF($C$161:C165,C165)","v":5},"@5","",{"$f":"#REF!","v":{"$error":"#REF!"}}]
["1600mR",6,{"$f":"IF(入力表・参加種目確認!CA19=\"\",\"@\",入力表・参加種目確認!CA19)","v":"@"},{"$f":"COUNTIF($C$161:C166,C166)","v":6},"@6","",{"$f":"#REF!","v":{"$error":"#REF!"}}]
["1600mR",7,{"$f":"IF(入力表・参加種目確認!CA20=\"\",\"@\",入力表・参加種目確認!CA20)","v":"@"},{"$f":"COUNTIF($C$161:C167,C167)","v":7},"@7","",{"$f":"#REF!","v":{"$error":"#REF!"}}]
["1600mR",8,{"$f":"IF(入力表・参加種目確認!CA21=\"\",\"@\",入力表・参加種目確認!CA21)","v":"@"},{"$f":"COUNTIF($C$161:C168,C168)","v":8},"@8","",{"$f":"#REF!","v":{"$error":"#REF!"}}]
["1600mR",9,{"$f":"IF(入力表・参加種目確認!CA22=\"\",\"@\",入力表・参加種目確認!CA22)","v":"@"},{"$f":"COUNTIF($C$161:C169,C169)","v":9},"@9","",{"$f":"#REF!","v":{"$error":"#REF!"}}]
["1600mR",10,{"$f":"IF(入力表・参加種目確認!CA23=\"\",\"@\",入力表・参加種目確認!CA23)","v":"@"},{"$f":"COUNTIF($C$161:C170,C170)","v":10},"@10","",{"$f":"#REF!","v":{"$error":"#REF!"}}]
["1600mR",11,{"$f":"IF(入力表・参加種目確認!CA24=\"\",\"@\",入力表・参加種目確認!CA24)","v":"@"},{"$f":"COUNTIF($C$161:C171,C171)","v":11},"@11","",{"$f":"#REF!","v":{"$error":"#REF!"}}]
["1600mR",12,{"$f":"IF(入力表・参加種目確認!CA25=\"\",\"@\",入力表・参加種目確認!CA25)","v":"@"},{"$f":"COUNTIF($C$161:C172,C172)","v":12},"@12","",{"$f":"#REF!","v":{"$error":"#REF!"}}]
["1600mR",13,{"$f":"IF(入力表・参加種目確認!CA26=\"\",\"@\",入力表・参加種目確認!CA26)","v":"@"},{"$f":"COUNTIF($C$161:C173,C173)","v":13},"@13","",{"$f":"#REF!","v":{"$error":"#REF!"}}]
["1600mR",14,{"$f":"IF(入力表・参加種目確認!CA27=\"\",\"@\",入力表・参加種目確認!CA27)","v":"@"},{"$f":"COUNTIF($C$161:C174,C174)","v":14},"@14","",{"$f":"#REF!","v":{"$error":"#REF!"}}]
["1600mR",15,{"$f":"IF(入力表・参加種目確認!CA28=\"\",\"@\",入力表・参加種目確認!CA28)","v":"@"},{"$f":"COUNTIF($C$161:C175,C175)","v":15},"@15","",{"$f":"#REF!","v":{"$error":"#REF!"}}]
["1600mR",16,{"$f":"IF(入力表・参加種目確認!CA29=\"\",\"@\",入力表・参加種目確認!CA29)","v":"@"},{"$f":"COUNTIF($C$161:C176,C176)","v":16},"@16","",{"$f":"#REF!","v":{"$error":"#REF!"}}]
["1600mR",17,{"$f":"IF(入力表・参加種目確認!CA30=\"\",\"@\",入力表・参加種目確認!CA30)","v":"@"},{"$f":"COUNTIF($C$161:C177,C177)","v":17},"@17","",{"$f":"#REF!","v":{"$error":"#REF!"}}]
["1600mR",18,{"$f":"IF(入力表・参加種目確認!CA31=\"\",\"@\",入力表・参加種目確認!CA31)","v":"@"},{"$f":"COUNTIF($C$161:C178,C178)","v":18},"@18","",{"$f":"#REF!","v":{"$error":"#REF!"}}]
["1600mR",19,{"$f":"IF(入力表・参加種目確認!CA32=\"\",\"@\",入力表・参加種目確認!CA32)","v":"@"},{"$f":"COUNTIF($C$161:C179,C179)","v":19},"@19","",{"$f":"#REF!","v":{"$error":"#REF!"}}]
["1600mR",20,{"$f":"IF(入力表・参加種目確認!CA33=\"\",\"@\",入力表・参加種目確認!CA33)","v":"@"},{"$f":"COUNTIF($C$161:C180,C180)","v":20},"@20","",{"$f":"#REF!","v":{"$error":"#REF!"}}]
["1600mR",21,{"$f":"IF(入力表・参加種目確認!CA34=\"\",\"@\",入力表・参加種目確認!CA34)","v":"@"},{"$f":"COUNTIF($C$161:C181,C181)","v":21},"@21","",{"$f":"#REF!","v":{"$error":"#REF!"}}]
["1600mR",22,{"$f":"IF(入力表・参加種目確認!CA35=\"\",\"@\",入力表・参加種目確認!CA35)","v":"@"},{"$f":"COUNTIF($C$161:C182,C182)","v":22},"@22","",{"$f":"#REF!","v":{"$error":"#REF!"}}]
["1600mR",23,{"$f":"IF(入力表・参加種目確認!CA36=\"\",\"@\",入力表・参加種目確認!CA36)","v":"@"},{"$f":"COUNTIF($C$161:C183,C183)","v":23},"@23","",{"$f":"#REF!","v":{"$error":"#REF!"}}]
["1600mR",24,{"$f":"IF(入力表・参加種目確認!CA37=\"\",\"@\",入力表・参加種目確認!CA37)","v":"@"},{"$f":"COUNTIF($C$161:C184,C184)","v":24},"@24","",{"$f":"#REF!","v":{"$error":"#REF!"}}]
["1600mR",25,{"$f":"IF(入力表・参加種目確認!CA38=\"\",\"@\",入力表・参加種目確認!CA38)","v":"@"},{"$f":"COUNTIF($C$161:C185,C185)","v":25},"@25","",{"$f":"#REF!","v":{"$error":"#REF!"}}]
["1600mR",26,{"$f":"IF(入力表・参加種目確認!CA39=\"\",\"@\",入力表・参加種目確認!CA39)","v":"@"},{"$f":"COUNTIF($C$161:C186,C186)","v":26},"@26","",{"$f":"#REF!","v":{"$error":"#REF!"}}]
["1600mR",27,{"$f":"IF(入力表・参加種目確認!CA40=\"\",\"@\",入力表・参加種目確認!CA40)","v":"@"},{"$f":"COUNTIF($C$161:C187,C187)","v":27},"@27","",{"$f":"#REF!","v":{"$error":"#REF!"}}]
["1600mR",28,{"$f":"IF(入力表・参加種目確認!CA41=\"\",\"@\",入力表・参加種目確認!CA41)","v":"@"},{"$f":"COUNTIF($C$161:C188,C188)","v":28},"@28","",{"$f":"#REF!","v":{"$error":"#REF!"}}]
["1600mR",29,{"$f":"IF(入力表・参加種目確認!CA42=\"\",\"@\",入力表・参加種目確認!CA42)","v":"@"},{"$f":"COUNTIF($C$161:C189,C189)","v":29},"@29","",{"$f":"#REF!","v":{"$error":"#REF!"}}]
["1600mR",30,{"$f":"IF(入力表・参加種目確認!CA43=\"\",\"@\",入力表・参加種目確認!CA43)","v":"@"},{"$f":"COUNTIF($C$161:C190,C190)","v":30},"@30","",{"$f":"#REF!","v":{"$error":"#REF!"}}]
["1600mR",31,{"$f":"IF(入力表・参加種目確認!CA44=\"\",\"@\",入力表・参加種目確認!CA44)","v":"@"},{"$f":"COUNTIF($C$161:C191,C191)","v":31},"@31","",{"$f":"#REF!","v":{"$error":"#REF!"}}]
["1600mR",32,{"$f":"IF(入力表・参加種目確認!CA45=\"\",\"@\",入力表・参加種目確認!CA45)","v":"@"},{"$f":"COUNTIF($C$161:C192,C192)","v":32},"@32","",{"$f":"#REF!","v":{"$error":"#REF!"}}]
["1600mR",33,{"$f":"IF(入力表・参加種目確認!CA46=\"\",\"@\",入力表・参加種目確認!CA46)","v":"@"},{"$f":"COUNTIF($C$161:C193,C193)","v":33},"@33","",{"$f":"#REF!","v":{"$error":"#REF!"}}]
["1600mR",34,{"$f":"IF(入力表・参加種目確認!CA47=\"\",\"@\",入力表・参加種目確認!CA47)","v":"@"},{"$f":"COUNTIF($C$161:C194,C194)","v":34},{"$f":"C194&D194","v":"@34"},"",{"$f":"#REF!","v":{"$error":"#REF!"}}]
["1600mR",35,{"$f":"IF(入力表・参加種目確認!CA48=\"\",\"@\",入力表・参加種目確認!CA48)","v":"@"},{"$f":"COUNTIF($C$161:C195,C195)","v":35},"@35","",{"$f":"#REF!","v":{"$error":"#REF!"}}]
["1600mR",36,{"$f":"IF(入力表・参加種目確認!CA49=\"\",\"@\",入力表・参加種目確認!CA49)","v":"@"},{"$f":"COUNTIF($C$161:C196,C196)","v":36},"@36","",{"$f":"#REF!","v":{"$error":"#REF!"}}]
["1600mR",37,{"$f":"IF(入力表・参加種目確認!CA50=\"\",\"@\",入力表・参加種目確認!CA50)","v":"@"},{"$f":"COUNTIF($C$161:C197,C197)","v":37},"@37","",{"$f":"#REF!","v":{"$error":"#REF!"}}]
["1600mR",38,{"$f":"IF(入力表・参加種目確認!CA51=\"\",\"@\",入力表・参加種目確認!CA51)","v":"@"},{"$f":"COUNTIF($C$161:C198,C198)","v":38},"@38","",{"$f":"#REF!","v":{"$error":"#REF!"}}]
["1600mR",39,{"$f":"IF(入力表・参加種目確認!CA52=\"\",\"@\",入力表・参加種目確認!CA52)","v":"@"},{"$f":"COUNTIF($C$161:C199,C199)","v":39},"@39","",{"$f":"#REF!","v":{"$error":"#REF!"}}]
["1600mR",40,{"$f":"IF(入力表・参加種目確認!CA53=\"\",\"@\",入力表・参加種目確認!CA53)","v":"@"},{"$f":"COUNTIF($C$161:C200,C200)","v":40},"@40","",{"$f":"#REF!","v":{"$error":"#REF!"}}]

{"sheet":"貼付（事務局）","index":3,"n_rows":41,"n_cols":69,"rows_kept":41,"cut":false,"hidden":false,"merged":[[0,36,0,43],[0,44,0,51],[0,52,0,59],[0,15,0,16],[0,18,0,19]]}
["数","性","NC","氏名","誕生年","ﾌﾘｶﾞﾅ","所属陸協","団体名","年","種目１","ベスト","種目２","ベスト","種目３","ベスト","4R",null,"記録","16R",null,"記録","責任者","審判員","希望役職①","希望役職②","審判員","希望役職①","希望役職②","男4R数","女4R数","男16R数","男16R数","男Ｒ計","女Ｒ計","団体Ｒ計",null,"種目1ベスト",null,null,null,null,null,null,null,"種目2ベスト",null,null,null,null,null,null,null,"種目3ベスト"]
[1,{"$f":"IF(入力表・参加種目確認!H14=0,\"\",入力表・参加種目確認!H14)","v":""},{"$f":"IF(入力表・参加種目確認!J14=0,\"\",入力表・参加種目確認!J14)","v":""},{"$f":"IF(入力表・参加種目確認!N14=0,\"\",入力表・参加種目確認!N14)","v":""},{"$f":"RIGHT(入力表・参加種目確認!AA14,2)","v":""},{"$f":"IF(入力表・参加種目確認!U14=0,\"\",ASC(入力表・参加種目確認!U14))","v":""},{"$f":"IF(B2=\"\",\"\",入力表・参加種目確認!$N$8)","v":""},{"$f":"IF(B2=\"\",\"\",入力表・参加種目確認!$L$4)","v":""},{"$f":"IF(B2=\"\",\"\",入力表・参加種目確認!AE14)","v":""},{"$f":"IF(入力表・参加種目確認!AH14=\"\",\"\",入力表・参加種目確認!$E$4&'貼付（事務局）'!B2&\"子\"&入力表・参加種目確認!AH14)","v":""},{"$f":"CONCATENATE(AK2,AL2,AM2,AN2,AO2,AP2,AQ2,AR2)","v":""},{"$f":"IF(入力表・参加種目確認!AV14=\"\",\"\",入力表・参加種目確認!$E$4&'貼付（事務局）'!B2&\"子\"&入力表・参加種目確認!AV14)","v":""},{"$f":"CONCATENATE(AS2,AT2,AU2,AV2,AW2,AX2,AY2,AZ2)","v":""},{"$f":"IF(入力表・参加種目確認!BJ14=\"\",\"\",入力表・参加種目確認!$E$4&'貼付（事務局）'!B2&\"子\"&入力表・参加種目確認!BJ14)","v":""},{"$f":"CONCATENATE(BA2,BB2,BC2,BD2,BE2,BF2,BG2,BH2)","v":""},{"$f":"IF(入力表・参加種目確認!BX14=\"\",\"\",VLOOKUP(入力表・参加種目確認!$E$4,$BP$2:$BQ$5,2,FALSE)&入力表・参加種目確認!H14&\"子\"&\"4X100mR\")","v":""},{"$f":"IF(P2=\"\",\"\",H2&P2&入力表・参加種目確認!BX14)","v":""},{"$f":"IF(ISERROR(VLOOKUP(RIGHT(Q2,3),$BM$3:$BN$14,2,FALSE)),\"\",VLOOKUP(RIGHT(Q2,3),$BM$3:$BN$14,2,FALSE))","v":""},{"$f":"IF(入力表・参加種目確認!CA14=\"\",\"\",VLOOKUP(入力表・参加種目確認!$E$4,$BP$7:$BQ$10,2,FALSE)&入力表・参加種目確認!H14&\"子\"&\"4X400mR\")","v":""},{"$f":"IF(S2=\"\",\"\",H2&S2&入力表・参加種目確認!CA14)","v":""},{"$f":"IF(ISERROR(VLOOKUP(RIGHT(T2,3),$BM$16:$BN$21,2,FALSE)),\"\",VLOOKUP(RIGHT(T2,3),$BM$16:$BN$21,2,FALSE))","v":""},{"$f":"入力表・参加種目確認!E6","v":0},{"$f":"入力表・参加種目確認!AN5","v":0},{"$f":"入力表・参加種目確認!AU5","v":0},{"$f":"入力表・参加種目確認!BA5","v":0},{"$f":"入力表・参加種目確認!AN6","v":0},{"$f":"入力表・参加種目確認!AU6","v":0},{"$f":"入力表・参加種目確認!BA6","v":0},{"$f":"入力表・参加種目確認!CG3","v":0},{"$f":"入力表・参加種目確認!CH3","v":0},{"$f":"入力表・参加種目確認!CI3","v":0},{"$f":"入力表・参加種目確認!CJ3","v":0},{"$f":"AC2+AE2","v":0},{"$f":"AD2+AF2","v":0},{"$f":"AG2+AH2","v":0},null,{"$f":"IF(入力表・参加種目確認!AN14=\"\",\"\",入力表・参加種目確認!AN14)","v":""},{"$f":"IF(入力表・参加種目確認!AO14=\"\",\"\",入力表・参加種目確認!AO14)","v":""},{"$f":"IF(ISERROR(VLOOKUP(IF(AL2=\"\",\"\",入力表・参加種目確認!AP14),$BJ$2:$BK$5,2,FALSE)),\"\",VLOOKUP(IF(AL2=\"\",\"\",入力表・参加種目確認!AS14),$BJ$2:$BK$5,2,FALSE))","v":""},{"$f":"IF(入力表・参加種目確認!AQ14=\"\",\"\",入力表・参加種目確認!AQ14)","v":""},{"$f":"IF(入力表・参加種目確認!AR14=\"\",\"\",入力表・参加種目確認!AR14)","v":""},{"$f":"IF(ISERROR(VLOOKUP(入力表・参加種目確認!AS14,$BJ$2:$BK$5,2,FALSE)),\"\",VLOOKUP(入力表・参加種目確認!AS14,$BJ$2:$BK$5,2,FALSE))","v":""},{"$f":"IF(入力表・参加種目確認!AT14=\"\",\"\",入力表・参加種目確認!AT14)","v":""},{"$f":"IF(入力表・参加種目確認!AU14=\"\",\"\",入力表・参加種目確認!AU14)","v":""},{"$f":"IF(入力表・参加種目確認!BB14=\"\",\"\",入力表・参加種目確認!BB14)","v":""},{"$f":"IF(入力表・参加種目確認!BC14=\"\",\"\",入力表・参加種目確認!BC14)","v":""},{"$f":"IF(ISERROR(VLOOKUP(IF(AT2=\"\",\"\",入力表・参加種目確認!BD14),$BJ$2:$BK$5,2,FALSE)),\"\",VLOOKUP(IF(AT2=\"\",\"\",入力表・参加種目確認!BD14),$BJ$2:$BK$5,2,FALSE))","v":""},{"$f":"IF(入力表・参加種目確認!BE14=\"\",\"\",入力表・参加種目確認!BE14)","v":""},{"$f":"IF(入力表・参加種目確認!BF14=\"\",\"\",入力表・参加種目確認!BF14)","v":""},{"$f":"IF(ISERROR(VLOOKUP(入力表・参加種目確認!BG14,$BJ$2:$BK$5,2,FALSE)),\"\",VLOOKUP(入力表・参加種目確認!BG14,$BJ$2:$BK$5,2,FALSE))","v":""},{"$f":"IF(入力表・参加種目確認!BH14=\"\",\"\",入力表・参加種目確認!BH14)","v":""},{"$f":"IF(入力表・参加種目確認!BI14=\"\",\"\",入力表・参加種目確認!BI14)","v":""},{"$f":"IF(入力表・参加種目確認!BP14=\"\",\"\",入力表・参加種目確認!BP14)","v":""},{"$f":"IF(入力表・参加種目確認!BQ14=\"\",\"\",入力表・参加種目確認!BQ14)","v":""},{"$f":"IF(ISERROR(VLOOKUP(IF(BB2=\"\",\"\",入力表・参加種目確認!BR14),$BJ$2:$BK$5,2,FALSE)),\"\",VLOOKUP(IF(BB2=\"\",\"\",入力表・参加種目確認!BR14),$BJ$2:$BK$5,2,FALSE))","v":""},{"$f":"IF(入力表・参加種目確認!BS14=\"\",\"\",入力表・参加種目確認!BS14)","v":""},{"$f":"IF(入力表・参加種目確認!BT14=\"\",\"\",入力表・参加種目確認!BT14)","v":""},{"$f":"IF(ISERROR(VLOOKUP(入力表・参加種目確認!BU14,$BJ$2:$BK$5,2,FALSE)),\"\",VLOOKUP(入力表・参加種目確認!BU14,$BJ$2:$BK$5,2,FALSE))","v":""},{"$f":"IF(入力表・参加種目確認!BV14=\"\",\"\",入力表・参加種目確認!BV14)","v":""},{"$f":"IF(入力表・参加種目確認!BW14=\"\",\"\",入力表・参加種目確認!BW14)","v":""},null,"分",".",null,"400mR",null,null,"小学","小学"]
[2,{"$f":"IF(入力表・参加種目確認!H15=0,\"\",入力表・参加種目確認!H15)","v":""},{"$f":"IF(入力表・参加種目確認!J15=0,\"\",入力表・参加種目確認!J15)","v":""},{"$f":"IF(入力表・参加種目確認!N15=0,\"\",入力表・参加種目確認!N15)","v":""},{"$f":"RIGHT(入力表・参加種目確認!AA15,2)","v":""},{"$f":"IF(入力表・参加種目確認!U15=0,\"\",ASC(入力表・参加種目確認!U15))","v":""},{"$f":"IF(B3=\"\",\"\",入力表・参加種目確認!$N$8)","v":""},{"$f":"IF(B3=\"\",\"\",入力表・参加種目確認!$L$4)","v":""},{"$f":"IF(B3=\"\",\"\",入力表・参加種目確認!AE15)","v":""},{"$f":"IF(入力表・参加種目確認!AH15=\"\",\"\",入力表・参加種目確認!$E$4&'貼付（事務局）'!B3&\"子\"&入力表・参加種目確認!AH15)","v":""},"",{"$f":"IF(入力表・参加種目確認!AV15=\"\",\"\",入力表・参加種目確認!$E$4&'貼付（事務局）'!B3&\"子\"&入力表・参加種目確認!AV15)","v":""},"",{"$f":"IF(入力表・参加種目確認!BJ15=\"\",\"\",入力表・参加種目確認!$E$4&'貼付（事務局）'!B3&\"子\"&入力表・参加種目確認!BJ15)","v":""},"",{"$f":"IF(入力表・参加種目確認!BX15=\"\",\"\",VLOOKUP(入力表・参加種目確認!$E$4,$BP$2:$BQ$5,2,FALSE)&入力表・参加種目確認!H15&\"子\"&\"4X100mR\")","v":""},{"$f":"IF(P3=\"\",\"\",H3&P3&入力表・参加種目確認!BX15)","v":""},{"$f":"IF(ISERROR(VLOOKUP(RIGHT(Q3,3),$BM$3:$BN$14,2,FALSE)),\"\",VLOOKUP(RIGHT(Q3,3),$BM$3:$BN$14,2,FALSE))","v":""},{"$f":"IF(入力表・参加種目確認!CA15=\"\",\"\",VLOOKUP(入力表・参加種目確認!$E$4,$BP$7:$BQ$10,2,FALSE)&入力表・参加種目確認!H15&\"子\"&\"4X400mR\")","v":""},{"$f":"IF(S3=\"\",\"\",H3&S3&入力表・参加種目確認!CA15)","v":""},{"$f":"IF(ISERROR(VLOOKUP(RIGHT(T3,3),$BM$16:$BN$21,2,FALSE)),\"\",VLOOKUP(RIGHT(T3,3),$BM$16:$BN$21,2,FALSE))","v":""},null,null,null,null,null,null,null,null,null,null,null,null,null,null,null,{"$f":"IF(入力表・参加種目確認!AN15=\"\",\"\",入力表・参加種目確認!AN15)","v":""},{"$f":"IF(入力表・参加種目確認!AO15=\"\",\"\",入力表・参加種目確認!AO15)","v":""},{"$f":"IF(ISERROR(VLOOKUP(IF(AL3=\"\",\"\",入力表・参加種目確認!AP15),$BJ$2:$BK$5,2,FALSE)),\"\",VLOOKUP(IF(AL3=\"\",\"\",入力表・参加種目確認!AS15),$BJ$2:$BK$5,2,FALSE))","v":""},{"$f":"IF(入力表・参加種目確認!AQ15=\"\",\"\",入力表・参加種目確認!AQ15)","v":""},{"$f":"IF(入力表・参加種目確認!AR15=\"\",\"\",入力表・参加種目確認!AR15)","v":""},{"$f":"IF(ISERROR(VLOOKUP(入力表・参加種目確認!AS15,$BJ$2:$BK$5,2,FALSE)),\"\",VLOOKUP(入力表・参加種目確認!AS15,$BJ$2:$BK$5,2,FALSE))","v":""},{"$f":"IF(入力表・参加種目確認!AT15=\"\",\"\",入力表・参加種目確認!AT15)","v":""},{"$f":"IF(入力表・参加種目確認!AU15=\"\",\"\",入力表・参加種目確認!AU15)","v":""},{"$f":"IF(入力表・参加種目確認!BB15=\"\",\"\",入力表・参加種目確認!BB15)","v":""},{"$f":"IF(入力表・参加種目確認!BC15=\"\",\"\",入力表・参加種目確認!BC15)","v":""},{"$f":"IF(ISERROR(VLOOKUP(IF(AT3=\"\",\"\",入力表・参加種目確認!BD15),$BJ$2:$BK$5,2,FALSE)),\"\",VLOOKUP(IF(AT3=\"\",\"\",入力表・参加種目確認!BD15),$BJ$2:$BK$5,2,FALSE))","v":""},{"$f":"IF(入力表・参加種目確認!BE15=\"\",\"\",入力表・参加種目確認!BE15)","v":""},{"$f":"IF(入力表・参加種目確認!BF15=\"\",\"\",入力表・参加種目確認!BF15)","v":""},{"$f":"IF(ISERROR(VLOOKUP(入力表・参加種目確認!BG15,$BJ$2:$BK$5,2,FALSE)),\"\",VLOOKUP(入力表・参加種目確認!BG15,$BJ$2:$BK$5,2,FALSE))","v":""},{"$f":"IF(入力表・参加種目確認!BH15=\"\",\"\",入力表・参加種目確認!BH15)","v":""},{"$f":"IF(入力表・参加種目確認!BI15=\"\",\"\",入力表・参加種目確認!BI15)","v":""},{"$f":"IF(入力表・参加種目確認!BP15=\"\",\"\",入力表・参加種目確認!BP15)","v":""},{"$f":"IF(入力表・参加種目確認!BQ15=\"\",\"\",入力表・参加種目確認!BQ15)","v":""},{"$f":"IF(ISERROR(VLOOKUP(IF(BB3=\"\",\"\",入力表・参加種目確認!BR15),$BJ$2:$BK$5,2,FALSE)),\"\",VLOOKUP(IF(BB3=\"\",\"\",入力表・参加種目確認!BR15),$BJ$2:$BK$5,2,FALSE))","v":""},{"$f":"IF(入力表・参加種目確認!BS15=\"\",\"\",入力表・参加種目確認!BS15)","v":""},{"$f":"IF(入力表・参加種目確認!BT15=\"\",\"\",入力表・参加種目確認!BT15)","v":""},{"$f":"IF(ISERROR(VLOOKUP(入力表・参加種目確認!BU15,$BJ$2:$BK$5,2,FALSE)),\"\",VLOOKUP(入力表・参加種目確認!BU15,$BJ$2:$BK$5,2,FALSE))","v":""},{"$f":"IF(入力表・参加種目確認!BV15=\"\",\"\",入力表・参加種目確認!BV15)","v":""},{"$f":"IF(入力表・参加種目確認!BW15=\"\",\"\",入力表・参加種目確認!BW15)","v":""},null,"秒",".",null,"男子A",{"$f":"CONCATENATE(入力表・参加種目確認!BL2,\".\",入力表・参加種目確認!BN2,入力表・参加種目確認!BO2,\".\",入力表・参加種目確認!BQ2,入力表・参加種目確認!BR2)","v":".."},null,"中学","中学"]
[3,{"$f":"IF(入力表・参加種目確認!H16=0,\"\",入力表・参加種目確認!H16)","v":""},{"$f":"IF(入力表・参加種目確認!J16=0,\"\",入力表・参加種目確認!J16)","v":""},{"$f":"IF(入力表・参加種目確認!N16=0,\"\",入力表・参加種目確認!N16)","v":""},{"$f":"RIGHT(入力表・参加種目確認!AA16,2)","v":""},{"$f":"IF(入力表・参加種目確認!U16=0,\"\",ASC(入力表・参加種目確認!U16))","v":""},{"$f":"IF(B4=\"\",\"\",入力表・参加種目確認!$N$8)","v":""},{"$f":"IF(B4=\"\",\"\",入力表・参加種目確認!$L$4)","v":""},{"$f":"IF(B4=\"\",\"\",入力表・参加種目確認!AE16)","v":""},{"$f":"IF(入力表・参加種目確認!AH16=\"\",\"\",入力表・参加種目確認!$E$4&'貼付（事務局）'!B4&\"子\"&入力表・参加種目確認!AH16)","v":""},"",{"$f":"IF(入力表・参加種目確認!AV16=\"\",\"\",入力表・参加種目確認!$E$4&'貼付（事務局）'!B4&\"子\"&入力表・参加種目確認!AV16)","v":""},"",{"$f":"IF(入力表・参加種目確認!BJ16=\"\",\"\",入力表・参加種目確認!$E$4&'貼付（事務局）'!B4&\"子\"&入力表・参加種目確認!BJ16)","v":""},"",{"$f":"IF(入力表・参加種目確認!BX16=\"\",\"\",VLOOKUP(入力表・参加種目確認!$E$4,$BP$2:$BQ$5,2,FALSE)&入力表・参加種目確認!H16&\"子\"&\"4X100mR\")","v":""},{"$f":"IF(P4=\"\",\"\",H4&P4&入力表・参加種目確認!BX16)","v":""},"",{"$f":"IF(入力表・参加種目確認!CA16=\"\",\"\",VLOOKUP(入力表・参加種目確認!$E$4,$BP$7:$BQ$10,2,FALSE)&入力表・参加種目確認!H16&\"子\"&\"4X400mR\")","v":""},{"$f":"IF(S4=\"\",\"\",H4&S4&入力表・参加種目確認!CA16)","v":""},"",null,null,null,null,null,null,null,null,null,null,null,null,null,null,null,{"$f":"IF(入力表・参加種目確認!AN16=\"\",\"\",入力表・参加種目確認!AN16)","v":""},{"$f":"IF(入力表・参加種目確認!AO16=\"\",\"\",入力表・参加種目確認!AO16)","v":""},{"$f":"IF(ISERROR(VLOOKUP(IF(AL4=\"\",\"\",入力表・参加種目確認!AP16),$BJ$2:$BK$5,2,FALSE)),\"\",VLOOKUP(IF(AL4=\"\",\"\",入力表・参加種目確認!AS16),$BJ$2:$BK$5,2,FALSE))","v":""},{"$f":"IF(入力表・参加種目確認!AQ16=\"\",\"\",入力表・参加種目確認!AQ16)","v":""},{"$f":"IF(入力表・参加種目確認!AR16=\"\",\"\",入力表・参加種目確認!AR16)","v":""},{"$f":"IF(ISERROR(VLOOKUP(入力表・参加種目確認!AS16,$BJ$2:$BK$5,2,FALSE)),\"\",VLOOKUP(入力表・参加種目確認!AS16,$BJ$2:$BK$5,2,FALSE))","v":""},{"$f":"IF(入力表・参加種目確認!AT16=\"\",\"\",入力表・参加種目確認!AT16)","v":""},{"$f":"IF(入力表・参加種目確認!AU16=\"\",\"\",入力表・参加種目確認!AU16)","v":""},{"$f":"IF(入力表・参加種目確認!BB16=\"\",\"\",入力表・参加種目確認!BB16)","v":""},{"$f":"IF(入力表・参加種目確認!BC16=\"\",\"\",入力表・参加種目確認!BC16)","v":""},{"$f":"IF(ISERROR(VLOOKUP(IF(AT4=\"\",\"\",入力表・参加種目確認!BD16),$BJ$2:$BK$5,2,FALSE)),\"\",VLOOKUP(IF(AT4=\"\",\"\",入力表・参加種目確認!BD16),$BJ$2:$BK$5,2,FALSE))","v":""},{"$f":"IF(入力表・参加種目確認!BE16=\"\",\"\",入力表・参加種目確認!BE16)","v":""},{"$f":"IF(入力表・参加種目確認!BF16=\"\",\"\",入力表・参加種目確認!BF16)","v":""},{"$f":"IF(ISERROR(VLOOKUP(入力表・参加種目確認!BG16,$BJ$2:$BK$5,2,FALSE)),\"\",VLOOKUP(入力表・参加種目確認!BG16,$BJ$2:$BK$5,2,FALSE))","v":""},{"$f":"IF(入力表・参加種目確認!BH16=\"\",\"\",入力表・参加種目確認!BH16)","v":""},{"$f":"IF(入力表・参加種目確認!BI16=\"\",\"\",入力表・参加種目確認!BI16)","v":""},{"$f":"IF(入力表・参加種目確認!BP16=\"\",\"\",入力表・参加種目確認!BP16)","v":""},{"$f":"IF(入力表・参加種目確認!BQ16=\"\",\"\",入力表・参加種目確認!BQ16)","v":""},{"$f":"IF(ISERROR(VLOOKUP(IF(BB4=\"\",\"\",入力表・参加種目確認!BR16),$BJ$2:$BK$5,2,FALSE)),\"\",VLOOKUP(IF(BB4=\"\",\"\",入力表・参加種目確認!BR16),$BJ$2:$BK$5,2,FALSE))","v":""},{"$f":"IF(入力表・参加種目確認!BS16=\"\",\"\",入力表・参加種目確認!BS16)","v":""},{"$f":"IF(入力表・参加種目確認!BT16=\"\",\"\",入力表・参加種目確認!BT16)","v":""},{"$f":"IF(ISERROR(VLOOKUP(入力表・参加種目確認!BU16,$BJ$2:$BK$5,2,FALSE)),\"\",VLOOKUP(入力表・参加種目確認!BU16,$BJ$2:$BK$5,2,FALSE))","v":""},{"$f":"IF(入力表・参加種目確認!BV16=\"\",\"\",入力表・参加種目確認!BV16)","v":""},{"$f":"IF(入力表・参加種目確認!BW16=\"\",\"\",入力表・参加種目確認!BW16)","v":""},null,"m","m",null,"男子B",{"$f":"CONCATENATE(入力表・参加種目確認!BL3,\".\",入力表・参加種目確認!BN3,入力表・参加種目確認!BO3,\".\",入力表・参加種目確認!BQ3,入力表・参加種目確認!BR3)","v":".."},null,"高校","共通"]
[4,{"$f":"IF(入力表・参加種目確認!H17=0,\"\",入力表・参加種目確認!H17)","v":""},{"$f":"IF(入力表・参加種目確認!J17=0,\"\",入力表・参加種目確認!J17)","v":""},{"$f":"IF(入力表・参加種目確認!N17=0,\"\",入力表・参加種目確認!N17)","v":""},{"$f":"RIGHT(入力表・参加種目確認!AA17,2)","v":""},{"$f":"IF(入力表・参加種目確認!U17=0,\"\",ASC(入力表・参加種目確認!U17))","v":""},{"$f":"IF(B5=\"\",\"\",入力表・参加種目確認!$N$8)","v":""},{"$f":"IF(B5=\"\",\"\",入力表・参加種目確認!$L$4)","v":""},{"$f":"IF(B5=\"\",\"\",入力表・参加種目確認!AE17)","v":""},{"$f":"IF(入力表・参加種目確認!AH17=\"\",\"\",入力表・参加種目確認!$E$4&'貼付（事務局）'!B5&\"子\"&入力表・参加種目確認!AH17)","v":""},"",{"$f":"IF(入力表・参加種目確認!AV17=\"\",\"\",入力表・参加種目確認!$E$4&'貼付（事務局）'!B5&\"子\"&入力表・参加種目確認!AV17)","v":""},"",{"$f":"IF(入力表・参加種目確認!BJ17=\"\",\"\",入力表・参加種目確認!$E$4&'貼付（事務局）'!B5&\"子\"&入力表・参加種目確認!BJ17)","v":""},"",{"$f":"IF(入力表・参加種目確認!BX17=\"\",\"\",VLOOKUP(入力表・参加種目確認!$E$4,$BP$2:$BQ$5,2,FALSE)&入力表・参加種目確認!H17&\"子\"&\"4X100mR\")","v":""},{"$f":"IF(P5=\"\",\"\",H5&P5&入力表・参加種目確認!BX17)","v":""},"",{"$f":"IF(入力表・参加種目確認!CA17=\"\",\"\",VLOOKUP(入力表・参加種目確認!$E$4,$BP$7:$BQ$10,2,FALSE)&入力表・参加種目確認!H17&\"子\"&\"4X400mR\")","v":""},{"$f":"IF(S5=\"\",\"\",H5&S5&入力表・参加種目確認!CA17)","v":""},"",null,null,null,null,null,null,null,null,null,null,null,null,null,null,null,{"$f":"IF(入力表・参加種目確認!AN17=\"\",\"\",入力表・参加種目確認!AN17)","v":""},{"$f":"IF(入力表・参加種目確認!AO17=\"\",\"\",入力表・参加種目確認!AO17)","v":""},{"$f":"IF(ISERROR(VLOOKUP(IF(AL5=\"\",\"\",入力表・参加種目確認!AP17),$BJ$2:$BK$5,2,FALSE)),\"\",VLOOKUP(IF(AL5=\"\",\"\",入力表・参加種目確認!AS17),$BJ$2:$BK$5,2,FALSE))","v":""},{"$f":"IF(入力表・参加種目確認!AQ17=\"\",\"\",入力表・参加種目確認!AQ17)","v":""},{"$f":"IF(入力表・参加種目確認!AR17=\"\",\"\",入力表・参加種目確認!AR17)","v":""},{"$f":"IF(ISERROR(VLOOKUP(入力表・参加種目確認!AS17,$BJ$2:$BK$5,2,FALSE)),\"\",VLOOKUP(入力表・参加種目確認!AS17,$BJ$2:$BK$5,2,FALSE))","v":""},{"$f":"IF(入力表・参加種目確認!AT17=\"\",\"\",入力表・参加種目確認!AT17)","v":""},{"$f":"IF(入力表・参加種目確認!AU17=\"\",\"\",入力表・参加種目確認!AU17)","v":""},{"$f":"IF(入力表・参加種目確認!BB17=\"\",\"\",入力表・参加種目確認!BB17)","v":""},{"$f":"IF(入力表・参加種目確認!BC17=\"\",\"\",入力表・参加種目確認!BC17)","v":""},{"$f":"IF(ISERROR(VLOOKUP(IF(AT5=\"\",\"\",入力表・参加種目確認!BD17),$BJ$2:$BK$5,2,FALSE)),\"\",VLOOKUP(IF(AT5=\"\",\"\",入力表・参加種目確認!BD17),$BJ$2:$BK$5,2,FALSE))","v":""},{"$f":"IF(入力表・参加種目確認!BE17=\"\",\"\",入力表・参加種目確認!BE17)","v":""},{"$f":"IF(入力表・参加種目確認!BF17=\"\",\"\",入力表・参加種目確認!BF17)","v":""},{"$f":"IF(ISERROR(VLOOKUP(入力表・参加種目確認!BG17,$BJ$2:$BK$5,2,FALSE)),\"\",VLOOKUP(入力表・参加種目確認!BG17,$BJ$2:$BK$5,2,FALSE))","v":""},{"$f":"IF(入力表・参加種目確認!BH17=\"\",\"\",入力表・参加種目確認!BH17)","v":""},{"$f":"IF(入力表・参加種目確認!BI17=\"\",\"\",入力表・参加種目確認!BI17)","v":""},{"$f":"IF(入力表・参加種目確認!BP17=\"\",\"\",入力表・参加種目確認!BP17)","v":""},{"$f":"IF(入力表・参加種目確認!BQ17=\"\",\"\",入力表・参加種目確認!BQ17)","v":""},{"$f":"IF(ISERROR(VLOOKUP(IF(BB5=\"\",\"\",入力表・参加種目確認!BR17),$BJ$2:$BK$5,2,FALSE)),\"\",VLOOKUP(IF(BB5=\"\",\"\",入力表・参加種目確認!BR17),$BJ$2:$BK$5,2,FALSE))","v":""},{"$f":"IF(入力表・参加種目確認!BS17=\"\",\"\",入力表・参加種目確認!BS17)","v":""},{"$f":"IF(入力表・参加種目確認!BT17=\"\",\"\",入力表・参加種目確認!BT17)","v":""},{"$f":"IF(ISERROR(VLOOKUP(入力表・参加種目確認!BU17,$BJ$2:$BK$5,2,FALSE)),\"\",VLOOKUP(入力表・参加種目確認!BU17,$BJ$2:$BK$5,2,FALSE))","v":""},{"$f":"IF(入力表・参加種目確認!BV17=\"\",\"\",入力表・参加種目確認!BV17)","v":""},{"$f":"IF(入力表・参加種目確認!BW17=\"\",\"\",入力表・参加種目確認!BW17)","v":""},null,null,null,null,"男子C",{"$f":"CONCATENATE(入力表・参加種目確認!BL4,\".\",入力表・参加種目確認!BN4,入力表・参加種目確認!BO4,\".\",入力表・参加種目確認!BQ4,入力表・参加種目確認!BR4)","v":".."},null,"一般","共通"]
[5,{"$f":"IF(入力表・参加種目確認!H18=0,\"\",入力表・参加種目確認!H18)","v":""},{"$f":"IF(入力表・参加種目確認!J18=0,\"\",入力表・参加種目確認!J18)","v":""},{"$f":"IF(入力表・参加種目確認!N18=0,\"\",入力表・参加種目確認!N18)","v":""},{"$f":"RIGHT(入力表・参加種目確認!AA18,2)","v":""},{"$f":"IF(入力表・参加種目確認!U18=0,\"\",ASC(入力表・参加種目確認!U18))","v":""},{"$f":"IF(B6=\"\",\"\",入力表・参加種目確認!$N$8)","v":""},{"$f":"IF(B6=\"\",\"\",入力表・参加種目確認!$L$4)","v":""},{"$f":"IF(B6=\"\",\"\",入力表・参加種目確認!AE18)","v":""},{"$f":"IF(入力表・参加種目確認!AH18=\"\",\"\",入力表・参加種目確認!$E$4&'貼付（事務局）'!B6&\"子\"&入力表・参加種目確認!AH18)","v":""},"",{"$f":"IF(入力表・参加種目確認!AV18=\"\",\"\",入力表・参加種目確認!$E$4&'貼付（事務局）'!B6&\"子\"&入力表・参加種目確認!AV18)","v":""},"",{"$f":"IF(入力表・参加種目確認!BJ18=\"\",\"\",入力表・参加種目確認!$E$4&'貼付（事務局）'!B6&\"子\"&入力表・参加種目確認!BJ18)","v":""},"",{"$f":"IF(入力表・参加種目確認!BX18=\"\",\"\",VLOOKUP(入力表・参加種目確認!$E$4,$BP$2:$BQ$5,2,FALSE)&入力表・参加種目確認!H18&\"子\"&\"4X100mR\")","v":""},{"$f":"IF(P6=\"\",\"\",H6&P6&入力表・参加種目確認!BX18)","v":""},"",{"$f":"IF(入力表・参加種目確認!CA18=\"\",\"\",VLOOKUP(入力表・参加種目確認!$E$4,$BP$7:$BQ$10,2,FALSE)&入力表・参加種目確認!H18&\"子\"&\"4X400mR\")","v":""},{"$f":"IF(S6=\"\",\"\",H6&S6&入力表・参加種目確認!CA18)","v":""},"",null,null,null,null,null,null,null,null,null,null,null,null,null,null,null,{"$f":"IF(入力表・参加種目確認!AN18=\"\",\"\",入力表・参加種目確認!AN18)","v":""},{"$f":"IF(入力表・参加種目確認!AO18=\"\",\"\",入力表・参加種目確認!AO18)","v":""},{"$f":"IF(ISERROR(VLOOKUP(IF(AL6=\"\",\"\",入力表・参加種目確認!AP18),$BJ$2:$BK$5,2,FALSE)),\"\",VLOOKUP(IF(AL6=\"\",\"\",入力表・参加種目確認!AS18),$BJ$2:$BK$5,2,FALSE))","v":""},{"$f":"IF(入力表・参加種目確認!AQ18=\"\",\"\",入力表・参加種目確認!AQ18)","v":""},{"$f":"IF(入力表・参加種目確認!AR18=\"\",\"\",入力表・参加種目確認!AR18)","v":""},{"$f":"IF(ISERROR(VLOOKUP(入力表・参加種目確認!AS18,$BJ$2:$BK$5,2,FALSE)),\"\",VLOOKUP(入力表・参加種目確認!AS18,$BJ$2:$BK$5,2,FALSE))","v":""},{"$f":"IF(入力表・参加種目確認!AT18=\"\",\"\",入力表・参加種目確認!AT18)","v":""},{"$f":"IF(入力表・参加種目確認!AU18=\"\",\"\",入力表・参加種目確認!AU18)","v":""},{"$f":"IF(入力表・参加種目確認!BB18=\"\",\"\",入力表・参加種目確認!BB18)","v":""},{"$f":"IF(入力表・参加種目確認!BC18=\"\",\"\",入力表・参加種目確認!BC18)","v":""},{"$f":"IF(ISERROR(VLOOKUP(IF(AT6=\"\",\"\",入力表・参加種目確認!BD18),$BJ$2:$BK$5,2,FALSE)),\"\",VLOOKUP(IF(AT6=\"\",\"\",入力表・参加種目確認!BD18),$BJ$2:$BK$5,2,FALSE))","v":""},{"$f":"IF(入力表・参加種目確認!BE18=\"\",\"\",入力表・参加種目確認!BE18)","v":""},{"$f":"IF(入力表・参加種目確認!BF18=\"\",\"\",入力表・参加種目確認!BF18)","v":""},{"$f":"IF(ISERROR(VLOOKUP(入力表・参加種目確認!BG18,$BJ$2:$BK$5,2,FALSE)),\"\",VLOOKUP(入力表・参加種目確認!BG18,$BJ$2:$BK$5,2,FALSE))","v":""},{"$f":"IF(入力表・参加種目確認!BH18=\"\",\"\",入力表・参加種目確認!BH18)","v":""},{"$f":"IF(入力表・参加種目確認!BI18=\"\",\"\",入力表・参加種目確認!BI18)","v":""},{"$f":"IF(入力表・参加種目確認!BP18=\"\",\"\",入力表・参加種目確認!BP18)","v":""},{"$f":"IF(入力表・参加種目確認!BQ18=\"\",\"\",入力表・参加種目確認!BQ18)","v":""},{"$f":"IF(ISERROR(VLOOKUP(IF(BB6=\"\",\"\",入力表・参加種目確認!BR18),$BJ$2:$BK$5,2,FALSE)),\"\",VLOOKUP(IF(BB6=\"\",\"\",入力表・参加種目確認!BR18),$BJ$2:$BK$5,2,FALSE))","v":""},{"$f":"IF(入力表・参加種目確認!BS18=\"\",\"\",入力表・参加種目確認!BS18)","v":""},{"$f":"IF(入力表・参加種目確認!BT18=\"\",\"\",入力表・参加種目確認!BT18)","v":""},{"$f":"IF(ISERROR(VLOOKUP(入力表・参加種目確認!BU18,$BJ$2:$BK$5,2,FALSE)),\"\",VLOOKUP(入力表・参加種目確認!BU18,$BJ$2:$BK$5,2,FALSE))","v":""},{"$f":"IF(入力表・参加種目確認!BV18=\"\",\"\",入力表・参加種目確認!BV18)","v":""},{"$f":"IF(入力表・参加種目確認!BW18=\"\",\"\",入力表・参加種目確認!BW18)","v":""},null,null,null,null,"男子D",{"$f":"CONCATENATE(入力表・参加種目確認!BL5,\".\",入力表・参加種目確認!BN5,入力表・参加種目確認!BO5,\".\",入力表・参加種目確認!BQ5,入力表・参加種目確認!BR5)","v":".."}]
[6,{"$f":"IF(入力表・参加種目確認!H19=0,\"\",入力表・参加種目確認!H19)","v":""},{"$f":"IF(入力表・参加種目確認!J19=0,\"\",入力表・参加種目確認!J19)","v":""},{"$f":"IF(入力表・参加種目確認!N19=0,\"\",入力表・参加種目確認!N19)","v":""},{"$f":"RIGHT(入力表・参加種目確認!AA19,2)","v":""},{"$f":"IF(入力表・参加種目確認!U19=0,\"\",ASC(入力表・参加種目確認!U19))","v":""},{"$f":"IF(B7=\"\",\"\",入力表・参加種目確認!$N$8)","v":""},{"$f":"IF(B7=\"\",\"\",入力表・参加種目確認!$L$4)","v":""},{"$f":"IF(B7=\"\",\"\",入力表・参加種目確認!AE19)","v":""},{"$f":"IF(入力表・参加種目確認!AH19=\"\",\"\",入力表・参加種目確認!$E$4&'貼付（事務局）'!B7&\"子\"&入力表・参加種目確認!AH19)","v":""},"",{"$f":"IF(入力表・参加種目確認!AV19=\"\",\"\",入力表・参加種目確認!$E$4&'貼付（事務局）'!B7&\"子\"&入力表・参加種目確認!AV19)","v":""},"",{"$f":"IF(入力表・参加種目確認!BJ19=\"\",\"\",入力表・参加種目確認!$E$4&'貼付（事務局）'!B7&\"子\"&入力表・参加種目確認!BJ19)","v":""},"",{"$f":"IF(入力表・参加種目確認!BX19=\"\",\"\",VLOOKUP(入力表・参加種目確認!$E$4,$BP$2:$BQ$5,2,FALSE)&入力表・参加種目確認!H19&\"子\"&\"4X100mR\")","v":""},{"$f":"IF(P7=\"\",\"\",H7&P7&入力表・参加種目確認!BX19)","v":""},"",{"$f":"IF(入力表・参加種目確認!CA19=\"\",\"\",VLOOKUP(入力表・参加種目確認!$E$4,$BP$7:$BQ$10,2,FALSE)&入力表・参加種目確認!H19&\"子\"&\"4X400mR\")","v":""},{"$f":"IF(S7=\"\",\"\",H7&S7&入力表・参加種目確認!CA19)","v":""},"",null,null,null,null,null,null,null,null,null,null,null,null,null,null,null,{"$f":"IF(入力表・参加種目確認!AN19=\"\",\"\",入力表・参加種目確認!AN19)","v":""},{"$f":"IF(入力表・参加種目確認!AO19=\"\",\"\",入力表・参加種目確認!AO19)","v":""},{"$f":"IF(ISERROR(VLOOKUP(IF(AL7=\"\",\"\",入力表・参加種目確認!AP19),$BJ$2:$BK$5,2,FALSE)),\"\",VLOOKUP(IF(AL7=\"\",\"\",入力表・参加種目確認!AS19),$BJ$2:$BK$5,2,FALSE))","v":""},{"$f":"IF(入力表・参加種目確認!AQ19=\"\",\"\",入力表・参加種目確認!AQ19)","v":""},{"$f":"IF(入力表・参加種目確認!AR19=\"\",\"\",入力表・参加種目確認!AR19)","v":""},{"$f":"IF(ISERROR(VLOOKUP(入力表・参加種目確認!AS19,$BJ$2:$BK$5,2,FALSE)),\"\",VLOOKUP(入力表・参加種目確認!AS19,$BJ$2:$BK$5,2,FALSE))","v":""},{"$f":"IF(入力表・参加種目確認!AT19=\"\",\"\",入力表・参加種目確認!AT19)","v":""},{"$f":"IF(入力表・参加種目確認!AU19=\"\",\"\",入力表・参加種目確認!AU19)","v":""},{"$f":"IF(入力表・参加種目確認!BB19=\"\",\"\",入力表・参加種目確認!BB19)","v":""},{"$f":"IF(入力表・参加種目確認!BC19=\"\",\"\",入力表・参加種目確認!BC19)","v":""},{"$f":"IF(ISERROR(VLOOKUP(IF(AT7=\"\",\"\",入力表・参加種目確認!BD19),$BJ$2:$BK$5,2,FALSE)),\"\",VLOOKUP(IF(AT7=\"\",\"\",入力表・参加種目確認!BD19),$BJ$2:$BK$5,2,FALSE))","v":""},{"$f":"IF(入力表・参加種目確認!BE19=\"\",\"\",入力表・参加種目確認!BE19)","v":""},{"$f":"IF(入力表・参加種目確認!BF19=\"\",\"\",入力表・参加種目確認!BF19)","v":""},{"$f":"IF(ISERROR(VLOOKUP(入力表・参加種目確認!BG19,$BJ$2:$BK$5,2,FALSE)),\"\",VLOOKUP(入力表・参加種目確認!BG19,$BJ$2:$BK$5,2,FALSE))","v":""},{"$f":"IF(入力表・参加種目確認!BH19=\"\",\"\",入力表・参加種目確認!BH19)","v":""},{"$f":"IF(入力表・参加種目確認!BI19=\"\",\"\",入力表・参加種目確認!BI19)","v":""},{"$f":"IF(入力表・参加種目確認!BP19=\"\",\"\",入力表・参加種目確認!BP19)","v":""},{"$f":"IF(入力表・参加種目確認!BQ19=\"\",\"\",入力表・参加種目確認!BQ19)","v":""},{"$f":"IF(ISERROR(VLOOKUP(IF(BB7=\"\",\"\",入力表・参加種目確認!BR19),$BJ$2:$BK$5,2,FALSE)),\"\",VLOOKUP(IF(BB7=\"\",\"\",入力表・参加種目確認!BR19),$BJ$2:$BK$5,2,FALSE))","v":""},{"$f":"IF(入力表・参加種目確認!BS19=\"\",\"\",入力表・参加種目確認!BS19)","v":""},{"$f":"IF(入力表・参加種目確認!BT19=\"\",\"\",入力表・参加種目確認!BT19)","v":""},{"$f":"IF(ISERROR(VLOOKUP(入力表・参加種目確認!BU19,$BJ$2:$BK$5,2,FALSE)),\"\",VLOOKUP(入力表・参加種目確認!BU19,$BJ$2:$BK$5,2,FALSE))","v":""},{"$f":"IF(入力表・参加種目確認!BV19=\"\",\"\",入力表・参加種目確認!BV19)","v":""},{"$f":"IF(入力表・参加種目確認!BW19=\"\",\"\",入力表・参加種目確認!BW19)","v":""},null,null,null,null,"男子E",{"$f":"CONCATENATE(入力表・参加種目確認!BL6,\".\",入力表・参加種目確認!BN6,入力表・参加種目確認!BO6,\".\",入力表・参加種目確認!BQ6,入力表・参加種目確認!BR6)","v":".."},null,"小学","共通"]
[7,{"$f":"IF(入力表・参加種目確認!H20=0,\"\",入力表・参加種目確認!H20)","v":""},{"$f":"IF(入力表・参加種目確認!J20=0,\"\",入力表・参加種目確認!J20)","v":""},{"$f":"IF(入力表・参加種目確認!N20=0,\"\",入力表・参加種目確認!N20)","v":""},{"$f":"RIGHT(入力表・参加種目確認!AA20,2)","v":""},{"$f":"IF(入力表・参加種目確認!U20=0,\"\",ASC(入力表・参加種目確認!U20))","v":""},{"$f":"IF(B8=\"\",\"\",入力表・参加種目確認!$N$8)","v":""},{"$f":"IF(B8=\"\",\"\",入力表・参加種目確認!$L$4)","v":""},{"$f":"IF(B8=\"\",\"\",入力表・参加種目確認!AE20)","v":""},{"$f":"IF(入力表・参加種目確認!AH20=\"\",\"\",入力表・参加種目確認!$E$4&'貼付（事務局）'!B8&\"子\"&入力表・参加種目確認!AH20)","v":""},"",{"$f":"IF(入力表・参加種目確認!AV20=\"\",\"\",入力表・参加種目確認!$E$4&'貼付（事務局）'!B8&\"子\"&入力表・参加種目確認!AV20)","v":""},"",{"$f":"IF(入力表・参加種目確認!BJ20=\"\",\"\",入力表・参加種目確認!$E$4&'貼付（事務局）'!B8&\"子\"&入力表・参加種目確認!BJ20)","v":""},"",{"$f":"IF(入力表・参加種目確認!BX20=\"\",\"\",VLOOKUP(入力表・参加種目確認!$E$4,$BP$2:$BQ$5,2,FALSE)&入力表・参加種目確認!H20&\"子\"&\"4X100mR\")","v":""},{"$f":"IF(P8=\"\",\"\",H8&P8&入力表・参加種目確認!BX20)","v":""},"",{"$f":"IF(入力表・参加種目確認!CA20=\"\",\"\",VLOOKUP(入力表・参加種目確認!$E$4,$BP$7:$BQ$10,2,FALSE)&入力表・参加種目確認!H20&\"子\"&\"4X400mR\")","v":""},{"$f":"IF(S8=\"\",\"\",H8&S8&入力表・参加種目確認!CA20)","v":""},"",null,null,null,null,null,null,null,null,null,null,null,null,null,null,null,{"$f":"IF(入力表・参加種目確認!AN20=\"\",\"\",入力表・参加種目確認!AN20)","v":""},{"$f":"IF(入力表・参加種目確認!AO20=\"\",\"\",入力表・参加種目確認!AO20)","v":""},{"$f":"IF(ISERROR(VLOOKUP(IF(AL8=\"\",\"\",入力表・参加種目確認!AP20),$BJ$2:$BK$5,2,FALSE)),\"\",VLOOKUP(IF(AL8=\"\",\"\",入力表・参加種目確認!AS20),$BJ$2:$BK$5,2,FALSE))","v":""},{"$f":"IF(入力表・参加種目確認!AQ20=\"\",\"\",入力表・参加種目確認!AQ20)","v":""},{"$f":"IF(入力表・参加種目確認!AR20=\"\",\"\",入力表・参加種目確認!AR20)","v":""},{"$f":"IF(ISERROR(VLOOKUP(入力表・参加種目確認!AS20,$BJ$2:$BK$5,2,FALSE)),\"\",VLOOKUP(入力表・参加種目確認!AS20,$BJ$2:$BK$5,2,FALSE))","v":""},{"$f":"IF(入力表・参加種目確認!AT20=\"\",\"\",入力表・参加種目確認!AT20)","v":""},{"$f":"IF(入力表・参加種目確認!AU20=\"\",\"\",入力表・参加種目確認!AU20)","v":""},{"$f":"IF(入力表・参加種目確認!BB20=\"\",\"\",入力表・参加種目確認!BB20)","v":""},{"$f":"IF(入力表・参加種目確認!BC20=\"\",\"\",入力表・参加種目確認!BC20)","v":""},{"$f":"IF(ISERROR(VLOOKUP(IF(AT8=\"\",\"\",入力表・参加種目確認!BD20),$BJ$2:$BK$5,2,FALSE)),\"\",VLOOKUP(IF(AT8=\"\",\"\",入力表・参加種目確認!BD20),$BJ$2:$BK$5,2,FALSE))","v":""},{"$f":"IF(入力表・参加種目確認!BE20=\"\",\"\",入力表・参加種目確認!BE20)","v":""},{"$f":"IF(入力表・参加種目確認!BF20=\"\",\"\",入力表・参加種目確認!BF20)","v":""},{"$f":"IF(ISERROR(VLOOKUP(入力表・参加種目確認!BG20,$BJ$2:$BK$5,2,FALSE)),\"\",VLOOKUP(入力表・参加種目確認!BG20,$BJ$2:$BK$5,2,FALSE))","v":""},{"$f":"IF(入力表・参加種目確認!BH20=\"\",\"\",入力表・参加種目確認!BH20)","v":""},{"$f":"IF(入力表・参加種目確認!BI20=\"\",\"\",入力表・参加種目確認!BI20)","v":""},{"$f":"IF(入力表・参加種目確認!BP20=\"\",\"\",入力表・参加種目確認!BP20)","v":""},{"$f":"IF(入力表・参加種目確認!BQ20=\"\",\"\",入力表・参加種目確認!BQ20)","v":""},{"$f":"IF(ISERROR(VLOOKUP(IF(BB8=\"\",\"\",入力表・参加種目確認!BR20),$BJ$2:$BK$5,2,FALSE)),\"\",VLOOKUP(IF(BB8=\"\",\"\",入力表・参加種目確認!BR20),$BJ$2:$BK$5,2,FALSE))","v":""},{"$f":"IF(入力表・参加種目確認!BS20=\"\",\"\",入力表・参加種目確認!BS20)","v":""},{"$f":"IF(入力表・参加種目確認!BT20=\"\",\"\",入力表・参加種目確認!BT20)","v":""},{"$f":"IF(ISERROR(VLOOKUP(入力表・参加種目確認!BU20,$BJ$2:$BK$5,2,FALSE)),\"\",VLOOKUP(入力表・参加種目確認!BU20,$BJ$2:$BK$5,2,FALSE))","v":""},{"$f":"IF(入力表・参加種目確認!BV20=\"\",\"\",入力表・参加種目確認!BV20)","v":""},{"$f":"IF(入力表・参加種目確認!BW20=\"\",\"\",入力表・参加種目確認!BW20)","v":""},null,null,null,null,"男子F",{"$f":"CONCATENATE(入力表・参加種目確認!BL7,\".\",入力表・参加種目確認!BN7,入力表・参加種目確認!BO7,\".\",入力表・参加種目確認!BQ7,入力表・参加種目確認!BR7)","v":".."},null,"中学","共通"]
[8,{"$f":"IF(入力表・参加種目確認!H21=0,\"\",入力表・参加種目確認!H21)","v":""},{"$f":"IF(入力表・参加種目確認!J21=0,\"\",入力表・参加種目確認!J21)","v":""},{"$f":"IF(入力表・参加種目確認!N21=0,\"\",入力表・参加種目確認!N21)","v":""},{"$f":"RIGHT(入力表・参加種目確認!AA21,2)","v":""},{"$f":"IF(入力表・参加種目確認!U21=0,\"\",ASC(入力表・参加種目確認!U21))","v":""},{"$f":"IF(B9=\"\",\"\",入力表・参加種目確認!$N$8)","v":""},{"$f":"IF(B9=\"\",\"\",入力表・参加種目確認!$L$4)","v":""},{"$f":"IF(B9=\"\",\"\",入力表・参加種目確認!AE21)","v":""},{"$f":"IF(入力表・参加種目確認!AH21=\"\",\"\",入力表・参加種目確認!$E$4&'貼付（事務局）'!B9&\"子\"&入力表・参加種目確認!AH21)","v":""},"",{"$f":"IF(入力表・参加種目確認!AV21=\"\",\"\",入力表・参加種目確認!$E$4&'貼付（事務局）'!B9&\"子\"&入力表・参加種目確認!AV21)","v":""},"",{"$f":"IF(入力表・参加種目確認!BJ21=\"\",\"\",入力表・参加種目確認!$E$4&'貼付（事務局）'!B9&\"子\"&入力表・参加種目確認!BJ21)","v":""},"",{"$f":"IF(入力表・参加種目確認!BX21=\"\",\"\",VLOOKUP(入力表・参加種目確認!$E$4,$BP$2:$BQ$5,2,FALSE)&入力表・参加種目確認!H21&\"子\"&\"4X100mR\")","v":""},{"$f":"IF(P9=\"\",\"\",H9&P9&入力表・参加種目確認!BX21)","v":""},"",{"$f":"IF(入力表・参加種目確認!CA21=\"\",\"\",VLOOKUP(入力表・参加種目確認!$E$4,$BP$7:$BQ$10,2,FALSE)&入力表・参加種目確認!H21&\"子\"&\"4X400mR\")","v":""},{"$f":"IF(S9=\"\",\"\",H9&S9&入力表・参加種目確認!CA21)","v":""},"",null,null,null,null,null,null,null,null,null,null,null,null,null,null,null,{"$f":"IF(入力表・参加種目確認!AN21=\"\",\"\",入力表・参加種目確認!AN21)","v":""},{"$f":"IF(入力表・参加種目確認!AO21=\"\",\"\",入力表・参加種目確認!AO21)","v":""},{"$f":"IF(ISERROR(VLOOKUP(IF(AL9=\"\",\"\",入力表・参加種目確認!AP21),$BJ$2:$BK$5,2,FALSE)),\"\",VLOOKUP(IF(AL9=\"\",\"\",入力表・参加種目確認!AS21),$BJ$2:$BK$5,2,FALSE))","v":""},{"$f":"IF(入力表・参加種目確認!AQ21=\"\",\"\",入力表・参加種目確認!AQ21)","v":""},{"$f":"IF(入力表・参加種目確認!AR21=\"\",\"\",入力表・参加種目確認!AR21)","v":""},{"$f":"IF(ISERROR(VLOOKUP(入力表・参加種目確認!AS21,$BJ$2:$BK$5,2,FALSE)),\"\",VLOOKUP(入力表・参加種目確認!AS21,$BJ$2:$BK$5,2,FALSE))","v":""},{"$f":"IF(入力表・参加種目確認!AT21=\"\",\"\",入力表・参加種目確認!AT21)","v":""},{"$f":"IF(入力表・参加種目確認!AU21=\"\",\"\",入力表・参加種目確認!AU21)","v":""},{"$f":"IF(入力表・参加種目確認!BB21=\"\",\"\",入力表・参加種目確認!BB21)","v":""},{"$f":"IF(入力表・参加種目確認!BC21=\"\",\"\",入力表・参加種目確認!BC21)","v":""},{"$f":"IF(ISERROR(VLOOKUP(IF(AT9=\"\",\"\",入力表・参加種目確認!BD21),$BJ$2:$BK$5,2,FALSE)),\"\",VLOOKUP(IF(AT9=\"\",\"\",入力表・参加種目確認!BD21),$BJ$2:$BK$5,2,FALSE))","v":""},{"$f":"IF(入力表・参加種目確認!BE21=\"\",\"\",入力表・参加種目確認!BE21)","v":""},{"$f":"IF(入力表・参加種目確認!BF21=\"\",\"\",入力表・参加種目確認!BF21)","v":""},{"$f":"IF(ISERROR(VLOOKUP(入力表・参加種目確認!BG21,$BJ$2:$BK$5,2,FALSE)),\"\",VLOOKUP(入力表・参加種目確認!BG21,$BJ$2:$BK$5,2,FALSE))","v":""},{"$f":"IF(入力表・参加種目確認!BH21=\"\",\"\",入力表・参加種目確認!BH21)","v":""},{"$f":"IF(入力表・参加種目確認!BI21=\"\",\"\",入力表・参加種目確認!BI21)","v":""},{"$f":"IF(入力表・参加種目確認!BP21=\"\",\"\",入力表・参加種目確認!BP21)","v":""},{"$f":"IF(入力表・参加種目確認!BQ21=\"\",\"\",入力表・参加種目確認!BQ21)","v":""},{"$f":"IF(ISERROR(VLOOKUP(IF(BB9=\"\",\"\",入力表・参加種目確認!BR21),$BJ$2:$BK$5,2,FALSE)),\"\",VLOOKUP(IF(BB9=\"\",\"\",入力表・参加種目確認!BR21),$BJ$2:$BK$5,2,FALSE))","v":""},{"$f":"IF(入力表・参加種目確認!BS21=\"\",\"\",入力表・参加種目確認!BS21)","v":""},{"$f":"IF(入力表・参加種目確認!BT21=\"\",\"\",入力表・参加種目確認!BT21)","v":""},{"$f":"IF(ISERROR(VLOOKUP(入力表・参加種目確認!BU21,$BJ$2:$BK$5,2,FALSE)),\"\",VLOOKUP(入力表・参加種目確認!BU21,$BJ$2:$BK$5,2,FALSE))","v":""},{"$f":"IF(入力表・参加種目確認!BV21=\"\",\"\",入力表・参加種目確認!BV21)","v":""},{"$f":"IF(入力表・参加種目確認!BW21=\"\",\"\",入力表・参加種目確認!BW21)","v":""},null,null,null,null,"女子A",{"$f":"CONCATENATE(入力表・参加種目確認!BW2,\".\",入力表・参加種目確認!BY2,入力表・参加種目確認!BZ2,\".\",入力表・参加種目確認!CB2,入力表・参加種目確認!CC2)","v":".."},null,"高校","共通"]
[9,{"$f":"IF(入力表・参加種目確認!H22=0,\"\",入力表・参加種目確認!H22)","v":""},{"$f":"IF(入力表・参加種目確認!J22=0,\"\",入力表・参加種目確認!J22)","v":""},{"$f":"IF(入力表・参加種目確認!N22=0,\"\",入力表・参加種目確認!N22)","v":""},{"$f":"RIGHT(入力表・参加種目確認!AA22,2)","v":""},{"$f":"IF(入力表・参加種目確認!U22=0,\"\",ASC(入力表・参加種目確認!U22))","v":""},{"$f":"IF(B10=\"\",\"\",入力表・参加種目確認!$N$8)","v":""},{"$f":"IF(B10=\"\",\"\",入力表・参加種目確認!$L$4)","v":""},{"$f":"IF(B10=\"\",\"\",入力表・参加種目確認!AE22)","v":""},{"$f":"IF(入力表・参加種目確認!AH22=\"\",\"\",入力表・参加種目確認!$E$4&'貼付（事務局）'!B10&\"子\"&入力表・参加種目確認!AH22)","v":""},"",{"$f":"IF(入力表・参加種目確認!AV22=\"\",\"\",入力表・参加種目確認!$E$4&'貼付（事務局）'!B10&\"子\"&入力表・参加種目確認!AV22)","v":""},"",{"$f":"IF(入力表・参加種目確認!BJ22=\"\",\"\",入力表・参加種目確認!$E$4&'貼付（事務局）'!B10&\"子\"&入力表・参加種目確認!BJ22)","v":""},"",{"$f":"IF(入力表・参加種目確認!BX22=\"\",\"\",VLOOKUP(入力表・参加種目確認!$E$4,$BP$2:$BQ$5,2,FALSE)&入力表・参加種目確認!H22&\"子\"&\"4X100mR\")","v":""},{"$f":"IF(P10=\"\",\"\",H10&P10&入力表・参加種目確認!BX22)","v":""},"",{"$f":"IF(入力表・参加種目確認!CA22=\"\",\"\",VLOOKUP(入力表・参加種目確認!$E$4,$BP$7:$BQ$10,2,FALSE)&入力表・参加種目確認!H22&\"子\"&\"4X400mR\")","v":""},{"$f":"IF(S10=\"\",\"\",H10&S10&入力表・参加種目確認!CA22)","v":""},"",null,null,null,null,null,null,null,null,null,null,null,null,null,null,null,{"$f":"IF(入力表・参加種目確認!AN22=\"\",\"\",入力表・参加種目確認!AN22)","v":""},{"$f":"IF(入力表・参加種目確認!AO22=\"\",\"\",入力表・参加種目確認!AO22)","v":""},{"$f":"IF(ISERROR(VLOOKUP(IF(AL10=\"\",\"\",入力表・参加種目確認!AP22),$BJ$2:$BK$5,2,FALSE)),\"\",VLOOKUP(IF(AL10=\"\",\"\",入力表・参加種目確認!AS22),$BJ$2:$BK$5,2,FALSE))","v":""},{"$f":"IF(入力表・参加種目確認!AQ22=\"\",\"\",入力表・参加種目確認!AQ22)","v":""},{"$f":"IF(入力表・参加種目確認!AR22=\"\",\"\",入力表・参加種目確認!AR22)","v":""},{"$f":"IF(ISERROR(VLOOKUP(入力表・参加種目確認!AS22,$BJ$2:$BK$5,2,FALSE)),\"\",VLOOKUP(入力表・参加種目確認!AS22,$BJ$2:$BK$5,2,FALSE))","v":""},{"$f":"IF(入力表・参加種目確認!AT22=\"\",\"\",入力表・参加種目確認!AT22)","v":""},{"$f":"IF(入力表・参加種目確認!AU22=\"\",\"\",入力表・参加種目確認!AU22)","v":""},{"$f":"IF(入力表・参加種目確認!BB22=\"\",\"\",入力表・参加種目確認!BB22)","v":""},{"$f":"IF(入力表・参加種目確認!BC22=\"\",\"\",入力表・参加種目確認!BC22)","v":""},{"$f":"IF(ISERROR(VLOOKUP(IF(AT10=\"\",\"\",入力表・参加種目確認!BD22),$BJ$2:$BK$5,2,FALSE)),\"\",VLOOKUP(IF(AT10=\"\",\"\",入力表・参加種目確認!BD22),$BJ$2:$BK$5,2,FALSE))","v":""},{"$f":"IF(入力表・参加種目確認!BE22=\"\",\"\",入力表・参加種目確認!BE22)","v":""},{"$f":"IF(入力表・参加種目確認!BF22=\"\",\"\",入力表・参加種目確認!BF22)","v":""},{"$f":"IF(ISERROR(VLOOKUP(入力表・参加種目確認!BG22,$BJ$2:$BK$5,2,FALSE)),\"\",VLOOKUP(入力表・参加種目確認!BG22,$BJ$2:$BK$5,2,FALSE))","v":""},{"$f":"IF(入力表・参加種目確認!BH22=\"\",\"\",入力表・参加種目確認!BH22)","v":""},{"$f":"IF(入力表・参加種目確認!BI22=\"\",\"\",入力表・参加種目確認!BI22)","v":""},{"$f":"IF(入力表・参加種目確認!BP22=\"\",\"\",入力表・参加種目確認!BP22)","v":""},{"$f":"IF(入力表・参加種目確認!BQ22=\"\",\"\",入力表・参加種目確認!BQ22)","v":""},{"$f":"IF(ISERROR(VLOOKUP(IF(BB10=\"\",\"\",入力表・参加種目確認!BR22),$BJ$2:$BK$5,2,FALSE)),\"\",VLOOKUP(IF(BB10=\"\",\"\",入力表・参加種目確認!BR22),$BJ$2:$BK$5,2,FALSE))","v":""},{"$f":"IF(入力表・参加種目確認!BS22=\"\",\"\",入力表・参加種目確認!BS22)","v":""},{"$f":"IF(入力表・参加種目確認!BT22=\"\",\"\",入力表・参加種目確認!BT22)","v":""},{"$f":"IF(ISERROR(VLOOKUP(入力表・参加種目確認!BU22,$BJ$2:$BK$5,2,FALSE)),\"\",VLOOKUP(入力表・参加種目確認!BU22,$BJ$2:$BK$5,2,FALSE))","v":""},{"$f":"IF(入力表・参加種目確認!BV22=\"\",\"\",入力表・参加種目確認!BV22)","v":""},{"$f":"IF(入力表・参加種目確認!BW22=\"\",\"\",入力表・参加種目確認!BW22)","v":""},null,null,null,null,"女子B",{"$f":"CONCATENATE(入力表・参加種目確認!BW3,\".\",入力表・参加種目確認!BY3,入力表・参加種目確認!BZ3,\".\",入力表・参加種目確認!CB3,入力表・参加種目確認!CC3)","v":".."},null,"一般","共通"]
[10,{"$f":"IF(入力表・参加種目確認!H23=0,\"\",入力表・参加種目確認!H23)","v":""},{"$f":"IF(入力表・参加種目確認!J23=0,\"\",入力表・参加種目確認!J23)","v":""},{"$f":"IF(入力表・参加種目確認!N23=0,\"\",入力表・参加種目確認!N23)","v":""},{"$f":"RIGHT(入力表・参加種目確認!AA23,2)","v":""},{"$f":"IF(入力表・参加種目確認!U23=0,\"\",ASC(入力表・参加種目確認!U23))","v":""},{"$f":"IF(B11=\"\",\"\",入力表・参加種目確認!$N$8)","v":""},{"$f":"IF(B11=\"\",\"\",入力表・参加種目確認!$L$4)","v":""},{"$f":"IF(B11=\"\",\"\",入力表・参加種目確認!AE23)","v":""},{"$f":"IF(入力表・参加種目確認!AH23=\"\",\"\",入力表・参加種目確認!$E$4&'貼付（事務局）'!B11&\"子\"&入力表・参加種目確認!AH23)","v":""},"",{"$f":"IF(入力表・参加種目確認!AV23=\"\",\"\",入力表・参加種目確認!$E$4&'貼付（事務局）'!B11&\"子\"&入力表・参加種目確認!AV23)","v":""},"",{"$f":"IF(入力表・参加種目確認!BJ23=\"\",\"\",入力表・参加種目確認!$E$4&'貼付（事務局）'!B11&\"子\"&入力表・参加種目確認!BJ23)","v":""},"",{"$f":"IF(入力表・参加種目確認!BX23=\"\",\"\",VLOOKUP(入力表・参加種目確認!$E$4,$BP$2:$BQ$5,2,FALSE)&入力表・参加種目確認!H23&\"子\"&\"4X100mR\")","v":""},{"$f":"IF(P11=\"\",\"\",H11&P11&入力表・参加種目確認!BX23)","v":""},"",{"$f":"IF(入力表・参加種目確認!CA23=\"\",\"\",VLOOKUP(入力表・参加種目確認!$E$4,$BP$7:$BQ$10,2,FALSE)&入力表・参加種目確認!H23&\"子\"&\"4X400mR\")","v":""},{"$f":"IF(S11=\"\",\"\",H11&S11&入力表・参加種目確認!CA23)","v":""},"",null,null,null,null,null,null,null,null,null,null,null,null,null,null,null,{"$f":"IF(入力表・参加種目確認!AN23=\"\",\"\",入力表・参加種目確認!AN23)","v":""},{"$f":"IF(入力表・参加種目確認!AO23=\"\",\"\",入力表・参加種目確認!AO23)","v":""},{"$f":"IF(ISERROR(VLOOKUP(IF(AL11=\"\",\"\",入力表・参加種目確認!AP23),$BJ$2:$BK$5,2,FALSE)),\"\",VLOOKUP(IF(AL11=\"\",\"\",入力表・参加種目確認!AS23),$BJ$2:$BK$5,2,FALSE))","v":""},{"$f":"IF(入力表・参加種目確認!AQ23=\"\",\"\",入力表・参加種目確認!AQ23)","v":""},{"$f":"IF(入力表・参加種目確認!AR23=\"\",\"\",入力表・参加種目確認!AR23)","v":""},{"$f":"IF(ISERROR(VLOOKUP(入力表・参加種目確認!AS23,$BJ$2:$BK$5,2,FALSE)),\"\",VLOOKUP(入力表・参加種目確認!AS23,$BJ$2:$BK$5,2,FALSE))","v":""},{"$f":"IF(入力表・参加種目確認!AT23=\"\",\"\",入力表・参加種目確認!AT23)","v":""},{"$f":"IF(入力表・参加種目確認!AU23=\"\",\"\",入力表・参加種目確認!AU23)","v":""},{"$f":"IF(入力表・参加種目確認!BB23=\"\",\"\",入力表・参加種目確認!BB23)","v":""},{"$f":"IF(入力表・参加種目確認!BC23=\"\",\"\",入力表・参加種目確認!BC23)","v":""},{"$f":"IF(ISERROR(VLOOKUP(IF(AT11=\"\",\"\",入力表・参加種目確認!BD23),$BJ$2:$BK$5,2,FALSE)),\"\",VLOOKUP(IF(AT11=\"\",\"\",入力表・参加種目確認!BD23),$BJ$2:$BK$5,2,FALSE))","v":""},{"$f":"IF(入力表・参加種目確認!BE23=\"\",\"\",入力表・参加種目確認!BE23)","v":""},{"$f":"IF(入力表・参加種目確認!BF23=\"\",\"\",入力表・参加種目確認!BF23)","v":""},{"$f":"IF(ISERROR(VLOOKUP(入力表・参加種目確認!BG23,$BJ$2:$BK$5,2,FALSE)),\"\",VLOOKUP(入力表・参加種目確認!BG23,$BJ$2:$BK$5,2,FALSE))","v":""},{"$f":"IF(入力表・参加種目確認!BH23=\"\",\"\",入力表・参加種目確認!BH23)","v":""},{"$f":"IF(入力表・参加種目確認!BI23=\"\",\"\",入力表・参加種目確認!BI23)","v":""},{"$f":"IF(入力表・参加種目確認!BP23=\"\",\"\",入力表・参加種目確認!BP23)","v":""},{"$f":"IF(入力表・参加種目確認!BQ23=\"\",\"\",入力表・参加種目確認!BQ23)","v":""},{"$f":"IF(ISERROR(VLOOKUP(IF(BB11=\"\",\"\",入力表・参加種目確認!BR23),$BJ$2:$BK$5,2,FALSE)),\"\",VLOOKUP(IF(BB11=\"\",\"\",入力表・参加種目確認!BR23),$BJ$2:$BK$5,2,FALSE))","v":""},{"$f":"IF(入力表・参加種目確認!BS23=\"\",\"\",入力表・参加種目確認!BS23)","v":""},{"$f":"IF(入力表・参加種目確認!BT23=\"\",\"\",入力表・参加種目確認!BT23)","v":""},{"$f":"IF(ISERROR(VLOOKUP(入力表・参加種目確認!BU23,$BJ$2:$BK$5,2,FALSE)),\"\",VLOOKUP(入力表・参加種目確認!BU23,$BJ$2:$BK$5,2,FALSE))","v":""},{"$f":"IF(入力表・参加種目確認!BV23=\"\",\"\",入力表・参加種目確認!BV23)","v":""},{"$f":"IF(入力表・参加種目確認!BW23=\"\",\"\",入力表・参加種目確認!BW23)","v":""},null,null,null,null,"女子C",{"$f":"CONCATENATE(入力表・参加種目確認!BW4,\".\",入力表・参加種目確認!BY4,入力表・参加種目確認!BZ4,\".\",入力表・参加種目確認!CB4,入力表・参加種目確認!CC4)","v":".."}]
[11,{"$f":"IF(入力表・参加種目確認!H24=0,\"\",入力表・参加種目確認!H24)","v":""},{"$f":"IF(入力表・参加種目確認!J24=0,\"\",入力表・参加種目確認!J24)","v":""},{"$f":"IF(入力表・参加種目確認!N24=0,\"\",入力表・参加種目確認!N24)","v":""},{"$f":"RIGHT(入力表・参加種目確認!AA24,2)","v":""},{"$f":"IF(入力表・参加種目確認!U24=0,\"\",ASC(入力表・参加種目確認!U24))","v":""},{"$f":"IF(B12=\"\",\"\",入力表・参加種目確認!$N$8)","v":""},{"$f":"IF(B12=\"\",\"\",入力表・参加種目確認!$L$4)","v":""},{"$f":"IF(B12=\"\",\"\",入力表・参加種目確認!AE24)","v":""},{"$f":"IF(入力表・参加種目確認!AH24=\"\",\"\",入力表・参加種目確認!$E$4&'貼付（事務局）'!B12&\"子\"&入力表・参加種目確認!AH24)","v":""},"",{"$f":"IF(入力表・参加種目確認!AV24=\"\",\"\",入力表・参加種目確認!$E$4&'貼付（事務局）'!B12&\"子\"&入力表・参加種目確認!AV24)","v":""},"",{"$f":"IF(入力表・参加種目確認!BJ24=\"\",\"\",入力表・参加種目確認!$E$4&'貼付（事務局）'!B12&\"子\"&入力表・参加種目確認!BJ24)","v":""},"",{"$f":"IF(入力表・参加種目確認!BX24=\"\",\"\",VLOOKUP(入力表・参加種目確認!$E$4,$BP$2:$BQ$5,2,FALSE)&入力表・参加種目確認!H24&\"子\"&\"4X100mR\")","v":""},{"$f":"IF(P12=\"\",\"\",H12&P12&入力表・参加種目確認!BX24)","v":""},"",{"$f":"IF(入力表・参加種目確認!CA24=\"\",\"\",VLOOKUP(入力表・参加種目確認!$E$4,$BP$7:$BQ$10,2,FALSE)&入力表・参加種目確認!H24&\"子\"&\"4X400mR\")","v":""},{"$f":"IF(S12=\"\",\"\",H12&S12&入力表・参加種目確認!CA24)","v":""},"",null,null,null,null,null,null,null,null,null,null,null,null,null,null,null,{"$f":"IF(入力表・参加種目確認!AN24=\"\",\"\",入力表・参加種目確認!AN24)","v":""},{"$f":"IF(入力表・参加種目確認!AO24=\"\",\"\",入力表・参加種目確認!AO24)","v":""},{"$f":"IF(ISERROR(VLOOKUP(IF(AL12=\"\",\"\",入力表・参加種目確認!AP24),$BJ$2:$BK$5,2,FALSE)),\"\",VLOOKUP(IF(AL12=\"\",\"\",入力表・参加種目確認!AS24),$BJ$2:$BK$5,2,FALSE))","v":""},{"$f":"IF(入力表・参加種目確認!AQ24=\"\",\"\",入力表・参加種目確認!AQ24)","v":""},{"$f":"IF(入力表・参加種目確認!AR24=\"\",\"\",入力表・参加種目確認!AR24)","v":""},{"$f":"IF(ISERROR(VLOOKUP(入力表・参加種目確認!AS24,$BJ$2:$BK$5,2,FALSE)),\"\",VLOOKUP(入力表・参加種目確認!AS24,$BJ$2:$BK$5,2,FALSE))","v":""},{"$f":"IF(入力表・参加種目確認!AT24=\"\",\"\",入力表・参加種目確認!AT24)","v":""},{"$f":"IF(入力表・参加種目確認!AU24=\"\",\"\",入力表・参加種目確認!AU24)","v":""},{"$f":"IF(入力表・参加種目確認!BB24=\"\",\"\",入力表・参加種目確認!BB24)","v":""},{"$f":"IF(入力表・参加種目確認!BC24=\"\",\"\",入力表・参加種目確認!BC24)","v":""},{"$f":"IF(ISERROR(VLOOKUP(IF(AT12=\"\",\"\",入力表・参加種目確認!BD24),$BJ$2:$BK$5,2,FALSE)),\"\",VLOOKUP(IF(AT12=\"\",\"\",入力表・参加種目確認!BD24),$BJ$2:$BK$5,2,FALSE))","v":""},{"$f":"IF(入力表・参加種目確認!BE24=\"\",\"\",入力表・参加種目確認!BE24)","v":""},{"$f":"IF(入力表・参加種目確認!BF24=\"\",\"\",入力表・参加種目確認!BF24)","v":""},{"$f":"IF(ISERROR(VLOOKUP(入力表・参加種目確認!BG24,$BJ$2:$BK$5,2,FALSE)),\"\",VLOOKUP(入力表・参加種目確認!BG24,$BJ$2:$BK$5,2,FALSE))","v":""},{"$f":"IF(入力表・参加種目確認!BH24=\"\",\"\",入力表・参加種目確認!BH24)","v":""},{"$f":"IF(入力表・参加種目確認!BI24=\"\",\"\",入力表・参加種目確認!BI24)","v":""},{"$f":"IF(入力表・参加種目確認!BP24=\"\",\"\",入力表・参加種目確認!BP24)","v":""},{"$f":"IF(入力表・参加種目確認!BQ24=\"\",\"\",入力表・参加種目確認!BQ24)","v":""},{"$f":"IF(ISERROR(VLOOKUP(IF(BB12=\"\",\"\",入力表・参加種目確認!BR24),$BJ$2:$BK$5,2,FALSE)),\"\",VLOOKUP(IF(BB12=\"\",\"\",入力表・参加種目確認!BR24),$BJ$2:$BK$5,2,FALSE))","v":""},{"$f":"IF(入力表・参加種目確認!BS24=\"\",\"\",入力表・参加種目確認!BS24)","v":""},{"$f":"IF(入力表・参加種目確認!BT24=\"\",\"\",入力表・参加種目確認!BT24)","v":""},{"$f":"IF(ISERROR(VLOOKUP(入力表・参加種目確認!BU24,$BJ$2:$BK$5,2,FALSE)),\"\",VLOOKUP(入力表・参加種目確認!BU24,$BJ$2:$BK$5,2,FALSE))","v":""},{"$f":"IF(入力表・参加種目確認!BV24=\"\",\"\",入力表・参加種目確認!BV24)","v":""},{"$f":"IF(入力表・参加種目確認!BW24=\"\",\"\",入力表・参加種目確認!BW24)","v":""},null,null,null,null,"女子D",{"$f":"CONCATENATE(入力表・参加種目確認!BW5,\".\",入力表・参加種目確認!BY5,入力表・参加種目確認!BZ5,\".\",入力表・参加種目確認!CB5,入力表・参加種目確認!CC5)","v":".."}]
[12,{"$f":"IF(入力表・参加種目確認!H25=0,\"\",入力表・参加種目確認!H25)","v":""},{"$f":"IF(入力表・参加種目確認!J25=0,\"\",入力表・参加種目確認!J25)","v":""},{"$f":"IF(入力表・参加種目確認!N25=0,\"\",入力表・参加種目確認!N25)","v":""},{"$f":"RIGHT(入力表・参加種目確認!AA25,2)","v":""},{"$f":"IF(入力表・参加種目確認!U25=0,\"\",ASC(入力表・参加種目確認!U25))","v":""},{"$f":"IF(B13=\"\",\"\",入力表・参加種目確認!$N$8)","v":""},{"$f":"IF(B13=\"\",\"\",入力表・参加種目確認!$L$4)","v":""},{"$f":"IF(B13=\"\",\"\",入力表・参加種目確認!AE25)","v":""},{"$f":"IF(入力表・参加種目確認!AH25=\"\",\"\",入力表・参加種目確認!$E$4&'貼付（事務局）'!B13&\"子\"&入力表・参加種目確認!AH25)","v":""},"",{"$f":"IF(入力表・参加種目確認!AV25=\"\",\"\",入力表・参加種目確認!$E$4&'貼付（事務局）'!B13&\"子\"&入力表・参加種目確認!AV25)","v":""},"",{"$f":"IF(入力表・参加種目確認!BJ25=\"\",\"\",入力表・参加種目確認!$E$4&'貼付（事務局）'!B13&\"子\"&入力表・参加種目確認!BJ25)","v":""},"",{"$f":"IF(入力表・参加種目確認!BX25=\"\",\"\",VLOOKUP(入力表・参加種目確認!$E$4,$BP$2:$BQ$5,2,FALSE)&入力表・参加種目確認!H25&\"子\"&\"4X100mR\")","v":""},{"$f":"IF(P13=\"\",\"\",H13&P13&入力表・参加種目確認!BX25)","v":""},"",{"$f":"IF(入力表・参加種目確認!CA25=\"\",\"\",VLOOKUP(入力表・参加種目確認!$E$4,$BP$7:$BQ$10,2,FALSE)&入力表・参加種目確認!H25&\"子\"&\"4X400mR\")","v":""},{"$f":"IF(S13=\"\",\"\",H13&S13&入力表・参加種目確認!CA25)","v":""},"",null,null,null,null,null,null,null,null,null,null,null,null,null,null,null,{"$f":"IF(入力表・参加種目確認!AN25=\"\",\"\",入力表・参加種目確認!AN25)","v":""},{"$f":"IF(入力表・参加種目確認!AO25=\"\",\"\",入力表・参加種目確認!AO25)","v":""},{"$f":"IF(ISERROR(VLOOKUP(IF(AL13=\"\",\"\",入力表・参加種目確認!AP25),$BJ$2:$BK$5,2,FALSE)),\"\",VLOOKUP(IF(AL13=\"\",\"\",入力表・参加種目確認!AS25),$BJ$2:$BK$5,2,FALSE))","v":""},{"$f":"IF(入力表・参加種目確認!AQ25=\"\",\"\",入力表・参加種目確認!AQ25)","v":""},{"$f":"IF(入力表・参加種目確認!AR25=\"\",\"\",入力表・参加種目確認!AR25)","v":""},{"$f":"IF(ISERROR(VLOOKUP(入力表・参加種目確認!AS25,$BJ$2:$BK$5,2,FALSE)),\"\",VLOOKUP(入力表・参加種目確認!AS25,$BJ$2:$BK$5,2,FALSE))","v":""},{"$f":"IF(入力表・参加種目確認!AT25=\"\",\"\",入力表・参加種目確認!AT25)","v":""},{"$f":"IF(入力表・参加種目確認!AU25=\"\",\"\",入力表・参加種目確認!AU25)","v":""},{"$f":"IF(入力表・参加種目確認!BB25=\"\",\"\",入力表・参加種目確認!BB25)","v":""},{"$f":"IF(入力表・参加種目確認!BC25=\"\",\"\",入力表・参加種目確認!BC25)","v":""},{"$f":"IF(ISERROR(VLOOKUP(IF(AT13=\"\",\"\",入力表・参加種目確認!BD25),$BJ$2:$BK$5,2,FALSE)),\"\",VLOOKUP(IF(AT13=\"\",\"\",入力表・参加種目確認!BD25),$BJ$2:$BK$5,2,FALSE))","v":""},{"$f":"IF(入力表・参加種目確認!BE25=\"\",\"\",入力表・参加種目確認!BE25)","v":""},{"$f":"IF(入力表・参加種目確認!BF25=\"\",\"\",入力表・参加種目確認!BF25)","v":""},{"$f":"IF(ISERROR(VLOOKUP(入力表・参加種目確認!BG25,$BJ$2:$BK$5,2,FALSE)),\"\",VLOOKUP(入力表・参加種目確認!BG25,$BJ$2:$BK$5,2,FALSE))","v":""},{"$f":"IF(入力表・参加種目確認!BH25=\"\",\"\",入力表・参加種目確認!BH25)","v":""},{"$f":"IF(入力表・参加種目確認!BI25=\"\",\"\",入力表・参加種目確認!BI25)","v":""},{"$f":"IF(入力表・参加種目確認!BP25=\"\",\"\",入力表・参加種目確認!BP25)","v":""},{"$f":"IF(入力表・参加種目確認!BQ25=\"\",\"\",入力表・参加種目確認!BQ25)","v":""},{"$f":"IF(ISERROR(VLOOKUP(IF(BB13=\"\",\"\",入力表・参加種目確認!BR25),$BJ$2:$BK$5,2,FALSE)),\"\",VLOOKUP(IF(BB13=\"\",\"\",入力表・参加種目確認!BR25),$BJ$2:$BK$5,2,FALSE))","v":""},{"$f":"IF(入力表・参加種目確認!BS25=\"\",\"\",入力表・参加種目確認!BS25)","v":""},{"$f":"IF(入力表・参加種目確認!BT25=\"\",\"\",入力表・参加種目確認!BT25)","v":""},{"$f":"IF(ISERROR(VLOOKUP(入力表・参加種目確認!BU25,$BJ$2:$BK$5,2,FALSE)),\"\",VLOOKUP(入力表・参加種目確認!BU25,$BJ$2:$BK$5,2,FALSE))","v":""},{"$f":"IF(入力表・参加種目確認!BV25=\"\",\"\",入力表・参加種目確認!BV25)","v":""},{"$f":"IF(入力表・参加種目確認!BW25=\"\",\"\",入力表・参加種目確認!BW25)","v":""},null,null,null,null,"女子E",{"$f":"CONCATENATE(入力表・参加種目確認!BW6,\".\",入力表・参加種目確認!BY6,入力表・参加種目確認!BZ6,\".\",入力表・参加種目確認!CB6,入力表・参加種目確認!CC6)","v":".."}]
[13,{"$f":"IF(入力表・参加種目確認!H26=0,\"\",入力表・参加種目確認!H26)","v":""},{"$f":"IF(入力表・参加種目確認!J26=0,\"\",入力表・参加種目確認!J26)","v":""},{"$f":"IF(入力表・参加種目確認!N26=0,\"\",入力表・参加種目確認!N26)","v":""},{"$f":"RIGHT(入力表・参加種目確認!AA26,2)","v":""},{"$f":"IF(入力表・参加種目確認!U26=0,\"\",ASC(入力表・参加種目確認!U26))","v":""},{"$f":"IF(B14=\"\",\"\",入力表・参加種目確認!$N$8)","v":""},{"$f":"IF(B14=\"\",\"\",入力表・参加種目確認!$L$4)","v":""},{"$f":"IF(B14=\"\",\"\",入力表・参加種目確認!AE26)","v":""},{"$f":"IF(入力表・参加種目確認!AH26=\"\",\"\",入力表・参加種目確認!$E$4&'貼付（事務局）'!B14&\"子\"&入力表・参加種目確認!AH26)","v":""},"",{"$f":"IF(入力表・参加種目確認!AV26=\"\",\"\",入力表・参加種目確認!$E$4&'貼付（事務局）'!B14&\"子\"&入力表・参加種目確認!AV26)","v":""},"",{"$f":"IF(入力表・参加種目確認!BJ26=\"\",\"\",入力表・参加種目確認!$E$4&'貼付（事務局）'!B14&\"子\"&入力表・参加種目確認!BJ26)","v":""},"",{"$f":"IF(入力表・参加種目確認!BX26=\"\",\"\",VLOOKUP(入力表・参加種目確認!$E$4,$BP$2:$BQ$5,2,FALSE)&入力表・参加種目確認!H26&\"子\"&\"4X100mR\")","v":""},{"$f":"IF(P14=\"\",\"\",H14&P14&入力表・参加種目確認!BX26)","v":""},"",{"$f":"IF(入力表・参加種目確認!CA26=\"\",\"\",VLOOKUP(入力表・参加種目確認!$E$4,$BP$7:$BQ$10,2,FALSE)&入力表・参加種目確認!H26&\"子\"&\"4X400mR\")","v":""},{"$f":"IF(S14=\"\",\"\",H14&S14&入力表・参加種目確認!CA26)","v":""},"",null,null,null,null,null,null,null,null,null,null,null,null,null,null,null,{"$f":"IF(入力表・参加種目確認!AN26=\"\",\"\",入力表・参加種目確認!AN26)","v":""},{"$f":"IF(入力表・参加種目確認!AO26=\"\",\"\",入力表・参加種目確認!AO26)","v":""},{"$f":"IF(ISERROR(VLOOKUP(IF(AL14=\"\",\"\",入力表・参加種目確認!AP26),$BJ$2:$BK$5,2,FALSE)),\"\",VLOOKUP(IF(AL14=\"\",\"\",入力表・参加種目確認!AS26),$BJ$2:$BK$5,2,FALSE))","v":""},{"$f":"IF(入力表・参加種目確認!AQ26=\"\",\"\",入力表・参加種目確認!AQ26)","v":""},{"$f":"IF(入力表・参加種目確認!AR26=\"\",\"\",入力表・参加種目確認!AR26)","v":""},{"$f":"IF(ISERROR(VLOOKUP(入力表・参加種目確認!AS26,$BJ$2:$BK$5,2,FALSE)),\"\",VLOOKUP(入力表・参加種目確認!AS26,$BJ$2:$BK$5,2,FALSE))","v":""},{"$f":"IF(入力表・参加種目確認!AT26=\"\",\"\",入力表・参加種目確認!AT26)","v":""},{"$f":"IF(入力表・参加種目確認!AU26=\"\",\"\",入力表・参加種目確認!AU26)","v":""},{"$f":"IF(入力表・参加種目確認!BB26=\"\",\"\",入力表・参加種目確認!BB26)","v":""},{"$f":"IF(入力表・参加種目確認!BC26=\"\",\"\",入力表・参加種目確認!BC26)","v":""},{"$f":"IF(ISERROR(VLOOKUP(IF(AT14=\"\",\"\",入力表・参加種目確認!BD26),$BJ$2:$BK$5,2,FALSE)),\"\",VLOOKUP(IF(AT14=\"\",\"\",入力表・参加種目確認!BD26),$BJ$2:$BK$5,2,FALSE))","v":""},{"$f":"IF(入力表・参加種目確認!BE26=\"\",\"\",入力表・参加種目確認!BE26)","v":""},{"$f":"IF(入力表・参加種目確認!BF26=\"\",\"\",入力表・参加種目確認!BF26)","v":""},{"$f":"IF(ISERROR(VLOOKUP(入力表・参加種目確認!BG26,$BJ$2:$BK$5,2,FALSE)),\"\",VLOOKUP(入力表・参加種目確認!BG26,$BJ$2:$BK$5,2,FALSE))","v":""},{"$f":"IF(入力表・参加種目確認!BH26=\"\",\"\",入力表・参加種目確認!BH26)","v":""},{"$f":"IF(入力表・参加種目確認!BI26=\"\",\"\",入力表・参加種目確認!BI26)","v":""},{"$f":"IF(入力表・参加種目確認!BP26=\"\",\"\",入力表・参加種目確認!BP26)","v":""},{"$f":"IF(入力表・参加種目確認!BQ26=\"\",\"\",入力表・参加種目確認!BQ26)","v":""},{"$f":"IF(ISERROR(VLOOKUP(IF(BB14=\"\",\"\",入力表・参加種目確認!BR26),$BJ$2:$BK$5,2,FALSE)),\"\",VLOOKUP(IF(BB14=\"\",\"\",入力表・参加種目確認!BR26),$BJ$2:$BK$5,2,FALSE))","v":""},{"$f":"IF(入力表・参加種目確認!BS26=\"\",\"\",入力表・参加種目確認!BS26)","v":""},{"$f":"IF(入力表・参加種目確認!BT26=\"\",\"\",入力表・参加種目確認!BT26)","v":""},{"$f":"IF(ISERROR(VLOOKUP(入力表・参加種目確認!BU26,$BJ$2:$BK$5,2,FALSE)),\"\",VLOOKUP(入力表・参加種目確認!BU26,$BJ$2:$BK$5,2,FALSE))","v":""},{"$f":"IF(入力表・参加種目確認!BV26=\"\",\"\",入力表・参加種目確認!BV26)","v":""},{"$f":"IF(入力表・参加種目確認!BW26=\"\",\"\",入力表・参加種目確認!BW26)","v":""},null,null,null,null,"女子F",{"$f":"CONCATENATE(入力表・参加種目確認!BW7,\".\",入力表・参加種目確認!BY7,入力表・参加種目確認!BZ7,\".\",入力表・参加種目確認!CB7,入力表・参加種目確認!CC7)","v":".."}]
[14,{"$f":"IF(入力表・参加種目確認!H27=0,\"\",入力表・参加種目確認!H27)","v":""},{"$f":"IF(入力表・参加種目確認!J27=0,\"\",入力表・参加種目確認!J27)","v":""},{"$f":"IF(入力表・参加種目確認!N27=0,\"\",入力表・参加種目確認!N27)","v":""},{"$f":"RIGHT(入力表・参加種目確認!AA27,2)","v":""},{"$f":"IF(入力表・参加種目確認!U27=0,\"\",ASC(入力表・参加種目確認!U27))","v":""},{"$f":"IF(B15=\"\",\"\",入力表・参加種目確認!$N$8)","v":""},{"$f":"IF(B15=\"\",\"\",入力表・参加種目確認!$L$4)","v":""},{"$f":"IF(B15=\"\",\"\",入力表・参加種目確認!AE27)","v":""},{"$f":"IF(入力表・参加種目確認!AH27=\"\",\"\",入力表・参加種目確認!$E$4&'貼付（事務局）'!B15&\"子\"&入力表・参加種目確認!AH27)","v":""},"",{"$f":"IF(入力表・参加種目確認!AV27=\"\",\"\",入力表・参加種目確認!$E$4&'貼付（事務局）'!B15&\"子\"&入力表・参加種目確認!AV27)","v":""},"",{"$f":"IF(入力表・参加種目確認!BJ27=\"\",\"\",入力表・参加種目確認!$E$4&'貼付（事務局）'!B15&\"子\"&入力表・参加種目確認!BJ27)","v":""},"",{"$f":"IF(入力表・参加種目確認!BX27=\"\",\"\",VLOOKUP(入力表・参加種目確認!$E$4,$BP$2:$BQ$5,2,FALSE)&入力表・参加種目確認!H27&\"子\"&\"4X100mR\")","v":""},{"$f":"IF(P15=\"\",\"\",H15&P15&入力表・参加種目確認!BX27)","v":""},"",{"$f":"IF(入力表・参加種目確認!CA27=\"\",\"\",VLOOKUP(入力表・参加種目確認!$E$4,$BP$7:$BQ$10,2,FALSE)&入力表・参加種目確認!H27&\"子\"&\"4X400mR\")","v":""},{"$f":"IF(S15=\"\",\"\",H15&S15&入力表・参加種目確認!CA27)","v":""},"",null,null,null,null,null,null,null,null,null,null,null,null,null,null,null,{"$f":"IF(入力表・参加種目確認!AN27=\"\",\"\",入力表・参加種目確認!AN27)","v":""},{"$f":"IF(入力表・参加種目確認!AO27=\"\",\"\",入力表・参加種目確認!AO27)","v":""},{"$f":"IF(ISERROR(VLOOKUP(IF(AL15=\"\",\"\",入力表・参加種目確認!AP27),$BJ$2:$BK$5,2,FALSE)),\"\",VLOOKUP(IF(AL15=\"\",\"\",入力表・参加種目確認!AS27),$BJ$2:$BK$5,2,FALSE))","v":""},{"$f":"IF(入力表・参加種目確認!AQ27=\"\",\"\",入力表・参加種目確認!AQ27)","v":""},{"$f":"IF(入力表・参加種目確認!AR27=\"\",\"\",入力表・参加種目確認!AR27)","v":""},{"$f":"IF(ISERROR(VLOOKUP(入力表・参加種目確認!AS27,$BJ$2:$BK$5,2,FALSE)),\"\",VLOOKUP(入力表・参加種目確認!AS27,$BJ$2:$BK$5,2,FALSE))","v":""},{"$f":"IF(入力表・参加種目確認!AT27=\"\",\"\",入力表・参加種目確認!AT27)","v":""},{"$f":"IF(入力表・参加種目確認!AU27=\"\",\"\",入力表・参加種目確認!AU27)","v":""},{"$f":"IF(入力表・参加種目確認!BB27=\"\",\"\",入力表・参加種目確認!BB27)","v":""},{"$f":"IF(入力表・参加種目確認!BC27=\"\",\"\",入力表・参加種目確認!BC27)","v":""},{"$f":"IF(ISERROR(VLOOKUP(IF(AT15=\"\",\"\",入力表・参加種目確認!BD27),$BJ$2:$BK$5,2,FALSE)),\"\",VLOOKUP(IF(AT15=\"\",\"\",入力表・参加種目確認!BD27),$BJ$2:$BK$5,2,FALSE))","v":""},{"$f":"IF(入力表・参加種目確認!BE27=\"\",\"\",入力表・参加種目確認!BE27)","v":""},{"$f":"IF(入力表・参加種目確認!BF27=\"\",\"\",入力表・参加種目確認!BF27)","v":""},{"$f":"IF(ISERROR(VLOOKUP(入力表・参加種目確認!BG27,$BJ$2:$BK$5,2,FALSE)),\"\",VLOOKUP(入力表・参加種目確認!BG27,$BJ$2:$BK$5,2,FALSE))","v":""},{"$f":"IF(入力表・参加種目確認!BH27=\"\",\"\",入力表・参加種目確認!BH27)","v":""},{"$f":"IF(入力表・参加種目確認!BI27=\"\",\"\",入力表・参加種目確認!BI27)","v":""},{"$f":"IF(入力表・参加種目確認!BP27=\"\",\"\",入力表・参加種目確認!BP27)","v":""},{"$f":"IF(入力表・参加種目確認!BQ27=\"\",\"\",入力表・参加種目確認!BQ27)","v":""},{"$f":"IF(ISERROR(VLOOKUP(IF(BB15=\"\",\"\",入力表・参加種目確認!BR27),$BJ$2:$BK$5,2,FALSE)),\"\",VLOOKUP(IF(BB15=\"\",\"\",入力表・参加種目確認!BR27),$BJ$2:$BK$5,2,FALSE))","v":""},{"$f":"IF(入力表・参加種目確認!BS27=\"\",\"\",入力表・参加種目確認!BS27)","v":""},{"$f":"IF(入力表・参加種目確認!BT27=\"\",\"\",入力表・参加種目確認!BT27)","v":""},{"$f":"IF(ISERROR(VLOOKUP(入力表・参加種目確認!BU27,$BJ$2:$BK$5,2,FALSE)),\"\",VLOOKUP(入力表・参加種目確認!BU27,$BJ$2:$BK$5,2,FALSE))","v":""},{"$f":"IF(入力表・参加種目確認!BV27=\"\",\"\",入力表・参加種目確認!BV27)","v":""},{"$f":"IF(入力表・参加種目確認!BW27=\"\",\"\",入力表・参加種目確認!BW27)","v":""},null,null,null,null,"1600mR"]
[15,{"$f":"IF(入力表・参加種目確認!H28=0,\"\",入力表・参加種目確認!H28)","v":""},{"$f":"IF(入力表・参加種目確認!J28=0,\"\",入力表・参加種目確認!J28)","v":""},{"$f":"IF(入力表・参加種目確認!N28=0,\"\",入力表・参加種目確認!N28)","v":""},{"$f":"RIGHT(入力表・参加種目確認!AA28,2)","v":""},{"$f":"IF(入力表・参加種目確認!U28=0,\"\",ASC(入力表・参加種目確認!U28))","v":""},{"$f":"IF(B16=\"\",\"\",入力表・参加種目確認!$N$8)","v":""},{"$f":"IF(B16=\"\",\"\",入力表・参加種目確認!$L$4)","v":""},{"$f":"IF(B16=\"\",\"\",入力表・参加種目確認!AE28)","v":""},{"$f":"IF(入力表・参加種目確認!AH28=\"\",\"\",入力表・参加種目確認!$E$4&'貼付（事務局）'!B16&\"子\"&入力表・参加種目確認!AH28)","v":""},"",{"$f":"IF(入力表・参加種目確認!AV28=\"\",\"\",入力表・参加種目確認!$E$4&'貼付（事務局）'!B16&\"子\"&入力表・参加種目確認!AV28)","v":""},"",{"$f":"IF(入力表・参加種目確認!BJ28=\"\",\"\",入力表・参加種目確認!$E$4&'貼付（事務局）'!B16&\"子\"&入力表・参加種目確認!BJ28)","v":""},"",{"$f":"IF(入力表・参加種目確認!BX28=\"\",\"\",VLOOKUP(入力表・参加種目確認!$E$4,$BP$2:$BQ$5,2,FALSE)&入力表・参加種目確認!H28&\"子\"&\"4X100mR\")","v":""},{"$f":"IF(P16=\"\",\"\",H16&P16&入力表・参加種目確認!BX28)","v":""},"",{"$f":"IF(入力表・参加種目確認!CA28=\"\",\"\",VLOOKUP(入力表・参加種目確認!$E$4,$BP$7:$BQ$10,2,FALSE)&入力表・参加種目確認!H28&\"子\"&\"4X400mR\")","v":""},{"$f":"IF(S16=\"\",\"\",H16&S16&入力表・参加種目確認!CA28)","v":""},"",null,null,null,null,null,null,null,null,null,null,null,null,null,null,null,{"$f":"IF(入力表・参加種目確認!AN28=\"\",\"\",入力表・参加種目確認!AN28)","v":""},{"$f":"IF(入力表・参加種目確認!AO28=\"\",\"\",入力表・参加種目確認!AO28)","v":""},{"$f":"IF(ISERROR(VLOOKUP(IF(AL16=\"\",\"\",入力表・参加種目確認!AP28),$BJ$2:$BK$5,2,FALSE)),\"\",VLOOKUP(IF(AL16=\"\",\"\",入力表・参加種目確認!AS28),$BJ$2:$BK$5,2,FALSE))","v":""},{"$f":"IF(入力表・参加種目確認!AQ28=\"\",\"\",入力表・参加種目確認!AQ28)","v":""},{"$f":"IF(入力表・参加種目確認!AR28=\"\",\"\",入力表・参加種目確認!AR28)","v":""},{"$f":"IF(ISERROR(VLOOKUP(入力表・参加種目確認!AS28,$BJ$2:$BK$5,2,FALSE)),\"\",VLOOKUP(入力表・参加種目確認!AS28,$BJ$2:$BK$5,2,FALSE))","v":""},{"$f":"IF(入力表・参加種目確認!AT28=\"\",\"\",入力表・参加種目確認!AT28)","v":""},{"$f":"IF(入力表・参加種目確認!AU28=\"\",\"\",入力表・参加種目確認!AU28)","v":""},{"$f":"IF(入力表・参加種目確認!BB28=\"\",\"\",入力表・参加種目確認!BB28)","v":""},{"$f":"IF(入力表・参加種目確認!BC28=\"\",\"\",入力表・参加種目確認!BC28)","v":""},{"$f":"IF(ISERROR(VLOOKUP(IF(AT16=\"\",\"\",入力表・参加種目確認!BD28),$BJ$2:$BK$5,2,FALSE)),\"\",VLOOKUP(IF(AT16=\"\",\"\",入力表・参加種目確認!BD28),$BJ$2:$BK$5,2,FALSE))","v":""},{"$f":"IF(入力表・参加種目確認!BE28=\"\",\"\",入力表・参加種目確認!BE28)","v":""},{"$f":"IF(入力表・参加種目確認!BF28=\"\",\"\",入力表・参加種目確認!BF28)","v":""},{"$f":"IF(ISERROR(VLOOKUP(入力表・参加種目確認!BG28,$BJ$2:$BK$5,2,FALSE)),\"\",VLOOKUP(入力表・参加種目確認!BG28,$BJ$2:$BK$5,2,FALSE))","v":""},{"$f":"IF(入力表・参加種目確認!BH28=\"\",\"\",入力表・参加種目確認!BH28)","v":""},{"$f":"IF(入力表・参加種目確認!BI28=\"\",\"\",入力表・参加種目確認!BI28)","v":""},{"$f":"IF(入力表・参加種目確認!BP28=\"\",\"\",入力表・参加種目確認!BP28)","v":""},{"$f":"IF(入力表・参加種目確認!BQ28=\"\",\"\",入力表・参加種目確認!BQ28)","v":""},{"$f":"IF(ISERROR(VLOOKUP(IF(BB16=\"\",\"\",入力表・参加種目確認!BR28),$BJ$2:$BK$5,2,FALSE)),\"\",VLOOKUP(IF(BB16=\"\",\"\",入力表・参加種目確認!BR28),$BJ$2:$BK$5,2,FALSE))","v":""},{"$f":"IF(入力表・参加種目確認!BS28=\"\",\"\",入力表・参加種目確認!BS28)","v":""},{"$f":"IF(入力表・参加種目確認!BT28=\"\",\"\",入力表・参加種目確認!BT28)","v":""},{"$f":"IF(ISERROR(VLOOKUP(入力表・参加種目確認!BU28,$BJ$2:$BK$5,2,FALSE)),\"\",VLOOKUP(入力表・参加種目確認!BU28,$BJ$2:$BK$5,2,FALSE))","v":""},{"$f":"IF(入力表・参加種目確認!BV28=\"\",\"\",入力表・参加種目確認!BV28)","v":""},{"$f":"IF(入力表・参加種目確認!BW28=\"\",\"\",入力表・参加種目確認!BW28)","v":""},null,null,null,null,"男子A",{"$f":"CONCATENATE(入力表・参加種目確認!BL9,\".\",入力表・参加種目確認!BN9,入力表・参加種目確認!BO9,\".\",入力表・参加種目確認!BQ9,入力表・参加種目確認!BR9)","v":".."}]
[16,{"$f":"IF(入力表・参加種目確認!H29=0,\"\",入力表・参加種目確認!H29)","v":""},{"$f":"IF(入力表・参加種目確認!J29=0,\"\",入力表・参加種目確認!J29)","v":""},{"$f":"IF(入力表・参加種目確認!N29=0,\"\",入力表・参加種目確認!N29)","v":""},{"$f":"RIGHT(入力表・参加種目確認!AA29,2)","v":""},{"$f":"IF(入力表・参加種目確認!U29=0,\"\",ASC(入力表・参加種目確認!U29))","v":""},{"$f":"IF(B17=\"\",\"\",入力表・参加種目確認!$N$8)","v":""},{"$f":"IF(B17=\"\",\"\",入力表・参加種目確認!$L$4)","v":""},{"$f":"IF(B17=\"\",\"\",入力表・参加種目確認!AE29)","v":""},{"$f":"IF(入力表・参加種目確認!AH29=\"\",\"\",入力表・参加種目確認!$E$4&'貼付（事務局）'!B17&\"子\"&入力表・参加種目確認!AH29)","v":""},"",{"$f":"IF(入力表・参加種目確認!AV29=\"\",\"\",入力表・参加種目確認!$E$4&'貼付（事務局）'!B17&\"子\"&入力表・参加種目確認!AV29)","v":""},"",{"$f":"IF(入力表・参加種目確認!BJ29=\"\",\"\",入力表・参加種目確認!$E$4&'貼付（事務局）'!B17&\"子\"&入力表・参加種目確認!BJ29)","v":""},"",{"$f":"IF(入力表・参加種目確認!BX29=\"\",\"\",VLOOKUP(入力表・参加種目確認!$E$4,$BP$2:$BQ$5,2,FALSE)&入力表・参加種目確認!H29&\"子\"&\"4X100mR\")","v":""},{"$f":"IF(P17=\"\",\"\",H17&P17&入力表・参加種目確認!BX29)","v":""},"",{"$f":"IF(入力表・参加種目確認!CA29=\"\",\"\",VLOOKUP(入力表・参加種目確認!$E$4,$BP$7:$BQ$10,2,FALSE)&入力表・参加種目確認!H29&\"子\"&\"4X400mR\")","v":""},{"$f":"IF(S17=\"\",\"\",H17&S17&入力表・参加種目確認!CA29)","v":""},"",null,null,null,null,null,null,null,null,null,null,null,null,null,null,null,{"$f":"IF(入力表・参加種目確認!AN29=\"\",\"\",入力表・参加種目確認!AN29)","v":""},{"$f":"IF(入力表・参加種目確認!AO29=\"\",\"\",入力表・参加種目確認!AO29)","v":""},{"$f":"IF(ISERROR(VLOOKUP(IF(AL17=\"\",\"\",入力表・参加種目確認!AP29),$BJ$2:$BK$5,2,FALSE)),\"\",VLOOKUP(IF(AL17=\"\",\"\",入力表・参加種目確認!AS29),$BJ$2:$BK$5,2,FALSE))","v":""},{"$f":"IF(入力表・参加種目確認!AQ29=\"\",\"\",入力表・参加種目確認!AQ29)","v":""},{"$f":"IF(入力表・参加種目確認!AR29=\"\",\"\",入力表・参加種目確認!AR29)","v":""},{"$f":"IF(ISERROR(VLOOKUP(入力表・参加種目確認!AS29,$BJ$2:$BK$5,2,FALSE)),\"\",VLOOKUP(入力表・参加種目確認!AS29,$BJ$2:$BK$5,2,FALSE))","v":""},{"$f":"IF(入力表・参加種目確認!AT29=\"\",\"\",入力表・参加種目確認!AT29)","v":""},{"$f":"IF(入力表・参加種目確認!AU29=\"\",\"\",入力表・参加種目確認!AU29)","v":""},{"$f":"IF(入力表・参加種目確認!BB29=\"\",\"\",入力表・参加種目確認!BB29)","v":""},{"$f":"IF(入力表・参加種目確認!BC29=\"\",\"\",入力表・参加種目確認!BC29)","v":""},{"$f":"IF(ISERROR(VLOOKUP(IF(AT17=\"\",\"\",入力表・参加種目確認!BD29),$BJ$2:$BK$5,2,FALSE)),\"\",VLOOKUP(IF(AT17=\"\",\"\",入力表・参加種目確認!BD29),$BJ$2:$BK$5,2,FALSE))","v":""},{"$f":"IF(入力表・参加種目確認!BE29=\"\",\"\",入力表・参加種目確認!BE29)","v":""},{"$f":"IF(入力表・参加種目確認!BF29=\"\",\"\",入力表・参加種目確認!BF29)","v":""},{"$f":"IF(ISERROR(VLOOKUP(入力表・参加種目確認!BG29,$BJ$2:$BK$5,2,FALSE)),\"\",VLOOKUP(入力表・参加種目確認!BG29,$BJ$2:$BK$5,2,FALSE))","v":""},{"$f":"IF(入力表・参加種目確認!BH29=\"\",\"\",入力表・参加種目確認!BH29)","v":""},{"$f":"IF(入力表・参加種目確認!BI29=\"\",\"\",入力表・参加種目確認!BI29)","v":""},{"$f":"IF(入力表・参加種目確認!BP29=\"\",\"\",入力表・参加種目確認!BP29)","v":""},{"$f":"IF(入力表・参加種目確認!BQ29=\"\",\"\",入力表・参加種目確認!BQ29)","v":""},{"$f":"IF(ISERROR(VLOOKUP(IF(BB17=\"\",\"\",入力表・参加種目確認!BR29),$BJ$2:$BK$5,2,FALSE)),\"\",VLOOKUP(IF(BB17=\"\",\"\",入力表・参加種目確認!BR29),$BJ$2:$BK$5,2,FALSE))","v":""},{"$f":"IF(入力表・参加種目確認!BS29=\"\",\"\",入力表・参加種目確認!BS29)","v":""},{"$f":"IF(入力表・参加種目確認!BT29=\"\",\"\",入力表・参加種目確認!BT29)","v":""},{"$f":"IF(ISERROR(VLOOKUP(入力表・参加種目確認!BU29,$BJ$2:$BK$5,2,FALSE)),\"\",VLOOKUP(入力表・参加種目確認!BU29,$BJ$2:$BK$5,2,FALSE))","v":""},{"$f":"IF(入力表・参加種目確認!BV29=\"\",\"\",入力表・参加種目確認!BV29)","v":""},{"$f":"IF(入力表・参加種目確認!BW29=\"\",\"\",入力表・参加種目確認!BW29)","v":""},null,null,null,null,"男子B",{"$f":"CONCATENATE(入力表・参加種目確認!BL10,\".\",入力表・参加種目確認!BN10,入力表・参加種目確認!BO10,\".\",入力表・参加種目確認!BQ10,入力表・参加種目確認!BR10)","v":".."}]
[17,{"$f":"IF(入力表・参加種目確認!H30=0,\"\",入力表・参加種目確認!H30)","v":""},{"$f":"IF(入力表・参加種目確認!J30=0,\"\",入力表・参加種目確認!J30)","v":""},{"$f":"IF(入力表・参加種目確認!N30=0,\"\",入力表・参加種目確認!N30)","v":""},{"$f":"RIGHT(入力表・参加種目確認!AA30,2)","v":""},{"$f":"IF(入力表・参加種目確認!U30=0,\"\",ASC(入力表・参加種目確認!U30))","v":""},{"$f":"IF(B18=\"\",\"\",入力表・参加種目確認!$N$8)","v":""},{"$f":"IF(B18=\"\",\"\",入力表・参加種目確認!$L$4)","v":""},{"$f":"IF(B18=\"\",\"\",入力表・参加種目確認!AE30)","v":""},{"$f":"IF(入力表・参加種目確認!AH30=\"\",\"\",入力表・参加種目確認!$E$4&'貼付（事務局）'!B18&\"子\"&入力表・参加種目確認!AH30)","v":""},"",{"$f":"IF(入力表・参加種目確認!AV30=\"\",\"\",入力表・参加種目確認!$E$4&'貼付（事務局）'!B18&\"子\"&入力表・参加種目確認!AV30)","v":""},"",{"$f":"IF(入力表・参加種目確認!BJ30=\"\",\"\",入力表・参加種目確認!$E$4&'貼付（事務局）'!B18&\"子\"&入力表・参加種目確認!BJ30)","v":""},"",{"$f":"IF(入力表・参加種目確認!BX30=\"\",\"\",VLOOKUP(入力表・参加種目確認!$E$4,$BP$2:$BQ$5,2,FALSE)&入力表・参加種目確認!H30&\"子\"&\"4X100mR\")","v":""},{"$f":"IF(P18=\"\",\"\",H18&P18&入力表・参加種目確認!BX30)","v":""},"",{"$f":"IF(入力表・参加種目確認!CA30=\"\",\"\",VLOOKUP(入力表・参加種目確認!$E$4,$BP$7:$BQ$10,2,FALSE)&入力表・参加種目確認!H30&\"子\"&\"4X400mR\")","v":""},{"$f":"IF(S18=\"\",\"\",H18&S18&入力表・参加種目確認!CA30)","v":""},"",null,null,null,null,null,null,null,null,null,null,null,null,null,null,null,{"$f":"IF(入力表・参加種目確認!AN30=\"\",\"\",入力表・参加種目確認!AN30)","v":""},{"$f":"IF(入力表・参加種目確認!AO30=\"\",\"\",入力表・参加種目確認!AO30)","v":""},{"$f":"IF(ISERROR(VLOOKUP(IF(AL18=\"\",\"\",入力表・参加種目確認!AP30),$BJ$2:$BK$5,2,FALSE)),\"\",VLOOKUP(IF(AL18=\"\",\"\",入力表・参加種目確認!AS30),$BJ$2:$BK$5,2,FALSE))","v":""},{"$f":"IF(入力表・参加種目確認!AQ30=\"\",\"\",入力表・参加種目確認!AQ30)","v":""},{"$f":"IF(入力表・参加種目確認!AR30=\"\",\"\",入力表・参加種目確認!AR30)","v":""},{"$f":"IF(ISERROR(VLOOKUP(入力表・参加種目確認!AS30,$BJ$2:$BK$5,2,FALSE)),\"\",VLOOKUP(入力表・参加種目確認!AS30,$BJ$2:$BK$5,2,FALSE))","v":""},{"$f":"IF(入力表・参加種目確認!AT30=\"\",\"\",入力表・参加種目確認!AT30)","v":""},{"$f":"IF(入力表・参加種目確認!AU30=\"\",\"\",入力表・参加種目確認!AU30)","v":""},{"$f":"IF(入力表・参加種目確認!BB30=\"\",\"\",入力表・参加種目確認!BB30)","v":""},{"$f":"IF(入力表・参加種目確認!BC30=\"\",\"\",入力表・参加種目確認!BC30)","v":""},{"$f":"IF(ISERROR(VLOOKUP(IF(AT18=\"\",\"\",入力表・参加種目確認!BD30),$BJ$2:$BK$5,2,FALSE)),\"\",VLOOKUP(IF(AT18=\"\",\"\",入力表・参加種目確認!BD30),$BJ$2:$BK$5,2,FALSE))","v":""},{"$f":"IF(入力表・参加種目確認!BE30=\"\",\"\",入力表・参加種目確認!BE30)","v":""},{"$f":"IF(入力表・参加種目確認!BF30=\"\",\"\",入力表・参加種目確認!BF30)","v":""},{"$f":"IF(ISERROR(VLOOKUP(入力表・参加種目確認!BG30,$BJ$2:$BK$5,2,FALSE)),\"\",VLOOKUP(入力表・参加種目確認!BG30,$BJ$2:$BK$5,2,FALSE))","v":""},{"$f":"IF(入力表・参加種目確認!BH30=\"\",\"\",入力表・参加種目確認!BH30)","v":""},{"$f":"IF(入力表・参加種目確認!BI30=\"\",\"\",入力表・参加種目確認!BI30)","v":""},{"$f":"IF(入力表・参加種目確認!BP30=\"\",\"\",入力表・参加種目確認!BP30)","v":""},{"$f":"IF(入力表・参加種目確認!BQ30=\"\",\"\",入力表・参加種目確認!BQ30)","v":""},{"$f":"IF(ISERROR(VLOOKUP(IF(BB18=\"\",\"\",入力表・参加種目確認!BR30),$BJ$2:$BK$5,2,FALSE)),\"\",VLOOKUP(IF(BB18=\"\",\"\",入力表・参加種目確認!BR30),$BJ$2:$BK$5,2,FALSE))","v":""},{"$f":"IF(入力表・参加種目確認!BS30=\"\",\"\",入力表・参加種目確認!BS30)","v":""},{"$f":"IF(入力表・参加種目確認!BT30=\"\",\"\",入力表・参加種目確認!BT30)","v":""},{"$f":"IF(ISERROR(VLOOKUP(入力表・参加種目確認!BU30,$BJ$2:$BK$5,2,FALSE)),\"\",VLOOKUP(入力表・参加種目確認!BU30,$BJ$2:$BK$5,2,FALSE))","v":""},{"$f":"IF(入力表・参加種目確認!BV30=\"\",\"\",入力表・参加種目確認!BV30)","v":""},{"$f":"IF(入力表・参加種目確認!BW30=\"\",\"\",入力表・参加種目確認!BW30)","v":""},null,null,null,null,"男子C",{"$f":"CONCATENATE(入力表・参加種目確認!BL11,\".\",入力表・参加種目確認!BN11,入力表・参加種目確認!BO11,\".\",入力表・参加種目確認!BQ11,入力表・参加種目確認!BR11)","v":".."}]
[18,{"$f":"IF(入力表・参加種目確認!H31=0,\"\",入力表・参加種目確認!H31)","v":""},{"$f":"IF(入力表・参加種目確認!J31=0,\"\",入力表・参加種目確認!J31)","v":""},{"$f":"IF(入力表・参加種目確認!N31=0,\"\",入力表・参加種目確認!N31)","v":""},{"$f":"RIGHT(入力表・参加種目確認!AA31,2)","v":""},{"$f":"IF(入力表・参加種目確認!U31=0,\"\",ASC(入力表・参加種目確認!U31))","v":""},{"$f":"IF(B19=\"\",\"\",入力表・参加種目確認!$N$8)","v":""},{"$f":"IF(B19=\"\",\"\",入力表・参加種目確認!$L$4)","v":""},{"$f":"IF(B19=\"\",\"\",入力表・参加種目確認!AE31)","v":""},{"$f":"IF(入力表・参加種目確認!AH31=\"\",\"\",入力表・参加種目確認!$E$4&'貼付（事務局）'!B19&\"子\"&入力表・参加種目確認!AH31)","v":""},"",{"$f":"IF(入力表・参加種目確認!AV31=\"\",\"\",入力表・参加種目確認!$E$4&'貼付（事務局）'!B19&\"子\"&入力表・参加種目確認!AV31)","v":""},"",{"$f":"IF(入力表・参加種目確認!BJ31=\"\",\"\",入力表・参加種目確認!$E$4&'貼付（事務局）'!B19&\"子\"&入力表・参加種目確認!BJ31)","v":""},"",{"$f":"IF(入力表・参加種目確認!BX31=\"\",\"\",VLOOKUP(入力表・参加種目確認!$E$4,$BP$2:$BQ$5,2,FALSE)&入力表・参加種目確認!H31&\"子\"&\"4X100mR\")","v":""},{"$f":"IF(P19=\"\",\"\",H19&P19&入力表・参加種目確認!BX31)","v":""},"",{"$f":"IF(入力表・参加種目確認!CA31=\"\",\"\",VLOOKUP(入力表・参加種目確認!$E$4,$BP$7:$BQ$10,2,FALSE)&入力表・参加種目確認!H31&\"子\"&\"4X400mR\")","v":""},{"$f":"IF(S19=\"\",\"\",H19&S19&入力表・参加種目確認!CA31)","v":""},"",null,null,null,null,null,null,null,null,null,null,null,null,null,null,null,{"$f":"IF(入力表・参加種目確認!AN31=\"\",\"\",入力表・参加種目確認!AN31)","v":""},{"$f":"IF(入力表・参加種目確認!AO31=\"\",\"\",入力表・参加種目確認!AO31)","v":""},{"$f":"IF(ISERROR(VLOOKUP(IF(AL19=\"\",\"\",入力表・参加種目確認!AP31),$BJ$2:$BK$5,2,FALSE)),\"\",VLOOKUP(IF(AL19=\"\",\"\",入力表・参加種目確認!AS31),$BJ$2:$BK$5,2,FALSE))","v":""},{"$f":"IF(入力表・参加種目確認!AQ31=\"\",\"\",入力表・参加種目確認!AQ31)","v":""},{"$f":"IF(入力表・参加種目確認!AR31=\"\",\"\",入力表・参加種目確認!AR31)","v":""},{"$f":"IF(ISERROR(VLOOKUP(入力表・参加種目確認!AS31,$BJ$2:$BK$5,2,FALSE)),\"\",VLOOKUP(入力表・参加種目確認!AS31,$BJ$2:$BK$5,2,FALSE))","v":""},{"$f":"IF(入力表・参加種目確認!AT31=\"\",\"\",入力表・参加種目確認!AT31)","v":""},{"$f":"IF(入力表・参加種目確認!AU31=\"\",\"\",入力表・参加種目確認!AU31)","v":""},{"$f":"IF(入力表・参加種目確認!BB31=\"\",\"\",入力表・参加種目確認!BB31)","v":""},{"$f":"IF(入力表・参加種目確認!BC31=\"\",\"\",入力表・参加種目確認!BC31)","v":""},{"$f":"IF(ISERROR(VLOOKUP(IF(AT19=\"\",\"\",入力表・参加種目確認!BD31),$BJ$2:$BK$5,2,FALSE)),\"\",VLOOKUP(IF(AT19=\"\",\"\",入力表・参加種目確認!BD31),$BJ$2:$BK$5,2,FALSE))","v":""},{"$f":"IF(入力表・参加種目確認!BE31=\"\",\"\",入力表・参加種目確認!BE31)","v":""},{"$f":"IF(入力表・参加種目確認!BF31=\"\",\"\",入力表・参加種目確認!BF31)","v":""},{"$f":"IF(ISERROR(VLOOKUP(入力表・参加種目確認!BG31,$BJ$2:$BK$5,2,FALSE)),\"\",VLOOKUP(入力表・参加種目確認!BG31,$BJ$2:$BK$5,2,FALSE))","v":""},{"$f":"IF(入力表・参加種目確認!BH31=\"\",\"\",入力表・参加種目確認!BH31)","v":""},{"$f":"IF(入力表・参加種目確認!BI31=\"\",\"\",入力表・参加種目確認!BI31)","v":""},{"$f":"IF(入力表・参加種目確認!BP31=\"\",\"\",入力表・参加種目確認!BP31)","v":""},{"$f":"IF(入力表・参加種目確認!BQ31=\"\",\"\",入力表・参加種目確認!BQ31)","v":""},{"$f":"IF(ISERROR(VLOOKUP(IF(BB19=\"\",\"\",入力表・参加種目確認!BR31),$BJ$2:$BK$5,2,FALSE)),\"\",VLOOKUP(IF(BB19=\"\",\"\",入力表・参加種目確認!BR31),$BJ$2:$BK$5,2,FALSE))","v":""},{"$f":"IF(入力表・参加種目確認!BS31=\"\",\"\",入力表・参加種目確認!BS31)","v":""},{"$f":"IF(入力表・参加種目確認!BT31=\"\",\"\",入力表・参加種目確認!BT31)","v":""},{"$f":"IF(ISERROR(VLOOKUP(入力表・参加種目確認!BU31,$BJ$2:$BK$5,2,FALSE)),\"\",VLOOKUP(入力表・参加種目確認!BU31,$BJ$2:$BK$5,2,FALSE))","v":""},{"$f":"IF(入力表・参加種目確認!BV31=\"\",\"\",入力表・参加種目確認!BV31)","v":""},{"$f":"IF(入力表・参加種目確認!BW31=\"\",\"\",入力表・参加種目確認!BW31)","v":""},null,null,null,null,"女子A",{"$f":"CONCATENATE(入力表・参加種目確認!BW9,\".\",入力表・参加種目確認!BY9,入力表・参加種目確認!BZ9,\".\",入力表・参加種目確認!CB9,入力表・参加種目確認!CC9)","v":".."}]
[19,{"$f":"IF(入力表・参加種目確認!H32=0,\"\",入力表・参加種目確認!H32)","v":""},{"$f":"IF(入力表・参加種目確認!J32=0,\"\",入力表・参加種目確認!J32)","v":""},{"$f":"IF(入力表・参加種目確認!N32=0,\"\",入力表・参加種目確認!N32)","v":""},{"$f":"RIGHT(入力表・参加種目確認!AA32,2)","v":""},{"$f":"IF(入力表・参加種目確認!U32=0,\"\",ASC(入力表・参加種目確認!U32))","v":""},{"$f":"IF(B20=\"\",\"\",入力表・参加種目確認!$N$8)","v":""},{"$f":"IF(B20=\"\",\"\",入力表・参加種目確認!$L$4)","v":""},{"$f":"IF(B20=\"\",\"\",入力表・参加種目確認!AE32)","v":""},{"$f":"IF(入力表・参加種目確認!AH32=\"\",\"\",入力表・参加種目確認!$E$4&'貼付（事務局）'!B20&\"子\"&入力表・参加種目確認!AH32)","v":""},"",{"$f":"IF(入力表・参加種目確認!AV32=\"\",\"\",入力表・参加種目確認!$E$4&'貼付（事務局）'!B20&\"子\"&入力表・参加種目確認!AV32)","v":""},"",{"$f":"IF(入力表・参加種目確認!BJ32=\"\",\"\",入力表・参加種目確認!$E$4&'貼付（事務局）'!B20&\"子\"&入力表・参加種目確認!BJ32)","v":""},"",{"$f":"IF(入力表・参加種目確認!BX32=\"\",\"\",VLOOKUP(入力表・参加種目確認!$E$4,$BP$2:$BQ$5,2,FALSE)&入力表・参加種目確認!H32&\"子\"&\"4X100mR\")","v":""},{"$f":"IF(P20=\"\",\"\",H20&P20&入力表・参加種目確認!BX32)","v":""},"",{"$f":"IF(入力表・参加種目確認!CA32=\"\",\"\",VLOOKUP(入力表・参加種目確認!$E$4,$BP$7:$BQ$10,2,FALSE)&入力表・参加種目確認!H32&\"子\"&\"4X400mR\")","v":""},{"$f":"IF(S20=\"\",\"\",H20&S20&入力表・参加種目確認!CA32)","v":""},"",null,null,null,null,null,null,null,null,null,null,null,null,null,null,null,{"$f":"IF(入力表・参加種目確認!AN32=\"\",\"\",入力表・参加種目確認!AN32)","v":""},{"$f":"IF(入力表・参加種目確認!AO32=\"\",\"\",入力表・参加種目確認!AO32)","v":""},{"$f":"IF(ISERROR(VLOOKUP(IF(AL20=\"\",\"\",入力表・参加種目確認!AP32),$BJ$2:$BK$5,2,FALSE)),\"\",VLOOKUP(IF(AL20=\"\",\"\",入力表・参加種目確認!AS32),$BJ$2:$BK$5,2,FALSE))","v":""},{"$f":"IF(入力表・参加種目確認!AQ32=\"\",\"\",入力表・参加種目確認!AQ32)","v":""},{"$f":"IF(入力表・参加種目確認!AR32=\"\",\"\",入力表・参加種目確認!AR32)","v":""},{"$f":"IF(ISERROR(VLOOKUP(入力表・参加種目確認!AS32,$BJ$2:$BK$5,2,FALSE)),\"\",VLOOKUP(入力表・参加種目確認!AS32,$BJ$2:$BK$5,2,FALSE))","v":""},{"$f":"IF(入力表・参加種目確認!AT32=\"\",\"\",入力表・参加種目確認!AT32)","v":""},{"$f":"IF(入力表・参加種目確認!AU32=\"\",\"\",入力表・参加種目確認!AU32)","v":""},{"$f":"IF(入力表・参加種目確認!BB32=\"\",\"\",入力表・参加種目確認!BB32)","v":""},{"$f":"IF(入力表・参加種目確認!BC32=\"\",\"\",入力表・参加種目確認!BC32)","v":""},{"$f":"IF(ISERROR(VLOOKUP(IF(AT20=\"\",\"\",入力表・参加種目確認!BD32),$BJ$2:$BK$5,2,FALSE)),\"\",VLOOKUP(IF(AT20=\"\",\"\",入力表・参加種目確認!BD32),$BJ$2:$BK$5,2,FALSE))","v":""},{"$f":"IF(入力表・参加種目確認!BE32=\"\",\"\",入力表・参加種目確認!BE32)","v":""},{"$f":"IF(入力表・参加種目確認!BF32=\"\",\"\",入力表・参加種目確認!BF32)","v":""},{"$f":"IF(ISERROR(VLOOKUP(入力表・参加種目確認!BG32,$BJ$2:$BK$5,2,FALSE)),\"\",VLOOKUP(入力表・参加種目確認!BG32,$BJ$2:$BK$5,2,FALSE))","v":""},{"$f":"IF(入力表・参加種目確認!BH32=\"\",\"\",入力表・参加種目確認!BH32)","v":""},{"$f":"IF(入力表・参加種目確認!BI32=\"\",\"\",入力表・参加種目確認!BI32)","v":""},{"$f":"IF(入力表・参加種目確認!BP32=\"\",\"\",入力表・参加種目確認!BP32)","v":""},{"$f":"IF(入力表・参加種目確認!BQ32=\"\",\"\",入力表・参加種目確認!BQ32)","v":""},{"$f":"IF(ISERROR(VLOOKUP(IF(BB20=\"\",\"\",入力表・参加種目確認!BR32),$BJ$2:$BK$5,2,FALSE)),\"\",VLOOKUP(IF(BB20=\"\",\"\",入力表・参加種目確認!BR32),$BJ$2:$BK$5,2,FALSE))","v":""},{"$f":"IF(入力表・参加種目確認!BS32=\"\",\"\",入力表・参加種目確認!BS32)","v":""},{"$f":"IF(入力表・参加種目確認!BT32=\"\",\"\",入力表・参加種目確認!BT32)","v":""},{"$f":"IF(ISERROR(VLOOKUP(入力表・参加種目確認!BU32,$BJ$2:$BK$5,2,FALSE)),\"\",VLOOKUP(入力表・参加種目確認!BU32,$BJ$2:$BK$5,2,FALSE))","v":""},{"$f":"IF(入力表・参加種目確認!BV32=\"\",\"\",入力表・参加種目確認!BV32)","v":""},{"$f":"IF(入力表・参加種目確認!BW32=\"\",\"\",入力表・参加種目確認!BW32)","v":""},null,null,null,null,"女子B",{"$f":"CONCATENATE(入力表・参加種目確認!BW10,\".\",入力表・参加種目確認!BY10,入力表・参加種目確認!BZ10,\".\",入力表・参加種目確認!CB10,入力表・参加種目確認!CC10)","v":".."}]
[20,{"$f":"IF(入力表・参加種目確認!H33=0,\"\",入力表・参加種目確認!H33)","v":""},{"$f":"IF(入力表・参加種目確認!J33=0,\"\",入力表・参加種目確認!J33)","v":""},{"$f":"IF(入力表・参加種目確認!N33=0,\"\",入力表・参加種目確認!N33)","v":""},{"$f":"RIGHT(入力表・参加種目確認!AA33,2)","v":""},{"$f":"IF(入力表・参加種目確認!U33=0,\"\",ASC(入力表・参加種目確認!U33))","v":""},{"$f":"IF(B21=\"\",\"\",入力表・参加種目確認!$N$8)","v":""},{"$f":"IF(B21=\"\",\"\",入力表・参加種目確認!$L$4)","v":""},{"$f":"IF(B21=\"\",\"\",入力表・参加種目確認!AE33)","v":""},{"$f":"IF(入力表・参加種目確認!AH33=\"\",\"\",入力表・参加種目確認!$E$4&'貼付（事務局）'!B21&\"子\"&入力表・参加種目確認!AH33)","v":""},"",{"$f":"IF(入力表・参加種目確認!AV33=\"\",\"\",入力表・参加種目確認!$E$4&'貼付（事務局）'!B21&\"子\"&入力表・参加種目確認!AV33)","v":""},"",{"$f":"IF(入力表・参加種目確認!BJ33=\"\",\"\",入力表・参加種目確認!$E$4&'貼付（事務局）'!B21&\"子\"&入力表・参加種目確認!BJ33)","v":""},"",{"$f":"IF(入力表・参加種目確認!BX33=\"\",\"\",VLOOKUP(入力表・参加種目確認!$E$4,$BP$2:$BQ$5,2,FALSE)&入力表・参加種目確認!H33&\"子\"&\"4X100mR\")","v":""},{"$f":"IF(P21=\"\",\"\",H21&P21&入力表・参加種目確認!BX33)","v":""},"",{"$f":"IF(入力表・参加種目確認!CA33=\"\",\"\",VLOOKUP(入力表・参加種目確認!$E$4,$BP$7:$BQ$10,2,FALSE)&入力表・参加種目確認!H33&\"子\"&\"4X400mR\")","v":""},{"$f":"IF(S21=\"\",\"\",H21&S21&入力表・参加種目確認!CA33)","v":""},"",null,null,null,null,null,null,null,null,null,null,null,null,null,null,null,{"$f":"IF(入力表・参加種目確認!AN33=\"\",\"\",入力表・参加種目確認!AN33)","v":""},{"$f":"IF(入力表・参加種目確認!AO33=\"\",\"\",入力表・参加種目確認!AO33)","v":""},{"$f":"IF(ISERROR(VLOOKUP(IF(AL21=\"\",\"\",入力表・参加種目確認!AP33),$BJ$2:$BK$5,2,FALSE)),\"\",VLOOKUP(IF(AL21=\"\",\"\",入力表・参加種目確認!AS33),$BJ$2:$BK$5,2,FALSE))","v":""},{"$f":"IF(入力表・参加種目確認!AQ33=\"\",\"\",入力表・参加種目確認!AQ33)","v":""},{"$f":"IF(入力表・参加種目確認!AR33=\"\",\"\",入力表・参加種目確認!AR33)","v":""},{"$f":"IF(ISERROR(VLOOKUP(入力表・参加種目確認!AS33,$BJ$2:$BK$5,2,FALSE)),\"\",VLOOKUP(入力表・参加種目確認!AS33,$BJ$2:$BK$5,2,FALSE))","v":""},{"$f":"IF(入力表・参加種目確認!AT33=\"\",\"\",入力表・参加種目確認!AT33)","v":""},{"$f":"IF(入力表・参加種目確認!AU33=\"\",\"\",入力表・参加種目確認!AU33)","v":""},{"$f":"IF(入力表・参加種目確認!BB33=\"\",\"\",入力表・参加種目確認!BB33)","v":""},{"$f":"IF(入力表・参加種目確認!BC33=\"\",\"\",入力表・参加種目確認!BC33)","v":""},{"$f":"IF(ISERROR(VLOOKUP(IF(AT21=\"\",\"\",入力表・参加種目確認!BD33),$BJ$2:$BK$5,2,FALSE)),\"\",VLOOKUP(IF(AT21=\"\",\"\",入力表・参加種目確認!BD33),$BJ$2:$BK$5,2,FALSE))","v":""},{"$f":"IF(入力表・参加種目確認!BE33=\"\",\"\",入力表・参加種目確認!BE33)","v":""},{"$f":"IF(入力表・参加種目確認!BF33=\"\",\"\",入力表・参加種目確認!BF33)","v":""},{"$f":"IF(ISERROR(VLOOKUP(入力表・参加種目確認!BG33,$BJ$2:$BK$5,2,FALSE)),\"\",VLOOKUP(入力表・参加種目確認!BG33,$BJ$2:$BK$5,2,FALSE))","v":""},{"$f":"IF(入力表・参加種目確認!BH33=\"\",\"\",入力表・参加種目確認!BH33)","v":""},{"$f":"IF(入力表・参加種目確認!BI33=\"\",\"\",入力表・参加種目確認!BI33)","v":""},{"$f":"IF(入力表・参加種目確認!BP33=\"\",\"\",入力表・参加種目確認!BP33)","v":""},{"$f":"IF(入力表・参加種目確認!BQ33=\"\",\"\",入力表・参加種目確認!BQ33)","v":""},{"$f":"IF(ISERROR(VLOOKUP(IF(BB21=\"\",\"\",入力表・参加種目確認!BR33),$BJ$2:$BK$5,2,FALSE)),\"\",VLOOKUP(IF(BB21=\"\",\"\",入力表・参加種目確認!BR33),$BJ$2:$BK$5,2,FALSE))","v":""},{"$f":"IF(入力表・参加種目確認!BS33=\"\",\"\",入力表・参加種目確認!BS33)","v":""},{"$f":"IF(入力表・参加種目確認!BT33=\"\",\"\",入力表・参加種目確認!BT33)","v":""},{"$f":"IF(ISERROR(VLOOKUP(入力表・参加種目確認!BU33,$BJ$2:$BK$5,2,FALSE)),\"\",VLOOKUP(入力表・参加種目確認!BU33,$BJ$2:$BK$5,2,FALSE))","v":""},{"$f":"IF(入力表・参加種目確認!BV33=\"\",\"\",入力表・参加種目確認!BV33)","v":""},{"$f":"IF(入力表・参加種目確認!BW33=\"\",\"\",入力表・参加種目確認!BW33)","v":""},null,null,null,null,"女子C",{"$f":"CONCATENATE(入力表・参加種目確認!BW11,\".\",入力表・参加種目確認!BY11,入力表・参加種目確認!BZ11,\".\",入力表・参加種目確認!CB11,入力表・参加種目確認!CC11)","v":".."}]
[21,{"$f":"IF(入力表・参加種目確認!H34=0,\"\",入力表・参加種目確認!H34)","v":""},{"$f":"IF(入力表・参加種目確認!J34=0,\"\",入力表・参加種目確認!J34)","v":""},{"$f":"IF(入力表・参加種目確認!N34=0,\"\",入力表・参加種目確認!N34)","v":""},{"$f":"RIGHT(入力表・参加種目確認!AA34,2)","v":""},{"$f":"IF(入力表・参加種目確認!U34=0,\"\",ASC(入力表・参加種目確認!U34))","v":""},{"$f":"IF(B22=\"\",\"\",入力表・参加種目確認!$N$8)","v":""},{"$f":"IF(B22=\"\",\"\",入力表・参加種目確認!$L$4)","v":""},{"$f":"IF(B22=\"\",\"\",入力表・参加種目確認!AE34)","v":""},{"$f":"IF(入力表・参加種目確認!AH34=\"\",\"\",入力表・参加種目確認!$E$4&'貼付（事務局）'!B22&\"子\"&入力表・参加種目確認!AH34)","v":""},"",{"$f":"IF(入力表・参加種目確認!AV34=\"\",\"\",入力表・参加種目確認!$E$4&'貼付（事務局）'!B22&\"子\"&入力表・参加種目確認!AV34)","v":""},"",{"$f":"IF(入力表・参加種目確認!BJ34=\"\",\"\",入力表・参加種目確認!$E$4&'貼付（事務局）'!B22&\"子\"&入力表・参加種目確認!BJ34)","v":""},"",{"$f":"IF(入力表・参加種目確認!BX34=\"\",\"\",VLOOKUP(入力表・参加種目確認!$E$4,$BP$2:$BQ$5,2,FALSE)&入力表・参加種目確認!H34&\"子\"&\"4X100mR\")","v":""},{"$f":"IF(P22=\"\",\"\",H22&P22&入力表・参加種目確認!BX34)","v":""},"",{"$f":"IF(入力表・参加種目確認!CA34=\"\",\"\",VLOOKUP(入力表・参加種目確認!$E$4,$BP$7:$BQ$10,2,FALSE)&入力表・参加種目確認!H34&\"子\"&\"4X400mR\")","v":""},{"$f":"IF(S22=\"\",\"\",H22&S22&入力表・参加種目確認!CA34)","v":""},"",null,null,null,null,null,null,null,null,null,null,null,null,null,null,null,{"$f":"IF(入力表・参加種目確認!AN34=\"\",\"\",入力表・参加種目確認!AN34)","v":""},{"$f":"IF(入力表・参加種目確認!AO34=\"\",\"\",入力表・参加種目確認!AO34)","v":""},{"$f":"IF(ISERROR(VLOOKUP(IF(AL22=\"\",\"\",入力表・参加種目確認!AP34),$BJ$2:$BK$5,2,FALSE)),\"\",VLOOKUP(IF(AL22=\"\",\"\",入力表・参加種目確認!AS34),$BJ$2:$BK$5,2,FALSE))","v":""},{"$f":"IF(入力表・参加種目確認!AQ34=\"\",\"\",入力表・参加種目確認!AQ34)","v":""},{"$f":"IF(入力表・参加種目確認!AR34=\"\",\"\",入力表・参加種目確認!AR34)","v":""},{"$f":"IF(ISERROR(VLOOKUP(入力表・参加種目確認!AS34,$BJ$2:$BK$5,2,FALSE)),\"\",VLOOKUP(入力表・参加種目確認!AS34,$BJ$2:$BK$5,2,FALSE))","v":""},{"$f":"IF(入力表・参加種目確認!AT34=\"\",\"\",入力表・参加種目確認!AT34)","v":""},{"$f":"IF(入力表・参加種目確認!AU34=\"\",\"\",入力表・参加種目確認!AU34)","v":""},{"$f":"IF(入力表・参加種目確認!BB34=\"\",\"\",入力表・参加種目確認!BB34)","v":""},{"$f":"IF(入力表・参加種目確認!BC34=\"\",\"\",入力表・参加種目確認!BC34)","v":""},{"$f":"IF(ISERROR(VLOOKUP(IF(AT22=\"\",\"\",入力表・参加種目確認!BD34),$BJ$2:$BK$5,2,FALSE)),\"\",VLOOKUP(IF(AT22=\"\",\"\",入力表・参加種目確認!BD34),$BJ$2:$BK$5,2,FALSE))","v":""},{"$f":"IF(入力表・参加種目確認!BE34=\"\",\"\",入力表・参加種目確認!BE34)","v":""},{"$f":"IF(入力表・参加種目確認!BF34=\"\",\"\",入力表・参加種目確認!BF34)","v":""},{"$f":"IF(ISERROR(VLOOKUP(入力表・参加種目確認!BG34,$BJ$2:$BK$5,2,FALSE)),\"\",VLOOKUP(入力表・参加種目確認!BG34,$BJ$2:$BK$5,2,FALSE))","v":""},{"$f":"IF(入力表・参加種目確認!BH34=\"\",\"\",入力表・参加種目確認!BH34)","v":""},{"$f":"IF(入力表・参加種目確認!BI34=\"\",\"\",入力表・参加種目確認!BI34)","v":""},{"$f":"IF(入力表・参加種目確認!BP34=\"\",\"\",入力表・参加種目確認!BP34)","v":""},{"$f":"IF(入力表・参加種目確認!BQ34=\"\",\"\",入力表・参加種目確認!BQ34)","v":""},{"$f":"IF(ISERROR(VLOOKUP(IF(BB22=\"\",\"\",入力表・参加種目確認!BR34),$BJ$2:$BK$5,2,FALSE)),\"\",VLOOKUP(IF(BB22=\"\",\"\",入力表・参加種目確認!BR34),$BJ$2:$BK$5,2,FALSE))","v":""},{"$f":"IF(入力表・参加種目確認!BS34=\"\",\"\",入力表・参加種目確認!BS34)","v":""},{"$f":"IF(入力表・参加種目確認!BT34=\"\",\"\",入力表・参加種目確認!BT34)","v":""},{"$f":"IF(ISERROR(VLOOKUP(入力表・参加種目確認!BU34,$BJ$2:$BK$5,2,FALSE)),\"\",VLOOKUP(入力表・参加種目確認!BU34,$BJ$2:$BK$5,2,FALSE))","v":""},{"$f":"IF(入力表・参加種目確認!BV34=\"\",\"\",入力表・参加種目確認!BV34)","v":""},{"$f":"IF(入力表・参加種目確認!BW34=\"\",\"\",入力表・参加種目確認!BW34)","v":""}]
[22,{"$f":"IF(入力表・参加種目確認!H35=0,\"\",入力表・参加種目確認!H35)","v":""},{"$f":"IF(入力表・参加種目確認!J35=0,\"\",入力表・参加種目確認!J35)","v":""},{"$f":"IF(入力表・参加種目確認!N35=0,\"\",入力表・参加種目確認!N35)","v":""},{"$f":"RIGHT(入力表・参加種目確認!AA35,2)","v":""},{"$f":"IF(入力表・参加種目確認!U35=0,\"\",ASC(入力表・参加種目確認!U35))","v":""},{"$f":"IF(B23=\"\",\"\",入力表・参加種目確認!$N$8)","v":""},{"$f":"IF(B23=\"\",\"\",入力表・参加種目確認!$L$4)","v":""},{"$f":"IF(B23=\"\",\"\",入力表・参加種目確認!AE35)","v":""},{"$f":"IF(入力表・参加種目確認!AH35=\"\",\"\",入力表・参加種目確認!$E$4&'貼付（事務局）'!B23&\"子\"&入力表・参加種目確認!AH35)","v":""},"",{"$f":"IF(入力表・参加種目確認!AV35=\"\",\"\",入力表・参加種目確認!$E$4&'貼付（事務局）'!B23&\"子\"&入力表・参加種目確認!AV35)","v":""},"",{"$f":"IF(入力表・参加種目確認!BJ35=\"\",\"\",入力表・参加種目確認!$E$4&'貼付（事務局）'!B23&\"子\"&入力表・参加種目確認!BJ35)","v":""},"",{"$f":"IF(入力表・参加種目確認!BX35=\"\",\"\",VLOOKUP(入力表・参加種目確認!$E$4,$BP$2:$BQ$5,2,FALSE)&入力表・参加種目確認!H35&\"子\"&\"4X100mR\")","v":""},{"$f":"IF(P23=\"\",\"\",H23&P23&入力表・参加種目確認!BX35)","v":""},"",{"$f":"IF(入力表・参加種目確認!CA35=\"\",\"\",VLOOKUP(入力表・参加種目確認!$E$4,$BP$7:$BQ$10,2,FALSE)&入力表・参加種目確認!H35&\"子\"&\"4X400mR\")","v":""},{"$f":"IF(S23=\"\",\"\",H23&S23&入力表・参加種目確認!CA35)","v":""},"",null,null,null,null,null,null,null,null,null,null,null,null,null,null,null,{"$f":"IF(入力表・参加種目確認!AN35=\"\",\"\",入力表・参加種目確認!AN35)","v":""},{"$f":"IF(入力表・参加種目確認!AO35=\"\",\"\",入力表・参加種目確認!AO35)","v":""},{"$f":"IF(ISERROR(VLOOKUP(IF(AL23=\"\",\"\",入力表・参加種目確認!AP35),$BJ$2:$BK$5,2,FALSE)),\"\",VLOOKUP(IF(AL23=\"\",\"\",入力表・参加種目確認!AS35),$BJ$2:$BK$5,2,FALSE))","v":""},{"$f":"IF(入力表・参加種目確認!AQ35=\"\",\"\",入力表・参加種目確認!AQ35)","v":""},{"$f":"IF(入力表・参加種目確認!AR35=\"\",\"\",入力表・参加種目確認!AR35)","v":""},{"$f":"IF(ISERROR(VLOOKUP(入力表・参加種目確認!AS35,$BJ$2:$BK$5,2,FALSE)),\"\",VLOOKUP(入力表・参加種目確認!AS35,$BJ$2:$BK$5,2,FALSE))","v":""},{"$f":"IF(入力表・参加種目確認!AT35=\"\",\"\",入力表・参加種目確認!AT35)","v":""},{"$f":"IF(入力表・参加種目確認!AU35=\"\",\"\",入力表・参加種目確認!AU35)","v":""},{"$f":"IF(入力表・参加種目確認!BB35=\"\",\"\",入力表・参加種目確認!BB35)","v":""},{"$f":"IF(入力表・参加種目確認!BC35=\"\",\"\",入力表・参加種目確認!BC35)","v":""},{"$f":"IF(ISERROR(VLOOKUP(IF(AT23=\"\",\"\",入力表・参加種目確認!BD35),$BJ$2:$BK$5,2,FALSE)),\"\",VLOOKUP(IF(AT23=\"\",\"\",入力表・参加種目確認!BD35),$BJ$2:$BK$5,2,FALSE))","v":""},{"$f":"IF(入力表・参加種目確認!BE35=\"\",\"\",入力表・参加種目確認!BE35)","v":""},{"$f":"IF(入力表・参加種目確認!BF35=\"\",\"\",入力表・参加種目確認!BF35)","v":""},{"$f":"IF(ISERROR(VLOOKUP(入力表・参加種目確認!BG35,$BJ$2:$BK$5,2,FALSE)),\"\",VLOOKUP(入力表・参加種目確認!BG35,$BJ$2:$BK$5,2,FALSE))","v":""},{"$f":"IF(入力表・参加種目確認!BH35=\"\",\"\",入力表・参加種目確認!BH35)","v":""},{"$f":"IF(入力表・参加種目確認!BI35=\"\",\"\",入力表・参加種目確認!BI35)","v":""},{"$f":"IF(入力表・参加種目確認!BP35=\"\",\"\",入力表・参加種目確認!BP35)","v":""},{"$f":"IF(入力表・参加種目確認!BQ35=\"\",\"\",入力表・参加種目確認!BQ35)","v":""},{"$f":"IF(ISERROR(VLOOKUP(IF(BB23=\"\",\"\",入力表・参加種目確認!BR35),$BJ$2:$BK$5,2,FALSE)),\"\",VLOOKUP(IF(BB23=\"\",\"\",入力表・参加種目確認!BR35),$BJ$2:$BK$5,2,FALSE))","v":""},{"$f":"IF(入力表・参加種目確認!BS35=\"\",\"\",入力表・参加種目確認!BS35)","v":""},{"$f":"IF(入力表・参加種目確認!BT35=\"\",\"\",入力表・参加種目確認!BT35)","v":""},{"$f":"IF(ISERROR(VLOOKUP(入力表・参加種目確認!BU35,$BJ$2:$BK$5,2,FALSE)),\"\",VLOOKUP(入力表・参加種目確認!BU35,$BJ$2:$BK$5,2,FALSE))","v":""},{"$f":"IF(入力表・参加種目確認!BV35=\"\",\"\",入力表・参加種目確認!BV35)","v":""},{"$f":"IF(入力表・参加種目確認!BW35=\"\",\"\",入力表・参加種目確認!BW35)","v":""}]
[23,{"$f":"IF(入力表・参加種目確認!H36=0,\"\",入力表・参加種目確認!H36)","v":""},{"$f":"IF(入力表・参加種目確認!J36=0,\"\",入力表・参加種目確認!J36)","v":""},{"$f":"IF(入力表・参加種目確認!N36=0,\"\",入力表・参加種目確認!N36)","v":""},{"$f":"RIGHT(入力表・参加種目確認!AA36,2)","v":""},{"$f":"IF(入力表・参加種目確認!U36=0,\"\",ASC(入力表・参加種目確認!U36))","v":""},{"$f":"IF(B24=\"\",\"\",入力表・参加種目確認!$N$8)","v":""},{"$f":"IF(B24=\"\",\"\",入力表・参加種目確認!$L$4)","v":""},{"$f":"IF(B24=\"\",\"\",入力表・参加種目確認!AE36)","v":""},{"$f":"IF(入力表・参加種目確認!AH36=\"\",\"\",入力表・参加種目確認!$E$4&'貼付（事務局）'!B24&\"子\"&入力表・参加種目確認!AH36)","v":""},"",{"$f":"IF(入力表・参加種目確認!AV36=\"\",\"\",入力表・参加種目確認!$E$4&'貼付（事務局）'!B24&\"子\"&入力表・参加種目確認!AV36)","v":""},"",{"$f":"IF(入力表・参加種目確認!BJ36=\"\",\"\",入力表・参加種目確認!$E$4&'貼付（事務局）'!B24&\"子\"&入力表・参加種目確認!BJ36)","v":""},"",{"$f":"IF(入力表・参加種目確認!BX36=\"\",\"\",VLOOKUP(入力表・参加種目確認!$E$4,$BP$2:$BQ$5,2,FALSE)&入力表・参加種目確認!H36&\"子\"&\"4X100mR\")","v":""},{"$f":"IF(P24=\"\",\"\",H24&P24&入力表・参加種目確認!BX36)","v":""},"",{"$f":"IF(入力表・参加種目確認!CA36=\"\",\"\",VLOOKUP(入力表・参加種目確認!$E$4,$BP$7:$BQ$10,2,FALSE)&入力表・参加種目確認!H36&\"子\"&\"4X400mR\")","v":""},{"$f":"IF(S24=\"\",\"\",H24&S24&入力表・参加種目確認!CA36)","v":""},"",null,null,null,null,null,null,null,null,null,null,null,null,null,null,null,{"$f":"IF(入力表・参加種目確認!AN36=\"\",\"\",入力表・参加種目確認!AN36)","v":""},{"$f":"IF(入力表・参加種目確認!AO36=\"\",\"\",入力表・参加種目確認!AO36)","v":""},{"$f":"IF(ISERROR(VLOOKUP(IF(AL24=\"\",\"\",入力表・参加種目確認!AP36),$BJ$2:$BK$5,2,FALSE)),\"\",VLOOKUP(IF(AL24=\"\",\"\",入力表・参加種目確認!AS36),$BJ$2:$BK$5,2,FALSE))","v":""},{"$f":"IF(入力表・参加種目確認!AQ36=\"\",\"\",入力表・参加種目確認!AQ36)","v":""},{"$f":"IF(入力表・参加種目確認!AR36=\"\",\"\",入力表・参加種目確認!AR36)","v":""},{"$f":"IF(ISERROR(VLOOKUP(入力表・参加種目確認!AS36,$BJ$2:$BK$5,2,FALSE)),\"\",VLOOKUP(入力表・参加種目確認!AS36,$BJ$2:$BK$5,2,FALSE))","v":""},{"$f":"IF(入力表・参加種目確認!AT36=\"\",\"\",入力表・参加種目確認!AT36)","v":""},{"$f":"IF(入力表・参加種目確認!AU36=\"\",\"\",入力表・参加種目確認!AU36)","v":""},{"$f":"IF(入力表・参加種目確認!BB36=\"\",\"\",入力表・参加種目確認!BB36)","v":""},{"$f":"IF(入力表・参加種目確認!BC36=\"\",\"\",入力表・参加種目確認!BC36)","v":""},{"$f":"IF(ISERROR(VLOOKUP(IF(AT24=\"\",\"\",入力表・参加種目確認!BD36),$BJ$2:$BK$5,2,FALSE)),\"\",VLOOKUP(IF(AT24=\"\",\"\",入力表・参加種目確認!BD36),$BJ$2:$BK$5,2,FALSE))","v":""},{"$f":"IF(入力表・参加種目確認!BE36=\"\",\"\",入力表・参加種目確認!BE36)","v":""},{"$f":"IF(入力表・参加種目確認!BF36=\"\",\"\",入力表・参加種目確認!BF36)","v":""},{"$f":"IF(ISERROR(VLOOKUP(入力表・参加種目確認!BG36,$BJ$2:$BK$5,2,FALSE)),\"\",VLOOKUP(入力表・参加種目確認!BG36,$BJ$2:$BK$5,2,FALSE))","v":""},{"$f":"IF(入力表・参加種目確認!BH36=\"\",\"\",入力表・参加種目確認!BH36)","v":""},{"$f":"IF(入力表・参加種目確認!BI36=\"\",\"\",入力表・参加種目確認!BI36)","v":""},{"$f":"IF(入力表・参加種目確認!BP36=\"\",\"\",入力表・参加種目確認!BP36)","v":""},{"$f":"IF(入力表・参加種目確認!BQ36=\"\",\"\",入力表・参加種目確認!BQ36)","v":""},{"$f":"IF(ISERROR(VLOOKUP(IF(BB24=\"\",\"\",入力表・参加種目確認!BR36),$BJ$2:$BK$5,2,FALSE)),\"\",VLOOKUP(IF(BB24=\"\",\"\",入力表・参加種目確認!BR36),$BJ$2:$BK$5,2,FALSE))","v":""},{"$f":"IF(入力表・参加種目確認!BS36=\"\",\"\",入力表・参加種目確認!BS36)","v":""},{"$f":"IF(入力表・参加種目確認!BT36=\"\",\"\",入力表・参加種目確認!BT36)","v":""},{"$f":"IF(ISERROR(VLOOKUP(入力表・参加種目確認!BU36,$BJ$2:$BK$5,2,FALSE)),\"\",VLOOKUP(入力表・参加種目確認!BU36,$BJ$2:$BK$5,2,FALSE))","v":""},{"$f":"IF(入力表・参加種目確認!BV36=\"\",\"\",入力表・参加種目確認!BV36)","v":""},{"$f":"IF(入力表・参加種目確認!BW36=\"\",\"\",入力表・参加種目確認!BW36)","v":""}]
[24,{"$f":"IF(入力表・参加種目確認!H37=0,\"\",入力表・参加種目確認!H37)","v":""},{"$f":"IF(入力表・参加種目確認!J37=0,\"\",入力表・参加種目確認!J37)","v":""},{"$f":"IF(入力表・参加種目確認!N37=0,\"\",入力表・参加種目確認!N37)","v":""},{"$f":"RIGHT(入力表・参加種目確認!AA37,2)","v":""},{"$f":"IF(入力表・参加種目確認!U37=0,\"\",ASC(入力表・参加種目確認!U37))","v":""},{"$f":"IF(B25=\"\",\"\",入力表・参加種目確認!$N$8)","v":""},{"$f":"IF(B25=\"\",\"\",入力表・参加種目確認!$L$4)","v":""},{"$f":"IF(B25=\"\",\"\",入力表・参加種目確認!AE37)","v":""},{"$f":"IF(入力表・参加種目確認!AH37=\"\",\"\",入力表・参加種目確認!$E$4&'貼付（事務局）'!B25&\"子\"&入力表・参加種目確認!AH37)","v":""},"",{"$f":"IF(入力表・参加種目確認!AV37=\"\",\"\",入力表・参加種目確認!$E$4&'貼付（事務局）'!B25&\"子\"&入力表・参加種目確認!AV37)","v":""},"",{"$f":"IF(入力表・参加種目確認!BJ37=\"\",\"\",入力表・参加種目確認!$E$4&'貼付（事務局）'!B25&\"子\"&入力表・参加種目確認!BJ37)","v":""},"",{"$f":"IF(入力表・参加種目確認!BX37=\"\",\"\",VLOOKUP(入力表・参加種目確認!$E$4,$BP$2:$BQ$5,2,FALSE)&入力表・参加種目確認!H37&\"子\"&\"4X100mR\")","v":""},{"$f":"IF(P25=\"\",\"\",H25&P25&入力表・参加種目確認!BX37)","v":""},"",{"$f":"IF(入力表・参加種目確認!CA37=\"\",\"\",VLOOKUP(入力表・参加種目確認!$E$4,$BP$7:$BQ$10,2,FALSE)&入力表・参加種目確認!H37&\"子\"&\"4X400mR\")","v":""},{"$f":"IF(S25=\"\",\"\",H25&S25&入力表・参加種目確認!CA37)","v":""},"",null,null,null,null,null,null,null,null,null,null,null,null,null,null,null,{"$f":"IF(入力表・参加種目確認!AN37=\"\",\"\",入力表・参加種目確認!AN37)","v":""},{"$f":"IF(入力表・参加種目確認!AO37=\"\",\"\",入力表・参加種目確認!AO37)","v":""},{"$f":"IF(ISERROR(VLOOKUP(IF(AL25=\"\",\"\",入力表・参加種目確認!AP37),$BJ$2:$BK$5,2,FALSE)),\"\",VLOOKUP(IF(AL25=\"\",\"\",入力表・参加種目確認!AS37),$BJ$2:$BK$5,2,FALSE))","v":""},{"$f":"IF(入力表・参加種目確認!AQ37=\"\",\"\",入力表・参加種目確認!AQ37)","v":""},{"$f":"IF(入力表・参加種目確認!AR37=\"\",\"\",入力表・参加種目確認!AR37)","v":""},{"$f":"IF(ISERROR(VLOOKUP(入力表・参加種目確認!AS37,$BJ$2:$BK$5,2,FALSE)),\"\",VLOOKUP(入力表・参加種目確認!AS37,$BJ$2:$BK$5,2,FALSE))","v":""},{"$f":"IF(入力表・参加種目確認!AT37=\"\",\"\",入力表・参加種目確認!AT37)","v":""},{"$f":"IF(入力表・参加種目確認!AU37=\"\",\"\",入力表・参加種目確認!AU37)","v":""},{"$f":"IF(入力表・参加種目確認!BB37=\"\",\"\",入力表・参加種目確認!BB37)","v":""},{"$f":"IF(入力表・参加種目確認!BC37=\"\",\"\",入力表・参加種目確認!BC37)","v":""},{"$f":"IF(ISERROR(VLOOKUP(IF(AT25=\"\",\"\",入力表・参加種目確認!BD37),$BJ$2:$BK$5,2,FALSE)),\"\",VLOOKUP(IF(AT25=\"\",\"\",入力表・参加種目確認!BD37),$BJ$2:$BK$5,2,FALSE))","v":""},{"$f":"IF(入力表・参加種目確認!BE37=\"\",\"\",入力表・参加種目確認!BE37)","v":""},{"$f":"IF(入力表・参加種目確認!BF37=\"\",\"\",入力表・参加種目確認!BF37)","v":""},{"$f":"IF(ISERROR(VLOOKUP(入力表・参加種目確認!BG37,$BJ$2:$BK$5,2,FALSE)),\"\",VLOOKUP(入力表・参加種目確認!BG37,$BJ$2:$BK$5,2,FALSE))","v":""},{"$f":"IF(入力表・参加種目確認!BH37=\"\",\"\",入力表・参加種目確認!BH37)","v":""},{"$f":"IF(入力表・参加種目確認!BI37=\"\",\"\",入力表・参加種目確認!BI37)","v":""},{"$f":"IF(入力表・参加種目確認!BP37=\"\",\"\",入力表・参加種目確認!BP37)","v":""},{"$f":"IF(入力表・参加種目確認!BQ37=\"\",\"\",入力表・参加種目確認!BQ37)","v":""},{"$f":"IF(ISERROR(VLOOKUP(IF(BB25=\"\",\"\",入力表・参加種目確認!BR37),$BJ$2:$BK$5,2,FALSE)),\"\",VLOOKUP(IF(BB25=\"\",\"\",入力表・参加種目確認!BR37),$BJ$2:$BK$5,2,FALSE))","v":""},{"$f":"IF(入力表・参加種目確認!BS37=\"\",\"\",入力表・参加種目確認!BS37)","v":""},{"$f":"IF(入力表・参加種目確認!BT37=\"\",\"\",入力表・参加種目確認!BT37)","v":""},{"$f":"IF(ISERROR(VLOOKUP(入力表・参加種目確認!BU37,$BJ$2:$BK$5,2,FALSE)),\"\",VLOOKUP(入力表・参加種目確認!BU37,$BJ$2:$BK$5,2,FALSE))","v":""},{"$f":"IF(入力表・参加種目確認!BV37=\"\",\"\",入力表・参加種目確認!BV37)","v":""},{"$f":"IF(入力表・参加種目確認!BW37=\"\",\"\",入力表・参加種目確認!BW37)","v":""}]
[25,{"$f":"IF(入力表・参加種目確認!H38=0,\"\",入力表・参加種目確認!H38)","v":""},{"$f":"IF(入力表・参加種目確認!J38=0,\"\",入力表・参加種目確認!J38)","v":""},{"$f":"IF(入力表・参加種目確認!N38=0,\"\",入力表・参加種目確認!N38)","v":""},{"$f":"RIGHT(入力表・参加種目確認!AA38,2)","v":""},{"$f":"IF(入力表・参加種目確認!U38=0,\"\",ASC(入力表・参加種目確認!U38))","v":""},{"$f":"IF(B26=\"\",\"\",入力表・参加種目確認!$N$8)","v":""},{"$f":"IF(B26=\"\",\"\",入力表・参加種目確認!$L$4)","v":""},{"$f":"IF(B26=\"\",\"\",入力表・参加種目確認!AE38)","v":""},{"$f":"IF(入力表・参加種目確認!AH38=\"\",\"\",入力表・参加種目確認!$E$4&'貼付（事務局）'!B26&\"子\"&入力表・参加種目確認!AH38)","v":""},"",{"$f":"IF(入力表・参加種目確認!AV38=\"\",\"\",入力表・参加種目確認!$E$4&'貼付（事務局）'!B26&\"子\"&入力表・参加種目確認!AV38)","v":""},"",{"$f":"IF(入力表・参加種目確認!BJ38=\"\",\"\",入力表・参加種目確認!$E$4&'貼付（事務局）'!B26&\"子\"&入力表・参加種目確認!BJ38)","v":""},"",{"$f":"IF(入力表・参加種目確認!BX38=\"\",\"\",VLOOKUP(入力表・参加種目確認!$E$4,$BP$2:$BQ$5,2,FALSE)&入力表・参加種目確認!H38&\"子\"&\"4X100mR\")","v":""},{"$f":"IF(P26=\"\",\"\",H26&P26&入力表・参加種目確認!BX38)","v":""},"",{"$f":"IF(入力表・参加種目確認!CA38=\"\",\"\",VLOOKUP(入力表・参加種目確認!$E$4,$BP$7:$BQ$10,2,FALSE)&入力表・参加種目確認!H38&\"子\"&\"4X400mR\")","v":""},{"$f":"IF(S26=\"\",\"\",H26&S26&入力表・参加種目確認!CA38)","v":""},"",null,null,null,null,null,null,null,null,null,null,null,null,null,null,null,{"$f":"IF(入力表・参加種目確認!AN38=\"\",\"\",入力表・参加種目確認!AN38)","v":""},{"$f":"IF(入力表・参加種目確認!AO38=\"\",\"\",入力表・参加種目確認!AO38)","v":""},{"$f":"IF(ISERROR(VLOOKUP(IF(AL26=\"\",\"\",入力表・参加種目確認!AP38),$BJ$2:$BK$5,2,FALSE)),\"\",VLOOKUP(IF(AL26=\"\",\"\",入力表・参加種目確認!AS38),$BJ$2:$BK$5,2,FALSE))","v":""},{"$f":"IF(入力表・参加種目確認!AQ38=\"\",\"\",入力表・参加種目確認!AQ38)","v":""},{"$f":"IF(入力表・参加種目確認!AR38=\"\",\"\",入力表・参加種目確認!AR38)","v":""},{"$f":"IF(ISERROR(VLOOKUP(入力表・参加種目確認!AS38,$BJ$2:$BK$5,2,FALSE)),\"\",VLOOKUP(入力表・参加種目確認!AS38,$BJ$2:$BK$5,2,FALSE))","v":""},{"$f":"IF(入力表・参加種目確認!AT38=\"\",\"\",入力表・参加種目確認!AT38)","v":""},{"$f":"IF(入力表・参加種目確認!AU38=\"\",\"\",入力表・参加種目確認!AU38)","v":""},{"$f":"IF(入力表・参加種目確認!BB38=\"\",\"\",入力表・参加種目確認!BB38)","v":""},{"$f":"IF(入力表・参加種目確認!BC38=\"\",\"\",入力表・参加種目確認!BC38)","v":""},{"$f":"IF(ISERROR(VLOOKUP(IF(AT26=\"\",\"\",入力表・参加種目確認!BD38),$BJ$2:$BK$5,2,FALSE)),\"\",VLOOKUP(IF(AT26=\"\",\"\",入力表・参加種目確認!BD38),$BJ$2:$BK$5,2,FALSE))","v":""},{"$f":"IF(入力表・参加種目確認!BE38=\"\",\"\",入力表・参加種目確認!BE38)","v":""},{"$f":"IF(入力表・参加種目確認!BF38=\"\",\"\",入力表・参加種目確認!BF38)","v":""},{"$f":"IF(ISERROR(VLOOKUP(入力表・参加種目確認!BG38,$BJ$2:$BK$5,2,FALSE)),\"\",VLOOKUP(入力表・参加種目確認!BG38,$BJ$2:$BK$5,2,FALSE))","v":""},{"$f":"IF(入力表・参加種目確認!BH38=\"\",\"\",入力表・参加種目確認!BH38)","v":""},{"$f":"IF(入力表・参加種目確認!BI38=\"\",\"\",入力表・参加種目確認!BI38)","v":""},{"$f":"IF(入力表・参加種目確認!BP38=\"\",\"\",入力表・参加種目確認!BP38)","v":""},{"$f":"IF(入力表・参加種目確認!BQ38=\"\",\"\",入力表・参加種目確認!BQ38)","v":""},{"$f":"IF(ISERROR(VLOOKUP(IF(BB26=\"\",\"\",入力表・参加種目確認!BR38),$BJ$2:$BK$5,2,FALSE)),\"\",VLOOKUP(IF(BB26=\"\",\"\",入力表・参加種目確認!BR38),$BJ$2:$BK$5,2,FALSE))","v":""},{"$f":"IF(入力表・参加種目確認!BS38=\"\",\"\",入力表・参加種目確認!BS38)","v":""},{"$f":"IF(入力表・参加種目確認!BT38=\"\",\"\",入力表・参加種目確認!BT38)","v":""},{"$f":"IF(ISERROR(VLOOKUP(入力表・参加種目確認!BU38,$BJ$2:$BK$5,2,FALSE)),\"\",VLOOKUP(入力表・参加種目確認!BU38,$BJ$2:$BK$5,2,FALSE))","v":""},{"$f":"IF(入力表・参加種目確認!BV38=\"\",\"\",入力表・参加種目確認!BV38)","v":""},{"$f":"IF(入力表・参加種目確認!BW38=\"\",\"\",入力表・参加種目確認!BW38)","v":""}]
[26,{"$f":"IF(入力表・参加種目確認!H39=0,\"\",入力表・参加種目確認!H39)","v":""},{"$f":"IF(入力表・参加種目確認!J39=0,\"\",入力表・参加種目確認!J39)","v":""},{"$f":"IF(入力表・参加種目確認!N39=0,\"\",入力表・参加種目確認!N39)","v":""},{"$f":"RIGHT(入力表・参加種目確認!AA39,2)","v":""},{"$f":"IF(入力表・参加種目確認!U39=0,\"\",ASC(入力表・参加種目確認!U39))","v":""},{"$f":"IF(B27=\"\",\"\",入力表・参加種目確認!$N$8)","v":""},{"$f":"IF(B27=\"\",\"\",入力表・参加種目確認!$L$4)","v":""},{"$f":"IF(B27=\"\",\"\",入力表・参加種目確認!AE39)","v":""},{"$f":"IF(入力表・参加種目確認!AH39=\"\",\"\",入力表・参加種目確認!$E$4&'貼付（事務局）'!B27&\"子\"&入力表・参加種目確認!AH39)","v":""},"",{"$f":"IF(入力表・参加種目確認!AV39=\"\",\"\",入力表・参加種目確認!$E$4&'貼付（事務局）'!B27&\"子\"&入力表・参加種目確認!AV39)","v":""},"",{"$f":"IF(入力表・参加種目確認!BJ39=\"\",\"\",入力表・参加種目確認!$E$4&'貼付（事務局）'!B27&\"子\"&入力表・参加種目確認!BJ39)","v":""},"",{"$f":"IF(入力表・参加種目確認!BX39=\"\",\"\",VLOOKUP(入力表・参加種目確認!$E$4,$BP$2:$BQ$5,2,FALSE)&入力表・参加種目確認!H39&\"子\"&\"4X100mR\")","v":""},{"$f":"IF(P27=\"\",\"\",H27&P27&入力表・参加種目確認!BX39)","v":""},"",{"$f":"IF(入力表・参加種目確認!CA39=\"\",\"\",VLOOKUP(入力表・参加種目確認!$E$4,$BP$7:$BQ$10,2,FALSE)&入力表・参加種目確認!H39&\"子\"&\"4X400mR\")","v":""},{"$f":"IF(S27=\"\",\"\",H27&S27&入力表・参加種目確認!CA39)","v":""},"",null,null,null,null,null,null,null,null,null,null,null,null,null,null,null,{"$f":"IF(入力表・参加種目確認!AN39=\"\",\"\",入力表・参加種目確認!AN39)","v":""},{"$f":"IF(入力表・参加種目確認!AO39=\"\",\"\",入力表・参加種目確認!AO39)","v":""},{"$f":"IF(ISERROR(VLOOKUP(IF(AL27=\"\",\"\",入力表・参加種目確認!AP39),$BJ$2:$BK$5,2,FALSE)),\"\",VLOOKUP(IF(AL27=\"\",\"\",入力表・参加種目確認!AS39),$BJ$2:$BK$5,2,FALSE))","v":""},{"$f":"IF(入力表・参加種目確認!AQ39=\"\",\"\",入力表・参加種目確認!AQ39)","v":""},{"$f":"IF(入力表・参加種目確認!AR39=\"\",\"\",入力表・参加種目確認!AR39)","v":""},{"$f":"IF(ISERROR(VLOOKUP(入力表・参加種目確認!AS39,$BJ$2:$BK$5,2,FALSE)),\"\",VLOOKUP(入力表・参加種目確認!AS39,$BJ$2:$BK$5,2,FALSE))","v":""},{"$f":"IF(入力表・参加種目確認!AT39=\"\",\"\",入力表・参加種目確認!AT39)","v":""},{"$f":"IF(入力表・参加種目確認!AU39=\"\",\"\",入力表・参加種目確認!AU39)","v":""},{"$f":"IF(入力表・参加種目確認!BB39=\"\",\"\",入力表・参加種目確認!BB39)","v":""},{"$f":"IF(入力表・参加種目確認!BC39=\"\",\"\",入力表・参加種目確認!BC39)","v":""},{"$f":"IF(ISERROR(VLOOKUP(IF(AT27=\"\",\"\",入力表・参加種目確認!BD39),$BJ$2:$BK$5,2,FALSE)),\"\",VLOOKUP(IF(AT27=\"\",\"\",入力表・参加種目確認!BD39),$BJ$2:$BK$5,2,FALSE))","v":""},{"$f":"IF(入力表・参加種目確認!BE39=\"\",\"\",入力表・参加種目確認!BE39)","v":""},{"$f":"IF(入力表・参加種目確認!BF39=\"\",\"\",入力表・参加種目確認!BF39)","v":""},{"$f":"IF(ISERROR(VLOOKUP(入力表・参加種目確認!BG39,$BJ$2:$BK$5,2,FALSE)),\"\",VLOOKUP(入力表・参加種目確認!BG39,$BJ$2:$BK$5,2,FALSE))","v":""},{"$f":"IF(入力表・参加種目確認!BH39=\"\",\"\",入力表・参加種目確認!BH39)","v":""},{"$f":"IF(入力表・参加種目確認!BI39=\"\",\"\",入力表・参加種目確認!BI39)","v":""},{"$f":"IF(入力表・参加種目確認!BP39=\"\",\"\",入力表・参加種目確認!BP39)","v":""},{"$f":"IF(入力表・参加種目確認!BQ39=\"\",\"\",入力表・参加種目確認!BQ39)","v":""},{"$f":"IF(ISERROR(VLOOKUP(IF(BB27=\"\",\"\",入力表・参加種目確認!BR39),$BJ$2:$BK$5,2,FALSE)),\"\",VLOOKUP(IF(BB27=\"\",\"\",入力表・参加種目確認!BR39),$BJ$2:$BK$5,2,FALSE))","v":""},{"$f":"IF(入力表・参加種目確認!BS39=\"\",\"\",入力表・参加種目確認!BS39)","v":""},{"$f":"IF(入力表・参加種目確認!BT39=\"\",\"\",入力表・参加種目確認!BT39)","v":""},{"$f":"IF(ISERROR(VLOOKUP(入力表・参加種目確認!BU39,$BJ$2:$BK$5,2,FALSE)),\"\",VLOOKUP(入力表・参加種目確認!BU39,$BJ$2:$BK$5,2,FALSE))","v":""},{"$f":"IF(入力表・参加種目確認!BV39=\"\",\"\",入力表・参加種目確認!BV39)","v":""},{"$f":"IF(入力表・参加種目確認!BW39=\"\",\"\",入力表・参加種目確認!BW39)","v":""}]
[27,{"$f":"IF(入力表・参加種目確認!H40=0,\"\",入力表・参加種目確認!H40)","v":""},{"$f":"IF(入力表・参加種目確認!J40=0,\"\",入力表・参加種目確認!J40)","v":""},{"$f":"IF(入力表・参加種目確認!N40=0,\"\",入力表・参加種目確認!N40)","v":""},{"$f":"RIGHT(入力表・参加種目確認!AA40,2)","v":""},{"$f":"IF(入力表・参加種目確認!U40=0,\"\",ASC(入力表・参加種目確認!U40))","v":""},{"$f":"IF(B28=\"\",\"\",入力表・参加種目確認!$N$8)","v":""},{"$f":"IF(B28=\"\",\"\",入力表・参加種目確認!$L$4)","v":""},{"$f":"IF(B28=\"\",\"\",入力表・参加種目確認!AE40)","v":""},{"$f":"IF(入力表・参加種目確認!AH40=\"\",\"\",入力表・参加種目確認!$E$4&'貼付（事務局）'!B28&\"子\"&入力表・参加種目確認!AH40)","v":""},"",{"$f":"IF(入力表・参加種目確認!AV40=\"\",\"\",入力表・参加種目確認!$E$4&'貼付（事務局）'!B28&\"子\"&入力表・参加種目確認!AV40)","v":""},"",{"$f":"IF(入力表・参加種目確認!BJ40=\"\",\"\",入力表・参加種目確認!$E$4&'貼付（事務局）'!B28&\"子\"&入力表・参加種目確認!BJ40)","v":""},"",{"$f":"IF(入力表・参加種目確認!BX40=\"\",\"\",VLOOKUP(入力表・参加種目確認!$E$4,$BP$2:$BQ$5,2,FALSE)&入力表・参加種目確認!H40&\"子\"&\"4X100mR\")","v":""},{"$f":"IF(P28=\"\",\"\",H28&P28&入力表・参加種目確認!BX40)","v":""},"",{"$f":"IF(入力表・参加種目確認!CA40=\"\",\"\",VLOOKUP(入力表・参加種目確認!$E$4,$BP$7:$BQ$10,2,FALSE)&入力表・参加種目確認!H40&\"子\"&\"4X400mR\")","v":""},{"$f":"IF(S28=\"\",\"\",H28&S28&入力表・参加種目確認!CA40)","v":""},"",null,null,null,null,null,null,null,null,null,null,null,null,null,null,null,{"$f":"IF(入力表・参加種目確認!AN40=\"\",\"\",入力表・参加種目確認!AN40)","v":""},{"$f":"IF(入力表・参加種目確認!AO40=\"\",\"\",入力表・参加種目確認!AO40)","v":""},{"$f":"IF(ISERROR(VLOOKUP(IF(AL28=\"\",\"\",入力表・参加種目確認!AP40),$BJ$2:$BK$5,2,FALSE)),\"\",VLOOKUP(IF(AL28=\"\",\"\",入力表・参加種目確認!AS40),$BJ$2:$BK$5,2,FALSE))","v":""},{"$f":"IF(入力表・参加種目確認!AQ40=\"\",\"\",入力表・参加種目確認!AQ40)","v":""},{"$f":"IF(入力表・参加種目確認!AR40=\"\",\"\",入力表・参加種目確認!AR40)","v":""},{"$f":"IF(ISERROR(VLOOKUP(入力表・参加種目確認!AS40,$BJ$2:$BK$5,2,FALSE)),\"\",VLOOKUP(入力表・参加種目確認!AS40,$BJ$2:$BK$5,2,FALSE))","v":""},{"$f":"IF(入力表・参加種目確認!AT40=\"\",\"\",入力表・参加種目確認!AT40)","v":""},{"$f":"IF(入力表・参加種目確認!AU40=\"\",\"\",入力表・参加種目確認!AU40)","v":""},{"$f":"IF(入力表・参加種目確認!BB40=\"\",\"\",入力表・参加種目確認!BB40)","v":""},{"$f":"IF(入力表・参加種目確認!BC40=\"\",\"\",入力表・参加種目確認!BC40)","v":""},{"$f":"IF(ISERROR(VLOOKUP(IF(AT28=\"\",\"\",入力表・参加種目確認!BD40),$BJ$2:$BK$5,2,FALSE)),\"\",VLOOKUP(IF(AT28=\"\",\"\",入力表・参加種目確認!BD40),$BJ$2:$BK$5,2,FALSE))","v":""},{"$f":"IF(入力表・参加種目確認!BE40=\"\",\"\",入力表・参加種目確認!BE40)","v":""},{"$f":"IF(入力表・参加種目確認!BF40=\"\",\"\",入力表・参加種目確認!BF40)","v":""},{"$f":"IF(ISERROR(VLOOKUP(入力表・参加種目確認!BG40,$BJ$2:$BK$5,2,FALSE)),\"\",VLOOKUP(入力表・参加種目確認!BG40,$BJ$2:$BK$5,2,FALSE))","v":""},{"$f":"IF(入力表・参加種目確認!BH40=\"\",\"\",入力表・参加種目確認!BH40)","v":""},{"$f":"IF(入力表・参加種目確認!BI40=\"\",\"\",入力表・参加種目確認!BI40)","v":""},{"$f":"IF(入力表・参加種目確認!BP40=\"\",\"\",入力表・参加種目確認!BP40)","v":""},{"$f":"IF(入力表・参加種目確認!BQ40=\"\",\"\",入力表・参加種目確認!BQ40)","v":""},{"$f":"IF(ISERROR(VLOOKUP(IF(BB28=\"\",\"\",入力表・参加種目確認!BR40),$BJ$2:$BK$5,2,FALSE)),\"\",VLOOKUP(IF(BB28=\"\",\"\",入力表・参加種目確認!BR40),$BJ$2:$BK$5,2,FALSE))","v":""},{"$f":"IF(入力表・参加種目確認!BS40=\"\",\"\",入力表・参加種目確認!BS40)","v":""},{"$f":"IF(入力表・参加種目確認!BT40=\"\",\"\",入力表・参加種目確認!BT40)","v":""},{"$f":"IF(ISERROR(VLOOKUP(入力表・参加種目確認!BU40,$BJ$2:$BK$5,2,FALSE)),\"\",VLOOKUP(入力表・参加種目確認!BU40,$BJ$2:$BK$5,2,FALSE))","v":""},{"$f":"IF(入力表・参加種目確認!BV40=\"\",\"\",入力表・参加種目確認!BV40)","v":""},{"$f":"IF(入力表・参加種目確認!BW40=\"\",\"\",入力表・参加種目確認!BW40)","v":""}]
[28,{"$f":"IF(入力表・参加種目確認!H41=0,\"\",入力表・参加種目確認!H41)","v":""},{"$f":"IF(入力表・参加種目確認!J41=0,\"\",入力表・参加種目確認!J41)","v":""},{"$f":"IF(入力表・参加種目確認!N41=0,\"\",入力表・参加種目確認!N41)","v":""},{"$f":"RIGHT(入力表・参加種目確認!AA41,2)","v":""},{"$f":"IF(入力表・参加種目確認!U41=0,\"\",ASC(入力表・参加種目確認!U41))","v":""},{"$f":"IF(B29=\"\",\"\",入力表・参加種目確認!$N$8)","v":""},{"$f":"IF(B29=\"\",\"\",入力表・参加種目確認!$L$4)","v":""},{"$f":"IF(B29=\"\",\"\",入力表・参加種目確認!AE41)","v":""},{"$f":"IF(入力表・参加種目確認!AH41=\"\",\"\",入力表・参加種目確認!$E$4&'貼付（事務局）'!B29&\"子\"&入力表・参加種目確認!AH41)","v":""},"",{"$f":"IF(入力表・参加種目確認!AV41=\"\",\"\",入力表・参加種目確認!$E$4&'貼付（事務局）'!B29&\"子\"&入力表・参加種目確認!AV41)","v":""},"",{"$f":"IF(入力表・参加種目確認!BJ41=\"\",\"\",入力表・参加種目確認!$E$4&'貼付（事務局）'!B29&\"子\"&入力表・参加種目確認!BJ41)","v":""},"",{"$f":"IF(入力表・参加種目確認!BX41=\"\",\"\",VLOOKUP(入力表・参加種目確認!$E$4,$BP$2:$BQ$5,2,FALSE)&入力表・参加種目確認!H41&\"子\"&\"4X100mR\")","v":""},{"$f":"IF(P29=\"\",\"\",H29&P29&入力表・参加種目確認!BX41)","v":""},"",{"$f":"IF(入力表・参加種目確認!CA41=\"\",\"\",VLOOKUP(入力表・参加種目確認!$E$4,$BP$7:$BQ$10,2,FALSE)&入力表・参加種目確認!H41&\"子\"&\"4X400mR\")","v":""},{"$f":"IF(S29=\"\",\"\",H29&S29&入力表・参加種目確認!CA41)","v":""},"",null,null,null,null,null,null,null,null,null,null,null,null,null,null,null,{"$f":"IF(入力表・参加種目確認!AN41=\"\",\"\",入力表・参加種目確認!AN41)","v":""},{"$f":"IF(入力表・参加種目確認!AO41=\"\",\"\",入力表・参加種目確認!AO41)","v":""},{"$f":"IF(ISERROR(VLOOKUP(IF(AL29=\"\",\"\",入力表・参加種目確認!AP41),$BJ$2:$BK$5,2,FALSE)),\"\",VLOOKUP(IF(AL29=\"\",\"\",入力表・参加種目確認!AS41),$BJ$2:$BK$5,2,FALSE))","v":""},{"$f":"IF(入力表・参加種目確認!AQ41=\"\",\"\",入力表・参加種目確認!AQ41)","v":""},{"$f":"IF(入力表・参加種目確認!AR41=\"\",\"\",入力表・参加種目確認!AR41)","v":""},{"$f":"IF(ISERROR(VLOOKUP(入力表・参加種目確認!AS41,$BJ$2:$BK$5,2,FALSE)),\"\",VLOOKUP(入力表・参加種目確認!AS41,$BJ$2:$BK$5,2,FALSE))","v":""},{"$f":"IF(入力表・参加種目確認!AT41=\"\",\"\",入力表・参加種目確認!AT41)","v":""},{"$f":"IF(入力表・参加種目確認!AU41=\"\",\"\",入力表・参加種目確認!AU41)","v":""},{"$f":"IF(入力表・参加種目確認!BB41=\"\",\"\",入力表・参加種目確認!BB41)","v":""},{"$f":"IF(入力表・参加種目確認!BC41=\"\",\"\",入力表・参加種目確認!BC41)","v":""},{"$f":"IF(ISERROR(VLOOKUP(IF(AT29=\"\",\"\",入力表・参加種目確認!BD41),$BJ$2:$BK$5,2,FALSE)),\"\",VLOOKUP(IF(AT29=\"\",\"\",入力表・参加種目確認!BD41),$BJ$2:$BK$5,2,FALSE))","v":""},{"$f":"IF(入力表・参加種目確認!BE41=\"\",\"\",入力表・参加種目確認!BE41)","v":""},{"$f":"IF(入力表・参加種目確認!BF41=\"\",\"\",入力表・参加種目確認!BF41)","v":""},{"$f":"IF(ISERROR(VLOOKUP(入力表・参加種目確認!BG41,$BJ$2:$BK$5,2,FALSE)),\"\",VLOOKUP(入力表・参加種目確認!BG41,$BJ$2:$BK$5,2,FALSE))","v":""},{"$f":"IF(入力表・参加種目確認!BH41=\"\",\"\",入力表・参加種目確認!BH41)","v":""},{"$f":"IF(入力表・参加種目確認!BI41=\"\",\"\",入力表・参加種目確認!BI41)","v":""},{"$f":"IF(入力表・参加種目確認!BP41=\"\",\"\",入力表・参加種目確認!BP41)","v":""},{"$f":"IF(入力表・参加種目確認!BQ41=\"\",\"\",入力表・参加種目確認!BQ41)","v":""},{"$f":"IF(ISERROR(VLOOKUP(IF(BB29=\"\",\"\",入力表・参加種目確認!BR41),$BJ$2:$BK$5,2,FALSE)),\"\",VLOOKUP(IF(BB29=\"\",\"\",入力表・参加種目確認!BR41),$BJ$2:$BK$5,2,FALSE))","v":""},{"$f":"IF(入力表・参加種目確認!BS41=\"\",\"\",入力表・参加種目確認!BS41)","v":""},{"$f":"IF(入力表・参加種目確認!BT41=\"\",\"\",入力表・参加種目確認!BT41)","v":""},{"$f":"IF(ISERROR(VLOOKUP(入力表・参加種目確認!BU41,$BJ$2:$BK$5,2,FALSE)),\"\",VLOOKUP(入力表・参加種目確認!BU41,$BJ$2:$BK$5,2,FALSE))","v":""},{"$f":"IF(入力表・参加種目確認!BV41=\"\",\"\",入力表・参加種目確認!BV41)","v":""},{"$f":"IF(入力表・参加種目確認!BW41=\"\",\"\",入力表・参加種目確認!BW41)","v":""}]
[29,{"$f":"IF(入力表・参加種目確認!H42=0,\"\",入力表・参加種目確認!H42)","v":""},{"$f":"IF(入力表・参加種目確認!J42=0,\"\",入力表・参加種目確認!J42)","v":""},{"$f":"IF(入力表・参加種目確認!N42=0,\"\",入力表・参加種目確認!N42)","v":""},{"$f":"RIGHT(入力表・参加種目確認!AA42,2)","v":""},{"$f":"IF(入力表・参加種目確認!U42=0,\"\",ASC(入力表・参加種目確認!U42))","v":""},{"$f":"IF(B30=\"\",\"\",入力表・参加種目確認!$N$8)","v":""},{"$f":"IF(B30=\"\",\"\",入力表・参加種目確認!$L$4)","v":""},{"$f":"IF(B30=\"\",\"\",入力表・参加種目確認!AE42)","v":""},{"$f":"IF(入力表・参加種目確認!AH42=\"\",\"\",入力表・参加種目確認!$E$4&'貼付（事務局）'!B30&\"子\"&入力表・参加種目確認!AH42)","v":""},"",{"$f":"IF(入力表・参加種目確認!AV42=\"\",\"\",入力表・参加種目確認!$E$4&'貼付（事務局）'!B30&\"子\"&入力表・参加種目確認!AV42)","v":""},"",{"$f":"IF(入力表・参加種目確認!BJ42=\"\",\"\",入力表・参加種目確認!$E$4&'貼付（事務局）'!B30&\"子\"&入力表・参加種目確認!BJ42)","v":""},"",{"$f":"IF(入力表・参加種目確認!BX42=\"\",\"\",VLOOKUP(入力表・参加種目確認!$E$4,$BP$2:$BQ$5,2,FALSE)&入力表・参加種目確認!H42&\"子\"&\"4X100mR\")","v":""},{"$f":"IF(P30=\"\",\"\",H30&P30&入力表・参加種目確認!BX42)","v":""},"",{"$f":"IF(入力表・参加種目確認!CA42=\"\",\"\",VLOOKUP(入力表・参加種目確認!$E$4,$BP$7:$BQ$10,2,FALSE)&入力表・参加種目確認!H42&\"子\"&\"4X400mR\")","v":""},{"$f":"IF(S30=\"\",\"\",H30&S30&入力表・参加種目確認!CA42)","v":""},"",null,null,null,null,null,null,null,null,null,null,null,null,null,null,null,{"$f":"IF(入力表・参加種目確認!AN42=\"\",\"\",入力表・参加種目確認!AN42)","v":""},{"$f":"IF(入力表・参加種目確認!AO42=\"\",\"\",入力表・参加種目確認!AO42)","v":""},{"$f":"IF(ISERROR(VLOOKUP(IF(AL30=\"\",\"\",入力表・参加種目確認!AP42),$BJ$2:$BK$5,2,FALSE)),\"\",VLOOKUP(IF(AL30=\"\",\"\",入力表・参加種目確認!AS42),$BJ$2:$BK$5,2,FALSE))","v":""},{"$f":"IF(入力表・参加種目確認!AQ42=\"\",\"\",入力表・参加種目確認!AQ42)","v":""},{"$f":"IF(入力表・参加種目確認!AR42=\"\",\"\",入力表・参加種目確認!AR42)","v":""},{"$f":"IF(ISERROR(VLOOKUP(入力表・参加種目確認!AS42,$BJ$2:$BK$5,2,FALSE)),\"\",VLOOKUP(入力表・参加種目確認!AS42,$BJ$2:$BK$5,2,FALSE))","v":""},{"$f":"IF(入力表・参加種目確認!AT42=\"\",\"\",入力表・参加種目確認!AT42)","v":""},{"$f":"IF(入力表・参加種目確認!AU42=\"\",\"\",入力表・参加種目確認!AU42)","v":""},{"$f":"IF(入力表・参加種目確認!BB42=\"\",\"\",入力表・参加種目確認!BB42)","v":""},{"$f":"IF(入力表・参加種目確認!BC42=\"\",\"\",入力表・参加種目確認!BC42)","v":""},{"$f":"IF(ISERROR(VLOOKUP(IF(AT30=\"\",\"\",入力表・参加種目確認!BD42),$BJ$2:$BK$5,2,FALSE)),\"\",VLOOKUP(IF(AT30=\"\",\"\",入力表・参加種目確認!BD42),$BJ$2:$BK$5,2,FALSE))","v":""},{"$f":"IF(入力表・参加種目確認!BE42=\"\",\"\",入力表・参加種目確認!BE42)","v":""},{"$f":"IF(入力表・参加種目確認!BF42=\"\",\"\",入力表・参加種目確認!BF42)","v":""},{"$f":"IF(ISERROR(VLOOKUP(入力表・参加種目確認!BG42,$BJ$2:$BK$5,2,FALSE)),\"\",VLOOKUP(入力表・参加種目確認!BG42,$BJ$2:$BK$5,2,FALSE))","v":""},{"$f":"IF(入力表・参加種目確認!BH42=\"\",\"\",入力表・参加種目確認!BH42)","v":""},{"$f":"IF(入力表・参加種目確認!BI42=\"\",\"\",入力表・参加種目確認!BI42)","v":""},{"$f":"IF(入力表・参加種目確認!BP42=\"\",\"\",入力表・参加種目確認!BP42)","v":""},{"$f":"IF(入力表・参加種目確認!BQ42=\"\",\"\",入力表・参加種目確認!BQ42)","v":""},{"$f":"IF(ISERROR(VLOOKUP(IF(BB30=\"\",\"\",入力表・参加種目確認!BR42),$BJ$2:$BK$5,2,FALSE)),\"\",VLOOKUP(IF(BB30=\"\",\"\",入力表・参加種目確認!BR42),$BJ$2:$BK$5,2,FALSE))","v":""},{"$f":"IF(入力表・参加種目確認!BS42=\"\",\"\",入力表・参加種目確認!BS42)","v":""},{"$f":"IF(入力表・参加種目確認!BT42=\"\",\"\",入力表・参加種目確認!BT42)","v":""},{"$f":"IF(ISERROR(VLOOKUP(入力表・参加種目確認!BU42,$BJ$2:$BK$5,2,FALSE)),\"\",VLOOKUP(入力表・参加種目確認!BU42,$BJ$2:$BK$5,2,FALSE))","v":""},{"$f":"IF(入力表・参加種目確認!BV42=\"\",\"\",入力表・参加種目確認!BV42)","v":""},{"$f":"IF(入力表・参加種目確認!BW42=\"\",\"\",入力表・参加種目確認!BW42)","v":""}]
[30,{"$f":"IF(入力表・参加種目確認!H43=0,\"\",入力表・参加種目確認!H43)","v":""},{"$f":"IF(入力表・参加種目確認!J43=0,\"\",入力表・参加種目確認!J43)","v":""},{"$f":"IF(入力表・参加種目確認!N43=0,\"\",入力表・参加種目確認!N43)","v":""},{"$f":"RIGHT(入力表・参加種目確認!AA43,2)","v":""},{"$f":"IF(入力表・参加種目確認!U43=0,\"\",ASC(入力表・参加種目確認!U43))","v":""},{"$f":"IF(B31=\"\",\"\",入力表・参加種目確認!$N$8)","v":""},{"$f":"IF(B31=\"\",\"\",入力表・参加種目確認!$L$4)","v":""},{"$f":"IF(B31=\"\",\"\",入力表・参加種目確認!AE43)","v":""},{"$f":"IF(入力表・参加種目確認!AH43=\"\",\"\",入力表・参加種目確認!$E$4&'貼付（事務局）'!B31&\"子\"&入力表・参加種目確認!AH43)","v":""},"",{"$f":"IF(入力表・参加種目確認!AV43=\"\",\"\",入力表・参加種目確認!$E$4&'貼付（事務局）'!B31&\"子\"&入力表・参加種目確認!AV43)","v":""},"",{"$f":"IF(入力表・参加種目確認!BJ43=\"\",\"\",入力表・参加種目確認!$E$4&'貼付（事務局）'!B31&\"子\"&入力表・参加種目確認!BJ43)","v":""},"",{"$f":"IF(入力表・参加種目確認!BX43=\"\",\"\",VLOOKUP(入力表・参加種目確認!$E$4,$BP$2:$BQ$5,2,FALSE)&入力表・参加種目確認!H43&\"子\"&\"4X100mR\")","v":""},{"$f":"IF(P31=\"\",\"\",H31&P31&入力表・参加種目確認!BX43)","v":""},"",{"$f":"IF(入力表・参加種目確認!CA43=\"\",\"\",VLOOKUP(入力表・参加種目確認!$E$4,$BP$7:$BQ$10,2,FALSE)&入力表・参加種目確認!H43&\"子\"&\"4X400mR\")","v":""},{"$f":"IF(S31=\"\",\"\",H31&S31&入力表・参加種目確認!CA43)","v":""},"",null,null,null,null,null,null,null,null,null,null,null,null,null,null,null,{"$f":"IF(入力表・参加種目確認!AN43=\"\",\"\",入力表・参加種目確認!AN43)","v":""},{"$f":"IF(入力表・参加種目確認!AO43=\"\",\"\",入力表・参加種目確認!AO43)","v":""},{"$f":"IF(ISERROR(VLOOKUP(IF(AL31=\"\",\"\",入力表・参加種目確認!AP43),$BJ$2:$BK$5,2,FALSE)),\"\",VLOOKUP(IF(AL31=\"\",\"\",入力表・参加種目確認!AS43),$BJ$2:$BK$5,2,FALSE))","v":""},{"$f":"IF(入力表・参加種目確認!AQ43=\"\",\"\",入力表・参加種目確認!AQ43)","v":""},{"$f":"IF(入力表・参加種目確認!AR43=\"\",\"\",入力表・参加種目確認!AR43)","v":""},{"$f":"IF(ISERROR(VLOOKUP(入力表・参加種目確認!AS43,$BJ$2:$BK$5,2,FALSE)),\"\",VLOOKUP(入力表・参加種目確認!AS43,$BJ$2:$BK$5,2,FALSE))","v":""},{"$f":"IF(入力表・参加種目確認!AT43=\"\",\"\",入力表・参加種目確認!AT43)","v":""},{"$f":"IF(入力表・参加種目確認!AU43=\"\",\"\",入力表・参加種目確認!AU43)","v":""},{"$f":"IF(入力表・参加種目確認!BB43=\"\",\"\",入力表・参加種目確認!BB43)","v":""},{"$f":"IF(入力表・参加種目確認!BC43=\"\",\"\",入力表・参加種目確認!BC43)","v":""},{"$f":"IF(ISERROR(VLOOKUP(IF(AT31=\"\",\"\",入力表・参加種目確認!BD43),$BJ$2:$BK$5,2,FALSE)),\"\",VLOOKUP(IF(AT31=\"\",\"\",入力表・参加種目確認!BD43),$BJ$2:$BK$5,2,FALSE))","v":""},{"$f":"IF(入力表・参加種目確認!BE43=\"\",\"\",入力表・参加種目確認!BE43)","v":""},{"$f":"IF(入力表・参加種目確認!BF43=\"\",\"\",入力表・参加種目確認!BF43)","v":""},{"$f":"IF(ISERROR(VLOOKUP(入力表・参加種目確認!BG43,$BJ$2:$BK$5,2,FALSE)),\"\",VLOOKUP(入力表・参加種目確認!BG43,$BJ$2:$BK$5,2,FALSE))","v":""},{"$f":"IF(入力表・参加種目確認!BH43=\"\",\"\",入力表・参加種目確認!BH43)","v":""},{"$f":"IF(入力表・参加種目確認!BI43=\"\",\"\",入力表・参加種目確認!BI43)","v":""},{"$f":"IF(入力表・参加種目確認!BP43=\"\",\"\",入力表・参加種目確認!BP43)","v":""},{"$f":"IF(入力表・参加種目確認!BQ43=\"\",\"\",入力表・参加種目確認!BQ43)","v":""},{"$f":"IF(ISERROR(VLOOKUP(IF(BB31=\"\",\"\",入力表・参加種目確認!BR43),$BJ$2:$BK$5,2,FALSE)),\"\",VLOOKUP(IF(BB31=\"\",\"\",入力表・参加種目確認!BR43),$BJ$2:$BK$5,2,FALSE))","v":""},{"$f":"IF(入力表・参加種目確認!BS43=\"\",\"\",入力表・参加種目確認!BS43)","v":""},{"$f":"IF(入力表・参加種目確認!BT43=\"\",\"\",入力表・参加種目確認!BT43)","v":""},{"$f":"IF(ISERROR(VLOOKUP(入力表・参加種目確認!BU43,$BJ$2:$BK$5,2,FALSE)),\"\",VLOOKUP(入力表・参加種目確認!BU43,$BJ$2:$BK$5,2,FALSE))","v":""},{"$f":"IF(入力表・参加種目確認!BV43=\"\",\"\",入力表・参加種目確認!BV43)","v":""},{"$f":"IF(入力表・参加種目確認!BW43=\"\",\"\",入力表・参加種目確認!BW43)","v":""}]
[31,{"$f":"IF(入力表・参加種目確認!H44=0,\"\",入力表・参加種目確認!H44)","v":""},{"$f":"IF(入力表・参加種目確認!J44=0,\"\",入力表・参加種目確認!J44)","v":""},{"$f":"IF(入力表・参加種目確認!N44=0,\"\",入力表・参加種目確認!N44)","v":""},{"$f":"RIGHT(入力表・参加種目確認!AA44,2)","v":""},{"$f":"IF(入力表・参加種目確認!U44=0,\"\",ASC(入力表・参加種目確認!U44))","v":""},{"$f":"IF(B32=\"\",\"\",入力表・参加種目確認!$N$8)","v":""},{"$f":"IF(B32=\"\",\"\",入力表・参加種目確認!$L$4)","v":""},{"$f":"IF(B32=\"\",\"\",入力表・参加種目確認!AE44)","v":""},{"$f":"IF(入力表・参加種目確認!AH44=\"\",\"\",入力表・参加種目確認!$E$4&'貼付（事務局）'!B32&\"子\"&入力表・参加種目確認!AH44)","v":""},"",{"$f":"IF(入力表・参加種目確認!AV44=\"\",\"\",入力表・参加種目確認!$E$4&'貼付（事務局）'!B32&\"子\"&入力表・参加種目確認!AV44)","v":""},"",{"$f":"IF(入力表・参加種目確認!BJ44=\"\",\"\",入力表・参加種目確認!$E$4&'貼付（事務局）'!B32&\"子\"&入力表・参加種目確認!BJ44)","v":""},"",{"$f":"IF(入力表・参加種目確認!BX44=\"\",\"\",VLOOKUP(入力表・参加種目確認!$E$4,$BP$2:$BQ$5,2,FALSE)&入力表・参加種目確認!H44&\"子\"&\"4X100mR\")","v":""},{"$f":"IF(P32=\"\",\"\",H32&P32&入力表・参加種目確認!BX44)","v":""},"",{"$f":"IF(入力表・参加種目確認!CA44=\"\",\"\",VLOOKUP(入力表・参加種目確認!$E$4,$BP$7:$BQ$10,2,FALSE)&入力表・参加種目確認!H44&\"子\"&\"4X400mR\")","v":""},{"$f":"IF(S32=\"\",\"\",H32&S32&入力表・参加種目確認!CA44)","v":""},"",null,null,null,null,null,null,null,null,null,null,null,null,null,null,null,{"$f":"IF(入力表・参加種目確認!AN44=\"\",\"\",入力表・参加種目確認!AN44)","v":""},{"$f":"IF(入力表・参加種目確認!AO44=\"\",\"\",入力表・参加種目確認!AO44)","v":""},{"$f":"IF(ISERROR(VLOOKUP(IF(AL32=\"\",\"\",入力表・参加種目確認!AP44),$BJ$2:$BK$5,2,FALSE)),\"\",VLOOKUP(IF(AL32=\"\",\"\",入力表・参加種目確認!AS44),$BJ$2:$BK$5,2,FALSE))","v":""},{"$f":"IF(入力表・参加種目確認!AQ44=\"\",\"\",入力表・参加種目確認!AQ44)","v":""},{"$f":"IF(入力表・参加種目確認!AR44=\"\",\"\",入力表・参加種目確認!AR44)","v":""},{"$f":"IF(ISERROR(VLOOKUP(入力表・参加種目確認!AS44,$BJ$2:$BK$5,2,FALSE)),\"\",VLOOKUP(入力表・参加種目確認!AS44,$BJ$2:$BK$5,2,FALSE))","v":""},{"$f":"IF(入力表・参加種目確認!AT44=\"\",\"\",入力表・参加種目確認!AT44)","v":""},{"$f":"IF(入力表・参加種目確認!AU44=\"\",\"\",入力表・参加種目確認!AU44)","v":""},{"$f":"IF(入力表・参加種目確認!BB44=\"\",\"\",入力表・参加種目確認!BB44)","v":""},{"$f":"IF(入力表・参加種目確認!BC44=\"\",\"\",入力表・参加種目確認!BC44)","v":""},{"$f":"IF(ISERROR(VLOOKUP(IF(AT32=\"\",\"\",入力表・参加種目確認!BD44),$BJ$2:$BK$5,2,FALSE)),\"\",VLOOKUP(IF(AT32=\"\",\"\",入力表・参加種目確認!BD44),$BJ$2:$BK$5,2,FALSE))","v":""},{"$f":"IF(入力表・参加種目確認!BE44=\"\",\"\",入力表・参加種目確認!BE44)","v":""},{"$f":"IF(入力表・参加種目確認!BF44=\"\",\"\",入力表・参加種目確認!BF44)","v":""},{"$f":"IF(ISERROR(VLOOKUP(入力表・参加種目確認!BG44,$BJ$2:$BK$5,2,FALSE)),\"\",VLOOKUP(入力表・参加種目確認!BG44,$BJ$2:$BK$5,2,FALSE))","v":""},{"$f":"IF(入力表・参加種目確認!BH44=\"\",\"\",入力表・参加種目確認!BH44)","v":""},{"$f":"IF(入力表・参加種目確認!BI44=\"\",\"\",入力表・参加種目確認!BI44)","v":""},{"$f":"IF(入力表・参加種目確認!BP44=\"\",\"\",入力表・参加種目確認!BP44)","v":""},{"$f":"IF(入力表・参加種目確認!BQ44=\"\",\"\",入力表・参加種目確認!BQ44)","v":""},{"$f":"IF(ISERROR(VLOOKUP(IF(BB32=\"\",\"\",入力表・参加種目確認!BR44),$BJ$2:$BK$5,2,FALSE)),\"\",VLOOKUP(IF(BB32=\"\",\"\",入力表・参加種目確認!BR44),$BJ$2:$BK$5,2,FALSE))","v":""},{"$f":"IF(入力表・参加種目確認!BS44=\"\",\"\",入力表・参加種目確認!BS44)","v":""},{"$f":"IF(入力表・参加種目確認!BT44=\"\",\"\",入力表・参加種目確認!BT44)","v":""},{"$f":"IF(ISERROR(VLOOKUP(入力表・参加種目確認!BU44,$BJ$2:$BK$5,2,FALSE)),\"\",VLOOKUP(入力表・参加種目確認!BU44,$BJ$2:$BK$5,2,FALSE))","v":""},{"$f":"IF(入力表・参加種目確認!BV44=\"\",\"\",入力表・参加種目確認!BV44)","v":""},{"$f":"IF(入力表・参加種目確認!BW44=\"\",\"\",入力表・参加種目確認!BW44)","v":""}]
[32,{"$f":"IF(入力表・参加種目確認!H45=0,\"\",入力表・参加種目確認!H45)","v":""},{"$f":"IF(入力表・参加種目確認!J45=0,\"\",入力表・参加種目確認!J45)","v":""},{"$f":"IF(入力表・参加種目確認!N45=0,\"\",入力表・参加種目確認!N45)","v":""},{"$f":"RIGHT(入力表・参加種目確認!AA45,2)","v":""},{"$f":"IF(入力表・参加種目確認!U45=0,\"\",ASC(入力表・参加種目確認!U45))","v":""},{"$f":"IF(B33=\"\",\"\",入力表・参加種目確認!$N$8)","v":""},{"$f":"IF(B33=\"\",\"\",入力表・参加種目確認!$L$4)","v":""},{"$f":"IF(B33=\"\",\"\",入力表・参加種目確認!AE45)","v":""},{"$f":"IF(入力表・参加種目確認!AH45=\"\",\"\",入力表・参加種目確認!$E$4&'貼付（事務局）'!B33&\"子\"&入力表・参加種目確認!AH45)","v":""},"",{"$f":"IF(入力表・参加種目確認!AV45=\"\",\"\",入力表・参加種目確認!$E$4&'貼付（事務局）'!B33&\"子\"&入力表・参加種目確認!AV45)","v":""},"",{"$f":"IF(入力表・参加種目確認!BJ45=\"\",\"\",入力表・参加種目確認!$E$4&'貼付（事務局）'!B33&\"子\"&入力表・参加種目確認!BJ45)","v":""},"",{"$f":"IF(入力表・参加種目確認!BX45=\"\",\"\",VLOOKUP(入力表・参加種目確認!$E$4,$BP$2:$BQ$5,2,FALSE)&入力表・参加種目確認!H45&\"子\"&\"4X100mR\")","v":""},{"$f":"IF(P33=\"\",\"\",H33&P33&入力表・参加種目確認!BX45)","v":""},"",{"$f":"IF(入力表・参加種目確認!CA45=\"\",\"\",VLOOKUP(入力表・参加種目確認!$E$4,$BP$7:$BQ$10,2,FALSE)&入力表・参加種目確認!H45&\"子\"&\"4X400mR\")","v":""},{"$f":"IF(S33=\"\",\"\",H33&S33&入力表・参加種目確認!CA45)","v":""},"",null,null,null,null,null,null,null,null,null,null,null,null,null,null,null,{"$f":"IF(入力表・参加種目確認!AN45=\"\",\"\",入力表・参加種目確認!AN45)","v":""},{"$f":"IF(入力表・参加種目確認!AO45=\"\",\"\",入力表・参加種目確認!AO45)","v":""},{"$f":"IF(ISERROR(VLOOKUP(IF(AL33=\"\",\"\",入力表・参加種目確認!AP45),$BJ$2:$BK$5,2,FALSE)),\"\",VLOOKUP(IF(AL33=\"\",\"\",入力表・参加種目確認!AS45),$BJ$2:$BK$5,2,FALSE))","v":""},{"$f":"IF(入力表・参加種目確認!AQ45=\"\",\"\",入力表・参加種目確認!AQ45)","v":""},{"$f":"IF(入力表・参加種目確認!AR45=\"\",\"\",入力表・参加種目確認!AR45)","v":""},{"$f":"IF(ISERROR(VLOOKUP(入力表・参加種目確認!AS45,$BJ$2:$BK$5,2,FALSE)),\"\",VLOOKUP(入力表・参加種目確認!AS45,$BJ$2:$BK$5,2,FALSE))","v":""},{"$f":"IF(入力表・参加種目確認!AT45=\"\",\"\",入力表・参加種目確認!AT45)","v":""},{"$f":"IF(入力表・参加種目確認!AU45=\"\",\"\",入力表・参加種目確認!AU45)","v":""},{"$f":"IF(入力表・参加種目確認!BB45=\"\",\"\",入力表・参加種目確認!BB45)","v":""},{"$f":"IF(入力表・参加種目確認!BC45=\"\",\"\",入力表・参加種目確認!BC45)","v":""},{"$f":"IF(ISERROR(VLOOKUP(IF(AT33=\"\",\"\",入力表・参加種目確認!BD45),$BJ$2:$BK$5,2,FALSE)),\"\",VLOOKUP(IF(AT33=\"\",\"\",入力表・参加種目確認!BD45),$BJ$2:$BK$5,2,FALSE))","v":""},{"$f":"IF(入力表・参加種目確認!BE45=\"\",\"\",入力表・参加種目確認!BE45)","v":""},{"$f":"IF(入力表・参加種目確認!BF45=\"\",\"\",入力表・参加種目確認!BF45)","v":""},{"$f":"IF(ISERROR(VLOOKUP(入力表・参加種目確認!BG45,$BJ$2:$BK$5,2,FALSE)),\"\",VLOOKUP(入力表・参加種目確認!BG45,$BJ$2:$BK$5,2,FALSE))","v":""},{"$f":"IF(入力表・参加種目確認!BH45=\"\",\"\",入力表・参加種目確認!BH45)","v":""},{"$f":"IF(入力表・参加種目確認!BI45=\"\",\"\",入力表・参加種目確認!BI45)","v":""},{"$f":"IF(入力表・参加種目確認!BP45=\"\",\"\",入力表・参加種目確認!BP45)","v":""},{"$f":"IF(入力表・参加種目確認!BQ45=\"\",\"\",入力表・参加種目確認!BQ45)","v":""},{"$f":"IF(ISERROR(VLOOKUP(IF(BB33=\"\",\"\",入力表・参加種目確認!BR45),$BJ$2:$BK$5,2,FALSE)),\"\",VLOOKUP(IF(BB33=\"\",\"\",入力表・参加種目確認!BR45),$BJ$2:$BK$5,2,FALSE))","v":""},{"$f":"IF(入力表・参加種目確認!BS45=\"\",\"\",入力表・参加種目確認!BS45)","v":""},{"$f":"IF(入力表・参加種目確認!BT45=\"\",\"\",入力表・参加種目確認!BT45)","v":""},{"$f":"IF(ISERROR(VLOOKUP(入力表・参加種目確認!BU45,$BJ$2:$BK$5,2,FALSE)),\"\",VLOOKUP(入力表・参加種目確認!BU45,$BJ$2:$BK$5,2,FALSE))","v":""},{"$f":"IF(入力表・参加種目確認!BV45=\"\",\"\",入力表・参加種目確認!BV45)","v":""},{"$f":"IF(入力表・参加種目確認!BW45=\"\",\"\",入力表・参加種目確認!BW45)","v":""}]
[33,{"$f":"IF(入力表・参加種目確認!H46=0,\"\",入力表・参加種目確認!H46)","v":""},{"$f":"IF(入力表・参加種目確認!J46=0,\"\",入力表・参加種目確認!J46)","v":""},{"$f":"IF(入力表・参加種目確認!N46=0,\"\",入力表・参加種目確認!N46)","v":""},{"$f":"RIGHT(入力表・参加種目確認!AA46,2)","v":""},{"$f":"IF(入力表・参加種目確認!U46=0,\"\",ASC(入力表・参加種目確認!U46))","v":""},{"$f":"IF(B34=\"\",\"\",入力表・参加種目確認!$N$8)","v":""},{"$f":"IF(B34=\"\",\"\",入力表・参加種目確認!$L$4)","v":""},{"$f":"IF(B34=\"\",\"\",入力表・参加種目確認!AE46)","v":""},{"$f":"IF(入力表・参加種目確認!AH46=\"\",\"\",入力表・参加種目確認!$E$4&'貼付（事務局）'!B34&\"子\"&入力表・参加種目確認!AH46)","v":""},"",{"$f":"IF(入力表・参加種目確認!AV46=\"\",\"\",入力表・参加種目確認!$E$4&'貼付（事務局）'!B34&\"子\"&入力表・参加種目確認!AV46)","v":""},"",{"$f":"IF(入力表・参加種目確認!BJ46=\"\",\"\",入力表・参加種目確認!$E$4&'貼付（事務局）'!B34&\"子\"&入力表・参加種目確認!BJ46)","v":""},"",{"$f":"IF(入力表・参加種目確認!BX46=\"\",\"\",VLOOKUP(入力表・参加種目確認!$E$4,$BP$2:$BQ$5,2,FALSE)&入力表・参加種目確認!H46&\"子\"&\"4X100mR\")","v":""},{"$f":"IF(P34=\"\",\"\",H34&P34&入力表・参加種目確認!BX46)","v":""},"",{"$f":"IF(入力表・参加種目確認!CA46=\"\",\"\",VLOOKUP(入力表・参加種目確認!$E$4,$BP$7:$BQ$10,2,FALSE)&入力表・参加種目確認!H46&\"子\"&\"4X400mR\")","v":""},{"$f":"IF(S34=\"\",\"\",H34&S34&入力表・参加種目確認!CA46)","v":""},"",null,null,null,null,null,null,null,null,null,null,null,null,null,null,null,{"$f":"IF(入力表・参加種目確認!AN46=\"\",\"\",入力表・参加種目確認!AN46)","v":""},{"$f":"IF(入力表・参加種目確認!AO46=\"\",\"\",入力表・参加種目確認!AO46)","v":""},{"$f":"IF(ISERROR(VLOOKUP(IF(AL34=\"\",\"\",入力表・参加種目確認!AP46),$BJ$2:$BK$5,2,FALSE)),\"\",VLOOKUP(IF(AL34=\"\",\"\",入力表・参加種目確認!AS46),$BJ$2:$BK$5,2,FALSE))","v":""},{"$f":"IF(入力表・参加種目確認!AQ46=\"\",\"\",入力表・参加種目確認!AQ46)","v":""},{"$f":"IF(入力表・参加種目確認!AR46=\"\",\"\",入力表・参加種目確認!AR46)","v":""},{"$f":"IF(ISERROR(VLOOKUP(入力表・参加種目確認!AS46,$BJ$2:$BK$5,2,FALSE)),\"\",VLOOKUP(入力表・参加種目確認!AS46,$BJ$2:$BK$5,2,FALSE))","v":""},{"$f":"IF(入力表・参加種目確認!AT46=\"\",\"\",入力表・参加種目確認!AT46)","v":""},{"$f":"IF(入力表・参加種目確認!AU46=\"\",\"\",入力表・参加種目確認!AU46)","v":""},{"$f":"IF(入力表・参加種目確認!BB46=\"\",\"\",入力表・参加種目確認!BB46)","v":""},{"$f":"IF(入力表・参加種目確認!BC46=\"\",\"\",入力表・参加種目確認!BC46)","v":""},{"$f":"IF(ISERROR(VLOOKUP(IF(AT34=\"\",\"\",入力表・参加種目確認!BD46),$BJ$2:$BK$5,2,FALSE)),\"\",VLOOKUP(IF(AT34=\"\",\"\",入力表・参加種目確認!BD46),$BJ$2:$BK$5,2,FALSE))","v":""},{"$f":"IF(入力表・参加種目確認!BE46=\"\",\"\",入力表・参加種目確認!BE46)","v":""},{"$f":"IF(入力表・参加種目確認!BF46=\"\",\"\",入力表・参加種目確認!BF46)","v":""},{"$f":"IF(ISERROR(VLOOKUP(入力表・参加種目確認!BG46,$BJ$2:$BK$5,2,FALSE)),\"\",VLOOKUP(入力表・参加種目確認!BG46,$BJ$2:$BK$5,2,FALSE))","v":""},{"$f":"IF(入力表・参加種目確認!BH46=\"\",\"\",入力表・参加種目確認!BH46)","v":""},{"$f":"IF(入力表・参加種目確認!BI46=\"\",\"\",入力表・参加種目確認!BI46)","v":""},{"$f":"IF(入力表・参加種目確認!BP46=\"\",\"\",入力表・参加種目確認!BP46)","v":""},{"$f":"IF(入力表・参加種目確認!BQ46=\"\",\"\",入力表・参加種目確認!BQ46)","v":""},{"$f":"IF(ISERROR(VLOOKUP(IF(BB34=\"\",\"\",入力表・参加種目確認!BR46),$BJ$2:$BK$5,2,FALSE)),\"\",VLOOKUP(IF(BB34=\"\",\"\",入力表・参加種目確認!BR46),$BJ$2:$BK$5,2,FALSE))","v":""},{"$f":"IF(入力表・参加種目確認!BS46=\"\",\"\",入力表・参加種目確認!BS46)","v":""},{"$f":"IF(入力表・参加種目確認!BT46=\"\",\"\",入力表・参加種目確認!BT46)","v":""},{"$f":"IF(ISERROR(VLOOKUP(入力表・参加種目確認!BU46,$BJ$2:$BK$5,2,FALSE)),\"\",VLOOKUP(入力表・参加種目確認!BU46,$BJ$2:$BK$5,2,FALSE))","v":""},{"$f":"IF(入力表・参加種目確認!BV46=\"\",\"\",入力表・参加種目確認!BV46)","v":""},{"$f":"IF(入力表・参加種目確認!BW46=\"\",\"\",入力表・参加種目確認!BW46)","v":""}]
[34,{"$f":"IF(入力表・参加種目確認!H47=0,\"\",入力表・参加種目確認!H47)","v":""},{"$f":"IF(入力表・参加種目確認!J47=0,\"\",入力表・参加種目確認!J47)","v":""},{"$f":"IF(入力表・参加種目確認!N47=0,\"\",入力表・参加種目確認!N47)","v":""},{"$f":"RIGHT(入力表・参加種目確認!AA47,2)","v":""},{"$f":"IF(入力表・参加種目確認!U47=0,\"\",ASC(入力表・参加種目確認!U47))","v":""},{"$f":"IF(B35=\"\",\"\",入力表・参加種目確認!$N$8)","v":""},{"$f":"IF(B35=\"\",\"\",入力表・参加種目確認!$L$4)","v":""},{"$f":"IF(B35=\"\",\"\",入力表・参加種目確認!AE47)","v":""},{"$f":"IF(入力表・参加種目確認!AH47=\"\",\"\",入力表・参加種目確認!$E$4&'貼付（事務局）'!B35&\"子\"&入力表・参加種目確認!AH47)","v":""},"",{"$f":"IF(入力表・参加種目確認!AV47=\"\",\"\",入力表・参加種目確認!$E$4&'貼付（事務局）'!B35&\"子\"&入力表・参加種目確認!AV47)","v":""},"",{"$f":"IF(入力表・参加種目確認!BJ47=\"\",\"\",入力表・参加種目確認!$E$4&'貼付（事務局）'!B35&\"子\"&入力表・参加種目確認!BJ47)","v":""},"",{"$f":"IF(入力表・参加種目確認!BX47=\"\",\"\",VLOOKUP(入力表・参加種目確認!$E$4,$BP$2:$BQ$5,2,FALSE)&入力表・参加種目確認!H47&\"子\"&\"4X100mR\")","v":""},{"$f":"IF(P35=\"\",\"\",H35&P35&入力表・参加種目確認!BX47)","v":""},"",{"$f":"IF(入力表・参加種目確認!CA47=\"\",\"\",VLOOKUP(入力表・参加種目確認!$E$4,$BP$7:$BQ$10,2,FALSE)&入力表・参加種目確認!H47&\"子\"&\"4X400mR\")","v":""},{"$f":"IF(S35=\"\",\"\",H35&S35&入力表・参加種目確認!CA47)","v":""},"",null,null,null,null,null,null,null,null,null,null,null,null,null,null,null,{"$f":"IF(入力表・参加種目確認!AN47=\"\",\"\",入力表・参加種目確認!AN47)","v":""},{"$f":"IF(入力表・参加種目確認!AO47=\"\",\"\",入力表・参加種目確認!AO47)","v":""},{"$f":"IF(ISERROR(VLOOKUP(IF(AL35=\"\",\"\",入力表・参加種目確認!AP47),$BJ$2:$BK$5,2,FALSE)),\"\",VLOOKUP(IF(AL35=\"\",\"\",入力表・参加種目確認!AS47),$BJ$2:$BK$5,2,FALSE))","v":""},{"$f":"IF(入力表・参加種目確認!AQ47=\"\",\"\",入力表・参加種目確認!AQ47)","v":""},{"$f":"IF(入力表・参加種目確認!AR47=\"\",\"\",入力表・参加種目確認!AR47)","v":""},{"$f":"IF(ISERROR(VLOOKUP(入力表・参加種目確認!AS47,$BJ$2:$BK$5,2,FALSE)),\"\",VLOOKUP(入力表・参加種目確認!AS47,$BJ$2:$BK$5,2,FALSE))","v":""},{"$f":"IF(入力表・参加種目確認!AT47=\"\",\"\",入力表・参加種目確認!AT47)","v":""},{"$f":"IF(入力表・参加種目確認!AU47=\"\",\"\",入力表・参加種目確認!AU47)","v":""},{"$f":"IF(入力表・参加種目確認!BB47=\"\",\"\",入力表・参加種目確認!BB47)","v":""},{"$f":"IF(入力表・参加種目確認!BC47=\"\",\"\",入力表・参加種目確認!BC47)","v":""},{"$f":"IF(ISERROR(VLOOKUP(IF(AT35=\"\",\"\",入力表・参加種目確認!BD47),$BJ$2:$BK$5,2,FALSE)),\"\",VLOOKUP(IF(AT35=\"\",\"\",入力表・参加種目確認!BD47),$BJ$2:$BK$5,2,FALSE))","v":""},{"$f":"IF(入力表・参加種目確認!BE47=\"\",\"\",入力表・参加種目確認!BE47)","v":""},{"$f":"IF(入力表・参加種目確認!BF47=\"\",\"\",入力表・参加種目確認!BF47)","v":""},{"$f":"IF(ISERROR(VLOOKUP(入力表・参加種目確認!BG47,$BJ$2:$BK$5,2,FALSE)),\"\",VLOOKUP(入力表・参加種目確認!BG47,$BJ$2:$BK$5,2,FALSE))","v":""},{"$f":"IF(入力表・参加種目確認!BH47=\"\",\"\",入力表・参加種目確認!BH47)","v":""},{"$f":"IF(入力表・参加種目確認!BI47=\"\",\"\",入力表・参加種目確認!BI47)","v":""},{"$f":"IF(入力表・参加種目確認!BP47=\"\",\"\",入力表・参加種目確認!BP47)","v":""},{"$f":"IF(入力表・参加種目確認!BQ47=\"\",\"\",入力表・参加種目確認!BQ47)","v":""},{"$f":"IF(ISERROR(VLOOKUP(IF(BB35=\"\",\"\",入力表・参加種目確認!BR47),$BJ$2:$BK$5,2,FALSE)),\"\",VLOOKUP(IF(BB35=\"\",\"\",入力表・参加種目確認!BR47),$BJ$2:$BK$5,2,FALSE))","v":""},{"$f":"IF(入力表・参加種目確認!BS47=\"\",\"\",入力表・参加種目確認!BS47)","v":""},{"$f":"IF(入力表・参加種目確認!BT47=\"\",\"\",入力表・参加種目確認!BT47)","v":""},{"$f":"IF(ISERROR(VLOOKUP(入力表・参加種目確認!BU47,$BJ$2:$BK$5,2,FALSE)),\"\",VLOOKUP(入力表・参加種目確認!BU47,$BJ$2:$BK$5,2,FALSE))","v":""},{"$f":"IF(入力表・参加種目確認!BV47=\"\",\"\",入力表・参加種目確認!BV47)","v":""},{"$f":"IF(入力表・参加種目確認!BW47=\"\",\"\",入力表・参加種目確認!BW47)","v":""}]
[35,{"$f":"IF(入力表・参加種目確認!H48=0,\"\",入力表・参加種目確認!H48)","v":""},{"$f":"IF(入力表・参加種目確認!J48=0,\"\",入力表・参加種目確認!J48)","v":""},{"$f":"IF(入力表・参加種目確認!N48=0,\"\",入力表・参加種目確認!N48)","v":""},{"$f":"RIGHT(入力表・参加種目確認!AA48,2)","v":""},{"$f":"IF(入力表・参加種目確認!U48=0,\"\",ASC(入力表・参加種目確認!U48))","v":""},{"$f":"IF(B36=\"\",\"\",入力表・参加種目確認!$N$8)","v":""},{"$f":"IF(B36=\"\",\"\",入力表・参加種目確認!$L$4)","v":""},{"$f":"IF(B36=\"\",\"\",入力表・参加種目確認!AE48)","v":""},{"$f":"IF(入力表・参加種目確認!AH48=\"\",\"\",入力表・参加種目確認!$E$4&'貼付（事務局）'!B36&\"子\"&入力表・参加種目確認!AH48)","v":""},"",{"$f":"IF(入力表・参加種目確認!AV48=\"\",\"\",入力表・参加種目確認!$E$4&'貼付（事務局）'!B36&\"子\"&入力表・参加種目確認!AV48)","v":""},"",{"$f":"IF(入力表・参加種目確認!BJ48=\"\",\"\",入力表・参加種目確認!$E$4&'貼付（事務局）'!B36&\"子\"&入力表・参加種目確認!BJ48)","v":""},"",{"$f":"IF(入力表・参加種目確認!BX48=\"\",\"\",VLOOKUP(入力表・参加種目確認!$E$4,$BP$2:$BQ$5,2,FALSE)&入力表・参加種目確認!H48&\"子\"&\"4X100mR\")","v":""},{"$f":"IF(P36=\"\",\"\",H36&P36&入力表・参加種目確認!BX48)","v":""},"",{"$f":"IF(入力表・参加種目確認!CA48=\"\",\"\",VLOOKUP(入力表・参加種目確認!$E$4,$BP$7:$BQ$10,2,FALSE)&入力表・参加種目確認!H48&\"子\"&\"4X400mR\")","v":""},{"$f":"IF(S36=\"\",\"\",H36&S36&入力表・参加種目確認!CA48)","v":""},"",null,null,null,null,null,null,null,null,null,null,null,null,null,null,null,{"$f":"IF(入力表・参加種目確認!AN48=\"\",\"\",入力表・参加種目確認!AN48)","v":""},{"$f":"IF(入力表・参加種目確認!AO48=\"\",\"\",入力表・参加種目確認!AO48)","v":""},{"$f":"IF(ISERROR(VLOOKUP(IF(AL36=\"\",\"\",入力表・参加種目確認!AP48),$BJ$2:$BK$5,2,FALSE)),\"\",VLOOKUP(IF(AL36=\"\",\"\",入力表・参加種目確認!AS48),$BJ$2:$BK$5,2,FALSE))","v":""},{"$f":"IF(入力表・参加種目確認!AQ48=\"\",\"\",入力表・参加種目確認!AQ48)","v":""},{"$f":"IF(入力表・参加種目確認!AR48=\"\",\"\",入力表・参加種目確認!AR48)","v":""},{"$f":"IF(ISERROR(VLOOKUP(入力表・参加種目確認!AS48,$BJ$2:$BK$5,2,FALSE)),\"\",VLOOKUP(入力表・参加種目確認!AS48,$BJ$2:$BK$5,2,FALSE))","v":""},{"$f":"IF(入力表・参加種目確認!AT48=\"\",\"\",入力表・参加種目確認!AT48)","v":""},{"$f":"IF(入力表・参加種目確認!AU48=\"\",\"\",入力表・参加種目確認!AU48)","v":""},{"$f":"IF(入力表・参加種目確認!BB48=\"\",\"\",入力表・参加種目確認!BB48)","v":""},{"$f":"IF(入力表・参加種目確認!BC48=\"\",\"\",入力表・参加種目確認!BC48)","v":""},{"$f":"IF(ISERROR(VLOOKUP(IF(AT36=\"\",\"\",入力表・参加種目確認!BD48),$BJ$2:$BK$5,2,FALSE)),\"\",VLOOKUP(IF(AT36=\"\",\"\",入力表・参加種目確認!BD48),$BJ$2:$BK$5,2,FALSE))","v":""},{"$f":"IF(入力表・参加種目確認!BE48=\"\",\"\",入力表・参加種目確認!BE48)","v":""},{"$f":"IF(入力表・参加種目確認!BF48=\"\",\"\",入力表・参加種目確認!BF48)","v":""},{"$f":"IF(ISERROR(VLOOKUP(入力表・参加種目確認!BG48,$BJ$2:$BK$5,2,FALSE)),\"\",VLOOKUP(入力表・参加種目確認!BG48,$BJ$2:$BK$5,2,FALSE))","v":""},{"$f":"IF(入力表・参加種目確認!BH48=\"\",\"\",入力表・参加種目確認!BH48)","v":""},{"$f":"IF(入力表・参加種目確認!BI48=\"\",\"\",入力表・参加種目確認!BI48)","v":""},{"$f":"IF(入力表・参加種目確認!BP48=\"\",\"\",入力表・参加種目確認!BP48)","v":""},{"$f":"IF(入力表・参加種目確認!BQ48=\"\",\"\",入力表・参加種目確認!BQ48)","v":""},{"$f":"IF(ISERROR(VLOOKUP(IF(BB36=\"\",\"\",入力表・参加種目確認!BR48),$BJ$2:$BK$5,2,FALSE)),\"\",VLOOKUP(IF(BB36=\"\",\"\",入力表・参加種目確認!BR48),$BJ$2:$BK$5,2,FALSE))","v":""},{"$f":"IF(入力表・参加種目確認!BS48=\"\",\"\",入力表・参加種目確認!BS48)","v":""},{"$f":"IF(入力表・参加種目確認!BT48=\"\",\"\",入力表・参加種目確認!BT48)","v":""},{"$f":"IF(ISERROR(VLOOKUP(入力表・参加種目確認!BU48,$BJ$2:$BK$5,2,FALSE)),\"\",VLOOKUP(入力表・参加種目確認!BU48,$BJ$2:$BK$5,2,FALSE))","v":""},{"$f":"IF(入力表・参加種目確認!BV48=\"\",\"\",入力表・参加種目確認!BV48)","v":""},{"$f":"IF(入力表・参加種目確認!BW48=\"\",\"\",入力表・参加種目確認!BW48)","v":""}]
[36,{"$f":"IF(入力表・参加種目確認!H49=0,\"\",入力表・参加種目確認!H49)","v":""},{"$f":"IF(入力表・参加種目確認!J49=0,\"\",入力表・参加種目確認!J49)","v":""},{"$f":"IF(入力表・参加種目確認!N49=0,\"\",入力表・参加種目確認!N49)","v":""},{"$f":"RIGHT(入力表・参加種目確認!AA49,2)","v":""},{"$f":"IF(入力表・参加種目確認!U49=0,\"\",ASC(入力表・参加種目確認!U49))","v":""},{"$f":"IF(B37=\"\",\"\",入力表・参加種目確認!$N$8)","v":""},{"$f":"IF(B37=\"\",\"\",入力表・参加種目確認!$L$4)","v":""},{"$f":"IF(B37=\"\",\"\",入力表・参加種目確認!AE49)","v":""},{"$f":"IF(入力表・参加種目確認!AH49=\"\",\"\",入力表・参加種目確認!$E$4&'貼付（事務局）'!B37&\"子\"&入力表・参加種目確認!AH49)","v":""},"",{"$f":"IF(入力表・参加種目確認!AV49=\"\",\"\",入力表・参加種目確認!$E$4&'貼付（事務局）'!B37&\"子\"&入力表・参加種目確認!AV49)","v":""},"",{"$f":"IF(入力表・参加種目確認!BJ49=\"\",\"\",入力表・参加種目確認!$E$4&'貼付（事務局）'!B37&\"子\"&入力表・参加種目確認!BJ49)","v":""},"",{"$f":"IF(入力表・参加種目確認!BX49=\"\",\"\",VLOOKUP(入力表・参加種目確認!$E$4,$BP$2:$BQ$5,2,FALSE)&入力表・参加種目確認!H49&\"子\"&\"4X100mR\")","v":""},{"$f":"IF(P37=\"\",\"\",H37&P37&入力表・参加種目確認!BX49)","v":""},"",{"$f":"IF(入力表・参加種目確認!CA49=\"\",\"\",VLOOKUP(入力表・参加種目確認!$E$4,$BP$7:$BQ$10,2,FALSE)&入力表・参加種目確認!H49&\"子\"&\"4X400mR\")","v":""},{"$f":"IF(S37=\"\",\"\",H37&S37&入力表・参加種目確認!CA49)","v":""},"",null,null,null,null,null,null,null,null,null,null,null,null,null,null,null,{"$f":"IF(入力表・参加種目確認!AN49=\"\",\"\",入力表・参加種目確認!AN49)","v":""},{"$f":"IF(入力表・参加種目確認!AO49=\"\",\"\",入力表・参加種目確認!AO49)","v":""},{"$f":"IF(ISERROR(VLOOKUP(IF(AL37=\"\",\"\",入力表・参加種目確認!AP49),$BJ$2:$BK$5,2,FALSE)),\"\",VLOOKUP(IF(AL37=\"\",\"\",入力表・参加種目確認!AS49),$BJ$2:$BK$5,2,FALSE))","v":""},{"$f":"IF(入力表・参加種目確認!AQ49=\"\",\"\",入力表・参加種目確認!AQ49)","v":""},{"$f":"IF(入力表・参加種目確認!AR49=\"\",\"\",入力表・参加種目確認!AR49)","v":""},{"$f":"IF(ISERROR(VLOOKUP(入力表・参加種目確認!AS49,$BJ$2:$BK$5,2,FALSE)),\"\",VLOOKUP(入力表・参加種目確認!AS49,$BJ$2:$BK$5,2,FALSE))","v":""},{"$f":"IF(入力表・参加種目確認!AT49=\"\",\"\",入力表・参加種目確認!AT49)","v":""},{"$f":"IF(入力表・参加種目確認!AU49=\"\",\"\",入力表・参加種目確認!AU49)","v":""},{"$f":"IF(入力表・参加種目確認!BB49=\"\",\"\",入力表・参加種目確認!BB49)","v":""},{"$f":"IF(入力表・参加種目確認!BC49=\"\",\"\",入力表・参加種目確認!BC49)","v":""},{"$f":"IF(ISERROR(VLOOKUP(IF(AT37=\"\",\"\",入力表・参加種目確認!BD49),$BJ$2:$BK$5,2,FALSE)),\"\",VLOOKUP(IF(AT37=\"\",\"\",入力表・参加種目確認!BD49),$BJ$2:$BK$5,2,FALSE))","v":""},{"$f":"IF(入力表・参加種目確認!BE49=\"\",\"\",入力表・参加種目確認!BE49)","v":""},{"$f":"IF(入力表・参加種目確認!BF49=\"\",\"\",入力表・参加種目確認!BF49)","v":""},{"$f":"IF(ISERROR(VLOOKUP(入力表・参加種目確認!BG49,$BJ$2:$BK$5,2,FALSE)),\"\",VLOOKUP(入力表・参加種目確認!BG49,$BJ$2:$BK$5,2,FALSE))","v":""},{"$f":"IF(入力表・参加種目確認!BH49=\"\",\"\",入力表・参加種目確認!BH49)","v":""},{"$f":"IF(入力表・参加種目確認!BI49=\"\",\"\",入力表・参加種目確認!BI49)","v":""},{"$f":"IF(入力表・参加種目確認!BP49=\"\",\"\",入力表・参加種目確認!BP49)","v":""},{"$f":"IF(入力表・参加種目確認!BQ49=\"\",\"\",入力表・参加種目確認!BQ49)","v":""},{"$f":"IF(ISERROR(VLOOKUP(IF(BB37=\"\",\"\",入力表・参加種目確認!BR49),$BJ$2:$BK$5,2,FALSE)),\"\",VLOOKUP(IF(BB37=\"\",\"\",入力表・参加種目確認!BR49),$BJ$2:$BK$5,2,FALSE))","v":""},{"$f":"IF(入力表・参加種目確認!BS49=\"\",\"\",入力表・参加種目確認!BS49)","v":""},{"$f":"IF(入力表・参加種目確認!BT49=\"\",\"\",入力表・参加種目確認!BT49)","v":""},{"$f":"IF(ISERROR(VLOOKUP(入力表・参加種目確認!BU49,$BJ$2:$BK$5,2,FALSE)),\"\",VLOOKUP(入力表・参加種目確認!BU49,$BJ$2:$BK$5,2,FALSE))","v":""},{"$f":"IF(入力表・参加種目確認!BV49=\"\",\"\",入力表・参加種目確認!BV49)","v":""},{"$f":"IF(入力表・参加種目確認!BW49=\"\",\"\",入力表・参加種目確認!BW49)","v":""}]
[37,{"$f":"IF(入力表・参加種目確認!H50=0,\"\",入力表・参加種目確認!H50)","v":""},{"$f":"IF(入力表・参加種目確認!J50=0,\"\",入力表・参加種目確認!J50)","v":""},{"$f":"IF(入力表・参加種目確認!N50=0,\"\",入力表・参加種目確認!N50)","v":""},{"$f":"RIGHT(入力表・参加種目確認!AA50,2)","v":""},{"$f":"IF(入力表・参加種目確認!U50=0,\"\",ASC(入力表・参加種目確認!U50))","v":""},{"$f":"IF(B38=\"\",\"\",入力表・参加種目確認!$N$8)","v":""},{"$f":"IF(B38=\"\",\"\",入力表・参加種目確認!$L$4)","v":""},{"$f":"IF(B38=\"\",\"\",入力表・参加種目確認!AE50)","v":""},{"$f":"IF(入力表・参加種目確認!AH50=\"\",\"\",入力表・参加種目確認!$E$4&'貼付（事務局）'!B38&\"子\"&入力表・参加種目確認!AH50)","v":""},"",{"$f":"IF(入力表・参加種目確認!AV50=\"\",\"\",入力表・参加種目確認!$E$4&'貼付（事務局）'!B38&\"子\"&入力表・参加種目確認!AV50)","v":""},"",{"$f":"IF(入力表・参加種目確認!BJ50=\"\",\"\",入力表・参加種目確認!$E$4&'貼付（事務局）'!B38&\"子\"&入力表・参加種目確認!BJ50)","v":""},"",{"$f":"IF(入力表・参加種目確認!BX50=\"\",\"\",VLOOKUP(入力表・参加種目確認!$E$4,$BP$2:$BQ$5,2,FALSE)&入力表・参加種目確認!H50&\"子\"&\"4X100mR\")","v":""},{"$f":"IF(P38=\"\",\"\",H38&P38&入力表・参加種目確認!BX50)","v":""},"",{"$f":"IF(入力表・参加種目確認!CA50=\"\",\"\",VLOOKUP(入力表・参加種目確認!$E$4,$BP$7:$BQ$10,2,FALSE)&入力表・参加種目確認!H50&\"子\"&\"4X400mR\")","v":""},{"$f":"IF(S38=\"\",\"\",H38&S38&入力表・参加種目確認!CA50)","v":""},"",null,null,null,null,null,null,null,null,null,null,null,null,null,null,null,{"$f":"IF(入力表・参加種目確認!AN50=\"\",\"\",入力表・参加種目確認!AN50)","v":""},{"$f":"IF(入力表・参加種目確認!AO50=\"\",\"\",入力表・参加種目確認!AO50)","v":""},{"$f":"IF(ISERROR(VLOOKUP(IF(AL38=\"\",\"\",入力表・参加種目確認!AP50),$BJ$2:$BK$5,2,FALSE)),\"\",VLOOKUP(IF(AL38=\"\",\"\",入力表・参加種目確認!AS50),$BJ$2:$BK$5,2,FALSE))","v":""},{"$f":"IF(入力表・参加種目確認!AQ50=\"\",\"\",入力表・参加種目確認!AQ50)","v":""},{"$f":"IF(入力表・参加種目確認!AR50=\"\",\"\",入力表・参加種目確認!AR50)","v":""},{"$f":"IF(ISERROR(VLOOKUP(入力表・参加種目確認!AS50,$BJ$2:$BK$5,2,FALSE)),\"\",VLOOKUP(入力表・参加種目確認!AS50,$BJ$2:$BK$5,2,FALSE))","v":""},{"$f":"IF(入力表・参加種目確認!AT50=\"\",\"\",入力表・参加種目確認!AT50)","v":""},{"$f":"IF(入力表・参加種目確認!AU50=\"\",\"\",入力表・参加種目確認!AU50)","v":""},{"$f":"IF(入力表・参加種目確認!BB50=\"\",\"\",入力表・参加種目確認!BB50)","v":""},{"$f":"IF(入力表・参加種目確認!BC50=\"\",\"\",入力表・参加種目確認!BC50)","v":""},{"$f":"IF(ISERROR(VLOOKUP(IF(AT38=\"\",\"\",入力表・参加種目確認!BD50),$BJ$2:$BK$5,2,FALSE)),\"\",VLOOKUP(IF(AT38=\"\",\"\",入力表・参加種目確認!BD50),$BJ$2:$BK$5,2,FALSE))","v":""},{"$f":"IF(入力表・参加種目確認!BE50=\"\",\"\",入力表・参加種目確認!BE50)","v":""},{"$f":"IF(入力表・参加種目確認!BF50=\"\",\"\",入力表・参加種目確認!BF50)","v":""},{"$f":"IF(ISERROR(VLOOKUP(入力表・参加種目確認!BG50,$BJ$2:$BK$5,2,FALSE)),\"\",VLOOKUP(入力表・参加種目確認!BG50,$BJ$2:$BK$5,2,FALSE))","v":""},{"$f":"IF(入力表・参加種目確認!BH50=\"\",\"\",入力表・参加種目確認!BH50)","v":""},{"$f":"IF(入力表・参加種目確認!BI50=\"\",\"\",入力表・参加種目確認!BI50)","v":""},{"$f":"IF(入力表・参加種目確認!BP50=\"\",\"\",入力表・参加種目確認!BP50)","v":""},{"$f":"IF(入力表・参加種目確認!BQ50=\"\",\"\",入力表・参加種目確認!BQ50)","v":""},{"$f":"IF(ISERROR(VLOOKUP(IF(BB38=\"\",\"\",入力表・参加種目確認!BR50),$BJ$2:$BK$5,2,FALSE)),\"\",VLOOKUP(IF(BB38=\"\",\"\",入力表・参加種目確認!BR50),$BJ$2:$BK$5,2,FALSE))","v":""},{"$f":"IF(入力表・参加種目確認!BS50=\"\",\"\",入力表・参加種目確認!BS50)","v":""},{"$f":"IF(入力表・参加種目確認!BT50=\"\",\"\",入力表・参加種目確認!BT50)","v":""},{"$f":"IF(ISERROR(VLOOKUP(入力表・参加種目確認!BU50,$BJ$2:$BK$5,2,FALSE)),\"\",VLOOKUP(入力表・参加種目確認!BU50,$BJ$2:$BK$5,2,FALSE))","v":""},{"$f":"IF(入力表・参加種目確認!BV50=\"\",\"\",入力表・参加種目確認!BV50)","v":""},{"$f":"IF(入力表・参加種目確認!BW50=\"\",\"\",入力表・参加種目確認!BW50)","v":""}]
[38,{"$f":"IF(入力表・参加種目確認!H51=0,\"\",入力表・参加種目確認!H51)","v":""},{"$f":"IF(入力表・参加種目確認!J51=0,\"\",入力表・参加種目確認!J51)","v":""},{"$f":"IF(入力表・参加種目確認!N51=0,\"\",入力表・参加種目確認!N51)","v":""},{"$f":"RIGHT(入力表・参加種目確認!AA51,2)","v":""},{"$f":"IF(入力表・参加種目確認!U51=0,\"\",ASC(入力表・参加種目確認!U51))","v":""},{"$f":"IF(B39=\"\",\"\",入力表・参加種目確認!$N$8)","v":""},{"$f":"IF(B39=\"\",\"\",入力表・参加種目確認!$L$4)","v":""},{"$f":"IF(B39=\"\",\"\",入力表・参加種目確認!AE51)","v":""},{"$f":"IF(入力表・参加種目確認!AH51=\"\",\"\",入力表・参加種目確認!$E$4&'貼付（事務局）'!B39&\"子\"&入力表・参加種目確認!AH51)","v":""},"",{"$f":"IF(入力表・参加種目確認!AV51=\"\",\"\",入力表・参加種目確認!$E$4&'貼付（事務局）'!B39&\"子\"&入力表・参加種目確認!AV51)","v":""},"",{"$f":"IF(入力表・参加種目確認!BJ51=\"\",\"\",入力表・参加種目確認!$E$4&'貼付（事務局）'!B39&\"子\"&入力表・参加種目確認!BJ51)","v":""},"",{"$f":"IF(入力表・参加種目確認!BX51=\"\",\"\",VLOOKUP(入力表・参加種目確認!$E$4,$BP$2:$BQ$5,2,FALSE)&入力表・参加種目確認!H51&\"子\"&\"4X100mR\")","v":""},{"$f":"IF(P39=\"\",\"\",H39&P39&入力表・参加種目確認!BX51)","v":""},"",{"$f":"IF(入力表・参加種目確認!CA51=\"\",\"\",VLOOKUP(入力表・参加種目確認!$E$4,$BP$7:$BQ$10,2,FALSE)&入力表・参加種目確認!H51&\"子\"&\"4X400mR\")","v":""},{"$f":"IF(S39=\"\",\"\",H39&S39&入力表・参加種目確認!CA51)","v":""},"",null,null,null,null,null,null,null,null,null,null,null,null,null,null,null,{"$f":"IF(入力表・参加種目確認!AN51=\"\",\"\",入力表・参加種目確認!AN51)","v":""},{"$f":"IF(入力表・参加種目確認!AO51=\"\",\"\",入力表・参加種目確認!AO51)","v":""},{"$f":"IF(ISERROR(VLOOKUP(IF(AL39=\"\",\"\",入力表・参加種目確認!AP51),$BJ$2:$BK$5,2,FALSE)),\"\",VLOOKUP(IF(AL39=\"\",\"\",入力表・参加種目確認!AS51),$BJ$2:$BK$5,2,FALSE))","v":""},{"$f":"IF(入力表・参加種目確認!AQ51=\"\",\"\",入力表・参加種目確認!AQ51)","v":""},{"$f":"IF(入力表・参加種目確認!AR51=\"\",\"\",入力表・参加種目確認!AR51)","v":""},{"$f":"IF(ISERROR(VLOOKUP(入力表・参加種目確認!AS51,$BJ$2:$BK$5,2,FALSE)),\"\",VLOOKUP(入力表・参加種目確認!AS51,$BJ$2:$BK$5,2,FALSE))","v":""},{"$f":"IF(入力表・参加種目確認!AT51=\"\",\"\",入力表・参加種目確認!AT51)","v":""},{"$f":"IF(入力表・参加種目確認!AU51=\"\",\"\",入力表・参加種目確認!AU51)","v":""},{"$f":"IF(入力表・参加種目確認!BB51=\"\",\"\",入力表・参加種目確認!BB51)","v":""},{"$f":"IF(入力表・参加種目確認!BC51=\"\",\"\",入力表・参加種目確認!BC51)","v":""},{"$f":"IF(ISERROR(VLOOKUP(IF(AT39=\"\",\"\",入力表・参加種目確認!BD51),$BJ$2:$BK$5,2,FALSE)),\"\",VLOOKUP(IF(AT39=\"\",\"\",入力表・参加種目確認!BD51),$BJ$2:$BK$5,2,FALSE))","v":""},{"$f":"IF(入力表・参加種目確認!BE51=\"\",\"\",入力表・参加種目確認!BE51)","v":""},{"$f":"IF(入力表・参加種目確認!BF51=\"\",\"\",入力表・参加種目確認!BF51)","v":""},{"$f":"IF(ISERROR(VLOOKUP(入力表・参加種目確認!BG51,$BJ$2:$BK$5,2,FALSE)),\"\",VLOOKUP(入力表・参加種目確認!BG51,$BJ$2:$BK$5,2,FALSE))","v":""},{"$f":"IF(入力表・参加種目確認!BH51=\"\",\"\",入力表・参加種目確認!BH51)","v":""},{"$f":"IF(入力表・参加種目確認!BI51=\"\",\"\",入力表・参加種目確認!BI51)","v":""},{"$f":"IF(入力表・参加種目確認!BP51=\"\",\"\",入力表・参加種目確認!BP51)","v":""},{"$f":"IF(入力表・参加種目確認!BQ51=\"\",\"\",入力表・参加種目確認!BQ51)","v":""},{"$f":"IF(ISERROR(VLOOKUP(IF(BB39=\"\",\"\",入力表・参加種目確認!BR51),$BJ$2:$BK$5,2,FALSE)),\"\",VLOOKUP(IF(BB39=\"\",\"\",入力表・参加種目確認!BR51),$BJ$2:$BK$5,2,FALSE))","v":""},{"$f":"IF(入力表・参加種目確認!BS51=\"\",\"\",入力表・参加種目確認!BS51)","v":""},{"$f":"IF(入力表・参加種目確認!BT51=\"\",\"\",入力表・参加種目確認!BT51)","v":""},{"$f":"IF(ISERROR(VLOOKUP(入力表・参加種目確認!BU51,$BJ$2:$BK$5,2,FALSE)),\"\",VLOOKUP(入力表・参加種目確認!BU51,$BJ$2:$BK$5,2,FALSE))","v":""},{"$f":"IF(入力表・参加種目確認!BV51=\"\",\"\",入力表・参加種目確認!BV51)","v":""},{"$f":"IF(入力表・参加種目確認!BW51=\"\",\"\",入力表・参加種目確認!BW51)","v":""}]
[39,{"$f":"IF(入力表・参加種目確認!H52=0,\"\",入力表・参加種目確認!H52)","v":""},{"$f":"IF(入力表・参加種目確認!J52=0,\"\",入力表・参加種目確認!J52)","v":""},{"$f":"IF(入力表・参加種目確認!N52=0,\"\",入力表・参加種目確認!N52)","v":""},{"$f":"RIGHT(入力表・参加種目確認!AA52,2)","v":""},{"$f":"IF(入力表・参加種目確認!U52=0,\"\",ASC(入力表・参加種目確認!U52))","v":""},{"$f":"IF(B40=\"\",\"\",入力表・参加種目確認!$N$8)","v":""},{"$f":"IF(B40=\"\",\"\",入力表・参加種目確認!$L$4)","v":""},{"$f":"IF(B40=\"\",\"\",入力表・参加種目確認!AE52)","v":""},{"$f":"IF(入力表・参加種目確認!AH52=\"\",\"\",入力表・参加種目確認!$E$4&'貼付（事務局）'!B40&\"子\"&入力表・参加種目確認!AH52)","v":""},"",{"$f":"IF(入力表・参加種目確認!AV52=\"\",\"\",入力表・参加種目確認!$E$4&'貼付（事務局）'!B40&\"子\"&入力表・参加種目確認!AV52)","v":""},"",{"$f":"IF(入力表・参加種目確認!BJ52=\"\",\"\",入力表・参加種目確認!$E$4&'貼付（事務局）'!B40&\"子\"&入力表・参加種目確認!BJ52)","v":""},"",{"$f":"IF(入力表・参加種目確認!BX52=\"\",\"\",VLOOKUP(入力表・参加種目確認!$E$4,$BP$2:$BQ$5,2,FALSE)&入力表・参加種目確認!H52&\"子\"&\"4X100mR\")","v":""},{"$f":"IF(P40=\"\",\"\",H40&P40&入力表・参加種目確認!BX52)","v":""},"",{"$f":"IF(入力表・参加種目確認!CA52=\"\",\"\",VLOOKUP(入力表・参加種目確認!$E$4,$BP$7:$BQ$10,2,FALSE)&入力表・参加種目確認!H52&\"子\"&\"4X400mR\")","v":""},{"$f":"IF(S40=\"\",\"\",H40&S40&入力表・参加種目確認!CA52)","v":""},"",null,null,null,null,null,null,null,null,null,null,null,null,null,null,null,{"$f":"IF(入力表・参加種目確認!AN52=\"\",\"\",入力表・参加種目確認!AN52)","v":""},{"$f":"IF(入力表・参加種目確認!AO52=\"\",\"\",入力表・参加種目確認!AO52)","v":""},{"$f":"IF(ISERROR(VLOOKUP(IF(AL40=\"\",\"\",入力表・参加種目確認!AP52),$BJ$2:$BK$5,2,FALSE)),\"\",VLOOKUP(IF(AL40=\"\",\"\",入力表・参加種目確認!AS52),$BJ$2:$BK$5,2,FALSE))","v":""},{"$f":"IF(入力表・参加種目確認!AQ52=\"\",\"\",入力表・参加種目確認!AQ52)","v":""},{"$f":"IF(入力表・参加種目確認!AR52=\"\",\"\",入力表・参加種目確認!AR52)","v":""},{"$f":"IF(ISERROR(VLOOKUP(入力表・参加種目確認!AS52,$BJ$2:$BK$5,2,FALSE)),\"\",VLOOKUP(入力表・参加種目確認!AS52,$BJ$2:$BK$5,2,FALSE))","v":""},{"$f":"IF(入力表・参加種目確認!AT52=\"\",\"\",入力表・参加種目確認!AT52)","v":""},{"$f":"IF(入力表・参加種目確認!AU52=\"\",\"\",入力表・参加種目確認!AU52)","v":""},{"$f":"IF(入力表・参加種目確認!BB52=\"\",\"\",入力表・参加種目確認!BB52)","v":""},{"$f":"IF(入力表・参加種目確認!BC52=\"\",\"\",入力表・参加種目確認!BC52)","v":""},{"$f":"IF(ISERROR(VLOOKUP(IF(AT40=\"\",\"\",入力表・参加種目確認!BD52),$BJ$2:$BK$5,2,FALSE)),\"\",VLOOKUP(IF(AT40=\"\",\"\",入力表・参加種目確認!BD52),$BJ$2:$BK$5,2,FALSE))","v":""},{"$f":"IF(入力表・参加種目確認!BE52=\"\",\"\",入力表・参加種目確認!BE52)","v":""},{"$f":"IF(入力表・参加種目確認!BF52=\"\",\"\",入力表・参加種目確認!BF52)","v":""},{"$f":"IF(ISERROR(VLOOKUP(入力表・参加種目確認!BG52,$BJ$2:$BK$5,2,FALSE)),\"\",VLOOKUP(入力表・参加種目確認!BG52,$BJ$2:$BK$5,2,FALSE))","v":""},{"$f":"IF(入力表・参加種目確認!BH52=\"\",\"\",入力表・参加種目確認!BH52)","v":""},{"$f":"IF(入力表・参加種目確認!BI52=\"\",\"\",入力表・参加種目確認!BI52)","v":""},{"$f":"IF(入力表・参加種目確認!BP52=\"\",\"\",入力表・参加種目確認!BP52)","v":""},{"$f":"IF(入力表・参加種目確認!BQ52=\"\",\"\",入力表・参加種目確認!BQ52)","v":""},{"$f":"IF(ISERROR(VLOOKUP(IF(BB40=\"\",\"\",入力表・参加種目確認!BR52),$BJ$2:$BK$5,2,FALSE)),\"\",VLOOKUP(IF(BB40=\"\",\"\",入力表・参加種目確認!BR52),$BJ$2:$BK$5,2,FALSE))","v":""},{"$f":"IF(入力表・参加種目確認!BS52=\"\",\"\",入力表・参加種目確認!BS52)","v":""},{"$f":"IF(入力表・参加種目確認!BT52=\"\",\"\",入力表・参加種目確認!BT52)","v":""},{"$f":"IF(ISERROR(VLOOKUP(入力表・参加種目確認!BU52,$BJ$2:$BK$5,2,FALSE)),\"\",VLOOKUP(入力表・参加種目確認!BU52,$BJ$2:$BK$5,2,FALSE))","v":""},{"$f":"IF(入力表・参加種目確認!BV52=\"\",\"\",入力表・参加種目確認!BV52)","v":""},{"$f":"IF(入力表・参加種目確認!BW52=\"\",\"\",入力表・参加種目確認!BW52)","v":""}]
[40,{"$f":"IF(入力表・参加種目確認!H53=0,\"\",入力表・参加種目確認!H53)","v":""},{"$f":"IF(入力表・参加種目確認!J53=0,\"\",入力表・参加種目確認!J53)","v":""},{"$f":"IF(入力表・参加種目確認!N53=0,\"\",入力表・参加種目確認!N53)","v":""},{"$f":"RIGHT(入力表・参加種目確認!AA53,2)","v":""},{"$f":"IF(入力表・参加種目確認!U53=0,\"\",ASC(入力表・参加種目確認!U53))","v":""},{"$f":"IF(B41=\"\",\"\",入力表・参加種目確認!$N$8)","v":""},{"$f":"IF(B41=\"\",\"\",入力表・参加種目確認!$L$4)","v":""},{"$f":"IF(B41=\"\",\"\",入力表・参加種目確認!AE53)","v":""},{"$f":"IF(入力表・参加種目確認!AH53=\"\",\"\",入力表・参加種目確認!$E$4&'貼付（事務局）'!B41&\"子\"&入力表・参加種目確認!AH53)","v":""},"",{"$f":"IF(入力表・参加種目確認!AV53=\"\",\"\",入力表・参加種目確認!$E$4&'貼付（事務局）'!B41&\"子\"&入力表・参加種目確認!AV53)","v":""},"",{"$f":"IF(入力表・参加種目確認!BJ53=\"\",\"\",入力表・参加種目確認!$E$4&'貼付（事務局）'!B41&\"子\"&入力表・参加種目確認!BJ53)","v":""},"",{"$f":"IF(入力表・参加種目確認!BX53=\"\",\"\",VLOOKUP(入力表・参加種目確認!$E$4,$BP$2:$BQ$5,2,FALSE)&入力表・参加種目確認!H53&\"子\"&\"4X100mR\")","v":""},{"$f":"IF(P41=\"\",\"\",H41&P41&入力表・参加種目確認!BX53)","v":""},"",{"$f":"IF(入力表・参加種目確認!CA53=\"\",\"\",VLOOKUP(入力表・参加種目確認!$E$4,$BP$7:$BQ$10,2,FALSE)&入力表・参加種目確認!H53&\"子\"&\"4X400mR\")","v":""},{"$f":"IF(S41=\"\",\"\",H41&S41&入力表・参加種目確認!CA53)","v":""},"",null,null,null,null,null,null,null,null,null,null,null,null,null,null,null,{"$f":"IF(入力表・参加種目確認!AN53=\"\",\"\",入力表・参加種目確認!AN53)","v":""},{"$f":"IF(入力表・参加種目確認!AO53=\"\",\"\",入力表・参加種目確認!AO53)","v":""},{"$f":"IF(ISERROR(VLOOKUP(IF(AL41=\"\",\"\",入力表・参加種目確認!AP53),$BJ$2:$BK$5,2,FALSE)),\"\",VLOOKUP(IF(AL41=\"\",\"\",入力表・参加種目確認!AS53),$BJ$2:$BK$5,2,FALSE))","v":""},{"$f":"IF(入力表・参加種目確認!AQ53=\"\",\"\",入力表・参加種目確認!AQ53)","v":""},{"$f":"IF(入力表・参加種目確認!AR53=\"\",\"\",入力表・参加種目確認!AR53)","v":""},{"$f":"IF(ISERROR(VLOOKUP(入力表・参加種目確認!AS53,$BJ$2:$BK$5,2,FALSE)),\"\",VLOOKUP(入力表・参加種目確認!AS53,$BJ$2:$BK$5,2,FALSE))","v":""},{"$f":"IF(入力表・参加種目確認!AT53=\"\",\"\",入力表・参加種目確認!AT53)","v":""},{"$f":"IF(入力表・参加種目確認!AU53=\"\",\"\",入力表・参加種目確認!AU53)","v":""},{"$f":"IF(入力表・参加種目確認!BB53=\"\",\"\",入力表・参加種目確認!BB53)","v":""},{"$f":"IF(入力表・参加種目確認!BC53=\"\",\"\",入力表・参加種目確認!BC53)","v":""},{"$f":"IF(ISERROR(VLOOKUP(IF(AT41=\"\",\"\",入力表・参加種目確認!BD53),$BJ$2:$BK$5,2,FALSE)),\"\",VLOOKUP(IF(AT41=\"\",\"\",入力表・参加種目確認!BD53),$BJ$2:$BK$5,2,FALSE))","v":""},{"$f":"IF(入力表・参加種目確認!BE53=\"\",\"\",入力表・参加種目確認!BE53)","v":""},{"$f":"IF(入力表・参加種目確認!BF53=\"\",\"\",入力表・参加種目確認!BF53)","v":""},{"$f":"IF(ISERROR(VLOOKUP(入力表・参加種目確認!BG53,$BJ$2:$BK$5,2,FALSE)),\"\",VLOOKUP(入力表・参加種目確認!BG53,$BJ$2:$BK$5,2,FALSE))","v":""},{"$f":"IF(入力表・参加種目確認!BH53=\"\",\"\",入力表・参加種目確認!BH53)","v":""},{"$f":"IF(入力表・参加種目確認!BI53=\"\",\"\",入力表・参加種目確認!BI53)","v":""},{"$f":"IF(入力表・参加種目確認!BP53=\"\",\"\",入力表・参加種目確認!BP53)","v":""},{"$f":"IF(入力表・参加種目確認!BQ53=\"\",\"\",入力表・参加種目確認!BQ53)","v":""},{"$f":"IF(ISERROR(VLOOKUP(IF(BB41=\"\",\"\",入力表・参加種目確認!BR53),$BJ$2:$BK$5,2,FALSE)),\"\",VLOOKUP(IF(BB41=\"\",\"\",入力表・参加種目確認!BR53),$BJ$2:$BK$5,2,FALSE))","v":""},{"$f":"IF(入力表・参加種目確認!BS53=\"\",\"\",入力表・参加種目確認!BS53)","v":""},{"$f":"IF(入力表・参加種目確認!BT53=\"\",\"\",入力表・参加種目確認!BT53)","v":""},{"$f":"IF(ISERROR(VLOOKUP(入力表・参加種目確認!BU53,$BJ$2:$BK$5,2,FALSE)),\"\",VLOOKUP(入力表・参加種目確認!BU53,$BJ$2:$BK$5,2,FALSE))","v":""},{"$f":"IF(入力表・参加種目確認!BV53=\"\",\"\",入力表・参加種目確認!BV53)","v":""},{"$f":"IF(入力表・参加種目確認!BW53=\"\",\"\",入力表・参加種目確認!BW53)","v":""}]

{"sheet":"①初期設定","index":4,"n_rows":201,"n_cols":47,"rows_kept":201,"cut":false,"hidden":true,"merged":[[198,41,198,47],[199,41,199,47],[200,41,200,47],[100,41,100,47],[101,41,101,47],[102,41,102,47],[103,41,103,47],[104,41,104,47],[105,41,105,47],[106,41,106,47],[107,41,107,47],[108,41,108,47],[195,41,195,47],[196,41,196,47],[197,41,197,47],[177,41,177,47],[178,41,178,47],[179,41,179,47],[162,41,162,47],[163,41,163,47],[164,41,164,47],[165,41,165,47],[166,41,166,47],[167,41,167,47],[196,29,196,35],[197,29,197,35],[198,29,198,35],[199,29,199,35],[200,29,200,35],[52,40,53,40],[52,41,53,47],[54,41,54,47],[55,41,55,47],[56,41,56,47],[57,41,57,47],[58,41,58,47],[59,41,59,47],[60,41,60,47],[61,41,61,47],[62,41,62,47],[63,41,63,47],[64,41,64,47],[65,41,65,47],[66,41,66,47],[67,41,67,47],[68,41,68,47],[69,41,69,47],[70,41,70,47],[171,41,171,47],[172,41,172,47],[173,41,173,47],[174,41,174,47],[175,41,175,47],[176,41,176,47],[62,29,62,35],[63,29,63,35],[64,29,64,35],[65,29,65,35],[66,29,66,35],[67,29,67,35],[68,29,68,35],[69,29,69,35],[70,29,70,35],[86,41,86,47],[87,41,87,47],[88,41,88,47],[89,41,89,47],[90,41,90,47],[91,41,91,47],[92,41,92,47],[93,41,93,47],[94,41,94,47],[189,41,189,47],[190,41,190,47],[191,41,191,47],[192,41,192,47],[193,41,193,47],[194,41,194,47],[180,41,180,47],[181,41,181,47],[182,41,182,47],[183,41,183,47],[184,41,184,47],[185,41,185,47],[186,41,186,47],[187,41,187,47],[188,41,188,47],[168,41,168,47],[169,41,169,47],[170,41,170,47],[153,41,153,47],[154,41,154,47],[155,41,155,47],[156,41,156,47],[157,41,157,47],[158,41,158,47],[159,41,159,47],[160,41,160,47],[161,41,161,47],[144,41,144,47],[145,41,145,47],[146,41,146,47],[147,41,147,47],[148,41,148,47],[149,41,149,47],[150,41,150,47],[151,41,151,47],[152,41,152,47],[135,41,135,47],[136,41,136,47],[137,41,137,47],[138,41,138,47],[139,41,139,47],[140,41,140,47],[141,41,141,47],[142,41,142,47],[143,41,143,47],[126,41,126,47],[127,41,127,47],[128,41,128,47],[129,41,129,47],[130,41,130,47],[131,41,131,47],[132,41,132,47],[133,41,133,47],[134,41,134,47],[117,41,117,47],[118,41,118,47],[119,41,119,47],[120,41,120,47],[121,41,121,47],[122,41,122,47],[123,41,123,47],[124,41,124,47],[125,41,125,47],[110,41,110,47],[111,41,111,47],[112,41,112,47],[113,41,113,47],[114,41,114,47],[115,41,115,47],[116,41,116,47],[95,41,95,47],[96,41,96,47],[97,41,97,47],[98,41,98,47],[99,41,99,47],[78,41,78,47],[79,41,79,47],[80,41,80,47],[81,41,81,47],[82,41,82,47],[83,41,83,47],[84,41,84,47],[85,41,85,47],[109,41,109,47],[52,39,53,39],[52,37,53,37],[52,38,53,38],[74,29,74,35],[75,29,75,35],[76,29,76,35],[77,29,77,35],[78,29,78,35],[79,29,79,35],[71,29,71,35],[72,29,72,35],[73,29,73,35],[52,29,53,35],[54,29,54,35],[55,29,55,35],[56,29,56,35],[57,29,57,35],[58,29,58,35],[59,29,59,35],[60,29,60,35],[61,29,61,35],[80,29,80,35],[81,29,81,35],[82,29,82,35],[83,29,83,35],[84,29,84,35],[85,29,85,35],[86,29,86,35],[87,29,87,35],[88,29,88,35],[187,29,187,35],[188,29,188,35],[189,29,189,35],[190,29,190,35],[191,29,191,35],[192,29,192,35],[193,29,193,35],[194,29,194,35],[195,29,195,35],[178,29,178,35],[179,29,179,35],[180,29,180,35],[181,29,181,35],[182,29,182,35],[183,29,183,35],[184,29,184,35],[185,29,185,35],[186,29,186,35],[169,29,169,35],[170,29,170,35],[171,29,171,35],[172,29,172,35],[173,29,173,35],[174,29,174,35],[175,29,175,35],[176,29,176,35],[177,29,177,35],[160,29,160,35],[161,29,161,35],[162,29,162,35],[163,29,163,35],[164,29,164,35],[165,29,165,35],[166,29,166,35],[167,29,167,35],[168,29,168,35],[151,29,151,35],[152,29,152,35],[153,29,153,35],[154,29,154,35],[155,29,155,35],[156,29,156,35],[157,29,157,35],[158,29,158,35],[159,29,159,35],[142,29,142,35],[143,29,143,35],[144,29,144,35],[145,29,145,35],[146,29,146,35],[147,29,147,35],[148,29,148,35],[149,29,149,35],[150,29,150,35],[133,29,133,35],[134,29,134,35],[135,29,135,35],[136,29,136,35],[137,29,137,35],[138,29,138,35],[139,29,139,35],[140,29,140,35],[141,29,141,35],[124,29,124,35],[125,29,125,35],[126,29,126,35],[127,29,127,35],[128,29,128,35],[129,29,129,35],[130,29,130,35],[131,29,131,35],[132,29,132,35],[115,29,115,35],[116,29,116,35],[117,29,117,35],[118,29,118,35],[119,29,119,35],[120,29,120,35],[121,29,121,35],[122,29,122,35],[123,29,123,35],[106,29,106,35],[107,29,107,35],[108,29,108,35],[109,29,109,35],[110,29,110,35],[111,29,111,35],[112,29,112,35],[113,29,113,35],[114,29,114,35],[97,29,97,35],[98,29,98,35],[99,29,99,35],[100,29,100,35],[101,29,101,35],[102,29,102,35],[103,29,103,35],[104,29,104,35],[105,29,105,35],[89,29,89,35],[90,29,90,35],[91,29,91,35],[92,29,92,35],[93,29,93,35],[94,29,94,35],[95,29,95,35],[96,29,96,35],[199,17,199,23],[189,17,189,23],[172,17,172,23],[173,17,173,23],[174,17,174,23],[175,17,175,23],[176,17,176,23],[177,17,177,23],[178,17,178,23],[179,17,179,23],[180,17,180,23],[163,17,163,23],[164,17,164,23],[165,17,165,23],[166,17,166,23],[167,17,167,23],[200,17,200,23],[51,5,53,11],[51,17,53,23],[52,25,53,25],[52,26,53,26],[52,27,53,27],[52,28,53,28],[190,17,190,23],[191,17,191,23],[192,17,192,23],[193,17,193,23],[194,17,194,23],[195,17,195,23],[196,17,196,23],[197,17,197,23],[198,17,198,23],[181,17,181,23],[182,17,182,23],[183,17,183,23],[184,17,184,23],[185,17,185,23],[186,17,186,23],[187,17,187,23],[188,17,188,23],[150,17,150,23],[151,17,151,23],[152,17,152,23],[153,17,153,23],[168,17,168,23],[169,17,169,23],[170,17,170,23],[171,17,171,23],[154,17,154,23],[155,17,155,23],[156,17,156,23],[157,17,157,23],[158,17,158,23],[159,17,159,23],[160,17,160,23],[161,17,161,23],[162,17,162,23],[141,17,141,23],[142,17,142,23],[143,17,143,23],[144,17,144,23],[145,17,145,23],[146,17,146,23],[147,17,147,23],[148,17,148,23],[149,17,149,23],[132,17,132,23],[133,17,133,23],[134,17,134,23],[135,17,135,23],[136,17,136,23],[137,17,137,23],[138,17,138,23],[139,17,139,23],[140,17,140,23],[123,17,123,23],[124,17,124,23],[125,17,125,23],[126,17,126,23],[127,17,127,23],[128,17,128,23],[129,17,129,23],[130,17,130,23],[131,17,131,23],[114,17,114,23],[115,17,115,23],[116,17,116,23],[117,17,117,23],[118,17,118,23],[119,17,119,23],[120,17,120,23],[121,17,121,23],[122,17,122,23],[105,17,105,23],[106,17,106,23],[107,17,107,23],[108,17,108,23],[109,17,109,23],[110,17,110,23],[111,17,111,23],[112,17,112,23],[113,17,113,23],[96,17,96,23],[97,17,97,23],[98,17,98,23],[99,17,99,23],[100,17,100,23],[101,17,101,23],[102,17,102,23],[103,17,103,23],[104,17,104,23],[87,17,87,23],[88,17,88,23],[89,17,89,23],[90,17,90,23],[91,17,91,23],[92,17,92,23],[93,17,93,23],[94,17,94,23],[95,17,95,23],[78,17,78,23],[79,17,79,23],[80,17,80,23],[81,17,81,23],[82,17,82,23],[83,17,83,23],[84,17,84,23],[85,17,85,23],[86,17,86,23],[196,5,196,11],[197,5,197,11],[198,5,198,11],[199,5,199,11],[200,5,200,11],[50,13,50,23],[52,13,53,13],[52,14,53,14],[52,15,53,15],[52,16,53,16],[54,17,54,23],[55,17,55,23],[56,17,56,23],[57,17,57,23],[58,17,58,23],[59,17,59,23],[60,17,60,23],[61,17,61,23],[62,17,62,23],[63,17,63,23],[64,17,64,23],[65,17,65,23],[66,17,66,23],[187,5,187,11],[188,5,188,11],[189,5,189,11],[190,5,190,11],[191,5,191,11],[192,5,192,11],[193,5,193,11],[194,5,194,11],[195,5,195,11],[178,5,178,11],[179,5,179,11],[180,5,180,11],[181,5,181,11],[182,5,182,11],[183,5,183,11],[184,5,184,11],[185,5,185,11],[186,5,186,11],[171,5,171,11],[172,5,172,11],[173,5,173,11],[174,5,174,11],[175,5,175,11],[176,5,176,11],[50,1,50,11],[177,5,177,11],[161,5,161,11],[162,5,162,11],[163,5,163,11],[164,5,164,11],[165,5,165,11],[152,5,152,11],[153,5,153,11],[154,5,154,11],[155,5,155,11],[156,5,156,11],[157,5,157,11],[158,5,158,11],[159,5,159,11],[160,5,160,11],[143,5,143,11],[144,5,144,11],[147,5,147,11],[148,5,148,11],[149,5,149,11],[150,5,150,11],[151,5,151,11],[134,5,134,11],[135,5,135,11],[136,5,136,11],[137,5,137,11],[138,5,138,11],[139,5,139,11],[140,5,140,11],[141,5,141,11],[142,5,142,11],[127,5,127,11],[128,5,128,11],[129,5,129,11],[130,5,130,11],[131,5,131,11],[132,5,132,11],[133,5,133,11],[145,5,145,11],[146,5,146,11],[118,5,118,11],[119,5,119,11],[120,5,120,11],[121,5,121,11],[122,5,122,11],[123,5,123,11],[124,5,124,11],[125,5,125,11],[126,5,126,11],[105,5,105,11],[106,5,106,11],[107,5,107,11],[108,5,108,11],[109,5,109,11],[110,5,110,11],[111,5,111,11],[116,5,116,11],[117,5,117,11],[96,5,96,11],[97,5,97,11],[98,5,98,11],[99,5,99,11],[100,5,100,11],[101,5,101,11],[102,5,102,11],[103,5,103,11],[104,5,104,11],[87,5,87,11],[88,5,88,11],[89,5,89,11],[90,5,90,11],[91,5,91,11],[92,5,92,11],[93,5,93,11],[94,5,94,11],[95,5,95,11],[31,34,31,36],[31,7,31,30],[52,1,53,1],[52,2,53,2],[52,3,53,3],[52,4,53,4],[54,5,54,11],[29,13,29,15],[30,13,30,15],[32,4,32,6],[33,4,33,6],[42,1,42,3],[43,1,43,3],[44,1,44,3],[45,4,45,6],[46,4,46,6],[33,1,33,3],[34,1,34,3],[35,1,35,3],[35,4,35,6],[40,4,40,6],[41,4,41,6],[42,4,42,6],[43,4,43,6],[28,19,28,21],[29,19,29,21],[30,19,30,21],[28,25,28,27],[29,25,29,27],[30,25,30,27],[28,31,28,33],[15,1,15,10],[16,1,16,10],[17,1,17,10],[18,1,18,10],[28,1,28,3],[29,1,29,3],[30,1,30,3],[28,4,28,6],[29,4,29,6],[30,4,30,6],[29,31,29,33],[30,31,30,33],[0,23,0,37],[28,7,28,9],[29,7,29,9],[30,7,30,9],[28,13,28,15],[28,10,28,12],[29,10,29,12],[30,10,30,12],[28,16,28,18],[29,16,29,18],[30,16,30,18],[28,22,28,24],[29,22,29,24],[30,22,30,24],[28,28,28,30],[29,28,29,30],[30,28,30,30],[28,34,28,36],[29,34,29,36],[30,34,30,36],[4,1,4,10],[5,1,5,10],[6,1,6,10],[7,1,7,10],[0,12,0,21],[13,1,13,10],[14,1,14,10],[0,1,0,10],[3,1,3,10],[44,4,44,6],[48,1,48,10],[34,4,34,6],[41,1,41,3],[31,4,31,6],[8,1,8,10],[9,1,9,10],[10,1,10,10],[11,1,11,10],[12,1,12,10],[26,1,26,10],[20,1,20,10],[2,1,2,10],[40,1,40,3],[36,1,36,3],[37,1,37,3],[38,1,38,3],[39,1,39,3],[32,1,32,3],[31,31,31,33],[55,5,55,11],[56,5,56,11],[31,1,31,3],[45,1,45,3],[46,1,46,3],[57,5,57,11],[58,5,58,11],[59,5,59,11],[36,4,36,6],[37,4,37,6],[38,4,38,6],[39,4,39,6],[60,5,60,11],[61,5,61,11],[62,5,62,11],[63,5,63,11],[64,5,64,11],[65,5,65,11],[66,5,66,11],[67,5,67,11],[68,5,68,11],[69,5,69,11],[70,5,70,11],[71,5,71,11],[72,5,72,11],[73,5,73,11],[74,5,74,11],[71,41,71,47],[72,41,72,47],[73,41,73,47],[74,41,74,47],[75,41,75,47],[76,41,76,47],[75,5,75,11],[76,5,76,11],[77,5,77,11],[73,17,73,23],[74,17,74,23],[75,17,75,23],[76,17,76,23],[77,17,77,23],[77,41,77,47],[166,5,166,11],[167,5,167,11],[168,5,168,11],[169,5,169,11],[170,5,170,11],[84,5,84,11],[67,17,67,23],[68,17,68,23],[69,17,69,23],[70,17,70,23],[71,17,71,23],[72,17,72,23],[78,5,78,11],[79,5,79,11],[80,5,80,11],[81,5,81,11],[82,5,82,11],[83,5,83,11],[112,5,112,11],[113,5,113,11],[114,5,114,11],[115,5,115,11],[85,5,85,11],[86,5,86,11]]}
[1,"大会名の設定",null,null,null,null,null,null,null,null,null,null,"オホーツク陸上競技選手権大会",null,null,null,null,null,null,null,null,null,"←","大会名は隠してあります。追加は行を「再表示」"]
[]
[null,"大会名"]
[]
[null,"オホーツク陸協　記録会第１戦"]
[null,"オホーツク陸協　記録会第２戦"]
[null,"オホーツク陸協　記録会第３戦"]
[null,"オホーツク陸協　記録会第４戦"]
[null,"オホーツク陸協　フィールド記録会"]
[null,"オホーツク陸上競技選手権大会"]
[null,"オホーツク秋季陸上競技大会"]
[null,"小学生陸上競技記録会ｵﾎｰﾂｸ会場"]
[null,"オホーツク小学生陸上競技記録会"]
[null,"美幌陸上競技記録会"]
[null,"オホーツク陸協混成競技記録会"]
[]
[]
[]
[]
[]
[2,"申込〆切"]
[null,null,null,null,null,null,null,null,null,null,null,null,null,null,null,null,1,2,3,4,5,6,7,8,9,10,11,12]
[null,4,"月",27,"日","（","金","）",17,"：","00",null,null,null,null,null,1,2,3,4,5,6,7,8,9,10,11,12,13,14,15,16,17,18,19,20,21,22,23,24,25,26,27,28,29,30,31]
[null,null,null,null,null,null,null,null,null,null,null,null,null,null,null,null,"月","火","水","木","金","土","日"]
[]
[]
[3,"参加料"]
[]
[null,"幼児1種目",null,null,null,null,null,"小学1種目",null,null,800,null,null,"中学1種目",null,null,1000,null,null,"高校1種目",null,null,1500,null,null,"一般1種目",null,null,2000,null,null,"小学リレー",null,null,1000]
[null,"幼児2種目",null,null,null,null,null,"小学2種目",null,null,1000,null,null,"中学2種目",null,null,1500,null,null,"高校2種目",null,null,2000,null,null,"一般2種目",null,null,3000,null,null,"中学リレー",null,null,1500]
[null,"幼児3種目",null,null,null,null,null,"小学3種目",null,null,null,null,null,"中学3種目",null,null,null,null,null,"高校3種目",null,null,null,null,null,"一般3種目",null,null,null,null,null,"高校リレー",null,null,2000]
[null,"小学1種目",null,null,{"$f":"K29","v":800},null,null,"34行目以降にデータを隠してあります！",null,null,null,null,null,null,null,null,null,null,null,null,null,null,null,null,null,null,null,null,null,null,null,"一般リレー",null,null,2000]
[null,"小学2種目",null,null,{"$f":"K30","v":1000}]
[null,"小学3種目",null,null,0]
[null,"中学1種目",null,null,{"$f":"Q29","v":1000}]
[null,"中学2種目",null,null,{"$f":"Q30","v":1500}]
[null,"中学3種目",null,null,0]
[null,"高校1種目",null,null,{"$f":"W29","v":1500}]
[null,"高校2種目",null,null,{"$f":"W30","v":2000}]
[null,"高校3種目",null,null,0]
[null,"一般1種目",null,null,{"$f":"AC29","v":2000}]
[null,"一般2種目",null,null,{"$f":"AC30","v":3000}]
[null,"一般3種目",null,null,0]
[null,"小学リレー",null,null,{"$f":"AI29","v":1000}]
[null,"中学リレー",null,null,{"$f":"AI30","v":1500}]
[null,"高校リレー",null,null,2000]
[null,"一般リレー",null,null,2000]
[]
[4,"参加種目"]
[]
[null,"男子",null,null,null,null,null,null,null,null,null,null,null,"女子"]
[null,{"$f":"COUNTIF(B55:B201,1)","v":19},{"$f":"COUNTIF(C55:C201,1)","v":14},19,{"$f":"COUNTIF(E55:E201,1)","v":18},"種目",null,null,null,null,null,null,null,{"$f":"COUNTIF(N55:N201,1)","v":19},13,18,17,"種目",null,null,null,null,null,null,null,{"$f":"IF(B52=MAX(Z55:Z201),\"○\",\"×\")","v":"○"},{"$f":"IF(C52=MAX(AA55:AA201),\"○\",\"×\")","v":"○"},"○","○",null,null,null,null,null,null,null,null,{"$f":"IF(N52=MAX(AL55:AL201),\"○\",\"×\")","v":"○"},{"$f":"IF(O52=MAX(AM55:AM201),\"○\",\"×\")","v":"○"},{"$f":"IF(P52=MAX(AN55:AN201),\"○\",\"×\")","v":"○"},{"$f":"IF(Q52=MAX(AO55:AO201),\"○\",\"×\")","v":"○"}]
[null,"小学","中学","高校","一般",null,null,null,null,null,null,null,null,"小学","中学","高校","一般",null,null,null,null,null,null,null,null,"小学","中学","高校","一般","種目",null,null,null,null,null,null,null,"小学","中学","高校","一般","種目"]
[]
[null,null,null,1,1,"共通男子100m",null,null,null,null,null,null,null,null,null,1,1,"共通女子100m",null,null,null,null,null,null,null,{"$f":"IF(B55=\"\",0,1)","v":0},{"$f":"IF(C55=\"\",0,1)","v":0},1,1,{"$f":"F55","v":"共通男子100m"},null,null,null,null,null,null,null,{"$f":"IF(N55=\"\",0,1)","v":0},{"$f":"IF(O55=\"\",0,1)","v":0},{"$f":"IF(P55=\"\",0,1)","v":1},{"$f":"IF(Q55=\"\",0,1)","v":1},{"$f":"R55","v":"共通女子100m"}]
[null,null,1,1,1,"共通男子200m",null,null,null,null,null,null,null,null,1,1,1,"共通女子200m",null,null,null,null,null,null,null,{"$f":"IF(B56=\"\",Z55,Z55+1)","v":0},{"$f":"IF(C56=\"\",AA55,AA55+1)","v":1},2,2,{"$f":"F56","v":"共通男子200m"},null,null,null,null,null,null,null,{"$f":"IF(N56=\"\",AL55,AL55+1)","v":0},{"$f":"IF(O56=\"\",AM55,AM55+1)","v":1},{"$f":"IF(P56=\"\",AN55,AN55+1)","v":2},{"$f":"IF(Q56=\"\",AO55,AO55+1)","v":2},{"$f":"R56","v":"共通女子200m"}]
[null,null,null,null,null,"共通男子300m",null,null,null,null,null,null,null,null,null,null,null,"共通女子300m",null,null,null,null,null,null,null,{"$f":"IF(B57=\"\",Z56,Z56+1)","v":0},1,2,2,"共通男子300m",null,null,null,null,null,null,null,{"$f":"IF(N57=\"\",AL56,AL56+1)","v":0},1,2,2,"共通女子300m"]
[null,null,1,1,1,"共通男子400m",null,null,null,null,null,null,null,null,1,1,1,"共通女子400m",null,null,null,null,null,null,null,0,2,3,3,"共通男子400m",null,null,null,null,null,null,null,0,2,3,3,"共通女子400m"]
[null,null,1,1,1,"共通男子800m",null,null,null,null,null,null,null,null,1,1,1,"共通女子800m",null,null,null,null,null,null,null,0,3,4,4,"共通男子800m",null,null,null,null,null,null,null,0,3,4,4,"共通女子800m"]
[null,null,null,null,null,"共通男子1000m",null,null,null,null,null,null,null,null,null,null,null,"共通女子1000m",null,null,null,null,null,null,null,0,3,4,4,"共通男子1000m",null,null,null,null,null,null,null,0,3,4,4,"共通女子1000m"]
[null,null,1,1,1,"共通男子1500m",null,null,null,null,null,null,null,null,1,1,1,"共通女子1500m",null,null,null,null,null,null,null,0,4,5,5,"共通男子1500m",null,null,null,null,null,null,null,0,4,5,5,"共通女子1500m"]
[null,null,1,null,null,"共通男子3000m",null,null,null,null,null,null,null,null,1,1,1,"共通女子3000m",null,null,null,null,null,null,null,0,5,5,5,"共通男子3000m",null,null,null,null,null,null,null,0,5,6,6,"共通女子3000m"]
[null,null,null,1,1,"共通男子5000m",null,null,null,null,null,null,null,null,null,null,null,"共通女子100mYH",null,null,null,null,null,null,null,0,5,6,6,"共通男子5000m",null,null,null,null,null,null,null,0,5,6,6,"共通女子100mYH"]
[null,null,null,null,null,"共通男子110mJH",null,null,null,null,null,null,null,null,null,1,1,"共通女子100mH(0.838m)",null,null,null,null,null,null,null,0,5,6,6,"共通男子110mJH",null,null,null,null,null,null,null,0,5,7,7,"共通女子100mH(0.838m)"]
[null,null,null,1,1,"共通男子110mH(1.067m)",null,null,null,null,null,null,null,null,null,1,1,"共通女子400mH(0.762m)",null,null,null,null,null,null,null,0,5,7,7,"共通男子110mH(1.067m)",null,null,null,null,null,null,null,0,5,8,8,"共通女子400mH(0.762m)"]
[null,null,null,1,1,"共通男子400mH(0.914m)",null,null,null,null,null,null,null,null,null,1,1,"共通女子5000mW",null,null,null,null,null,null,null,0,5,8,8,"共通男子400mH(0.914m)",null,null,null,null,null,null,null,0,5,9,9,"共通女子5000mW"]
[null,null,null,1,1,"共通男子3000mSC(0.914m)",null,null,null,null,null,null,null,null,null,null,null,"共通女子4X100mR",null,null,null,null,null,null,null,0,5,9,9,"共通男子3000mSC(0.914m)",null,null,null,null,null,null,null,0,5,9,9,"共通女子4X100mR"]
[null,null,null,1,1,"共通男子5000mW",null,null,null,null,null,null,null,null,null,null,null,"共通女子4X200mR",null,null,null,null,null,null,null,0,5,10,10,"共通男子5000mW",null,null,null,null,null,null,null,0,5,9,9,"共通女子4X200mR"]
[null,null,null,null,null,"共通男子4X100mR",null,null,null,null,null,null,null,null,null,null,null,"共通女子4X400mR",null,null,null,null,null,null,null,0,5,10,10,"共通男子4X100mR",null,null,null,null,null,null,null,0,5,9,9,"共通女子4X400mR"]
[null,null,null,null,null,"共通男子4X200mR",null,null,null,null,null,null,null,null,null,1,1,"共通女子走高跳",null,null,null,null,null,null,null,0,5,10,10,"共通男子4X200mR",null,null,null,null,null,null,null,0,5,10,10,"共通女子走高跳"]
[null,null,null,null,null,"共通男子4X400mR",null,null,null,null,null,null,null,null,null,1,1,"共通女子棒高跳",null,null,null,null,null,null,null,0,5,10,10,"共通男子4X400mR",null,null,null,null,null,null,null,0,5,11,11,"共通女子棒高跳"]
[null,null,null,1,1,"共通男子走高跳",null,null,null,null,null,null,null,null,null,1,1,"共通女子走幅跳",null,null,null,null,null,null,null,0,{"$f":"IF(C72=\"\",AA71,AA71+1)","v":5},{"$f":"IF(D72=\"\",AB71,AB71+1)","v":11},{"$f":"IF(E72=\"\",AC71,AC71+1)","v":11},"共通男子走高跳",null,null,null,null,null,null,null,0,5,12,12,"共通女子走幅跳"]
[null,null,null,1,1,"共通男子棒高跳",null,null,null,null,null,null,null,null,null,1,1,"共通女子三段跳",null,null,null,null,null,null,null,0,5,12,12,"共通男子棒高跳",null,null,null,null,null,null,null,0,5,13,13,"共通女子三段跳"]
[null,null,null,1,1,"共通男子走幅跳",null,null,null,null,null,null,null,null,null,1,1,"共通女子砲丸投(4.000kg)",null,null,null,null,null,null,null,0,5,13,13,"共通男子走幅跳",null,null,null,null,null,null,null,0,5,14,14,"共通女子砲丸投(4.000kg)"]
[null,null,null,1,1,"共通男子やり投(800g)",null,null,null,null,null,null,null,null,null,1,1,"共通女子円盤投(1.000kg)",null,null,null,null,null,null,null,0,5,14,14,"共通男子やり投(800g)",null,null,null,null,null,null,null,0,5,15,15,"共通女子円盤投(1.000kg)"]
[null,null,null,null,null,"共通男子4X800mR",null,null,null,null,null,null,null,null,null,1,1,"共通女子ﾊﾝﾏｰ投(4.000kg)",null,null,null,null,null,null,null,0,5,14,14,"共通男子4X800mR",null,null,null,null,null,null,null,0,5,16,16,"共通女子ﾊﾝﾏｰ投(4.000kg)"]
[null,null,null,null,1,"一般男子砲丸投(7.260kg)",null,null,null,null,null,null,null,null,null,1,1,"共通女子やり投(600g)",null,null,null,null,null,null,null,0,5,14,15,"一般男子砲丸投(7.260kg)",null,null,null,null,null,null,null,0,5,17,17,"共通女子やり投(600g)"]
[null,null,null,null,1,"一般男子円盤投(2.000kg)",null,null,null,null,null,null,null,null,null,1,null,"共通女子七種競技",null,null,null,null,null,null,null,0,5,14,16,"一般男子円盤投(2.000kg)",null,null,null,null,null,null,null,0,5,18,17,"共通女子七種競技"]
[null,null,null,null,1,"一般男子ﾊﾝﾏｰ投(7.260kg)",null,null,null,null,null,null,null,null,null,null,null,"高校女子100m",null,null,null,null,null,null,null,0,5,14,17,"一般男子ﾊﾝﾏｰ投(7.260kg)",null,null,null,null,null,null,null,0,5,18,17,"高校女子100m"]
[null,null,null,null,null,"一般男子十種競技",null,null,null,null,null,null,null,null,null,null,null,"高校女子200m",null,null,null,null,null,null,null,0,5,14,17,"一般男子十種競技",null,null,null,null,null,null,null,0,5,18,17,"高校女子200m"]
[null,null,null,null,null,"高校男子100m",null,null,null,null,null,null,null,null,null,null,null,"高校女子400m",null,null,null,null,null,null,null,0,5,14,17,"高校男子100m",null,null,null,null,null,null,null,0,5,18,17,"高校女子400m"]
[null,null,null,null,null,"高校男子200m",null,null,null,null,null,null,null,null,null,null,null,"高校女子800m",null,null,null,null,null,null,null,0,5,14,17,"高校男子200m",null,null,null,null,null,null,null,0,5,18,17,"高校女子800m"]
[null,null,null,null,null,"高校男子400m",null,null,null,null,null,null,null,null,null,null,null,"高校女子1500m",null,null,null,null,null,null,null,0,5,14,17,"高校男子400m",null,null,null,null,null,null,null,0,5,18,17,"高校女子1500m"]
[null,null,null,null,null,"高校男子800m",null,null,null,null,null,null,null,null,null,null,null,"高校女子3000m",null,null,null,null,null,null,null,0,5,14,17,"高校男子800m",null,null,null,null,null,null,null,0,5,18,17,"高校女子3000m"]
[null,null,null,null,null,"高校男子1500m",null,null,null,null,null,null,null,null,null,null,null,"高校女子100mH(0.838m)",null,null,null,null,null,null,null,0,5,14,17,"高校男子1500m",null,null,null,null,null,null,null,0,5,18,17,"高校女子100mH(0.838m)"]
[null,null,null,null,null,"高校男子5000m",null,null,null,null,null,null,null,null,null,null,null,"高校女子400mH(0.762m)",null,null,null,null,null,null,null,0,5,14,17,"高校男子5000m",null,null,null,null,null,null,null,0,5,18,17,"高校女子400mH(0.762m)"]
[null,null,null,null,null,"高校男子110mH(1.067m)",null,null,null,null,null,null,null,null,null,null,null,"高校女子5000mW",null,null,null,null,null,null,null,0,5,14,17,"高校男子110mH(1.067m)",null,null,null,null,null,null,null,0,5,18,17,"高校女子5000mW"]
[null,null,null,null,null,"高校男子400mH(0.914m)",null,null,null,null,null,null,null,null,null,null,null,"高校女子4X400mR",null,null,null,null,null,null,null,0,5,14,17,"高校男子400mH(0.914m)",null,null,null,null,null,null,null,0,5,18,17,"高校女子4X400mR"]
[null,null,null,null,null,"高校男子3000mSC(0.914m)",null,null,null,null,null,null,null,null,null,null,null,"高校女子4X100mR",null,null,null,null,null,null,null,0,5,14,17,"高校男子3000mSC(0.914m)",null,null,null,null,null,null,null,0,5,18,17,"高校女子4X100mR"]
[null,null,null,null,null,"高校男子5000mW",null,null,null,null,null,null,null,null,null,null,null,"高校女子走高跳",null,null,null,null,null,null,null,0,5,14,17,"高校男子5000mW",null,null,null,null,null,null,null,0,5,18,17,"高校女子走高跳"]
[null,null,null,null,null,"高校男子4X100mR",null,null,null,null,null,null,null,null,null,null,null,"高校女子棒高跳",null,null,null,null,null,null,null,0,5,14,17,"高校男子4X100mR",null,null,null,null,null,null,null,0,5,18,17,"高校女子棒高跳"]
[null,null,null,null,null,"高校男子4X400mR",null,null,null,null,null,null,null,null,null,null,null,"高校女子走幅跳",null,null,null,null,null,null,null,0,5,14,17,"高校男子4X400mR",null,null,null,null,null,null,null,0,5,18,17,"高校女子走幅跳"]
[null,null,null,null,null,"高校男子走高跳",null,null,null,null,null,null,null,null,null,null,null,"高校女子砲丸投(4.000kg)",null,null,null,null,null,null,null,0,5,14,17,"高校男子走高跳",null,null,null,null,null,null,null,0,5,18,17,"高校女子砲丸投(4.000kg)"]
[null,null,null,null,null,"高校男子棒高跳",null,null,null,null,null,null,null,null,null,null,null,"高校女子円盤投(1.000kg)",null,null,null,null,null,null,null,0,5,14,17,"高校男子棒高跳",null,null,null,null,null,null,null,0,5,18,17,"高校女子円盤投(1.000kg)"]
[null,null,null,null,null,"高校男子走幅跳",null,null,null,null,null,null,null,null,null,null,null,"高校女子ﾊﾝﾏｰ投(4.000kg)",null,null,null,null,null,null,null,0,5,14,17,"高校男子走幅跳",null,null,null,null,null,null,null,0,5,18,17,"高校女子ﾊﾝﾏｰ投(4.000kg)"]
[null,null,null,null,null,"高校男子三段跳",null,null,null,null,null,null,null,null,null,null,null,"高校女子やり投(600g)",null,null,null,null,null,null,null,0,5,14,17,"高校男子三段跳",null,null,null,null,null,null,null,0,5,18,17,"高校女子やり投(600g)"]
[null,null,null,1,null,"高校男子砲丸投(6.000kg)",null,null,null,null,null,null,null,null,1,null,null,"中学女子100m",null,null,null,null,null,null,null,0,5,15,17,"高校男子砲丸投(6.000kg)",null,null,null,null,null,null,null,0,6,18,17,"中学女子100m"]
[null,null,null,1,null,"高校男子円盤投(1.750kg)",null,null,null,null,null,null,null,null,null,null,null,"中学女子3年100m",null,null,null,null,null,null,null,0,5,16,17,"高校男子円盤投(1.750kg)",null,null,null,null,null,null,null,0,6,18,17,"中学女子3年100m"]
[null,null,null,1,null,"高校男子ﾊﾝﾏｰ投(6.000kg)",null,null,null,null,null,null,null,null,null,null,null,"中学女子2年100m",null,null,null,null,null,null,null,0,5,17,17,"高校男子ﾊﾝﾏｰ投(6.000kg)",null,null,null,null,null,null,null,0,6,18,17,"中学女子2年100m"]
[null,null,null,null,null,"高校男子やり投(800g)",null,null,null,null,null,null,null,null,null,null,null,"中学女子1年100m",null,null,null,null,null,null,null,0,5,17,17,"高校男子やり投(800g)",null,null,null,null,null,null,null,0,6,18,17,"中学女子1年100m"]
[null,null,null,1,null,"高校男子八種競技",null,null,null,null,null,null,null,null,null,null,null,"中学女子2・3年100m",null,null,null,null,null,null,null,0,5,18,17,"高校男子八種競技",null,null,null,null,null,null,null,0,6,18,17,"中学女子2・3年100m"]
[null,null,1,null,null,"中学男子100m",null,null,null,null,null,null,null,null,null,null,null,"中学女子200m",null,null,null,null,null,null,null,0,6,18,17,"中学男子100m",null,null,null,null,null,null,null,0,6,18,17,"中学女子200m"]
[null,null,null,null,null,"中学男子2年100m",null,null,null,null,null,null,null,null,null,null,null,"中学女子800m",null,null,null,null,null,null,null,0,6,18,17,{"$f":"F103","v":"中学男子2年100m"},null,null,null,null,null,null,null,0,6,18,17,"中学女子800m"]
[null,null,null,null,null,"中学男子1年100m",null,null,null,null,null,null,null,null,null,null,null,"中学女子1年1000m",null,null,null,null,null,null,null,0,6,18,17,"中学男子1年100m",null,null,null,null,null,null,null,0,6,18,17,"中学女子1年1000m"]
[null,null,null,null,null,"中学男子2・3年100m",null,null,null,null,null,null,null,null,null,null,null,"中学女子1500m",null,null,null,null,null,null,null,0,6,18,17,"中学男子2・3年100m",null,null,null,null,null,null,null,0,6,18,17,"中学女子1500m"]
[null,null,null,null,null,"中学男子200m",null,null,null,null,null,null,null,null,null,null,null,"中学女子3000m",null,null,null,null,null,null,null,0,6,18,17,"中学男子200m",null,null,null,null,null,null,null,0,6,18,17,"中学女子3000m"]
[null,null,null,null,null,"中学男子400m",null,null,null,null,null,null,null,null,null,null,null,"中学女子1年80mH",null,null,null,null,null,null,null,0,6,18,17,"中学男子400m",null,null,null,null,null,null,null,0,6,18,17,"中学女子1年80mH"]
[null,null,null,null,null,"中学男子800m",null,null,null,null,null,null,null,null,1,null,null,"中学女子100mH(0.762m)",null,null,null,null,null,null,null,0,6,18,17,"中学男子800m",null,null,null,null,null,null,null,0,7,18,17,"中学女子100mH(0.762m)"]
[null,null,null,null,null,"中学男子1500m",null,null,null,null,null,null,null,null,null,null,null,"中学女子4X100mR",null,null,null,null,null,null,null,0,6,18,17,"中学男子1500m",null,null,null,null,null,null,null,0,7,18,17,"中学女子4X100mR"]
[null,null,null,null,null,"中学男子2年1500m",null,null,null,null,null,null,null,null,null,null,null,"中学女子4X200mR",null,null,null,null,null,null,null,0,6,18,17,"中学男子2年1500m",null,null,null,null,null,null,null,0,7,18,17,"中学女子4X200mR"]
[null,null,null,null,null,"中学男子1年1500m",null,null,null,null,null,null,null,null,1,null,null,"中学女子走高跳",null,null,null,null,null,null,null,0,6,18,17,"中学男子1年1500m",null,null,null,null,null,null,null,0,8,18,17,"中学女子走高跳"]
[null,null,null,null,null,"中学男子2・3年1500m",null,null,null,null,null,null,null,null,null,null,null,"中学女子棒高跳",null,null,null,null,null,null,null,0,6,18,17,"中学男子2・3年1500m",null,null,null,null,null,null,null,0,8,18,17,"中学女子棒高跳"]
[null,null,null,null,null,"中学男子3000m",null,null,null,null,null,null,null,null,1,null,null,"中学女子走幅跳",null,null,null,null,null,null,null,0,6,18,17,"中学男子3000m",null,null,null,null,null,null,null,0,9,18,17,"中学女子走幅跳"]
[null,null,null,null,null,"中学男子1年100mH(0.762m)",null,null,null,null,null,null,null,null,null,null,null,"中学女子三段跳",null,null,null,null,null,null,null,0,6,18,17,"中学男子1年100mH(0.762m)",null,null,null,null,null,null,null,0,9,18,17,"中学女子三段跳"]
[null,null,1,null,null,"中学男子110mH(0.914m)",null,null,null,null,null,null,null,null,1,null,null,"中学女子砲丸投(2.721kg)",null,null,null,null,null,null,null,0,7,18,17,"中学男子110mH(0.914m)",null,null,null,null,null,null,null,0,10,18,17,"中学女子砲丸投(2.721kg)"]
[null,null,null,null,null,"中学男子4X100mR",null,null,null,null,null,null,null,null,1,null,null,"中学女子円盤投(1.000kg)",null,null,null,null,null,null,null,0,7,18,17,"中学男子4X100mR",null,null,null,null,null,null,null,0,11,18,17,"中学女子円盤投(1.000kg)"]
[null,null,null,null,null,"中学男子4X200mR",null,null,null,null,null,null,null,null,1,null,null,"中学女子ｼﾞｬﾍﾞﾘｯｸｽﾛｰ",null,null,null,null,null,null,null,0,7,18,17,"中学男子4X200mR",null,null,null,null,null,null,null,0,12,18,17,"中学女子ｼﾞｬﾍﾞﾘｯｸｽﾛｰ"]
[null,null,1,null,null,"中学男子走高跳",null,null,null,null,null,null,null,null,1,null,null,"中学女子四種競技",null,null,null,null,null,null,null,0,8,18,17,"中学男子走高跳",null,null,null,null,null,null,null,0,13,18,17,"中学女子四種競技"]
[null,null,1,null,null,"中学男子棒高跳",null,null,null,null,null,null,null,null,null,null,null,"小学女子1年60m",null,null,null,null,null,null,null,0,9,18,17,"中学男子棒高跳",null,null,null,null,null,null,null,0,13,18,17,"小学女子1年60m"]
[null,null,1,null,null,"中学男子走幅跳",null,null,null,null,null,null,null,null,null,null,null,"小学女子2年60m",null,null,null,null,null,null,null,0,10,18,17,{"$f":"F120","v":"中学男子走幅跳"},null,null,null,null,null,null,null,0,{"$f":"IF(O120=\"\",AM119,AM119+1)","v":13},{"$f":"IF(P120=\"\",AN119,AN119+1)","v":18},{"$f":"IF(Q120=\"\",AO119,AO119+1)","v":17},{"$f":"R120","v":"小学女子2年60m"}]
[null,null,null,null,null,"中学男子三段跳",null,null,null,null,null,null,null,1,null,null,null,"小学女子6年100m",null,null,null,null,null,null,null,{"$f":"IF(B121=\"\",Z120,Z120+1)","v":0},10,18,17,"中学男子三段跳",null,null,null,null,null,null,null,{"$f":"IF(N121=\"\",AL120,AL120+1)","v":1},13,18,17,"小学女子6年100m"]
[null,null,null,null,null,"中学男子1年砲丸投(2.721kg)",null,null,null,null,null,null,null,1,null,null,null,"小学女子5年100m",null,null,null,null,null,null,null,0,10,18,17,"中学男子1年砲丸投(2.721kg)",null,null,null,null,null,null,null,2,13,18,17,"小学女子5年100m"]
[null,null,null,null,null,"中学男子1年砲丸投(4.000kg)",null,null,null,null,null,null,null,1,null,null,null,"小学女子4年100m",null,null,null,null,null,null,null,0,10,18,17,"中学男子1年砲丸投(4.000kg)",null,null,null,null,null,null,null,3,13,18,17,"小学女子4年100m"]
[null,null,1,null,null,"中学男子砲丸投(5.000kg)",null,null,null,null,null,null,null,1,null,null,null,"小学女子3年100m",null,null,null,null,null,null,null,0,11,18,17,"中学男子砲丸投(5.000kg)",null,null,null,null,null,null,null,4,13,18,17,"小学女子3年100m"]
[null,null,1,null,null,"中学男子円盤投(1.500kg)",null,null,null,null,null,null,null,null,null,null,null,"小学女子2年100m",null,null,null,null,null,null,null,0,12,18,17,"中学男子円盤投(1.500kg)",null,null,null,null,null,null,null,4,13,18,17,"小学女子2年100m"]
[null,null,1,null,null,"中学男子ｼﾞｬﾍﾞﾘｯｸｽﾛｰ",null,null,null,null,null,null,null,null,null,null,null,"小学女子1年100m",null,null,null,null,null,null,null,0,13,18,17,"中学男子ｼﾞｬﾍﾞﾘｯｸｽﾛｰ",null,null,null,null,null,null,null,4,13,18,17,"小学女子1年100m"]
[null,null,1,null,null,"中学男子四種競技",null,null,null,null,null,null,null,null,null,null,null,"小学女子100m",null,null,null,null,null,null,null,0,14,18,17,"中学男子四種競技",null,null,null,null,null,null,null,4,13,18,17,"小学女子100m"]
[null,null,null,null,null,"小学男子1年60m",null,null,null,null,null,null,null,1,null,null,null,"小学女子6年800m",null,null,null,null,null,null,null,0,14,18,17,"小学男子1年60m",null,null,null,null,null,null,null,5,13,18,17,"小学女子6年800m"]
[null,null,null,null,null,"小学男子2年60m",null,null,null,null,null,null,null,1,null,null,null,"小学女子5年800m",null,null,null,null,null,null,null,0,14,18,17,"小学男子2年60m",null,null,null,null,null,null,null,6,13,18,17,"小学女子5年800m"]
[null,null,null,null,null,"小学男子100m",null,null,null,null,null,null,null,1,null,null,null,"小学女子4年800m",null,null,null,null,null,null,null,0,14,18,17,"小学男子100m",null,null,null,null,null,null,null,7,13,18,17,"小学女子4年800m"]
[null,null,null,null,null,"小学男子1年100m",null,null,null,null,null,null,null,1,null,null,null,"小学女子3年800m",null,null,null,null,null,null,null,0,14,18,17,"小学男子1年100m",null,null,null,null,null,null,null,8,13,18,17,"小学女子3年800m"]
[null,1,null,null,null,"小学男子6年100m",null,null,null,null,null,null,null,null,null,null,null,"小学女子2年800m",null,null,null,null,null,null,null,1,14,18,17,"小学男子6年100m",null,null,null,null,null,null,null,8,13,18,17,"小学女子2年800m"]
[null,1,null,null,null,"小学男子5年100m",null,null,null,null,null,null,null,null,null,null,null,"小学女子800m",null,null,null,null,null,null,null,2,14,18,17,"小学男子5年100m",null,null,null,null,null,null,null,8,13,18,17,"小学女子800m"]
[null,1,null,null,null,"小学男子4年100m",null,null,null,null,null,null,null,1,null,null,null,"小学女子6年80mH",null,null,null,null,null,null,null,3,14,18,17,"小学男子4年100m",null,null,null,null,null,null,null,9,13,18,17,"小学女子6年80mH"]
[null,1,null,null,null,"小学男子3年100m",null,null,null,null,null,null,null,1,null,null,null,"小学女子5年80mH",null,null,null,null,null,null,null,4,14,18,17,"小学男子3年100m",null,null,null,null,null,null,null,10,13,18,17,"小学女子5年80mH"]
[null,null,null,null,null,"小学男子2年100m",null,null,null,null,null,null,null,null,null,null,null,"小学女子4年80mH",null,null,null,null,null,null,null,4,{"$f":"IF(C136=\"\",AA135,AA135+1)","v":14},{"$f":"IF(D136=\"\",AB135,AB135+1)","v":18},{"$f":"IF(E136=\"\",AC135,AC135+1)","v":17},"小学男子2年100m",null,null,null,null,null,null,null,10,13,18,17,"小学女子4年80mH"]
[null,1,null,null,null,"小学男子4年800m",null,null,null,null,null,null,null,null,null,null,null,"小学女子80mH",null,null,null,null,null,null,null,5,14,18,17,"小学男子4年800m",null,null,null,null,null,null,null,10,13,18,17,"小学女子80mH"]
[null,1,null,null,null,"小学男子3年800m",null,null,null,null,null,null,null,null,null,null,null,"小学女子6年4X100mR",null,null,null,null,null,null,null,6,14,18,17,"小学男子3年800m",null,null,null,null,null,null,null,10,13,18,17,"小学女子6年4X100mR"]
[null,null,null,null,null,"小学男子2年800m",null,null,null,null,null,null,null,null,null,null,null,"小学女子5年4X100mR",null,null,null,null,null,null,null,6,14,18,17,"小学男子2年800m",null,null,null,null,null,null,null,10,13,18,17,"小学女子5年4X100mR"]
[null,null,null,null,null,"小学男子800m",null,null,null,null,null,null,null,null,null,null,null,"小学女子4年4X100mR",null,null,null,null,null,null,null,6,14,18,17,"小学男子800m",null,null,null,null,null,null,null,10,13,18,17,"小学女子4年4X100mR"]
[null,1,null,null,null,"小学男子6年1500m",null,null,null,null,null,null,null,null,null,null,null,"小学女子3年4X100mR",null,null,null,null,null,null,null,7,14,18,17,"小学男子6年1500m",null,null,null,null,null,null,null,10,13,18,17,"小学女子3年4X100mR"]
[null,1,null,null,null,"小学男子5年1500m",null,null,null,null,null,null,null,null,null,null,null,"小学女子4X100mR",null,null,null,null,null,null,null,8,14,18,17,"小学男子5年1500m",null,null,null,null,null,null,null,10,13,18,17,"小学女子4X100mR"]
[null,null,null,null,null,"小学男子1500m",null,null,null,null,null,null,null,1,null,null,null,"小学女子6年走高跳",null,null,null,null,null,null,null,8,14,18,17,"小学男子1500m",null,null,null,null,null,null,null,11,13,18,17,"小学女子6年走高跳"]
[null,null,null,null,null,"小学男子4年1500m",null,null,null,null,null,null,null,1,null,null,null,"小学女子5年走高跳",null,null,null,null,null,null,null,8,14,18,17,"小学男子4年1500m",null,null,null,null,null,null,null,12,13,18,17,"小学女子5年走高跳"]
[null,1,null,null,null,"小学男子6年80mH",null,null,null,null,null,null,null,null,null,null,null,"小学女子走高跳",null,null,null,null,null,null,null,9,14,18,17,"小学男子6年80mH",null,null,null,null,null,null,null,12,13,18,17,"小学女子走高跳"]
[null,1,null,null,null,"小学男子5年80mH",null,null,null,null,null,null,null,1,null,null,null,"小学女子6年走幅跳",null,null,null,null,null,null,null,10,14,18,17,"小学男子5年80mH",null,null,null,null,null,null,null,13,13,18,17,"小学女子6年走幅跳"]
[null,null,null,null,null,"小学男子4年80mH",null,null,null,null,null,null,null,1,null,null,null,"小学女子5年走幅跳",null,null,null,null,null,null,null,10,14,18,17,"小学男子4年80mH",null,null,null,null,null,null,null,14,13,18,17,"小学女子5年走幅跳"]
[null,null,null,null,null,"小学男子80mH",null,null,null,null,null,null,null,1,null,null,null,"小学女子4年走幅跳",null,null,null,null,null,null,null,10,14,18,17,"小学男子80mH",null,null,null,null,null,null,null,15,13,18,17,"小学女子4年走幅跳"]
[null,null,null,null,null,"小学男子6年4X100mR",null,null,null,null,null,null,null,null,null,null,null,"小学女子3年走幅跳",null,null,null,null,null,null,null,10,14,18,17,"小学男子6年4X100mR",null,null,null,null,null,null,null,15,13,18,17,"小学女子3年走幅跳"]
[null,null,null,null,null,"小学男子5年4X100mR",null,null,null,null,null,null,null,null,null,null,null,"小学女子走幅跳",null,null,null,null,null,null,null,10,14,18,17,"小学男子5年4X100mR",null,null,null,null,null,null,null,15,13,18,17,"小学女子走幅跳"]
[null,null,null,null,null,"小学男子4年4X100mR",null,null,null,null,null,null,null,1,null,null,null,"小学女子6年砲丸投(2.721kg)",null,null,null,null,null,null,null,10,14,18,17,"小学男子4年4X100mR",null,null,null,null,null,null,null,16,13,18,17,"小学女子6年砲丸投(2.721kg)"]
[null,null,null,null,null,"小学男子3年4X100mR",null,null,null,null,null,null,null,null,null,null,null,"小学女子5年砲丸投(2.721kg)",null,null,null,null,null,null,null,10,14,18,17,"小学男子3年4X100mR",null,null,null,null,null,null,null,16,13,18,17,"小学女子5年砲丸投(2.721kg)"]
[null,null,null,null,null,"小学男子4X100mR",null,null,null,null,null,null,null,null,null,null,null,"小学女子砲丸投(2.721kg)",null,null,null,null,null,null,null,10,14,18,17,"小学男子4X100mR",null,null,null,null,null,null,null,16,13,18,17,"小学女子砲丸投(2.721kg)"]
[null,null,null,null,null,"小学男子4年走高跳",null,null,null,null,null,null,null,1,null,null,null,"小学女子6年ｼﾞｬﾍﾞﾘｯｸﾎﾞｰﾙｽﾛｰ",null,null,null,null,null,null,null,10,14,18,17,"小学男子4年走高跳",null,null,null,null,null,null,null,17,13,18,17,"小学女子6年ｼﾞｬﾍﾞﾘｯｸﾎﾞｰﾙｽﾛｰ"]
[null,1,null,null,null,"小学男子6年走高跳",null,null,null,null,null,null,null,1,null,null,null,"小学女子5年ｼﾞｬﾍﾞﾘｯｸﾎﾞｰﾙｽﾛｰ",null,null,null,null,null,null,null,11,14,18,17,"小学男子6年走高跳",null,null,null,null,null,null,null,18,13,18,17,"小学女子5年ｼﾞｬﾍﾞﾘｯｸﾎﾞｰﾙｽﾛｰ"]
[null,1,null,null,null,"小学男子5年走高跳",null,null,null,null,null,null,null,1,null,null,null,"小学女子4年ｼﾞｬﾍﾞﾘｯｸﾎﾞｰﾙｽﾛｰ",null,null,null,null,null,null,null,12,14,18,17,"小学男子5年走高跳",null,null,null,null,null,null,null,19,13,18,17,"小学女子4年ｼﾞｬﾍﾞﾘｯｸﾎﾞｰﾙｽﾛｰ"]
[null,null,null,null,null,"小学男子走高跳",null,null,null,null,null,null,null,null,null,null,null,"小学女子3年ｼﾞｬﾍﾞﾘｯｸﾎﾞｰﾙｽﾛｰ",null,null,null,null,null,null,null,12,14,18,17,"小学男子走高跳",null,null,null,null,null,null,null,19,13,18,17,"小学女子3年ｼﾞｬﾍﾞﾘｯｸﾎﾞｰﾙｽﾛｰ"]
[null,null,null,null,null,"小学男子6年棒高跳",null,null,null,null,null,null,null,null,null,null,null,"小学女子2年ｼﾞｬﾍﾞﾘｯｸﾎﾞｰﾙｽﾛｰ",null,null,null,null,null,null,null,12,14,18,17,"小学男子6年棒高跳",null,null,null,null,null,null,null,19,13,18,17,"小学女子2年ｼﾞｬﾍﾞﾘｯｸﾎﾞｰﾙｽﾛｰ"]
[null,1,null,null,null,"小学男子6年走幅跳",null,null,null,null,null,null,null,null,null,null,null,"小学女子1年ｼﾞｬﾍﾞﾘｯｸﾎﾞｰﾙｽﾛｰ",null,null,null,null,null,null,null,13,14,18,17,"小学男子6年走幅跳",null,null,null,null,null,null,null,19,13,18,17,"小学女子1年ｼﾞｬﾍﾞﾘｯｸﾎﾞｰﾙｽﾛｰ"]
[null,1,null,null,null,"小学男子5年走幅跳",null,null,null,null,null,null,null,null,null,null,null,"小学女子ｼﾞｬﾍﾞﾘｯｸﾎﾞｰﾙｽﾛｰ",null,null,null,null,null,null,null,14,14,18,17,"小学男子5年走幅跳",null,null,null,null,null,null,null,19,13,18,17,"小学女子ｼﾞｬﾍﾞﾘｯｸﾎﾞｰﾙｽﾛｰ"]
[null,1,null,null,null,"小学男子4年走幅跳",null,null,null,null,null,null,null,null,null,null,null,"幼児女子60m",null,null,null,null,null,null,null,15,14,18,17,"小学男子4年走幅跳",null,null,null,null,null,null,null,19,13,18,17,"幼児女子60m"]
[null,null,null,null,null,"小学男子3年走幅跳",null,null,null,null,null,null,null,null,null,null,null,null,null,null,null,null,null,null,null,15,14,18,17,"小学男子3年走幅跳",null,null,null,null,null,null,null,19,13,18,17,0]
[null,null,null,null,null,"小学男子走幅跳",null,null,null,null,null,null,null,null,null,null,null,null,null,null,null,null,null,null,null,15,14,18,17,"小学男子走幅跳",null,null,null,null,null,null,null,19,13,18,17,0]
[null,1,null,null,null,"小学男子6年砲丸投(2.721kg)",null,null,null,null,null,null,null,null,null,null,null,null,null,null,null,null,null,null,null,16,14,18,17,"小学男子6年砲丸投(2.721kg)",null,null,null,null,null,null,null,19,13,18,17,0]
[null,null,null,null,null,"小学男子5年砲丸投(2.721kg)",null,null,null,null,null,null,null,null,null,null,null,null,null,null,null,null,null,null,null,16,14,18,17,"小学男子5年砲丸投(2.721kg)",null,null,null,null,null,null,null,19,13,18,17,0]
[null,null,null,null,null,"小学男子砲丸投(2.721kg)",null,null,null,null,null,null,null,null,null,null,null,null,null,null,null,null,null,null,null,16,14,18,17,"小学男子砲丸投(2.721kg)",null,null,null,null,null,null,null,19,13,18,17,0]
[null,1,null,null,null,"小学男子6年ｼﾞｬﾍﾞﾘｯｸﾎﾞｰﾙｽﾛｰ",null,null,null,null,null,null,null,null,null,null,null,null,null,null,null,null,null,null,null,17,14,18,17,"小学男子6年ｼﾞｬﾍﾞﾘｯｸﾎﾞｰﾙｽﾛｰ",null,null,null,null,null,null,null,19,13,18,17,0]
[null,1,null,null,null,"小学男子5年ｼﾞｬﾍﾞﾘｯｸﾎﾞｰﾙｽﾛｰ",null,null,null,null,null,null,null,null,null,null,null,null,null,null,null,null,null,null,null,18,14,18,17,"小学男子5年ｼﾞｬﾍﾞﾘｯｸﾎﾞｰﾙｽﾛｰ",null,null,null,null,null,null,null,19,13,18,17,0]
[null,1,null,null,null,"小学男子4年ｼﾞｬﾍﾞﾘｯｸﾎﾞｰﾙｽﾛｰ",null,null,null,null,null,null,null,null,null,null,null,null,null,null,null,null,null,null,null,19,14,18,17,"小学男子4年ｼﾞｬﾍﾞﾘｯｸﾎﾞｰﾙｽﾛｰ",null,null,null,null,null,null,null,19,13,18,17,0]
[null,null,null,null,null,"小学男子3年ｼﾞｬﾍﾞﾘｯｸﾎﾞｰﾙｽﾛｰ",null,null,null,null,null,null,null,null,null,null,null,null,null,null,null,null,null,null,null,19,14,18,17,"小学男子3年ｼﾞｬﾍﾞﾘｯｸﾎﾞｰﾙｽﾛｰ",null,null,null,null,null,null,null,19,13,18,17,0]
[null,null,null,null,null,"小学男子2年ｼﾞｬﾍﾞﾘｯｸﾎﾞｰﾙｽﾛｰ",null,null,null,null,null,null,null,null,null,null,null,null,null,null,null,null,null,null,null,19,14,18,17,"小学男子2年ｼﾞｬﾍﾞﾘｯｸﾎﾞｰﾙｽﾛｰ",null,null,null,null,null,null,null,19,13,18,17,0]
[null,null,null,null,null,"小学男子1年ｼﾞｬﾍﾞﾘｯｸﾎﾞｰﾙｽﾛｰ",null,null,null,null,null,null,null,null,null,null,null,null,null,null,null,null,null,null,null,19,14,18,17,"小学男子1年ｼﾞｬﾍﾞﾘｯｸﾎﾞｰﾙｽﾛｰ",null,null,null,null,null,null,null,19,13,18,17,0]
[null,null,null,null,null,"小学男子ｼﾞｬﾍﾞﾘｯｸﾎﾞｰﾙｽﾛｰ",null,null,null,null,null,null,null,null,null,null,null,null,null,null,null,null,null,null,null,19,14,18,17,"小学男子ｼﾞｬﾍﾞﾘｯｸﾎﾞｰﾙｽﾛｰ",null,null,null,null,null,null,null,19,13,18,17,0]
[null,null,null,null,null,"幼児男子60m",null,null,null,null,null,null,null,null,null,null,null,null,null,null,null,null,null,null,null,19,14,18,17,"幼児男子60m",null,null,null,null,null,null,null,19,13,18,17,0]
[null,null,null,1,1,"共通男子三段跳",null,null,null,null,null,null,null,null,null,null,null,null,null,null,null,null,null,null,null,19,14,19,18,"共通男子三段跳",null,null,null,null,null,null,null,19,13,18,17,0]
[null,null,null,null,null,null,null,null,null,null,null,null,null,null,null,null,null,null,null,null,null,null,null,null,null,19,14,19,18,0,null,null,null,null,null,null,null,19,13,18,17,0]
[null,null,null,null,null,null,null,null,null,null,null,null,null,null,null,null,null,null,null,null,null,null,null,null,null,19,14,19,18,0,null,null,null,null,null,null,null,19,13,18,17,0]
[null,null,null,null,null,null,null,null,null,null,null,null,null,null,null,null,null,null,null,null,null,null,null,null,null,19,14,19,18,0,null,null,null,null,null,null,null,19,13,18,17,0]
[null,null,null,null,null,null,null,null,null,null,null,null,null,null,null,null,null,null,null,null,null,null,null,null,null,19,14,19,18,0,null,null,null,null,null,null,null,19,13,18,17,0]
[null,null,null,null,null,null,null,null,null,null,null,null,null,null,null,null,null,null,null,null,null,null,null,null,null,19,14,19,18,0,null,null,null,null,null,null,null,19,13,18,17,0]
[null,null,null,null,null,null,null,null,null,null,null,null,null,null,null,null,null,null,null,null,null,null,null,null,null,19,14,19,18,0,null,null,null,null,null,null,null,19,13,18,17,0]
[null,null,null,null,null,null,null,null,null,null,null,null,null,null,null,null,null,null,null,null,null,null,null,null,null,19,14,19,18,0,null,null,null,null,null,null,null,19,13,18,17,0]
[null,null,null,null,null,null,null,null,null,null,null,null,null,null,null,null,null,null,null,null,null,null,null,null,null,19,14,19,18,0,null,null,null,null,null,null,null,19,13,18,17,0]
[null,null,null,null,null,null,null,null,null,null,null,null,null,null,null,null,null,null,null,null,null,null,null,null,null,19,14,19,18,{"$f":"F184","v":0},null,null,null,null,null,null,null,19,{"$f":"IF(O184=\"\",AM183,AM183+1)","v":13},{"$f":"IF(P184=\"\",AN183,AN183+1)","v":18},{"$f":"IF(Q184=\"\",AO183,AO183+1)","v":17},{"$f":"R184","v":0}]
[null,null,null,null,null,null,null,null,null,null,null,null,null,null,null,null,null,null,null,null,null,null,null,null,null,{"$f":"IF(B185=\"\",Z184,Z184+1)","v":19},14,19,18,0,null,null,null,null,null,null,null,{"$f":"IF(N185=\"\",AL184,AL184+1)","v":19},13,18,17,0]
[null,null,null,null,null,null,null,null,null,null,null,null,null,null,null,null,null,null,null,null,null,null,null,null,null,19,14,19,18,0,null,null,null,null,null,null,null,19,13,18,17,0]
[null,null,null,null,null,null,null,null,null,null,null,null,null,null,null,null,null,null,null,null,null,null,null,null,null,19,14,19,18,0,null,null,null,null,null,null,null,19,13,18,17,0]
[null,null,null,null,null,null,null,null,null,null,null,null,null,null,null,null,null,null,null,null,null,null,null,null,null,19,14,19,18,0,null,null,null,null,null,null,null,19,13,18,17,0]
[null,null,null,null,null,null,null,null,null,null,null,null,null,null,null,null,null,null,null,null,null,null,null,null,null,19,14,19,18,0,null,null,null,null,null,null,null,19,13,18,17,0]
[null,null,null,null,null,null,null,null,null,null,null,null,null,null,null,null,null,null,null,null,null,null,null,null,null,19,14,19,18,0,null,null,null,null,null,null,null,19,13,18,17,0]
[null,null,null,null,null,null,null,null,null,null,null,null,null,null,null,null,null,null,null,null,null,null,null,null,null,19,14,19,18,0,null,null,null,null,null,null,null,19,13,18,17,0]
[null,null,null,null,null,null,null,null,null,null,null,null,null,null,null,null,null,null,null,null,null,null,null,null,null,19,14,19,18,0,null,null,null,null,null,null,null,19,13,18,17,0]
[null,null,null,null,null,null,null,null,null,null,null,null,null,null,null,null,null,null,null,null,null,null,null,null,null,19,14,19,18,0,null,null,null,null,null,null,null,19,13,18,17,0]
[null,null,null,null,null,null,null,null,null,null,null,null,null,null,null,null,null,null,null,null,null,null,null,null,null,19,14,19,18,0,null,null,null,null,null,null,null,19,13,18,17,0]
[null,null,null,null,null,null,null,null,null,null,null,null,null,null,null,null,null,null,null,null,null,null,null,null,null,19,14,19,18,0,null,null,null,null,null,null,null,19,13,18,17,0]
[null,null,null,null,null,null,null,null,null,null,null,null,null,null,null,null,null,null,null,null,null,null,null,null,null,19,14,19,18,0,null,null,null,null,null,null,null,19,13,18,17,0]
[null,null,null,null,null,null,null,null,null,null,null,null,null,null,null,null,null,null,null,null,null,null,null,null,null,19,14,19,18,0,null,null,null,null,null,null,null,19,13,18,17,0]
[null,null,null,null,null,null,null,null,null,null,null,null,null,null,null,null,null,null,null,null,null,null,null,null,null,19,14,19,18,0,null,null,null,null,null,null,null,19,13,18,17,0]
[null,null,null,null,null,null,null,null,null,null,null,null,null,null,null,null,null,null,null,null,null,null,null,null,null,19,14,19,18,0,null,null,null,null,null,null,null,19,13,18,17,0]
[null,null,null,null,null,null,null,null,null,null,null,null,null,null,null,null,null,null,null,null,null,null,null,null,null,19,{"$f":"IF(C200=\"\",AA199,AA199+1)","v":14},{"$f":"IF(D200=\"\",AB199,AB199+1)","v":19},{"$f":"IF(E200=\"\",AC199,AC199+1)","v":18},0,null,null,null,null,null,null,null,19,13,18,17,0]
[null,null,null,null,null,null,null,null,null,null,null,null,null,null,null,null,null,null,null,null,null,null,null,null,null,19,14,19,18,0,null,null,null,null,null,null,null,19,13,18,17,0]